{"text_format":"1","workbook":"xlsx","n_sheets":36,"sheets":["Protect","Final Checklist","Reconciliation","Rates - Sheets 67.2-67.5","CSWNA Summary","SRR Summary","SRR SEMO","SRR WEMO","SRR NEMO","CSWNA SEMO","CSWNA WEMO","CSWNA NEMO","ChillTempActuals","CGITempActuals","NoOfBills","CustActVol","MeterReadSch","WNAR Rev Table","CustEstVol","CustEstRev","WNAR Rates","CSWNA Amounts","ReconPerAdj","VolTrueUp","PriorPerAdj","RankNHDD","TempAdj","VolumetricRates","BillDeter","BetaCoeff","ValidationLists","CSWNA Diff","HDD Discrepancy Explanation","ReconPerAdj. Explanation","Revenue Diff","DateSet"],"not_rendered":{"charts":0,"images":5,"macros":1,"external_links":1,"defined_names":3096,"comments":0,"pivot_tables":0},"unopened":[],"bounds":{"document_bytes":16777216,"sheet_cells":100000,"rows_first":2000,"rows_last":500,"rows_between":2000,"halvings":0,"cell_chars":16384,"cell_head_chars":4096},"cells_cut":0,"cells_raw":0,"read":"whole","date_system":"1900"}

{"sheet":"Protect","index":0,"n_rows":11,"n_cols":7,"rows_kept":11,"cut":false,"hidden":false,"merged":[[5,1,5,5]]}
[]
[null,"Liberty Midstates"]
[null,"WNAR Filing"]
[null,"Password Protection Worksheet"]
[]
[null,"This worksheet provides password protection for the report pages to prevent unintentional formula changes.  The password is \"WNAR\"."]
[]
[]
[]
[]
[null,null,null,null,null,null,"All Report Worksheets are Protected"]

{"sheet":"Final Checklist","index":1,"n_rows":35,"n_cols":6,"rows_kept":35,"cut":false,"hidden":false,"merged":[]}
[]
[null,"Liberty Midstates"]
[null,"Semi-Annual WNAR Filing"]
[null,"Final Checklist"]
[]
[]
[null,"Data Table List","Check For","Result","Initials","Initials"]
[null,"Validation Lists","Changes from prior filings","Ok, no changes","RS"]
[null,"Beta Coefficient","Changes from prior filings","Ok until reset by new rate case","RS"]
[null,"Billing Determinants","Changes from prior filings","Ok until reset by new rate case","RS"]
[null,"Volumetric Rates","Changes from prior filings","Ok until reset by new rate case","RS"]
[null,"Chillicothe Temp Adjustment","Changes from prior filings","Ok until reset by new rate case","RS"]
[null,"Ranked Normal HDD","Changes from prior filings","Ok until reset by new rate case","RS"]
[null,"Prior Period Adustments","Additions and corrections add to total adjustment","OK.  Total adjustment = $960,611","RS"]
[null,"Volumetric True-Up","Ties out on Reconciliation Worksheet","Checked and ties.","RS"]
[null,"Reconciliation Period Adjustment","Ties out on Reconciliation Worksheet","Checked and ties.","RS"]
[null,"CSWNA Amounts","Ties out on Reconciliation Worksheet","Checked and ties.","RS"]
[null,"WNAR Rates","Ties out on Reconciliation Worksheet","Checked and ties.","RS"]
[null,"Customer Estimated Revenue","Table has been updated.","Checked and updated through March 2023","RS"]
[null,"Customer Estimated Volume","Table has been updated.","Checked and updated through December 2023","RS"]
[null,"WNAR Revenue Table","Table has been updated and ties to supporting workbook.","Checked and ties.","RS"]
[null,"WNAR Revenue Breakdown Workbook","Calculated revenue amounts closely match billed amounts from Revenue Packages","NEMO within +/- $15","RS"]
[null,null,null,"WEMO within +/- $1","RS"]
[null,null,null,"SEMO within +/- $22","RS"]
[null,"Meter Read Schedule","Table has been updated.","Checked and updated through December 2022","RS"]
[null,"Customer Actual Volumes","Table updated and ties to monthly Revenue Package reports.","Updated through December 2022.","RS"]
[null,"Number of Bills","Make sure final bills, rebills, and voided bills are removed from totals.","Checked OK.","RS"]
[null,"CGI Actual Temperatures","Make sure table is updated and RANK SORTED","Checked OK.","RS"]
[null,"Chillicothe Actual Temperatures","Make sure table is updated and RANK SORTED","Checked OK.","RS"]
[]
[]
[null,"Report Worksheets","Check For","Result","Initials","Initials"]
[null,"All Report Pages","Correct year and filing period are showing on the dropdown menus.","Checked OK.","RS"]
[null,"Reconciliaion worksheet","No cells are shaded yellow, which indicates inconsistencies.","Checked OK.","RS"]
[null,"Protect worksheet","Password protection is turned on for report worksheets","Checked OK.","RS"]

{"sheet":"Reconciliation","index":2,"n_rows":57,"n_cols":11,"rows_kept":57,"cut":false,"hidden":false,"merged":[[52,2,52,3],[52,4,52,5],[52,6,52,7],[40,2,40,3],[40,4,40,5],[40,6,40,7],[47,2,47,3],[47,4,47,5],[47,6,47,7],[1,1,1,3],[7,2,7,4],[7,5,7,7],[7,8,7,10],[17,2,17,4],[17,5,17,7],[17,8,17,10],[28,2,28,3],[28,4,28,5],[28,6,28,7],[33,2,33,3],[33,4,33,5],[33,6,33,7]]}
[]
[null,"Reconciiation Worksheet"]
[null,"Worksheets vs. Tables"]
[null,"Year:",{"$f":"DateSet!C2","v":2023}]
[null,"Period:",{"$f":"DateSet!C3","v":"S1"}]
[]
[null,"CSWNA Amounts"]
[null,"Res","CSWNA Worksheets",null,null,"CSWNA Amount Table",null,null,"Difference"]
[null,"Month","NEMO","WEMO","SEMO","NEMO","WEMO","SEMO","NEMO","WEMO","SEMO"]
[null,{"$f":"'CSWNA NEMO'!B12","v":44743},{"$f":"'CSWNA NEMO'!M12","v":1078.3499999999999},{"$f":"'CSWNA WEMO'!M12","v":334.52},{"$f":"'CSWNA SEMO'!M12","v":70.12},{"$f":"SUMPRODUCT((CSWNAAmounts[Month]=$B10)*(CSWNAAmounts[Region]=C$9)*(CSWNAAmounts[CustClass]=\"Res\")*CSWNAAmounts[CSWNA])","v":1078.3499999999999},{"$f":"SUMPRODUCT((CSWNAAmounts[Month]=$B10)*(CSWNAAmounts[Region]=D$9)*(CSWNAAmounts[CustClass]=\"Res\")*CSWNAAmounts[CSWNA])","v":334.52},{"$f":"SUMPRODUCT((CSWNAAmounts[Month]=$B10)*(CSWNAAmounts[Region]=E$9)*(CSWNAAmounts[CustClass]=\"Res\")*CSWNAAmounts[CSWNA])","v":70.12},{"$f":"F10-C10","v":0},{"$f":"G10-D10","v":0},0]
[null,{"$f":"'CSWNA NEMO'!B13","v":44774},{"$f":"'CSWNA NEMO'!M13","v":3583.29},{"$f":"'CSWNA WEMO'!M13","v":972.17},{"$f":"'CSWNA SEMO'!M13","v":699.83},{"$f":"SUMPRODUCT((CSWNAAmounts[Month]=$B11)*(CSWNAAmounts[Region]=C$9)*(CSWNAAmounts[CustClass]=\"Res\")*CSWNAAmounts[CSWNA])","v":3583.29},{"$f":"SUMPRODUCT((CSWNAAmounts[Month]=$B11)*(CSWNAAmounts[Region]=D$9)*(CSWNAAmounts[CustClass]=\"Res\")*CSWNAAmounts[CSWNA])","v":972.17},{"$f":"SUMPRODUCT((CSWNAAmounts[Month]=$B11)*(CSWNAAmounts[Region]=E$9)*(CSWNAAmounts[CustClass]=\"Res\")*CSWNAAmounts[CSWNA])","v":699.83},{"$f":"F11-C11","v":0},0,0]
[null,{"$f":"'CSWNA NEMO'!B14","v":44805},{"$f":"'CSWNA NEMO'!M14","v":12169.35},{"$f":"'CSWNA WEMO'!M14","v":1495.22},{"$f":"'CSWNA SEMO'!M14","v":2447.5300000000002},{"$f":"SUMPRODUCT((CSWNAAmounts[Month]=$B12)*(CSWNAAmounts[Region]=C$9)*(CSWNAAmounts[CustClass]=\"Res\")*CSWNAAmounts[CSWNA])","v":12169.35},{"$f":"SUMPRODUCT((CSWNAAmounts[Month]=$B12)*(CSWNAAmounts[Region]=D$9)*(CSWNAAmounts[CustClass]=\"Res\")*CSWNAAmounts[CSWNA])","v":1495.22},{"$f":"SUMPRODUCT((CSWNAAmounts[Month]=$B12)*(CSWNAAmounts[Region]=E$9)*(CSWNAAmounts[CustClass]=\"Res\")*CSWNAAmounts[CSWNA])","v":2447.5300000000002},0,0,0]
[null,{"$f":"'CSWNA NEMO'!B15","v":44835},{"$f":"'CSWNA NEMO'!M15","v":-20607.72},{"$f":"'CSWNA WEMO'!M15","v":-1673.06},{"$f":"'CSWNA SEMO'!M15","v":-7769.64},{"$f":"SUMPRODUCT((CSWNAAmounts[Month]=$B13)*(CSWNAAmounts[Region]=C$9)*(CSWNAAmounts[CustClass]=\"Res\")*CSWNAAmounts[CSWNA])","v":-20607.72},{"$f":"SUMPRODUCT((CSWNAAmounts[Month]=$B13)*(CSWNAAmounts[Region]=D$9)*(CSWNAAmounts[CustClass]=\"Res\")*CSWNAAmounts[CSWNA])","v":-1673.06},{"$f":"SUMPRODUCT((CSWNAAmounts[Month]=$B13)*(CSWNAAmounts[Region]=E$9)*(CSWNAAmounts[CustClass]=\"Res\")*CSWNAAmounts[CSWNA])","v":-7769.64},0,0,0]
[null,{"$f":"'CSWNA NEMO'!B16","v":44866},{"$f":"'CSWNA NEMO'!M16","v":-24472.77},{"$f":"'CSWNA WEMO'!M16","v":-5575.46},{"$f":"'CSWNA SEMO'!M16","v":-13255.77},{"$f":"SUMPRODUCT((CSWNAAmounts[Month]=$B14)*(CSWNAAmounts[Region]=C$9)*(CSWNAAmounts[CustClass]=\"Res\")*CSWNAAmounts[CSWNA])","v":-24472.77},{"$f":"SUMPRODUCT((CSWNAAmounts[Month]=$B14)*(CSWNAAmounts[Region]=D$9)*(CSWNAAmounts[CustClass]=\"Res\")*CSWNAAmounts[CSWNA])","v":-5575.46},{"$f":"SUMPRODUCT((CSWNAAmounts[Month]=$B14)*(CSWNAAmounts[Region]=E$9)*(CSWNAAmounts[CustClass]=\"Res\")*CSWNAAmounts[CSWNA])","v":-13255.77},0,0,0]
[null,{"$f":"'CSWNA NEMO'!B17","v":44896},{"$f":"'CSWNA NEMO'!M17","v":-60621.2},{"$f":"'CSWNA WEMO'!M17","v":-11451.44},{"$f":"'CSWNA SEMO'!M17","v":17043.240000000002},{"$f":"SUMPRODUCT((CSWNAAmounts[Month]=$B15)*(CSWNAAmounts[Region]=C$9)*(CSWNAAmounts[CustClass]=\"Res\")*CSWNAAmounts[CSWNA])","v":-60621.2},{"$f":"SUMPRODUCT((CSWNAAmounts[Month]=$B15)*(CSWNAAmounts[Region]=D$9)*(CSWNAAmounts[CustClass]=\"Res\")*CSWNAAmounts[CSWNA])","v":-11451.44},{"$f":"SUMPRODUCT((CSWNAAmounts[Month]=$B15)*(CSWNAAmounts[Region]=E$9)*(CSWNAAmounts[CustClass]=\"Res\")*CSWNAAmounts[CSWNA])","v":17043.240000000002},0,0,0]
[null,"Total",{"$f":"SUM(C10:C15)","v":-88870.7},{"$f":"SUM(D10:D15)","v":-15898.050000000001},-764.68999999999869,-88870.7,-15898.050000000001,-764.68999999999869,0,0,0]
[]
[null,"SGS","CSWNA Worksheets",null,null,"CSWNA Amount Table",null,null,"Difference"]
[null,"Month","NEMO","WEMO","SEMO","NEMO","WEMO","SEMO","NEMO","WEMO","SEMO"]
[null,{"$f":"'CSWNA NEMO'!B25","v":44743},{"$f":"'CSWNA NEMO'!M25","v":137.63},{"$f":"'CSWNA WEMO'!M25","v":48.45},{"$f":"'CSWNA SEMO'!M25","v":6.17},{"$f":"SUMPRODUCT((CSWNAAmounts[Month]=$B20)*(CSWNAAmounts[Region]=C$9)*(CSWNAAmounts[CustClass]=\"SGS\")*CSWNAAmounts[CSWNA])","v":137.63},{"$f":"SUMPRODUCT((CSWNAAmounts[Month]=$B20)*(CSWNAAmounts[Region]=D$9)*(CSWNAAmounts[CustClass]=\"SGS\")*CSWNAAmounts[CSWNA])","v":48.45},{"$f":"SUMPRODUCT((CSWNAAmounts[Month]=$B20)*(CSWNAAmounts[Region]=E$9)*(CSWNAAmounts[CustClass]=\"SGS\")*CSWNAAmounts[CSWNA])","v":6.17},{"$f":"F20-C20","v":0},{"$f":"G20-D20","v":0},{"$f":"H20-E20","v":0}]
[null,{"$f":"'CSWNA NEMO'!B26","v":44774},{"$f":"'CSWNA NEMO'!M26","v":455.57},{"$f":"'CSWNA WEMO'!M26","v":139.77000000000001},{"$f":"'CSWNA SEMO'!M26","v":61.58},{"$f":"SUMPRODUCT((CSWNAAmounts[Month]=$B21)*(CSWNAAmounts[Region]=C$9)*(CSWNAAmounts[CustClass]=\"SGS\")*CSWNAAmounts[CSWNA])","v":455.57},{"$f":"SUMPRODUCT((CSWNAAmounts[Month]=$B21)*(CSWNAAmounts[Region]=D$9)*(CSWNAAmounts[CustClass]=\"SGS\")*CSWNAAmounts[CSWNA])","v":139.77000000000001},{"$f":"SUMPRODUCT((CSWNAAmounts[Month]=$B21)*(CSWNAAmounts[Region]=E$9)*(CSWNAAmounts[CustClass]=\"SGS\")*CSWNAAmounts[CSWNA])","v":61.58},{"$f":"F21-C21","v":0},0,0]
[null,{"$f":"'CSWNA NEMO'!B27","v":44805},{"$f":"'CSWNA NEMO'!M27","v":1539.36},{"$f":"'CSWNA WEMO'!M27","v":215.52},{"$f":"'CSWNA SEMO'!M27","v":215.61},{"$f":"SUMPRODUCT((CSWNAAmounts[Month]=$B22)*(CSWNAAmounts[Region]=C$9)*(CSWNAAmounts[CustClass]=\"SGS\")*CSWNAAmounts[CSWNA])","v":1539.36},{"$f":"SUMPRODUCT((CSWNAAmounts[Month]=$B22)*(CSWNAAmounts[Region]=D$9)*(CSWNAAmounts[CustClass]=\"SGS\")*CSWNAAmounts[CSWNA])","v":215.52},{"$f":"SUMPRODUCT((CSWNAAmounts[Month]=$B22)*(CSWNAAmounts[Region]=E$9)*(CSWNAAmounts[CustClass]=\"SGS\")*CSWNAAmounts[CSWNA])","v":215.61},0,0,0]
[null,{"$f":"'CSWNA NEMO'!B28","v":44835},{"$f":"'CSWNA NEMO'!M28","v":-2573.1799999999998},{"$f":"'CSWNA WEMO'!M28","v":-239.61},{"$f":"'CSWNA SEMO'!M28","v":-675.98},{"$f":"SUMPRODUCT((CSWNAAmounts[Month]=$B23)*(CSWNAAmounts[Region]=C$9)*(CSWNAAmounts[CustClass]=\"SGS\")*CSWNAAmounts[CSWNA])","v":-2573.1799999999998},{"$f":"SUMPRODUCT((CSWNAAmounts[Month]=$B23)*(CSWNAAmounts[Region]=D$9)*(CSWNAAmounts[CustClass]=\"SGS\")*CSWNAAmounts[CSWNA])","v":-239.61},{"$f":"SUMPRODUCT((CSWNAAmounts[Month]=$B23)*(CSWNAAmounts[Region]=E$9)*(CSWNAAmounts[CustClass]=\"SGS\")*CSWNAAmounts[CSWNA])","v":-675.98},0,0,0]
[null,{"$f":"'CSWNA NEMO'!B29","v":44866},{"$f":"'CSWNA NEMO'!M29","v":-3033.73},{"$f":"'CSWNA WEMO'!M29","v":-797.18},{"$f":"'CSWNA SEMO'!M29","v":-1169.6400000000001},{"$f":"SUMPRODUCT((CSWNAAmounts[Month]=$B24)*(CSWNAAmounts[Region]=C$9)*(CSWNAAmounts[CustClass]=\"SGS\")*CSWNAAmounts[CSWNA])","v":-3033.73},{"$f":"SUMPRODUCT((CSWNAAmounts[Month]=$B24)*(CSWNAAmounts[Region]=D$9)*(CSWNAAmounts[CustClass]=\"SGS\")*CSWNAAmounts[CSWNA])","v":-797.18},{"$f":"SUMPRODUCT((CSWNAAmounts[Month]=$B24)*(CSWNAAmounts[Region]=E$9)*(CSWNAAmounts[CustClass]=\"SGS\")*CSWNAAmounts[CSWNA])","v":-1169.6400000000001},0,0,0]
[null,{"$f":"'CSWNA NEMO'!B30","v":44896},{"$f":"'CSWNA NEMO'!M30","v":-7421.7},{"$f":"'CSWNA WEMO'!M30","v":-1631.27},{"$f":"'CSWNA SEMO'!M30","v":1505.29},{"$f":"SUMPRODUCT((CSWNAAmounts[Month]=$B25)*(CSWNAAmounts[Region]=C$9)*(CSWNAAmounts[CustClass]=\"SGS\")*CSWNAAmounts[CSWNA])","v":-7421.7},{"$f":"SUMPRODUCT((CSWNAAmounts[Month]=$B25)*(CSWNAAmounts[Region]=D$9)*(CSWNAAmounts[CustClass]=\"SGS\")*CSWNAAmounts[CSWNA])","v":-1631.27},{"$f":"SUMPRODUCT((CSWNAAmounts[Month]=$B25)*(CSWNAAmounts[Region]=E$9)*(CSWNAAmounts[CustClass]=\"SGS\")*CSWNAAmounts[CSWNA])","v":1505.29},0,0,0]
[null,"Total",{"$f":"SUM(C20:C25)","v":-10896.05},{"$f":"SUM(D20:D25)","v":-2264.3199999999997},{"$f":"SUM(E20:E25)","v":-56.970000000000255},{"$f":"SUM(F20:F25)","v":-10896.05},{"$f":"SUM(G20:G25)","v":-2264.3199999999997},{"$f":"SUM(H20:H25)","v":-56.970000000000255},{"$f":"SUM(I20:I25)","v":0},{"$f":"SUM(J20:J25)","v":0},{"$f":"SUM(K20:K25)","v":0}]
[]
[null,"Reconciliation Period Adjustments"]
[null,"CSWNA","SRR Summary Worksheet",null,"ReconPerAdj Table",null,"Difference"]
[null,"Region","Res","SGS","Res","SGS","Res","SGS"]
[null,"NEMO",{"$f":"'CSWNA NEMO'!D19","v":-88870.7},{"$f":"'CSWNA NEMO'!D32","v":-10896.05},{"$f":"SUMPRODUCT((ReconPerAdj[Year]=$C$4)*(ReconPerAdj[Period]=$C$5)*(ReconPerAdj[Region]=$B31)*(ReconPerAdj[RateName]=$B$29)*(ReconPerAdj[CustClass]=E$30)*ReconPerAdj[ReconcilingPeriodAdj])","v":-88870.7},{"$f":"SUMPRODUCT((ReconPerAdj[Year]=$C$4)*(ReconPerAdj[Period]=$C$5)*(ReconPerAdj[Region]=$B31)*(ReconPerAdj[RateName]=$B$29)*(ReconPerAdj[CustClass]=F$30)*ReconPerAdj[ReconcilingPeriodAdj])","v":-10896.05},{"$f":"E31-C31","v":0},{"$f":"F31-D31","v":0}]
[null,"WEMO",{"$f":"'CSWNA WEMO'!D19","v":-15898.05},{"$f":"'CSWNA WEMO'!D32","v":-2264.3200000000002},{"$f":"SUMPRODUCT((ReconPerAdj[Year]=$C$4)*(ReconPerAdj[Period]=$C$5)*(ReconPerAdj[Region]=$B32)*(ReconPerAdj[RateName]=$B$29)*(ReconPerAdj[CustClass]=E$30)*ReconPerAdj[ReconcilingPeriodAdj])","v":-15898.05},{"$f":"SUMPRODUCT((ReconPerAdj[Year]=$C$4)*(ReconPerAdj[Period]=$C$5)*(ReconPerAdj[Region]=$B32)*(ReconPerAdj[RateName]=$B$29)*(ReconPerAdj[CustClass]=F$30)*ReconPerAdj[ReconcilingPeriodAdj])","v":-2264.3200000000002},{"$f":"E32-C32","v":0},0]
[null,"SEMO",{"$f":"'CSWNA SEMO'!D19","v":-764.69},{"$f":"'CSWNA SEMO'!D32","v":-56.97},{"$f":"SUMPRODUCT((ReconPerAdj[Year]=$C$4)*(ReconPerAdj[Period]=$C$5)*(ReconPerAdj[Region]=$B33)*(ReconPerAdj[RateName]=$B$29)*(ReconPerAdj[CustClass]=E$30)*ReconPerAdj[ReconcilingPeriodAdj])","v":-764.69},{"$f":"SUMPRODUCT((ReconPerAdj[Year]=$C$4)*(ReconPerAdj[Period]=$C$5)*(ReconPerAdj[Region]=$B33)*(ReconPerAdj[RateName]=$B$29)*(ReconPerAdj[CustClass]=F$30)*ReconPerAdj[ReconcilingPeriodAdj])","v":-56.97},0,0]
[null,"SRR","SRR Summary Worksheet",null,"ReconPerAdj Table",null,"Difference"]
[null,"Region","Res","SGS","Res","SGS","Res","SGS"]
[null,"NEMO",{"$f":"'SRR Summary'!C61","v":-307042.08999999997},{"$f":"'SRR Summary'!F61","v":-69254.820000000007},{"$f":"SUMPRODUCT((ReconPerAdj[Year]=$C$4)*(ReconPerAdj[Period]=$C$5)*(ReconPerAdj[Region]=$B36)*(ReconPerAdj[RateName]=$B$34)*(ReconPerAdj[CustClass]=E$35)*ReconPerAdj[ReconcilingPeriodAdj])","v":-307042.08999999997},{"$f":"SUMPRODUCT((ReconPerAdj[Year]=$C$4)*(ReconPerAdj[Period]=$C$5)*(ReconPerAdj[Region]=$B36)*(ReconPerAdj[RateName]=$B$34)*(ReconPerAdj[CustClass]=F$35)*ReconPerAdj[ReconcilingPeriodAdj])","v":-69254.820000000007},{"$f":"E36-C36","v":0},{"$f":"F36-D36","v":0}]
[null,"WEMO",{"$f":"'SRR Summary'!D61","v":-47439.33},{"$f":"'SRR Summary'!G61","v":-14199.32},{"$f":"SUMPRODUCT((ReconPerAdj[Year]=$C$4)*(ReconPerAdj[Period]=$C$5)*(ReconPerAdj[Region]=$B37)*(ReconPerAdj[RateName]=$B$34)*(ReconPerAdj[CustClass]=E$35)*ReconPerAdj[ReconcilingPeriodAdj])","v":-47439.33},{"$f":"SUMPRODUCT((ReconPerAdj[Year]=$C$4)*(ReconPerAdj[Period]=$C$5)*(ReconPerAdj[Region]=$B37)*(ReconPerAdj[RateName]=$B$34)*(ReconPerAdj[CustClass]=F$35)*ReconPerAdj[ReconcilingPeriodAdj])","v":-14199.32},{"$f":"E37-C37","v":0},0]
[null,"SEMO",{"$f":"'SRR Summary'!I61","v":-458606.28},{"$f":"'SRR Summary'!J61","v":-12563.68},{"$f":"SUMPRODUCT((ReconPerAdj[Year]=$C$4)*(ReconPerAdj[Period]=$C$5)*(ReconPerAdj[Region]=$B38)*(ReconPerAdj[RateName]=$B$34)*(ReconPerAdj[CustClass]=E$35)*ReconPerAdj[ReconcilingPeriodAdj])","v":-458606.28},{"$f":"SUMPRODUCT((ReconPerAdj[Year]=$C$4)*(ReconPerAdj[Period]=$C$5)*(ReconPerAdj[Region]=$B38)*(ReconPerAdj[RateName]=$B$34)*(ReconPerAdj[CustClass]=F$35)*ReconPerAdj[ReconcilingPeriodAdj])","v":-12563.68},0,0]
[]
[null,"SRR Volumetric True-Ups"]
[null,null,"SRR Worksheets",null,"VolTrueUp Table",null,"Difference"]
[null,"Region","Res","SGS","Res","SGS","Res","SGS"]
[null,"NEMO",{"$f":"'SRR NEMO'!C22","v":3577.98},{"$f":"'SRR NEMO'!C37","v":200.08999999999997},{"$f":"SUMPRODUCT((VolTrueUp[Year]=$C$4)*(VolTrueUp[Period]=$C$5)*(VolTrueUp[Region]=$B43)*(VolTrueUp[CustClass]=E$42)*VolTrueUp[TrueUp])","v":3577.98},{"$f":"SUMPRODUCT((VolTrueUp[Year]=$C$4)*(VolTrueUp[Period]=$C$5)*(VolTrueUp[Region]=$B43)*(VolTrueUp[CustClass]=F$42)*VolTrueUp[TrueUp])","v":200.08999999999997},{"$f":"E43-C43","v":0},{"$f":"F43-D43","v":0}]
[null,"WEMO",{"$f":"'SRR WEMO'!C22","v":358.07},{"$f":"'SRR WEMO'!C37","v":93.27000000000001},{"$f":"SUMPRODUCT((VolTrueUp[Year]=$C$4)*(VolTrueUp[Period]=$C$5)*(VolTrueUp[Region]=$B44)*(VolTrueUp[CustClass]=E$42)*VolTrueUp[TrueUp])","v":358.07},{"$f":"SUMPRODUCT((VolTrueUp[Year]=$C$4)*(VolTrueUp[Period]=$C$5)*(VolTrueUp[Region]=$B44)*(VolTrueUp[CustClass]=F$42)*VolTrueUp[TrueUp])","v":93.27000000000001},{"$f":"E44-C44","v":0},0]
[null,"SEMO",{"$f":"'SRR SEMO'!C22","v":-216.25999999999931},{"$f":"'SRR SEMO'!C37","v":-312.86000000000007},{"$f":"SUMPRODUCT((VolTrueUp[Year]=$C$4)*(VolTrueUp[Period]=$C$5)*(VolTrueUp[Region]=$B45)*(VolTrueUp[CustClass]=E$42)*VolTrueUp[TrueUp])","v":-216.25999999999931},{"$f":"SUMPRODUCT((VolTrueUp[Year]=$C$4)*(VolTrueUp[Period]=$C$5)*(VolTrueUp[Region]=$B45)*(VolTrueUp[CustClass]=F$42)*VolTrueUp[TrueUp])","v":-312.86000000000007},0,0]
[]
[null,"WNAR Rates"]
[null,"CSWNA","CSWNA Summary Wrksht",null,"WNAR Rates Table",null,"Difference"]
[null,"Region","Res","SGS","Res","SGS","Res","SGS"]
[null,"NEMO",{"$f":"'CSWNA Summary'!E26","v":-7.92E-3},{"$f":"'CSWNA Summary'!H26","v":-3.3300000000000001E-3},{"$f":"SUMPRODUCT((WNARRates[Year]=$C$4)*(WNARRates[Period]=$C$5)*(WNARRates[Region]=$B50)*(WNARRates[CustClass]=E$49)*WNARRates[AdjCSWNA])","v":-7.92E-3},{"$f":"SUMPRODUCT((WNARRates[Year]=$C$4)*(WNARRates[Period]=$C$5)*(WNARRates[Region]=$B50)*(WNARRates[CustClass]=F$49)*WNARRates[AdjCSWNA])","v":-3.3300000000000001E-3},{"$f":"E50-C50","v":0},{"$f":"F50-D50","v":0}]
[null,"WEMO",{"$f":"'CSWNA Summary'!E26","v":-7.92E-3},{"$f":"'CSWNA Summary'!H26","v":-3.3300000000000001E-3},{"$f":"SUMPRODUCT((WNARRates[Year]=$C$4)*(WNARRates[Period]=$C$5)*(WNARRates[Region]=$B51)*(WNARRates[CustClass]=E$49)*WNARRates[AdjCSWNA])","v":-7.92E-3},{"$f":"SUMPRODUCT((WNARRates[Year]=$C$4)*(WNARRates[Period]=$C$5)*(WNARRates[Region]=$B51)*(WNARRates[CustClass]=F$49)*WNARRates[AdjCSWNA])","v":-3.3300000000000001E-3},{"$f":"E51-C51","v":0},0]
[null,"SEMO",{"$f":"'CSWNA Summary'!I26","v":-5.0000000000000002E-5},{"$f":"'CSWNA Summary'!J26","v":-1.0000000000000001E-5},{"$f":"SUMPRODUCT((WNARRates[Year]=$C$4)*(WNARRates[Period]=$C$5)*(WNARRates[Region]=$B52)*(WNARRates[CustClass]=E$49)*WNARRates[AdjCSWNA])","v":-5.0000000000000002E-5},{"$f":"SUMPRODUCT((WNARRates[Year]=$C$4)*(WNARRates[Period]=$C$5)*(WNARRates[Region]=$B52)*(WNARRates[CustClass]=F$49)*WNARRates[AdjCSWNA])","v":-1.0000000000000001E-5},0,0]
[null,"SRR","SRR Summary Worksheet",null,"WNAR Rates Table",null,"Difference"]
[null,"Region","Res","SGS","Res","SGS","Res","SGS"]
[null,"NEMO",{"$f":"'SRR Summary'!C84","v":-2.6790000000000001E-2},{"$f":"'SRR Summary'!D84","v":-2.1129999999999999E-2},{"$f":"SUMPRODUCT((WNARRates[Year]=$C$4)*(WNARRates[Period]=$C$5)*(WNARRates[Region]=$B55)*(WNARRates[CustClass]=E$54)*WNARRates[AdjSRR])","v":-2.6790000000000001E-2},{"$f":"SUMPRODUCT((WNARRates[Year]=$C$4)*(WNARRates[Period]=$C$5)*(WNARRates[Region]=$B55)*(WNARRates[CustClass]=F$54)*WNARRates[AdjSRR])","v":-2.1129999999999999E-2},{"$f":"E55-C55","v":0},{"$f":"F55-D55","v":0}]
[null,"WEMO",{"$f":"'SRR Summary'!C84","v":-2.6790000000000001E-2},{"$f":"'SRR Summary'!D84","v":-2.1129999999999999E-2},{"$f":"SUMPRODUCT((WNARRates[Year]=$C$4)*(WNARRates[Period]=$C$5)*(WNARRates[Region]=$B56)*(WNARRates[CustClass]=E$54)*WNARRates[AdjSRR])","v":-2.6790000000000001E-2},{"$f":"SUMPRODUCT((WNARRates[Year]=$C$4)*(WNARRates[Period]=$C$5)*(WNARRates[Region]=$B56)*(WNARRates[CustClass]=F$54)*WNARRates[AdjSRR])","v":-2.1129999999999999E-2},{"$f":"E56-C56","v":0},0]
[null,"SEMO",{"$f":"'SRR Summary'!E84","v":-2.997E-2},{"$f":"'SRR Summary'!F84","v":-3.2100000000000002E-3},{"$f":"SUMPRODUCT((WNARRates[Year]=$C$4)*(WNARRates[Period]=$C$5)*(WNARRates[Region]=$B57)*(WNARRates[CustClass]=E$54)*WNARRates[AdjSRR])","v":-2.997E-2},{"$f":"SUMPRODUCT((WNARRates[Year]=$C$4)*(WNARRates[Period]=$C$5)*(WNARRates[Region]=$B57)*(WNARRates[CustClass]=F$54)*WNARRates[AdjSRR])","v":-3.2100000000000002E-3},0,0]

{"sheet":"Rates - Sheets 67.2-67.5","index":3,"n_rows":84,"n_cols":10,"rows_kept":84,"cut":false,"hidden":false,"merged":[[10,7,10,9]]}
[null,null,null,"Liberty Utilities (Midstates Natural Gas) Corp."]
[null,null,null,"Weather Normalization Adjustment Rider"]
[null,null,null,"Semiannual Adjustment Filing"]
[null,null,null,"Tariff Rates"]
[null,null,null,"Sheets 67.2 through 67.5"]
[]
[]
[]
[null,"Residential Rates for Northeast and West District (Sheet No. 67.2)"]
[]
[null,"CWNA Table:",null,null,null,null,null,"Lookup Criteria"]
[null,"Period","Rate First Effective","Months","Rate Ending Effective","CSWNA (Annual)",null,"Region","Cust Class","Rate Name"]
[null,{"$f":"DateSet!L4","v":"2022 S1"},{"$f":"DateSet!M4","v":44652},12,{"$f":"EOMONTH(C13,11)","v":"2023-03-31"},{"$f":"SUMPRODUCT((WNARRates[BeginDate]=C13)*(WNARRates[Region]=H13)*(WNARRates[CustClass]=I13)*WNARRates[AdjCSWNA])","v":5.7299999999999997E-2},null,"NEMO","Res","CSWNA"]
[null,{"$f":"DateSet!L5","v":"2022 S2"},{"$f":"DateSet!M5","v":44835},12,{"$f":"EOMONTH(C14,11)","v":"2023-09-30"},{"$f":"SUMPRODUCT((WNARRates[BeginDate]=C14)*(WNARRates[Region]=H14)*(WNARRates[CustClass]=I14)*WNARRates[AdjCSWNA])","v":-1.9380000000000001E-2},null,"NEMO","Res","CSWNA"]
[null,{"$f":"DateSet!L6","v":"2023 S1"},{"$f":"DateSet!M6","v":45017},12,{"$f":"EOMONTH(C15,11)","v":"2024-03-31"},{"$f":"SUMPRODUCT((WNARRates[BeginDate]=C15)*(WNARRates[Region]=H15)*(WNARRates[CustClass]=I15)*WNARRates[AdjCSWNA])","v":-7.92E-3},null,"NEMO","Res","CSWNA"]
[]
[null,"SRR Table:"]
[null,"Period","Rate First Effective","Months","Rate Ending Effective","SRR\n(Annual)"]
[null,{"$f":"$B$13","v":"2022 S1"},{"$f":"$C$13","v":44652},12,{"$f":"EOMONTH(C19,11)","v":"2023-03-31"},{"$f":"SUMPRODUCT((WNARRates[BeginDate]=C19)*(WNARRates[Region]=H19)*(WNARRates[CustClass]=I19)*WNARRates[AdjSRR])","v":2.7799999999999999E-3},null,"NEMO","Res","SRR"]
[null,{"$f":"$B$14","v":"2022 S2"},{"$f":"$C$14","v":44835},12,{"$f":"EOMONTH(C20,11)","v":"2023-09-30"},{"$f":"SUMPRODUCT((WNARRates[BeginDate]=C20)*(WNARRates[Region]=H20)*(WNARRates[CustClass]=I20)*WNARRates[AdjSRR])","v":4.6999999999999999E-4},null,"NEMO","Res","SRR"]
[null,{"$f":"$B$15","v":"2023 S1"},{"$f":"$C$15","v":45017},12,{"$f":"EOMONTH(C21,11)","v":"2024-03-31"},{"$f":"SUMPRODUCT((WNARRates[BeginDate]=C21)*(WNARRates[Region]=H21)*(WNARRates[CustClass]=I21)*WNARRates[AdjSRR])","v":-2.6790000000000001E-2},null,"NEMO","Res","SRR"]
[]
[null,"WNA Rider Rate:"]
[null,"Period","Rate First Effective","Months","Rate Ending Effective","WNA (Semiannual)"]
[null,{"$f":"$B$14","v":"2022 S2"},{"$f":"$C$14","v":44835},6,{"$f":"EOMONTH(C25,D25-1)","v":"2023-03-31"},{"$f":"SUMPRODUCT((WNARRates[BeginDate]<=C25)*(WNARRates[EndDate]>=C25)*(WNARRates[Region]=H25)*(WNARRates[CustClass]=I25)*WNARRates[AdjSRR])+SUMPRODUCT((WNARRates[BeginDate]<=C25)*(WNARRates[EndDate]>=C25)*(WNARRates[Region]=H25)*(WNARRates[CustClass]=I25)*WNARRates[AdjCSWNA])","v":4.1169999999999998E-2},null,"NEMO","Res","WNA"]
[null,{"$f":"$B$15","v":"2023 S1"},{"$f":"$C$15","v":45017},6,{"$f":"EOMONTH(C26,D26-1)","v":"2023-09-30"},{"$f":"SUMPRODUCT((WNARRates[BeginDate]<=C26)*(WNARRates[EndDate]>=C26)*(WNARRates[Region]=H26)*(WNARRates[CustClass]=I26)*WNARRates[AdjSRR])+SUMPRODUCT((WNARRates[BeginDate]<=C26)*(WNARRates[EndDate]>=C26)*(WNARRates[Region]=H26)*(WNARRates[CustClass]=I26)*WNARRates[AdjCSWNA])","v":-5.3620000000000001E-2},null,"NEMO","Res","WNA"]
[]
[null,"Residential Rates for Southeast District (Sheet No. 67.3)"]
[]
[null,"CWNA Table:"]
[null,"Period","Rate First Effective","Months","Rate Ending Effective","CSWNA (Annual)"]
[null,{"$f":"$B$13","v":"2022 S1"},{"$f":"$C$13","v":44652},12,{"$f":"EOMONTH(C32,11)","v":"2023-03-31"},{"$f":"SUMPRODUCT((WNARRates[BeginDate]=C32)*(WNARRates[Region]=H32)*(WNARRates[CustClass]=I32)*WNARRates[AdjCSWNA])","v":4.743E-2},null,"SEMO","Res","CSWNA"]
[null,{"$f":"$B$14","v":"2022 S2"},{"$f":"$C$14","v":44835},12,{"$f":"EOMONTH(C33,11)","v":"2023-09-30"},{"$f":"SUMPRODUCT((WNARRates[BeginDate]=C33)*(WNARRates[Region]=H33)*(WNARRates[CustClass]=I33)*WNARRates[AdjCSWNA])","v":1.2800000000000001E-3},null,"SEMO","Res","CSWNA"]
[null,{"$f":"$B$15","v":"2023 S1"},{"$f":"$C$15","v":45017},12,{"$f":"EOMONTH(C34,11)","v":"2024-03-31"},{"$f":"SUMPRODUCT((WNARRates[BeginDate]=C34)*(WNARRates[Region]=H34)*(WNARRates[CustClass]=I34)*WNARRates[AdjCSWNA])","v":-5.0000000000000002E-5},null,"SEMO","Res","CSWNA"]
[]
[null,"SRR Table:"]
[null,"Period","Rate First Effective","Months","Rate Ending Effective","SRR\n(Annual)"]
[null,{"$f":"$B$13","v":"2022 S1"},{"$f":"$C$13","v":44652},12,{"$f":"EOMONTH(C38,11)","v":"2023-03-31"},{"$f":"SUMPRODUCT((WNARRates[BeginDate]=C38)*(WNARRates[Region]=H38)*(WNARRates[CustClass]=I38)*WNARRates[AdjSRR])","v":9.8999999999999999E-4},null,"SEMO","Res","SRR"]
[null,{"$f":"$B$14","v":"2022 S2"},{"$f":"$C$14","v":44835},12,{"$f":"EOMONTH(C39,11)","v":"2023-09-30"},{"$f":"SUMPRODUCT((WNARRates[BeginDate]=C39)*(WNARRates[Region]=H39)*(WNARRates[CustClass]=I39)*WNARRates[AdjSRR])","v":-1.2E-4},null,"SEMO","Res","SRR"]
[null,{"$f":"$B$15","v":"2023 S1"},{"$f":"$C$15","v":45017},12,{"$f":"EOMONTH(C40,11)","v":"2024-03-31"},{"$f":"SUMPRODUCT((WNARRates[BeginDate]=C40)*(WNARRates[Region]=H40)*(WNARRates[CustClass]=I40)*WNARRates[AdjSRR])","v":-2.997E-2},null,"SEMO","Res","SRR"]
[]
[null,"WNA Rider Rate:"]
[null,"Period","Rate First Effective","Months","Rate Ending Effective","WNA (Semiannual)"]
[null,{"$f":"$B$14","v":"2022 S2"},{"$f":"$C$14","v":44835},6,{"$f":"EOMONTH(C44,D44-1)","v":"2023-03-31"},{"$f":"SUMPRODUCT((WNARRates[BeginDate]<=C44)*(WNARRates[EndDate]>=C44)*(WNARRates[Region]=H44)*(WNARRates[CustClass]=I44)*WNARRates[AdjSRR])+SUMPRODUCT((WNARRates[BeginDate]<=C44)*(WNARRates[EndDate]>=C44)*(WNARRates[Region]=H44)*(WNARRates[CustClass]=I44)*WNARRates[AdjCSWNA])","v":4.9580000000000006E-2},null,"SEMO","Res","WNA"]
[null,{"$f":"$B$15","v":"2023 S1"},{"$f":"$C$15","v":45017},6,{"$f":"EOMONTH(C45,D45-1)","v":"2023-09-30"},{"$f":"SUMPRODUCT((WNARRates[BeginDate]<=C45)*(WNARRates[EndDate]>=C45)*(WNARRates[Region]=H45)*(WNARRates[CustClass]=I45)*WNARRates[AdjSRR])+SUMPRODUCT((WNARRates[BeginDate]<=C45)*(WNARRates[EndDate]>=C45)*(WNARRates[Region]=H45)*(WNARRates[CustClass]=I45)*WNARRates[AdjCSWNA])","v":-2.8859999999999997E-2},null,"SEMO","Res","WNA"]
[]
[]
[null,"SGS Rates for Northeast and West District (Sheet No. 67.4)"]
[]
[null,"CWNA Table:"]
[null,"Period","Rate First Effective","Months","Rate Ending Effective","CSWNA (Annual)"]
[null,{"$f":"$B$13","v":"2022 S1"},{"$f":"$C$13","v":44652},12,{"$f":"EOMONTH(C52,11)","v":"2023-03-31"},{"$f":"SUMPRODUCT((WNARRates[BeginDate]=C52)*(WNARRates[Region]=H52)*(WNARRates[CustClass]=I52)*WNARRates[AdjCSWNA])","v":2.7810000000000001E-2},null,"NEMO","SGS","CSWNA"]
[null,{"$f":"$B$14","v":"2022 S2"},{"$f":"$C$14","v":44835},12,{"$f":"EOMONTH(C53,11)","v":"2023-09-30"},{"$f":"SUMPRODUCT((WNARRates[BeginDate]=C53)*(WNARRates[Region]=H53)*(WNARRates[CustClass]=I53)*WNARRates[AdjCSWNA])","v":-8.09E-3},null,"NEMO","SGS","CSWNA"]
[null,{"$f":"$B$15","v":"2023 S1"},{"$f":"$C$15","v":45017},12,{"$f":"EOMONTH(C54,11)","v":"2024-03-31"},{"$f":"SUMPRODUCT((WNARRates[BeginDate]=C54)*(WNARRates[Region]=H54)*(WNARRates[CustClass]=I54)*WNARRates[AdjCSWNA])","v":-3.3300000000000001E-3},null,"NEMO","SGS","CSWNA"]
[]
[null,"SRR Table:"]
[null,"Period","Rate First Effective","Months","Rate Ending Effective","SRR\n(Annual)"]
[null,{"$f":"$B$13","v":"2022 S1"},{"$f":"$C$13","v":44652},12,{"$f":"EOMONTH(C58,11)","v":"2023-03-31"},{"$f":"SUMPRODUCT((WNARRates[BeginDate]=C58)*(WNARRates[Region]=H58)*(WNARRates[CustClass]=I58)*WNARRates[AdjSRR])","v":-2.2000000000000001E-4},null,"NEMO","SGS","SRR"]
[null,{"$f":"$B$14","v":"2022 S2"},{"$f":"$C$14","v":44835},12,{"$f":"EOMONTH(C59,11)","v":"2023-09-30"},{"$f":"SUMPRODUCT((WNARRates[BeginDate]=C59)*(WNARRates[Region]=H59)*(WNARRates[CustClass]=I59)*WNARRates[AdjSRR])","v":5.9999999999999995E-4},null,"NEMO","SGS","SRR"]
[null,{"$f":"$B$15","v":"2023 S1"},{"$f":"$C$15","v":45017},12,{"$f":"EOMONTH(C60,11)","v":"2024-03-31"},{"$f":"SUMPRODUCT((WNARRates[BeginDate]=C60)*(WNARRates[Region]=H60)*(WNARRates[CustClass]=I60)*WNARRates[AdjSRR])","v":-2.1129999999999999E-2},null,"NEMO","SGS","SRR"]
[]
[null,"WNA Rider Rate:"]
[null,"Period","Rate First Effective","Months","Rate Ending Effective","WNA (Semiannual)"]
[null,{"$f":"$B$14","v":"2022 S2"},{"$f":"$C$14","v":44835},6,{"$f":"EOMONTH(C64,D64-1)","v":"2023-03-31"},{"$f":"SUMPRODUCT((WNARRates[BeginDate]<=C64)*(WNARRates[EndDate]>=C64)*(WNARRates[Region]=H64)*(WNARRates[CustClass]=I64)*WNARRates[AdjSRR])+SUMPRODUCT((WNARRates[BeginDate]<=C64)*(WNARRates[EndDate]>=C64)*(WNARRates[Region]=H64)*(WNARRates[CustClass]=I64)*WNARRates[AdjCSWNA])","v":2.01E-2},null,"NEMO","SGS","WNA"]
[null,{"$f":"$B$15","v":"2023 S1"},{"$f":"$C$15","v":45017},6,{"$f":"EOMONTH(C65,D65-1)","v":"2023-09-30"},{"$f":"SUMPRODUCT((WNARRates[BeginDate]<=C65)*(WNARRates[EndDate]>=C65)*(WNARRates[Region]=H65)*(WNARRates[CustClass]=I65)*WNARRates[AdjSRR])+SUMPRODUCT((WNARRates[BeginDate]<=C65)*(WNARRates[EndDate]>=C65)*(WNARRates[Region]=H65)*(WNARRates[CustClass]=I65)*WNARRates[AdjCSWNA])","v":-3.1949999999999999E-2},null,"NEMO","SGS","WNA"]
[]
[null,"SGS Rates for Southeast District (Sheet No. 67.5)"]
[]
[null,"CWNA Table:"]
[null,"Period","Rate First Effective","Months","Rate Ending Effective","CSWNA (Annual)"]
[null,{"$f":"$B$13","v":"2022 S1"},{"$f":"$C$13","v":44652},12,{"$f":"EOMONTH(C71,11)","v":"2023-03-31"},{"$f":"SUMPRODUCT((WNARRates[BeginDate]=C71)*(WNARRates[Region]=H71)*(WNARRates[CustClass]=I71)*WNARRates[AdjCSWNA])","v":1.6230000000000001E-2},null,"SEMO","SGS","CSWNA"]
[null,{"$f":"$B$14","v":"2022 S2"},{"$f":"$C$14","v":44835},12,{"$f":"EOMONTH(C72,11)","v":"2023-09-30"},{"$f":"SUMPRODUCT((WNARRates[BeginDate]=C72)*(WNARRates[Region]=H72)*(WNARRates[CustClass]=I72)*WNARRates[AdjCSWNA])","v":4.4000000000000002E-4},null,"SEMO","SGS","CSWNA"]
[null,{"$f":"$B$15","v":"2023 S1"},{"$f":"$C$15","v":45017},12,{"$f":"EOMONTH(C73,11)","v":"2024-03-31"},{"$f":"SUMPRODUCT((WNARRates[BeginDate]=C73)*(WNARRates[Region]=H73)*(WNARRates[CustClass]=I73)*WNARRates[AdjCSWNA])","v":-1.0000000000000001E-5},null,"SEMO","SGS","CSWNA"]
[]
[null,"SRR Table:"]
[null,"Period","Rate First Effective","Months","Rate Ending Effective","SRR\n(Annual)"]
[null,{"$f":"$B$13","v":"2022 S1"},{"$f":"$C$13","v":44652},12,{"$f":"EOMONTH(C77,11)","v":"2023-03-31"},{"$f":"SUMPRODUCT((WNARRates[BeginDate]=C77)*(WNARRates[Region]=H77)*(WNARRates[CustClass]=I77)*WNARRates[AdjSRR])","v":-3.7200000000000002E-3},null,"SEMO","SGS","SRR"]
[null,{"$f":"$B$14","v":"2022 S2"},{"$f":"$C$14","v":44835},12,{"$f":"EOMONTH(C78,11)","v":"2023-09-30"},{"$f":"SUMPRODUCT((WNARRates[BeginDate]=C78)*(WNARRates[Region]=H78)*(WNARRates[CustClass]=I78)*WNARRates[AdjSRR])","v":6.9999999999999994E-5},null,"SEMO","SGS","SRR"]
[null,{"$f":"$B$15","v":"2023 S1"},{"$f":"$C$15","v":45017},12,{"$f":"EOMONTH(C79,11)","v":"2024-03-31"},{"$f":"SUMPRODUCT((WNARRates[BeginDate]=C79)*(WNARRates[Region]=H79)*(WNARRates[CustClass]=I79)*WNARRates[AdjSRR])","v":-3.2100000000000002E-3},null,"SEMO","SGS","SRR"]
[]
[null,"WNA Rider Rate:"]
[null,"Period","Rate First Effective","Months","Rate Ending Effective","WNA (Semiannual)"]
[null,{"$f":"$B$14","v":"2022 S2"},{"$f":"$C$14","v":44835},6,{"$f":"EOMONTH(C83,D83-1)","v":"2023-03-31"},{"$f":"SUMPRODUCT((WNARRates[BeginDate]<=C83)*(WNARRates[EndDate]>=C83)*(WNARRates[Region]=H83)*(WNARRates[CustClass]=I83)*WNARRates[AdjSRR])+SUMPRODUCT((WNARRates[BeginDate]<=C83)*(WNARRates[EndDate]>=C83)*(WNARRates[Region]=H83)*(WNARRates[CustClass]=I83)*WNARRates[AdjCSWNA])","v":1.302E-2},null,"SEMO","SGS","WNA"]
[null,{"$f":"$B$15","v":"2023 S1"},{"$f":"$C$15","v":45017},6,{"$f":"EOMONTH(C84,D84-1)","v":"2023-09-30"},{"$f":"SUMPRODUCT((WNARRates[BeginDate]<=C84)*(WNARRates[EndDate]>=C84)*(WNARRates[Region]=H84)*(WNARRates[CustClass]=I84)*WNARRates[AdjSRR])+SUMPRODUCT((WNARRates[BeginDate]<=C84)*(WNARRates[EndDate]>=C84)*(WNARRates[Region]=H84)*(WNARRates[CustClass]=I84)*WNARRates[AdjCSWNA])","v":-2.7100000000000002E-3},null,"SEMO","SGS","WNA"]

{"sheet":"CSWNA Summary","index":4,"n_rows":43,"n_cols":10,"rows_kept":43,"cut":false,"hidden":false,"merged":[[10,2,10,4],[10,5,10,7],[1,5,1,6],[28,4,28,5],[28,6,28,7],[20,2,20,4],[20,5,20,7],[20,1,21,1],[36,4,36,5],[36,6,36,7],[36,2,37,2],[36,1,37,1]]}
[]
[null,"Liberty Midstates",null,null,null,"Filing Period"]
[null,"WNAR Filing",null,null,null,"Year","Period"]
[null,"CSWNA Summary"]
[null,"Year",{"$f":"DateSet!C2","v":2023}]
[null,"Period",{"$f":"DateSet!C3","v":"S1"}]
[null,"CSWNA Analysis",{"$f":"DateSet!J8","v":44743}]
[null,"New Rate Effec.",{"$f":"DateSet!D4","v":45017}]
[]
[null,"Current Period Dollar Adjustment"]
[null,"Customer Class","Res",null,null,"SGS",null,null,"Res","SGS"]
[null,"Month","NEMO","WEMO","Combined","NEMO","WEMO","Combined","SEMO","SEMO"]
[null,{"$f":"C7","v":"2022-07-01"},{"$f":"SUMPRODUCT((CSWNAAmounts[Month]=$B13)*(CSWNAAmounts[CustClass]=$C$11)*(CSWNAAmounts[Region]=C$12)*CSWNAAmounts[CSWNA])","v":1078.3499999999999},{"$f":"SUMPRODUCT((CSWNAAmounts[Month]=$B13)*(CSWNAAmounts[CustClass]=$C$11)*(CSWNAAmounts[Region]=D$12)*CSWNAAmounts[CSWNA])","v":334.52},{"$f":"C13+D13","v":1412.87},{"$f":"SUMPRODUCT((CSWNAAmounts[Month]=$B13)*(CSWNAAmounts[CustClass]=$F$11)*(CSWNAAmounts[Region]=F$12)*CSWNAAmounts[CSWNA])","v":137.63},{"$f":"SUMPRODUCT((CSWNAAmounts[Month]=$B13)*(CSWNAAmounts[CustClass]=$F$11)*(CSWNAAmounts[Region]=G$12)*CSWNAAmounts[CSWNA])","v":48.45},{"$f":"F13+G13","v":186.07999999999998},{"$f":"SUMPRODUCT((CSWNAAmounts[Month]=$B13)*(CSWNAAmounts[CustClass]=$I$11)*(CSWNAAmounts[Region]=I$12)*CSWNAAmounts[CSWNA])","v":70.12},{"$f":"SUMPRODUCT((CSWNAAmounts[Month]=$B13)*(CSWNAAmounts[CustClass]=$J$11)*(CSWNAAmounts[Region]=J$12)*CSWNAAmounts[CSWNA])","v":6.17}]
[null,{"$f":"EDATE(B13,1)","v":"2022-08-01"},{"$f":"SUMPRODUCT((CSWNAAmounts[Month]=$B14)*(CSWNAAmounts[CustClass]=$C$11)*(CSWNAAmounts[Region]=C$12)*CSWNAAmounts[CSWNA])","v":3583.29},{"$f":"SUMPRODUCT((CSWNAAmounts[Month]=$B14)*(CSWNAAmounts[CustClass]=$C$11)*(CSWNAAmounts[Region]=D$12)*CSWNAAmounts[CSWNA])","v":972.17},{"$f":"C14+D14","v":4555.46},{"$f":"SUMPRODUCT((CSWNAAmounts[Month]=$B14)*(CSWNAAmounts[CustClass]=$F$11)*(CSWNAAmounts[Region]=F$12)*CSWNAAmounts[CSWNA])","v":455.57},{"$f":"SUMPRODUCT((CSWNAAmounts[Month]=$B14)*(CSWNAAmounts[CustClass]=$F$11)*(CSWNAAmounts[Region]=G$12)*CSWNAAmounts[CSWNA])","v":139.77000000000001},{"$f":"F14+G14","v":595.34},{"$f":"SUMPRODUCT((CSWNAAmounts[Month]=$B14)*(CSWNAAmounts[CustClass]=$I$11)*(CSWNAAmounts[Region]=I$12)*CSWNAAmounts[CSWNA])","v":699.83},{"$f":"SUMPRODUCT((CSWNAAmounts[Month]=$B14)*(CSWNAAmounts[CustClass]=$J$11)*(CSWNAAmounts[Region]=J$12)*CSWNAAmounts[CSWNA])","v":61.58}]
[null,{"$f":"EDATE(B14,1)","v":"2022-09-01"},{"$f":"SUMPRODUCT((CSWNAAmounts[Month]=$B15)*(CSWNAAmounts[CustClass]=$C$11)*(CSWNAAmounts[Region]=C$12)*CSWNAAmounts[CSWNA])","v":12169.35},{"$f":"SUMPRODUCT((CSWNAAmounts[Month]=$B15)*(CSWNAAmounts[CustClass]=$C$11)*(CSWNAAmounts[Region]=D$12)*CSWNAAmounts[CSWNA])","v":1495.22},13664.57,{"$f":"SUMPRODUCT((CSWNAAmounts[Month]=$B15)*(CSWNAAmounts[CustClass]=$F$11)*(CSWNAAmounts[Region]=F$12)*CSWNAAmounts[CSWNA])","v":1539.36},{"$f":"SUMPRODUCT((CSWNAAmounts[Month]=$B15)*(CSWNAAmounts[CustClass]=$F$11)*(CSWNAAmounts[Region]=G$12)*CSWNAAmounts[CSWNA])","v":215.52},1754.8799999999999,{"$f":"SUMPRODUCT((CSWNAAmounts[Month]=$B15)*(CSWNAAmounts[CustClass]=$I$11)*(CSWNAAmounts[Region]=I$12)*CSWNAAmounts[CSWNA])","v":2447.5300000000002},{"$f":"SUMPRODUCT((CSWNAAmounts[Month]=$B15)*(CSWNAAmounts[CustClass]=$J$11)*(CSWNAAmounts[Region]=J$12)*CSWNAAmounts[CSWNA])","v":215.61}]
[null,"2022-10-01",{"$f":"SUMPRODUCT((CSWNAAmounts[Month]=$B16)*(CSWNAAmounts[CustClass]=$C$11)*(CSWNAAmounts[Region]=C$12)*CSWNAAmounts[CSWNA])","v":-20607.72},{"$f":"SUMPRODUCT((CSWNAAmounts[Month]=$B16)*(CSWNAAmounts[CustClass]=$C$11)*(CSWNAAmounts[Region]=D$12)*CSWNAAmounts[CSWNA])","v":-1673.06},-22280.780000000002,{"$f":"SUMPRODUCT((CSWNAAmounts[Month]=$B16)*(CSWNAAmounts[CustClass]=$F$11)*(CSWNAAmounts[Region]=F$12)*CSWNAAmounts[CSWNA])","v":-2573.1799999999998},{"$f":"SUMPRODUCT((CSWNAAmounts[Month]=$B16)*(CSWNAAmounts[CustClass]=$F$11)*(CSWNAAmounts[Region]=G$12)*CSWNAAmounts[CSWNA])","v":-239.61},-2812.79,{"$f":"SUMPRODUCT((CSWNAAmounts[Month]=$B16)*(CSWNAAmounts[CustClass]=$I$11)*(CSWNAAmounts[Region]=I$12)*CSWNAAmounts[CSWNA])","v":-7769.64},{"$f":"SUMPRODUCT((CSWNAAmounts[Month]=$B16)*(CSWNAAmounts[CustClass]=$J$11)*(CSWNAAmounts[Region]=J$12)*CSWNAAmounts[CSWNA])","v":-675.98}]
[null,"2022-11-01",{"$f":"SUMPRODUCT((CSWNAAmounts[Month]=$B17)*(CSWNAAmounts[CustClass]=$C$11)*(CSWNAAmounts[Region]=C$12)*CSWNAAmounts[CSWNA])","v":-24472.77},{"$f":"SUMPRODUCT((CSWNAAmounts[Month]=$B17)*(CSWNAAmounts[CustClass]=$C$11)*(CSWNAAmounts[Region]=D$12)*CSWNAAmounts[CSWNA])","v":-5575.46},-30048.23,{"$f":"SUMPRODUCT((CSWNAAmounts[Month]=$B17)*(CSWNAAmounts[CustClass]=$F$11)*(CSWNAAmounts[Region]=F$12)*CSWNAAmounts[CSWNA])","v":-3033.73},{"$f":"SUMPRODUCT((CSWNAAmounts[Month]=$B17)*(CSWNAAmounts[CustClass]=$F$11)*(CSWNAAmounts[Region]=G$12)*CSWNAAmounts[CSWNA])","v":-797.18},-3830.91,{"$f":"SUMPRODUCT((CSWNAAmounts[Month]=$B17)*(CSWNAAmounts[CustClass]=$I$11)*(CSWNAAmounts[Region]=I$12)*CSWNAAmounts[CSWNA])","v":-13255.77},{"$f":"SUMPRODUCT((CSWNAAmounts[Month]=$B17)*(CSWNAAmounts[CustClass]=$J$11)*(CSWNAAmounts[Region]=J$12)*CSWNAAmounts[CSWNA])","v":-1169.6400000000001}]
[null,"2022-12-01",{"$f":"SUMPRODUCT((CSWNAAmounts[Month]=$B18)*(CSWNAAmounts[CustClass]=$C$11)*(CSWNAAmounts[Region]=C$12)*CSWNAAmounts[CSWNA])","v":-60621.2},{"$f":"SUMPRODUCT((CSWNAAmounts[Month]=$B18)*(CSWNAAmounts[CustClass]=$C$11)*(CSWNAAmounts[Region]=D$12)*CSWNAAmounts[CSWNA])","v":-11451.44},-72072.639999999999,{"$f":"SUMPRODUCT((CSWNAAmounts[Month]=$B18)*(CSWNAAmounts[CustClass]=$F$11)*(CSWNAAmounts[Region]=F$12)*CSWNAAmounts[CSWNA])","v":-7421.7},{"$f":"SUMPRODUCT((CSWNAAmounts[Month]=$B18)*(CSWNAAmounts[CustClass]=$F$11)*(CSWNAAmounts[Region]=G$12)*CSWNAAmounts[CSWNA])","v":-1631.27},-9052.9699999999993,{"$f":"SUMPRODUCT((CSWNAAmounts[Month]=$B18)*(CSWNAAmounts[CustClass]=$I$11)*(CSWNAAmounts[Region]=I$12)*CSWNAAmounts[CSWNA])","v":17043.240000000002},{"$f":"SUMPRODUCT((CSWNAAmounts[Month]=$B18)*(CSWNAAmounts[CustClass]=$J$11)*(CSWNAAmounts[Region]=J$12)*CSWNAAmounts[CSWNA])","v":1505.29}]
[null,"Total Adjustment",{"$f":"SUM(C13:C18)","v":-88870.7},{"$f":"SUM(D13:D18)","v":-15898.050000000001},-104768.75,-10896.05,-2264.3199999999997,-13160.369999999999,{"$f":"SUM(I13:I18)","v":-764.68999999999869},{"$f":"SUM(J13:J18)","v":-56.970000000000255}]
[]
[null,"CSWNA Rate Calculation","Res",null,null,"SGS",null,null,"Res","SGS"]
[null,null,"NEMO","WEMO","Combined","NEMO","WEMO","Combined","SEMO","SEMO"]
[null,"Billing Determinants",{"$f":"SUMPRODUCT((BillDeter[Region]=C12)*(BillDeter[CustClass]=$C11)*BillDeter[BillingDeterminants])","v":11089284.458101537},{"$f":"SUMPRODUCT((BillDeter[Region]=D12)*(BillDeter[CustClass]=$C11)*BillDeter[BillingDeterminants])","v":2140376.9890333959},{"$f":"C23+D23","v":13229661.447134933},{"$f":"SUMPRODUCT((BillDeter[Region]=F12)*(BillDeter[CustClass]=$F11)*BillDeter[BillingDeterminants])","v":3249867.6799999997},{"$f":"SUMPRODUCT((BillDeter[Region]=G12)*(BillDeter[CustClass]=$F11)*BillDeter[BillingDeterminants])","v":700365.64440726885},{"$f":"F23+G23","v":3950233.3244072683},{"$f":"SUMPRODUCT((BillDeter[Region]=I12)*(BillDeter[CustClass]=I11)*BillDeter[BillingDeterminants])","v":15300894.639401933},{"$f":"SUMPRODUCT((BillDeter[Region]=J12)*(BillDeter[CustClass]=J11)*BillDeter[BillingDeterminants])","v":3908443.5557121718}]
[null,"CSWNA Unadjusted",null,null,{"$f":"ROUND(E19/E23,5)","v":-7.92E-3},null,null,{"$f":"ROUND(H19/H23,5)","v":-3.3300000000000001E-3},{"$f":"ROUND(I19/I23,5)","v":-5.0000000000000002E-5},{"$f":"ROUND(J19/J23,5)","v":-1.0000000000000001E-5}]
[null,"WNA Limit Adjust.",null,null,{"$f":"E42","v":0},null,null,{"$f":"F42","v":0},{"$f":"G42","v":0},0]
[null,"CSWNA Adjusted",null,null,{"$f":"E24+E25","v":-7.92E-3},null,null,{"$f":"H24+H25","v":-3.3300000000000001E-3},-5.0000000000000002E-5,-1.0000000000000001E-5]
[null,"Enter these rates in the CSWNA column of the WNAR Rates table."]
[]
[null,"New WNA Rate Calculation",null,null,"NEMO + WEMO",null,"SEMO"]
[null,"Rate","Period","Eff. Date","Res","SGS","Res","SGS"]
[null,"CSWNA","S1",{"$f":"DateSet!J4","v":45017},{"$f":"SUMPRODUCT((WNARRates[BeginDate]=$D31)*(WNARRates[Region]=\"NEMO\")*(WNARRates[CustClass]=E$30)*(WNARRates[Period]=$C31)*WNARRates[CSWNA])","v":-7.92E-3},{"$f":"SUMPRODUCT((WNARRates[BeginDate]=$D31)*(WNARRates[Region]=\"NEMO\")*(WNARRates[CustClass]=F$30)*(WNARRates[Period]=$C31)*WNARRates[CSWNA])","v":-3.3300000000000001E-3},{"$f":"SUMPRODUCT((WNARRates[BeginDate]=$D31)*(WNARRates[Region]=$G$29)*(WNARRates[CustClass]=G$30)*(WNARRates[Period]=$C31)*WNARRates[CSWNA])","v":-5.0000000000000002E-5},{"$f":"SUMPRODUCT((WNARRates[BeginDate]=$D31)*(WNARRates[Region]=$G$29)*(WNARRates[CustClass]=H$30)*(WNARRates[Period]=$C31)*WNARRates[CSWNA])","v":-1.0000000000000001E-5}]
[null,"CSWNA","S2",{"$f":"DateSet!J5","v":44835},{"$f":"SUMPRODUCT((WNARRates[BeginDate]=$D32)*(WNARRates[Region]=\"NEMO\")*(WNARRates[CustClass]=E$30)*(WNARRates[Period]=$C32)*WNARRates[CSWNA])","v":-1.9380000000000001E-2},{"$f":"SUMPRODUCT((WNARRates[BeginDate]=$D32)*(WNARRates[Region]=\"NEMO\")*(WNARRates[CustClass]=F$30)*(WNARRates[Period]=$C32)*WNARRates[CSWNA])","v":-8.09E-3},{"$f":"SUMPRODUCT((WNARRates[BeginDate]=$D32)*(WNARRates[Region]=$G$29)*(WNARRates[CustClass]=G$30)*(WNARRates[Period]=$C32)*WNARRates[CSWNA])","v":1.2800000000000001E-3},{"$f":"SUMPRODUCT((WNARRates[BeginDate]=$D32)*(WNARRates[Region]=$G$29)*(WNARRates[CustClass]=H$30)*(WNARRates[Period]=$C32)*WNARRates[CSWNA])","v":4.4000000000000002E-4}]
[null,"SRR","S1",{"$f":"DateSet!J6","v":45017},{"$f":"SUMPRODUCT((WNARRates[BeginDate]=$D33)*(WNARRates[Region]=\"NEMO\")*(WNARRates[CustClass]=E$30)*(WNARRates[Period]=$C33)*WNARRates[SRR])","v":-2.6790000000000001E-2},{"$f":"SUMPRODUCT((WNARRates[BeginDate]=$D33)*(WNARRates[Region]=\"NEMO\")*(WNARRates[CustClass]=F$30)*(WNARRates[Period]=$C33)*WNARRates[SRR])","v":-2.1129999999999999E-2},{"$f":"SUMPRODUCT((WNARRates[BeginDate]=$D33)*(WNARRates[Region]=$G$29)*(WNARRates[CustClass]=G$30)*(WNARRates[Period]=$C33)*WNARRates[SRR])","v":-2.997E-2},{"$f":"SUMPRODUCT((WNARRates[BeginDate]=$D33)*(WNARRates[Region]=$G$29)*(WNARRates[CustClass]=H$30)*(WNARRates[Period]=$C33)*WNARRates[SRR])","v":-3.2100000000000002E-3}]
[null,"SRR","S2",{"$f":"DateSet!J7","v":44835},{"$f":"SUMPRODUCT((WNARRates[BeginDate]=$D34)*(WNARRates[Region]=\"NEMO\")*(WNARRates[CustClass]=E$30)*(WNARRates[Period]=$C34)*WNARRates[SRR])","v":4.6999999999999999E-4},{"$f":"SUMPRODUCT((WNARRates[BeginDate]=$D34)*(WNARRates[Region]=\"NEMO\")*(WNARRates[CustClass]=F$30)*(WNARRates[Period]=$C34)*WNARRates[SRR])","v":5.9999999999999995E-4},{"$f":"SUMPRODUCT((WNARRates[BeginDate]=$D34)*(WNARRates[Region]=$G$29)*(WNARRates[CustClass]=G$30)*(WNARRates[Period]=$C34)*WNARRates[SRR])","v":-1.2E-4},{"$f":"SUMPRODUCT((WNARRates[BeginDate]=$D34)*(WNARRates[Region]=$G$29)*(WNARRates[CustClass]=H$30)*(WNARRates[Period]=$C34)*WNARRates[SRR])","v":6.9999999999999994E-5}]
[null,"Proposed WNA",null,null,{"$f":"SUM(E31:E34)","v":-5.3620000000000001E-2},{"$f":"SUM(F31:F34)","v":-3.1949999999999992E-2},{"$f":"SUM(G31:G34)","v":-2.886E-2},-2.7100000000000002E-3]
[]
[null,"Change Limit Calculations","Period",null,"NEMO + WEMO",null,"SEMO"]
[null,null,null,"Eff. Date","Res","SGS","Res","SGS"]
[null,"Prior Period WNA Rate",{"$f":"IF($C$6=\"S1\",\"S2\",\"S1\")","v":"S2"},{"$f":"EDATE($C$8,-6)","v":44835},{"$f":"SUMPRODUCT((WNARRates[BeginDate]<=$D39)*(WNARRates[EndDate]>=$D39)*(WNARRates[Region]=\"NEMO\")*(WNARRates[CustClass]=E30)*WNARRates[Combined])","v":5.0230000000000011E-2},{"$f":"SUMPRODUCT((WNARRates[BeginDate]<=$D39)*(WNARRates[EndDate]>=$D39)*(WNARRates[Region]=\"NEMO\")*(WNARRates[CustClass]=F30)*WNARRates[Combined])","v":2.01E-2},{"$f":"SUMPRODUCT((WNARRates[BeginDate]<=$D39)*(WNARRates[EndDate]>=$D39)*(WNARRates[Region]=$G29)*(WNARRates[CustClass]=G30)*WNARRates[Combined])","v":4.9579999999999999E-2},{"$f":"SUMPRODUCT((WNARRates[BeginDate]<=$D39)*(WNARRates[EndDate]>=$D39)*(WNARRates[Region]=$G29)*(WNARRates[CustClass]=H30)*WNARRates[Combined])","v":1.302E-2}]
[null,"Change from Prior Period",null,null,{"$f":"E35-E39","v":-0.10385000000000001},{"$f":"F35-F39","v":-5.2049999999999992E-2},{"$f":"G35-G39","v":-7.8439999999999996E-2},{"$f":"H35-H39","v":-1.5730000000000001E-2}]
[null,"Change Limit",null,null,0.05,0.05,0.05,0.05]
[null,"Change Limit Adjustment",null,null,{"$f":"IF(E41>E40,0,E41-E40)","v":0},{"$f":"IF(F41>F40,0,F41-F40)","v":0},0,0]
[null,"Excess Limit Amount",null,null,{"$f":"E42*E23","v":0},{"$f":"F42*H23","v":0},{"$f":"G42*I23","v":0},{"$f":"H42*J23","v":0}]

{"sheet":"SRR Summary","index":5,"n_rows":87,"n_cols":11,"rows_kept":87,"cut":false,"hidden":false,"merged":[[63,2,63,3],[63,4,63,5],[1,5,1,6],[10,2,10,4],[10,5,10,7],[35,2,35,4],[35,5,35,7]]}
[]
[null,"Liberty Midstates",null,null,null,"Filing Period"]
[null,"WNAR Filing",null,null,null,"Year","Period"]
[null,"SRR Summary"]
[null,"Year",{"$f":"DateSet!C2","v":2023}]
[null,"Period",{"$f":"DateSet!C3","v":"S1"}]
[null,"Billed Rev. From",{"$f":"DateSet!J10","v":44652}]
[null,"New Rate Effec.",{"$f":"DateSet!D4","v":45017}]
[]
[null,"Reconciliation Summary","CSWNA"]
[null,"Customer Class","Res",null,null,"SGS",null,null,"Res","SGS","Notes"]
[null,"Region","NEMO","WEMO","Combined","NEMO","WEMO","Combined","SEMO","SEMO"]
[null,"Reconciling Period Adj.",{"$f":"SUMPRODUCT((ReconPerAdj[EffDate]=$C$7)*(ReconPerAdj[Region]=C$12)*(ReconPerAdj[CustClass]=C$11)*(ReconPerAdj[RateName]=$C$10)*ReconPerAdj[ReconcilingPeriodAdj])","v":728517},{"$f":"SUMPRODUCT((ReconPerAdj[EffDate]=$C$7)*(ReconPerAdj[Region]=D$12)*(ReconPerAdj[CustClass]=C$11)*(ReconPerAdj[RateName]=$C$10)*ReconPerAdj[ReconcilingPeriodAdj])","v":149390},{"$f":"C13+D13","v":877907},{"$f":"SUMPRODUCT((ReconPerAdj[EffDate]=$C$7)*(ReconPerAdj[Region]=F$12)*(ReconPerAdj[CustClass]=F$11)*(ReconPerAdj[RateName]=$C$10)*ReconPerAdj[ReconcilingPeriodAdj])","v":88590},{"$f":"SUMPRODUCT((ReconPerAdj[EffDate]=$C$7)*(ReconPerAdj[Region]=G$12)*(ReconPerAdj[CustClass]=F$11)*(ReconPerAdj[RateName]=$C$10)*ReconPerAdj[ReconcilingPeriodAdj])","v":21247},{"$f":"F13+G13","v":109837},{"$f":"SUMPRODUCT((ReconPerAdj[EffDate]=$C$7)*(ReconPerAdj[Region]=I$12)*(ReconPerAdj[CustClass]=I$11)*(ReconPerAdj[RateName]=$C$10)*ReconPerAdj[ReconcilingPeriodAdj])","v":725749},{"$f":"SUMPRODUCT((ReconPerAdj[EffDate]=$C$7)*(ReconPerAdj[Region]=J$12)*(ReconPerAdj[CustClass]=J$11)*(ReconPerAdj[RateName]=$C$10)*ReconPerAdj[ReconcilingPeriodAdj])","v":63423},"From ReconPerAdj Table"]
[null,"PPA Correction",{"$f":"SUMPRODUCT((PPA[Year]=$C$5)*(PPA[Period]=$C$6)*(PPA[Region]=C12)*(PPA[CustClass]=$C$11)*(PPA[RateName]=$C$10)*PPA[Amount])","v":-362076.17},{"$f":"SUMPRODUCT((PPA[Year]=$C$5)*(PPA[Period]=$C$6)*(PPA[Region]=D12)*(PPA[CustClass]=$C$11)*(PPA[RateName]=$C$10)*PPA[Amount])","v":-74247.83},{"$f":"C14+D14","v":-436324},{"$f":"SUMPRODUCT((PPA[Year]=$C$5)*(PPA[Period]=$C$6)*(PPA[Region]=F12)*(PPA[CustClass]=$F$11)*(PPA[RateName]=$C$10)*PPA[Amount])","v":-55632.41},{"$f":"SUMPRODUCT((PPA[Year]=$C$5)*(PPA[Period]=$C$6)*(PPA[Region]=G12)*(PPA[CustClass]=$F$11)*(PPA[RateName]=$C$10)*PPA[Amount])","v":-13934.43},{"$f":"F14+G14","v":-69566.84},{"$f":"SUMPRODUCT((PPA[Year]=$C$5)*(PPA[Period]=$C$6)*(PPA[Region]=I12)*(PPA[CustClass]=I$11)*(PPA[RateName]=$C$10)*PPA[Amount])","v":-432309.64},{"$f":"SUMPRODUCT((PPA[Year]=$C$5)*(PPA[Period]=$C$6)*(PPA[Region]=J12)*(PPA[CustClass]=J$11)*(PPA[RateName]=$C$10)*PPA[Amount])","v":-22410.309999999998},"From PriorPerAdj Table"]
[null,"Net Reconciling Period Adj.",{"$f":"C13+C14","v":366440.83},{"$f":"D13+D14","v":75142.17},{"$f":"E13+E14","v":441583},{"$f":"F13+F14","v":32957.589999999997},7312.57,40270.160000000003,{"$f":"I13+I14","v":293439.35999999999},{"$f":"J13+J14","v":41012.69}]
[null,"Actual Revenues"]
[null,{"$f":"C7","v":"2022-04-01"},{"$f":"-SUMPRODUCT((WNARRev[Flow Month]=$B17)*(WNARRev[Period]=$C$6)*WNARRev[N6063-GRF-CSWNA])","v":-58244.765767710123},{"$f":"-SUMPRODUCT((WNARRev[Flow Month]=$B17)*(WNARRev[Period]=$C$6)*WNARRev[W61-GRF-CSWNA])","v":-9549.0394671788108},{"$f":"C17+D17","v":-67793.805234888932},{"$f":"-SUMPRODUCT((WNARRev[Flow Month]=$B17)*(WNARRev[Period]=$C$6)*WNARRev[N6063-GCSF-CSWNA])","v":-8210.0959924177878},{"$f":"-SUMPRODUCT((WNARRev[Flow Month]=$B17)*(WNARRev[Period]=$C$6)*WNARRev[W61-GCSF-CSWNA])","v":-1586.3635400306521},{"$f":"F17+G17","v":-9796.4595324484399},{"$f":"-SUMPRODUCT((WNARRev[Flow Month]=$B17)*(WNARRev[Period]=$C$6)*WNARRev[S62-GRF-CSWNA])","v":-50664.747914101608},{"$f":"-SUMPRODUCT((WNARRev[Flow Month]=$B17)*(WNARRev[Period]=$C$6)*WNARRev[S62-GCSF-CSWNA])","v":-4372.8055114738163},"From WNAR Rev Table"]
[null,{"$f":"EDATE(B17,1)","v":"2022-05-01"},{"$f":"-SUMPRODUCT((WNARRev[Flow Month]=$B18)*(WNARRev[Period]=$C$6)*WNARRev[N6063-GRF-CSWNA])","v":-17559.88161250098},{"$f":"-SUMPRODUCT((WNARRev[Flow Month]=$B18)*(WNARRev[Period]=$C$6)*WNARRev[W61-GRF-CSWNA])","v":-3870.5912416883598},{"$f":"C18+D18","v":-21430.472854189338},{"$f":"-SUMPRODUCT((WNARRev[Flow Month]=$B18)*(WNARRev[Period]=$C$6)*WNARRev[N6063-GCSF-CSWNA])","v":-2655.5446959446945},{"$f":"-SUMPRODUCT((WNARRev[Flow Month]=$B18)*(WNARRev[Period]=$C$6)*WNARRev[W61-GCSF-CSWNA])","v":-591.54488217297876},{"$f":"F18+G18","v":-3247.0895781176732},{"$f":"-SUMPRODUCT((WNARRev[Flow Month]=$B18)*(WNARRev[Period]=$C$6)*WNARRev[S62-GRF-CSWNA])","v":-16865.822124062724},{"$f":"-SUMPRODUCT((WNARRev[Flow Month]=$B18)*(WNARRev[Period]=$C$6)*WNARRev[S62-GCSF-CSWNA])","v":-1547.5298289622433},"From WNAR Rev Table"]
[null,{"$f":"EDATE(B18,1)","v":"2022-06-01"},{"$f":"-SUMPRODUCT((WNARRev[Flow Month]=$B19)*(WNARRev[Period]=$C$6)*WNARRev[N6063-GRF-CSWNA])","v":-8938.6425199717887},{"$f":"-SUMPRODUCT((WNARRev[Flow Month]=$B19)*(WNARRev[Period]=$C$6)*WNARRev[W61-GRF-CSWNA])","v":-1806.2920289448609},-10744.93454891665,{"$f":"-SUMPRODUCT((WNARRev[Flow Month]=$B19)*(WNARRev[Period]=$C$6)*WNARRev[N6063-GCSF-CSWNA])","v":-1621.847375022694},{"$f":"-SUMPRODUCT((WNARRev[Flow Month]=$B19)*(WNARRev[Period]=$C$6)*WNARRev[W61-GCSF-CSWNA])","v":-580.5013385730706},-2202.3487135957648,{"$f":"-SUMPRODUCT((WNARRev[Flow Month]=$B19)*(WNARRev[Period]=$C$6)*WNARRev[S62-GRF-CSWNA])","v":-14434.479846872373},{"$f":"-SUMPRODUCT((WNARRev[Flow Month]=$B19)*(WNARRev[Period]=$C$6)*WNARRev[S62-GCSF-CSWNA])","v":-1481.0909455531119},"From WNAR Rev Table"]
[null,"2022-07-01",{"$f":"-SUMPRODUCT((WNARRev[Flow Month]=$B20)*(WNARRev[Period]=$C$6)*WNARRev[N6063-GRF-CSWNA])","v":-6971.5848445138718},{"$f":"-SUMPRODUCT((WNARRev[Flow Month]=$B20)*(WNARRev[Period]=$C$6)*WNARRev[W61-GRF-CSWNA])","v":-1495.0551247416865},-8466.6399692555588,{"$f":"-SUMPRODUCT((WNARRev[Flow Month]=$B20)*(WNARRev[Period]=$C$6)*WNARRev[N6063-GCSF-CSWNA])","v":-1324.1535882755197},{"$f":"-SUMPRODUCT((WNARRev[Flow Month]=$B20)*(WNARRev[Period]=$C$6)*WNARRev[W61-GCSF-CSWNA])","v":-59.138557975160019},-1383.2921462506797,{"$f":"-SUMPRODUCT((WNARRev[Flow Month]=$B20)*(WNARRev[Period]=$C$6)*WNARRev[S62-GRF-CSWNA])","v":-10700.718780372552},{"$f":"-SUMPRODUCT((WNARRev[Flow Month]=$B20)*(WNARRev[Period]=$C$6)*WNARRev[S62-GCSF-CSWNA])","v":-1194.276645932646},"From WNAR Rev Table"]
[null,"2022-08-01",{"$f":"-SUMPRODUCT((WNARRev[Flow Month]=$B21)*(WNARRev[Period]=$C$6)*WNARRev[N6063-GRF-CSWNA])","v":-6986.5755275950942},{"$f":"-SUMPRODUCT((WNARRev[Flow Month]=$B21)*(WNARRev[Period]=$C$6)*WNARRev[W61-GRF-CSWNA])","v":-1474.9372482891874},-8461.5127758842809,{"$f":"-SUMPRODUCT((WNARRev[Flow Month]=$B21)*(WNARRev[Period]=$C$6)*WNARRev[N6063-GCSF-CSWNA])","v":-1374.7488936410355},{"$f":"-SUMPRODUCT((WNARRev[Flow Month]=$B21)*(WNARRev[Period]=$C$6)*WNARRev[W61-GCSF-CSWNA])","v":-285.06078909986871},-1659.8096827409042,{"$f":"-SUMPRODUCT((WNARRev[Flow Month]=$B21)*(WNARRev[Period]=$C$6)*WNARRev[S62-GRF-CSWNA])","v":-11455.829973102129},{"$f":"-SUMPRODUCT((WNARRev[Flow Month]=$B21)*(WNARRev[Period]=$C$6)*WNARRev[S62-GCSF-CSWNA])","v":-1224.5005819365026},"From WNAR Rev Table"]
[null,"2022-09-01",{"$f":"-SUMPRODUCT((WNARRev[Flow Month]=$B22)*(WNARRev[Period]=$C$6)*WNARRev[N6063-GRF-CSWNA])","v":-8715.1530142310767},{"$f":"-SUMPRODUCT((WNARRev[Flow Month]=$B22)*(WNARRev[Period]=$C$6)*WNARRev[W61-GRF-CSWNA])","v":-1462.1447275143014},-10177.297741745379,{"$f":"-SUMPRODUCT((WNARRev[Flow Month]=$B22)*(WNARRev[Period]=$C$6)*WNARRev[N6063-GCSF-CSWNA])","v":-1570.6682809841891},{"$f":"-SUMPRODUCT((WNARRev[Flow Month]=$B22)*(WNARRev[Period]=$C$6)*WNARRev[W61-GCSF-CSWNA])","v":-287.58073778068888},-1858.249018764878,{"$f":"-SUMPRODUCT((WNARRev[Flow Month]=$B22)*(WNARRev[Period]=$C$6)*WNARRev[S62-GRF-CSWNA])","v":-11181.208816503738},{"$f":"-SUMPRODUCT((WNARRev[Flow Month]=$B22)*(WNARRev[Period]=$C$6)*WNARRev[S62-GCSF-CSWNA])","v":-1195.590347542887},"From WNAR Rev Table"]
[null,"2022-10-01",{"$f":"-SUMPRODUCT((WNARRev[Flow Month]=$B23)*(WNARRev[Period]=$C$6)*WNARRev[N6063-GRF-CSWNA])","v":-27468.547973625256},{"$f":"-SUMPRODUCT((WNARRev[Flow Month]=$B23)*(WNARRev[Period]=$C$6)*WNARRev[W61-GRF-CSWNA])","v":-4302.7984327302247},-31771.346406355482,{"$f":"-SUMPRODUCT((WNARRev[Flow Month]=$B23)*(WNARRev[Period]=$C$6)*WNARRev[N6063-GCSF-CSWNA])","v":-3678.8423338609782},{"$f":"-SUMPRODUCT((WNARRev[Flow Month]=$B23)*(WNARRev[Period]=$C$6)*WNARRev[W61-GCSF-CSWNA])","v":-671.09935242465258},-4349.9416862856306,{"$f":"-SUMPRODUCT((WNARRev[Flow Month]=$B23)*(WNARRev[Period]=$C$6)*WNARRev[S62-GRF-CSWNA])","v":-26414.277084657326},{"$f":"-SUMPRODUCT((WNARRev[Flow Month]=$B23)*(WNARRev[Period]=$C$6)*WNARRev[S62-GCSF-CSWNA])","v":-2170.5304187295023},"From WNAR Rev Table"]
[null,"2022-11-01",{"$f":"-SUMPRODUCT((WNARRev[Flow Month]=$B24)*(WNARRev[Period]=$C$6)*WNARRev[N6063-GRF-CSWNA])","v":-66672.444002660748},{"$f":"-SUMPRODUCT((WNARRev[Flow Month]=$B24)*(WNARRev[Period]=$C$6)*WNARRev[W61-GRF-CSWNA])","v":-13261.800845747286},-79934.244848408038,{"$f":"-SUMPRODUCT((WNARRev[Flow Month]=$B24)*(WNARRev[Period]=$C$6)*WNARRev[N6063-GCSF-CSWNA])","v":-9850.9068501859183},{"$f":"-SUMPRODUCT((WNARRev[Flow Month]=$B24)*(WNARRev[Period]=$C$6)*WNARRev[W61-GCSF-CSWNA])","v":-2174.821783683748},-12025.728633869667,{"$f":"-SUMPRODUCT((WNARRev[Flow Month]=$B24)*(WNARRev[Period]=$C$6)*WNARRev[S62-GRF-CSWNA])","v":-69862.947072329072},{"$f":"-SUMPRODUCT((WNARRev[Flow Month]=$B24)*(WNARRev[Period]=$C$6)*WNARRev[S62-GCSF-CSWNA])","v":-6188.0656210096604},"From WNAR Rev Table"]
[null,"2022-12-01",{"$f":"-SUMPRODUCT((WNARRev[Flow Month]=$B25)*(WNARRev[Period]=$C$6)*WNARRev[N6063-GRF-CSWNA])","v":-102641.15448357616},{"$f":"-SUMPRODUCT((WNARRev[Flow Month]=$B25)*(WNARRev[Period]=$C$6)*WNARRev[W61-GRF-CSWNA])","v":-18810.258554117314},-121451.41303769348,{"$f":"-SUMPRODUCT((WNARRev[Flow Month]=$B25)*(WNARRev[Period]=$C$6)*WNARRev[N6063-GCSF-CSWNA])","v":-16134.836333246483},{"$f":"-SUMPRODUCT((WNARRev[Flow Month]=$B25)*(WNARRev[Period]=$C$6)*WNARRev[W61-GCSF-CSWNA])","v":-3362.9839414737571},-19497.820274720241,{"$f":"-SUMPRODUCT((WNARRev[Flow Month]=$B25)*(WNARRev[Period]=$C$6)*WNARRev[S62-GRF-CSWNA])","v":-118286.7145149172},{"$f":"-SUMPRODUCT((WNARRev[Flow Month]=$B25)*(WNARRev[Period]=$C$6)*WNARRev[S62-GCSF-CSWNA])","v":-11642.162255586944},"From WNAR Rev Table"]
[null,"Total Actual Revenues",{"$f":"SUM(C17:C25)","v":-304198.74974638509},{"$f":"SUM(D17:D25)","v":-56032.91767095204},-360231.66741733713,-46421.644343579304,-9599.0949232145758,-56020.739266793869,-329866.7461269187,-31016.552156727314]
[null,"Projected Revenues"]
[null,{"$f":"EDATE(B25,1)","v":"2023-01-01"},{"$f":"-SUMPRODUCT((CustEstRev[MonthFlow]=$B28)*(CustEstRev[Region]=$C$12)*(CustEstRev[CustClass]=C$11)*(CustEstRev[Period]=$C$6)*CustEstRev[CSNWARev])","v":-144189},{"$f":"-SUMPRODUCT((CustEstRev[MonthFlow]=$B28)*(CustEstRev[Region]=D$12)*(CustEstRev[CustClass]=C$11)*(CustEstRev[Period]=$C$6)*CustEstRev[CSNWARev])","v":-27936},-172125,{"$f":"-SUMPRODUCT((CustEstRev[MonthFlow]=$B28)*(CustEstRev[Region]=F$12)*(CustEstRev[CustClass]=F$11)*(CustEstRev[Period]=$C$6)*CustEstRev[CSNWARev])","v":-23545},{"$f":"-SUMPRODUCT((CustEstRev[MonthFlow]=$B28)*(CustEstRev[Region]=G$12)*(CustEstRev[CustClass]=F$11)*(CustEstRev[Period]=$C$6)*CustEstRev[CSNWARev])","v":-4860},-28405,{"$f":"-SUMPRODUCT((CustEstRev[MonthFlow]=$B28)*(CustEstRev[Region]=I$12)*(CustEstRev[CustClass]=I$11)*(CustEstRev[Period]=$C$6)*CustEstRev[CSNWARev])","v":-163035},{"$f":"-SUMPRODUCT((CustEstRev[MonthFlow]=$B28)*(CustEstRev[Region]=J$12)*(CustEstRev[CustClass]=J$11)*(CustEstRev[Period]=$C$6)*CustEstRev[CSNWARev])","v":-16628},"From CustEstRev Table"]
[null,"2023-02-01",{"$f":"-SUMPRODUCT((CustEstRev[MonthFlow]=$B29)*(CustEstRev[Region]=$C$12)*(CustEstRev[CustClass]=C$11)*(CustEstRev[Period]=$C$6)*CustEstRev[CSNWARev])","v":-122359},{"$f":"-SUMPRODUCT((CustEstRev[MonthFlow]=$B29)*(CustEstRev[Region]=D$12)*(CustEstRev[CustClass]=C$11)*(CustEstRev[Period]=$C$6)*CustEstRev[CSNWARev])","v":-23533},{"$f":"C29+D29","v":-145892},{"$f":"-SUMPRODUCT((CustEstRev[MonthFlow]=$B29)*(CustEstRev[Region]=F$12)*(CustEstRev[CustClass]=F$11)*(CustEstRev[Period]=$C$6)*CustEstRev[CSNWARev])","v":-19373},{"$f":"-SUMPRODUCT((CustEstRev[MonthFlow]=$B29)*(CustEstRev[Region]=G$12)*(CustEstRev[CustClass]=F$11)*(CustEstRev[Period]=$C$6)*CustEstRev[CSNWARev])","v":-4216},{"$f":"F29+G29","v":-23589},{"$f":"-SUMPRODUCT((CustEstRev[MonthFlow]=$B29)*(CustEstRev[Region]=I$12)*(CustEstRev[CustClass]=I$11)*(CustEstRev[Period]=$C$6)*CustEstRev[CSNWARev])","v":-136837},{"$f":"-SUMPRODUCT((CustEstRev[MonthFlow]=$B29)*(CustEstRev[Region]=J$12)*(CustEstRev[CustClass]=J$11)*(CustEstRev[Period]=$C$6)*CustEstRev[CSNWARev])","v":-13454},"From CustEstRev Table"]
[null,"2023-03-01",{"$f":"-SUMPRODUCT((CustEstRev[MonthFlow]=$B30)*(CustEstRev[Region]=$C$12)*(CustEstRev[CustClass]=C$11)*(CustEstRev[Period]=$C$6)*CustEstRev[CSNWARev])","v":-92112},{"$f":"-SUMPRODUCT((CustEstRev[MonthFlow]=$B30)*(CustEstRev[Region]=D$12)*(CustEstRev[CustClass]=C$11)*(CustEstRev[Period]=$C$6)*CustEstRev[CSNWARev])","v":-18638},-110750,{"$f":"-SUMPRODUCT((CustEstRev[MonthFlow]=$B30)*(CustEstRev[Region]=F$12)*(CustEstRev[CustClass]=F$11)*(CustEstRev[Period]=$C$6)*CustEstRev[CSNWARev])","v":-14235},{"$f":"-SUMPRODUCT((CustEstRev[MonthFlow]=$B30)*(CustEstRev[Region]=G$12)*(CustEstRev[CustClass]=F$11)*(CustEstRev[Period]=$C$6)*CustEstRev[CSNWARev])","v":-3192},-17427,{"$f":"-SUMPRODUCT((CustEstRev[MonthFlow]=$B30)*(CustEstRev[Region]=I$12)*(CustEstRev[CustClass]=I$11)*(CustEstRev[Period]=$C$6)*CustEstRev[CSNWARev])","v":-107590},{"$f":"-SUMPRODUCT((CustEstRev[MonthFlow]=$B30)*(CustEstRev[Region]=J$12)*(CustEstRev[CustClass]=J$11)*(CustEstRev[Period]=$C$6)*CustEstRev[CSNWARev])","v":-10030},"From CustEstRev Table"]
[null,"Total Projected Revenues",{"$f":"SUM(C28:C30)","v":-358660},{"$f":"SUM(D28:D30)","v":-70107},-428767,-57153,-12268,-69421,-407462,-40112]
[null,"Total Billings",{"$f":"C26+C31","v":-662858.74974638503},-126139.91767095204,-788998.66741733719,-103574.6443435793,-21867.094923214576,-125441.73926679387,-737328.7461269187,-71128.55215672731]
[null,"CSWNA Net (Over)/Under Recov 1/",{"$f":"ROUND(C15+C32,2)","v":-296417.91999999998},-50997.75,-347415.67,-70617.05,-14554.52,-85171.58,-443889.39,-30115.86]
[]
[null,"Reconciliation Summary","SRR"]
[null,"Customer Class","Res",null,null,"SGS",null,null,"Res","SGS","Notes"]
[null,"Region","NEMO","WEMO","Combined","NEMO","WEMO","Combined","SEMO","SEMO"]
[null,"Reconciling Period Adj.",{"$f":"SUMPRODUCT((ReconPerAdj[EffDate]=$C$7)*(ReconPerAdj[Region]=C$37)*(ReconPerAdj[CustClass]=C$36)*(ReconPerAdj[RateName]=$C$35)*ReconPerAdj[ReconcilingPeriodAdj])","v":17504.099999999999},{"$f":"SUMPRODUCT((ReconPerAdj[EffDate]=$C$7)*(ReconPerAdj[Region]=D$37)*(ReconPerAdj[CustClass]=C$36)*(ReconPerAdj[RateName]=$C$35)*ReconPerAdj[ReconcilingPeriodAdj])","v":9215.69},{"$f":"C38+D38","v":26719.79},{"$f":"SUMPRODUCT((ReconPerAdj[EffDate]=$C$7)*(ReconPerAdj[Region]=F$37)*(ReconPerAdj[CustClass]=F$36)*(ReconPerAdj[RateName]=$C$35)*ReconPerAdj[ReconcilingPeriodAdj])","v":337.89},{"$f":"SUMPRODUCT((ReconPerAdj[EffDate]=$C$7)*(ReconPerAdj[Region]=G$37)*(ReconPerAdj[CustClass]=F$36)*(ReconPerAdj[RateName]=$C$35)*ReconPerAdj[ReconcilingPeriodAdj])","v":88.48},{"$f":"F38+G38","v":426.37},{"$f":"SUMPRODUCT((ReconPerAdj[EffDate]=$C$7)*(ReconPerAdj[Region]=I$37)*(ReconPerAdj[CustClass]=I$36)*(ReconPerAdj[RateName]=$C$35)*ReconPerAdj[ReconcilingPeriodAdj])","v":824.68},{"$f":"SUMPRODUCT((ReconPerAdj[EffDate]=$C$7)*(ReconPerAdj[Region]=J$37)*(ReconPerAdj[CustClass]=J$36)*(ReconPerAdj[RateName]=$C$35)*ReconPerAdj[ReconcilingPeriodAdj])","v":1591.17},"From ReconPerAdj Table"]
[null,"Volumetric True-Up",{"$f":"SUMPRODUCT((VolTrueUp[Year]=$C$5)*(VolTrueUp[Period]=$C$6)*(VolTrueUp[Region]=C37)*(VolTrueUp[CustClass]=C36)*VolTrueUp[TrueUp])","v":3577.98},{"$f":"SUMPRODUCT((VolTrueUp[Year]=$C$5)*(VolTrueUp[Period]=$C$6)*(VolTrueUp[Region]=D37)*(VolTrueUp[CustClass]=C36)*VolTrueUp[TrueUp])","v":358.07},{"$f":"C39+D39","v":3936.05},{"$f":"SUMPRODUCT((VolTrueUp[Year]=$C$5)*(VolTrueUp[Period]=$C$6)*(VolTrueUp[Region]=F37)*(VolTrueUp[CustClass]=F36)*VolTrueUp[TrueUp])","v":200.08999999999997},{"$f":"SUMPRODUCT((VolTrueUp[Year]=$C$5)*(VolTrueUp[Period]=$C$6)*(VolTrueUp[Region]=G37)*(VolTrueUp[CustClass]=F36)*VolTrueUp[TrueUp])","v":93.27000000000001},{"$f":"F39+G39","v":293.36},{"$f":"SUMPRODUCT((VolTrueUp[Year]=$C$5)*(VolTrueUp[Period]=$C$6)*(VolTrueUp[Region]=I37)*(VolTrueUp[CustClass]=I36)*VolTrueUp[TrueUp])","v":-216.25999999999931},{"$f":"SUMPRODUCT((VolTrueUp[Year]=$C$5)*(VolTrueUp[Period]=$C$6)*(VolTrueUp[Region]=J37)*(VolTrueUp[CustClass]=J36)*VolTrueUp[TrueUp])","v":-312.86000000000007},"From VolTrueUp Table"]
[null,"Adj. Amount to be Recovered",{"$f":"C38+C39","v":21082.079999999998},{"$f":"D38+D39","v":9573.76},30655.84,537.98,181.75,719.73,608.42000000000064,1278.31]
[null,"Actual Revenues"]
[null,{"$f":"C7","v":"2022-04-01"},{"$f":"-ROUND(SUMPRODUCT((WNARRev[Flow Month]=$B42)*(WNARRev[Period]=$C$6)*WNARRev[N6063-GRF-SRR]),2)","v":-2372.4},{"$f":"-ROUND(SUMPRODUCT((WNARRev[Flow Month]=$B42)*(WNARRev[Period]=$C$6)*WNARRev[W61-GRF-SRR]),2)","v":-359.09},{"$f":"C42+D42","v":-2731.4900000000002},{"$f":"-ROUND(SUMPRODUCT((WNARRev[Flow Month]=$B42)*(WNARRev[Period]=$C$6)*WNARRev[N6063-GCSF-SRR]),2)","v":69.95},{"$f":"-ROUND(SUMPRODUCT((WNARRev[Flow Month]=$B42)*(WNARRev[Period]=$C$6)*WNARRev[W61-GCSF-SRR]),2)","v":14.06},{"$f":"F42+G42","v":84.01},{"$f":"-ROUND(SUMPRODUCT((WNARRev[Flow Month]=$B42)*(WNARRev[Period]=$C$6)*WNARRev[S62-GRF-SRR]),2)","v":-992.57},{"$f":"-ROUND(SUMPRODUCT((WNARRev[Flow Month]=$B42)*(WNARRev[Period]=$C$6)*WNARRev[S62-GCSF-SRR]),2)","v":972.99},"From WNAR Rev Table"]
[null,{"$f":"EDATE(B42,1)","v":"2022-05-01"},{"$f":"-ROUND(SUMPRODUCT((WNARRev[Flow Month]=$B43)*(WNARRev[Period]=$C$6)*WNARRev[N6063-GRF-SRR]),2)","v":-851.95},{"$f":"-ROUND(SUMPRODUCT((WNARRev[Flow Month]=$B43)*(WNARRev[Period]=$C$6)*WNARRev[W61-GRF-SRR]),2)","v":-187.79},{"$f":"C43+D43","v":-1039.74},{"$f":"-ROUND(SUMPRODUCT((WNARRev[Flow Month]=$B43)*(WNARRev[Period]=$C$6)*WNARRev[N6063-GCSF-SRR]),2)","v":21.01},{"$f":"-ROUND(SUMPRODUCT((WNARRev[Flow Month]=$B43)*(WNARRev[Period]=$C$6)*WNARRev[W61-GCSF-SRR]),2)","v":4.68},{"$f":"F43+G43","v":25.69},{"$f":"-ROUND(SUMPRODUCT((WNARRev[Flow Month]=$B43)*(WNARRev[Period]=$C$6)*WNARRev[S62-GRF-SRR]),2)","v":-352.04},{"$f":"-ROUND(SUMPRODUCT((WNARRev[Flow Month]=$B43)*(WNARRev[Period]=$C$6)*WNARRev[S62-GCSF-SRR]),2)","v":354.7},"From WNAR Rev Table"]
[null,{"$f":"EDATE(B43,1)","v":"2022-06-01"},{"$f":"-ROUND(SUMPRODUCT((WNARRev[Flow Month]=$B44)*(WNARRev[Period]=$C$6)*WNARRev[N6063-GRF-SRR]),2)","v":-433.67},{"$f":"-ROUND(SUMPRODUCT((WNARRev[Flow Month]=$B44)*(WNARRev[Period]=$C$6)*WNARRev[W61-GRF-SRR]),2)","v":-87.64},-521.31000000000006,{"$f":"-ROUND(SUMPRODUCT((WNARRev[Flow Month]=$B44)*(WNARRev[Period]=$C$6)*WNARRev[N6063-GCSF-SRR]),2)","v":12.83},{"$f":"-ROUND(SUMPRODUCT((WNARRev[Flow Month]=$B44)*(WNARRev[Period]=$C$6)*WNARRev[W61-GCSF-SRR]),2)","v":4.59},17.420000000000002,{"$f":"-ROUND(SUMPRODUCT((WNARRev[Flow Month]=$B44)*(WNARRev[Period]=$C$6)*WNARRev[S62-GRF-SRR]),2)","v":-301.29000000000002},{"$f":"-ROUND(SUMPRODUCT((WNARRev[Flow Month]=$B44)*(WNARRev[Period]=$C$6)*WNARRev[S62-GCSF-SRR]),2)","v":339.47},"From WNAR Rev Table"]
[null,"2022-07-01",{"$f":"-ROUND(SUMPRODUCT((WNARRev[Flow Month]=$B45)*(WNARRev[Period]=$C$6)*WNARRev[N6063-GRF-SRR]),2)","v":-338.24},{"$f":"-ROUND(SUMPRODUCT((WNARRev[Flow Month]=$B45)*(WNARRev[Period]=$C$6)*WNARRev[W61-GRF-SRR]),2)","v":-72.53},-410.77,{"$f":"-ROUND(SUMPRODUCT((WNARRev[Flow Month]=$B45)*(WNARRev[Period]=$C$6)*WNARRev[N6063-GCSF-SRR]),2)","v":10.48},{"$f":"-ROUND(SUMPRODUCT((WNARRev[Flow Month]=$B45)*(WNARRev[Period]=$C$6)*WNARRev[W61-GCSF-SRR]),2)","v":0.47},10.950000000000001,{"$f":"-ROUND(SUMPRODUCT((WNARRev[Flow Month]=$B45)*(WNARRev[Period]=$C$6)*WNARRev[S62-GRF-SRR]),2)","v":-223.35},{"$f":"-ROUND(SUMPRODUCT((WNARRev[Flow Month]=$B45)*(WNARRev[Period]=$C$6)*WNARRev[S62-GCSF-SRR]),2)","v":273.73},"From WNAR Rev Table"]
[null,"2022-08-01",{"$f":"-ROUND(SUMPRODUCT((WNARRev[Flow Month]=$B46)*(WNARRev[Period]=$C$6)*WNARRev[N6063-GRF-SRR]),2)","v":-338.96},{"$f":"-ROUND(SUMPRODUCT((WNARRev[Flow Month]=$B46)*(WNARRev[Period]=$C$6)*WNARRev[W61-GRF-SRR]),2)","v":-71.56},-410.52,{"$f":"-ROUND(SUMPRODUCT((WNARRev[Flow Month]=$B46)*(WNARRev[Period]=$C$6)*WNARRev[N6063-GCSF-SRR]),2)","v":10.88},{"$f":"-ROUND(SUMPRODUCT((WNARRev[Flow Month]=$B46)*(WNARRev[Period]=$C$6)*WNARRev[W61-GCSF-SRR]),2)","v":2.2599999999999998},13.14,{"$f":"-ROUND(SUMPRODUCT((WNARRev[Flow Month]=$B46)*(WNARRev[Period]=$C$6)*WNARRev[S62-GRF-SRR]),2)","v":-239.12},{"$f":"-ROUND(SUMPRODUCT((WNARRev[Flow Month]=$B46)*(WNARRev[Period]=$C$6)*WNARRev[S62-GCSF-SRR]),2)","v":280.66000000000003},"From WNAR Rev Table"]
[null,"2022-09-01",{"$f":"-ROUND(SUMPRODUCT((WNARRev[Flow Month]=$B47)*(WNARRev[Period]=$C$6)*WNARRev[N6063-GRF-SRR]),2)","v":-422.83},{"$f":"-ROUND(SUMPRODUCT((WNARRev[Flow Month]=$B47)*(WNARRev[Period]=$C$6)*WNARRev[W61-GRF-SRR]),2)","v":-70.94},-493.77,{"$f":"-ROUND(SUMPRODUCT((WNARRev[Flow Month]=$B47)*(WNARRev[Period]=$C$6)*WNARRev[N6063-GCSF-SRR]),2)","v":12.43},{"$f":"-ROUND(SUMPRODUCT((WNARRev[Flow Month]=$B47)*(WNARRev[Period]=$C$6)*WNARRev[W61-GCSF-SRR]),2)","v":2.2799999999999998},14.709999999999999,{"$f":"-ROUND(SUMPRODUCT((WNARRev[Flow Month]=$B47)*(WNARRev[Period]=$C$6)*WNARRev[S62-GRF-SRR]),2)","v":-233.38},{"$f":"-ROUND(SUMPRODUCT((WNARRev[Flow Month]=$B47)*(WNARRev[Period]=$C$6)*WNARRev[S62-GCSF-SRR]),2)","v":274.04000000000002},"From WNAR Rev Table"]
[null,"2022-10-01",{"$f":"-ROUND(SUMPRODUCT((WNARRev[Flow Month]=$B48)*(WNARRev[Period]=$C$6)*WNARRev[N6063-GRF-SRR]),2)","v":-1332.68},{"$f":"-ROUND(SUMPRODUCT((WNARRev[Flow Month]=$B48)*(WNARRev[Period]=$C$6)*WNARRev[W61-GRF-SRR]),2)","v":-208.76},-1541.44,{"$f":"-ROUND(SUMPRODUCT((WNARRev[Flow Month]=$B48)*(WNARRev[Period]=$C$6)*WNARRev[N6063-GCSF-SRR]),2)","v":29.1},{"$f":"-ROUND(SUMPRODUCT((WNARRev[Flow Month]=$B48)*(WNARRev[Period]=$C$6)*WNARRev[W61-GCSF-SRR]),2)","v":5.31},34.410000000000004,{"$f":"-ROUND(SUMPRODUCT((WNARRev[Flow Month]=$B48)*(WNARRev[Period]=$C$6)*WNARRev[S62-GRF-SRR]),2)","v":-551.34},{"$f":"-ROUND(SUMPRODUCT((WNARRev[Flow Month]=$B48)*(WNARRev[Period]=$C$6)*WNARRev[S62-GCSF-SRR]),2)","v":497.5},"From WNAR Rev Table"]
[null,"2022-11-01",{"$f":"-ROUND(SUMPRODUCT((WNARRev[Flow Month]=$B49)*(WNARRev[Period]=$C$6)*WNARRev[N6063-GRF-SRR]),2)","v":-3234.72},{"$f":"-ROUND(SUMPRODUCT((WNARRev[Flow Month]=$B49)*(WNARRev[Period]=$C$6)*WNARRev[W61-GRF-SRR]),2)","v":-643.41999999999996},-3878.14,{"$f":"-ROUND(SUMPRODUCT((WNARRev[Flow Month]=$B49)*(WNARRev[Period]=$C$6)*WNARRev[N6063-GCSF-SRR]),2)","v":77.930000000000007},{"$f":"-ROUND(SUMPRODUCT((WNARRev[Flow Month]=$B49)*(WNARRev[Period]=$C$6)*WNARRev[W61-GCSF-SRR]),2)","v":17.2},95.13000000000001,{"$f":"-ROUND(SUMPRODUCT((WNARRev[Flow Month]=$B49)*(WNARRev[Period]=$C$6)*WNARRev[S62-GRF-SRR]),2)","v":-1458.24},{"$f":"-ROUND(SUMPRODUCT((WNARRev[Flow Month]=$B49)*(WNARRev[Period]=$C$6)*WNARRev[S62-GCSF-SRR]),2)","v":1418.34},"From WNAR Rev Table"]
[null,"2022-12-01",{"$f":"-ROUND(SUMPRODUCT((WNARRev[Flow Month]=$B50)*(WNARRev[Period]=$C$6)*WNARRev[N6063-GRF-SRR]),2)","v":-4979.8},{"$f":"-ROUND(SUMPRODUCT((WNARRev[Flow Month]=$B50)*(WNARRev[Period]=$C$6)*WNARRev[W61-GRF-SRR]),2)","v":-912.61},-5892.41,{"$f":"-ROUND(SUMPRODUCT((WNARRev[Flow Month]=$B50)*(WNARRev[Period]=$C$6)*WNARRev[N6063-GCSF-SRR]),2)","v":127.64},{"$f":"-ROUND(SUMPRODUCT((WNARRev[Flow Month]=$B50)*(WNARRev[Period]=$C$6)*WNARRev[W61-GCSF-SRR]),2)","v":26.6},154.24,{"$f":"-ROUND(SUMPRODUCT((WNARRev[Flow Month]=$B50)*(WNARRev[Period]=$C$6)*WNARRev[S62-GRF-SRR]),2)","v":-2468.98},{"$f":"-ROUND(SUMPRODUCT((WNARRev[Flow Month]=$B50)*(WNARRev[Period]=$C$6)*WNARRev[S62-GCSF-SRR]),2)","v":2668.44},"From WNAR Rev Table"]
[null,"Total Actual Revenues",{"$f":"SUM(C42:C50)","v":-14305.25},{"$f":"SUM(D42:D50)","v":-2614.34},-16919.590000000004,372.25,77.450000000000017,449.7,-6820.3099999999995,7079.8700000000008]
[null,"Projected Revenues"]
[null,{"$f":"EDATE(B50,1)","v":"2023-01-01"},{"$f":"-ROUND(SUMPRODUCT((CustEstRev[MonthFlow]=$B53)*(CustEstRev[Region]=C$37)*(CustEstRev[CustClass]=C$36)*(CustEstRev[Period]=$C$6)*CustEstRev[SRRRev]),2)","v":-6996},{"$f":"-ROUND(SUMPRODUCT((CustEstRev[MonthFlow]=$B53)*(CustEstRev[Region]=D$37)*(CustEstRev[CustClass]=C$36)*(CustEstRev[Period]=$C$6)*CustEstRev[SRRRev]),2)","v":-1355},{"$f":"C53+D53","v":-8351},{"$f":"-ROUND(SUMPRODUCT((CustEstRev[MonthFlow]=$B53)*(CustEstRev[Region]=$F$37)*(CustEstRev[CustClass]=F$36)*(CustEstRev[Period]=$C$6)*CustEstRev[SRRRev]),2)","v":186},{"$f":"-ROUND(SUMPRODUCT((CustEstRev[MonthFlow]=$B53)*(CustEstRev[Region]=$G$37)*(CustEstRev[CustClass]=F$36)*(CustEstRev[Period]=$C$6)*CustEstRev[SRRRev]),2)","v":38},{"$f":"F53+G53","v":224},{"$f":"-ROUND(SUMPRODUCT((CustEstRev[MonthFlow]=$B53)*(CustEstRev[Region]=I$37)*(CustEstRev[CustClass]=I$36)*(CustEstRev[Period]=$C$6)*CustEstRev[SRRRev]),2)","v":-3403},{"$f":"-ROUND(SUMPRODUCT((CustEstRev[MonthFlow]=$B53)*(CustEstRev[Region]=J$37)*(CustEstRev[CustClass]=J$36)*(CustEstRev[Period]=$C$6)*CustEstRev[SRRRev]),2)","v":3811},"From CustEstRev Table"]
[null,{"$f":"EDATE(B53,1)","v":"2023-02-01"},{"$f":"-ROUND(SUMPRODUCT((CustEstRev[MonthFlow]=$B54)*(CustEstRev[Region]=C$37)*(CustEstRev[CustClass]=C$36)*(CustEstRev[Period]=$C$6)*CustEstRev[SRRRev]),2)","v":-5936},{"$f":"-ROUND(SUMPRODUCT((CustEstRev[MonthFlow]=$B54)*(CustEstRev[Region]=D$37)*(CustEstRev[CustClass]=C$36)*(CustEstRev[Period]=$C$6)*CustEstRev[SRRRev]),2)","v":-1142},{"$f":"C54+D54","v":-7078},{"$f":"-ROUND(SUMPRODUCT((CustEstRev[MonthFlow]=$B54)*(CustEstRev[Region]=$F$37)*(CustEstRev[CustClass]=F$36)*(CustEstRev[Period]=$C$6)*CustEstRev[SRRRev]),2)","v":153},{"$f":"-ROUND(SUMPRODUCT((CustEstRev[MonthFlow]=$B54)*(CustEstRev[Region]=$G$37)*(CustEstRev[CustClass]=F$36)*(CustEstRev[Period]=$C$6)*CustEstRev[SRRRev]),2)","v":33},{"$f":"F54+G54","v":186},{"$f":"-ROUND(SUMPRODUCT((CustEstRev[MonthFlow]=$B54)*(CustEstRev[Region]=I$37)*(CustEstRev[CustClass]=I$36)*(CustEstRev[Period]=$C$6)*CustEstRev[SRRRev]),2)","v":-2856},{"$f":"-ROUND(SUMPRODUCT((CustEstRev[MonthFlow]=$B54)*(CustEstRev[Region]=J$37)*(CustEstRev[CustClass]=J$36)*(CustEstRev[Period]=$C$6)*CustEstRev[SRRRev]),2)","v":3084},"From CustEstRev Table"]
[null,"2023-03-01",{"$f":"-ROUND(SUMPRODUCT((CustEstRev[MonthFlow]=$B55)*(CustEstRev[Region]=C$37)*(CustEstRev[CustClass]=C$36)*(CustEstRev[Period]=$C$6)*CustEstRev[SRRRev]),2)","v":-4469},{"$f":"-ROUND(SUMPRODUCT((CustEstRev[MonthFlow]=$B55)*(CustEstRev[Region]=D$37)*(CustEstRev[CustClass]=C$36)*(CustEstRev[Period]=$C$6)*CustEstRev[SRRRev]),2)","v":-904},-5373,{"$f":"-ROUND(SUMPRODUCT((CustEstRev[MonthFlow]=$B55)*(CustEstRev[Region]=$F$37)*(CustEstRev[CustClass]=F$36)*(CustEstRev[Period]=$C$6)*CustEstRev[SRRRev]),2)","v":113},{"$f":"-ROUND(SUMPRODUCT((CustEstRev[MonthFlow]=$B55)*(CustEstRev[Region]=$G$37)*(CustEstRev[CustClass]=F$36)*(CustEstRev[Period]=$C$6)*CustEstRev[SRRRev]),2)","v":25},138,{"$f":"-ROUND(SUMPRODUCT((CustEstRev[MonthFlow]=$B55)*(CustEstRev[Region]=I$37)*(CustEstRev[CustClass]=I$36)*(CustEstRev[Period]=$C$6)*CustEstRev[SRRRev]),2)","v":-2246},{"$f":"-ROUND(SUMPRODUCT((CustEstRev[MonthFlow]=$B55)*(CustEstRev[Region]=J$37)*(CustEstRev[CustClass]=J$36)*(CustEstRev[Period]=$C$6)*CustEstRev[SRRRev]),2)","v":2299},"From CustEstRev Table"]
[null,"Total Projected Revenues",{"$f":"SUM(C53:C55)","v":-17401},{"$f":"SUM(D53:D55)","v":-3401},{"$f":"SUM(E53:E55)","v":-20802},{"$f":"SUM(F53:F55)","v":452},{"$f":"SUM(G53:G55)","v":96},{"$f":"SUM(H53:H55)","v":548},{"$f":"SUM(I53:I55)","v":-8505},{"$f":"SUM(J53:J55)","v":9194}]
[null,"Total Billings",{"$f":"C51+C56","v":-31706.25},-6015.34,-37721.590000000004,824.25,173.45000000000002,997.7,-15325.31,16273.87]
[null,"Total WNA Recovery",{"$f":"ROUND(C32+C57,2)","v":-694565},-132155.26,-826720.26,-102750.39,-21693.64,-124444.04,-752654.06,-54854.68]
[null,"SRR Net (Over)/Under Recov 1/",{"$f":"ROUND(C57+C40,2)","v":-10624.17},{"$f":"ROUND(D57+D40,2)","v":3558.42},-7065.75,1362.23,355.2,1717.43,-14716.89,17552.18]
[null,"CSWNA Net (Over)/Under Recov 1/",{"$f":"C33","v":-296417.91999999998},{"$f":"D33","v":-50997.75},{"$f":"E33","v":-347415.67},-70617.05,-14554.52,-85171.58,-443889.39,{"$f":"J33","v":-30115.86}]
[null,"Total Net O/U for SRR ReconPerAdj",{"$f":"C59+C60","v":-307042.08999999997},{"$f":"D59+D60","v":-47439.33},-354481.42,-69254.820000000007,-14199.32,-83454.150000000009,-458606.28,-12563.68]
[null,"Enter These Amounts in the ReconPerAdj Table"]
[]
[null,"Region","NEMO + WEMO",null,"SEMO"]
[null,"Customer Class","Res","SGS","Res","SGS"]
[null,"WNA to be Recovered"]
[null,"CSWNA",{"$f":"E15","v":441583},{"$f":"H15","v":40270.160000000003},{"$f":"I15","v":293439.35999999999},{"$f":"J15","v":41012.69}]
[null,"SRR",{"$f":"E40","v":30655.84},{"$f":"H40","v":719.73},{"$f":"I40","v":608.42000000000064},{"$f":"J40","v":1278.31}]
[null,"Total",{"$f":"SUM(C67:C68)","v":472238.84},{"$f":"SUM(D67:D68)","v":40989.890000000007},294047.77999999997,42291]
[null,"WNA Actually Recovered"]
[null,"CSWNA",{"$f":"E32","v":-788998.66741733719},{"$f":"H32","v":-125441.73926679387},{"$f":"I32","v":-737328.7461269187},{"$f":"J32","v":-71128.55215672731}]
[null,"SRR",{"$f":"E57","v":-37721.590000000004},{"$f":"H57","v":997.7},{"$f":"I57","v":-15325.31},{"$f":"J57","v":16273.87}]
[null,"Total",{"$f":"SUM(C71:C72)","v":-826720.25741733715},{"$f":"SUM(D71:D72)","v":-124444.03926679387},{"$f":"SUM(E71:E72)","v":-752654.05612691876},{"$f":"SUM(F71:F72)","v":-54854.682156727307}]
[null,"WNA Net Difference"]
[null,"CSWNA",{"$f":"C67+C71","v":-347415.66741733719},{"$f":"D67+D71","v":-85171.579266793866},-443889.38612691872,-30115.862156727308]
[null,"SRR",{"$f":"C68+C72","v":-7065.7500000000036},{"$f":"D68+D72","v":1717.43},-14716.89,17552.18]
[null,"Total",{"$f":"SUM(C75:C76)","v":-354481.41741733719},{"$f":"SUM(D75:D76)","v":-83454.149266793873},-458606.27612691873,-12563.682156727307]
[]
[null,"WNA Deferred Balance 1/",0,0,0,0]
[null,"SRR Adjustment 1/",{"$f":"C77+C79","v":-354481.41741733719},{"$f":"D77+D79","v":-83454.149266793873},-458606.27612691873,-12563.682156727307]
[]
[null,"Billing Determinants",{"$f":"SUMPRODUCT((BillDeter[Region]=C12)*(BillDeter[CustClass]=C11)*BillDeter[BillingDeterminants])+SUMPRODUCT((BillDeter[Region]=D12)*(BillDeter[CustClass]=C11)*BillDeter[BillingDeterminants])","v":13229661.447134933},{"$f":"SUMPRODUCT((BillDeter[Region]=F12)*(BillDeter[CustClass]=F11)*BillDeter[BillingDeterminants])+SUMPRODUCT((BillDeter[Region]=G12)*(BillDeter[CustClass]=F11)*BillDeter[BillingDeterminants])","v":3950233.3244072683},{"$f":"SUMPRODUCT((BillDeter[Region]=I12)*(BillDeter[CustClass]=I11)*BillDeter[BillingDeterminants])","v":15300894.639401933},{"$f":"SUMPRODUCT((BillDeter[Region]=J12)*(BillDeter[CustClass]=J11)*BillDeter[BillingDeterminants])","v":3908443.5557121718}]
[]
[null,"Rate",{"$f":"ROUND(C80/C82,5)","v":-2.6790000000000001E-2},{"$f":"ROUND(D80/D82,5)","v":-2.1129999999999999E-2},{"$f":"ROUND(E80/E82,5)","v":-2.997E-2},{"$f":"ROUND(F80/F82,5)","v":-3.2100000000000002E-3}]
[null,"Enter these rates in the SRR column of the WNAR Rates table."]
[]
[null,"1/ Negative amount = Due Customer, Positive amount = Due Company"]

{"sheet":"SRR SEMO","index":6,"n_rows":40,"n_cols":17,"rows_kept":40,"cut":false,"hidden":false,"merged":[[1,5,1,6],[9,2,9,4],[9,5,9,13],[9,14,9,16],[24,2,24,4],[24,5,24,13],[24,14,24,16]]}
[]
[null,"Liberty Midstates",null,null,null,"Filing Period"]
[null,"Semi-Annual Reconciliation Rate",null,null,null,"Year","Period"]
[null,"Region","SEMO"]
[null,"Year",{"$f":"DateSet!C2","v":2023}]
[null,"Period",{"$f":"DateSet!C3","v":"S1"}]
[null,"Analysis Start",{"$f":"DateSet!J9","v":"2022-01-01"}]
[]
[null,"Rate Sched","62-GRF","Res"]
[null,"Residential","True-Up Period",null,null,"Actual Period*",null,null,null,null,null,null,null,null,"Projected Period"]
[null,"Month (Flow)",{"$f":"C7","v":44562},{"$f":"EDATE(C11,1)","v":44593},{"$f":"EDATE(D11,1)","v":44621},44652,44682,44713,44743,44774,44805,44835,44866,44896,44927,44958,44986]
[null,"Est. Volume",{"$f":"SUMPRODUCT((CustEstVol[MonthFlow]=C$11)*(CustEstVol[RateSched]=$C$9)*CustEstVol[NormVol])","v":3437383},{"$f":"SUMPRODUCT((CustEstVol[MonthFlow]=D$11)*(CustEstVol[RateSched]=$C$9)*CustEstVol[NormVol])","v":2885041},{"$f":"SUMPRODUCT((CustEstVol[MonthFlow]=E$11)*(CustEstVol[RateSched]=$C$9)*CustEstVol[NormVol])","v":2268398},null,null,null,null,null,null,null,null,null,{"$f":"SUMPRODUCT((CustEstVol[MonthFlow]=O$11)*(CustEstVol[RateSched]=$C$9)*CustEstVol[NormVol])","v":3437383},{"$f":"SUMPRODUCT((CustEstVol[MonthFlow]=P$11)*(CustEstVol[RateSched]=$C$9)*CustEstVol[NormVol])","v":2885041},{"$f":"SUMPRODUCT((CustEstVol[MonthFlow]=Q$11)*(CustEstVol[RateSched]=$C$9)*CustEstVol[NormVol])","v":2268398}]
[null,"Actual Volume",{"$f":"SUMPRODUCT((CustActVol[MonthFlow]=C$11)*(CustActVol[RateSched]=$C$9)*CustActVol[Volume])","v":3118918.5594300004},{"$f":"SUMPRODUCT((CustActVol[MonthFlow]=D$11)*(CustActVol[RateSched]=$C$9)*CustActVol[Volume])","v":3480269.529300001},{"$f":"SUMPRODUCT((CustActVol[MonthFlow]=E$11)*(CustActVol[RateSched]=$C$9)*CustActVol[Volume])","v":1974456.6854599982},{"$f":"SUMPRODUCT((CustActVol[MonthFlow]=F$11)*(CustActVol[RateSched]=$C$9)*CustActVol[Volume])","v":1207539.7499799957},{"$f":"SUMPRODUCT((CustActVol[MonthFlow]=G$11)*(CustActVol[RateSched]=$C$9)*CustActVol[Volume])","v":355997.67526000243},{"$f":"SUMPRODUCT((CustActVol[MonthFlow]=H$11)*(CustActVol[RateSched]=$C$9)*CustActVol[Volume])","v":304457.82615999802},{"$f":"SUMPRODUCT((CustActVol[MonthFlow]=I$11)*(CustActVol[RateSched]=$C$9)*CustActVol[Volume])","v":225819.45167999985},{"$f":"SUMPRODUCT((CustActVol[MonthFlow]=J$11)*(CustActVol[RateSched]=$C$9)*CustActVol[Volume])","v":241978.13345999998},{"$f":"SUMPRODUCT((CustActVol[MonthFlow]=K$11)*(CustActVol[RateSched]=$C$9)*CustActVol[Volume])","v":235924.60818999994},{"$f":"SUMPRODUCT((CustActVol[MonthFlow]=L$11)*(CustActVol[RateSched]=$C$9)*CustActVol[Volume])","v":557010.02925000375},{"$f":"SUMPRODUCT((CustActVol[MonthFlow]=M$11)*(CustActVol[RateSched]=$C$9)*CustActVol[Volume])","v":1472962.06944},{"$f":"SUMPRODUCT((CustActVol[MonthFlow]=N$11)*(CustActVol[RateSched]=$C$9)*CustActVol[Volume])","v":2493948.9664800167}]
[null,"Vol True-Up",{"$f":"C13-C12","v":-318464.44056999963},{"$f":"D13-D12","v":595228.52930000098},-293941.3145400018]
[null,{"$f":"\"WNAR \"&$C$6&\" Rates in Effect\"","v":"WNAR S1 Rates in Effect"}]
[null,"CSWNA",{"$f":"SUMPRODUCT((WNARRates[BeginDate]<=C$11)*(WNARRates[EndDate]>=C$11)*(WNARRates[Region]=$C$4)*(WNARRates[CustClass]=$D$9)*(WNARRates[Period]=$C$6)*WNARRates[CSWNA])","v":1.265E-2},{"$f":"SUMPRODUCT((WNARRates[BeginDate]<=D$11)*(WNARRates[EndDate]>=D$11)*(WNARRates[Region]=$C$4)*(WNARRates[CustClass]=$D$9)*(WNARRates[Period]=$C$6)*WNARRates[CSWNA])","v":1.265E-2},{"$f":"SUMPRODUCT((WNARRates[BeginDate]<=E$11)*(WNARRates[EndDate]>=E$11)*(WNARRates[Region]=$C$4)*(WNARRates[CustClass]=$D$9)*(WNARRates[Period]=$C$6)*WNARRates[CSWNA])","v":1.265E-2},{"$f":"SUMPRODUCT((WNARRates[BeginDate]<=F$11)*(WNARRates[EndDate]>=F$11)*(WNARRates[Region]=$C$4)*(WNARRates[CustClass]=$D$9)*(WNARRates[Period]=$C$6)*WNARRates[AdjCSWNA])","v":4.743E-2},{"$f":"SUMPRODUCT((WNARRates[BeginDate]<=G$11)*(WNARRates[EndDate]>=G$11)*(WNARRates[Region]=$C$4)*(WNARRates[CustClass]=$D$9)*(WNARRates[Period]=$C$6)*WNARRates[AdjCSWNA])","v":4.743E-2},{"$f":"SUMPRODUCT((WNARRates[BeginDate]<=H$11)*(WNARRates[EndDate]>=H$11)*(WNARRates[Region]=$C$4)*(WNARRates[CustClass]=$D$9)*(WNARRates[Period]=$C$6)*WNARRates[AdjCSWNA])","v":4.743E-2},{"$f":"SUMPRODUCT((WNARRates[BeginDate]<=I$11)*(WNARRates[EndDate]>=I$11)*(WNARRates[Region]=$C$4)*(WNARRates[CustClass]=$D$9)*(WNARRates[Period]=$C$6)*WNARRates[AdjCSWNA])","v":4.743E-2},{"$f":"SUMPRODUCT((WNARRates[BeginDate]<=J$11)*(WNARRates[EndDate]>=J$11)*(WNARRates[Region]=$C$4)*(WNARRates[CustClass]=$D$9)*(WNARRates[Period]=$C$6)*WNARRates[AdjCSWNA])","v":4.743E-2},{"$f":"SUMPRODUCT((WNARRates[BeginDate]<=K$11)*(WNARRates[EndDate]>=K$11)*(WNARRates[Region]=$C$4)*(WNARRates[CustClass]=$D$9)*(WNARRates[Period]=$C$6)*WNARRates[AdjCSWNA])","v":4.743E-2},{"$f":"SUMPRODUCT((WNARRates[BeginDate]<=L$11)*(WNARRates[EndDate]>=L$11)*(WNARRates[Region]=$C$4)*(WNARRates[CustClass]=$D$9)*(WNARRates[Period]=$C$6)*WNARRates[AdjCSWNA])","v":4.743E-2},{"$f":"SUMPRODUCT((WNARRates[BeginDate]<=M$11)*(WNARRates[EndDate]>=M$11)*(WNARRates[Region]=$C$4)*(WNARRates[CustClass]=$D$9)*(WNARRates[Period]=$C$6)*WNARRates[AdjCSWNA])","v":4.743E-2},{"$f":"SUMPRODUCT((WNARRates[BeginDate]<=N$11)*(WNARRates[EndDate]>=N$11)*(WNARRates[Region]=$C$4)*(WNARRates[CustClass]=$D$9)*(WNARRates[Period]=$C$6)*WNARRates[AdjCSWNA])","v":4.743E-2},{"$f":"SUMPRODUCT((WNARRates[BeginDate]<=O$11)*(WNARRates[EndDate]>=O$11)*(WNARRates[Region]=$C$4)*(WNARRates[CustClass]=$D$9)*(WNARRates[Period]=$C$6)*WNARRates[AdjCSWNA])","v":4.743E-2},{"$f":"SUMPRODUCT((WNARRates[BeginDate]<=P$11)*(WNARRates[EndDate]>=P$11)*(WNARRates[Region]=$C$4)*(WNARRates[CustClass]=$D$9)*(WNARRates[Period]=$C$6)*WNARRates[AdjCSWNA])","v":4.743E-2},{"$f":"SUMPRODUCT((WNARRates[BeginDate]<=Q$11)*(WNARRates[EndDate]>=Q$11)*(WNARRates[Region]=$C$4)*(WNARRates[CustClass]=$D$9)*(WNARRates[Period]=$C$6)*WNARRates[AdjCSWNA])","v":4.743E-2}]
[null,"SRR",{"$f":"SUMPRODUCT((WNARRates[BeginDate]<=C$11)*(WNARRates[EndDate]>=C$11)*(WNARRates[Region]=$C$4)*(WNARRates[CustClass]=$D$9)*(WNARRates[Period]=$C$6)*WNARRates[SRR])","v":-6.0000000000000002E-5},{"$f":"SUMPRODUCT((WNARRates[BeginDate]<=D$11)*(WNARRates[EndDate]>=D$11)*(WNARRates[Region]=$C$4)*(WNARRates[CustClass]=$D$9)*(WNARRates[Period]=$C$6)*WNARRates[SRR])","v":-6.0000000000000002E-5},{"$f":"SUMPRODUCT((WNARRates[BeginDate]<=E$11)*(WNARRates[EndDate]>=E$11)*(WNARRates[Region]=$C$4)*(WNARRates[CustClass]=$D$9)*(WNARRates[Period]=$C$6)*WNARRates[SRR])","v":-6.0000000000000002E-5},{"$f":"SUMPRODUCT((WNARRates[BeginDate]<=F$11)*(WNARRates[EndDate]>=F$11)*(WNARRates[Region]=$C$4)*(WNARRates[CustClass]=$D$9)*(WNARRates[Period]=$C$6)*WNARRates[AdjSRR])","v":9.8999999999999999E-4},{"$f":"SUMPRODUCT((WNARRates[BeginDate]<=G$11)*(WNARRates[EndDate]>=G$11)*(WNARRates[Region]=$C$4)*(WNARRates[CustClass]=$D$9)*(WNARRates[Period]=$C$6)*WNARRates[AdjSRR])","v":9.8999999999999999E-4},{"$f":"SUMPRODUCT((WNARRates[BeginDate]<=H$11)*(WNARRates[EndDate]>=H$11)*(WNARRates[Region]=$C$4)*(WNARRates[CustClass]=$D$9)*(WNARRates[Period]=$C$6)*WNARRates[AdjSRR])","v":9.8999999999999999E-4},{"$f":"SUMPRODUCT((WNARRates[BeginDate]<=I$11)*(WNARRates[EndDate]>=I$11)*(WNARRates[Region]=$C$4)*(WNARRates[CustClass]=$D$9)*(WNARRates[Period]=$C$6)*WNARRates[AdjSRR])","v":9.8999999999999999E-4},{"$f":"SUMPRODUCT((WNARRates[BeginDate]<=J$11)*(WNARRates[EndDate]>=J$11)*(WNARRates[Region]=$C$4)*(WNARRates[CustClass]=$D$9)*(WNARRates[Period]=$C$6)*WNARRates[AdjSRR])","v":9.8999999999999999E-4},{"$f":"SUMPRODUCT((WNARRates[BeginDate]<=K$11)*(WNARRates[EndDate]>=K$11)*(WNARRates[Region]=$C$4)*(WNARRates[CustClass]=$D$9)*(WNARRates[Period]=$C$6)*WNARRates[AdjSRR])","v":9.8999999999999999E-4},{"$f":"SUMPRODUCT((WNARRates[BeginDate]<=L$11)*(WNARRates[EndDate]>=L$11)*(WNARRates[Region]=$C$4)*(WNARRates[CustClass]=$D$9)*(WNARRates[Period]=$C$6)*WNARRates[AdjSRR])","v":9.8999999999999999E-4},{"$f":"SUMPRODUCT((WNARRates[BeginDate]<=M$11)*(WNARRates[EndDate]>=M$11)*(WNARRates[Region]=$C$4)*(WNARRates[CustClass]=$D$9)*(WNARRates[Period]=$C$6)*WNARRates[AdjSRR])","v":9.8999999999999999E-4},{"$f":"SUMPRODUCT((WNARRates[BeginDate]<=N$11)*(WNARRates[EndDate]>=N$11)*(WNARRates[Region]=$C$4)*(WNARRates[CustClass]=$D$9)*(WNARRates[Period]=$C$6)*WNARRates[AdjSRR])","v":9.8999999999999999E-4},{"$f":"SUMPRODUCT((WNARRates[BeginDate]<=O$11)*(WNARRates[EndDate]>=O$11)*(WNARRates[Region]=$C$4)*(WNARRates[CustClass]=$D$9)*(WNARRates[Period]=$C$6)*WNARRates[AdjSRR])","v":9.8999999999999999E-4},{"$f":"SUMPRODUCT((WNARRates[BeginDate]<=P$11)*(WNARRates[EndDate]>=P$11)*(WNARRates[Region]=$C$4)*(WNARRates[CustClass]=$D$9)*(WNARRates[Period]=$C$6)*WNARRates[AdjSRR])","v":9.8999999999999999E-4},{"$f":"SUMPRODUCT((WNARRates[BeginDate]<=Q$11)*(WNARRates[EndDate]>=Q$11)*(WNARRates[Region]=$C$4)*(WNARRates[CustClass]=$D$9)*(WNARRates[Period]=$C$6)*WNARRates[AdjSRR])","v":9.8999999999999999E-4}]
[null,"Total",{"$f":"SUM(C16:C17)","v":1.259E-2},{"$f":"SUM(D16:D17)","v":1.259E-2},1.259E-2]
[null,"CSWNA and SRR Revenue for Period"]
[null,"CSWNA $",null,null,null,{"$f":"SUMPRODUCT((WNARRev[Flow Month]=F$11)*(WNARRev[Period]=$C$6)*WNARRev[S62-GRF-CSWNA])","v":50664.747914101608},{"$f":"SUMPRODUCT((WNARRev[Flow Month]=G$11)*(WNARRev[Period]=$C$6)*WNARRev[S62-GRF-CSWNA])","v":16865.822124062724},{"$f":"SUMPRODUCT((WNARRev[Flow Month]=H$11)*(WNARRev[Period]=$C$6)*WNARRev[S62-GRF-CSWNA])","v":14434.479846872373},{"$f":"SUMPRODUCT((WNARRev[Flow Month]=I$11)*(WNARRev[Period]=$C$6)*WNARRev[S62-GRF-CSWNA])","v":10700.718780372552},{"$f":"SUMPRODUCT((WNARRev[Flow Month]=J$11)*(WNARRev[Period]=$C$6)*WNARRev[S62-GRF-CSWNA])","v":11455.829973102129},{"$f":"SUMPRODUCT((WNARRev[Flow Month]=K$11)*(WNARRev[Period]=$C$6)*WNARRev[S62-GRF-CSWNA])","v":11181.208816503738},{"$f":"SUMPRODUCT((WNARRev[Flow Month]=L$11)*(WNARRev[Period]=$C$6)*WNARRev[S62-GRF-CSWNA])","v":26414.277084657326},{"$f":"SUMPRODUCT((WNARRev[Flow Month]=M$11)*(WNARRev[Period]=$C$6)*WNARRev[S62-GRF-CSWNA])","v":69862.947072329072},{"$f":"SUMPRODUCT((WNARRev[Flow Month]=N$11)*(WNARRev[Period]=$C$6)*WNARRev[S62-GRF-CSWNA])","v":118286.7145149172},{"$f":"ROUND(O$12*O16,0)","v":163035},{"$f":"ROUND(P$12*P16,0)","v":136837},107590]
[null,"SRR $",{"$f":"ROUND(C14*C18,2)","v":-4009.47},{"$f":"ROUND(D14*D18,2)","v":7493.93},{"$f":"ROUND(E14*E18,2)","v":-3700.72},{"$f":"SUMPRODUCT((WNARRev[Flow Month]=F$11)*(WNARRev[Period]=$C$6)*WNARRev[S62-GRF-SRR])","v":992.57268338547988},{"$f":"SUMPRODUCT((WNARRev[Flow Month]=G$11)*(WNARRev[Period]=$C$6)*WNARRev[S62-GRF-SRR])","v":352.03803295007583},{"$f":"SUMPRODUCT((WNARRev[Flow Month]=H$11)*(WNARRev[Period]=$C$6)*WNARRev[S62-GRF-SRR])","v":301.28895316052387},{"$f":"SUMPRODUCT((WNARRev[Flow Month]=I$11)*(WNARRev[Period]=$C$6)*WNARRev[S62-GRF-SRR])","v":223.3546614499015},{"$f":"SUMPRODUCT((WNARRev[Flow Month]=J$11)*(WNARRev[Period]=$C$6)*WNARRev[S62-GRF-SRR])","v":239.11599564349794},{"$f":"SUMPRODUCT((WNARRev[Flow Month]=K$11)*(WNARRev[Period]=$C$6)*WNARRev[S62-GRF-SRR])","v":233.38386524011597},{"$f":"SUMPRODUCT((WNARRev[Flow Month]=L$11)*(WNARRev[Period]=$C$6)*WNARRev[S62-GRF-SRR])","v":551.34164692833122},{"$f":"SUMPRODUCT((WNARRev[Flow Month]=M$11)*(WNARRev[Period]=$C$6)*WNARRev[S62-GRF-SRR])","v":1458.239881965123},{"$f":"SUMPRODUCT((WNARRev[Flow Month]=N$11)*(WNARRev[Period]=$C$6)*WNARRev[S62-GRF-SRR])","v":2468.9826559090875},{"$f":"ROUND(O$12*O17,0)","v":3403},{"$f":"ROUND(P$12*P17,0)","v":2856},2246]
[null,"Total True-Up",{"$f":"SUM(C21:E21)","v":-216.25999999999931},"Enter in VolTrueUp Table"]
[]
[null,"Rate Sched","62-GCSF","SGS"]
[null,"Small Comm.","True-Up Period",null,null,"Actual Period*",null,null,null,null,null,null,null,null,"Projected Period"]
[null,"Month (Flow)",{"$f":"C7","v":44562},{"$f":"EDATE(C26,1)","v":44593},{"$f":"EDATE(D26,1)","v":44621},44652,44682,44713,44743,44774,44805,44835,44866,44896,44927,44958,44986]
[null,"Est. Volume",{"$f":"SUMPRODUCT((CustEstVol[MonthFlow]=C$26)*(CustEstVol[RateSched]=$C$24)*CustEstVol[NormVol])","v":1047912},{"$f":"SUMPRODUCT((CustEstVol[MonthFlow]=D$26)*(CustEstVol[RateSched]=$C$24)*CustEstVol[NormVol])","v":847923},{"$f":"SUMPRODUCT((CustEstVol[MonthFlow]=E$26)*(CustEstVol[RateSched]=$C$24)*CustEstVol[NormVol])","v":632053},null,null,null,null,null,null,null,null,null,{"$f":"SUMPRODUCT((CustEstVol[MonthFlow]=O$26)*(CustEstVol[RateSched]=$C$24)*CustEstVol[NormVol])","v":1024543},{"$f":"SUMPRODUCT((CustEstVol[MonthFlow]=P$26)*(CustEstVol[RateSched]=$C$24)*CustEstVol[NormVol])","v":828989},{"$f":"SUMPRODUCT((CustEstVol[MonthFlow]=Q$26)*(CustEstVol[RateSched]=$C$24)*CustEstVol[NormVol])","v":617967}]
[null,"Actual Volume",{"$f":"SUMPRODUCT((CustActVol[MonthFlow]=C$26)*(CustActVol[RateSched]=$C$24)*CustActVol[Volume])","v":896429.91780000005},{"$f":"SUMPRODUCT((CustActVol[MonthFlow]=D$26)*(CustActVol[RateSched]=$C$24)*CustActVol[Volume])","v":1020855.3447899999},{"$f":"SUMPRODUCT((CustActVol[MonthFlow]=E$26)*(CustActVol[RateSched]=$C$24)*CustActVol[Volume])","v":531597.76353999984},{"$f":"SUMPRODUCT((CustActVol[MonthFlow]=F$26)*(CustActVol[RateSched]=$C$24)*CustActVol[Volume])","v":302819.74394999951},{"$f":"SUMPRODUCT((CustActVol[MonthFlow]=G$26)*(CustActVol[RateSched]=$C$24)*CustActVol[Volume])","v":95458.208589999966},{"$f":"SUMPRODUCT((CustActVol[MonthFlow]=H$26)*(CustActVol[RateSched]=$C$24)*CustActVol[Volume])","v":91294.020930000188},{"$f":"SUMPRODUCT((CustActVol[MonthFlow]=I$26)*(CustActVol[RateSched]=$C$24)*CustActVol[Volume])","v":73652.576249999955},{"$f":"SUMPRODUCT((CustActVol[MonthFlow]=J$26)*(CustActVol[RateSched]=$C$24)*CustActVol[Volume])","v":75586.313399999999},{"$f":"SUMPRODUCT((CustActVol[MonthFlow]=K$26)*(CustActVol[RateSched]=$C$24)*CustActVol[Volume])","v":73722.743599999973},{"$f":"SUMPRODUCT((CustActVol[MonthFlow]=L$26)*(CustActVol[RateSched]=$C$24)*CustActVol[Volume])","v":133759.54017000034},{"$f":"SUMPRODUCT((CustActVol[MonthFlow]=M$26)*(CustActVol[RateSched]=$C$24)*CustActVol[Volume])","v":381271.35416000005},{"$f":"SUMPRODUCT((CustActVol[MonthFlow]=N$26)*(CustActVol[RateSched]=$C$24)*CustActVol[Volume])","v":717331.40640999959}]
[null,"Vol True-Up",{"$f":"C28-C27","v":-151482.08219999995},{"$f":"D28-D27","v":172932.34478999989},{"$f":"E28-E27","v":-100455.23646000016}]
[null,{"$f":"\"WNAR \"&$C$6&\" Rates in Effect\"","v":"WNAR S1 Rates in Effect"}]
[null,"CSWNA",{"$f":"SUMPRODUCT((WNARRates[BeginDate]<=C$26)*(WNARRates[EndDate]>=C$26)*(WNARRates[Region]=$C$4)*(WNARRates[CustClass]=$D$24)*(WNARRates[Period]=$C$6)*WNARRates[CSWNA])","v":4.3499999999999997E-3},{"$f":"SUMPRODUCT((WNARRates[BeginDate]<=D$26)*(WNARRates[EndDate]>=D$26)*(WNARRates[Region]=$C$4)*(WNARRates[CustClass]=$D$24)*(WNARRates[Period]=$C$6)*WNARRates[CSWNA])","v":4.3499999999999997E-3},{"$f":"SUMPRODUCT((WNARRates[BeginDate]<=E$26)*(WNARRates[EndDate]>=E$26)*(WNARRates[Region]=$C$4)*(WNARRates[CustClass]=$D$24)*(WNARRates[Period]=$C$6)*WNARRates[CSWNA])","v":4.3499999999999997E-3},{"$f":"SUMPRODUCT((WNARRates[BeginDate]<=F$26)*(WNARRates[EndDate]>=F$26)*(WNARRates[Region]=$C$4)*(WNARRates[CustClass]=$D$24)*(WNARRates[Period]=$C$6)*WNARRates[AdjCSWNA])","v":1.6230000000000001E-2},{"$f":"SUMPRODUCT((WNARRates[BeginDate]<=G$26)*(WNARRates[EndDate]>=G$26)*(WNARRates[Region]=$C$4)*(WNARRates[CustClass]=$D$24)*(WNARRates[Period]=$C$6)*WNARRates[AdjCSWNA])","v":1.6230000000000001E-2},{"$f":"SUMPRODUCT((WNARRates[BeginDate]<=H$26)*(WNARRates[EndDate]>=H$26)*(WNARRates[Region]=$C$4)*(WNARRates[CustClass]=$D$24)*(WNARRates[Period]=$C$6)*WNARRates[AdjCSWNA])","v":1.6230000000000001E-2},{"$f":"SUMPRODUCT((WNARRates[BeginDate]<=I$26)*(WNARRates[EndDate]>=I$26)*(WNARRates[Region]=$C$4)*(WNARRates[CustClass]=$D$24)*(WNARRates[Period]=$C$6)*WNARRates[AdjCSWNA])","v":1.6230000000000001E-2},{"$f":"SUMPRODUCT((WNARRates[BeginDate]<=J$26)*(WNARRates[EndDate]>=J$26)*(WNARRates[Region]=$C$4)*(WNARRates[CustClass]=$D$24)*(WNARRates[Period]=$C$6)*WNARRates[AdjCSWNA])","v":1.6230000000000001E-2},{"$f":"SUMPRODUCT((WNARRates[BeginDate]<=K$26)*(WNARRates[EndDate]>=K$26)*(WNARRates[Region]=$C$4)*(WNARRates[CustClass]=$D$24)*(WNARRates[Period]=$C$6)*WNARRates[AdjCSWNA])","v":1.6230000000000001E-2},{"$f":"SUMPRODUCT((WNARRates[BeginDate]<=L$26)*(WNARRates[EndDate]>=L$26)*(WNARRates[Region]=$C$4)*(WNARRates[CustClass]=$D$24)*(WNARRates[Period]=$C$6)*WNARRates[AdjCSWNA])","v":1.6230000000000001E-2},{"$f":"SUMPRODUCT((WNARRates[BeginDate]<=M$26)*(WNARRates[EndDate]>=M$26)*(WNARRates[Region]=$C$4)*(WNARRates[CustClass]=$D$24)*(WNARRates[Period]=$C$6)*WNARRates[AdjCSWNA])","v":1.6230000000000001E-2},{"$f":"SUMPRODUCT((WNARRates[BeginDate]<=N$26)*(WNARRates[EndDate]>=N$26)*(WNARRates[Region]=$C$4)*(WNARRates[CustClass]=$D$24)*(WNARRates[Period]=$C$6)*WNARRates[AdjCSWNA])","v":1.6230000000000001E-2},{"$f":"SUMPRODUCT((WNARRates[BeginDate]<=O$26)*(WNARRates[EndDate]>=O$26)*(WNARRates[Region]=$C$4)*(WNARRates[CustClass]=$D$24)*(WNARRates[Period]=$C$6)*WNARRates[AdjCSWNA])","v":1.6230000000000001E-2},{"$f":"SUMPRODUCT((WNARRates[BeginDate]<=P$26)*(WNARRates[EndDate]>=P$26)*(WNARRates[Region]=$C$4)*(WNARRates[CustClass]=$D$24)*(WNARRates[Period]=$C$6)*WNARRates[AdjCSWNA])","v":1.6230000000000001E-2},{"$f":"SUMPRODUCT((WNARRates[BeginDate]<=Q$26)*(WNARRates[EndDate]>=Q$26)*(WNARRates[Region]=$C$4)*(WNARRates[CustClass]=$D$24)*(WNARRates[Period]=$C$6)*WNARRates[AdjCSWNA])","v":1.6230000000000001E-2}]
[null,"SRR",{"$f":"SUMPRODUCT((WNARRates[BeginDate]<=C$26)*(WNARRates[EndDate]>=C$26)*(WNARRates[Region]=$C$4)*(WNARRates[CustClass]=$D$24)*(WNARRates[Period]=$C$6)*WNARRates[SRR])","v":-3.8999999999999999E-4},{"$f":"SUMPRODUCT((WNARRates[BeginDate]<=D$26)*(WNARRates[EndDate]>=D$26)*(WNARRates[Region]=$C$4)*(WNARRates[CustClass]=$D$24)*(WNARRates[Period]=$C$6)*WNARRates[SRR])","v":-3.8999999999999999E-4},{"$f":"SUMPRODUCT((WNARRates[BeginDate]<=E$26)*(WNARRates[EndDate]>=E$26)*(WNARRates[Region]=$C$4)*(WNARRates[CustClass]=$D$24)*(WNARRates[Period]=$C$6)*WNARRates[SRR])","v":-3.8999999999999999E-4},{"$f":"SUMPRODUCT((WNARRates[BeginDate]<=F$26)*(WNARRates[EndDate]>=F$26)*(WNARRates[Region]=$C$4)*(WNARRates[CustClass]=$D$24)*(WNARRates[Period]=$C$6)*WNARRates[AdjSRR])","v":-3.7200000000000002E-3},{"$f":"SUMPRODUCT((WNARRates[BeginDate]<=G$26)*(WNARRates[EndDate]>=G$26)*(WNARRates[Region]=$C$4)*(WNARRates[CustClass]=$D$24)*(WNARRates[Period]=$C$6)*WNARRates[AdjSRR])","v":-3.7200000000000002E-3},{"$f":"SUMPRODUCT((WNARRates[BeginDate]<=H$26)*(WNARRates[EndDate]>=H$26)*(WNARRates[Region]=$C$4)*(WNARRates[CustClass]=$D$24)*(WNARRates[Period]=$C$6)*WNARRates[AdjSRR])","v":-3.7200000000000002E-3},{"$f":"SUMPRODUCT((WNARRates[BeginDate]<=I$26)*(WNARRates[EndDate]>=I$26)*(WNARRates[Region]=$C$4)*(WNARRates[CustClass]=$D$24)*(WNARRates[Period]=$C$6)*WNARRates[AdjSRR])","v":-3.7200000000000002E-3},{"$f":"SUMPRODUCT((WNARRates[BeginDate]<=J$26)*(WNARRates[EndDate]>=J$26)*(WNARRates[Region]=$C$4)*(WNARRates[CustClass]=$D$24)*(WNARRates[Period]=$C$6)*WNARRates[AdjSRR])","v":-3.7200000000000002E-3},{"$f":"SUMPRODUCT((WNARRates[BeginDate]<=K$26)*(WNARRates[EndDate]>=K$26)*(WNARRates[Region]=$C$4)*(WNARRates[CustClass]=$D$24)*(WNARRates[Period]=$C$6)*WNARRates[AdjSRR])","v":-3.7200000000000002E-3},{"$f":"SUMPRODUCT((WNARRates[BeginDate]<=L$26)*(WNARRates[EndDate]>=L$26)*(WNARRates[Region]=$C$4)*(WNARRates[CustClass]=$D$24)*(WNARRates[Period]=$C$6)*WNARRates[AdjSRR])","v":-3.7200000000000002E-3},{"$f":"SUMPRODUCT((WNARRates[BeginDate]<=M$26)*(WNARRates[EndDate]>=M$26)*(WNARRates[Region]=$C$4)*(WNARRates[CustClass]=$D$24)*(WNARRates[Period]=$C$6)*WNARRates[AdjSRR])","v":-3.7200000000000002E-3},{"$f":"SUMPRODUCT((WNARRates[BeginDate]<=N$26)*(WNARRates[EndDate]>=N$26)*(WNARRates[Region]=$C$4)*(WNARRates[CustClass]=$D$24)*(WNARRates[Period]=$C$6)*WNARRates[AdjSRR])","v":-3.7200000000000002E-3},{"$f":"SUMPRODUCT((WNARRates[BeginDate]<=O$26)*(WNARRates[EndDate]>=O$26)*(WNARRates[Region]=$C$4)*(WNARRates[CustClass]=$D$24)*(WNARRates[Period]=$C$6)*WNARRates[AdjSRR])","v":-3.7200000000000002E-3},{"$f":"SUMPRODUCT((WNARRates[BeginDate]<=P$26)*(WNARRates[EndDate]>=P$26)*(WNARRates[Region]=$C$4)*(WNARRates[CustClass]=$D$24)*(WNARRates[Period]=$C$6)*WNARRates[AdjSRR])","v":-3.7200000000000002E-3},{"$f":"SUMPRODUCT((WNARRates[BeginDate]<=Q$26)*(WNARRates[EndDate]>=Q$26)*(WNARRates[Region]=$C$4)*(WNARRates[CustClass]=$D$24)*(WNARRates[Period]=$C$6)*WNARRates[AdjSRR])","v":-3.7200000000000002E-3}]
[null,"Total",{"$f":"SUM(C31:C32)","v":3.96E-3},{"$f":"SUM(D31:D32)","v":3.96E-3},{"$f":"SUM(E31:E32)","v":3.96E-3}]
[null,"CSWNA and SRR Revenue for Period"]
[null,"CSWNA $",null,null,null,{"$f":"SUMPRODUCT((WNARRev[Flow Month]=F$11)*(WNARRev[Period]=$C$6)*WNARRev[S62-GCSF-CSWNA])","v":4372.8055114738163},{"$f":"SUMPRODUCT((WNARRev[Flow Month]=G$11)*(WNARRev[Period]=$C$6)*WNARRev[S62-GCSF-CSWNA])","v":1547.5298289622433},{"$f":"SUMPRODUCT((WNARRev[Flow Month]=H$11)*(WNARRev[Period]=$C$6)*WNARRev[S62-GCSF-CSWNA])","v":1481.0909455531119},{"$f":"SUMPRODUCT((WNARRev[Flow Month]=I$11)*(WNARRev[Period]=$C$6)*WNARRev[S62-GCSF-CSWNA])","v":1194.276645932646},{"$f":"SUMPRODUCT((WNARRev[Flow Month]=J$11)*(WNARRev[Period]=$C$6)*WNARRev[S62-GCSF-CSWNA])","v":1224.5005819365026},{"$f":"SUMPRODUCT((WNARRev[Flow Month]=K$11)*(WNARRev[Period]=$C$6)*WNARRev[S62-GCSF-CSWNA])","v":1195.590347542887},{"$f":"SUMPRODUCT((WNARRev[Flow Month]=L$11)*(WNARRev[Period]=$C$6)*WNARRev[S62-GCSF-CSWNA])","v":2170.5304187295023},{"$f":"SUMPRODUCT((WNARRev[Flow Month]=M$11)*(WNARRev[Period]=$C$6)*WNARRev[S62-GCSF-CSWNA])","v":6188.0656210096604},{"$f":"SUMPRODUCT((WNARRev[Flow Month]=N$11)*(WNARRev[Period]=$C$6)*WNARRev[S62-GCSF-CSWNA])","v":11642.162255586944},{"$f":"ROUND(O$27*O31,0)","v":16628},{"$f":"ROUND(P$27*P31,0)","v":13454},{"$f":"ROUND(Q$27*Q31,0)","v":10030}]
[null,"SRR $",{"$f":"ROUND(C29*C33,2)","v":-599.87},{"$f":"ROUND(D29*D33,2)","v":684.81},{"$f":"ROUND(E29*E33,2)","v":-397.8},{"$f":"SUMPRODUCT((WNARRev[Flow Month]=F$11)*(WNARRev[Period]=$C$6)*WNARRev[S62-GCSF-SRR])","v":-972.98990765531721},{"$f":"SUMPRODUCT((WNARRev[Flow Month]=G$11)*(WNARRev[Period]=$C$6)*WNARRev[S62-GCSF-SRR])","v":-354.70184619467312},{"$f":"SUMPRODUCT((WNARRev[Flow Month]=H$11)*(WNARRev[Period]=$C$6)*WNARRev[S62-GCSF-SRR])","v":-339.4737102561661},{"$f":"SUMPRODUCT((WNARRev[Flow Month]=I$11)*(WNARRev[Period]=$C$6)*WNARRev[S62-GCSF-SRR])","v":-273.73438834685419},{"$f":"SUMPRODUCT((WNARRev[Flow Month]=J$11)*(WNARRev[Period]=$C$6)*WNARRev[S62-GCSF-SRR])","v":-280.66187090596367},{"$f":"SUMPRODUCT((WNARRev[Flow Month]=K$11)*(WNARRev[Period]=$C$6)*WNARRev[S62-GCSF-SRR])","v":-274.03549555511643},{"$f":"SUMPRODUCT((WNARRev[Flow Month]=L$11)*(WNARRev[Period]=$C$6)*WNARRev[S62-GCSF-SRR])","v":-497.49680577164202},{"$f":"SUMPRODUCT((WNARRev[Flow Month]=M$11)*(WNARRev[Period]=$C$6)*WNARRev[S62-GCSF-SRR])","v":-1418.3366672924174},{"$f":"SUMPRODUCT((WNARRev[Flow Month]=N$11)*(WNARRev[Period]=$C$6)*WNARRev[S62-GCSF-SRR])","v":-2668.443844164105},{"$f":"ROUND(O$27*O32,0)","v":-3811},{"$f":"ROUND(P$27*P32,0)","v":-3084},-2299]
[null,"Total True-Up",{"$f":"SUM(C36:E36)","v":-312.86000000000007},"Enter in VolTrueUp Table"]
[]
[null,"* Actual Period revenues were calculated using actual rates, and then adjusted for actual revenues billed."]
[null,"(See worksheet WNAR Rev S1 or S2, table WNAR Rev S1 or S2, and supporting workbook WNAR Breakdown)"]

{"sheet":"SRR WEMO","index":7,"n_rows":40,"n_cols":17,"rows_kept":40,"cut":false,"hidden":false,"merged":[[1,5,1,6],[9,2,9,4],[9,5,9,13],[9,14,9,16],[24,2,24,4],[24,5,24,13],[24,14,24,16]]}
[]
[null,"Liberty Midstates",null,null,null,"Filing Period"]
[null,"Semi-Annual Reconciliation Rate",null,null,null,"Year","Period"]
[null,"Region","WEMO"]
[null,"Year",{"$f":"DateSet!C2","v":2023}]
[null,"Period",{"$f":"DateSet!C3","v":"S1"}]
[null,"Analysis Start",{"$f":"DateSet!J9","v":"2022-01-01"}]
[]
[null,"Rate Sched","61-GRF","Res"]
[null,"Residential","True-Up Period",null,null,"Actual Period*",null,null,null,null,null,null,null,null,"Projected Period"]
[null,"Month (Flow)",{"$f":"C7","v":44562},{"$f":"EDATE(C11,1)","v":44593},{"$f":"EDATE(D11,1)","v":44621},44652,44682,44713,44743,44774,44805,44835,44866,44896,44927,44958,44986]
[null,"Est. Volume",{"$f":"SUMPRODUCT((CustEstVol[MonthFlow]=C$11)*(CustEstVol[RateSched]=$C$9)*CustEstVol[NormVol])","v":487541},{"$f":"SUMPRODUCT((CustEstVol[MonthFlow]=D$11)*(CustEstVol[RateSched]=$C$9)*CustEstVol[NormVol])","v":410704},{"$f":"SUMPRODUCT((CustEstVol[MonthFlow]=E$11)*(CustEstVol[RateSched]=$C$9)*CustEstVol[NormVol])","v":325270},null,null,null,null,null,null,null,null,null,{"$f":"SUMPRODUCT((CustEstVol[MonthFlow]=O$11)*(CustEstVol[RateSched]=$C$9)*CustEstVol[NormVol])","v":487541},{"$f":"SUMPRODUCT((CustEstVol[MonthFlow]=P$11)*(CustEstVol[RateSched]=$C$9)*CustEstVol[NormVol])","v":410704},{"$f":"SUMPRODUCT((CustEstVol[MonthFlow]=Q$11)*(CustEstVol[RateSched]=$C$9)*CustEstVol[NormVol])","v":325270}]
[null,"Actual Volume",{"$f":"SUMPRODUCT((CustActVol[MonthFlow]=C$11)*(CustActVol[RateSched]=$C$9)*CustActVol[Volume])","v":488242.228},{"$f":"SUMPRODUCT((CustActVol[MonthFlow]=D$11)*(CustActVol[RateSched]=$C$9)*CustActVol[Volume])","v":413352.47434999997},{"$f":"SUMPRODUCT((CustActVol[MonthFlow]=E$11)*(CustActVol[RateSched]=$C$9)*CustActVol[Volume])","v":357442.82642999996},{"$f":"SUMPRODUCT((CustActVol[MonthFlow]=F$11)*(CustActVol[RateSched]=$C$9)*CustActVol[Volume])","v":197842.61623999997},{"$f":"SUMPRODUCT((CustActVol[MonthFlow]=G$11)*(CustActVol[RateSched]=$C$9)*CustActVol[Volume])","v":67682.917630000011},{"$f":"SUMPRODUCT((CustActVol[MonthFlow]=H$11)*(CustActVol[RateSched]=$C$9)*CustActVol[Volume])","v":31632.497559999938},{"$f":"SUMPRODUCT((CustActVol[MonthFlow]=I$11)*(CustActVol[RateSched]=$C$9)*CustActVol[Volume])","v":26107.300200000001},{"$f":"SUMPRODUCT((CustActVol[MonthFlow]=J$11)*(CustActVol[RateSched]=$C$9)*CustActVol[Volume])","v":25754.822400000001},{"$f":"SUMPRODUCT((CustActVol[MonthFlow]=K$11)*(CustActVol[RateSched]=$C$9)*CustActVol[Volume])","v":25535.702979999998},{"$f":"SUMPRODUCT((CustActVol[MonthFlow]=L$11)*(CustActVol[RateSched]=$C$9)*CustActVol[Volume])","v":75206.842540000012},{"$f":"SUMPRODUCT((CustActVol[MonthFlow]=M$11)*(CustActVol[RateSched]=$C$9)*CustActVol[Volume])","v":231449.91949999999},{"$f":"SUMPRODUCT((CustActVol[MonthFlow]=N$11)*(CustActVol[RateSched]=$C$9)*CustActVol[Volume])","v":328271.0989499999}]
[null,"Vol True-Up",{"$f":"C13-C12","v":701.22800000000279},{"$f":"D13-D12","v":2648.4743499999749},32172.826429999957]
[null,{"$f":"\"WNAR \"&$C$6&\" Rates in Effect\"","v":"WNAR S1 Rates in Effect"}]
[null,"CSWNA",{"$f":"SUMPRODUCT((WNARRates[BeginDate]<=C$11)*(WNARRates[EndDate]>=C$11)*(WNARRates[Region]=$C$4)*(WNARRates[CustClass]=$D$9)*(WNARRates[Period]=$C$6)*WNARRates[CSWNA])","v":1.208E-2},{"$f":"SUMPRODUCT((WNARRates[BeginDate]<=D$11)*(WNARRates[EndDate]>=D$11)*(WNARRates[Region]=$C$4)*(WNARRates[CustClass]=$D$9)*(WNARRates[Period]=$C$6)*WNARRates[CSWNA])","v":1.208E-2},{"$f":"SUMPRODUCT((WNARRates[BeginDate]<=E$11)*(WNARRates[EndDate]>=E$11)*(WNARRates[Region]=$C$4)*(WNARRates[CustClass]=$D$9)*(WNARRates[Period]=$C$6)*WNARRates[CSWNA])","v":1.208E-2},{"$f":"SUMPRODUCT((WNARRates[BeginDate]<=F$11)*(WNARRates[EndDate]>=F$11)*(WNARRates[Region]=$C$4)*(WNARRates[CustClass]=$D$9)*(WNARRates[Period]=$C$6)*WNARRates[AdjCSWNA])","v":5.7299999999999997E-2},{"$f":"SUMPRODUCT((WNARRates[BeginDate]<=G$11)*(WNARRates[EndDate]>=G$11)*(WNARRates[Region]=$C$4)*(WNARRates[CustClass]=$D$9)*(WNARRates[Period]=$C$6)*WNARRates[AdjCSWNA])","v":5.7299999999999997E-2},{"$f":"SUMPRODUCT((WNARRates[BeginDate]<=H$11)*(WNARRates[EndDate]>=H$11)*(WNARRates[Region]=$C$4)*(WNARRates[CustClass]=$D$9)*(WNARRates[Period]=$C$6)*WNARRates[AdjCSWNA])","v":5.7299999999999997E-2},{"$f":"SUMPRODUCT((WNARRates[BeginDate]<=I$11)*(WNARRates[EndDate]>=I$11)*(WNARRates[Region]=$C$4)*(WNARRates[CustClass]=$D$9)*(WNARRates[Period]=$C$6)*WNARRates[AdjCSWNA])","v":5.7299999999999997E-2},{"$f":"SUMPRODUCT((WNARRates[BeginDate]<=J$11)*(WNARRates[EndDate]>=J$11)*(WNARRates[Region]=$C$4)*(WNARRates[CustClass]=$D$9)*(WNARRates[Period]=$C$6)*WNARRates[AdjCSWNA])","v":5.7299999999999997E-2},{"$f":"SUMPRODUCT((WNARRates[BeginDate]<=K$11)*(WNARRates[EndDate]>=K$11)*(WNARRates[Region]=$C$4)*(WNARRates[CustClass]=$D$9)*(WNARRates[Period]=$C$6)*WNARRates[AdjCSWNA])","v":5.7299999999999997E-2},{"$f":"SUMPRODUCT((WNARRates[BeginDate]<=L$11)*(WNARRates[EndDate]>=L$11)*(WNARRates[Region]=$C$4)*(WNARRates[CustClass]=$D$9)*(WNARRates[Period]=$C$6)*WNARRates[AdjCSWNA])","v":5.7299999999999997E-2},{"$f":"SUMPRODUCT((WNARRates[BeginDate]<=M$11)*(WNARRates[EndDate]>=M$11)*(WNARRates[Region]=$C$4)*(WNARRates[CustClass]=$D$9)*(WNARRates[Period]=$C$6)*WNARRates[AdjCSWNA])","v":5.7299999999999997E-2},{"$f":"SUMPRODUCT((WNARRates[BeginDate]<=N$11)*(WNARRates[EndDate]>=N$11)*(WNARRates[Region]=$C$4)*(WNARRates[CustClass]=$D$9)*(WNARRates[Period]=$C$6)*WNARRates[AdjCSWNA])","v":5.7299999999999997E-2},{"$f":"SUMPRODUCT((WNARRates[BeginDate]<=O$11)*(WNARRates[EndDate]>=O$11)*(WNARRates[Region]=$C$4)*(WNARRates[CustClass]=$D$9)*(WNARRates[Period]=$C$6)*WNARRates[AdjCSWNA])","v":5.7299999999999997E-2},{"$f":"SUMPRODUCT((WNARRates[BeginDate]<=P$11)*(WNARRates[EndDate]>=P$11)*(WNARRates[Region]=$C$4)*(WNARRates[CustClass]=$D$9)*(WNARRates[Period]=$C$6)*WNARRates[AdjCSWNA])","v":5.7299999999999997E-2},{"$f":"SUMPRODUCT((WNARRates[BeginDate]<=Q$11)*(WNARRates[EndDate]>=Q$11)*(WNARRates[Region]=$C$4)*(WNARRates[CustClass]=$D$9)*(WNARRates[Period]=$C$6)*WNARRates[AdjCSWNA])","v":5.7299999999999997E-2}]
[null,"SRR",{"$f":"SUMPRODUCT((WNARRates[BeginDate]<=C$11)*(WNARRates[EndDate]>=C$11)*(WNARRates[Region]=$C$4)*(WNARRates[CustClass]=$D$9)*(WNARRates[Period]=$C$6)*WNARRates[SRR])","v":-2E-3},{"$f":"SUMPRODUCT((WNARRates[BeginDate]<=D$11)*(WNARRates[EndDate]>=D$11)*(WNARRates[Region]=$C$4)*(WNARRates[CustClass]=$D$9)*(WNARRates[Period]=$C$6)*WNARRates[SRR])","v":-2E-3},{"$f":"SUMPRODUCT((WNARRates[BeginDate]<=E$11)*(WNARRates[EndDate]>=E$11)*(WNARRates[Region]=$C$4)*(WNARRates[CustClass]=$D$9)*(WNARRates[Period]=$C$6)*WNARRates[SRR])","v":-2E-3},{"$f":"SUMPRODUCT((WNARRates[BeginDate]<=F$11)*(WNARRates[EndDate]>=F$11)*(WNARRates[Region]=$C$4)*(WNARRates[CustClass]=$D$9)*(WNARRates[Period]=$C$6)*WNARRates[AdjSRR])","v":2.7799999999999999E-3},{"$f":"SUMPRODUCT((WNARRates[BeginDate]<=G$11)*(WNARRates[EndDate]>=G$11)*(WNARRates[Region]=$C$4)*(WNARRates[CustClass]=$D$9)*(WNARRates[Period]=$C$6)*WNARRates[AdjSRR])","v":2.7799999999999999E-3},{"$f":"SUMPRODUCT((WNARRates[BeginDate]<=H$11)*(WNARRates[EndDate]>=H$11)*(WNARRates[Region]=$C$4)*(WNARRates[CustClass]=$D$9)*(WNARRates[Period]=$C$6)*WNARRates[AdjSRR])","v":2.7799999999999999E-3},{"$f":"SUMPRODUCT((WNARRates[BeginDate]<=I$11)*(WNARRates[EndDate]>=I$11)*(WNARRates[Region]=$C$4)*(WNARRates[CustClass]=$D$9)*(WNARRates[Period]=$C$6)*WNARRates[AdjSRR])","v":2.7799999999999999E-3},{"$f":"SUMPRODUCT((WNARRates[BeginDate]<=J$11)*(WNARRates[EndDate]>=J$11)*(WNARRates[Region]=$C$4)*(WNARRates[CustClass]=$D$9)*(WNARRates[Period]=$C$6)*WNARRates[AdjSRR])","v":2.7799999999999999E-3},{"$f":"SUMPRODUCT((WNARRates[BeginDate]<=K$11)*(WNARRates[EndDate]>=K$11)*(WNARRates[Region]=$C$4)*(WNARRates[CustClass]=$D$9)*(WNARRates[Period]=$C$6)*WNARRates[AdjSRR])","v":2.7799999999999999E-3},{"$f":"SUMPRODUCT((WNARRates[BeginDate]<=L$11)*(WNARRates[EndDate]>=L$11)*(WNARRates[Region]=$C$4)*(WNARRates[CustClass]=$D$9)*(WNARRates[Period]=$C$6)*WNARRates[AdjSRR])","v":2.7799999999999999E-3},{"$f":"SUMPRODUCT((WNARRates[BeginDate]<=M$11)*(WNARRates[EndDate]>=M$11)*(WNARRates[Region]=$C$4)*(WNARRates[CustClass]=$D$9)*(WNARRates[Period]=$C$6)*WNARRates[AdjSRR])","v":2.7799999999999999E-3},{"$f":"SUMPRODUCT((WNARRates[BeginDate]<=N$11)*(WNARRates[EndDate]>=N$11)*(WNARRates[Region]=$C$4)*(WNARRates[CustClass]=$D$9)*(WNARRates[Period]=$C$6)*WNARRates[AdjSRR])","v":2.7799999999999999E-3},{"$f":"SUMPRODUCT((WNARRates[BeginDate]<=O$11)*(WNARRates[EndDate]>=O$11)*(WNARRates[Region]=$C$4)*(WNARRates[CustClass]=$D$9)*(WNARRates[Period]=$C$6)*WNARRates[AdjSRR])","v":2.7799999999999999E-3},{"$f":"SUMPRODUCT((WNARRates[BeginDate]<=P$11)*(WNARRates[EndDate]>=P$11)*(WNARRates[Region]=$C$4)*(WNARRates[CustClass]=$D$9)*(WNARRates[Period]=$C$6)*WNARRates[AdjSRR])","v":2.7799999999999999E-3},{"$f":"SUMPRODUCT((WNARRates[BeginDate]<=Q$11)*(WNARRates[EndDate]>=Q$11)*(WNARRates[Region]=$C$4)*(WNARRates[CustClass]=$D$9)*(WNARRates[Period]=$C$6)*WNARRates[AdjSRR])","v":2.7799999999999999E-3}]
[null,"Total",{"$f":"SUM(C16:C17)","v":1.008E-2},{"$f":"SUM(D16:D17)","v":1.008E-2},1.008E-2]
[null,"CSWNA and SRR Revenue for Period"]
[null,"CSWNA $",null,null,null,{"$f":"SUMPRODUCT((WNARRev[Flow Month]=F$11)*(WNARRev[Period]=$C$6)*WNARRev[W61-GRF-CSWNA])","v":9549.0394671788108},{"$f":"SUMPRODUCT((WNARRev[Flow Month]=G$11)*(WNARRev[Period]=$C$6)*WNARRev[W61-GRF-CSWNA])","v":3870.5912416883598},{"$f":"SUMPRODUCT((WNARRev[Flow Month]=H$11)*(WNARRev[Period]=$C$6)*WNARRev[W61-GRF-CSWNA])","v":1806.2920289448609},{"$f":"SUMPRODUCT((WNARRev[Flow Month]=I$11)*(WNARRev[Period]=$C$6)*WNARRev[W61-GRF-CSWNA])","v":1495.0551247416865},{"$f":"SUMPRODUCT((WNARRev[Flow Month]=J$11)*(WNARRev[Period]=$C$6)*WNARRev[W61-GRF-CSWNA])","v":1474.9372482891874},{"$f":"SUMPRODUCT((WNARRev[Flow Month]=K$11)*(WNARRev[Period]=$C$6)*WNARRev[W61-GRF-CSWNA])","v":1462.1447275143014},{"$f":"SUMPRODUCT((WNARRev[Flow Month]=L$11)*(WNARRev[Period]=$C$6)*WNARRev[W61-GRF-CSWNA])","v":4302.7984327302247},{"$f":"SUMPRODUCT((WNARRev[Flow Month]=M$11)*(WNARRev[Period]=$C$6)*WNARRev[W61-GRF-CSWNA])","v":13261.800845747286},{"$f":"SUMPRODUCT((WNARRev[Flow Month]=N$11)*(WNARRev[Period]=$C$6)*WNARRev[W61-GRF-CSWNA])","v":18810.258554117314},{"$f":"ROUND(O$12*O16,0)","v":27936},{"$f":"ROUND(P$12*P16,0)","v":23533},18638]
[null,"SRR $",{"$f":"ROUND(C14*C18,2)","v":7.07},{"$f":"ROUND(D14*D18,2)","v":26.7},{"$f":"ROUND(E14*E18,2)","v":324.3},{"$f":"SUMPRODUCT((WNARRev[Flow Month]=F$11)*(WNARRev[Period]=$C$6)*WNARRev[W61-GRF-SRR])","v":359.0888415631448},{"$f":"SUMPRODUCT((WNARRev[Flow Month]=G$11)*(WNARRev[Period]=$C$6)*WNARRev[W61-GRF-SRR])","v":187.78784732798678},{"$f":"SUMPRODUCT((WNARRev[Flow Month]=H$11)*(WNARRev[Period]=$C$6)*WNARRev[W61-GRF-SRR])","v":87.635110653869347},{"$f":"SUMPRODUCT((WNARRev[Flow Month]=I$11)*(WNARRev[Period]=$C$6)*WNARRev[W61-GRF-SRR])","v":72.534960676821782},{"$f":"SUMPRODUCT((WNARRev[Flow Month]=J$11)*(WNARRev[Period]=$C$6)*WNARRev[W61-GRF-SRR])","v":71.558910126421324},{"$f":"SUMPRODUCT((WNARRev[Flow Month]=K$11)*(WNARRev[Period]=$C$6)*WNARRev[W61-GRF-SRR])","v":70.93826077643557},{"$f":"SUMPRODUCT((WNARRev[Flow Month]=L$11)*(WNARRev[Period]=$C$6)*WNARRev[W61-GRF-SRR])","v":208.75706183228664},{"$f":"SUMPRODUCT((WNARRev[Flow Month]=M$11)*(WNARRev[Period]=$C$6)*WNARRev[W61-GRF-SRR])","v":643.41721380763454},{"$f":"SUMPRODUCT((WNARRev[Flow Month]=N$11)*(WNARRev[Period]=$C$6)*WNARRev[W61-GRF-SRR])","v":912.60940280010709},{"$f":"ROUND(O$12*O17,0)","v":1355},1142,904]
[null,"Total True-Up",{"$f":"SUM(C21:E21)","v":358.07},"Enter in VolTrueUp Table"]
[]
[null,"Rate Sched","61-GCSF","SGS"]
[null,"Small Comm.","True-Up Period",null,null,"Actual Period*",null,null,null,null,null,null,null,null,"Projected Period"]
[null,"Month (Flow)",{"$f":"C7","v":44562},{"$f":"EDATE(C26,1)","v":44593},{"$f":"EDATE(D26,1)","v":44621},44652,44682,44713,44743,44774,44805,44835,44866,44896,44927,44958,44986]
[null,"Est. Volume",{"$f":"SUMPRODUCT((CustEstVol[MonthFlow]=C$26)*(CustEstVol[RateSched]=$C$24)*CustEstVol[NormVol])","v":174753},{"$f":"SUMPRODUCT((CustEstVol[MonthFlow]=D$26)*(CustEstVol[RateSched]=$C$24)*CustEstVol[NormVol])","v":151587},{"$f":"SUMPRODUCT((CustEstVol[MonthFlow]=E$26)*(CustEstVol[RateSched]=$C$24)*CustEstVol[NormVol])","v":114780},null,null,null,null,null,null,null,null,null,{"$f":"SUMPRODUCT((CustEstVol[MonthFlow]=O$26)*(CustEstVol[RateSched]=$C$24)*CustEstVol[NormVol])","v":174753},{"$f":"SUMPRODUCT((CustEstVol[MonthFlow]=P$26)*(CustEstVol[RateSched]=$C$24)*CustEstVol[NormVol])","v":151587},{"$f":"SUMPRODUCT((CustEstVol[MonthFlow]=Q$26)*(CustEstVol[RateSched]=$C$24)*CustEstVol[NormVol])","v":114780}]
[null,"Actual Volume",{"$f":"SUMPRODUCT((CustActVol[MonthFlow]=C$26)*(CustActVol[RateSched]=$C$24)*CustActVol[Volume])","v":177918.41929999998},{"$f":"SUMPRODUCT((CustActVol[MonthFlow]=D$26)*(CustActVol[RateSched]=$C$24)*CustActVol[Volume])","v":151365.63099999999},{"$f":"SUMPRODUCT((CustActVol[MonthFlow]=E$26)*(CustActVol[RateSched]=$C$24)*CustActVol[Volume])","v":131638.10994999995},{"$f":"SUMPRODUCT((CustActVol[MonthFlow]=F$26)*(CustActVol[RateSched]=$C$24)*CustActVol[Volume])","v":67979.590360000002},{"$f":"SUMPRODUCT((CustActVol[MonthFlow]=G$26)*(CustActVol[RateSched]=$C$24)*CustActVol[Volume])","v":21312.926960000001},{"$f":"SUMPRODUCT((CustActVol[MonthFlow]=H$26)*(CustActVol[RateSched]=$C$24)*CustActVol[Volume])","v":20946.061599999994},{"$f":"SUMPRODUCT((CustActVol[MonthFlow]=I$26)*(CustActVol[RateSched]=$C$24)*CustActVol[Volume])","v":2127.7917499999999},{"$f":"SUMPRODUCT((CustActVol[MonthFlow]=J$26)*(CustActVol[RateSched]=$C$24)*CustActVol[Volume])","v":10255.955600000001},{"$f":"SUMPRODUCT((CustActVol[MonthFlow]=K$26)*(CustActVol[RateSched]=$C$24)*CustActVol[Volume])","v":10348.3446},{"$f":"SUMPRODUCT((CustActVol[MonthFlow]=L$26)*(CustActVol[RateSched]=$C$24)*CustActVol[Volume])","v":24168.33916},{"$f":"SUMPRODUCT((CustActVol[MonthFlow]=M$26)*(CustActVol[RateSched]=$C$24)*CustActVol[Volume])","v":78204.517299999992},{"$f":"SUMPRODUCT((CustActVol[MonthFlow]=N$26)*(CustActVol[RateSched]=$C$24)*CustActVol[Volume])","v":120925.05972000008}]
[null,"Vol True-Up",{"$f":"C28-C27","v":3165.4192999999796},{"$f":"D28-D27","v":-221.36900000000605},16858.109949999955]
[null,{"$f":"\"WNAR \"&$C$6&\" Rates in Effect\"","v":"WNAR S1 Rates in Effect"}]
[null,"CSWNA",{"$f":"SUMPRODUCT((WNARRates[BeginDate]<=C$26)*(WNARRates[EndDate]>=C$26)*(WNARRates[Region]=$C$4)*(WNARRates[CustClass]=$D$24)*(WNARRates[Period]=$C$6)*WNARRates[CSWNA])","v":4.8599999999999997E-3},{"$f":"SUMPRODUCT((WNARRates[BeginDate]<=D$26)*(WNARRates[EndDate]>=D$26)*(WNARRates[Region]=$C$4)*(WNARRates[CustClass]=$D$24)*(WNARRates[Period]=$C$6)*WNARRates[CSWNA])","v":4.8599999999999997E-3},{"$f":"SUMPRODUCT((WNARRates[BeginDate]<=E$26)*(WNARRates[EndDate]>=E$26)*(WNARRates[Region]=$C$4)*(WNARRates[CustClass]=$D$24)*(WNARRates[Period]=$C$6)*WNARRates[CSWNA])","v":4.8599999999999997E-3},{"$f":"SUMPRODUCT((WNARRates[BeginDate]<=F$26)*(WNARRates[EndDate]>=F$26)*(WNARRates[Region]=$C$4)*(WNARRates[CustClass]=$D$24)*(WNARRates[Period]=$C$6)*WNARRates[AdjCSWNA])","v":2.7810000000000001E-2},{"$f":"SUMPRODUCT((WNARRates[BeginDate]<=G$26)*(WNARRates[EndDate]>=G$26)*(WNARRates[Region]=$C$4)*(WNARRates[CustClass]=$D$24)*(WNARRates[Period]=$C$6)*WNARRates[AdjCSWNA])","v":2.7810000000000001E-2},{"$f":"SUMPRODUCT((WNARRates[BeginDate]<=H$26)*(WNARRates[EndDate]>=H$26)*(WNARRates[Region]=$C$4)*(WNARRates[CustClass]=$D$24)*(WNARRates[Period]=$C$6)*WNARRates[AdjCSWNA])","v":2.7810000000000001E-2},{"$f":"SUMPRODUCT((WNARRates[BeginDate]<=I$26)*(WNARRates[EndDate]>=I$26)*(WNARRates[Region]=$C$4)*(WNARRates[CustClass]=$D$24)*(WNARRates[Period]=$C$6)*WNARRates[AdjCSWNA])","v":2.7810000000000001E-2},{"$f":"SUMPRODUCT((WNARRates[BeginDate]<=J$26)*(WNARRates[EndDate]>=J$26)*(WNARRates[Region]=$C$4)*(WNARRates[CustClass]=$D$24)*(WNARRates[Period]=$C$6)*WNARRates[AdjCSWNA])","v":2.7810000000000001E-2},{"$f":"SUMPRODUCT((WNARRates[BeginDate]<=K$26)*(WNARRates[EndDate]>=K$26)*(WNARRates[Region]=$C$4)*(WNARRates[CustClass]=$D$24)*(WNARRates[Period]=$C$6)*WNARRates[AdjCSWNA])","v":2.7810000000000001E-2},{"$f":"SUMPRODUCT((WNARRates[BeginDate]<=L$26)*(WNARRates[EndDate]>=L$26)*(WNARRates[Region]=$C$4)*(WNARRates[CustClass]=$D$24)*(WNARRates[Period]=$C$6)*WNARRates[AdjCSWNA])","v":2.7810000000000001E-2},{"$f":"SUMPRODUCT((WNARRates[BeginDate]<=M$26)*(WNARRates[EndDate]>=M$26)*(WNARRates[Region]=$C$4)*(WNARRates[CustClass]=$D$24)*(WNARRates[Period]=$C$6)*WNARRates[AdjCSWNA])","v":2.7810000000000001E-2},{"$f":"SUMPRODUCT((WNARRates[BeginDate]<=N$26)*(WNARRates[EndDate]>=N$26)*(WNARRates[Region]=$C$4)*(WNARRates[CustClass]=$D$24)*(WNARRates[Period]=$C$6)*WNARRates[AdjCSWNA])","v":2.7810000000000001E-2},{"$f":"SUMPRODUCT((WNARRates[BeginDate]<=O$26)*(WNARRates[EndDate]>=O$26)*(WNARRates[Region]=$C$4)*(WNARRates[CustClass]=$D$24)*(WNARRates[Period]=$C$6)*WNARRates[AdjCSWNA])","v":2.7810000000000001E-2},{"$f":"SUMPRODUCT((WNARRates[BeginDate]<=P$26)*(WNARRates[EndDate]>=P$26)*(WNARRates[Region]=$C$4)*(WNARRates[CustClass]=$D$24)*(WNARRates[Period]=$C$6)*WNARRates[AdjCSWNA])","v":2.7810000000000001E-2},{"$f":"SUMPRODUCT((WNARRates[BeginDate]<=Q$26)*(WNARRates[EndDate]>=Q$26)*(WNARRates[Region]=$C$4)*(WNARRates[CustClass]=$D$24)*(WNARRates[Period]=$C$6)*WNARRates[AdjCSWNA])","v":2.7810000000000001E-2}]
[null,"SRR",{"$f":"SUMPRODUCT((WNARRates[BeginDate]<=C$26)*(WNARRates[EndDate]>=C$26)*(WNARRates[Region]=$C$4)*(WNARRates[CustClass]=$D$24)*(WNARRates[Period]=$C$6)*WNARRates[SRR])","v":-1.4999999999999999E-4},{"$f":"SUMPRODUCT((WNARRates[BeginDate]<=D$26)*(WNARRates[EndDate]>=D$26)*(WNARRates[Region]=$C$4)*(WNARRates[CustClass]=$D$24)*(WNARRates[Period]=$C$6)*WNARRates[SRR])","v":-1.4999999999999999E-4},{"$f":"SUMPRODUCT((WNARRates[BeginDate]<=E$26)*(WNARRates[EndDate]>=E$26)*(WNARRates[Region]=$C$4)*(WNARRates[CustClass]=$D$24)*(WNARRates[Period]=$C$6)*WNARRates[SRR])","v":-1.4999999999999999E-4},{"$f":"SUMPRODUCT((WNARRates[BeginDate]<=F$26)*(WNARRates[EndDate]>=F$26)*(WNARRates[Region]=$C$4)*(WNARRates[CustClass]=$D$24)*(WNARRates[Period]=$C$6)*WNARRates[AdjSRR])","v":-2.2000000000000001E-4},{"$f":"SUMPRODUCT((WNARRates[BeginDate]<=G$26)*(WNARRates[EndDate]>=G$26)*(WNARRates[Region]=$C$4)*(WNARRates[CustClass]=$D$24)*(WNARRates[Period]=$C$6)*WNARRates[AdjSRR])","v":-2.2000000000000001E-4},{"$f":"SUMPRODUCT((WNARRates[BeginDate]<=H$26)*(WNARRates[EndDate]>=H$26)*(WNARRates[Region]=$C$4)*(WNARRates[CustClass]=$D$24)*(WNARRates[Period]=$C$6)*WNARRates[AdjSRR])","v":-2.2000000000000001E-4},{"$f":"SUMPRODUCT((WNARRates[BeginDate]<=I$26)*(WNARRates[EndDate]>=I$26)*(WNARRates[Region]=$C$4)*(WNARRates[CustClass]=$D$24)*(WNARRates[Period]=$C$6)*WNARRates[AdjSRR])","v":-2.2000000000000001E-4},{"$f":"SUMPRODUCT((WNARRates[BeginDate]<=J$26)*(WNARRates[EndDate]>=J$26)*(WNARRates[Region]=$C$4)*(WNARRates[CustClass]=$D$24)*(WNARRates[Period]=$C$6)*WNARRates[AdjSRR])","v":-2.2000000000000001E-4},{"$f":"SUMPRODUCT((WNARRates[BeginDate]<=K$26)*(WNARRates[EndDate]>=K$26)*(WNARRates[Region]=$C$4)*(WNARRates[CustClass]=$D$24)*(WNARRates[Period]=$C$6)*WNARRates[AdjSRR])","v":-2.2000000000000001E-4},{"$f":"SUMPRODUCT((WNARRates[BeginDate]<=L$26)*(WNARRates[EndDate]>=L$26)*(WNARRates[Region]=$C$4)*(WNARRates[CustClass]=$D$24)*(WNARRates[Period]=$C$6)*WNARRates[AdjSRR])","v":-2.2000000000000001E-4},{"$f":"SUMPRODUCT((WNARRates[BeginDate]<=M$26)*(WNARRates[EndDate]>=M$26)*(WNARRates[Region]=$C$4)*(WNARRates[CustClass]=$D$24)*(WNARRates[Period]=$C$6)*WNARRates[AdjSRR])","v":-2.2000000000000001E-4},{"$f":"SUMPRODUCT((WNARRates[BeginDate]<=N$26)*(WNARRates[EndDate]>=N$26)*(WNARRates[Region]=$C$4)*(WNARRates[CustClass]=$D$24)*(WNARRates[Period]=$C$6)*WNARRates[AdjSRR])","v":-2.2000000000000001E-4},{"$f":"SUMPRODUCT((WNARRates[BeginDate]<=O$26)*(WNARRates[EndDate]>=O$26)*(WNARRates[Region]=$C$4)*(WNARRates[CustClass]=$D$24)*(WNARRates[Period]=$C$6)*WNARRates[AdjSRR])","v":-2.2000000000000001E-4},{"$f":"SUMPRODUCT((WNARRates[BeginDate]<=P$26)*(WNARRates[EndDate]>=P$26)*(WNARRates[Region]=$C$4)*(WNARRates[CustClass]=$D$24)*(WNARRates[Period]=$C$6)*WNARRates[AdjSRR])","v":-2.2000000000000001E-4},{"$f":"SUMPRODUCT((WNARRates[BeginDate]<=Q$26)*(WNARRates[EndDate]>=Q$26)*(WNARRates[Region]=$C$4)*(WNARRates[CustClass]=$D$24)*(WNARRates[Period]=$C$6)*WNARRates[AdjSRR])","v":-2.2000000000000001E-4}]
[null,"Total",{"$f":"SUM(C31:C32)","v":4.7099999999999998E-3},{"$f":"SUM(D31:D32)","v":4.7099999999999998E-3},4.7099999999999998E-3]
[null,"CSWNA and SRR Revenue for Period"]
[null,"CSWNA $",null,null,null,{"$f":"SUMPRODUCT((WNARRev[Flow Month]=F$11)*(WNARRev[Period]=$C$6)*WNARRev[W61-GCSF-CSWNA])","v":1586.3635400306521},{"$f":"SUMPRODUCT((WNARRev[Flow Month]=G$11)*(WNARRev[Period]=$C$6)*WNARRev[W61-GCSF-CSWNA])","v":591.54488217297876},{"$f":"SUMPRODUCT((WNARRev[Flow Month]=H$11)*(WNARRev[Period]=$C$6)*WNARRev[W61-GCSF-CSWNA])","v":580.5013385730706},{"$f":"SUMPRODUCT((WNARRev[Flow Month]=I$11)*(WNARRev[Period]=$C$6)*WNARRev[W61-GCSF-CSWNA])","v":59.138557975160019},{"$f":"SUMPRODUCT((WNARRev[Flow Month]=J$11)*(WNARRev[Period]=$C$6)*WNARRev[W61-GCSF-CSWNA])","v":285.06078909986871},{"$f":"SUMPRODUCT((WNARRev[Flow Month]=K$11)*(WNARRev[Period]=$C$6)*WNARRev[W61-GCSF-CSWNA])","v":287.58073778068888},{"$f":"SUMPRODUCT((WNARRev[Flow Month]=L$11)*(WNARRev[Period]=$C$6)*WNARRev[W61-GCSF-CSWNA])","v":671.09935242465258},{"$f":"SUMPRODUCT((WNARRev[Flow Month]=M$11)*(WNARRev[Period]=$C$6)*WNARRev[W61-GCSF-CSWNA])","v":2174.821783683748},{"$f":"SUMPRODUCT((WNARRev[Flow Month]=N$11)*(WNARRev[Period]=$C$6)*WNARRev[W61-GCSF-CSWNA])","v":3362.9839414737571},{"$f":"ROUND(O$27*O31,0)","v":4860},{"$f":"ROUND(P$27*P31,0)","v":4216},3192]
[null,"SRR $",{"$f":"ROUND(C29*C33,2)","v":14.91},{"$f":"ROUND(D29*D33,2)","v":-1.04},{"$f":"ROUND(E29*E33,2)","v":79.400000000000006},{"$f":"SUMPRODUCT((WNARRev[Flow Month]=F$11)*(WNARRev[Period]=$C$6)*WNARRev[W61-GCSF-SRR])","v":-14.055912988878205},{"$f":"SUMPRODUCT((WNARRev[Flow Month]=G$11)*(WNARRev[Period]=$C$6)*WNARRev[W61-GCSF-SRR])","v":-4.6796071225478357},{"$f":"SUMPRODUCT((WNARRev[Flow Month]=H$11)*(WNARRev[Period]=$C$6)*WNARRev[W61-GCSF-SRR])","v":-4.5922435989239681},{"$f":"SUMPRODUCT((WNARRev[Flow Month]=I$11)*(WNARRev[Period]=$C$6)*WNARRev[W61-GCSF-SRR])","v":-0.46783469092179802},{"$f":"SUMPRODUCT((WNARRev[Flow Month]=J$11)*(WNARRev[Period]=$C$6)*WNARRev[W61-GCSF-SRR])","v":-2.2550655736055774},{"$f":"SUMPRODUCT((WNARRev[Flow Month]=K$11)*(WNARRev[Period]=$C$6)*WNARRev[W61-GCSF-SRR])","v":-2.275000442709513},{"$f":"SUMPRODUCT((WNARRev[Flow Month]=L$11)*(WNARRev[Period]=$C$6)*WNARRev[W61-GCSF-SRR])","v":-5.3089484909537417},{"$f":"SUMPRODUCT((WNARRev[Flow Month]=M$11)*(WNARRev[Period]=$C$6)*WNARRev[W61-GCSF-SRR])","v":-17.204631154635905},{"$f":"SUMPRODUCT((WNARRev[Flow Month]=N$11)*(WNARRev[Period]=$C$6)*WNARRev[W61-GCSF-SRR])","v":-26.603972208710051},{"$f":"ROUND(O$27*O32,0)","v":-38},{"$f":"ROUND(P$27*P32,0)","v":-33},-25]
[null,"Total True-Up",{"$f":"SUM(C36:E36)","v":93.27000000000001},"Enter in VolTrueUp Table"]
[]
[null,"* Actual Period revenues were calculated using actual rates, and then adjusted for actual revenues billed."]
[null,"(See worksheet WNAR Rev S1 or S2, table WNAR Rev S1 or S2, and supporting workbook WNAR Breakdown)"]

{"sheet":"SRR NEMO","index":8,"n_rows":40,"n_cols":17,"rows_kept":40,"cut":false,"hidden":false,"merged":[[1,5,1,6],[9,2,9,4],[9,5,9,13],[9,14,9,16],[24,2,24,4],[24,5,24,13],[24,14,24,16]]}
[]
[null,"Liberty Midstates",null,null,null,"Filing Period"]
[null,"Semi-Annual Reconciliation Rate",null,null,null,"Year","Period"]
[null,"Region","NEMO"]
[null,"Year",{"$f":"DateSet!C2","v":2023}]
[null,"Period",{"$f":"DateSet!C3","v":"S1"}]
[null,"Analysis Start",{"$f":"DateSet!J9","v":"2022-01-01"}]
[]
[null,"Rate Sched","60-GRF","63-GRF","Res"]
[null,"Residential","True-Up Period",null,null,"Actual Period*",null,null,null,null,null,null,null,null,"Projected Period"]
[null,"Month (Flow)",{"$f":"C7","v":44562},{"$f":"EDATE(C11,1)","v":44593},{"$f":"EDATE(D11,1)","v":44621},44652,44682,44713,44743,44774,44805,44835,44866,44896,44927,44958,44986]
[null,"Est. Volume",{"$f":"SUMPRODUCT((CustEstVol[MonthFlow]=C$11)*(CustEstVol[RateSched]=$C$9)*CustEstVol[NormVol])+SUMPRODUCT((CustEstVol[MonthFlow]=C$11)*(CustEstVol[RateSched]=$D$9)*CustEstVol[NormVol])","v":2516391},{"$f":"SUMPRODUCT((CustEstVol[MonthFlow]=D$11)*(CustEstVol[RateSched]=$C$9)*CustEstVol[NormVol])+SUMPRODUCT((CustEstVol[MonthFlow]=D$11)*(CustEstVol[RateSched]=$D$9)*CustEstVol[NormVol])","v":2135402},{"$f":"SUMPRODUCT((CustEstVol[MonthFlow]=E$11)*(CustEstVol[RateSched]=$C$9)*CustEstVol[NormVol])+SUMPRODUCT((CustEstVol[MonthFlow]=E$11)*(CustEstVol[RateSched]=$D$9)*CustEstVol[NormVol])","v":1607542},null,null,null,null,null,null,null,null,null,{"$f":"SUMPRODUCT((CustEstVol[MonthFlow]=O$11)*(CustEstVol[RateSched]=$C$9)*CustEstVol[NormVol])+SUMPRODUCT((CustEstVol[MonthFlow]=O$11)*(CustEstVol[RateSched]=$D$9)*CustEstVol[NormVol])","v":2516391},{"$f":"SUMPRODUCT((CustEstVol[MonthFlow]=P$11)*(CustEstVol[RateSched]=$C$9)*CustEstVol[NormVol])+SUMPRODUCT((CustEstVol[MonthFlow]=P$11)*(CustEstVol[RateSched]=$D$9)*CustEstVol[NormVol])","v":2135402},{"$f":"SUMPRODUCT((CustEstVol[MonthFlow]=Q$11)*(CustEstVol[RateSched]=$C$9)*CustEstVol[NormVol])+SUMPRODUCT((CustEstVol[MonthFlow]=Q$11)*(CustEstVol[RateSched]=$D$9)*CustEstVol[NormVol])","v":1607542}]
[null,"Actual Volume",{"$f":"SUMPRODUCT((CustActVol[MonthFlow]=C$11)*(CustActVol[RateSched]=$C$9)*CustActVol[Volume])+SUMPRODUCT((CustActVol[MonthFlow]=C$11)*(CustActVol[RateSched]=$D$9)*CustActVol[Volume])","v":2741560.6732100006},{"$f":"SUMPRODUCT((CustActVol[MonthFlow]=D$11)*(CustActVol[RateSched]=$C$9)*CustActVol[Volume])+SUMPRODUCT((CustActVol[MonthFlow]=D$11)*(CustActVol[RateSched]=$D$9)*CustActVol[Volume])","v":2334174.4656699966},{"$f":"SUMPRODUCT((CustActVol[MonthFlow]=E$11)*(CustActVol[RateSched]=$C$9)*CustActVol[Volume])+SUMPRODUCT((CustActVol[MonthFlow]=E$11)*(CustActVol[RateSched]=$D$9)*CustActVol[Volume])","v":1538558.277869998},{"$f":"SUMPRODUCT((CustActVol[MonthFlow]=F$11)*(CustActVol[RateSched]=$C$9)*CustActVol[Volume])+SUMPRODUCT((CustActVol[MonthFlow]=F$11)*(CustActVol[RateSched]=$D$9)*CustActVol[Volume])","v":1149235.9940499992},{"$f":"SUMPRODUCT((CustActVol[MonthFlow]=G$11)*(CustActVol[RateSched]=$C$9)*CustActVol[Volume])+SUMPRODUCT((CustActVol[MonthFlow]=G$11)*(CustActVol[RateSched]=$D$9)*CustActVol[Volume])","v":305749.90051999706},{"$f":"SUMPRODUCT((CustActVol[MonthFlow]=H$11)*(CustActVol[RateSched]=$C$9)*CustActVol[Volume])+SUMPRODUCT((CustActVol[MonthFlow]=H$11)*(CustActVol[RateSched]=$D$9)*CustActVol[Volume])","v":156072.78718999968},{"$f":"SUMPRODUCT((CustActVol[MonthFlow]=I$11)*(CustActVol[RateSched]=$C$9)*CustActVol[Volume])+SUMPRODUCT((CustActVol[MonthFlow]=I$11)*(CustActVol[RateSched]=$D$9)*CustActVol[Volume])","v":121944.88197999953},{"$f":"SUMPRODUCT((CustActVol[MonthFlow]=J$11)*(CustActVol[RateSched]=$C$9)*CustActVol[Volume])+SUMPRODUCT((CustActVol[MonthFlow]=J$11)*(CustActVol[RateSched]=$D$9)*CustActVol[Volume])","v":121973.77394999954},{"$f":"SUMPRODUCT((CustActVol[MonthFlow]=K$11)*(CustActVol[RateSched]=$C$9)*CustActVol[Volume])+SUMPRODUCT((CustActVol[MonthFlow]=K$11)*(CustActVol[RateSched]=$D$9)*CustActVol[Volume])","v":152143.44279999955},{"$f":"SUMPRODUCT((CustActVol[MonthFlow]=L$11)*(CustActVol[RateSched]=$C$9)*CustActVol[Volume])+SUMPRODUCT((CustActVol[MonthFlow]=L$11)*(CustActVol[RateSched]=$D$9)*CustActVol[Volume])","v":479574.86027000053},{"$f":"SUMPRODUCT((CustActVol[MonthFlow]=M$11)*(CustActVol[RateSched]=$C$9)*CustActVol[Volume])+SUMPRODUCT((CustActVol[MonthFlow]=M$11)*(CustActVol[RateSched]=$D$9)*CustActVol[Volume])","v":1163564.7272500019},{"$f":"SUMPRODUCT((CustActVol[MonthFlow]=N$11)*(CustActVol[RateSched]=$C$9)*CustActVol[Volume])+SUMPRODUCT((CustActVol[MonthFlow]=N$11)*(CustActVol[RateSched]=$D$9)*CustActVol[Volume])","v":1791355.3096099943}]
[null,"Vol True-Up",{"$f":"C13-C12","v":225169.67321000062},{"$f":"D13-D12","v":198772.46566999657},-68983.722130001988]
[null,{"$f":"\"WNAR \"&$C$6&\" Rates in Effect\"","v":"WNAR S1 Rates in Effect"}]
[null,"CSWNA",{"$f":"SUMPRODUCT((WNARRates[BeginDate]<=C$11)*(WNARRates[EndDate]>=C$11)*(WNARRates[Region]=$C$4)*(WNARRates[CustClass]=$E$9)*(WNARRates[Period]=$C$6)*WNARRates[CSWNA])","v":1.208E-2},{"$f":"SUMPRODUCT((WNARRates[BeginDate]<=D$11)*(WNARRates[EndDate]>=D$11)*(WNARRates[Region]=$C$4)*(WNARRates[CustClass]=$E$9)*(WNARRates[Period]=$C$6)*WNARRates[CSWNA])","v":1.208E-2},{"$f":"SUMPRODUCT((WNARRates[BeginDate]<=E$11)*(WNARRates[EndDate]>=E$11)*(WNARRates[Region]=$C$4)*(WNARRates[CustClass]=$E$9)*(WNARRates[Period]=$C$6)*WNARRates[CSWNA])","v":1.208E-2},{"$f":"SUMPRODUCT((WNARRates[BeginDate]<=F$11)*(WNARRates[EndDate]>=F$11)*(WNARRates[Region]=$C$4)*(WNARRates[CustClass]=$E$9)*(WNARRates[Period]=$C$6)*WNARRates[AdjCSWNA])","v":5.7299999999999997E-2},{"$f":"SUMPRODUCT((WNARRates[BeginDate]<=G$11)*(WNARRates[EndDate]>=G$11)*(WNARRates[Region]=$C$4)*(WNARRates[CustClass]=$E$9)*(WNARRates[Period]=$C$6)*WNARRates[AdjCSWNA])","v":5.7299999999999997E-2},{"$f":"SUMPRODUCT((WNARRates[BeginDate]<=H$11)*(WNARRates[EndDate]>=H$11)*(WNARRates[Region]=$C$4)*(WNARRates[CustClass]=$E$9)*(WNARRates[Period]=$C$6)*WNARRates[AdjCSWNA])","v":5.7299999999999997E-2},{"$f":"SUMPRODUCT((WNARRates[BeginDate]<=I$11)*(WNARRates[EndDate]>=I$11)*(WNARRates[Region]=$C$4)*(WNARRates[CustClass]=$E$9)*(WNARRates[Period]=$C$6)*WNARRates[AdjCSWNA])","v":5.7299999999999997E-2},{"$f":"SUMPRODUCT((WNARRates[BeginDate]<=J$11)*(WNARRates[EndDate]>=J$11)*(WNARRates[Region]=$C$4)*(WNARRates[CustClass]=$E$9)*(WNARRates[Period]=$C$6)*WNARRates[AdjCSWNA])","v":5.7299999999999997E-2},{"$f":"SUMPRODUCT((WNARRates[BeginDate]<=K$11)*(WNARRates[EndDate]>=K$11)*(WNARRates[Region]=$C$4)*(WNARRates[CustClass]=$E$9)*(WNARRates[Period]=$C$6)*WNARRates[AdjCSWNA])","v":5.7299999999999997E-2},{"$f":"SUMPRODUCT((WNARRates[BeginDate]<=L$11)*(WNARRates[EndDate]>=L$11)*(WNARRates[Region]=$C$4)*(WNARRates[CustClass]=$E$9)*(WNARRates[Period]=$C$6)*WNARRates[AdjCSWNA])","v":5.7299999999999997E-2},{"$f":"SUMPRODUCT((WNARRates[BeginDate]<=M$11)*(WNARRates[EndDate]>=M$11)*(WNARRates[Region]=$C$4)*(WNARRates[CustClass]=$E$9)*(WNARRates[Period]=$C$6)*WNARRates[AdjCSWNA])","v":5.7299999999999997E-2},{"$f":"SUMPRODUCT((WNARRates[BeginDate]<=N$11)*(WNARRates[EndDate]>=N$11)*(WNARRates[Region]=$C$4)*(WNARRates[CustClass]=$E$9)*(WNARRates[Period]=$C$6)*WNARRates[AdjCSWNA])","v":5.7299999999999997E-2},{"$f":"SUMPRODUCT((WNARRates[BeginDate]<=O$11)*(WNARRates[EndDate]>=O$11)*(WNARRates[Region]=$C$4)*(WNARRates[CustClass]=$E$9)*(WNARRates[Period]=$C$6)*WNARRates[AdjCSWNA])","v":5.7299999999999997E-2},{"$f":"SUMPRODUCT((WNARRates[BeginDate]<=P$11)*(WNARRates[EndDate]>=P$11)*(WNARRates[Region]=$C$4)*(WNARRates[CustClass]=$E$9)*(WNARRates[Period]=$C$6)*WNARRates[AdjCSWNA])","v":5.7299999999999997E-2},{"$f":"SUMPRODUCT((WNARRates[BeginDate]<=Q$11)*(WNARRates[EndDate]>=Q$11)*(WNARRates[Region]=$C$4)*(WNARRates[CustClass]=$E$9)*(WNARRates[Period]=$C$6)*WNARRates[AdjCSWNA])","v":5.7299999999999997E-2}]
[null,"SRR",{"$f":"SUMPRODUCT((WNARRates[BeginDate]<=C$11)*(WNARRates[EndDate]>=C$11)*(WNARRates[Region]=$C$4)*(WNARRates[CustClass]=$E$9)*(WNARRates[Period]=$C$6)*WNARRates[SRR])","v":-2E-3},{"$f":"SUMPRODUCT((WNARRates[BeginDate]<=D$11)*(WNARRates[EndDate]>=D$11)*(WNARRates[Region]=$C$4)*(WNARRates[CustClass]=$E$9)*(WNARRates[Period]=$C$6)*WNARRates[SRR])","v":-2E-3},{"$f":"SUMPRODUCT((WNARRates[BeginDate]<=E$11)*(WNARRates[EndDate]>=E$11)*(WNARRates[Region]=$C$4)*(WNARRates[CustClass]=$E$9)*(WNARRates[Period]=$C$6)*WNARRates[SRR])","v":-2E-3},{"$f":"SUMPRODUCT((WNARRates[BeginDate]<=F$11)*(WNARRates[EndDate]>=F$11)*(WNARRates[Region]=$C$4)*(WNARRates[CustClass]=$E$9)*(WNARRates[Period]=$C$6)*WNARRates[AdjSRR])","v":2.7799999999999999E-3},{"$f":"SUMPRODUCT((WNARRates[BeginDate]<=G$11)*(WNARRates[EndDate]>=G$11)*(WNARRates[Region]=$C$4)*(WNARRates[CustClass]=$E$9)*(WNARRates[Period]=$C$6)*WNARRates[AdjSRR])","v":2.7799999999999999E-3},{"$f":"SUMPRODUCT((WNARRates[BeginDate]<=H$11)*(WNARRates[EndDate]>=H$11)*(WNARRates[Region]=$C$4)*(WNARRates[CustClass]=$E$9)*(WNARRates[Period]=$C$6)*WNARRates[AdjSRR])","v":2.7799999999999999E-3},{"$f":"SUMPRODUCT((WNARRates[BeginDate]<=I$11)*(WNARRates[EndDate]>=I$11)*(WNARRates[Region]=$C$4)*(WNARRates[CustClass]=$E$9)*(WNARRates[Period]=$C$6)*WNARRates[AdjSRR])","v":2.7799999999999999E-3},{"$f":"SUMPRODUCT((WNARRates[BeginDate]<=J$11)*(WNARRates[EndDate]>=J$11)*(WNARRates[Region]=$C$4)*(WNARRates[CustClass]=$E$9)*(WNARRates[Period]=$C$6)*WNARRates[AdjSRR])","v":2.7799999999999999E-3},{"$f":"SUMPRODUCT((WNARRates[BeginDate]<=K$11)*(WNARRates[EndDate]>=K$11)*(WNARRates[Region]=$C$4)*(WNARRates[CustClass]=$E$9)*(WNARRates[Period]=$C$6)*WNARRates[AdjSRR])","v":2.7799999999999999E-3},{"$f":"SUMPRODUCT((WNARRates[BeginDate]<=L$11)*(WNARRates[EndDate]>=L$11)*(WNARRates[Region]=$C$4)*(WNARRates[CustClass]=$E$9)*(WNARRates[Period]=$C$6)*WNARRates[AdjSRR])","v":2.7799999999999999E-3},{"$f":"SUMPRODUCT((WNARRates[BeginDate]<=M$11)*(WNARRates[EndDate]>=M$11)*(WNARRates[Region]=$C$4)*(WNARRates[CustClass]=$E$9)*(WNARRates[Period]=$C$6)*WNARRates[AdjSRR])","v":2.7799999999999999E-3},{"$f":"SUMPRODUCT((WNARRates[BeginDate]<=N$11)*(WNARRates[EndDate]>=N$11)*(WNARRates[Region]=$C$4)*(WNARRates[CustClass]=$E$9)*(WNARRates[Period]=$C$6)*WNARRates[AdjSRR])","v":2.7799999999999999E-3},{"$f":"SUMPRODUCT((WNARRates[BeginDate]<=O$11)*(WNARRates[EndDate]>=O$11)*(WNARRates[Region]=$C$4)*(WNARRates[CustClass]=$E$9)*(WNARRates[Period]=$C$6)*WNARRates[AdjSRR])","v":2.7799999999999999E-3},{"$f":"SUMPRODUCT((WNARRates[BeginDate]<=P$11)*(WNARRates[EndDate]>=P$11)*(WNARRates[Region]=$C$4)*(WNARRates[CustClass]=$E$9)*(WNARRates[Period]=$C$6)*WNARRates[AdjSRR])","v":2.7799999999999999E-3},{"$f":"SUMPRODUCT((WNARRates[BeginDate]<=Q$11)*(WNARRates[EndDate]>=Q$11)*(WNARRates[Region]=$C$4)*(WNARRates[CustClass]=$E$9)*(WNARRates[Period]=$C$6)*WNARRates[AdjSRR])","v":2.7799999999999999E-3}]
[null,"Total",{"$f":"SUM(C16:C17)","v":1.008E-2},{"$f":"SUM(D16:D17)","v":1.008E-2},1.008E-2]
[null,"CSWNA and SRR Revenue for Period"]
[null,"CSWNA $",null,null,null,{"$f":"SUMPRODUCT((WNARRev[Flow Month]=F$11)*(WNARRev[Period]=$C$6)*WNARRev[N60-GRF-CSWNA])+SUMPRODUCT((WNARRev[Flow Month]=F$11)*(WNARRev[Period]=$C$6)*WNARRev[N63-GRF-CSWNA])","v":58244.765767710123},{"$f":"SUMPRODUCT((WNARRev[Flow Month]=G$11)*(WNARRev[Period]=$C$6)*WNARRev[N60-GRF-CSWNA])+SUMPRODUCT((WNARRev[Flow Month]=G$11)*(WNARRev[Period]=$C$6)*WNARRev[N63-GRF-CSWNA])","v":17559.88161250098},{"$f":"SUMPRODUCT((WNARRev[Flow Month]=H$11)*(WNARRev[Period]=$C$6)*WNARRev[N60-GRF-CSWNA])+SUMPRODUCT((WNARRev[Flow Month]=H$11)*(WNARRev[Period]=$C$6)*WNARRev[N63-GRF-CSWNA])","v":8938.6425199717887},{"$f":"SUMPRODUCT((WNARRev[Flow Month]=I$11)*(WNARRev[Period]=$C$6)*WNARRev[N60-GRF-CSWNA])+SUMPRODUCT((WNARRev[Flow Month]=I$11)*(WNARRev[Period]=$C$6)*WNARRev[N63-GRF-CSWNA])","v":6971.5848445138718},{"$f":"SUMPRODUCT((WNARRev[Flow Month]=J$11)*(WNARRev[Period]=$C$6)*WNARRev[N60-GRF-CSWNA])+SUMPRODUCT((WNARRev[Flow Month]=J$11)*(WNARRev[Period]=$C$6)*WNARRev[N63-GRF-CSWNA])","v":6986.5755275950942},{"$f":"SUMPRODUCT((WNARRev[Flow Month]=K$11)*(WNARRev[Period]=$C$6)*WNARRev[N60-GRF-CSWNA])+SUMPRODUCT((WNARRev[Flow Month]=K$11)*(WNARRev[Period]=$C$6)*WNARRev[N63-GRF-CSWNA])","v":8715.1530142310767},{"$f":"SUMPRODUCT((WNARRev[Flow Month]=L$11)*(WNARRev[Period]=$C$6)*WNARRev[N60-GRF-CSWNA])+SUMPRODUCT((WNARRev[Flow Month]=L$11)*(WNARRev[Period]=$C$6)*WNARRev[N63-GRF-CSWNA])","v":27468.547973625256},{"$f":"SUMPRODUCT((WNARRev[Flow Month]=M$11)*(WNARRev[Period]=$C$6)*WNARRev[N60-GRF-CSWNA])+SUMPRODUCT((WNARRev[Flow Month]=M$11)*(WNARRev[Period]=$C$6)*WNARRev[N63-GRF-CSWNA])","v":66672.444002660748},{"$f":"SUMPRODUCT((WNARRev[Flow Month]=N$11)*(WNARRev[Period]=$C$6)*WNARRev[N60-GRF-CSWNA])+SUMPRODUCT((WNARRev[Flow Month]=N$11)*(WNARRev[Period]=$C$6)*WNARRev[N63-GRF-CSWNA])","v":102641.15448357616},{"$f":"ROUND(O$12*O16,0)","v":144189},{"$f":"ROUND(P$12*P16,0)","v":122359},92112]
[null,"SRR $",{"$f":"ROUND(C14*C18,2)","v":2269.71},{"$f":"ROUND(D14*D18,2)","v":2003.63},{"$f":"ROUND(E14*E18,2)","v":-695.36},{"$f":"SUMPRODUCT((WNARRev[Flow Month]=F$11)*(WNARRev[Period]=$C$6)*WNARRev[N60-GRF-SRR])+SUMPRODUCT((WNARRev[Flow Month]=F$11)*(WNARRev[Period]=$C$6)*WNARRev[N63-GRF-SRR])","v":2372.3971882209021},{"$f":"SUMPRODUCT((WNARRev[Flow Month]=G$11)*(WNARRev[Period]=$C$6)*WNARRev[N60-GRF-SRR])+SUMPRODUCT((WNARRev[Flow Month]=G$11)*(WNARRev[Period]=$C$6)*WNARRev[N63-GRF-SRR])","v":851.94539062395688},{"$f":"SUMPRODUCT((WNARRev[Flow Month]=H$11)*(WNARRev[Period]=$C$6)*WNARRev[N60-GRF-SRR])+SUMPRODUCT((WNARRev[Flow Month]=H$11)*(WNARRev[Period]=$C$6)*WNARRev[N63-GRF-SRR])","v":433.67235960770637},{"$f":"SUMPRODUCT((WNARRev[Flow Month]=I$11)*(WNARRev[Period]=$C$6)*WNARRev[N60-GRF-SRR])+SUMPRODUCT((WNARRev[Flow Month]=I$11)*(WNARRev[Period]=$C$6)*WNARRev[N63-GRF-SRR])","v":338.23744969892778},{"$f":"SUMPRODUCT((WNARRev[Flow Month]=J$11)*(WNARRev[Period]=$C$6)*WNARRev[N60-GRF-SRR])+SUMPRODUCT((WNARRev[Flow Month]=J$11)*(WNARRev[Period]=$C$6)*WNARRev[N63-GRF-SRR])","v":338.96474636499761},{"$f":"SUMPRODUCT((WNARRev[Flow Month]=K$11)*(WNARRev[Period]=$C$6)*WNARRev[N60-GRF-SRR])+SUMPRODUCT((WNARRev[Flow Month]=K$11)*(WNARRev[Period]=$C$6)*WNARRev[N63-GRF-SRR])","v":422.8294132558882},{"$f":"SUMPRODUCT((WNARRev[Flow Month]=L$11)*(WNARRev[Period]=$C$6)*WNARRev[N60-GRF-SRR])+SUMPRODUCT((WNARRev[Flow Month]=L$11)*(WNARRev[Period]=$C$6)*WNARRev[N63-GRF-SRR])","v":1332.6799889472638},{"$f":"SUMPRODUCT((WNARRev[Flow Month]=M$11)*(WNARRev[Period]=$C$6)*WNARRev[N60-GRF-SRR])+SUMPRODUCT((WNARRev[Flow Month]=M$11)*(WNARRev[Period]=$C$6)*WNARRev[N63-GRF-SRR])","v":3234.7189236893},{"$f":"SUMPRODUCT((WNARRev[Flow Month]=N$11)*(WNARRev[Period]=$C$6)*WNARRev[N60-GRF-SRR])+SUMPRODUCT((WNARRev[Flow Month]=N$11)*(WNARRev[Period]=$C$6)*WNARRev[N63-GRF-SRR])","v":4979.7977218907799},{"$f":"ROUND(O$12*O17,0)","v":6996},5936,4469]
[null,"Total True-Up",{"$f":"SUM(C21:E21)","v":3577.98},"Enter in VolTrueUp Table"]
[]
[null,"Rate Sched","60-GCSF","63-GCSF","SGS"]
[null,"Small Comm.","True-Up Period",null,null,"Actual Period*",null,null,null,null,null,null,null,null,"Projected Period"]
[null,"Month (Flow)",{"$f":"C7","v":44562},{"$f":"EDATE(C26,1)","v":44593},{"$f":"EDATE(D26,1)","v":44621},44652,44682,44713,44743,44774,44805,44835,44866,44896,44927,44958,44986]
[null,"Est. Volume",{"$f":"SUMPRODUCT((CustEstVol[MonthFlow]=C$26)*(CustEstVol[RateSched]=$C$24)*CustEstVol[NormVol])+SUMPRODUCT((CustEstVol[MonthFlow]=C$26)*(CustEstVol[RateSched]=$D$24)*CustEstVol[NormVol])","v":850476},{"$f":"SUMPRODUCT((CustEstVol[MonthFlow]=D$26)*(CustEstVol[RateSched]=$C$24)*CustEstVol[NormVol])+SUMPRODUCT((CustEstVol[MonthFlow]=D$26)*(CustEstVol[RateSched]=$D$24)*CustEstVol[NormVol])","v":699766},{"$f":"SUMPRODUCT((CustEstVol[MonthFlow]=E$26)*(CustEstVol[RateSched]=$C$24)*CustEstVol[NormVol])+SUMPRODUCT((CustEstVol[MonthFlow]=E$26)*(CustEstVol[RateSched]=$D$24)*CustEstVol[NormVol])","v":514163},null,null,null,null,null,null,null,null,null,{"$f":"SUMPRODUCT((CustEstVol[MonthFlow]=O$26)*(CustEstVol[RateSched]=$C$24)*CustEstVol[NormVol])+SUMPRODUCT((CustEstVol[MonthFlow]=O$26)*(CustEstVol[RateSched]=$D$24)*CustEstVol[NormVol])","v":846654},{"$f":"SUMPRODUCT((CustEstVol[MonthFlow]=P$26)*(CustEstVol[RateSched]=$C$24)*CustEstVol[NormVol])+SUMPRODUCT((CustEstVol[MonthFlow]=P$26)*(CustEstVol[RateSched]=$D$24)*CustEstVol[NormVol])","v":696626},{"$f":"SUMPRODUCT((CustEstVol[MonthFlow]=Q$26)*(CustEstVol[RateSched]=$C$24)*CustEstVol[NormVol])+SUMPRODUCT((CustEstVol[MonthFlow]=Q$26)*(CustEstVol[RateSched]=$D$24)*CustEstVol[NormVol])","v":511849}]
[null,"Actual Volume",{"$f":"SUMPRODUCT((CustActVol[MonthFlow]=C$26)*(CustActVol[RateSched]=$C$24)*CustActVol[Volume])+SUMPRODUCT((CustActVol[MonthFlow]=C$26)*(CustActVol[RateSched]=$D$24)*CustActVol[Volume])","v":886051.95000000007},{"$f":"SUMPRODUCT((CustActVol[MonthFlow]=D$26)*(CustActVol[RateSched]=$C$24)*CustActVol[Volume])+SUMPRODUCT((CustActVol[MonthFlow]=D$26)*(CustActVol[RateSched]=$D$24)*CustActVol[Volume])","v":745567.37314000016},{"$f":"SUMPRODUCT((CustActVol[MonthFlow]=E$26)*(CustActVol[RateSched]=$C$24)*CustActVol[Volume])+SUMPRODUCT((CustActVol[MonthFlow]=E$26)*(CustActVol[RateSched]=$D$24)*CustActVol[Volume])","v":475269.40928999986},{"$f":"SUMPRODUCT((CustActVol[MonthFlow]=F$26)*(CustActVol[RateSched]=$C$24)*CustActVol[Volume])+SUMPRODUCT((CustActVol[MonthFlow]=F$26)*(CustActVol[RateSched]=$D$24)*CustActVol[Volume])","v":330625.24749999988},{"$f":"SUMPRODUCT((CustActVol[MonthFlow]=G$26)*(CustActVol[RateSched]=$C$24)*CustActVol[Volume])+SUMPRODUCT((CustActVol[MonthFlow]=G$26)*(CustActVol[RateSched]=$D$24)*CustActVol[Volume])","v":95269.083969999978},{"$f":"SUMPRODUCT((CustActVol[MonthFlow]=H$26)*(CustActVol[RateSched]=$C$24)*CustActVol[Volume])+SUMPRODUCT((CustActVol[MonthFlow]=H$26)*(CustActVol[RateSched]=$D$24)*CustActVol[Volume])","v":58347.094239999991},{"$f":"SUMPRODUCT((CustActVol[MonthFlow]=I$26)*(CustActVol[RateSched]=$C$24)*CustActVol[Volume])+SUMPRODUCT((CustActVol[MonthFlow]=I$26)*(CustActVol[RateSched]=$D$24)*CustActVol[Volume])","v":47722.595470000029},{"$f":"SUMPRODUCT((CustActVol[MonthFlow]=J$26)*(CustActVol[RateSched]=$C$24)*CustActVol[Volume])+SUMPRODUCT((CustActVol[MonthFlow]=J$26)*(CustActVol[RateSched]=$D$24)*CustActVol[Volume])","v":49451.459639999979},{"$f":"SUMPRODUCT((CustActVol[MonthFlow]=K$26)*(CustActVol[RateSched]=$C$24)*CustActVol[Volume])+SUMPRODUCT((CustActVol[MonthFlow]=K$26)*(CustActVol[RateSched]=$D$24)*CustActVol[Volume])","v":56495.821689999975},{"$f":"SUMPRODUCT((CustActVol[MonthFlow]=L$26)*(CustActVol[RateSched]=$C$24)*CustActVol[Volume])+SUMPRODUCT((CustActVol[MonthFlow]=L$26)*(CustActVol[RateSched]=$D$24)*CustActVol[Volume])","v":132338.28885000016},{"$f":"SUMPRODUCT((CustActVol[MonthFlow]=M$26)*(CustActVol[RateSched]=$C$24)*CustActVol[Volume])+SUMPRODUCT((CustActVol[MonthFlow]=M$26)*(CustActVol[RateSched]=$D$24)*CustActVol[Volume])","v":354220.76579999982},{"$f":"SUMPRODUCT((CustActVol[MonthFlow]=N$26)*(CustActVol[RateSched]=$C$24)*CustActVol[Volume])+SUMPRODUCT((CustActVol[MonthFlow]=N$26)*(CustActVol[RateSched]=$D$24)*CustActVol[Volume])","v":580200.90862999973}]
[null,"Vol True-Up",{"$f":"C28-C27","v":35575.95000000007},{"$f":"D28-D27","v":45801.373140000156},-38893.590710000135]
[null,{"$f":"\"WNAR \"&$C$6&\" Rates in Effect\"","v":"WNAR S1 Rates in Effect"}]
[null,"CSWNA",{"$f":"SUMPRODUCT((WNARRates[BeginDate]<=C$26)*(WNARRates[EndDate]>=C$26)*(WNARRates[Region]=$C$4)*(WNARRates[CustClass]=$E$24)*(WNARRates[Period]=$C$6)*WNARRates[CSWNA])","v":4.8599999999999997E-3},{"$f":"SUMPRODUCT((WNARRates[BeginDate]<=D$26)*(WNARRates[EndDate]>=D$26)*(WNARRates[Region]=$C$4)*(WNARRates[CustClass]=$E$24)*(WNARRates[Period]=$C$6)*WNARRates[CSWNA])","v":4.8599999999999997E-3},{"$f":"SUMPRODUCT((WNARRates[BeginDate]<=E$26)*(WNARRates[EndDate]>=E$26)*(WNARRates[Region]=$C$4)*(WNARRates[CustClass]=$E$24)*(WNARRates[Period]=$C$6)*WNARRates[CSWNA])","v":4.8599999999999997E-3},{"$f":"SUMPRODUCT((WNARRates[BeginDate]<=F$26)*(WNARRates[EndDate]>=F$26)*(WNARRates[Region]=$C$4)*(WNARRates[CustClass]=$E$24)*(WNARRates[Period]=$C$6)*WNARRates[AdjCSWNA])","v":2.7810000000000001E-2},{"$f":"SUMPRODUCT((WNARRates[BeginDate]<=G$26)*(WNARRates[EndDate]>=G$26)*(WNARRates[Region]=$C$4)*(WNARRates[CustClass]=$E$24)*(WNARRates[Period]=$C$6)*WNARRates[AdjCSWNA])","v":2.7810000000000001E-2},{"$f":"SUMPRODUCT((WNARRates[BeginDate]<=H$26)*(WNARRates[EndDate]>=H$26)*(WNARRates[Region]=$C$4)*(WNARRates[CustClass]=$E$24)*(WNARRates[Period]=$C$6)*WNARRates[AdjCSWNA])","v":2.7810000000000001E-2},{"$f":"SUMPRODUCT((WNARRates[BeginDate]<=I$26)*(WNARRates[EndDate]>=I$26)*(WNARRates[Region]=$C$4)*(WNARRates[CustClass]=$E$24)*(WNARRates[Period]=$C$6)*WNARRates[AdjCSWNA])","v":2.7810000000000001E-2},{"$f":"SUMPRODUCT((WNARRates[BeginDate]<=J$26)*(WNARRates[EndDate]>=J$26)*(WNARRates[Region]=$C$4)*(WNARRates[CustClass]=$E$24)*(WNARRates[Period]=$C$6)*WNARRates[AdjCSWNA])","v":2.7810000000000001E-2},{"$f":"SUMPRODUCT((WNARRates[BeginDate]<=K$26)*(WNARRates[EndDate]>=K$26)*(WNARRates[Region]=$C$4)*(WNARRates[CustClass]=$E$24)*(WNARRates[Period]=$C$6)*WNARRates[AdjCSWNA])","v":2.7810000000000001E-2},{"$f":"SUMPRODUCT((WNARRates[BeginDate]<=L$26)*(WNARRates[EndDate]>=L$26)*(WNARRates[Region]=$C$4)*(WNARRates[CustClass]=$E$24)*(WNARRates[Period]=$C$6)*WNARRates[AdjCSWNA])","v":2.7810000000000001E-2},{"$f":"SUMPRODUCT((WNARRates[BeginDate]<=M$26)*(WNARRates[EndDate]>=M$26)*(WNARRates[Region]=$C$4)*(WNARRates[CustClass]=$E$24)*(WNARRates[Period]=$C$6)*WNARRates[AdjCSWNA])","v":2.7810000000000001E-2},{"$f":"SUMPRODUCT((WNARRates[BeginDate]<=N$26)*(WNARRates[EndDate]>=N$26)*(WNARRates[Region]=$C$4)*(WNARRates[CustClass]=$E$24)*(WNARRates[Period]=$C$6)*WNARRates[AdjCSWNA])","v":2.7810000000000001E-2},{"$f":"SUMPRODUCT((WNARRates[BeginDate]<=O$26)*(WNARRates[EndDate]>=O$26)*(WNARRates[Region]=$C$4)*(WNARRates[CustClass]=$E$24)*(WNARRates[Period]=$C$6)*WNARRates[AdjCSWNA])","v":2.7810000000000001E-2},{"$f":"SUMPRODUCT((WNARRates[BeginDate]<=P$26)*(WNARRates[EndDate]>=P$26)*(WNARRates[Region]=$C$4)*(WNARRates[CustClass]=$E$24)*(WNARRates[Period]=$C$6)*WNARRates[AdjCSWNA])","v":2.7810000000000001E-2},{"$f":"SUMPRODUCT((WNARRates[BeginDate]<=Q$26)*(WNARRates[EndDate]>=Q$26)*(WNARRates[Region]=$C$4)*(WNARRates[CustClass]=$E$24)*(WNARRates[Period]=$C$6)*WNARRates[AdjCSWNA])","v":2.7810000000000001E-2}]
[null,"SRR",{"$f":"SUMPRODUCT((WNARRates[BeginDate]<=C$26)*(WNARRates[EndDate]>=C$26)*(WNARRates[Region]=$C$4)*(WNARRates[CustClass]=$E$24)*(WNARRates[Period]=$C$6)*WNARRates[SRR])","v":-1.4999999999999999E-4},{"$f":"SUMPRODUCT((WNARRates[BeginDate]<=D$26)*(WNARRates[EndDate]>=D$26)*(WNARRates[Region]=$C$4)*(WNARRates[CustClass]=$E$24)*(WNARRates[Period]=$C$6)*WNARRates[SRR])","v":-1.4999999999999999E-4},{"$f":"SUMPRODUCT((WNARRates[BeginDate]<=E$26)*(WNARRates[EndDate]>=E$26)*(WNARRates[Region]=$C$4)*(WNARRates[CustClass]=$E$24)*(WNARRates[Period]=$C$6)*WNARRates[SRR])","v":-1.4999999999999999E-4},{"$f":"SUMPRODUCT((WNARRates[BeginDate]<=F$26)*(WNARRates[EndDate]>=F$26)*(WNARRates[Region]=$C$4)*(WNARRates[CustClass]=$E$24)*(WNARRates[Period]=$C$6)*WNARRates[AdjSRR])","v":-2.2000000000000001E-4},{"$f":"SUMPRODUCT((WNARRates[BeginDate]<=G$26)*(WNARRates[EndDate]>=G$26)*(WNARRates[Region]=$C$4)*(WNARRates[CustClass]=$E$24)*(WNARRates[Period]=$C$6)*WNARRates[AdjSRR])","v":-2.2000000000000001E-4},{"$f":"SUMPRODUCT((WNARRates[BeginDate]<=H$26)*(WNARRates[EndDate]>=H$26)*(WNARRates[Region]=$C$4)*(WNARRates[CustClass]=$E$24)*(WNARRates[Period]=$C$6)*WNARRates[AdjSRR])","v":-2.2000000000000001E-4},{"$f":"SUMPRODUCT((WNARRates[BeginDate]<=I$26)*(WNARRates[EndDate]>=I$26)*(WNARRates[Region]=$C$4)*(WNARRates[CustClass]=$E$24)*(WNARRates[Period]=$C$6)*WNARRates[AdjSRR])","v":-2.2000000000000001E-4},{"$f":"SUMPRODUCT((WNARRates[BeginDate]<=J$26)*(WNARRates[EndDate]>=J$26)*(WNARRates[Region]=$C$4)*(WNARRates[CustClass]=$E$24)*(WNARRates[Period]=$C$6)*WNARRates[AdjSRR])","v":-2.2000000000000001E-4},{"$f":"SUMPRODUCT((WNARRates[BeginDate]<=K$26)*(WNARRates[EndDate]>=K$26)*(WNARRates[Region]=$C$4)*(WNARRates[CustClass]=$E$24)*(WNARRates[Period]=$C$6)*WNARRates[AdjSRR])","v":-2.2000000000000001E-4},{"$f":"SUMPRODUCT((WNARRates[BeginDate]<=L$26)*(WNARRates[EndDate]>=L$26)*(WNARRates[Region]=$C$4)*(WNARRates[CustClass]=$E$24)*(WNARRates[Period]=$C$6)*WNARRates[AdjSRR])","v":-2.2000000000000001E-4},{"$f":"SUMPRODUCT((WNARRates[BeginDate]<=M$26)*(WNARRates[EndDate]>=M$26)*(WNARRates[Region]=$C$4)*(WNARRates[CustClass]=$E$24)*(WNARRates[Period]=$C$6)*WNARRates[AdjSRR])","v":-2.2000000000000001E-4},{"$f":"SUMPRODUCT((WNARRates[BeginDate]<=N$26)*(WNARRates[EndDate]>=N$26)*(WNARRates[Region]=$C$4)*(WNARRates[CustClass]=$E$24)*(WNARRates[Period]=$C$6)*WNARRates[AdjSRR])","v":-2.2000000000000001E-4},{"$f":"SUMPRODUCT((WNARRates[BeginDate]<=O$26)*(WNARRates[EndDate]>=O$26)*(WNARRates[Region]=$C$4)*(WNARRates[CustClass]=$E$24)*(WNARRates[Period]=$C$6)*WNARRates[AdjSRR])","v":-2.2000000000000001E-4},{"$f":"SUMPRODUCT((WNARRates[BeginDate]<=P$26)*(WNARRates[EndDate]>=P$26)*(WNARRates[Region]=$C$4)*(WNARRates[CustClass]=$E$24)*(WNARRates[Period]=$C$6)*WNARRates[AdjSRR])","v":-2.2000000000000001E-4},{"$f":"SUMPRODUCT((WNARRates[BeginDate]<=Q$26)*(WNARRates[EndDate]>=Q$26)*(WNARRates[Region]=$C$4)*(WNARRates[CustClass]=$E$24)*(WNARRates[Period]=$C$6)*WNARRates[AdjSRR])","v":-2.2000000000000001E-4}]
[null,"Total",{"$f":"SUM(C31:C32)","v":4.7099999999999998E-3},{"$f":"SUM(D31:D32)","v":4.7099999999999998E-3},4.7099999999999998E-3]
[null,"CSWNA and SRR Revenue for Period"]
[null,"CSWNA $",null,null,null,{"$f":"SUMPRODUCT((WNARRev[Flow Month]=F$11)*(WNARRev[Period]=$C$6)*WNARRev[N60-GRF-CSWNA])+SUMPRODUCT((WNARRev[Flow Month]=F$11)*(WNARRev[Period]=$C$6)*WNARRev[N63-GRF-CSWNA])","v":58244.765767710123},{"$f":"SUMPRODUCT((WNARRev[Flow Month]=G$11)*(WNARRev[Period]=$C$6)*WNARRev[N60-GRF-CSWNA])+SUMPRODUCT((WNARRev[Flow Month]=G$11)*(WNARRev[Period]=$C$6)*WNARRev[N63-GRF-CSWNA])","v":17559.88161250098},{"$f":"SUMPRODUCT((WNARRev[Flow Month]=H$11)*(WNARRev[Period]=$C$6)*WNARRev[N60-GRF-CSWNA])+SUMPRODUCT((WNARRev[Flow Month]=H$11)*(WNARRev[Period]=$C$6)*WNARRev[N63-GRF-CSWNA])","v":8938.6425199717887},{"$f":"SUMPRODUCT((WNARRev[Flow Month]=I$11)*(WNARRev[Period]=$C$6)*WNARRev[N60-GRF-CSWNA])+SUMPRODUCT((WNARRev[Flow Month]=I$11)*(WNARRev[Period]=$C$6)*WNARRev[N63-GRF-CSWNA])","v":6971.5848445138718},{"$f":"SUMPRODUCT((WNARRev[Flow Month]=J$11)*(WNARRev[Period]=$C$6)*WNARRev[N60-GRF-CSWNA])+SUMPRODUCT((WNARRev[Flow Month]=J$11)*(WNARRev[Period]=$C$6)*WNARRev[N63-GRF-CSWNA])","v":6986.5755275950942},{"$f":"SUMPRODUCT((WNARRev[Flow Month]=K$11)*(WNARRev[Period]=$C$6)*WNARRev[N60-GRF-CSWNA])+SUMPRODUCT((WNARRev[Flow Month]=K$11)*(WNARRev[Period]=$C$6)*WNARRev[N63-GRF-CSWNA])","v":8715.1530142310767},{"$f":"SUMPRODUCT((WNARRev[Flow Month]=L$11)*(WNARRev[Period]=$C$6)*WNARRev[N60-GRF-CSWNA])+SUMPRODUCT((WNARRev[Flow Month]=L$11)*(WNARRev[Period]=$C$6)*WNARRev[N63-GRF-CSWNA])","v":27468.547973625256},{"$f":"SUMPRODUCT((WNARRev[Flow Month]=M$11)*(WNARRev[Period]=$C$6)*WNARRev[N60-GRF-CSWNA])+SUMPRODUCT((WNARRev[Flow Month]=M$11)*(WNARRev[Period]=$C$6)*WNARRev[N63-GRF-CSWNA])","v":66672.444002660748},{"$f":"SUMPRODUCT((WNARRev[Flow Month]=N$11)*(WNARRev[Period]=$C$6)*WNARRev[N60-GRF-CSWNA])+SUMPRODUCT((WNARRev[Flow Month]=N$11)*(WNARRev[Period]=$C$6)*WNARRev[N63-GRF-CSWNA])","v":102641.15448357616},{"$f":"ROUND(O$27*O31,0)","v":23545},{"$f":"ROUND(P$27*P31,0)","v":19373},14235]
[null,"SRR $",{"$f":"ROUND(C29*C33,2)","v":167.56},{"$f":"ROUND(D29*D33,2)","v":215.72},{"$f":"ROUND(E29*E33,2)","v":-183.19},{"$f":"SUMPRODUCT((WNARRev[Flow Month]=F$11)*(WNARRev[Period]=$C$6)*WNARRev[N60-GRF-SRR])+SUMPRODUCT((WNARRev[Flow Month]=F$11)*(WNARRev[Period]=$C$6)*WNARRev[N63-GRF-SRR])","v":2372.3971882209021},{"$f":"SUMPRODUCT((WNARRev[Flow Month]=G$11)*(WNARRev[Period]=$C$6)*WNARRev[N60-GRF-SRR])+SUMPRODUCT((WNARRev[Flow Month]=G$11)*(WNARRev[Period]=$C$6)*WNARRev[N63-GRF-SRR])","v":851.94539062395688},{"$f":"SUMPRODUCT((WNARRev[Flow Month]=H$11)*(WNARRev[Period]=$C$6)*WNARRev[N60-GRF-SRR])+SUMPRODUCT((WNARRev[Flow Month]=H$11)*(WNARRev[Period]=$C$6)*WNARRev[N63-GRF-SRR])","v":433.67235960770637},{"$f":"SUMPRODUCT((WNARRev[Flow Month]=I$11)*(WNARRev[Period]=$C$6)*WNARRev[N60-GRF-SRR])+SUMPRODUCT((WNARRev[Flow Month]=I$11)*(WNARRev[Period]=$C$6)*WNARRev[N63-GRF-SRR])","v":338.23744969892778},{"$f":"SUMPRODUCT((WNARRev[Flow Month]=J$11)*(WNARRev[Period]=$C$6)*WNARRev[N60-GRF-SRR])+SUMPRODUCT((WNARRev[Flow Month]=J$11)*(WNARRev[Period]=$C$6)*WNARRev[N63-GRF-SRR])","v":338.96474636499761},{"$f":"SUMPRODUCT((WNARRev[Flow Month]=K$11)*(WNARRev[Period]=$C$6)*WNARRev[N60-GRF-SRR])+SUMPRODUCT((WNARRev[Flow Month]=K$11)*(WNARRev[Period]=$C$6)*WNARRev[N63-GRF-SRR])","v":422.8294132558882},{"$f":"SUMPRODUCT((WNARRev[Flow Month]=L$11)*(WNARRev[Period]=$C$6)*WNARRev[N60-GRF-SRR])+SUMPRODUCT((WNARRev[Flow Month]=L$11)*(WNARRev[Period]=$C$6)*WNARRev[N63-GRF-SRR])","v":1332.6799889472638},{"$f":"SUMPRODUCT((WNARRev[Flow Month]=M$11)*(WNARRev[Period]=$C$6)*WNARRev[N60-GRF-SRR])+SUMPRODUCT((WNARRev[Flow Month]=M$11)*(WNARRev[Period]=$C$6)*WNARRev[N63-GRF-SRR])","v":3234.7189236893},{"$f":"SUMPRODUCT((WNARRev[Flow Month]=N$11)*(WNARRev[Period]=$C$6)*WNARRev[N60-GRF-SRR])+SUMPRODUCT((WNARRev[Flow Month]=N$11)*(WNARRev[Period]=$C$6)*WNARRev[N63-GRF-SRR])","v":4979.7977218907799},{"$f":"ROUND(O$27*O32,0)","v":-186},-153,-113]
[null,"Total True-Up",{"$f":"SUM(C36:E36)","v":200.08999999999997},"Enter in VolTrueUp Table"]
[]
[null,"* Actual Period revenues were calculated using actual rates, and then adjusted for actual revenues billed."]
[null,"(See worksheet WNAR Rev S1 or S2, table WNAR Rev S1 or S2, and supporting workbook WNAR Breakdown)"]

{"sheet":"CSWNA SEMO","index":9,"n_rows":33,"n_cols":15,"rows_kept":33,"cut":false,"hidden":false,"merged":[[9,13,10,13],[22,1,23,1],[22,2,22,3],[22,4,23,4],[22,5,22,6],[22,13,23,13],[1,5,1,6],[9,1,10,1],[9,2,9,3],[9,4,10,4],[9,5,9,6]]}
[]
[null,"Liberty Midstates",null,null,null,"Filing Period"]
[null,"Billing Cycle and HDD Data Summary",null,null,null,"Year","Period"]
[null,"Territory","SEMO"]
[null,"Year",{"$f":"DateSet!C2","v":2023}]
[null,"Period",{"$f":"DateSet!C3","v":"S1"}]
[null,"Analysis Start",{"$f":"DateSet!J8","v":"2022-07-01"}]
[]
[null,"Residential","62-GRF","Res"]
[null,"MonthFlow","Meter Read Dates",null,"Days/\nCycle","Heating Degree Days",null,"Difference","No. of Bills","Beta Coeff.","WNAR","WRVR","WNAi","Billing Determinants","Mo Adj."]
[null,null,"Begin","End",null,"NDDij","ADDij","(NDDij - ADDij)","Cij","b","h*i*j","Vol. Rate","k*l",null,"m/n"]
[null,{"$f":"$C$7","v":44743},{"$f":"SUMPRODUCT((MeterReadSch[MonthBill]=$B12)*MeterReadSch[SEMO])","v":44738},{"$f":"SUMPRODUCT((MeterReadSch[MonthFlow]=$B12)*MeterReadSch[SEMO])","v":44768},{"$f":"D12-C12","v":30},{"$f":"SUMPRODUCT((CGITempAct[Date]>=$C12)*(CGITempAct[Date]<$D12)*CGITempAct[CGINHDD])","v":0.1},{"$f":"SUMPRODUCT((CGITempAct[Date]>=$C12)*(CGITempAct[Date]<$D12)*CGITempAct[CGIHDD])","v":0},{"$f":"F12-G12","v":0.1},{"$f":"SUMPRODUCT((NoOfBills[MonthFlow]=$B12)*NoOfBills[62-GRF])","v":25990},{"$f":"INDEX(BetaCoeff[BetaCoeff],MATCH(C$9,BetaCoeff[RateSched],0))","v":0.110869},{"$f":"H12*I12*J12","v":288.14853099999999},{"$f":"SUMPRODUCT((VolRates[Month]=MONTH(B12))*(VolRates[62-GRF]))","v":0.24335000000000001},{"$f":"ROUND(K12*L12,2)","v":70.12},{"$f":"SUMPRODUCT((BillDeter[Region]=$C$4)*(BillDeter[CustClass]=D$9)*BillDeter[BillingDeterminants])","v":15300894.639401933},{"$f":"ROUND(M12/N12,5)","v":0}]
[null,{"$f":"EDATE(B12,1)","v":44774},{"$f":"SUMPRODUCT((MeterReadSch[MonthBill]=$B13)*MeterReadSch[SEMO])","v":44768},{"$f":"SUMPRODUCT((MeterReadSch[MonthFlow]=$B13)*MeterReadSch[SEMO])","v":44800},{"$f":"D13-C13","v":32},{"$f":"SUMPRODUCT((CGITempAct[Date]>=$C13)*(CGITempAct[Date]<$D13)*CGITempAct[CGINHDD])","v":1},{"$f":"SUMPRODUCT((CGITempAct[Date]>=$C13)*(CGITempAct[Date]<$D13)*CGITempAct[CGIHDD])","v":0},{"$f":"F13-G13","v":1},{"$f":"SUMPRODUCT((NoOfBills[MonthFlow]=$B13)*NoOfBills[62-GRF])","v":25939},{"$f":"INDEX(BetaCoeff[BetaCoeff],MATCH(C$9,BetaCoeff[RateSched],0))","v":0.110869},{"$f":"H13*I13*J13","v":2875.8309909999998},{"$f":"SUMPRODUCT((VolRates[Month]=MONTH(B13))*(VolRates[62-GRF]))","v":0.24335000000000001},{"$f":"ROUND(K13*L13,2)","v":699.83},{"$f":"SUMPRODUCT((BillDeter[Region]=$C$4)*(BillDeter[CustClass]=D$9)*BillDeter[BillingDeterminants])","v":15300894.639401933},{"$f":"ROUND(M13/N13,5)","v":5.0000000000000002E-5}]
[null,{"$f":"EDATE(B13,1)","v":44805},{"$f":"SUMPRODUCT((MeterReadSch[MonthBill]=$B14)*MeterReadSch[SEMO])","v":44800},{"$f":"SUMPRODUCT((MeterReadSch[MonthFlow]=$B14)*MeterReadSch[SEMO])","v":44830},30,{"$f":"SUMPRODUCT((CGITempAct[Date]>=$C14)*(CGITempAct[Date]<$D14)*CGITempAct[CGINHDD])","v":5.5000000000000009},{"$f":"SUMPRODUCT((CGITempAct[Date]>=$C14)*(CGITempAct[Date]<$D14)*CGITempAct[CGIHDD])","v":2},3.5000000000000009,{"$f":"SUMPRODUCT((NoOfBills[MonthFlow]=$B14)*NoOfBills[62-GRF])","v":25919},{"$f":"INDEX(BetaCoeff[BetaCoeff],MATCH(C$9,BetaCoeff[RateSched],0))","v":0.110869},10057.647638500002,{"$f":"SUMPRODUCT((VolRates[Month]=MONTH(B14))*(VolRates[62-GRF]))","v":0.24335000000000001},2447.5300000000002,{"$f":"SUMPRODUCT((BillDeter[Region]=$C$4)*(BillDeter[CustClass]=D$9)*BillDeter[BillingDeterminants])","v":15300894.639401933},1.6000000000000001E-4]
[null,44835,{"$f":"SUMPRODUCT((MeterReadSch[MonthBill]=$B15)*MeterReadSch[SEMO])","v":44830},{"$f":"SUMPRODUCT((MeterReadSch[MonthFlow]=$B15)*MeterReadSch[SEMO])","v":44860},30,{"$f":"SUMPRODUCT((CGITempAct[Date]>=$C15)*(CGITempAct[Date]<$D15)*CGITempAct[CGINHDD])","v":235.60000000000002},{"$f":"SUMPRODUCT((CGITempAct[Date]>=$C15)*(CGITempAct[Date]<$D15)*CGITempAct[CGIHDD])","v":246.5},-10.899999999999977,{"$f":"SUMPRODUCT((NoOfBills[MonthFlow]=$B15)*NoOfBills[62-GRF])","v":26420},{"$f":"INDEX(BetaCoeff[BetaCoeff],MATCH(C$9,BetaCoeff[RateSched],0))","v":0.110869},-31927.832881999933,{"$f":"SUMPRODUCT((VolRates[Month]=MONTH(B15))*(VolRates[62-GRF]))","v":0.24335000000000001},-7769.64,{"$f":"SUMPRODUCT((BillDeter[Region]=$C$4)*(BillDeter[CustClass]=D$9)*BillDeter[BillingDeterminants])","v":15300894.639401933},-5.1000000000000004E-4]
[null,44866,{"$f":"SUMPRODUCT((MeterReadSch[MonthBill]=$B16)*MeterReadSch[SEMO])","v":44860},{"$f":"SUMPRODUCT((MeterReadSch[MonthFlow]=$B16)*MeterReadSch[SEMO])","v":44888},28,{"$f":"SUMPRODUCT((CGITempAct[Date]>=$C16)*(CGITempAct[Date]<$D16)*CGITempAct[CGINHDD])","v":458.9},{"$f":"SUMPRODUCT((CGITempAct[Date]>=$C16)*(CGITempAct[Date]<$D16)*CGITempAct[CGIHDD])","v":477.5},-18.600000000000023,{"$f":"SUMPRODUCT((NoOfBills[MonthFlow]=$B16)*NoOfBills[62-GRF])","v":26415},{"$f":"INDEX(BetaCoeff[BetaCoeff],MATCH(C$9,BetaCoeff[RateSched],0))","v":0.110869},-54472.046211000059,{"$f":"SUMPRODUCT((VolRates[Month]=MONTH(B16))*(VolRates[62-GRF]))","v":0.24335000000000001},-13255.77,{"$f":"SUMPRODUCT((BillDeter[Region]=$C$4)*(BillDeter[CustClass]=D$9)*BillDeter[BillingDeterminants])","v":15300894.639401933},-8.7000000000000001E-4]
[null,44896,{"$f":"SUMPRODUCT((MeterReadSch[MonthBill]=$B17)*MeterReadSch[SEMO])","v":44888},{"$f":"SUMPRODUCT((MeterReadSch[MonthFlow]=$B17)*MeterReadSch[SEMO])","v":44916},28,{"$f":"SUMPRODUCT((CGITempAct[Date]>=$C17)*(CGITempAct[Date]<$D17)*CGITempAct[CGINHDD])","v":656.19999999999993},{"$f":"SUMPRODUCT((CGITempAct[Date]>=$C17)*(CGITempAct[Date]<$D17)*CGITempAct[CGIHDD])","v":632.5},23.699999999999932,{"$f":"SUMPRODUCT((NoOfBills[MonthFlow]=$B17)*NoOfBills[62-GRF])","v":26654},{"$f":"INDEX(BetaCoeff[BetaCoeff],MATCH(C$9,BetaCoeff[RateSched],0))","v":0.110869},70035.9251261998,{"$f":"SUMPRODUCT((VolRates[Month]=MONTH(B17))*(VolRates[62-GRF]))","v":0.24335000000000001},17043.240000000002,{"$f":"SUMPRODUCT((BillDeter[Region]=$C$4)*(BillDeter[CustClass]=D$9)*BillDeter[BillingDeterminants])","v":15300894.639401933},1.1100000000000001E-3]
[null,"Totals",{"$f":"C12","v":44738},{"$f":"D17","v":44916},178,{"$f":"SUM(F12:F17)","v":1357.3},1358.5,-1.2000000000000668,{"$f":"SUM(I12:I17)","v":157337},{"$f":"J17","v":0.110869},{"$f":"SUM(K12:K17)","v":-3142.3268063001888},{"$f":"L17","v":0.24335000000000001},{"$f":"ROUND(SUM(M12:M17),2)","v":-764.69},{"$f":"N17","v":15300894.639401933},-5.0000000000000002E-5]
[null,"Reconciling Period Adj.",null,{"$f":"M18","v":-764.69},"Enter in Reconciling Period Adjustment Table (ReconPerAdj)"]
[null,"Enter WNA Amounts in Column M in CSWNA Amounts Table"]
[]
[null,"Small Comm.","62-GCSF","SGS"]
[null,"MonthFlow","Meter Read Dates",null,"Days/\nCycle","Heating Degree Days",null,"Difference","No. of Bills","Beta Coeff.","WNAR","WRVR","WNAi","Billing Determinants","Mo Adj."]
[null,null,"Begin","End",null,"NDDij","ADDij","(NDDij - ADDij)","Cij","b","h*i*j","Vol. Rate","k*l",null,"m/n"]
[null,{"$f":"$C$7","v":44743},{"$f":"SUMPRODUCT((MeterReadSch[MonthBill]=$B25)*MeterReadSch[SEMO])","v":44738},{"$f":"SUMPRODUCT((MeterReadSch[MonthFlow]=$B25)*MeterReadSch[SEMO])","v":44768},{"$f":"D25-C25","v":30},{"$f":"SUMPRODUCT((CGITempAct[Date]>=$C25)*(CGITempAct[Date]<$D25)*CGITempAct[CGINHDD])","v":0.1},{"$f":"SUMPRODUCT((CGITempAct[Date]>=$C25)*(CGITempAct[Date]<$D25)*CGITempAct[CGIHDD])","v":0},{"$f":"F25-G25","v":0.1},{"$f":"SUMPRODUCT((NoOfBills[MonthFlow]=$B25)*NoOfBills[62-GCSF])","v":3129},{"$f":"INDEX(BetaCoeff[BetaCoeff],MATCH(C$22,BetaCoeff[RateSched],0))","v":0.23716039999999999},{"$f":"H25*I25*J25","v":74.207489160000009},{"$f":"SUMPRODUCT((VolRates[Month]=MONTH(B25))*(VolRates[62-GCSF]))","v":8.3119999999999999E-2},{"$f":"ROUND(K25*L25,2)","v":6.17},{"$f":"SUMPRODUCT((BillDeter[Region]=$C$4)*(BillDeter[CustClass]=D$22)*BillDeter[BillingDeterminants])","v":3908443.5557121718},{"$f":"ROUND(M25/N25,5)","v":0}]
[null,{"$f":"EDATE(B25,1)","v":44774},{"$f":"SUMPRODUCT((MeterReadSch[MonthBill]=$B26)*MeterReadSch[SEMO])","v":44768},{"$f":"SUMPRODUCT((MeterReadSch[MonthFlow]=$B26)*MeterReadSch[SEMO])","v":44800},{"$f":"D26-C26","v":32},{"$f":"SUMPRODUCT((CGITempAct[Date]>=$C26)*(CGITempAct[Date]<$D26)*CGITempAct[CGINHDD])","v":1},{"$f":"SUMPRODUCT((CGITempAct[Date]>=$C26)*(CGITempAct[Date]<$D26)*CGITempAct[CGIHDD])","v":0},{"$f":"F26-G26","v":1},{"$f":"SUMPRODUCT((NoOfBills[MonthFlow]=$B26)*NoOfBills[62-GCSF])","v":3124},{"$f":"INDEX(BetaCoeff[BetaCoeff],MATCH(C$22,BetaCoeff[RateSched],0))","v":0.23716039999999999},{"$f":"H26*I26*J26","v":740.88908960000003},{"$f":"SUMPRODUCT((VolRates[Month]=MONTH(B26))*(VolRates[62-GCSF]))","v":8.3119999999999999E-2},{"$f":"ROUND(K26*L26,2)","v":61.58},{"$f":"SUMPRODUCT((BillDeter[Region]=$C$4)*(BillDeter[CustClass]=D$22)*BillDeter[BillingDeterminants])","v":3908443.5557121718},{"$f":"ROUND(M26/N26,5)","v":2.0000000000000002E-5}]
[null,{"$f":"EDATE(B26,1)","v":44805},{"$f":"SUMPRODUCT((MeterReadSch[MonthBill]=$B27)*MeterReadSch[SEMO])","v":44800},{"$f":"SUMPRODUCT((MeterReadSch[MonthFlow]=$B27)*MeterReadSch[SEMO])","v":44830},30,{"$f":"SUMPRODUCT((CGITempAct[Date]>=$C27)*(CGITempAct[Date]<$D27)*CGITempAct[CGINHDD])","v":5.5000000000000009},{"$f":"SUMPRODUCT((CGITempAct[Date]>=$C27)*(CGITempAct[Date]<$D27)*CGITempAct[CGIHDD])","v":2},3.5000000000000009,{"$f":"SUMPRODUCT((NoOfBills[MonthFlow]=$B27)*NoOfBills[62-GCSF])","v":3125},{"$f":"INDEX(BetaCoeff[BetaCoeff],MATCH(C$22,BetaCoeff[RateSched],0))","v":0.23716039999999999},2593.9418750000009,{"$f":"SUMPRODUCT((VolRates[Month]=MONTH(B27))*(VolRates[62-GCSF]))","v":8.3119999999999999E-2},215.61,{"$f":"SUMPRODUCT((BillDeter[Region]=$C$4)*(BillDeter[CustClass]=D$22)*BillDeter[BillingDeterminants])","v":3908443.5557121718},6.0000000000000002E-5]
[null,44835,{"$f":"SUMPRODUCT((MeterReadSch[MonthBill]=$B28)*MeterReadSch[SEMO])","v":44830},{"$f":"SUMPRODUCT((MeterReadSch[MonthFlow]=$B28)*MeterReadSch[SEMO])","v":44860},30,{"$f":"SUMPRODUCT((CGITempAct[Date]>=$C28)*(CGITempAct[Date]<$D28)*CGITempAct[CGINHDD])","v":235.60000000000002},{"$f":"SUMPRODUCT((CGITempAct[Date]>=$C28)*(CGITempAct[Date]<$D28)*CGITempAct[CGIHDD])","v":246.5},-10.899999999999977,{"$f":"SUMPRODUCT((NoOfBills[MonthFlow]=$B28)*NoOfBills[62-GCSF])","v":3146},{"$f":"INDEX(BetaCoeff[BetaCoeff],MATCH(C$22,BetaCoeff[RateSched],0))","v":0.23716039999999999},-8132.5621405599832,{"$f":"SUMPRODUCT((VolRates[Month]=MONTH(B28))*(VolRates[62-GCSF]))","v":8.3119999999999999E-2},-675.98,{"$f":"SUMPRODUCT((BillDeter[Region]=$C$4)*(BillDeter[CustClass]=D$22)*BillDeter[BillingDeterminants])","v":3908443.5557121718},-1.7000000000000001E-4]
[null,44866,{"$f":"SUMPRODUCT((MeterReadSch[MonthBill]=$B29)*MeterReadSch[SEMO])","v":44860},{"$f":"SUMPRODUCT((MeterReadSch[MonthFlow]=$B29)*MeterReadSch[SEMO])","v":44888},28,{"$f":"SUMPRODUCT((CGITempAct[Date]>=$C29)*(CGITempAct[Date]<$D29)*CGITempAct[CGINHDD])","v":458.9},{"$f":"SUMPRODUCT((CGITempAct[Date]>=$C29)*(CGITempAct[Date]<$D29)*CGITempAct[CGIHDD])","v":477.5},-18.600000000000023,{"$f":"SUMPRODUCT((NoOfBills[MonthFlow]=$B29)*NoOfBills[62-GCSF])","v":3190},{"$f":"INDEX(BetaCoeff[BetaCoeff],MATCH(C$22,BetaCoeff[RateSched],0))","v":0.23716039999999999},-14071.675173600017,{"$f":"SUMPRODUCT((VolRates[Month]=MONTH(B29))*(VolRates[62-GCSF]))","v":8.3119999999999999E-2},-1169.6400000000001,{"$f":"SUMPRODUCT((BillDeter[Region]=$C$4)*(BillDeter[CustClass]=D$22)*BillDeter[BillingDeterminants])","v":3908443.5557121718},-2.9999999999999997E-4]
[null,44896,{"$f":"SUMPRODUCT((MeterReadSch[MonthBill]=$B30)*MeterReadSch[SEMO])","v":44888},{"$f":"SUMPRODUCT((MeterReadSch[MonthFlow]=$B30)*MeterReadSch[SEMO])","v":44916},28,{"$f":"SUMPRODUCT((CGITempAct[Date]>=$C30)*(CGITempAct[Date]<$D30)*CGITempAct[CGINHDD])","v":656.19999999999993},{"$f":"SUMPRODUCT((CGITempAct[Date]>=$C30)*(CGITempAct[Date]<$D30)*CGITempAct[CGIHDD])","v":632.5},23.699999999999932,{"$f":"SUMPRODUCT((NoOfBills[MonthFlow]=$B30)*NoOfBills[62-GCSF])","v":3222},{"$f":"INDEX(BetaCoeff[BetaCoeff],MATCH(C$22,BetaCoeff[RateSched],0))","v":0.23716039999999999},18109.900168559947,{"$f":"SUMPRODUCT((VolRates[Month]=MONTH(B30))*(VolRates[62-GCSF]))","v":8.3119999999999999E-2},1505.29,{"$f":"SUMPRODUCT((BillDeter[Region]=$C$4)*(BillDeter[CustClass]=D$22)*BillDeter[BillingDeterminants])","v":3908443.5557121718},3.8999999999999999E-4]
[null,"Totals",{"$f":"C25","v":44738},{"$f":"D30","v":44916},178,{"$f":"SUM(F25:F30)","v":1357.3},{"$f":"SUM(G25:G30)","v":1358.5},{"$f":"SUM(H25:H30)","v":-1.2000000000000668},{"$f":"SUM(I25:I30)","v":18936},{"$f":"J30","v":0.23716039999999999},{"$f":"SUM(K25:K30)","v":-685.29869184005292},{"$f":"L30","v":8.3119999999999999E-2},{"$f":"ROUND(SUM(M25:M30),2)","v":-56.97},{"$f":"N30","v":3908443.5557121718},-1.0000000000000001E-5]
[null,"Reconciling Period Adj.",null,{"$f":"M31","v":-56.97},"Enter in Reconciling Period Adjustment Table (ReconPerAdj)"]
[null,"Enter WNA Amounts in Column M in CSWNA Amounts Table"]

{"sheet":"CSWNA WEMO","index":10,"n_rows":33,"n_cols":15,"rows_kept":33,"cut":false,"hidden":false,"merged":[[9,13,10,13],[22,1,23,1],[22,2,22,3],[22,4,23,4],[22,5,22,6],[22,13,23,13],[1,5,1,6],[9,1,10,1],[9,2,9,3],[9,4,10,4],[9,5,9,6]]}
[]
[null,"Liberty Midstates",null,null,null,"Filing Period"]
[null,"Billing Cycle and HDD Data Summary",null,null,null,"Year","Period"]
[null,"Territory","WEMO"]
[null,"Year",{"$f":"DateSet!C2","v":2023}]
[null,"Period",{"$f":"DateSet!C3","v":"S1"}]
[null,"Analysis Start",{"$f":"DateSet!J8","v":"2022-07-01"}]
[]
[null,"Residential","61-GRF","Res"]
[null,"MonthFlow","Meter Read Dates",null,"Days/\nCycle","Heating Degree Days",null,"Difference","No. of Bills","Beta Coeff.","WNAR","WRVR","WNAi","Billing Determinants","Mo Adj."]
[null,null,"Begin","End",null,"NDDij","ADDij","(NDDij - ADDij)","Cij","b","h*i*j","Vol. Rate","k*l",null,"m/n"]
[null,{"$f":"$C$7","v":44743},{"$f":"SUMPRODUCT((MeterReadSch[MonthBill]=$B12)*MeterReadSch[WEMO])","v":44737},{"$f":"SUMPRODUCT((MeterReadSch[MonthFlow]=$B12)*MeterReadSch[WEMO])","v":44768},{"$f":"D12-C12","v":31},{"$f":"SUMPRODUCT((ChillTempAct[Date]>=$C12)*(ChillTempAct[Date]<$D12)*ChillTempAct[ChillNHDD])","v":2.8872222222222224},{"$f":"SUMPRODUCT((ChillTempAct[Date]>=$C12)*(ChillTempAct[Date]<$D12)*ChillTempAct[ChillAdjHDD])","v":0},{"$f":"F12-G12","v":2.8872222222222224},{"$f":"SUMPRODUCT((NoOfBills[MonthFlow]=$B12)*NoOfBills[61-GRF])","v":3115},{"$f":"INDEX(BetaCoeff[BetaCoeff],MATCH(C$9,BetaCoeff[RateSched],0))","v":0.11254740000000001},{"$f":"H12*I12*J12","v":1012.2172387483334},{"$f":"SUMPRODUCT((VolRates[Month]=MONTH(B12))*(VolRates[61-GRF]))","v":0.33048},{"$f":"ROUND(K12*L12,2)","v":334.52},{"$f":"SUMPRODUCT((BillDeter[Region]=$C$4)*(BillDeter[CustClass]=D$9)*BillDeter[BillingDeterminants])","v":2140376.9890333959},{"$f":"ROUND(M12/N12,5)","v":1.6000000000000001E-4}]
[null,{"$f":"EDATE(B12,1)","v":44774},{"$f":"SUMPRODUCT((MeterReadSch[MonthBill]=$B13)*MeterReadSch[WEMO])","v":44768},{"$f":"SUMPRODUCT((MeterReadSch[MonthFlow]=$B13)*MeterReadSch[WEMO])","v":44799},{"$f":"D13-C13","v":31},{"$f":"SUMPRODUCT((ChillTempAct[Date]>=$C13)*(ChillTempAct[Date]<$D13)*ChillTempAct[ChillNHDD])","v":8.3805017921146838},{"$f":"SUMPRODUCT((ChillTempAct[Date]>=$C13)*(ChillTempAct[Date]<$D13)*ChillTempAct[ChillAdjHDD])","v":0},{"$f":"F13-G13","v":8.3805017921146838},{"$f":"SUMPRODUCT((NoOfBills[MonthFlow]=$B13)*NoOfBills[61-GRF])","v":3123},{"$f":"INDEX(BetaCoeff[BetaCoeff],MATCH(C$9,BetaCoeff[RateSched],0))","v":0.11254740000000001},{"$f":"H13*I13*J13","v":2945.6251157434799},{"$f":"SUMPRODUCT((VolRates[Month]=MONTH(B13))*(VolRates[61-GRF]))","v":0.33004},972.17,{"$f":"SUMPRODUCT((BillDeter[Region]=$C$4)*(BillDeter[CustClass]=D$9)*BillDeter[BillingDeterminants])","v":2140376.9890333959},{"$f":"ROUND(M13/N13,5)","v":4.4999999999999999E-4}]
[null,{"$f":"EDATE(B13,1)","v":44805},{"$f":"SUMPRODUCT((MeterReadSch[MonthBill]=$B14)*MeterReadSch[WEMO])","v":44799},{"$f":"SUMPRODUCT((MeterReadSch[MonthFlow]=$B14)*MeterReadSch[WEMO])","v":44829},30,{"$f":"SUMPRODUCT((ChillTempAct[Date]>=$C14)*(ChillTempAct[Date]<$D14)*ChillTempAct[ChillNHDD])","v":45.052962962962965},{"$f":"SUMPRODUCT((ChillTempAct[Date]>=$C14)*(ChillTempAct[Date]<$D14)*ChillTempAct[ChillAdjHDD])","v":32.077849999999998},12.975112962962967,{"$f":"SUMPRODUCT((NoOfBills[MonthFlow]=$B14)*NoOfBills[61-GRF])","v":3100},{"$f":"INDEX(BetaCoeff[BetaCoeff],MATCH(C$9,BetaCoeff[RateSched],0))","v":0.11254740000000001},4526.9772089321132,{"$f":"SUMPRODUCT((VolRates[Month]=MONTH(B14))*(VolRates[61-GRF]))","v":0.33028999999999997},1495.22,{"$f":"SUMPRODUCT((BillDeter[Region]=$C$4)*(BillDeter[CustClass]=D$9)*BillDeter[BillingDeterminants])","v":2140376.9890333959},6.9999999999999999E-4]
[null,44835,{"$f":"SUMPRODUCT((MeterReadSch[MonthBill]=$B15)*MeterReadSch[WEMO])","v":44829},{"$f":"SUMPRODUCT((MeterReadSch[MonthFlow]=$B15)*MeterReadSch[WEMO])","v":44860},31,{"$f":"SUMPRODUCT((ChillTempAct[Date]>=$C15)*(ChillTempAct[Date]<$D15)*ChillTempAct[ChillNHDD])","v":320.52954599761057},{"$f":"SUMPRODUCT((ChillTempAct[Date]>=$C15)*(ChillTempAct[Date]<$D15)*ChillTempAct[ChillAdjHDD])","v":334.55360000000019},-14.024054002389619,{"$f":"SUMPRODUCT((NoOfBills[MonthFlow]=$B15)*NoOfBills[61-GRF])","v":3194},{"$f":"INDEX(BetaCoeff[BetaCoeff],MATCH(C$9,BetaCoeff[RateSched],0))","v":0.11254740000000001},-5041.3163844787741,{"$f":"SUMPRODUCT((VolRates[Month]=MONTH(B15))*(VolRates[61-GRF]))","v":0.33187},-1673.06,{"$f":"SUMPRODUCT((BillDeter[Region]=$C$4)*(BillDeter[CustClass]=D$9)*BillDeter[BillingDeterminants])","v":2140376.9890333959},-7.7999999999999999E-4]
[null,44866,{"$f":"SUMPRODUCT((MeterReadSch[MonthBill]=$B16)*MeterReadSch[WEMO])","v":44860},{"$f":"SUMPRODUCT((MeterReadSch[MonthFlow]=$B16)*MeterReadSch[WEMO])","v":44888},28,{"$f":"SUMPRODUCT((ChillTempAct[Date]>=$C16)*(ChillTempAct[Date]<$D16)*ChillTempAct[ChillNHDD])","v":602.73878136200688},{"$f":"SUMPRODUCT((ChillTempAct[Date]>=$C16)*(ChillTempAct[Date]<$D16)*ChillTempAct[ChillAdjHDD])","v":648.84640000000024},-46.107618637993369,{"$f":"SUMPRODUCT((NoOfBills[MonthFlow]=$B16)*NoOfBills[61-GRF])","v":3197},{"$f":"INDEX(BetaCoeff[BetaCoeff],MATCH(C$9,BetaCoeff[RateSched],0))","v":0.11254740000000001},-16590.168435478932,{"$f":"SUMPRODUCT((VolRates[Month]=MONTH(B16))*(VolRates[61-GRF]))","v":0.33606999999999998},-5575.46,{"$f":"SUMPRODUCT((BillDeter[Region]=$C$4)*(BillDeter[CustClass]=D$9)*BillDeter[BillingDeterminants])","v":2140376.9890333959},-2.5999999999999999E-3]
[null,44896,{"$f":"SUMPRODUCT((MeterReadSch[MonthBill]=$B17)*MeterReadSch[WEMO])","v":44888},{"$f":"SUMPRODUCT((MeterReadSch[MonthFlow]=$B17)*MeterReadSch[WEMO])","v":44921},33,{"$f":"SUMPRODUCT((ChillTempAct[Date]>=$C17)*(ChillTempAct[Date]<$D17)*ChillTempAct[ChillNHDD])","v":1101.520053763441},{"$f":"SUMPRODUCT((ChillTempAct[Date]>=$C17)*(ChillTempAct[Date]<$D17)*ChillTempAct[ChillAdjHDD])","v":1194.5902999999998},-93.070246236558887,{"$f":"SUMPRODUCT((NoOfBills[MonthFlow]=$B17)*NoOfBills[61-GRF])","v":3253},{"$f":"INDEX(BetaCoeff[BetaCoeff],MATCH(C$9,BetaCoeff[RateSched],0))","v":0.11254740000000001},-34074.570694368442,{"$f":"SUMPRODUCT((VolRates[Month]=MONTH(B17))*(VolRates[61-GRF]))","v":0.33606999999999998},-11451.44,{"$f":"SUMPRODUCT((BillDeter[Region]=$C$4)*(BillDeter[CustClass]=D$9)*BillDeter[BillingDeterminants])","v":2140376.9890333959},-5.3499999999999997E-3]
[null,"Totals",{"$f":"C12","v":44737},{"$f":"D17","v":44921},184,{"$f":"SUM(F12:F17)","v":2081.1090681003584},2210.0681500000001,-128.959081899642,{"$f":"SUM(I12:I17)","v":18982},{"$f":"J17","v":0.11254740000000001},{"$f":"SUM(K12:K17)","v":-47221.235950902221},{"$f":"L17","v":0.33606999999999998},{"$f":"ROUND(SUM(M12:M17),2)","v":-15898.05},{"$f":"N17","v":2140376.9890333959},-7.43E-3]
[null,"Reconciling Period Adj.",null,{"$f":"M18","v":-15898.05},"Enter in Reconciling Period Adjustment Table (ReconPerAdj)"]
[null,"Enter WNA Amounts in Column M in CSWNA Amounts Table"]
[]
[null,"Small Comm.","61-GCSF","SGS"]
[null,"MonthFlow","Meter Read Dates",null,"Days/\nCycle","Heating Degree Days",null,"Difference","No. of Bills","Beta Coeff.","WNAR","WRVR","WNAi","Billing Determinants","Mo Adj."]
[null,null,"Begin","End",null,"NDDij","ADDij","(NDDij - ADDij)","Cij","b","h*i*j","Vol. Rate","k*l",null,"m/n"]
[null,{"$f":"$C$7","v":44743},{"$f":"SUMPRODUCT((MeterReadSch[MonthBill]=$B25)*MeterReadSch[WEMO])","v":44737},{"$f":"SUMPRODUCT((MeterReadSch[MonthFlow]=$B25)*MeterReadSch[WEMO])","v":44768},{"$f":"D25-C25","v":31},{"$f":"SUMPRODUCT((ChillTempAct[Date]>=$C25)*(ChillTempAct[Date]<$D25)*ChillTempAct[ChillNHDD])","v":2.8872222222222224},{"$f":"SUMPRODUCT((ChillTempAct[Date]>=$C25)*(ChillTempAct[Date]<$D25)*ChillTempAct[ChillAdjHDD])","v":0},{"$f":"F25-G25","v":2.8872222222222224},{"$f":"SUMPRODUCT((NoOfBills[MonthFlow]=$B25)*NoOfBills[61-GCSF])","v":494},{"$f":"INDEX(BetaCoeff[BetaCoeff],MATCH(C$22,BetaCoeff[RateSched],0))","v":0.23893880000000001},{"$f":"H25*I25*J25","v":340.79549007688888},{"$f":"SUMPRODUCT((VolRates[Month]=MONTH(B25))*(VolRates[61-GCSF]))","v":0.14216000000000001},{"$f":"ROUND(K25*L25,2)","v":48.45},{"$f":"SUMPRODUCT((BillDeter[Region]=$C$4)*(BillDeter[CustClass]=D$22)*BillDeter[BillingDeterminants])","v":700365.64440726885},{"$f":"ROUND(M25/N25,5)","v":6.9999999999999994E-5}]
[null,{"$f":"EDATE(B25,1)","v":44774},{"$f":"SUMPRODUCT((MeterReadSch[MonthBill]=$B26)*MeterReadSch[WEMO])","v":44768},{"$f":"SUMPRODUCT((MeterReadSch[MonthFlow]=$B26)*MeterReadSch[WEMO])","v":44799},{"$f":"D26-C26","v":31},{"$f":"SUMPRODUCT((ChillTempAct[Date]>=$C26)*(ChillTempAct[Date]<$D26)*ChillTempAct[ChillNHDD])","v":8.3805017921146838},{"$f":"SUMPRODUCT((ChillTempAct[Date]>=$C26)*(ChillTempAct[Date]<$D26)*ChillTempAct[ChillAdjHDD])","v":0},{"$f":"F26-G26","v":8.3805017921146838},{"$f":"SUMPRODUCT((NoOfBills[MonthFlow]=$B26)*NoOfBills[61-GCSF])","v":491},{"$f":"INDEX(BetaCoeff[BetaCoeff],MATCH(C$22,BetaCoeff[RateSched],0))","v":0.23893880000000001},{"$f":"H26*I26*J26","v":983.19167742841444},{"$f":"SUMPRODUCT((VolRates[Month]=MONTH(B26))*(VolRates[61-GCSF]))","v":0.14216000000000001},139.77000000000001,{"$f":"SUMPRODUCT((BillDeter[Region]=$C$4)*(BillDeter[CustClass]=D$22)*BillDeter[BillingDeterminants])","v":700365.64440726885},{"$f":"ROUND(M26/N26,5)","v":2.0000000000000001E-4}]
[null,{"$f":"EDATE(B26,1)","v":44805},{"$f":"SUMPRODUCT((MeterReadSch[MonthBill]=$B27)*MeterReadSch[WEMO])","v":44799},{"$f":"SUMPRODUCT((MeterReadSch[MonthFlow]=$B27)*MeterReadSch[WEMO])","v":44829},30,{"$f":"SUMPRODUCT((ChillTempAct[Date]>=$C27)*(ChillTempAct[Date]<$D27)*ChillTempAct[ChillNHDD])","v":45.052962962962965},{"$f":"SUMPRODUCT((ChillTempAct[Date]>=$C27)*(ChillTempAct[Date]<$D27)*ChillTempAct[ChillAdjHDD])","v":32.077849999999998},12.975112962962967,{"$f":"SUMPRODUCT((NoOfBills[MonthFlow]=$B27)*NoOfBills[61-GCSF])","v":489},{"$f":"INDEX(BetaCoeff[BetaCoeff],MATCH(C$22,BetaCoeff[RateSched],0))","v":0.23893880000000001},1516.0261234838251,{"$f":"SUMPRODUCT((VolRates[Month]=MONTH(B27))*(VolRates[61-GCSF]))","v":0.14216000000000001},215.52,{"$f":"SUMPRODUCT((BillDeter[Region]=$C$4)*(BillDeter[CustClass]=D$22)*BillDeter[BillingDeterminants])","v":700365.64440726885},3.1E-4]
[null,44835,{"$f":"SUMPRODUCT((MeterReadSch[MonthBill]=$B28)*MeterReadSch[WEMO])","v":44829},{"$f":"SUMPRODUCT((MeterReadSch[MonthFlow]=$B28)*MeterReadSch[WEMO])","v":44860},31,{"$f":"SUMPRODUCT((ChillTempAct[Date]>=$C28)*(ChillTempAct[Date]<$D28)*ChillTempAct[ChillNHDD])","v":320.52954599761057},{"$f":"SUMPRODUCT((ChillTempAct[Date]>=$C28)*(ChillTempAct[Date]<$D28)*ChillTempAct[ChillAdjHDD])","v":334.55360000000019},-14.024054002389619,{"$f":"SUMPRODUCT((NoOfBills[MonthFlow]=$B28)*NoOfBills[61-GCSF])","v":503},{"$f":"INDEX(BetaCoeff[BetaCoeff],MATCH(C$22,BetaCoeff[RateSched],0))","v":0.23893880000000001},-1685.4979891364849,{"$f":"SUMPRODUCT((VolRates[Month]=MONTH(B28))*(VolRates[61-GCSF]))","v":0.14216000000000001},-239.61,{"$f":"SUMPRODUCT((BillDeter[Region]=$C$4)*(BillDeter[CustClass]=D$22)*BillDeter[BillingDeterminants])","v":700365.64440726885},-3.4000000000000002E-4]
[null,44866,{"$f":"SUMPRODUCT((MeterReadSch[MonthBill]=$B29)*MeterReadSch[WEMO])","v":44860},{"$f":"SUMPRODUCT((MeterReadSch[MonthFlow]=$B29)*MeterReadSch[WEMO])","v":44888},28,{"$f":"SUMPRODUCT((ChillTempAct[Date]>=$C29)*(ChillTempAct[Date]<$D29)*ChillTempAct[ChillNHDD])","v":602.73878136200688},{"$f":"SUMPRODUCT((ChillTempAct[Date]>=$C29)*(ChillTempAct[Date]<$D29)*ChillTempAct[ChillAdjHDD])","v":648.84640000000024},-46.107618637993369,{"$f":"SUMPRODUCT((NoOfBills[MonthFlow]=$B29)*NoOfBills[61-GCSF])","v":509},{"$f":"INDEX(BetaCoeff[BetaCoeff],MATCH(C$22,BetaCoeff[RateSched],0))","v":0.23893880000000001},-5607.6016257238634,{"$f":"SUMPRODUCT((VolRates[Month]=MONTH(B29))*(VolRates[61-GCSF]))","v":0.14216000000000001},-797.18,{"$f":"SUMPRODUCT((BillDeter[Region]=$C$4)*(BillDeter[CustClass]=D$22)*BillDeter[BillingDeterminants])","v":700365.64440726885},-1.14E-3]
[null,44896,{"$f":"SUMPRODUCT((MeterReadSch[MonthBill]=$B30)*MeterReadSch[WEMO])","v":44888},{"$f":"SUMPRODUCT((MeterReadSch[MonthFlow]=$B30)*MeterReadSch[WEMO])","v":44921},33,{"$f":"SUMPRODUCT((ChillTempAct[Date]>=$C30)*(ChillTempAct[Date]<$D30)*ChillTempAct[ChillNHDD])","v":1101.520053763441},{"$f":"SUMPRODUCT((ChillTempAct[Date]>=$C30)*(ChillTempAct[Date]<$D30)*ChillTempAct[ChillAdjHDD])","v":1194.5902999999998},-93.070246236558887,{"$f":"SUMPRODUCT((NoOfBills[MonthFlow]=$B30)*NoOfBills[61-GCSF])","v":516},{"$f":"INDEX(BetaCoeff[BetaCoeff],MATCH(C$22,BetaCoeff[RateSched],0))","v":0.23893880000000001},-11474.855962957436,{"$f":"SUMPRODUCT((VolRates[Month]=MONTH(B30))*(VolRates[61-GCSF]))","v":0.14216000000000001},-1631.27,{"$f":"SUMPRODUCT((BillDeter[Region]=$C$4)*(BillDeter[CustClass]=D$22)*BillDeter[BillingDeterminants])","v":700365.64440726885},-2.33E-3]
[null,"Totals",{"$f":"C25","v":44737},{"$f":"D30","v":44921},184,{"$f":"SUM(F25:F30)","v":2081.1090681003584},{"$f":"SUM(G25:G30)","v":2210.0681500000001},{"$f":"SUM(H25:H30)","v":-128.959081899642},{"$f":"SUM(I25:I30)","v":3002},{"$f":"J30","v":0.23893880000000001},{"$f":"SUM(K25:K30)","v":-15927.942286828657},{"$f":"L30","v":0.14216000000000001},{"$f":"ROUND(SUM(M25:M30),2)","v":-2264.3200000000002},{"$f":"N30","v":700365.64440726885},-3.2299999999999998E-3]
[null,"Reconciling Period Adj.",null,{"$f":"M31","v":-2264.3200000000002},"Enter in Reconciling Period Adjustment Table (ReconPerAdj)"]
[null,"Enter WNA Amounts in Column M in CSWNA Amounts Table"]

{"sheet":"CSWNA NEMO","index":11,"n_rows":33,"n_cols":15,"rows_kept":33,"cut":false,"hidden":false,"merged":[[22,13,23,13],[9,13,10,13],[22,1,23,1],[22,2,22,3],[22,4,23,4],[22,5,22,6],[1,5,1,6],[9,1,10,1],[9,2,9,3],[9,4,10,4],[9,5,9,6]]}
[]
[null,"Liberty Midstates",null,null,null,"Filing Period"]
[null,"Billing Cycle and HDD Data Summary",null,null,null,"Year","Period"]
[null,"Territory","NEMO"]
[null,"Year",{"$f":"DateSet!C2","v":2023}]
[null,"Period",{"$f":"DateSet!C3","v":"S1"}]
[null,"Analysis Start",{"$f":"DateSet!J8","v":"2022-07-01"}]
[]
[null,"Residential","60-GRF","63-GRF","Res"]
[null,"MonthFlow","Meter Read Dates",null,"Days/\nCycle","Heating Degree Days",null,"Difference","No. of Bills","Beta Coeff.","WNAR","WRVR","WNAi","Billing Determinants","Mo Adj."]
[null,null,"Begin","End",null,"NDDij","ADDij","(NDDij - ADDij)","Cij","b","h*i*j","Vol. Rate","k*l",null,"m/n"]
[null,{"$f":"$C$7","v":44743},{"$f":"SUMPRODUCT((MeterReadSch[MonthBill]=$B12)*MeterReadSch[NEMO])","v":44742},{"$f":"SUMPRODUCT((MeterReadSch[MonthFlow]=$B12)*MeterReadSch[NEMO])","v":44773},{"$f":"D12-C12","v":31},{"$f":"SUMPRODUCT((ChillTempAct[Date]>=$C12)*(ChillTempAct[Date]<$D12)*ChillTempAct[ChillNHDD])","v":1.9386200716845867},{"$f":"SUMPRODUCT((ChillTempAct[Date]>=$C12)*(ChillTempAct[Date]<$D12)*ChillTempAct[ChillAdjHDD])","v":0},{"$f":"F12-G12","v":1.9386200716845867},{"$f":"SUMPRODUCT((NoOfBills[MonthFlow]=$B12)*NoOfBills[60-GRF])+SUMPRODUCT((NoOfBills[MonthFlow]=$B12)*NoOfBills[63-GRF])","v":14955},{"$f":"INDEX(BetaCoeff[BetaCoeff],MATCH(D$9,BetaCoeff[RateSched],0))","v":0.11254740000000001},{"$f":"H12*I12*J12","v":3262.9813306491919},{"$f":"SUMPRODUCT((VolRates[Month]=MONTH(B12))*(VolRates[63-GRF]))","v":0.33048},{"$f":"ROUND(K12*L12,2)","v":1078.3499999999999},{"$f":"SUMPRODUCT((BillDeter[Region]=$C$4)*(BillDeter[CustClass]=E$9)*BillDeter[BillingDeterminants])","v":11089284.458101537},{"$f":"ROUND(M12/N12,5)","v":1E-4}]
[null,{"$f":"EDATE(B12,1)","v":44774},{"$f":"SUMPRODUCT((MeterReadSch[MonthBill]=$B13)*MeterReadSch[NEMO])","v":44773},{"$f":"SUMPRODUCT((MeterReadSch[MonthFlow]=$B13)*MeterReadSch[NEMO])","v":44804},{"$f":"D13-C13","v":31},{"$f":"SUMPRODUCT((ChillTempAct[Date]>=$C13)*(ChillTempAct[Date]<$D13)*ChillTempAct[ChillNHDD])","v":6.4418817204300991},{"$f":"SUMPRODUCT((ChillTempAct[Date]>=$C13)*(ChillTempAct[Date]<$D13)*ChillTempAct[ChillAdjHDD])","v":0},{"$f":"F13-G13","v":6.4418817204300991},{"$f":"SUMPRODUCT((NoOfBills[MonthFlow]=$B13)*NoOfBills[60-GRF])+SUMPRODUCT((NoOfBills[MonthFlow]=$B13)*NoOfBills[63-GRF])","v":14975},{"$f":"INDEX(BetaCoeff[BetaCoeff],MATCH(D$9,BetaCoeff[RateSched],0))","v":0.11254740000000001},{"$f":"H13*I13*J13","v":10857.13015516047},{"$f":"SUMPRODUCT((VolRates[Month]=MONTH(B13))*(VolRates[63-GRF]))","v":0.33004},3583.29,{"$f":"SUMPRODUCT((BillDeter[Region]=$C$4)*(BillDeter[CustClass]=E$9)*BillDeter[BillingDeterminants])","v":11089284.458101537},{"$f":"ROUND(M13/N13,5)","v":3.2000000000000003E-4}]
[null,{"$f":"EDATE(B13,1)","v":44805},{"$f":"SUMPRODUCT((MeterReadSch[MonthBill]=$B14)*MeterReadSch[NEMO])","v":44804},{"$f":"SUMPRODUCT((MeterReadSch[MonthFlow]=$B14)*MeterReadSch[NEMO])","v":44834},30,{"$f":"SUMPRODUCT((ChillTempAct[Date]>=$C14)*(ChillTempAct[Date]<$D14)*ChillTempAct[ChillNHDD])","v":80.769259259259229},{"$f":"SUMPRODUCT((ChillTempAct[Date]>=$C14)*(ChillTempAct[Date]<$D14)*ChillTempAct[ChillAdjHDD])","v":58.91849999999998},21.850759259259249,{"$f":"SUMPRODUCT((NoOfBills[MonthFlow]=$B14)*NoOfBills[60-GRF])+SUMPRODUCT((NoOfBills[MonthFlow]=$B14)*NoOfBills[63-GRF])","v":14982},{"$f":"INDEX(BetaCoeff[BetaCoeff],MATCH(D$9,BetaCoeff[RateSched],0))","v":0.11254740000000001},36844.425709265517,{"$f":"SUMPRODUCT((VolRates[Month]=MONTH(B14))*(VolRates[63-GRF]))","v":0.33028999999999997},12169.35,{"$f":"SUMPRODUCT((BillDeter[Region]=$C$4)*(BillDeter[CustClass]=E$9)*BillDeter[BillingDeterminants])","v":11089284.458101537},1.1000000000000001E-3]
[null,44835,{"$f":"SUMPRODUCT((MeterReadSch[MonthBill]=$B15)*MeterReadSch[NEMO])","v":44834},{"$f":"SUMPRODUCT((MeterReadSch[MonthFlow]=$B15)*MeterReadSch[NEMO])","v":44865},31,{"$f":"SUMPRODUCT((ChillTempAct[Date]>=$C15)*(ChillTempAct[Date]<$D15)*ChillTempAct[ChillNHDD])","v":367.33859020310632},{"$f":"SUMPRODUCT((ChillTempAct[Date]>=$C15)*(ChillTempAct[Date]<$D15)*ChillTempAct[ChillAdjHDD])","v":402.73765000000014},-35.399059796893823,{"$f":"SUMPRODUCT((NoOfBills[MonthFlow]=$B15)*NoOfBills[60-GRF])+SUMPRODUCT((NoOfBills[MonthFlow]=$B15)*NoOfBills[63-GRF])","v":15586},{"$f":"INDEX(BetaCoeff[BetaCoeff],MATCH(D$9,BetaCoeff[RateSched],0))","v":0.11254740000000001},-62095.748414328686,{"$f":"SUMPRODUCT((VolRates[Month]=MONTH(B15))*(VolRates[63-GRF]))","v":0.33187},-20607.72,{"$f":"SUMPRODUCT((BillDeter[Region]=$C$4)*(BillDeter[CustClass]=E$9)*BillDeter[BillingDeterminants])","v":11089284.458101537},-1.8600000000000001E-3]
[null,44866,{"$f":"SUMPRODUCT((MeterReadSch[MonthBill]=$B16)*MeterReadSch[NEMO])","v":44865},{"$f":"SUMPRODUCT((MeterReadSch[MonthFlow]=$B16)*MeterReadSch[NEMO])","v":44895},30,{"$f":"SUMPRODUCT((ChillTempAct[Date]>=$C16)*(ChillTempAct[Date]<$D16)*ChillTempAct[ChillNHDD])","v":692.84307048984465},{"$f":"SUMPRODUCT((ChillTempAct[Date]>=$C16)*(ChillTempAct[Date]<$D16)*ChillTempAct[ChillAdjHDD])","v":734.19150000000002},-41.34842951015537,{"$f":"SUMPRODUCT((NoOfBills[MonthFlow]=$B16)*NoOfBills[60-GRF])+SUMPRODUCT((NoOfBills[MonthFlow]=$B16)*NoOfBills[63-GRF])","v":15648},{"$f":"INDEX(BetaCoeff[BetaCoeff],MATCH(D$9,BetaCoeff[RateSched],0))","v":0.11254740000000001},-72820.444068341327,{"$f":"SUMPRODUCT((VolRates[Month]=MONTH(B16))*(VolRates[63-GRF]))","v":0.33606999999999998},-24472.77,{"$f":"SUMPRODUCT((BillDeter[Region]=$C$4)*(BillDeter[CustClass]=E$9)*BillDeter[BillingDeterminants])","v":11089284.458101537},-2.2100000000000002E-3]
[null,44896,{"$f":"SUMPRODUCT((MeterReadSch[MonthBill]=$B17)*MeterReadSch[NEMO])","v":44895},{"$f":"SUMPRODUCT((MeterReadSch[MonthFlow]=$B17)*MeterReadSch[NEMO])","v":44925},30,{"$f":"SUMPRODUCT((ChillTempAct[Date]>=$C17)*(ChillTempAct[Date]<$D17)*ChillTempAct[ChillNHDD])","v":1081.3683094384708},{"$f":"SUMPRODUCT((ChillTempAct[Date]>=$C17)*(ChillTempAct[Date]<$D17)*ChillTempAct[ChillAdjHDD])","v":1182.4292999999998},-101.06099056152902,{"$f":"SUMPRODUCT((NoOfBills[MonthFlow]=$B17)*NoOfBills[60-GRF])+SUMPRODUCT((NoOfBills[MonthFlow]=$B17)*NoOfBills[63-GRF])","v":15859},{"$f":"INDEX(BetaCoeff[BetaCoeff],MATCH(D$9,BetaCoeff[RateSched],0))","v":0.11254740000000001},-180382.67227218754,{"$f":"SUMPRODUCT((VolRates[Month]=MONTH(B17))*(VolRates[63-GRF]))","v":0.33606999999999998},-60621.2,{"$f":"SUMPRODUCT((BillDeter[Region]=$C$4)*(BillDeter[CustClass]=E$9)*BillDeter[BillingDeterminants])","v":11089284.458101537},-5.47E-3]
[null,"Totals",{"$f":"C12","v":44742},{"$f":"D17","v":44925},183,{"$f":"SUM(F12:F17)","v":2230.6997311827954},2378.2769499999999,-147.57721881720428,{"$f":"SUM(I12:I17)","v":92005},{"$f":"J17","v":0.11254740000000001},{"$f":"SUM(K12:K17)","v":-264334.32755978237},{"$f":"L17","v":0.33606999999999998},{"$f":"ROUND(SUM(M12:M17),2)","v":-88870.7},{"$f":"N17","v":11089284.458101537},-8.0099999999999998E-3]
[null,"Reconciling Period Adj.",null,{"$f":"M18","v":-88870.7},"Enter in Reconciling Period Adjustment Table (ReconPerAdj)"]
[null,"Enter WNA Amounts in Column M in CSWNA Amounts Table"]
[]
[null,"Small Comm.","60-GCSF","63-GCSF","SGS"]
[null,"MonthFlow","Meter Read Dates",null,"Days/\nCycle","Heating Degree Days",null,"Difference","No. of Bills","Beta Coeff.","WNAR","WRVR","WNAi","Billing Determinants","Mo Adj."]
[null,null,"Begin","End",null,"NDDij","ADDij","(NDDij - ADDij)","Cij","b","h*i*j","Vol. Rate","k*l",null,"m/n"]
[null,{"$f":"$C$7","v":44743},{"$f":"SUMPRODUCT((MeterReadSch[MonthBill]=$B25)*MeterReadSch[NEMO])","v":44742},{"$f":"SUMPRODUCT((MeterReadSch[MonthFlow]=$B25)*MeterReadSch[NEMO])","v":44773},{"$f":"D25-C25","v":31},{"$f":"SUMPRODUCT((ChillTempAct[Date]>=$C25)*(ChillTempAct[Date]<$D25)*ChillTempAct[ChillNHDD])","v":1.9386200716845867},{"$f":"SUMPRODUCT((ChillTempAct[Date]>=$C25)*(ChillTempAct[Date]<$D25)*ChillTempAct[ChillAdjHDD])","v":0},{"$f":"F25-G25","v":1.9386200716845867},{"$f":"SUMPRODUCT((NoOfBills[MonthFlow]=$B25)*NoOfBills[60-GCSF])+SUMPRODUCT((NoOfBills[MonthFlow]=$B25)*NoOfBills[63-GCSF])","v":2090},{"$f":"INDEX(BetaCoeff[BetaCoeff],MATCH(D$22,BetaCoeff[RateSched],0))","v":0.23893880000000001},{"$f":"H25*I25*J25","v":968.11214699103891},{"$f":"SUMPRODUCT((VolRates[Month]=MONTH(B25))*(VolRates[63-GCSF]))","v":0.14216000000000001},{"$f":"ROUND(K25*L25,2)","v":137.63},{"$f":"SUMPRODUCT((BillDeter[Region]=$C$4)*(BillDeter[CustClass]=E$22)*BillDeter[BillingDeterminants])","v":3249867.6799999997},{"$f":"ROUND(M25/N25,5)","v":4.0000000000000003E-5}]
[null,{"$f":"EDATE(B25,1)","v":44774},{"$f":"SUMPRODUCT((MeterReadSch[MonthBill]=$B26)*MeterReadSch[NEMO])","v":44773},{"$f":"SUMPRODUCT((MeterReadSch[MonthFlow]=$B26)*MeterReadSch[NEMO])","v":44804},{"$f":"D26-C26","v":31},{"$f":"SUMPRODUCT((ChillTempAct[Date]>=$C26)*(ChillTempAct[Date]<$D26)*ChillTempAct[ChillNHDD])","v":6.4418817204300991},{"$f":"SUMPRODUCT((ChillTempAct[Date]>=$C26)*(ChillTempAct[Date]<$D26)*ChillTempAct[ChillAdjHDD])","v":0},{"$f":"F26-G26","v":6.4418817204300991},{"$f":"SUMPRODUCT((NoOfBills[MonthFlow]=$B26)*NoOfBills[60-GCSF])+SUMPRODUCT((NoOfBills[MonthFlow]=$B26)*NoOfBills[63-GCSF])","v":2082},{"$f":"INDEX(BetaCoeff[BetaCoeff],MATCH(D$22,BetaCoeff[RateSched],0))","v":0.23893880000000001},{"$f":"H26*I26*J26","v":3204.6466460607699},{"$f":"SUMPRODUCT((VolRates[Month]=MONTH(B26))*(VolRates[63-GCSF]))","v":0.14216000000000001},455.57,{"$f":"SUMPRODUCT((BillDeter[Region]=$C$4)*(BillDeter[CustClass]=E$22)*BillDeter[BillingDeterminants])","v":3249867.6799999997},{"$f":"ROUND(M26/N26,5)","v":1.3999999999999999E-4}]
[null,{"$f":"EDATE(B26,1)","v":44805},{"$f":"SUMPRODUCT((MeterReadSch[MonthBill]=$B27)*MeterReadSch[NEMO])","v":44804},{"$f":"SUMPRODUCT((MeterReadSch[MonthFlow]=$B27)*MeterReadSch[NEMO])","v":44834},30,{"$f":"SUMPRODUCT((ChillTempAct[Date]>=$C27)*(ChillTempAct[Date]<$D27)*ChillTempAct[ChillNHDD])","v":80.769259259259229},{"$f":"SUMPRODUCT((ChillTempAct[Date]>=$C27)*(ChillTempAct[Date]<$D27)*ChillTempAct[ChillAdjHDD])","v":58.91849999999998},21.850759259259249,{"$f":"SUMPRODUCT((NoOfBills[MonthFlow]=$B27)*NoOfBills[60-GCSF])+SUMPRODUCT((NoOfBills[MonthFlow]=$B27)*NoOfBills[63-GCSF])","v":2074},{"$f":"INDEX(BetaCoeff[BetaCoeff],MATCH(D$22,BetaCoeff[RateSched],0))","v":0.23893880000000001},10828.341963533314,{"$f":"SUMPRODUCT((VolRates[Month]=MONTH(B27))*(VolRates[63-GCSF]))","v":0.14216000000000001},1539.36,{"$f":"SUMPRODUCT((BillDeter[Region]=$C$4)*(BillDeter[CustClass]=E$22)*BillDeter[BillingDeterminants])","v":3249867.6799999997},4.6999999999999999E-4]
[null,44835,{"$f":"SUMPRODUCT((MeterReadSch[MonthBill]=$B28)*MeterReadSch[NEMO])","v":44834},{"$f":"SUMPRODUCT((MeterReadSch[MonthFlow]=$B28)*MeterReadSch[NEMO])","v":44865},31,{"$f":"SUMPRODUCT((ChillTempAct[Date]>=$C28)*(ChillTempAct[Date]<$D28)*ChillTempAct[ChillNHDD])","v":367.33859020310632},{"$f":"SUMPRODUCT((ChillTempAct[Date]>=$C28)*(ChillTempAct[Date]<$D28)*ChillTempAct[ChillAdjHDD])","v":402.73765000000014},-35.399059796893823,{"$f":"SUMPRODUCT((NoOfBills[MonthFlow]=$B28)*NoOfBills[60-GCSF])+SUMPRODUCT((NoOfBills[MonthFlow]=$B28)*NoOfBills[63-GCSF])","v":2140},{"$f":"INDEX(BetaCoeff[BetaCoeff],MATCH(D$22,BetaCoeff[RateSched],0))","v":0.23893880000000001},-18100.566979655836,{"$f":"SUMPRODUCT((VolRates[Month]=MONTH(B28))*(VolRates[63-GCSF]))","v":0.14216000000000001},-2573.1799999999998,{"$f":"SUMPRODUCT((BillDeter[Region]=$C$4)*(BillDeter[CustClass]=E$22)*BillDeter[BillingDeterminants])","v":3249867.6799999997},-7.9000000000000001E-4]
[null,44866,{"$f":"SUMPRODUCT((MeterReadSch[MonthBill]=$B29)*MeterReadSch[NEMO])","v":44865},{"$f":"SUMPRODUCT((MeterReadSch[MonthFlow]=$B29)*MeterReadSch[NEMO])","v":44895},30,{"$f":"SUMPRODUCT((ChillTempAct[Date]>=$C29)*(ChillTempAct[Date]<$D29)*ChillTempAct[ChillNHDD])","v":692.84307048984465},{"$f":"SUMPRODUCT((ChillTempAct[Date]>=$C29)*(ChillTempAct[Date]<$D29)*ChillTempAct[ChillAdjHDD])","v":734.19150000000002},-41.34842951015537,{"$f":"SUMPRODUCT((NoOfBills[MonthFlow]=$B29)*NoOfBills[60-GCSF])+SUMPRODUCT((NoOfBills[MonthFlow]=$B29)*NoOfBills[63-GCSF])","v":2160},{"$f":"INDEX(BetaCoeff[BetaCoeff],MATCH(D$22,BetaCoeff[RateSched],0))","v":0.23893880000000001},-21340.247318728801,{"$f":"SUMPRODUCT((VolRates[Month]=MONTH(B29))*(VolRates[63-GCSF]))","v":0.14216000000000001},-3033.73,{"$f":"SUMPRODUCT((BillDeter[Region]=$C$4)*(BillDeter[CustClass]=E$22)*BillDeter[BillingDeterminants])","v":3249867.6799999997},-9.3000000000000005E-4]
[null,44896,{"$f":"SUMPRODUCT((MeterReadSch[MonthBill]=$B30)*MeterReadSch[NEMO])","v":44895},{"$f":"SUMPRODUCT((MeterReadSch[MonthFlow]=$B30)*MeterReadSch[NEMO])","v":44925},30,{"$f":"SUMPRODUCT((ChillTempAct[Date]>=$C30)*(ChillTempAct[Date]<$D30)*ChillTempAct[ChillNHDD])","v":1081.3683094384708},{"$f":"SUMPRODUCT((ChillTempAct[Date]>=$C30)*(ChillTempAct[Date]<$D30)*ChillTempAct[ChillAdjHDD])","v":1182.4292999999998},-101.06099056152902,{"$f":"SUMPRODUCT((NoOfBills[MonthFlow]=$B30)*NoOfBills[60-GCSF])+SUMPRODUCT((NoOfBills[MonthFlow]=$B30)*NoOfBills[63-GCSF])","v":2162},{"$f":"INDEX(BetaCoeff[BetaCoeff],MATCH(D$22,BetaCoeff[RateSched],0))","v":0.23893880000000001},-52206.661096642601,{"$f":"SUMPRODUCT((VolRates[Month]=MONTH(B30))*(VolRates[63-GCSF]))","v":0.14216000000000001},-7421.7,{"$f":"SUMPRODUCT((BillDeter[Region]=$C$4)*(BillDeter[CustClass]=E$22)*BillDeter[BillingDeterminants])","v":3249867.6799999997},-2.2799999999999999E-3]
[null,"Totals",{"$f":"C25","v":44742},{"$f":"D30","v":44925},183,{"$f":"SUM(F25:F30)","v":2230.6997311827954},{"$f":"SUM(G25:G30)","v":2378.2769499999999},{"$f":"SUM(H25:H30)","v":-147.57721881720428},{"$f":"SUM(I25:I30)","v":12708},{"$f":"J30","v":0.23893880000000001},{"$f":"SUM(K25:K30)","v":-76646.374638442125},{"$f":"L30","v":0.14216000000000001},{"$f":"ROUND(SUM(M25:M30),2)","v":-10896.05},{"$f":"SUMPRODUCT((BillDeter[Region]=$C$4)*(BillDeter[CustClass]=E$22)*BillDeter[BillingDeterminants])","v":3249867.6799999997},-3.3500000000000001E-3]
[null,"Reconciling Period Adj.",null,{"$f":"M31","v":-10896.05},"Enter in Reconciling Period Adjustment Table (ReconPerAdj)"]
[null,"Enter WNA Amounts in Column M in CSWNA Amounts Table"]

{"sheet":"ChillTempActuals","index":12,"n_rows":883,"n_cols":17,"rows_kept":883,"cut":false,"hidden":false,"merged":[]}
["Date","ChillHigh","ChillLow","ChillAve","ChillHDD","ChillAdj","ChillAdjHDD","ChillNHDD","Year","Month","Rank","Preparer's Notes","Reviewer's Notes",null,"Process for updating table:"]
[44047,74,53,{"$f":"AVERAGE(ChillTempAct[[#This Row],[ChillHigh]:[ChillLow]])","v":63.5},{"$f":"IF(ChillTempAct[[#This Row],[ChillAve]]<65,65-ChillTempAct[[#This Row],[ChillAve]],0)","v":1.5},{"$f":"INDEX(TempAdj[AdjustPct],MATCH(MONTH(ChillTempAct[[#This Row],[Date]]),TempAdj[Month],0))","v":1.0758000000000001},{"$f":"ChillTempAct[[#This Row],[ChillHDD]]*(1+ChillTempAct[[#This Row],[ChillAdj]])","v":3.1137000000000001},{"$f":"SUMPRODUCT((RankNHDD[Month]=ChillTempAct[[#This Row],[Month]])*(RankNHDD[Rank]=ChillTempAct[[#This Row],[Rank]])*RankNHDD[KIRKNHDD])","v":4.868709677419349},{"$f":"YEAR(ChillTempAct[[#This Row],[Date]])","v":2020},{"$f":"MONTH(ChillTempAct[[#This Row],[Date]])","v":8},{"$f":"IF(ChillTempAct[[#This Row],[Month]]=J1,K1+1,1)","v":1},null,null,null,"1)  Enter New Data at end of table"]
[44048,74,54,{"$f":"AVERAGE(ChillTempAct[[#This Row],[ChillHigh]:[ChillLow]])","v":64},{"$f":"IF(ChillTempAct[[#This Row],[ChillAve]]<65,65-ChillTempAct[[#This Row],[ChillAve]],0)","v":1},{"$f":"INDEX(TempAdj[AdjustPct],MATCH(MONTH(ChillTempAct[[#This Row],[Date]]),TempAdj[Month],0))","v":1.0758000000000001},{"$f":"ChillTempAct[[#This Row],[ChillHDD]]*(1+ChillTempAct[[#This Row],[ChillAdj]])","v":2.0758000000000001},{"$f":"SUMPRODUCT((RankNHDD[Month]=ChillTempAct[[#This Row],[Month]])*(RankNHDD[Rank]=ChillTempAct[[#This Row],[Rank]])*RankNHDD[KIRKNHDD])","v":1.5306989247311804},{"$f":"YEAR(ChillTempAct[[#This Row],[Date]])","v":2020},{"$f":"MONTH(ChillTempAct[[#This Row],[Date]])","v":8},{"$f":"IF(ChillTempAct[[#This Row],[Month]]=J2,K2+1,1)","v":2},null,null,null,null,"New Data = Date, ChillHigh, ChillLow"]
[44049,77,56,{"$f":"AVERAGE(ChillTempAct[[#This Row],[ChillHigh]:[ChillLow]])","v":66.5},{"$f":"IF(ChillTempAct[[#This Row],[ChillAve]]<65,65-ChillTempAct[[#This Row],[ChillAve]],0)","v":0},{"$f":"INDEX(TempAdj[AdjustPct],MATCH(MONTH(ChillTempAct[[#This Row],[Date]]),TempAdj[Month],0))","v":1.0758000000000001},{"$f":"ChillTempAct[[#This Row],[ChillHDD]]*(1+ChillTempAct[[#This Row],[ChillAdj]])","v":0},{"$f":"SUMPRODUCT((RankNHDD[Month]=ChillTempAct[[#This Row],[Month]])*(RankNHDD[Rank]=ChillTempAct[[#This Row],[Rank]])*RankNHDD[KIRKNHDD])","v":4.2473118279569157E-2},{"$f":"YEAR(ChillTempAct[[#This Row],[Date]])","v":2020},{"$f":"MONTH(ChillTempAct[[#This Row],[Date]])","v":8},{"$f":"IF(ChillTempAct[[#This Row],[Month]]=J3,K3+1,1)","v":3},null,null,null,"2)  Sort by:"]
[44062,78,57,{"$f":"AVERAGE(ChillTempAct[[#This Row],[ChillHigh]:[ChillLow]])","v":67.5},{"$f":"IF(ChillTempAct[[#This Row],[ChillAve]]<65,65-ChillTempAct[[#This Row],[ChillAve]],0)","v":0},{"$f":"INDEX(TempAdj[AdjustPct],MATCH(MONTH(ChillTempAct[[#This Row],[Date]]),TempAdj[Month],0))","v":1.0758000000000001},{"$f":"ChillTempAct[[#This Row],[ChillHDD]]*(1+ChillTempAct[[#This Row],[ChillAdj]])","v":0},{"$f":"SUMPRODUCT((RankNHDD[Month]=ChillTempAct[[#This Row],[Month]])*(RankNHDD[Rank]=ChillTempAct[[#This Row],[Rank]])*RankNHDD[KIRKNHDD])","v":0},{"$f":"YEAR(ChillTempAct[[#This Row],[Date]])","v":2020},{"$f":"MONTH(ChillTempAct[[#This Row],[Date]])","v":8},{"$f":"IF(ChillTempAct[[#This Row],[Month]]=J4,K4+1,1)","v":4},null,null,null,null,"Year","Smallest to Largest"]
[44063,81,55,{"$f":"AVERAGE(ChillTempAct[[#This Row],[ChillHigh]:[ChillLow]])","v":68},{"$f":"IF(ChillTempAct[[#This Row],[ChillAve]]<65,65-ChillTempAct[[#This Row],[ChillAve]],0)","v":0},{"$f":"INDEX(TempAdj[AdjustPct],MATCH(MONTH(ChillTempAct[[#This Row],[Date]]),TempAdj[Month],0))","v":1.0758000000000001},{"$f":"ChillTempAct[[#This Row],[ChillHDD]]*(1+ChillTempAct[[#This Row],[ChillAdj]])","v":0},{"$f":"SUMPRODUCT((RankNHDD[Month]=ChillTempAct[[#This Row],[Month]])*(RankNHDD[Rank]=ChillTempAct[[#This Row],[Rank]])*RankNHDD[KIRKNHDD])","v":0},{"$f":"YEAR(ChillTempAct[[#This Row],[Date]])","v":2020},{"$f":"MONTH(ChillTempAct[[#This Row],[Date]])","v":8},{"$f":"IF(ChillTempAct[[#This Row],[Month]]=J5,K5+1,1)","v":5},null,null,null,null,"Month","Smallest to Largest"]
[44073,80,56,{"$f":"AVERAGE(ChillTempAct[[#This Row],[ChillHigh]:[ChillLow]])","v":68},{"$f":"IF(ChillTempAct[[#This Row],[ChillAve]]<65,65-ChillTempAct[[#This Row],[ChillAve]],0)","v":0},{"$f":"INDEX(TempAdj[AdjustPct],MATCH(MONTH(ChillTempAct[[#This Row],[Date]]),TempAdj[Month],0))","v":1.0758000000000001},{"$f":"ChillTempAct[[#This Row],[ChillHDD]]*(1+ChillTempAct[[#This Row],[ChillAdj]])","v":0},{"$f":"SUMPRODUCT((RankNHDD[Month]=ChillTempAct[[#This Row],[Month]])*(RankNHDD[Rank]=ChillTempAct[[#This Row],[Rank]])*RankNHDD[KIRKNHDD])","v":0},{"$f":"YEAR(ChillTempAct[[#This Row],[Date]])","v":2020},{"$f":"MONTH(ChillTempAct[[#This Row],[Date]])","v":8},{"$f":"IF(ChillTempAct[[#This Row],[Month]]=J6,K6+1,1)","v":6},null,null,null,null,"ChillAve","Smallest to Largest"]
[44044,78,61,{"$f":"AVERAGE(ChillTempAct[[#This Row],[ChillHigh]:[ChillLow]])","v":69.5},{"$f":"IF(ChillTempAct[[#This Row],[ChillAve]]<65,65-ChillTempAct[[#This Row],[ChillAve]],0)","v":0},{"$f":"INDEX(TempAdj[AdjustPct],MATCH(MONTH(ChillTempAct[[#This Row],[Date]]),TempAdj[Month],0))","v":1.0758000000000001},{"$f":"ChillTempAct[[#This Row],[ChillHDD]]*(1+ChillTempAct[[#This Row],[ChillAdj]])","v":0},{"$f":"SUMPRODUCT((RankNHDD[Month]=ChillTempAct[[#This Row],[Month]])*(RankNHDD[Rank]=ChillTempAct[[#This Row],[Rank]])*RankNHDD[KIRKNHDD])","v":0},{"$f":"YEAR(ChillTempAct[[#This Row],[Date]])","v":2020},{"$f":"MONTH(ChillTempAct[[#This Row],[Date]])","v":8},{"$f":"IF(ChillTempAct[[#This Row],[Month]]=J7,K7+1,1)","v":7},null,null,null,"3)  Formulas in rest of table will be applied to New Data"]
[44064,82,57,{"$f":"AVERAGE(ChillTempAct[[#This Row],[ChillHigh]:[ChillLow]])","v":69.5},{"$f":"IF(ChillTempAct[[#This Row],[ChillAve]]<65,65-ChillTempAct[[#This Row],[ChillAve]],0)","v":0},{"$f":"INDEX(TempAdj[AdjustPct],MATCH(MONTH(ChillTempAct[[#This Row],[Date]]),TempAdj[Month],0))","v":1.0758000000000001},{"$f":"ChillTempAct[[#This Row],[ChillHDD]]*(1+ChillTempAct[[#This Row],[ChillAdj]])","v":0},{"$f":"SUMPRODUCT((RankNHDD[Month]=ChillTempAct[[#This Row],[Month]])*(RankNHDD[Rank]=ChillTempAct[[#This Row],[Rank]])*RankNHDD[KIRKNHDD])","v":0},{"$f":"YEAR(ChillTempAct[[#This Row],[Date]])","v":2020},{"$f":"MONTH(ChillTempAct[[#This Row],[Date]])","v":8},{"$f":"IF(ChillTempAct[[#This Row],[Month]]=J8,K8+1,1)","v":8},null,null,null,"4)  Do not overwrite formulas!"]
[44046,82,59,{"$f":"AVERAGE(ChillTempAct[[#This Row],[ChillHigh]:[ChillLow]])","v":70.5},{"$f":"IF(ChillTempAct[[#This Row],[ChillAve]]<65,65-ChillTempAct[[#This Row],[ChillAve]],0)","v":0},{"$f":"INDEX(TempAdj[AdjustPct],MATCH(MONTH(ChillTempAct[[#This Row],[Date]]),TempAdj[Month],0))","v":1.0758000000000001},{"$f":"ChillTempAct[[#This Row],[ChillHDD]]*(1+ChillTempAct[[#This Row],[ChillAdj]])","v":0},{"$f":"SUMPRODUCT((RankNHDD[Month]=ChillTempAct[[#This Row],[Month]])*(RankNHDD[Rank]=ChillTempAct[[#This Row],[Rank]])*RankNHDD[KIRKNHDD])","v":0},{"$f":"YEAR(ChillTempAct[[#This Row],[Date]])","v":2020},{"$f":"MONTH(ChillTempAct[[#This Row],[Date]])","v":8},{"$f":"IF(ChillTempAct[[#This Row],[Month]]=J9,K9+1,1)","v":9},null,null,null,"5)  Weather Data is from the Chillicothe, MO weather station"]
[44061,83,58,{"$f":"AVERAGE(ChillTempAct[[#This Row],[ChillHigh]:[ChillLow]])","v":70.5},{"$f":"IF(ChillTempAct[[#This Row],[ChillAve]]<65,65-ChillTempAct[[#This Row],[ChillAve]],0)","v":0},{"$f":"INDEX(TempAdj[AdjustPct],MATCH(MONTH(ChillTempAct[[#This Row],[Date]]),TempAdj[Month],0))","v":1.0758000000000001},{"$f":"ChillTempAct[[#This Row],[ChillHDD]]*(1+ChillTempAct[[#This Row],[ChillAdj]])","v":0},{"$f":"SUMPRODUCT((RankNHDD[Month]=ChillTempAct[[#This Row],[Month]])*(RankNHDD[Rank]=ChillTempAct[[#This Row],[Rank]])*RankNHDD[KIRKNHDD])","v":0},{"$f":"YEAR(ChillTempAct[[#This Row],[Date]])","v":2020},{"$f":"MONTH(ChillTempAct[[#This Row],[Date]])","v":8},{"$f":"IF(ChillTempAct[[#This Row],[Month]]=J10,K10+1,1)","v":10},null,null,null,"6)  Station ID Information:"]
[44074,82,60,{"$f":"AVERAGE(ChillTempAct[[#This Row],[ChillHigh]:[ChillLow]])","v":71},{"$f":"IF(ChillTempAct[[#This Row],[ChillAve]]<65,65-ChillTempAct[[#This Row],[ChillAve]],0)","v":0},{"$f":"INDEX(TempAdj[AdjustPct],MATCH(MONTH(ChillTempAct[[#This Row],[Date]]),TempAdj[Month],0))","v":1.0758000000000001},{"$f":"ChillTempAct[[#This Row],[ChillHDD]]*(1+ChillTempAct[[#This Row],[ChillAdj]])","v":0},{"$f":"SUMPRODUCT((RankNHDD[Month]=ChillTempAct[[#This Row],[Month]])*(RankNHDD[Rank]=ChillTempAct[[#This Row],[Rank]])*RankNHDD[KIRKNHDD])","v":0},{"$f":"YEAR(ChillTempAct[[#This Row],[Date]])","v":2020},{"$f":"MONTH(ChillTempAct[[#This Row],[Date]])","v":8},{"$f":"IF(ChillTempAct[[#This Row],[Month]]=J11,K11+1,1)","v":11},null,null,null,null,"NWS Cooperative Network ID:  231580"]
[44059,84,59,{"$f":"AVERAGE(ChillTempAct[[#This Row],[ChillHigh]:[ChillLow]])","v":71.5},{"$f":"IF(ChillTempAct[[#This Row],[ChillAve]]<65,65-ChillTempAct[[#This Row],[ChillAve]],0)","v":0},{"$f":"INDEX(TempAdj[AdjustPct],MATCH(MONTH(ChillTempAct[[#This Row],[Date]]),TempAdj[Month],0))","v":1.0758000000000001},{"$f":"ChillTempAct[[#This Row],[ChillHDD]]*(1+ChillTempAct[[#This Row],[ChillAdj]])","v":0},{"$f":"SUMPRODUCT((RankNHDD[Month]=ChillTempAct[[#This Row],[Month]])*(RankNHDD[Rank]=ChillTempAct[[#This Row],[Rank]])*RankNHDD[KIRKNHDD])","v":0},{"$f":"YEAR(ChillTempAct[[#This Row],[Date]])","v":2020},{"$f":"MONTH(ChillTempAct[[#This Row],[Date]])","v":8},{"$f":"IF(ChillTempAct[[#This Row],[Month]]=J12,K12+1,1)","v":12},null,null,null,null,"Other ID:  USC00231580"]
[44045,83,62,{"$f":"AVERAGE(ChillTempAct[[#This Row],[ChillHigh]:[ChillLow]])","v":72.5},{"$f":"IF(ChillTempAct[[#This Row],[ChillAve]]<65,65-ChillTempAct[[#This Row],[ChillAve]],0)","v":0},{"$f":"INDEX(TempAdj[AdjustPct],MATCH(MONTH(ChillTempAct[[#This Row],[Date]]),TempAdj[Month],0))","v":1.0758000000000001},{"$f":"ChillTempAct[[#This Row],[ChillHDD]]*(1+ChillTempAct[[#This Row],[ChillAdj]])","v":0},{"$f":"SUMPRODUCT((RankNHDD[Month]=ChillTempAct[[#This Row],[Month]])*(RankNHDD[Rank]=ChillTempAct[[#This Row],[Rank]])*RankNHDD[KIRKNHDD])","v":0},{"$f":"YEAR(ChillTempAct[[#This Row],[Date]])","v":2020},{"$f":"MONTH(ChillTempAct[[#This Row],[Date]])","v":8},{"$f":"IF(ChillTempAct[[#This Row],[Month]]=J13,K13+1,1)","v":13}]
[44050,82,64,{"$f":"AVERAGE(ChillTempAct[[#This Row],[ChillHigh]:[ChillLow]])","v":73},{"$f":"IF(ChillTempAct[[#This Row],[ChillAve]]<65,65-ChillTempAct[[#This Row],[ChillAve]],0)","v":0},{"$f":"INDEX(TempAdj[AdjustPct],MATCH(MONTH(ChillTempAct[[#This Row],[Date]]),TempAdj[Month],0))","v":1.0758000000000001},{"$f":"ChillTempAct[[#This Row],[ChillHDD]]*(1+ChillTempAct[[#This Row],[ChillAdj]])","v":0},{"$f":"SUMPRODUCT((RankNHDD[Month]=ChillTempAct[[#This Row],[Month]])*(RankNHDD[Rank]=ChillTempAct[[#This Row],[Rank]])*RankNHDD[KIRKNHDD])","v":0},{"$f":"YEAR(ChillTempAct[[#This Row],[Date]])","v":2020},{"$f":"MONTH(ChillTempAct[[#This Row],[Date]])","v":8},{"$f":"IF(ChillTempAct[[#This Row],[Month]]=J14,K14+1,1)","v":14}]
[44065,87,59,{"$f":"AVERAGE(ChillTempAct[[#This Row],[ChillHigh]:[ChillLow]])","v":73},{"$f":"IF(ChillTempAct[[#This Row],[ChillAve]]<65,65-ChillTempAct[[#This Row],[ChillAve]],0)","v":0},{"$f":"INDEX(TempAdj[AdjustPct],MATCH(MONTH(ChillTempAct[[#This Row],[Date]]),TempAdj[Month],0))","v":1.0758000000000001},{"$f":"ChillTempAct[[#This Row],[ChillHDD]]*(1+ChillTempAct[[#This Row],[ChillAdj]])","v":0},{"$f":"SUMPRODUCT((RankNHDD[Month]=ChillTempAct[[#This Row],[Month]])*(RankNHDD[Rank]=ChillTempAct[[#This Row],[Rank]])*RankNHDD[KIRKNHDD])","v":0},{"$f":"YEAR(ChillTempAct[[#This Row],[Date]])","v":2020},{"$f":"MONTH(ChillTempAct[[#This Row],[Date]])","v":8},{"$f":"IF(ChillTempAct[[#This Row],[Month]]=J15,K15+1,1)","v":15}]
[44060,84,63,{"$f":"AVERAGE(ChillTempAct[[#This Row],[ChillHigh]:[ChillLow]])","v":73.5},{"$f":"IF(ChillTempAct[[#This Row],[ChillAve]]<65,65-ChillTempAct[[#This Row],[ChillAve]],0)","v":0},{"$f":"INDEX(TempAdj[AdjustPct],MATCH(MONTH(ChillTempAct[[#This Row],[Date]]),TempAdj[Month],0))","v":1.0758000000000001},{"$f":"ChillTempAct[[#This Row],[ChillHDD]]*(1+ChillTempAct[[#This Row],[ChillAdj]])","v":0},{"$f":"SUMPRODUCT((RankNHDD[Month]=ChillTempAct[[#This Row],[Month]])*(RankNHDD[Rank]=ChillTempAct[[#This Row],[Rank]])*RankNHDD[KIRKNHDD])","v":0},{"$f":"YEAR(ChillTempAct[[#This Row],[Date]])","v":2020},{"$f":"MONTH(ChillTempAct[[#This Row],[Date]])","v":8},{"$f":"IF(ChillTempAct[[#This Row],[Month]]=J16,K16+1,1)","v":16}]
[44055,82,66,{"$f":"AVERAGE(ChillTempAct[[#This Row],[ChillHigh]:[ChillLow]])","v":74},{"$f":"IF(ChillTempAct[[#This Row],[ChillAve]]<65,65-ChillTempAct[[#This Row],[ChillAve]],0)","v":0},{"$f":"INDEX(TempAdj[AdjustPct],MATCH(MONTH(ChillTempAct[[#This Row],[Date]]),TempAdj[Month],0))","v":1.0758000000000001},{"$f":"ChillTempAct[[#This Row],[ChillHDD]]*(1+ChillTempAct[[#This Row],[ChillAdj]])","v":0},{"$f":"SUMPRODUCT((RankNHDD[Month]=ChillTempAct[[#This Row],[Month]])*(RankNHDD[Rank]=ChillTempAct[[#This Row],[Rank]])*RankNHDD[KIRKNHDD])","v":0},{"$f":"YEAR(ChillTempAct[[#This Row],[Date]])","v":2020},{"$f":"MONTH(ChillTempAct[[#This Row],[Date]])","v":8},{"$f":"IF(ChillTempAct[[#This Row],[Month]]=J17,K17+1,1)","v":17}]
[44054,87,65,{"$f":"AVERAGE(ChillTempAct[[#This Row],[ChillHigh]:[ChillLow]])","v":76},{"$f":"IF(ChillTempAct[[#This Row],[ChillAve]]<65,65-ChillTempAct[[#This Row],[ChillAve]],0)","v":0},{"$f":"INDEX(TempAdj[AdjustPct],MATCH(MONTH(ChillTempAct[[#This Row],[Date]]),TempAdj[Month],0))","v":1.0758000000000001},{"$f":"ChillTempAct[[#This Row],[ChillHDD]]*(1+ChillTempAct[[#This Row],[ChillAdj]])","v":0},{"$f":"SUMPRODUCT((RankNHDD[Month]=ChillTempAct[[#This Row],[Month]])*(RankNHDD[Rank]=ChillTempAct[[#This Row],[Rank]])*RankNHDD[KIRKNHDD])","v":0},{"$f":"YEAR(ChillTempAct[[#This Row],[Date]])","v":2020},{"$f":"MONTH(ChillTempAct[[#This Row],[Date]])","v":8},{"$f":"IF(ChillTempAct[[#This Row],[Month]]=J18,K18+1,1)","v":18}]
[44051,88,66,{"$f":"AVERAGE(ChillTempAct[[#This Row],[ChillHigh]:[ChillLow]])","v":77},{"$f":"IF(ChillTempAct[[#This Row],[ChillAve]]<65,65-ChillTempAct[[#This Row],[ChillAve]],0)","v":0},{"$f":"INDEX(TempAdj[AdjustPct],MATCH(MONTH(ChillTempAct[[#This Row],[Date]]),TempAdj[Month],0))","v":1.0758000000000001},{"$f":"ChillTempAct[[#This Row],[ChillHDD]]*(1+ChillTempAct[[#This Row],[ChillAdj]])","v":0},{"$f":"SUMPRODUCT((RankNHDD[Month]=ChillTempAct[[#This Row],[Month]])*(RankNHDD[Rank]=ChillTempAct[[#This Row],[Rank]])*RankNHDD[KIRKNHDD])","v":0},{"$f":"YEAR(ChillTempAct[[#This Row],[Date]])","v":2020},{"$f":"MONTH(ChillTempAct[[#This Row],[Date]])","v":8},{"$f":"IF(ChillTempAct[[#This Row],[Month]]=J19,K19+1,1)","v":19}]
[44058,88,67,{"$f":"AVERAGE(ChillTempAct[[#This Row],[ChillHigh]:[ChillLow]])","v":77.5},{"$f":"IF(ChillTempAct[[#This Row],[ChillAve]]<65,65-ChillTempAct[[#This Row],[ChillAve]],0)","v":0},{"$f":"INDEX(TempAdj[AdjustPct],MATCH(MONTH(ChillTempAct[[#This Row],[Date]]),TempAdj[Month],0))","v":1.0758000000000001},{"$f":"ChillTempAct[[#This Row],[ChillHDD]]*(1+ChillTempAct[[#This Row],[ChillAdj]])","v":0},{"$f":"SUMPRODUCT((RankNHDD[Month]=ChillTempAct[[#This Row],[Month]])*(RankNHDD[Rank]=ChillTempAct[[#This Row],[Rank]])*RankNHDD[KIRKNHDD])","v":0},{"$f":"YEAR(ChillTempAct[[#This Row],[Date]])","v":2020},{"$f":"MONTH(ChillTempAct[[#This Row],[Date]])","v":8},{"$f":"IF(ChillTempAct[[#This Row],[Month]]=J20,K20+1,1)","v":20}]
[44066,90,65,{"$f":"AVERAGE(ChillTempAct[[#This Row],[ChillHigh]:[ChillLow]])","v":77.5},{"$f":"IF(ChillTempAct[[#This Row],[ChillAve]]<65,65-ChillTempAct[[#This Row],[ChillAve]],0)","v":0},{"$f":"INDEX(TempAdj[AdjustPct],MATCH(MONTH(ChillTempAct[[#This Row],[Date]]),TempAdj[Month],0))","v":1.0758000000000001},{"$f":"ChillTempAct[[#This Row],[ChillHDD]]*(1+ChillTempAct[[#This Row],[ChillAdj]])","v":0},{"$f":"SUMPRODUCT((RankNHDD[Month]=ChillTempAct[[#This Row],[Month]])*(RankNHDD[Rank]=ChillTempAct[[#This Row],[Rank]])*RankNHDD[KIRKNHDD])","v":0},{"$f":"YEAR(ChillTempAct[[#This Row],[Date]])","v":2020},{"$f":"MONTH(ChillTempAct[[#This Row],[Date]])","v":8},{"$f":"IF(ChillTempAct[[#This Row],[Month]]=J21,K21+1,1)","v":21}]
[44053,85,71,{"$f":"AVERAGE(ChillTempAct[[#This Row],[ChillHigh]:[ChillLow]])","v":78},{"$f":"IF(ChillTempAct[[#This Row],[ChillAve]]<65,65-ChillTempAct[[#This Row],[ChillAve]],0)","v":0},{"$f":"INDEX(TempAdj[AdjustPct],MATCH(MONTH(ChillTempAct[[#This Row],[Date]]),TempAdj[Month],0))","v":1.0758000000000001},{"$f":"ChillTempAct[[#This Row],[ChillHDD]]*(1+ChillTempAct[[#This Row],[ChillAdj]])","v":0},{"$f":"SUMPRODUCT((RankNHDD[Month]=ChillTempAct[[#This Row],[Month]])*(RankNHDD[Rank]=ChillTempAct[[#This Row],[Rank]])*RankNHDD[KIRKNHDD])","v":0},{"$f":"YEAR(ChillTempAct[[#This Row],[Date]])","v":2020},{"$f":"MONTH(ChillTempAct[[#This Row],[Date]])","v":8},{"$f":"IF(ChillTempAct[[#This Row],[Month]]=J22,K22+1,1)","v":22}]
[44056,87,70,{"$f":"AVERAGE(ChillTempAct[[#This Row],[ChillHigh]:[ChillLow]])","v":78.5},{"$f":"IF(ChillTempAct[[#This Row],[ChillAve]]<65,65-ChillTempAct[[#This Row],[ChillAve]],0)","v":0},{"$f":"INDEX(TempAdj[AdjustPct],MATCH(MONTH(ChillTempAct[[#This Row],[Date]]),TempAdj[Month],0))","v":1.0758000000000001},{"$f":"ChillTempAct[[#This Row],[ChillHDD]]*(1+ChillTempAct[[#This Row],[ChillAdj]])","v":0},{"$f":"SUMPRODUCT((RankNHDD[Month]=ChillTempAct[[#This Row],[Month]])*(RankNHDD[Rank]=ChillTempAct[[#This Row],[Rank]])*RankNHDD[KIRKNHDD])","v":0},{"$f":"YEAR(ChillTempAct[[#This Row],[Date]])","v":2020},{"$f":"MONTH(ChillTempAct[[#This Row],[Date]])","v":8},{"$f":"IF(ChillTempAct[[#This Row],[Month]]=J23,K23+1,1)","v":23}]
[44071,91,66,{"$f":"AVERAGE(ChillTempAct[[#This Row],[ChillHigh]:[ChillLow]])","v":78.5},{"$f":"IF(ChillTempAct[[#This Row],[ChillAve]]<65,65-ChillTempAct[[#This Row],[ChillAve]],0)","v":0},{"$f":"INDEX(TempAdj[AdjustPct],MATCH(MONTH(ChillTempAct[[#This Row],[Date]]),TempAdj[Month],0))","v":1.0758000000000001},{"$f":"ChillTempAct[[#This Row],[ChillHDD]]*(1+ChillTempAct[[#This Row],[ChillAdj]])","v":0},{"$f":"SUMPRODUCT((RankNHDD[Month]=ChillTempAct[[#This Row],[Month]])*(RankNHDD[Rank]=ChillTempAct[[#This Row],[Rank]])*RankNHDD[KIRKNHDD])","v":0},{"$f":"YEAR(ChillTempAct[[#This Row],[Date]])","v":2020},{"$f":"MONTH(ChillTempAct[[#This Row],[Date]])","v":8},{"$f":"IF(ChillTempAct[[#This Row],[Month]]=J24,K24+1,1)","v":24}]
[44057,88,70,{"$f":"AVERAGE(ChillTempAct[[#This Row],[ChillHigh]:[ChillLow]])","v":79},{"$f":"IF(ChillTempAct[[#This Row],[ChillAve]]<65,65-ChillTempAct[[#This Row],[ChillAve]],0)","v":0},{"$f":"INDEX(TempAdj[AdjustPct],MATCH(MONTH(ChillTempAct[[#This Row],[Date]]),TempAdj[Month],0))","v":1.0758000000000001},{"$f":"ChillTempAct[[#This Row],[ChillHDD]]*(1+ChillTempAct[[#This Row],[ChillAdj]])","v":0},{"$f":"SUMPRODUCT((RankNHDD[Month]=ChillTempAct[[#This Row],[Month]])*(RankNHDD[Rank]=ChillTempAct[[#This Row],[Rank]])*RankNHDD[KIRKNHDD])","v":0},{"$f":"YEAR(ChillTempAct[[#This Row],[Date]])","v":2020},{"$f":"MONTH(ChillTempAct[[#This Row],[Date]])","v":8},{"$f":"IF(ChillTempAct[[#This Row],[Month]]=J25,K25+1,1)","v":25}]
[44052,85,75,{"$f":"AVERAGE(ChillTempAct[[#This Row],[ChillHigh]:[ChillLow]])","v":80},{"$f":"IF(ChillTempAct[[#This Row],[ChillAve]]<65,65-ChillTempAct[[#This Row],[ChillAve]],0)","v":0},{"$f":"INDEX(TempAdj[AdjustPct],MATCH(MONTH(ChillTempAct[[#This Row],[Date]]),TempAdj[Month],0))","v":1.0758000000000001},{"$f":"ChillTempAct[[#This Row],[ChillHDD]]*(1+ChillTempAct[[#This Row],[ChillAdj]])","v":0},{"$f":"SUMPRODUCT((RankNHDD[Month]=ChillTempAct[[#This Row],[Month]])*(RankNHDD[Rank]=ChillTempAct[[#This Row],[Rank]])*RankNHDD[KIRKNHDD])","v":0},{"$f":"YEAR(ChillTempAct[[#This Row],[Date]])","v":2020},{"$f":"MONTH(ChillTempAct[[#This Row],[Date]])","v":8},{"$f":"IF(ChillTempAct[[#This Row],[Month]]=J26,K26+1,1)","v":26}]
[44068,93,67,{"$f":"AVERAGE(ChillTempAct[[#This Row],[ChillHigh]:[ChillLow]])","v":80},{"$f":"IF(ChillTempAct[[#This Row],[ChillAve]]<65,65-ChillTempAct[[#This Row],[ChillAve]],0)","v":0},{"$f":"INDEX(TempAdj[AdjustPct],MATCH(MONTH(ChillTempAct[[#This Row],[Date]]),TempAdj[Month],0))","v":1.0758000000000001},{"$f":"ChillTempAct[[#This Row],[ChillHDD]]*(1+ChillTempAct[[#This Row],[ChillAdj]])","v":0},{"$f":"SUMPRODUCT((RankNHDD[Month]=ChillTempAct[[#This Row],[Month]])*(RankNHDD[Rank]=ChillTempAct[[#This Row],[Rank]])*RankNHDD[KIRKNHDD])","v":0},{"$f":"YEAR(ChillTempAct[[#This Row],[Date]])","v":2020},{"$f":"MONTH(ChillTempAct[[#This Row],[Date]])","v":8},{"$f":"IF(ChillTempAct[[#This Row],[Month]]=J27,K27+1,1)","v":27}]
[44069,93,68,{"$f":"AVERAGE(ChillTempAct[[#This Row],[ChillHigh]:[ChillLow]])","v":80.5},{"$f":"IF(ChillTempAct[[#This Row],[ChillAve]]<65,65-ChillTempAct[[#This Row],[ChillAve]],0)","v":0},{"$f":"INDEX(TempAdj[AdjustPct],MATCH(MONTH(ChillTempAct[[#This Row],[Date]]),TempAdj[Month],0))","v":1.0758000000000001},{"$f":"ChillTempAct[[#This Row],[ChillHDD]]*(1+ChillTempAct[[#This Row],[ChillAdj]])","v":0},{"$f":"SUMPRODUCT((RankNHDD[Month]=ChillTempAct[[#This Row],[Month]])*(RankNHDD[Rank]=ChillTempAct[[#This Row],[Rank]])*RankNHDD[KIRKNHDD])","v":0},{"$f":"YEAR(ChillTempAct[[#This Row],[Date]])","v":2020},{"$f":"MONTH(ChillTempAct[[#This Row],[Date]])","v":8},{"$f":"IF(ChillTempAct[[#This Row],[Month]]=J28,K28+1,1)","v":28}]
[44072,93,68,{"$f":"AVERAGE(ChillTempAct[[#This Row],[ChillHigh]:[ChillLow]])","v":80.5},{"$f":"IF(ChillTempAct[[#This Row],[ChillAve]]<65,65-ChillTempAct[[#This Row],[ChillAve]],0)","v":0},{"$f":"INDEX(TempAdj[AdjustPct],MATCH(MONTH(ChillTempAct[[#This Row],[Date]]),TempAdj[Month],0))","v":1.0758000000000001},{"$f":"ChillTempAct[[#This Row],[ChillHDD]]*(1+ChillTempAct[[#This Row],[ChillAdj]])","v":0},{"$f":"SUMPRODUCT((RankNHDD[Month]=ChillTempAct[[#This Row],[Month]])*(RankNHDD[Rank]=ChillTempAct[[#This Row],[Rank]])*RankNHDD[KIRKNHDD])","v":0},{"$f":"YEAR(ChillTempAct[[#This Row],[Date]])","v":2020},{"$f":"MONTH(ChillTempAct[[#This Row],[Date]])","v":8},{"$f":"IF(ChillTempAct[[#This Row],[Month]]=J29,K29+1,1)","v":29}]
[44067,93,69,{"$f":"AVERAGE(ChillTempAct[[#This Row],[ChillHigh]:[ChillLow]])","v":81},{"$f":"IF(ChillTempAct[[#This Row],[ChillAve]]<65,65-ChillTempAct[[#This Row],[ChillAve]],0)","v":0},{"$f":"INDEX(TempAdj[AdjustPct],MATCH(MONTH(ChillTempAct[[#This Row],[Date]]),TempAdj[Month],0))","v":1.0758000000000001},{"$f":"ChillTempAct[[#This Row],[ChillHDD]]*(1+ChillTempAct[[#This Row],[ChillAdj]])","v":0},{"$f":"SUMPRODUCT((RankNHDD[Month]=ChillTempAct[[#This Row],[Month]])*(RankNHDD[Rank]=ChillTempAct[[#This Row],[Rank]])*RankNHDD[KIRKNHDD])","v":0},{"$f":"YEAR(ChillTempAct[[#This Row],[Date]])","v":2020},{"$f":"MONTH(ChillTempAct[[#This Row],[Date]])","v":8},{"$f":"IF(ChillTempAct[[#This Row],[Month]]=J30,K30+1,1)","v":30}]
[44070,93,70,{"$f":"AVERAGE(ChillTempAct[[#This Row],[ChillHigh]:[ChillLow]])","v":81.5},{"$f":"IF(ChillTempAct[[#This Row],[ChillAve]]<65,65-ChillTempAct[[#This Row],[ChillAve]],0)","v":0},{"$f":"INDEX(TempAdj[AdjustPct],MATCH(MONTH(ChillTempAct[[#This Row],[Date]]),TempAdj[Month],0))","v":1.0758000000000001},{"$f":"ChillTempAct[[#This Row],[ChillHDD]]*(1+ChillTempAct[[#This Row],[ChillAdj]])","v":0},{"$f":"SUMPRODUCT((RankNHDD[Month]=ChillTempAct[[#This Row],[Month]])*(RankNHDD[Rank]=ChillTempAct[[#This Row],[Rank]])*RankNHDD[KIRKNHDD])","v":0},{"$f":"YEAR(ChillTempAct[[#This Row],[Date]])","v":2020},{"$f":"MONTH(ChillTempAct[[#This Row],[Date]])","v":8},{"$f":"IF(ChillTempAct[[#This Row],[Month]]=J31,K31+1,1)","v":31}]
[44084,55,49,{"$f":"AVERAGE(ChillTempAct[[#This Row],[ChillHigh]:[ChillLow]])","v":52},{"$f":"IF(ChillTempAct[[#This Row],[ChillAve]]<65,65-ChillTempAct[[#This Row],[ChillAve]],0)","v":13},{"$f":"INDEX(TempAdj[AdjustPct],MATCH(MONTH(ChillTempAct[[#This Row],[Date]]),TempAdj[Month],0))","v":0.30930000000000002},{"$f":"ChillTempAct[[#This Row],[ChillHDD]]*(1+ChillTempAct[[#This Row],[ChillAdj]])","v":17.020899999999997},{"$f":"SUMPRODUCT((RankNHDD[Month]=ChillTempAct[[#This Row],[Month]])*(RankNHDD[Rank]=ChillTempAct[[#This Row],[Rank]])*RankNHDD[KIRKNHDD])","v":17.450925925925926},{"$f":"YEAR(ChillTempAct[[#This Row],[Date]])","v":2020},{"$f":"MONTH(ChillTempAct[[#This Row],[Date]])","v":9},{"$f":"IF(ChillTempAct[[#This Row],[Month]]=J32,K32+1,1)","v":1}]
[44083,57,49,{"$f":"AVERAGE(ChillTempAct[[#This Row],[ChillHigh]:[ChillLow]])","v":53},{"$f":"IF(ChillTempAct[[#This Row],[ChillAve]]<65,65-ChillTempAct[[#This Row],[ChillAve]],0)","v":12},{"$f":"INDEX(TempAdj[AdjustPct],MATCH(MONTH(ChillTempAct[[#This Row],[Date]]),TempAdj[Month],0))","v":0.30930000000000002},{"$f":"ChillTempAct[[#This Row],[ChillHDD]]*(1+ChillTempAct[[#This Row],[ChillAdj]])","v":15.711599999999999},{"$f":"SUMPRODUCT((RankNHDD[Month]=ChillTempAct[[#This Row],[Month]])*(RankNHDD[Rank]=ChillTempAct[[#This Row],[Rank]])*RankNHDD[KIRKNHDD])","v":13.436296296296296},{"$f":"YEAR(ChillTempAct[[#This Row],[Date]])","v":2020},{"$f":"MONTH(ChillTempAct[[#This Row],[Date]])","v":9},{"$f":"IF(ChillTempAct[[#This Row],[Month]]=J33,K33+1,1)","v":2}]
[44085,56,51,{"$f":"AVERAGE(ChillTempAct[[#This Row],[ChillHigh]:[ChillLow]])","v":53.5},{"$f":"IF(ChillTempAct[[#This Row],[ChillAve]]<65,65-ChillTempAct[[#This Row],[ChillAve]],0)","v":11.5},{"$f":"INDEX(TempAdj[AdjustPct],MATCH(MONTH(ChillTempAct[[#This Row],[Date]]),TempAdj[Month],0))","v":0.30930000000000002},{"$f":"ChillTempAct[[#This Row],[ChillHDD]]*(1+ChillTempAct[[#This Row],[ChillAdj]])","v":15.056949999999999},{"$f":"SUMPRODUCT((RankNHDD[Month]=ChillTempAct[[#This Row],[Month]])*(RankNHDD[Rank]=ChillTempAct[[#This Row],[Rank]])*RankNHDD[KIRKNHDD])","v":11.309259259259257},{"$f":"YEAR(ChillTempAct[[#This Row],[Date]])","v":2020},{"$f":"MONTH(ChillTempAct[[#This Row],[Date]])","v":9},{"$f":"IF(ChillTempAct[[#This Row],[Month]]=J34,K34+1,1)","v":3}]
[44103,64,44,{"$f":"AVERAGE(ChillTempAct[[#This Row],[ChillHigh]:[ChillLow]])","v":54},{"$f":"IF(ChillTempAct[[#This Row],[ChillAve]]<65,65-ChillTempAct[[#This Row],[ChillAve]],0)","v":11},{"$f":"INDEX(TempAdj[AdjustPct],MATCH(MONTH(ChillTempAct[[#This Row],[Date]]),TempAdj[Month],0))","v":0.30930000000000002},{"$f":"ChillTempAct[[#This Row],[ChillHDD]]*(1+ChillTempAct[[#This Row],[ChillAdj]])","v":14.402299999999999},{"$f":"SUMPRODUCT((RankNHDD[Month]=ChillTempAct[[#This Row],[Month]])*(RankNHDD[Rank]=ChillTempAct[[#This Row],[Rank]])*RankNHDD[KIRKNHDD])","v":9.779814814814813},{"$f":"YEAR(ChillTempAct[[#This Row],[Date]])","v":2020},{"$f":"MONTH(ChillTempAct[[#This Row],[Date]])","v":9},{"$f":"IF(ChillTempAct[[#This Row],[Month]]=J35,K35+1,1)","v":4}]
[44104,70,44,{"$f":"AVERAGE(ChillTempAct[[#This Row],[ChillHigh]:[ChillLow]])","v":57},{"$f":"IF(ChillTempAct[[#This Row],[ChillAve]]<65,65-ChillTempAct[[#This Row],[ChillAve]],0)","v":8},{"$f":"INDEX(TempAdj[AdjustPct],MATCH(MONTH(ChillTempAct[[#This Row],[Date]]),TempAdj[Month],0))","v":0.30930000000000002},{"$f":"ChillTempAct[[#This Row],[ChillHDD]]*(1+ChillTempAct[[#This Row],[ChillAdj]])","v":10.474399999999999},{"$f":"SUMPRODUCT((RankNHDD[Month]=ChillTempAct[[#This Row],[Month]])*(RankNHDD[Rank]=ChillTempAct[[#This Row],[Rank]])*RankNHDD[KIRKNHDD])","v":8.3977777777777796},{"$f":"YEAR(ChillTempAct[[#This Row],[Date]])","v":2020},{"$f":"MONTH(ChillTempAct[[#This Row],[Date]])","v":9},{"$f":"IF(ChillTempAct[[#This Row],[Month]]=J36,K36+1,1)","v":5}]
[44094,69,46,{"$f":"AVERAGE(ChillTempAct[[#This Row],[ChillHigh]:[ChillLow]])","v":57.5},{"$f":"IF(ChillTempAct[[#This Row],[ChillAve]]<65,65-ChillTempAct[[#This Row],[ChillAve]],0)","v":7.5},{"$f":"INDEX(TempAdj[AdjustPct],MATCH(MONTH(ChillTempAct[[#This Row],[Date]]),TempAdj[Month],0))","v":0.30930000000000002},{"$f":"ChillTempAct[[#This Row],[ChillHDD]]*(1+ChillTempAct[[#This Row],[ChillAdj]])","v":9.8197499999999991},{"$f":"SUMPRODUCT((RankNHDD[Month]=ChillTempAct[[#This Row],[Month]])*(RankNHDD[Rank]=ChillTempAct[[#This Row],[Rank]])*RankNHDD[KIRKNHDD])","v":7.2085185185185194},{"$f":"YEAR(ChillTempAct[[#This Row],[Date]])","v":2020},{"$f":"MONTH(ChillTempAct[[#This Row],[Date]])","v":9},{"$f":"IF(ChillTempAct[[#This Row],[Month]]=J37,K37+1,1)","v":6}]
[44102,70,47,{"$f":"AVERAGE(ChillTempAct[[#This Row],[ChillHigh]:[ChillLow]])","v":58.5},{"$f":"IF(ChillTempAct[[#This Row],[ChillAve]]<65,65-ChillTempAct[[#This Row],[ChillAve]],0)","v":6.5},{"$f":"INDEX(TempAdj[AdjustPct],MATCH(MONTH(ChillTempAct[[#This Row],[Date]]),TempAdj[Month],0))","v":0.30930000000000002},{"$f":"ChillTempAct[[#This Row],[ChillHDD]]*(1+ChillTempAct[[#This Row],[ChillAdj]])","v":8.5104499999999987},{"$f":"SUMPRODUCT((RankNHDD[Month]=ChillTempAct[[#This Row],[Month]])*(RankNHDD[Rank]=ChillTempAct[[#This Row],[Rank]])*RankNHDD[KIRKNHDD])","v":6.1688888888888895},{"$f":"YEAR(ChillTempAct[[#This Row],[Date]])","v":2020},{"$f":"MONTH(ChillTempAct[[#This Row],[Date]])","v":9},{"$f":"IF(ChillTempAct[[#This Row],[Month]]=J38,K38+1,1)","v":7}]
[44086,62,56,{"$f":"AVERAGE(ChillTempAct[[#This Row],[ChillHigh]:[ChillLow]])","v":59},{"$f":"IF(ChillTempAct[[#This Row],[ChillAve]]<65,65-ChillTempAct[[#This Row],[ChillAve]],0)","v":6},{"$f":"INDEX(TempAdj[AdjustPct],MATCH(MONTH(ChillTempAct[[#This Row],[Date]]),TempAdj[Month],0))","v":0.30930000000000002},{"$f":"ChillTempAct[[#This Row],[ChillHDD]]*(1+ChillTempAct[[#This Row],[ChillAdj]])","v":7.8557999999999995},{"$f":"SUMPRODUCT((RankNHDD[Month]=ChillTempAct[[#This Row],[Month]])*(RankNHDD[Rank]=ChillTempAct[[#This Row],[Rank]])*RankNHDD[KIRKNHDD])","v":5.2650000000000006},{"$f":"YEAR(ChillTempAct[[#This Row],[Date]])","v":2020},{"$f":"MONTH(ChillTempAct[[#This Row],[Date]])","v":9},{"$f":"IF(ChillTempAct[[#This Row],[Month]]=J39,K39+1,1)","v":8}]
[44095,73,48,{"$f":"AVERAGE(ChillTempAct[[#This Row],[ChillHigh]:[ChillLow]])","v":60.5},{"$f":"IF(ChillTempAct[[#This Row],[ChillAve]]<65,65-ChillTempAct[[#This Row],[ChillAve]],0)","v":4.5},{"$f":"INDEX(TempAdj[AdjustPct],MATCH(MONTH(ChillTempAct[[#This Row],[Date]]),TempAdj[Month],0))","v":0.30930000000000002},{"$f":"ChillTempAct[[#This Row],[ChillHDD]]*(1+ChillTempAct[[#This Row],[ChillAdj]])","v":5.8918499999999998},{"$f":"SUMPRODUCT((RankNHDD[Month]=ChillTempAct[[#This Row],[Month]])*(RankNHDD[Rank]=ChillTempAct[[#This Row],[Rank]])*RankNHDD[KIRKNHDD])","v":4.532222222222221},{"$f":"YEAR(ChillTempAct[[#This Row],[Date]])","v":2020},{"$f":"MONTH(ChillTempAct[[#This Row],[Date]])","v":9},{"$f":"IF(ChillTempAct[[#This Row],[Month]]=J40,K40+1,1)","v":9}]
[44092,73,50,{"$f":"AVERAGE(ChillTempAct[[#This Row],[ChillHigh]:[ChillLow]])","v":61.5},{"$f":"IF(ChillTempAct[[#This Row],[ChillAve]]<65,65-ChillTempAct[[#This Row],[ChillAve]],0)","v":3.5},{"$f":"INDEX(TempAdj[AdjustPct],MATCH(MONTH(ChillTempAct[[#This Row],[Date]]),TempAdj[Month],0))","v":0.30930000000000002},{"$f":"ChillTempAct[[#This Row],[ChillHDD]]*(1+ChillTempAct[[#This Row],[ChillAdj]])","v":4.5825499999999995},{"$f":"SUMPRODUCT((RankNHDD[Month]=ChillTempAct[[#This Row],[Month]])*(RankNHDD[Rank]=ChillTempAct[[#This Row],[Rank]])*RankNHDD[KIRKNHDD])","v":3.8581481481481479},{"$f":"YEAR(ChillTempAct[[#This Row],[Date]])","v":2020},{"$f":"MONTH(ChillTempAct[[#This Row],[Date]])","v":9},{"$f":"IF(ChillTempAct[[#This Row],[Month]]=J41,K41+1,1)","v":10}]
[44093,78,48,{"$f":"AVERAGE(ChillTempAct[[#This Row],[ChillHigh]:[ChillLow]])","v":63},{"$f":"IF(ChillTempAct[[#This Row],[ChillAve]]<65,65-ChillTempAct[[#This Row],[ChillAve]],0)","v":2},{"$f":"INDEX(TempAdj[AdjustPct],MATCH(MONTH(ChillTempAct[[#This Row],[Date]]),TempAdj[Month],0))","v":0.30930000000000002},{"$f":"ChillTempAct[[#This Row],[ChillHDD]]*(1+ChillTempAct[[#This Row],[ChillAdj]])","v":2.6185999999999998},{"$f":"SUMPRODUCT((RankNHDD[Month]=ChillTempAct[[#This Row],[Month]])*(RankNHDD[Rank]=ChillTempAct[[#This Row],[Rank]])*RankNHDD[KIRKNHDD])","v":2.9318518518518517},{"$f":"YEAR(ChillTempAct[[#This Row],[Date]])","v":2020},{"$f":"MONTH(ChillTempAct[[#This Row],[Date]])","v":9},{"$f":"IF(ChillTempAct[[#This Row],[Month]]=J42,K42+1,1)","v":11}]
[44096,77,50,{"$f":"AVERAGE(ChillTempAct[[#This Row],[ChillHigh]:[ChillLow]])","v":63.5},{"$f":"IF(ChillTempAct[[#This Row],[ChillAve]]<65,65-ChillTempAct[[#This Row],[ChillAve]],0)","v":1.5},{"$f":"INDEX(TempAdj[AdjustPct],MATCH(MONTH(ChillTempAct[[#This Row],[Date]]),TempAdj[Month],0))","v":0.30930000000000002},{"$f":"ChillTempAct[[#This Row],[ChillHDD]]*(1+ChillTempAct[[#This Row],[ChillAdj]])","v":1.9639499999999999},{"$f":"SUMPRODUCT((RankNHDD[Month]=ChillTempAct[[#This Row],[Month]])*(RankNHDD[Rank]=ChillTempAct[[#This Row],[Rank]])*RankNHDD[KIRKNHDD])","v":2.153703703703703},{"$f":"YEAR(ChillTempAct[[#This Row],[Date]])","v":2020},{"$f":"MONTH(ChillTempAct[[#This Row],[Date]])","v":9},{"$f":"IF(ChillTempAct[[#This Row],[Month]]=J43,K43+1,1)","v":12}]
[44087,76,52,{"$f":"AVERAGE(ChillTempAct[[#This Row],[ChillHigh]:[ChillLow]])","v":64},{"$f":"IF(ChillTempAct[[#This Row],[ChillAve]]<65,65-ChillTempAct[[#This Row],[ChillAve]],0)","v":1},{"$f":"INDEX(TempAdj[AdjustPct],MATCH(MONTH(ChillTempAct[[#This Row],[Date]]),TempAdj[Month],0))","v":0.30930000000000002},{"$f":"ChillTempAct[[#This Row],[ChillHDD]]*(1+ChillTempAct[[#This Row],[ChillAdj]])","v":1.3092999999999999},{"$f":"SUMPRODUCT((RankNHDD[Month]=ChillTempAct[[#This Row],[Month]])*(RankNHDD[Rank]=ChillTempAct[[#This Row],[Rank]])*RankNHDD[KIRKNHDD])","v":1.3109259259259254},{"$f":"YEAR(ChillTempAct[[#This Row],[Date]])","v":2020},{"$f":"MONTH(ChillTempAct[[#This Row],[Date]])","v":9},{"$f":"IF(ChillTempAct[[#This Row],[Month]]=J44,K44+1,1)","v":13}]
[44088,76,52,{"$f":"AVERAGE(ChillTempAct[[#This Row],[ChillHigh]:[ChillLow]])","v":64},{"$f":"IF(ChillTempAct[[#This Row],[ChillAve]]<65,65-ChillTempAct[[#This Row],[ChillAve]],0)","v":1},{"$f":"INDEX(TempAdj[AdjustPct],MATCH(MONTH(ChillTempAct[[#This Row],[Date]]),TempAdj[Month],0))","v":0.30930000000000002},{"$f":"ChillTempAct[[#This Row],[ChillHDD]]*(1+ChillTempAct[[#This Row],[ChillAdj]])","v":1.3092999999999999},{"$f":"SUMPRODUCT((RankNHDD[Month]=ChillTempAct[[#This Row],[Month]])*(RankNHDD[Rank]=ChillTempAct[[#This Row],[Rank]])*RankNHDD[KIRKNHDD])","v":0.40222222222222398},{"$f":"YEAR(ChillTempAct[[#This Row],[Date]])","v":2020},{"$f":"MONTH(ChillTempAct[[#This Row],[Date]])","v":9},{"$f":"IF(ChillTempAct[[#This Row],[Month]]=J45,K45+1,1)","v":14}]
[44089,78,52,{"$f":"AVERAGE(ChillTempAct[[#This Row],[ChillHigh]:[ChillLow]])","v":65},{"$f":"IF(ChillTempAct[[#This Row],[ChillAve]]<65,65-ChillTempAct[[#This Row],[ChillAve]],0)","v":0},{"$f":"INDEX(TempAdj[AdjustPct],MATCH(MONTH(ChillTempAct[[#This Row],[Date]]),TempAdj[Month],0))","v":0.30930000000000002},{"$f":"ChillTempAct[[#This Row],[ChillHDD]]*(1+ChillTempAct[[#This Row],[ChillAdj]])","v":0},{"$f":"SUMPRODUCT((RankNHDD[Month]=ChillTempAct[[#This Row],[Month]])*(RankNHDD[Rank]=ChillTempAct[[#This Row],[Rank]])*RankNHDD[KIRKNHDD])","v":0},{"$f":"YEAR(ChillTempAct[[#This Row],[Date]])","v":2020},{"$f":"MONTH(ChillTempAct[[#This Row],[Date]])","v":9},{"$f":"IF(ChillTempAct[[#This Row],[Month]]=J46,K46+1,1)","v":15}]
[44090,77,54,{"$f":"AVERAGE(ChillTempAct[[#This Row],[ChillHigh]:[ChillLow]])","v":65.5},{"$f":"IF(ChillTempAct[[#This Row],[ChillAve]]<65,65-ChillTempAct[[#This Row],[ChillAve]],0)","v":0},{"$f":"INDEX(TempAdj[AdjustPct],MATCH(MONTH(ChillTempAct[[#This Row],[Date]]),TempAdj[Month],0))","v":0.30930000000000002},{"$f":"ChillTempAct[[#This Row],[ChillHDD]]*(1+ChillTempAct[[#This Row],[ChillAdj]])","v":0},{"$f":"SUMPRODUCT((RankNHDD[Month]=ChillTempAct[[#This Row],[Month]])*(RankNHDD[Rank]=ChillTempAct[[#This Row],[Rank]])*RankNHDD[KIRKNHDD])","v":0},{"$f":"YEAR(ChillTempAct[[#This Row],[Date]])","v":2020},{"$f":"MONTH(ChillTempAct[[#This Row],[Date]])","v":9},{"$f":"IF(ChillTempAct[[#This Row],[Month]]=J47,K47+1,1)","v":16}]
[44097,78,53,{"$f":"AVERAGE(ChillTempAct[[#This Row],[ChillHigh]:[ChillLow]])","v":65.5},{"$f":"IF(ChillTempAct[[#This Row],[ChillAve]]<65,65-ChillTempAct[[#This Row],[ChillAve]],0)","v":0},{"$f":"INDEX(TempAdj[AdjustPct],MATCH(MONTH(ChillTempAct[[#This Row],[Date]]),TempAdj[Month],0))","v":0.30930000000000002},{"$f":"ChillTempAct[[#This Row],[ChillHDD]]*(1+ChillTempAct[[#This Row],[ChillAdj]])","v":0},{"$f":"SUMPRODUCT((RankNHDD[Month]=ChillTempAct[[#This Row],[Month]])*(RankNHDD[Rank]=ChillTempAct[[#This Row],[Rank]])*RankNHDD[KIRKNHDD])","v":0},{"$f":"YEAR(ChillTempAct[[#This Row],[Date]])","v":2020},{"$f":"MONTH(ChillTempAct[[#This Row],[Date]])","v":9},{"$f":"IF(ChillTempAct[[#This Row],[Month]]=J48,K48+1,1)","v":17}]
[44098,79,54,{"$f":"AVERAGE(ChillTempAct[[#This Row],[ChillHigh]:[ChillLow]])","v":66.5},{"$f":"IF(ChillTempAct[[#This Row],[ChillAve]]<65,65-ChillTempAct[[#This Row],[ChillAve]],0)","v":0},{"$f":"INDEX(TempAdj[AdjustPct],MATCH(MONTH(ChillTempAct[[#This Row],[Date]]),TempAdj[Month],0))","v":0.30930000000000002},{"$f":"ChillTempAct[[#This Row],[ChillHDD]]*(1+ChillTempAct[[#This Row],[ChillAdj]])","v":0},{"$f":"SUMPRODUCT((RankNHDD[Month]=ChillTempAct[[#This Row],[Month]])*(RankNHDD[Rank]=ChillTempAct[[#This Row],[Rank]])*RankNHDD[KIRKNHDD])","v":0},{"$f":"YEAR(ChillTempAct[[#This Row],[Date]])","v":2020},{"$f":"MONTH(ChillTempAct[[#This Row],[Date]])","v":9},{"$f":"IF(ChillTempAct[[#This Row],[Month]]=J49,K49+1,1)","v":18}]
[44099,80,54,{"$f":"AVERAGE(ChillTempAct[[#This Row],[ChillHigh]:[ChillLow]])","v":67},{"$f":"IF(ChillTempAct[[#This Row],[ChillAve]]<65,65-ChillTempAct[[#This Row],[ChillAve]],0)","v":0},{"$f":"INDEX(TempAdj[AdjustPct],MATCH(MONTH(ChillTempAct[[#This Row],[Date]]),TempAdj[Month],0))","v":0.30930000000000002},{"$f":"ChillTempAct[[#This Row],[ChillHDD]]*(1+ChillTempAct[[#This Row],[ChillAdj]])","v":0},{"$f":"SUMPRODUCT((RankNHDD[Month]=ChillTempAct[[#This Row],[Month]])*(RankNHDD[Rank]=ChillTempAct[[#This Row],[Rank]])*RankNHDD[KIRKNHDD])","v":0},{"$f":"YEAR(ChillTempAct[[#This Row],[Date]])","v":2020},{"$f":"MONTH(ChillTempAct[[#This Row],[Date]])","v":9},{"$f":"IF(ChillTempAct[[#This Row],[Month]]=J50,K50+1,1)","v":19}]
[44078,83,52,{"$f":"AVERAGE(ChillTempAct[[#This Row],[ChillHigh]:[ChillLow]])","v":67.5},{"$f":"IF(ChillTempAct[[#This Row],[ChillAve]]<65,65-ChillTempAct[[#This Row],[ChillAve]],0)","v":0},{"$f":"INDEX(TempAdj[AdjustPct],MATCH(MONTH(ChillTempAct[[#This Row],[Date]]),TempAdj[Month],0))","v":0.30930000000000002},{"$f":"ChillTempAct[[#This Row],[ChillHDD]]*(1+ChillTempAct[[#This Row],[ChillAdj]])","v":0},{"$f":"SUMPRODUCT((RankNHDD[Month]=ChillTempAct[[#This Row],[Month]])*(RankNHDD[Rank]=ChillTempAct[[#This Row],[Rank]])*RankNHDD[KIRKNHDD])","v":0},{"$f":"YEAR(ChillTempAct[[#This Row],[Date]])","v":2020},{"$f":"MONTH(ChillTempAct[[#This Row],[Date]])","v":9},{"$f":"IF(ChillTempAct[[#This Row],[Month]]=J51,K51+1,1)","v":20}]
[44091,83,53,{"$f":"AVERAGE(ChillTempAct[[#This Row],[ChillHigh]:[ChillLow]])","v":68},{"$f":"IF(ChillTempAct[[#This Row],[ChillAve]]<65,65-ChillTempAct[[#This Row],[ChillAve]],0)","v":0},{"$f":"INDEX(TempAdj[AdjustPct],MATCH(MONTH(ChillTempAct[[#This Row],[Date]]),TempAdj[Month],0))","v":0.30930000000000002},{"$f":"ChillTempAct[[#This Row],[ChillHDD]]*(1+ChillTempAct[[#This Row],[ChillAdj]])","v":0},{"$f":"SUMPRODUCT((RankNHDD[Month]=ChillTempAct[[#This Row],[Month]])*(RankNHDD[Rank]=ChillTempAct[[#This Row],[Rank]])*RankNHDD[KIRKNHDD])","v":0},{"$f":"YEAR(ChillTempAct[[#This Row],[Date]])","v":2020},{"$f":"MONTH(ChillTempAct[[#This Row],[Date]])","v":9},{"$f":"IF(ChillTempAct[[#This Row],[Month]]=J52,K52+1,1)","v":21}]
[44082,82,55,{"$f":"AVERAGE(ChillTempAct[[#This Row],[ChillHigh]:[ChillLow]])","v":68.5},{"$f":"IF(ChillTempAct[[#This Row],[ChillAve]]<65,65-ChillTempAct[[#This Row],[ChillAve]],0)","v":0},{"$f":"INDEX(TempAdj[AdjustPct],MATCH(MONTH(ChillTempAct[[#This Row],[Date]]),TempAdj[Month],0))","v":0.30930000000000002},{"$f":"ChillTempAct[[#This Row],[ChillHDD]]*(1+ChillTempAct[[#This Row],[ChillAdj]])","v":0},{"$f":"SUMPRODUCT((RankNHDD[Month]=ChillTempAct[[#This Row],[Month]])*(RankNHDD[Rank]=ChillTempAct[[#This Row],[Rank]])*RankNHDD[KIRKNHDD])","v":0},{"$f":"YEAR(ChillTempAct[[#This Row],[Date]])","v":2020},{"$f":"MONTH(ChillTempAct[[#This Row],[Date]])","v":9},{"$f":"IF(ChillTempAct[[#This Row],[Month]]=J53,K53+1,1)","v":22}]
[44075,75,63,{"$f":"AVERAGE(ChillTempAct[[#This Row],[ChillHigh]:[ChillLow]])","v":69},{"$f":"IF(ChillTempAct[[#This Row],[ChillAve]]<65,65-ChillTempAct[[#This Row],[ChillAve]],0)","v":0},{"$f":"INDEX(TempAdj[AdjustPct],MATCH(MONTH(ChillTempAct[[#This Row],[Date]]),TempAdj[Month],0))","v":0.30930000000000002},{"$f":"ChillTempAct[[#This Row],[ChillHDD]]*(1+ChillTempAct[[#This Row],[ChillAdj]])","v":0},{"$f":"SUMPRODUCT((RankNHDD[Month]=ChillTempAct[[#This Row],[Month]])*(RankNHDD[Rank]=ChillTempAct[[#This Row],[Rank]])*RankNHDD[KIRKNHDD])","v":0},{"$f":"YEAR(ChillTempAct[[#This Row],[Date]])","v":2020},{"$f":"MONTH(ChillTempAct[[#This Row],[Date]])","v":9},{"$f":"IF(ChillTempAct[[#This Row],[Month]]=J54,K54+1,1)","v":23}]
[44079,82,57,{"$f":"AVERAGE(ChillTempAct[[#This Row],[ChillHigh]:[ChillLow]])","v":69.5},{"$f":"IF(ChillTempAct[[#This Row],[ChillAve]]<65,65-ChillTempAct[[#This Row],[ChillAve]],0)","v":0},{"$f":"INDEX(TempAdj[AdjustPct],MATCH(MONTH(ChillTempAct[[#This Row],[Date]]),TempAdj[Month],0))","v":0.30930000000000002},{"$f":"ChillTempAct[[#This Row],[ChillHDD]]*(1+ChillTempAct[[#This Row],[ChillAdj]])","v":0},{"$f":"SUMPRODUCT((RankNHDD[Month]=ChillTempAct[[#This Row],[Month]])*(RankNHDD[Rank]=ChillTempAct[[#This Row],[Rank]])*RankNHDD[KIRKNHDD])","v":0},{"$f":"YEAR(ChillTempAct[[#This Row],[Date]])","v":2020},{"$f":"MONTH(ChillTempAct[[#This Row],[Date]])","v":9},{"$f":"IF(ChillTempAct[[#This Row],[Month]]=J55,K55+1,1)","v":24}]
[44100,85,58,{"$f":"AVERAGE(ChillTempAct[[#This Row],[ChillHigh]:[ChillLow]])","v":71.5},{"$f":"IF(ChillTempAct[[#This Row],[ChillAve]]<65,65-ChillTempAct[[#This Row],[ChillAve]],0)","v":0},{"$f":"INDEX(TempAdj[AdjustPct],MATCH(MONTH(ChillTempAct[[#This Row],[Date]]),TempAdj[Month],0))","v":0.30930000000000002},{"$f":"ChillTempAct[[#This Row],[ChillHDD]]*(1+ChillTempAct[[#This Row],[ChillAdj]])","v":0},{"$f":"SUMPRODUCT((RankNHDD[Month]=ChillTempAct[[#This Row],[Month]])*(RankNHDD[Rank]=ChillTempAct[[#This Row],[Rank]])*RankNHDD[KIRKNHDD])","v":0},{"$f":"YEAR(ChillTempAct[[#This Row],[Date]])","v":2020},{"$f":"MONTH(ChillTempAct[[#This Row],[Date]])","v":9},{"$f":"IF(ChillTempAct[[#This Row],[Month]]=J56,K56+1,1)","v":25}]
[44076,82,64,{"$f":"AVERAGE(ChillTempAct[[#This Row],[ChillHigh]:[ChillLow]])","v":73},{"$f":"IF(ChillTempAct[[#This Row],[ChillAve]]<65,65-ChillTempAct[[#This Row],[ChillAve]],0)","v":0},{"$f":"INDEX(TempAdj[AdjustPct],MATCH(MONTH(ChillTempAct[[#This Row],[Date]]),TempAdj[Month],0))","v":0.30930000000000002},{"$f":"ChillTempAct[[#This Row],[ChillHDD]]*(1+ChillTempAct[[#This Row],[ChillAdj]])","v":0},{"$f":"SUMPRODUCT((RankNHDD[Month]=ChillTempAct[[#This Row],[Month]])*(RankNHDD[Rank]=ChillTempAct[[#This Row],[Rank]])*RankNHDD[KIRKNHDD])","v":0},{"$f":"YEAR(ChillTempAct[[#This Row],[Date]])","v":2020},{"$f":"MONTH(ChillTempAct[[#This Row],[Date]])","v":9},{"$f":"IF(ChillTempAct[[#This Row],[Month]]=J57,K57+1,1)","v":26}]
[44077,86,62,{"$f":"AVERAGE(ChillTempAct[[#This Row],[ChillHigh]:[ChillLow]])","v":74},{"$f":"IF(ChillTempAct[[#This Row],[ChillAve]]<65,65-ChillTempAct[[#This Row],[ChillAve]],0)","v":0},{"$f":"INDEX(TempAdj[AdjustPct],MATCH(MONTH(ChillTempAct[[#This Row],[Date]]),TempAdj[Month],0))","v":0.30930000000000002},{"$f":"ChillTempAct[[#This Row],[ChillHDD]]*(1+ChillTempAct[[#This Row],[ChillAdj]])","v":0},{"$f":"SUMPRODUCT((RankNHDD[Month]=ChillTempAct[[#This Row],[Month]])*(RankNHDD[Rank]=ChillTempAct[[#This Row],[Rank]])*RankNHDD[KIRKNHDD])","v":0},{"$f":"YEAR(ChillTempAct[[#This Row],[Date]])","v":2020},{"$f":"MONTH(ChillTempAct[[#This Row],[Date]])","v":9},{"$f":"IF(ChillTempAct[[#This Row],[Month]]=J58,K58+1,1)","v":27}]
[44101,86,62,{"$f":"AVERAGE(ChillTempAct[[#This Row],[ChillHigh]:[ChillLow]])","v":74},{"$f":"IF(ChillTempAct[[#This Row],[ChillAve]]<65,65-ChillTempAct[[#This Row],[ChillAve]],0)","v":0},{"$f":"INDEX(TempAdj[AdjustPct],MATCH(MONTH(ChillTempAct[[#This Row],[Date]]),TempAdj[Month],0))","v":0.30930000000000002},{"$f":"ChillTempAct[[#This Row],[ChillHDD]]*(1+ChillTempAct[[#This Row],[ChillAdj]])","v":0},{"$f":"SUMPRODUCT((RankNHDD[Month]=ChillTempAct[[#This Row],[Month]])*(RankNHDD[Rank]=ChillTempAct[[#This Row],[Rank]])*RankNHDD[KIRKNHDD])","v":0},{"$f":"YEAR(ChillTempAct[[#This Row],[Date]])","v":2020},{"$f":"MONTH(ChillTempAct[[#This Row],[Date]])","v":9},{"$f":"IF(ChillTempAct[[#This Row],[Month]]=J59,K59+1,1)","v":28}]
[44080,90,61,{"$f":"AVERAGE(ChillTempAct[[#This Row],[ChillHigh]:[ChillLow]])","v":75.5},{"$f":"IF(ChillTempAct[[#This Row],[ChillAve]]<65,65-ChillTempAct[[#This Row],[ChillAve]],0)","v":0},{"$f":"INDEX(TempAdj[AdjustPct],MATCH(MONTH(ChillTempAct[[#This Row],[Date]]),TempAdj[Month],0))","v":0.30930000000000002},{"$f":"ChillTempAct[[#This Row],[ChillHDD]]*(1+ChillTempAct[[#This Row],[ChillAdj]])","v":0},{"$f":"SUMPRODUCT((RankNHDD[Month]=ChillTempAct[[#This Row],[Month]])*(RankNHDD[Rank]=ChillTempAct[[#This Row],[Rank]])*RankNHDD[KIRKNHDD])","v":0},{"$f":"YEAR(ChillTempAct[[#This Row],[Date]])","v":2020},{"$f":"MONTH(ChillTempAct[[#This Row],[Date]])","v":9},{"$f":"IF(ChillTempAct[[#This Row],[Month]]=J60,K60+1,1)","v":29}]
[44081,89,68,{"$f":"AVERAGE(ChillTempAct[[#This Row],[ChillHigh]:[ChillLow]])","v":78.5},{"$f":"IF(ChillTempAct[[#This Row],[ChillAve]]<65,65-ChillTempAct[[#This Row],[ChillAve]],0)","v":0},{"$f":"INDEX(TempAdj[AdjustPct],MATCH(MONTH(ChillTempAct[[#This Row],[Date]]),TempAdj[Month],0))","v":0.30930000000000002},{"$f":"ChillTempAct[[#This Row],[ChillHDD]]*(1+ChillTempAct[[#This Row],[ChillAdj]])","v":0},{"$f":"SUMPRODUCT((RankNHDD[Month]=ChillTempAct[[#This Row],[Month]])*(RankNHDD[Rank]=ChillTempAct[[#This Row],[Rank]])*RankNHDD[KIRKNHDD])","v":0},{"$f":"YEAR(ChillTempAct[[#This Row],[Date]])","v":2020},{"$f":"MONTH(ChillTempAct[[#This Row],[Date]])","v":9},{"$f":"IF(ChillTempAct[[#This Row],[Month]]=J61,K61+1,1)","v":30}]
[44131,31,27,{"$f":"AVERAGE(ChillTempAct[[#This Row],[ChillHigh]:[ChillLow]])","v":29},{"$f":"IF(ChillTempAct[[#This Row],[ChillAve]]<65,65-ChillTempAct[[#This Row],[ChillAve]],0)","v":36},{"$f":"INDEX(TempAdj[AdjustPct],MATCH(MONTH(ChillTempAct[[#This Row],[Date]]),TempAdj[Month],0))","v":0.1114},{"$f":"ChillTempAct[[#This Row],[ChillHDD]]*(1+ChillTempAct[[#This Row],[ChillAdj]])","v":40.010399999999997},{"$f":"SUMPRODUCT((RankNHDD[Month]=ChillTempAct[[#This Row],[Month]])*(RankNHDD[Rank]=ChillTempAct[[#This Row],[Rank]])*RankNHDD[KIRKNHDD])","v":30.566308243727597},{"$f":"YEAR(ChillTempAct[[#This Row],[Date]])","v":2020},{"$f":"MONTH(ChillTempAct[[#This Row],[Date]])","v":10},{"$f":"IF(ChillTempAct[[#This Row],[Month]]=J62,K62+1,1)","v":1}]
[44132,35,29,{"$f":"AVERAGE(ChillTempAct[[#This Row],[ChillHigh]:[ChillLow]])","v":32},{"$f":"IF(ChillTempAct[[#This Row],[ChillAve]]<65,65-ChillTempAct[[#This Row],[ChillAve]],0)","v":33},{"$f":"INDEX(TempAdj[AdjustPct],MATCH(MONTH(ChillTempAct[[#This Row],[Date]]),TempAdj[Month],0))","v":0.1114},{"$f":"ChillTempAct[[#This Row],[ChillHDD]]*(1+ChillTempAct[[#This Row],[ChillAdj]])","v":36.676200000000001},{"$f":"SUMPRODUCT((RankNHDD[Month]=ChillTempAct[[#This Row],[Month]])*(RankNHDD[Rank]=ChillTempAct[[#This Row],[Rank]])*RankNHDD[KIRKNHDD])","v":26.103745519713264},{"$f":"YEAR(ChillTempAct[[#This Row],[Date]])","v":2020},{"$f":"MONTH(ChillTempAct[[#This Row],[Date]])","v":10},{"$f":"IF(ChillTempAct[[#This Row],[Month]]=J63,K63+1,1)","v":2}]
[44130,40,27,{"$f":"AVERAGE(ChillTempAct[[#This Row],[ChillHigh]:[ChillLow]])","v":33.5},{"$f":"IF(ChillTempAct[[#This Row],[ChillAve]]<65,65-ChillTempAct[[#This Row],[ChillAve]],0)","v":31.5},{"$f":"INDEX(TempAdj[AdjustPct],MATCH(MONTH(ChillTempAct[[#This Row],[Date]]),TempAdj[Month],0))","v":0.1114},{"$f":"ChillTempAct[[#This Row],[ChillHDD]]*(1+ChillTempAct[[#This Row],[ChillAdj]])","v":35.009099999999997},{"$f":"SUMPRODUCT((RankNHDD[Month]=ChillTempAct[[#This Row],[Month]])*(RankNHDD[Rank]=ChillTempAct[[#This Row],[Rank]])*RankNHDD[KIRKNHDD])","v":24.451899641577064},{"$f":"YEAR(ChillTempAct[[#This Row],[Date]])","v":2020},{"$f":"MONTH(ChillTempAct[[#This Row],[Date]])","v":10},{"$f":"IF(ChillTempAct[[#This Row],[Month]]=J64,K64+1,1)","v":3}]
[44133,45,29,{"$f":"AVERAGE(ChillTempAct[[#This Row],[ChillHigh]:[ChillLow]])","v":37},{"$f":"IF(ChillTempAct[[#This Row],[ChillAve]]<65,65-ChillTempAct[[#This Row],[ChillAve]],0)","v":28},{"$f":"INDEX(TempAdj[AdjustPct],MATCH(MONTH(ChillTempAct[[#This Row],[Date]]),TempAdj[Month],0))","v":0.1114},{"$f":"ChillTempAct[[#This Row],[ChillHDD]]*(1+ChillTempAct[[#This Row],[ChillAdj]])","v":31.119199999999999},{"$f":"SUMPRODUCT((RankNHDD[Month]=ChillTempAct[[#This Row],[Month]])*(RankNHDD[Rank]=ChillTempAct[[#This Row],[Rank]])*RankNHDD[KIRKNHDD])","v":23.15010752688173},{"$f":"YEAR(ChillTempAct[[#This Row],[Date]])","v":2020},{"$f":"MONTH(ChillTempAct[[#This Row],[Date]])","v":10},{"$f":"IF(ChillTempAct[[#This Row],[Month]]=J65,K65+1,1)","v":4}]
[44129,41,34,{"$f":"AVERAGE(ChillTempAct[[#This Row],[ChillHigh]:[ChillLow]])","v":37.5},{"$f":"IF(ChillTempAct[[#This Row],[ChillAve]]<65,65-ChillTempAct[[#This Row],[ChillAve]],0)","v":27.5},{"$f":"INDEX(TempAdj[AdjustPct],MATCH(MONTH(ChillTempAct[[#This Row],[Date]]),TempAdj[Month],0))","v":0.1114},{"$f":"ChillTempAct[[#This Row],[ChillHDD]]*(1+ChillTempAct[[#This Row],[ChillAdj]])","v":30.563499999999998},{"$f":"SUMPRODUCT((RankNHDD[Month]=ChillTempAct[[#This Row],[Month]])*(RankNHDD[Rank]=ChillTempAct[[#This Row],[Rank]])*RankNHDD[KIRKNHDD])","v":21.906021505376348},{"$f":"YEAR(ChillTempAct[[#This Row],[Date]])","v":2020},{"$f":"MONTH(ChillTempAct[[#This Row],[Date]])","v":10},{"$f":"IF(ChillTempAct[[#This Row],[Month]]=J66,K66+1,1)","v":5}]
[44134,49,27,{"$f":"AVERAGE(ChillTempAct[[#This Row],[ChillHigh]:[ChillLow]])","v":38},{"$f":"IF(ChillTempAct[[#This Row],[ChillAve]]<65,65-ChillTempAct[[#This Row],[ChillAve]],0)","v":27},{"$f":"INDEX(TempAdj[AdjustPct],MATCH(MONTH(ChillTempAct[[#This Row],[Date]]),TempAdj[Month],0))","v":0.1114},{"$f":"ChillTempAct[[#This Row],[ChillHDD]]*(1+ChillTempAct[[#This Row],[ChillAdj]])","v":30.0078},{"$f":"SUMPRODUCT((RankNHDD[Month]=ChillTempAct[[#This Row],[Month]])*(RankNHDD[Rank]=ChillTempAct[[#This Row],[Rank]])*RankNHDD[KIRKNHDD])","v":20.623530465949823},{"$f":"YEAR(ChillTempAct[[#This Row],[Date]])","v":2020},{"$f":"MONTH(ChillTempAct[[#This Row],[Date]])","v":10},{"$f":"IF(ChillTempAct[[#This Row],[Month]]=J67,K67+1,1)","v":6}]
[44128,44,34,{"$f":"AVERAGE(ChillTempAct[[#This Row],[ChillHigh]:[ChillLow]])","v":39},{"$f":"IF(ChillTempAct[[#This Row],[ChillAve]]<65,65-ChillTempAct[[#This Row],[ChillAve]],0)","v":26},{"$f":"INDEX(TempAdj[AdjustPct],MATCH(MONTH(ChillTempAct[[#This Row],[Date]]),TempAdj[Month],0))","v":0.1114},{"$f":"ChillTempAct[[#This Row],[ChillHDD]]*(1+ChillTempAct[[#This Row],[ChillAdj]])","v":28.8964},{"$f":"SUMPRODUCT((RankNHDD[Month]=ChillTempAct[[#This Row],[Month]])*(RankNHDD[Rank]=ChillTempAct[[#This Row],[Rank]])*RankNHDD[KIRKNHDD])","v":19.630035842293911},{"$f":"YEAR(ChillTempAct[[#This Row],[Date]])","v":2020},{"$f":"MONTH(ChillTempAct[[#This Row],[Date]])","v":10},{"$f":"IF(ChillTempAct[[#This Row],[Month]]=J68,K68+1,1)","v":7}]
[44123,43,37,{"$f":"AVERAGE(ChillTempAct[[#This Row],[ChillHigh]:[ChillLow]])","v":40},{"$f":"IF(ChillTempAct[[#This Row],[ChillAve]]<65,65-ChillTempAct[[#This Row],[ChillAve]],0)","v":25},{"$f":"INDEX(TempAdj[AdjustPct],MATCH(MONTH(ChillTempAct[[#This Row],[Date]]),TempAdj[Month],0))","v":0.1114},{"$f":"ChillTempAct[[#This Row],[ChillHDD]]*(1+ChillTempAct[[#This Row],[ChillAdj]])","v":27.785},{"$f":"SUMPRODUCT((RankNHDD[Month]=ChillTempAct[[#This Row],[Month]])*(RankNHDD[Rank]=ChillTempAct[[#This Row],[Rank]])*RankNHDD[KIRKNHDD])","v":18.662240143369175},{"$f":"YEAR(ChillTempAct[[#This Row],[Date]])","v":2020},{"$f":"MONTH(ChillTempAct[[#This Row],[Date]])","v":10},{"$f":"IF(ChillTempAct[[#This Row],[Month]]=J69,K69+1,1)","v":8}]
[44124,43,37,{"$f":"AVERAGE(ChillTempAct[[#This Row],[ChillHigh]:[ChillLow]])","v":40},{"$f":"IF(ChillTempAct[[#This Row],[ChillAve]]<65,65-ChillTempAct[[#This Row],[ChillAve]],0)","v":25},{"$f":"INDEX(TempAdj[AdjustPct],MATCH(MONTH(ChillTempAct[[#This Row],[Date]]),TempAdj[Month],0))","v":0.1114},{"$f":"ChillTempAct[[#This Row],[ChillHDD]]*(1+ChillTempAct[[#This Row],[ChillAdj]])","v":27.785},{"$f":"SUMPRODUCT((RankNHDD[Month]=ChillTempAct[[#This Row],[Month]])*(RankNHDD[Rank]=ChillTempAct[[#This Row],[Rank]])*RankNHDD[KIRKNHDD])","v":17.582616487455198},{"$f":"YEAR(ChillTempAct[[#This Row],[Date]])","v":2020},{"$f":"MONTH(ChillTempAct[[#This Row],[Date]])","v":10},{"$f":"IF(ChillTempAct[[#This Row],[Month]]=J70,K70+1,1)","v":9}]
[44125,45,37,{"$f":"AVERAGE(ChillTempAct[[#This Row],[ChillHigh]:[ChillLow]])","v":41},{"$f":"IF(ChillTempAct[[#This Row],[ChillAve]]<65,65-ChillTempAct[[#This Row],[ChillAve]],0)","v":24},{"$f":"INDEX(TempAdj[AdjustPct],MATCH(MONTH(ChillTempAct[[#This Row],[Date]]),TempAdj[Month],0))","v":0.1114},{"$f":"ChillTempAct[[#This Row],[ChillHDD]]*(1+ChillTempAct[[#This Row],[ChillAdj]])","v":26.6736},{"$f":"SUMPRODUCT((RankNHDD[Month]=ChillTempAct[[#This Row],[Month]])*(RankNHDD[Rank]=ChillTempAct[[#This Row],[Rank]])*RankNHDD[KIRKNHDD])","v":16.682347670250898},{"$f":"YEAR(ChillTempAct[[#This Row],[Date]])","v":2020},{"$f":"MONTH(ChillTempAct[[#This Row],[Date]])","v":10},{"$f":"IF(ChillTempAct[[#This Row],[Month]]=J71,K71+1,1)","v":10}]
[44135,56,27,{"$f":"AVERAGE(ChillTempAct[[#This Row],[ChillHigh]:[ChillLow]])","v":41.5},{"$f":"IF(ChillTempAct[[#This Row],[ChillAve]]<65,65-ChillTempAct[[#This Row],[ChillAve]],0)","v":23.5},{"$f":"INDEX(TempAdj[AdjustPct],MATCH(MONTH(ChillTempAct[[#This Row],[Date]]),TempAdj[Month],0))","v":0.1114},{"$f":"ChillTempAct[[#This Row],[ChillHDD]]*(1+ChillTempAct[[#This Row],[ChillAdj]])","v":26.117899999999999},{"$f":"SUMPRODUCT((RankNHDD[Month]=ChillTempAct[[#This Row],[Month]])*(RankNHDD[Rank]=ChillTempAct[[#This Row],[Rank]])*RankNHDD[KIRKNHDD])","v":15.821451612903227},{"$f":"YEAR(ChillTempAct[[#This Row],[Date]])","v":2020},{"$f":"MONTH(ChillTempAct[[#This Row],[Date]])","v":10},{"$f":"IF(ChillTempAct[[#This Row],[Month]]=J72,K72+1,1)","v":11}]
[44126,51,36,{"$f":"AVERAGE(ChillTempAct[[#This Row],[ChillHigh]:[ChillLow]])","v":43.5},{"$f":"IF(ChillTempAct[[#This Row],[ChillAve]]<65,65-ChillTempAct[[#This Row],[ChillAve]],0)","v":21.5},{"$f":"INDEX(TempAdj[AdjustPct],MATCH(MONTH(ChillTempAct[[#This Row],[Date]]),TempAdj[Month],0))","v":0.1114},{"$f":"ChillTempAct[[#This Row],[ChillHDD]]*(1+ChillTempAct[[#This Row],[ChillAdj]])","v":23.895099999999999},{"$f":"SUMPRODUCT((RankNHDD[Month]=ChillTempAct[[#This Row],[Month]])*(RankNHDD[Rank]=ChillTempAct[[#This Row],[Rank]])*RankNHDD[KIRKNHDD])","v":14.861003584229392},{"$f":"YEAR(ChillTempAct[[#This Row],[Date]])","v":2020},{"$f":"MONTH(ChillTempAct[[#This Row],[Date]])","v":10},{"$f":"IF(ChillTempAct[[#This Row],[Month]]=J73,K73+1,1)","v":12}]
[44120,57,32,{"$f":"AVERAGE(ChillTempAct[[#This Row],[ChillHigh]:[ChillLow]])","v":44.5},{"$f":"IF(ChillTempAct[[#This Row],[ChillAve]]<65,65-ChillTempAct[[#This Row],[ChillAve]],0)","v":20.5},{"$f":"INDEX(TempAdj[AdjustPct],MATCH(MONTH(ChillTempAct[[#This Row],[Date]]),TempAdj[Month],0))","v":0.1114},{"$f":"ChillTempAct[[#This Row],[ChillHDD]]*(1+ChillTempAct[[#This Row],[ChillAdj]])","v":22.7837},{"$f":"SUMPRODUCT((RankNHDD[Month]=ChillTempAct[[#This Row],[Month]])*(RankNHDD[Rank]=ChillTempAct[[#This Row],[Rank]])*RankNHDD[KIRKNHDD])","v":13.884193548387097},{"$f":"YEAR(ChillTempAct[[#This Row],[Date]])","v":2020},{"$f":"MONTH(ChillTempAct[[#This Row],[Date]])","v":10},{"$f":"IF(ChillTempAct[[#This Row],[Month]]=J74,K74+1,1)","v":13}]
[44121,60,33,{"$f":"AVERAGE(ChillTempAct[[#This Row],[ChillHigh]:[ChillLow]])","v":46.5},{"$f":"IF(ChillTempAct[[#This Row],[ChillAve]]<65,65-ChillTempAct[[#This Row],[ChillAve]],0)","v":18.5},{"$f":"INDEX(TempAdj[AdjustPct],MATCH(MONTH(ChillTempAct[[#This Row],[Date]]),TempAdj[Month],0))","v":0.1114},{"$f":"ChillTempAct[[#This Row],[ChillHDD]]*(1+ChillTempAct[[#This Row],[ChillAdj]])","v":20.5609},{"$f":"SUMPRODUCT((RankNHDD[Month]=ChillTempAct[[#This Row],[Month]])*(RankNHDD[Rank]=ChillTempAct[[#This Row],[Rank]])*RankNHDD[KIRKNHDD])","v":12.987240143369178},{"$f":"YEAR(ChillTempAct[[#This Row],[Date]])","v":2020},{"$f":"MONTH(ChillTempAct[[#This Row],[Date]])","v":10},{"$f":"IF(ChillTempAct[[#This Row],[Month]]=J75,K75+1,1)","v":14}]
[44106,61,35,{"$f":"AVERAGE(ChillTempAct[[#This Row],[ChillHigh]:[ChillLow]])","v":48},{"$f":"IF(ChillTempAct[[#This Row],[ChillAve]]<65,65-ChillTempAct[[#This Row],[ChillAve]],0)","v":17},{"$f":"INDEX(TempAdj[AdjustPct],MATCH(MONTH(ChillTempAct[[#This Row],[Date]]),TempAdj[Month],0))","v":0.1114},{"$f":"ChillTempAct[[#This Row],[ChillHDD]]*(1+ChillTempAct[[#This Row],[ChillAdj]])","v":18.893799999999999},{"$f":"SUMPRODUCT((RankNHDD[Month]=ChillTempAct[[#This Row],[Month]])*(RankNHDD[Rank]=ChillTempAct[[#This Row],[Rank]])*RankNHDD[KIRKNHDD])","v":12.091738351254483},{"$f":"YEAR(ChillTempAct[[#This Row],[Date]])","v":2020},{"$f":"MONTH(ChillTempAct[[#This Row],[Date]])","v":10},{"$f":"IF(ChillTempAct[[#This Row],[Month]]=J76,K76+1,1)","v":15}]
[44107,60,36,{"$f":"AVERAGE(ChillTempAct[[#This Row],[ChillHigh]:[ChillLow]])","v":48},{"$f":"IF(ChillTempAct[[#This Row],[ChillAve]]<65,65-ChillTempAct[[#This Row],[ChillAve]],0)","v":17},{"$f":"INDEX(TempAdj[AdjustPct],MATCH(MONTH(ChillTempAct[[#This Row],[Date]]),TempAdj[Month],0))","v":0.1114},{"$f":"ChillTempAct[[#This Row],[ChillHDD]]*(1+ChillTempAct[[#This Row],[ChillAdj]])","v":18.893799999999999},{"$f":"SUMPRODUCT((RankNHDD[Month]=ChillTempAct[[#This Row],[Month]])*(RankNHDD[Rank]=ChillTempAct[[#This Row],[Rank]])*RankNHDD[KIRKNHDD])","v":11.306774193548389},{"$f":"YEAR(ChillTempAct[[#This Row],[Date]])","v":2020},{"$f":"MONTH(ChillTempAct[[#This Row],[Date]])","v":10},{"$f":"IF(ChillTempAct[[#This Row],[Month]]=J77,K77+1,1)","v":16}]
[44108,59,40,{"$f":"AVERAGE(ChillTempAct[[#This Row],[ChillHigh]:[ChillLow]])","v":49.5},{"$f":"IF(ChillTempAct[[#This Row],[ChillAve]]<65,65-ChillTempAct[[#This Row],[ChillAve]],0)","v":15.5},{"$f":"INDEX(TempAdj[AdjustPct],MATCH(MONTH(ChillTempAct[[#This Row],[Date]]),TempAdj[Month],0))","v":0.1114},{"$f":"ChillTempAct[[#This Row],[ChillHDD]]*(1+ChillTempAct[[#This Row],[ChillAdj]])","v":17.226699999999997},{"$f":"SUMPRODUCT((RankNHDD[Month]=ChillTempAct[[#This Row],[Month]])*(RankNHDD[Rank]=ChillTempAct[[#This Row],[Rank]])*RankNHDD[KIRKNHDD])","v":10.560179211469537},{"$f":"YEAR(ChillTempAct[[#This Row],[Date]])","v":2020},{"$f":"MONTH(ChillTempAct[[#This Row],[Date]])","v":10},{"$f":"IF(ChillTempAct[[#This Row],[Month]]=J78,K78+1,1)","v":17}]
[44109,59,41,{"$f":"AVERAGE(ChillTempAct[[#This Row],[ChillHigh]:[ChillLow]])","v":50},{"$f":"IF(ChillTempAct[[#This Row],[ChillAve]]<65,65-ChillTempAct[[#This Row],[ChillAve]],0)","v":15},{"$f":"INDEX(TempAdj[AdjustPct],MATCH(MONTH(ChillTempAct[[#This Row],[Date]]),TempAdj[Month],0))","v":0.1114},{"$f":"ChillTempAct[[#This Row],[ChillHDD]]*(1+ChillTempAct[[#This Row],[ChillAdj]])","v":16.670999999999999},{"$f":"SUMPRODUCT((RankNHDD[Month]=ChillTempAct[[#This Row],[Month]])*(RankNHDD[Rank]=ChillTempAct[[#This Row],[Rank]])*RankNHDD[KIRKNHDD])","v":9.6870430107526921},{"$f":"YEAR(ChillTempAct[[#This Row],[Date]])","v":2020},{"$f":"MONTH(ChillTempAct[[#This Row],[Date]])","v":10},{"$f":"IF(ChillTempAct[[#This Row],[Month]]=J79,K79+1,1)","v":18}]
[44110,71,41,{"$f":"AVERAGE(ChillTempAct[[#This Row],[ChillHigh]:[ChillLow]])","v":56},{"$f":"IF(ChillTempAct[[#This Row],[ChillAve]]<65,65-ChillTempAct[[#This Row],[ChillAve]],0)","v":9},{"$f":"INDEX(TempAdj[AdjustPct],MATCH(MONTH(ChillTempAct[[#This Row],[Date]]),TempAdj[Month],0))","v":0.1114},{"$f":"ChillTempAct[[#This Row],[ChillHDD]]*(1+ChillTempAct[[#This Row],[ChillAdj]])","v":10.002599999999999},{"$f":"SUMPRODUCT((RankNHDD[Month]=ChillTempAct[[#This Row],[Month]])*(RankNHDD[Rank]=ChillTempAct[[#This Row],[Rank]])*RankNHDD[KIRKNHDD])","v":8.9029928315412192},{"$f":"YEAR(ChillTempAct[[#This Row],[Date]])","v":2020},{"$f":"MONTH(ChillTempAct[[#This Row],[Date]])","v":10},{"$f":"IF(ChillTempAct[[#This Row],[Month]]=J80,K80+1,1)","v":19}]
[44105,71,42,{"$f":"AVERAGE(ChillTempAct[[#This Row],[ChillHigh]:[ChillLow]])","v":56.5},{"$f":"IF(ChillTempAct[[#This Row],[ChillAve]]<65,65-ChillTempAct[[#This Row],[ChillAve]],0)","v":8.5},{"$f":"INDEX(TempAdj[AdjustPct],MATCH(MONTH(ChillTempAct[[#This Row],[Date]]),TempAdj[Month],0))","v":0.1114},{"$f":"ChillTempAct[[#This Row],[ChillHDD]]*(1+ChillTempAct[[#This Row],[ChillAdj]])","v":9.4468999999999994},{"$f":"SUMPRODUCT((RankNHDD[Month]=ChillTempAct[[#This Row],[Month]])*(RankNHDD[Rank]=ChillTempAct[[#This Row],[Rank]])*RankNHDD[KIRKNHDD])","v":8.1101612903225835},{"$f":"YEAR(ChillTempAct[[#This Row],[Date]])","v":2020},{"$f":"MONTH(ChillTempAct[[#This Row],[Date]])","v":10},{"$f":"IF(ChillTempAct[[#This Row],[Month]]=J81,K81+1,1)","v":20}]
[44117,70,43,{"$f":"AVERAGE(ChillTempAct[[#This Row],[ChillHigh]:[ChillLow]])","v":56.5},{"$f":"IF(ChillTempAct[[#This Row],[ChillAve]]<65,65-ChillTempAct[[#This Row],[ChillAve]],0)","v":8.5},{"$f":"INDEX(TempAdj[AdjustPct],MATCH(MONTH(ChillTempAct[[#This Row],[Date]]),TempAdj[Month],0))","v":0.1114},{"$f":"ChillTempAct[[#This Row],[ChillHDD]]*(1+ChillTempAct[[#This Row],[ChillAdj]])","v":9.4468999999999994},{"$f":"SUMPRODUCT((RankNHDD[Month]=ChillTempAct[[#This Row],[Month]])*(RankNHDD[Rank]=ChillTempAct[[#This Row],[Rank]])*RankNHDD[KIRKNHDD])","v":7.2248387096774218},{"$f":"YEAR(ChillTempAct[[#This Row],[Date]])","v":2020},{"$f":"MONTH(ChillTempAct[[#This Row],[Date]])","v":10},{"$f":"IF(ChillTempAct[[#This Row],[Month]]=J82,K82+1,1)","v":21}]
[44122,72,42,{"$f":"AVERAGE(ChillTempAct[[#This Row],[ChillHigh]:[ChillLow]])","v":57},{"$f":"IF(ChillTempAct[[#This Row],[ChillAve]]<65,65-ChillTempAct[[#This Row],[ChillAve]],0)","v":8},{"$f":"INDEX(TempAdj[AdjustPct],MATCH(MONTH(ChillTempAct[[#This Row],[Date]]),TempAdj[Month],0))","v":0.1114},{"$f":"ChillTempAct[[#This Row],[ChillHDD]]*(1+ChillTempAct[[#This Row],[ChillAdj]])","v":8.8911999999999995},{"$f":"SUMPRODUCT((RankNHDD[Month]=ChillTempAct[[#This Row],[Month]])*(RankNHDD[Rank]=ChillTempAct[[#This Row],[Rank]])*RankNHDD[KIRKNHDD])","v":6.0353942652329762},{"$f":"YEAR(ChillTempAct[[#This Row],[Date]])","v":2020},{"$f":"MONTH(ChillTempAct[[#This Row],[Date]])","v":10},{"$f":"IF(ChillTempAct[[#This Row],[Month]]=J83,K83+1,1)","v":22}]
[44127,84,36,{"$f":"AVERAGE(ChillTempAct[[#This Row],[ChillHigh]:[ChillLow]])","v":60},{"$f":"IF(ChillTempAct[[#This Row],[ChillAve]]<65,65-ChillTempAct[[#This Row],[ChillAve]],0)","v":5},{"$f":"INDEX(TempAdj[AdjustPct],MATCH(MONTH(ChillTempAct[[#This Row],[Date]]),TempAdj[Month],0))","v":0.1114},{"$f":"ChillTempAct[[#This Row],[ChillHDD]]*(1+ChillTempAct[[#This Row],[ChillAdj]])","v":5.5569999999999995},{"$f":"SUMPRODUCT((RankNHDD[Month]=ChillTempAct[[#This Row],[Month]])*(RankNHDD[Rank]=ChillTempAct[[#This Row],[Rank]])*RankNHDD[KIRKNHDD])","v":5.0546057347670255},{"$f":"YEAR(ChillTempAct[[#This Row],[Date]])","v":2020},{"$f":"MONTH(ChillTempAct[[#This Row],[Date]])","v":10},{"$f":"IF(ChillTempAct[[#This Row],[Month]]=J84,K84+1,1)","v":23}]
[44118,77,46,{"$f":"AVERAGE(ChillTempAct[[#This Row],[ChillHigh]:[ChillLow]])","v":61.5},{"$f":"IF(ChillTempAct[[#This Row],[ChillAve]]<65,65-ChillTempAct[[#This Row],[ChillAve]],0)","v":3.5},{"$f":"INDEX(TempAdj[AdjustPct],MATCH(MONTH(ChillTempAct[[#This Row],[Date]]),TempAdj[Month],0))","v":0.1114},{"$f":"ChillTempAct[[#This Row],[ChillHDD]]*(1+ChillTempAct[[#This Row],[ChillAdj]])","v":3.8898999999999999},{"$f":"SUMPRODUCT((RankNHDD[Month]=ChillTempAct[[#This Row],[Month]])*(RankNHDD[Rank]=ChillTempAct[[#This Row],[Rank]])*RankNHDD[KIRKNHDD])","v":3.9418817204301084},{"$f":"YEAR(ChillTempAct[[#This Row],[Date]])","v":2020},{"$f":"MONTH(ChillTempAct[[#This Row],[Date]])","v":10},{"$f":"IF(ChillTempAct[[#This Row],[Month]]=J85,K85+1,1)","v":24}]
[44111,81,47,{"$f":"AVERAGE(ChillTempAct[[#This Row],[ChillHigh]:[ChillLow]])","v":64},{"$f":"IF(ChillTempAct[[#This Row],[ChillAve]]<65,65-ChillTempAct[[#This Row],[ChillAve]],0)","v":1},{"$f":"INDEX(TempAdj[AdjustPct],MATCH(MONTH(ChillTempAct[[#This Row],[Date]]),TempAdj[Month],0))","v":0.1114},{"$f":"ChillTempAct[[#This Row],[ChillHDD]]*(1+ChillTempAct[[#This Row],[ChillAdj]])","v":1.1113999999999999},{"$f":"SUMPRODUCT((RankNHDD[Month]=ChillTempAct[[#This Row],[Month]])*(RankNHDD[Rank]=ChillTempAct[[#This Row],[Rank]])*RankNHDD[KIRKNHDD])","v":2.9795519713261664},{"$f":"YEAR(ChillTempAct[[#This Row],[Date]])","v":2020},{"$f":"MONTH(ChillTempAct[[#This Row],[Date]])","v":10},{"$f":"IF(ChillTempAct[[#This Row],[Month]]=J86,K86+1,1)","v":25}]
[44119,82,48,{"$f":"AVERAGE(ChillTempAct[[#This Row],[ChillHigh]:[ChillLow]])","v":65},{"$f":"IF(ChillTempAct[[#This Row],[ChillAve]]<65,65-ChillTempAct[[#This Row],[ChillAve]],0)","v":0},{"$f":"INDEX(TempAdj[AdjustPct],MATCH(MONTH(ChillTempAct[[#This Row],[Date]]),TempAdj[Month],0))","v":0.1114},{"$f":"ChillTempAct[[#This Row],[ChillHDD]]*(1+ChillTempAct[[#This Row],[ChillAdj]])","v":0},{"$f":"SUMPRODUCT((RankNHDD[Month]=ChillTempAct[[#This Row],[Month]])*(RankNHDD[Rank]=ChillTempAct[[#This Row],[Rank]])*RankNHDD[KIRKNHDD])","v":1.7708960573476709},{"$f":"YEAR(ChillTempAct[[#This Row],[Date]])","v":2020},{"$f":"MONTH(ChillTempAct[[#This Row],[Date]])","v":10},{"$f":"IF(ChillTempAct[[#This Row],[Month]]=J87,K87+1,1)","v":26}]
[44112,85,53,{"$f":"AVERAGE(ChillTempAct[[#This Row],[ChillHigh]:[ChillLow]])","v":69},{"$f":"IF(ChillTempAct[[#This Row],[ChillAve]]<65,65-ChillTempAct[[#This Row],[ChillAve]],0)","v":0},{"$f":"INDEX(TempAdj[AdjustPct],MATCH(MONTH(ChillTempAct[[#This Row],[Date]]),TempAdj[Month],0))","v":0.1114},{"$f":"ChillTempAct[[#This Row],[ChillHDD]]*(1+ChillTempAct[[#This Row],[ChillAdj]])","v":0},{"$f":"SUMPRODUCT((RankNHDD[Month]=ChillTempAct[[#This Row],[Month]])*(RankNHDD[Rank]=ChillTempAct[[#This Row],[Rank]])*RankNHDD[KIRKNHDD])","v":0.6302688172043015},{"$f":"YEAR(ChillTempAct[[#This Row],[Date]])","v":2020},{"$f":"MONTH(ChillTempAct[[#This Row],[Date]])","v":10},{"$f":"IF(ChillTempAct[[#This Row],[Month]]=J88,K88+1,1)","v":27}]
[44113,83,56,{"$f":"AVERAGE(ChillTempAct[[#This Row],[ChillHigh]:[ChillLow]])","v":69.5},{"$f":"IF(ChillTempAct[[#This Row],[ChillAve]]<65,65-ChillTempAct[[#This Row],[ChillAve]],0)","v":0},{"$f":"INDEX(TempAdj[AdjustPct],MATCH(MONTH(ChillTempAct[[#This Row],[Date]]),TempAdj[Month],0))","v":0.1114},{"$f":"ChillTempAct[[#This Row],[ChillHDD]]*(1+ChillTempAct[[#This Row],[ChillAdj]])","v":0},{"$f":"SUMPRODUCT((RankNHDD[Month]=ChillTempAct[[#This Row],[Month]])*(RankNHDD[Rank]=ChillTempAct[[#This Row],[Rank]])*RankNHDD[KIRKNHDD])","v":0},{"$f":"YEAR(ChillTempAct[[#This Row],[Date]])","v":2020},{"$f":"MONTH(ChillTempAct[[#This Row],[Date]])","v":10},{"$f":"IF(ChillTempAct[[#This Row],[Month]]=J89,K89+1,1)","v":28}]
[44114,82,57,{"$f":"AVERAGE(ChillTempAct[[#This Row],[ChillHigh]:[ChillLow]])","v":69.5},{"$f":"IF(ChillTempAct[[#This Row],[ChillAve]]<65,65-ChillTempAct[[#This Row],[ChillAve]],0)","v":0},{"$f":"INDEX(TempAdj[AdjustPct],MATCH(MONTH(ChillTempAct[[#This Row],[Date]]),TempAdj[Month],0))","v":0.1114},{"$f":"ChillTempAct[[#This Row],[ChillHDD]]*(1+ChillTempAct[[#This Row],[ChillAdj]])","v":0},{"$f":"SUMPRODUCT((RankNHDD[Month]=ChillTempAct[[#This Row],[Month]])*(RankNHDD[Rank]=ChillTempAct[[#This Row],[Rank]])*RankNHDD[KIRKNHDD])","v":0},{"$f":"YEAR(ChillTempAct[[#This Row],[Date]])","v":2020},{"$f":"MONTH(ChillTempAct[[#This Row],[Date]])","v":10},{"$f":"IF(ChillTempAct[[#This Row],[Month]]=J90,K90+1,1)","v":29}]
[44115,83,57,{"$f":"AVERAGE(ChillTempAct[[#This Row],[ChillHigh]:[ChillLow]])","v":70},{"$f":"IF(ChillTempAct[[#This Row],[ChillAve]]<65,65-ChillTempAct[[#This Row],[ChillAve]],0)","v":0},{"$f":"INDEX(TempAdj[AdjustPct],MATCH(MONTH(ChillTempAct[[#This Row],[Date]]),TempAdj[Month],0))","v":0.1114},{"$f":"ChillTempAct[[#This Row],[ChillHDD]]*(1+ChillTempAct[[#This Row],[ChillAdj]])","v":0},{"$f":"SUMPRODUCT((RankNHDD[Month]=ChillTempAct[[#This Row],[Month]])*(RankNHDD[Rank]=ChillTempAct[[#This Row],[Rank]])*RankNHDD[KIRKNHDD])","v":0},{"$f":"YEAR(ChillTempAct[[#This Row],[Date]])","v":2020},{"$f":"MONTH(ChillTempAct[[#This Row],[Date]])","v":10},{"$f":"IF(ChillTempAct[[#This Row],[Month]]=J91,K91+1,1)","v":30}]
[44116,85,55,{"$f":"AVERAGE(ChillTempAct[[#This Row],[ChillHigh]:[ChillLow]])","v":70},{"$f":"IF(ChillTempAct[[#This Row],[ChillAve]]<65,65-ChillTempAct[[#This Row],[ChillAve]],0)","v":0},{"$f":"INDEX(TempAdj[AdjustPct],MATCH(MONTH(ChillTempAct[[#This Row],[Date]]),TempAdj[Month],0))","v":0.1114},{"$f":"ChillTempAct[[#This Row],[ChillHDD]]*(1+ChillTempAct[[#This Row],[ChillAdj]])","v":0},{"$f":"SUMPRODUCT((RankNHDD[Month]=ChillTempAct[[#This Row],[Month]])*(RankNHDD[Rank]=ChillTempAct[[#This Row],[Rank]])*RankNHDD[KIRKNHDD])","v":0},{"$f":"YEAR(ChillTempAct[[#This Row],[Date]])","v":2020},{"$f":"MONTH(ChillTempAct[[#This Row],[Date]])","v":10},{"$f":"IF(ChillTempAct[[#This Row],[Month]]=J92,K92+1,1)","v":31}]
[44165,43,20,{"$f":"AVERAGE(ChillTempAct[[#This Row],[ChillHigh]:[ChillLow]])","v":31.5},{"$f":"IF(ChillTempAct[[#This Row],[ChillAve]]<65,65-ChillTempAct[[#This Row],[ChillAve]],0)","v":33.5},{"$f":"INDEX(TempAdj[AdjustPct],MATCH(MONTH(ChillTempAct[[#This Row],[Date]]),TempAdj[Month],0))","v":4.2599999999999999E-2},{"$f":"ChillTempAct[[#This Row],[ChillHDD]]*(1+ChillTempAct[[#This Row],[ChillAdj]])","v":34.927099999999996},{"$f":"SUMPRODUCT((RankNHDD[Month]=ChillTempAct[[#This Row],[Month]])*(RankNHDD[Rank]=ChillTempAct[[#This Row],[Rank]])*RankNHDD[KIRKNHDD])","v":47.151666666666671},{"$f":"YEAR(ChillTempAct[[#This Row],[Date]])","v":2020},{"$f":"MONTH(ChillTempAct[[#This Row],[Date]])","v":11},{"$f":"IF(ChillTempAct[[#This Row],[Month]]=J93,K93+1,1)","v":1}]
[44149,45,22,{"$f":"AVERAGE(ChillTempAct[[#This Row],[ChillHigh]:[ChillLow]])","v":33.5},{"$f":"IF(ChillTempAct[[#This Row],[ChillAve]]<65,65-ChillTempAct[[#This Row],[ChillAve]],0)","v":31.5},{"$f":"INDEX(TempAdj[AdjustPct],MATCH(MONTH(ChillTempAct[[#This Row],[Date]]),TempAdj[Month],0))","v":4.2599999999999999E-2},{"$f":"ChillTempAct[[#This Row],[ChillHDD]]*(1+ChillTempAct[[#This Row],[ChillAdj]])","v":32.841900000000003},{"$f":"SUMPRODUCT((RankNHDD[Month]=ChillTempAct[[#This Row],[Month]])*(RankNHDD[Rank]=ChillTempAct[[#This Row],[Rank]])*RankNHDD[KIRKNHDD])","v":41.107222222222205},{"$f":"YEAR(ChillTempAct[[#This Row],[Date]])","v":2020},{"$f":"MONTH(ChillTempAct[[#This Row],[Date]])","v":11},{"$f":"IF(ChillTempAct[[#This Row],[Month]]=J94,K94+1,1)","v":2}]
[44159,42,26,{"$f":"AVERAGE(ChillTempAct[[#This Row],[ChillHigh]:[ChillLow]])","v":34},{"$f":"IF(ChillTempAct[[#This Row],[ChillAve]]<65,65-ChillTempAct[[#This Row],[ChillAve]],0)","v":31},{"$f":"INDEX(TempAdj[AdjustPct],MATCH(MONTH(ChillTempAct[[#This Row],[Date]]),TempAdj[Month],0))","v":4.2599999999999999E-2},{"$f":"ChillTempAct[[#This Row],[ChillHDD]]*(1+ChillTempAct[[#This Row],[ChillAdj]])","v":32.320599999999999},{"$f":"SUMPRODUCT((RankNHDD[Month]=ChillTempAct[[#This Row],[Month]])*(RankNHDD[Rank]=ChillTempAct[[#This Row],[Rank]])*RankNHDD[KIRKNHDD])","v":38.468148148148153},{"$f":"YEAR(ChillTempAct[[#This Row],[Date]])","v":2020},{"$f":"MONTH(ChillTempAct[[#This Row],[Date]])","v":11},{"$f":"IF(ChillTempAct[[#This Row],[Month]]=J95,K95+1,1)","v":3}]
[44137,48,24,{"$f":"AVERAGE(ChillTempAct[[#This Row],[ChillHigh]:[ChillLow]])","v":36},{"$f":"IF(ChillTempAct[[#This Row],[ChillAve]]<65,65-ChillTempAct[[#This Row],[ChillAve]],0)","v":29},{"$f":"INDEX(TempAdj[AdjustPct],MATCH(MONTH(ChillTempAct[[#This Row],[Date]]),TempAdj[Month],0))","v":4.2599999999999999E-2},{"$f":"ChillTempAct[[#This Row],[ChillHDD]]*(1+ChillTempAct[[#This Row],[ChillAdj]])","v":30.235399999999998},{"$f":"SUMPRODUCT((RankNHDD[Month]=ChillTempAct[[#This Row],[Month]])*(RankNHDD[Rank]=ChillTempAct[[#This Row],[Rank]])*RankNHDD[KIRKNHDD])","v":36.311296296296284},{"$f":"YEAR(ChillTempAct[[#This Row],[Date]])","v":2020},{"$f":"MONTH(ChillTempAct[[#This Row],[Date]])","v":11},{"$f":"IF(ChillTempAct[[#This Row],[Month]]=J96,K96+1,1)","v":4}]
[44161,44,31,{"$f":"AVERAGE(ChillTempAct[[#This Row],[ChillHigh]:[ChillLow]])","v":37.5},{"$f":"IF(ChillTempAct[[#This Row],[ChillAve]]<65,65-ChillTempAct[[#This Row],[ChillAve]],0)","v":27.5},{"$f":"INDEX(TempAdj[AdjustPct],MATCH(MONTH(ChillTempAct[[#This Row],[Date]]),TempAdj[Month],0))","v":4.2599999999999999E-2},{"$f":"ChillTempAct[[#This Row],[ChillHDD]]*(1+ChillTempAct[[#This Row],[ChillAdj]])","v":28.671499999999998},{"$f":"SUMPRODUCT((RankNHDD[Month]=ChillTempAct[[#This Row],[Month]])*(RankNHDD[Rank]=ChillTempAct[[#This Row],[Rank]])*RankNHDD[KIRKNHDD])","v":34.695555555555543},{"$f":"YEAR(ChillTempAct[[#This Row],[Date]])","v":2020},{"$f":"MONTH(ChillTempAct[[#This Row],[Date]])","v":11},{"$f":"IF(ChillTempAct[[#This Row],[Month]]=J97,K97+1,1)","v":5}]
[44146,51,26,{"$f":"AVERAGE(ChillTempAct[[#This Row],[ChillHigh]:[ChillLow]])","v":38.5},{"$f":"IF(ChillTempAct[[#This Row],[ChillAve]]<65,65-ChillTempAct[[#This Row],[ChillAve]],0)","v":26.5},{"$f":"INDEX(TempAdj[AdjustPct],MATCH(MONTH(ChillTempAct[[#This Row],[Date]]),TempAdj[Month],0))","v":4.2599999999999999E-2},{"$f":"ChillTempAct[[#This Row],[ChillHDD]]*(1+ChillTempAct[[#This Row],[ChillAdj]])","v":27.628899999999998},{"$f":"SUMPRODUCT((RankNHDD[Month]=ChillTempAct[[#This Row],[Month]])*(RankNHDD[Rank]=ChillTempAct[[#This Row],[Rank]])*RankNHDD[KIRKNHDD])","v":33.244814814814809},{"$f":"YEAR(ChillTempAct[[#This Row],[Date]])","v":2020},{"$f":"MONTH(ChillTempAct[[#This Row],[Date]])","v":11},{"$f":"IF(ChillTempAct[[#This Row],[Month]]=J98,K98+1,1)","v":6}]
[44158,53,25,{"$f":"AVERAGE(ChillTempAct[[#This Row],[ChillHigh]:[ChillLow]])","v":39},{"$f":"IF(ChillTempAct[[#This Row],[ChillAve]]<65,65-ChillTempAct[[#This Row],[ChillAve]],0)","v":26},{"$f":"INDEX(TempAdj[AdjustPct],MATCH(MONTH(ChillTempAct[[#This Row],[Date]]),TempAdj[Month],0))","v":4.2599999999999999E-2},{"$f":"ChillTempAct[[#This Row],[ChillHDD]]*(1+ChillTempAct[[#This Row],[ChillAdj]])","v":27.107599999999998},{"$f":"SUMPRODUCT((RankNHDD[Month]=ChillTempAct[[#This Row],[Month]])*(RankNHDD[Rank]=ChillTempAct[[#This Row],[Rank]])*RankNHDD[KIRKNHDD])","v":31.984259259259254},{"$f":"YEAR(ChillTempAct[[#This Row],[Date]])","v":2020},{"$f":"MONTH(ChillTempAct[[#This Row],[Date]])","v":11},{"$f":"IF(ChillTempAct[[#This Row],[Month]]=J99,K99+1,1)","v":7}]
[44148,59,21,{"$f":"AVERAGE(ChillTempAct[[#This Row],[ChillHigh]:[ChillLow]])","v":40},{"$f":"IF(ChillTempAct[[#This Row],[ChillAve]]<65,65-ChillTempAct[[#This Row],[ChillAve]],0)","v":25},{"$f":"INDEX(TempAdj[AdjustPct],MATCH(MONTH(ChillTempAct[[#This Row],[Date]]),TempAdj[Month],0))","v":4.2599999999999999E-2},{"$f":"ChillTempAct[[#This Row],[ChillHDD]]*(1+ChillTempAct[[#This Row],[ChillAdj]])","v":26.064999999999998},{"$f":"SUMPRODUCT((RankNHDD[Month]=ChillTempAct[[#This Row],[Month]])*(RankNHDD[Rank]=ChillTempAct[[#This Row],[Rank]])*RankNHDD[KIRKNHDD])","v":30.960740740740736},{"$f":"YEAR(ChillTempAct[[#This Row],[Date]])","v":2020},{"$f":"MONTH(ChillTempAct[[#This Row],[Date]])","v":11},{"$f":"IF(ChillTempAct[[#This Row],[Month]]=J100,K100+1,1)","v":8}]
[44151,52,28,{"$f":"AVERAGE(ChillTempAct[[#This Row],[ChillHigh]:[ChillLow]])","v":40},{"$f":"IF(ChillTempAct[[#This Row],[ChillAve]]<65,65-ChillTempAct[[#This Row],[ChillAve]],0)","v":25},{"$f":"INDEX(TempAdj[AdjustPct],MATCH(MONTH(ChillTempAct[[#This Row],[Date]]),TempAdj[Month],0))","v":4.2599999999999999E-2},{"$f":"ChillTempAct[[#This Row],[ChillHDD]]*(1+ChillTempAct[[#This Row],[ChillAdj]])","v":26.064999999999998},{"$f":"SUMPRODUCT((RankNHDD[Month]=ChillTempAct[[#This Row],[Month]])*(RankNHDD[Rank]=ChillTempAct[[#This Row],[Rank]])*RankNHDD[KIRKNHDD])","v":29.911111111111111},{"$f":"YEAR(ChillTempAct[[#This Row],[Date]])","v":2020},{"$f":"MONTH(ChillTempAct[[#This Row],[Date]])","v":11},{"$f":"IF(ChillTempAct[[#This Row],[Month]]=J101,K101+1,1)","v":9}]
[44163,50,30,{"$f":"AVERAGE(ChillTempAct[[#This Row],[ChillHigh]:[ChillLow]])","v":40},{"$f":"IF(ChillTempAct[[#This Row],[ChillAve]]<65,65-ChillTempAct[[#This Row],[ChillAve]],0)","v":25},{"$f":"INDEX(TempAdj[AdjustPct],MATCH(MONTH(ChillTempAct[[#This Row],[Date]]),TempAdj[Month],0))","v":4.2599999999999999E-2},{"$f":"ChillTempAct[[#This Row],[ChillHDD]]*(1+ChillTempAct[[#This Row],[ChillAdj]])","v":26.064999999999998},{"$f":"SUMPRODUCT((RankNHDD[Month]=ChillTempAct[[#This Row],[Month]])*(RankNHDD[Rank]=ChillTempAct[[#This Row],[Rank]])*RankNHDD[KIRKNHDD])","v":28.929259259259258},{"$f":"YEAR(ChillTempAct[[#This Row],[Date]])","v":2020},{"$f":"MONTH(ChillTempAct[[#This Row],[Date]])","v":11},{"$f":"IF(ChillTempAct[[#This Row],[Month]]=J102,K102+1,1)","v":10}]
[44153,50,31,{"$f":"AVERAGE(ChillTempAct[[#This Row],[ChillHigh]:[ChillLow]])","v":40.5},{"$f":"IF(ChillTempAct[[#This Row],[ChillAve]]<65,65-ChillTempAct[[#This Row],[ChillAve]],0)","v":24.5},{"$f":"INDEX(TempAdj[AdjustPct],MATCH(MONTH(ChillTempAct[[#This Row],[Date]]),TempAdj[Month],0))","v":4.2599999999999999E-2},{"$f":"ChillTempAct[[#This Row],[ChillHDD]]*(1+ChillTempAct[[#This Row],[ChillAdj]])","v":25.543699999999998},{"$f":"SUMPRODUCT((RankNHDD[Month]=ChillTempAct[[#This Row],[Month]])*(RankNHDD[Rank]=ChillTempAct[[#This Row],[Rank]])*RankNHDD[KIRKNHDD])","v":27.719629629629626},{"$f":"YEAR(ChillTempAct[[#This Row],[Date]])","v":2020},{"$f":"MONTH(ChillTempAct[[#This Row],[Date]])","v":11},{"$f":"IF(ChillTempAct[[#This Row],[Month]]=J103,K103+1,1)","v":11}]
[44157,46,37,{"$f":"AVERAGE(ChillTempAct[[#This Row],[ChillHigh]:[ChillLow]])","v":41.5},{"$f":"IF(ChillTempAct[[#This Row],[ChillAve]]<65,65-ChillTempAct[[#This Row],[ChillAve]],0)","v":23.5},{"$f":"INDEX(TempAdj[AdjustPct],MATCH(MONTH(ChillTempAct[[#This Row],[Date]]),TempAdj[Month],0))","v":4.2599999999999999E-2},{"$f":"ChillTempAct[[#This Row],[ChillHDD]]*(1+ChillTempAct[[#This Row],[ChillAdj]])","v":24.501100000000001},{"$f":"SUMPRODUCT((RankNHDD[Month]=ChillTempAct[[#This Row],[Month]])*(RankNHDD[Rank]=ChillTempAct[[#This Row],[Rank]])*RankNHDD[KIRKNHDD])","v":26.551111111111105},{"$f":"YEAR(ChillTempAct[[#This Row],[Date]])","v":2020},{"$f":"MONTH(ChillTempAct[[#This Row],[Date]])","v":11},{"$f":"IF(ChillTempAct[[#This Row],[Month]]=J104,K104+1,1)","v":12}]
[44147,54,30,{"$f":"AVERAGE(ChillTempAct[[#This Row],[ChillHigh]:[ChillLow]])","v":42},{"$f":"IF(ChillTempAct[[#This Row],[ChillAve]]<65,65-ChillTempAct[[#This Row],[ChillAve]],0)","v":23},{"$f":"INDEX(TempAdj[AdjustPct],MATCH(MONTH(ChillTempAct[[#This Row],[Date]]),TempAdj[Month],0))","v":4.2599999999999999E-2},{"$f":"ChillTempAct[[#This Row],[ChillHDD]]*(1+ChillTempAct[[#This Row],[ChillAdj]])","v":23.979800000000001},{"$f":"SUMPRODUCT((RankNHDD[Month]=ChillTempAct[[#This Row],[Month]])*(RankNHDD[Rank]=ChillTempAct[[#This Row],[Rank]])*RankNHDD[KIRKNHDD])","v":25.420370370370367},{"$f":"YEAR(ChillTempAct[[#This Row],[Date]])","v":2020},{"$f":"MONTH(ChillTempAct[[#This Row],[Date]])","v":11},{"$f":"IF(ChillTempAct[[#This Row],[Month]]=J105,K105+1,1)","v":13}]
[44162,53,33,{"$f":"AVERAGE(ChillTempAct[[#This Row],[ChillHigh]:[ChillLow]])","v":43},{"$f":"IF(ChillTempAct[[#This Row],[ChillAve]]<65,65-ChillTempAct[[#This Row],[ChillAve]],0)","v":22},{"$f":"INDEX(TempAdj[AdjustPct],MATCH(MONTH(ChillTempAct[[#This Row],[Date]]),TempAdj[Month],0))","v":4.2599999999999999E-2},{"$f":"ChillTempAct[[#This Row],[ChillHDD]]*(1+ChillTempAct[[#This Row],[ChillAdj]])","v":22.937200000000001},{"$f":"SUMPRODUCT((RankNHDD[Month]=ChillTempAct[[#This Row],[Month]])*(RankNHDD[Rank]=ChillTempAct[[#This Row],[Rank]])*RankNHDD[KIRKNHDD])","v":24.463518518518519},{"$f":"YEAR(ChillTempAct[[#This Row],[Date]])","v":2020},{"$f":"MONTH(ChillTempAct[[#This Row],[Date]])","v":11},{"$f":"IF(ChillTempAct[[#This Row],[Month]]=J106,K106+1,1)","v":14}]
[44152,62,27,{"$f":"AVERAGE(ChillTempAct[[#This Row],[ChillHigh]:[ChillLow]])","v":44.5},{"$f":"IF(ChillTempAct[[#This Row],[ChillAve]]<65,65-ChillTempAct[[#This Row],[ChillAve]],0)","v":20.5},{"$f":"INDEX(TempAdj[AdjustPct],MATCH(MONTH(ChillTempAct[[#This Row],[Date]]),TempAdj[Month],0))","v":4.2599999999999999E-2},{"$f":"ChillTempAct[[#This Row],[ChillHDD]]*(1+ChillTempAct[[#This Row],[ChillAdj]])","v":21.3733},{"$f":"SUMPRODUCT((RankNHDD[Month]=ChillTempAct[[#This Row],[Month]])*(RankNHDD[Rank]=ChillTempAct[[#This Row],[Rank]])*RankNHDD[KIRKNHDD])","v":23.609259259259261},{"$f":"YEAR(ChillTempAct[[#This Row],[Date]])","v":2020},{"$f":"MONTH(ChillTempAct[[#This Row],[Date]])","v":11},{"$f":"IF(ChillTempAct[[#This Row],[Month]]=J107,K107+1,1)","v":15}]
[44164,57,32,{"$f":"AVERAGE(ChillTempAct[[#This Row],[ChillHigh]:[ChillLow]])","v":44.5},{"$f":"IF(ChillTempAct[[#This Row],[ChillAve]]<65,65-ChillTempAct[[#This Row],[ChillAve]],0)","v":20.5},{"$f":"INDEX(TempAdj[AdjustPct],MATCH(MONTH(ChillTempAct[[#This Row],[Date]]),TempAdj[Month],0))","v":4.2599999999999999E-2},{"$f":"ChillTempAct[[#This Row],[ChillHDD]]*(1+ChillTempAct[[#This Row],[ChillAdj]])","v":21.3733},{"$f":"SUMPRODUCT((RankNHDD[Month]=ChillTempAct[[#This Row],[Month]])*(RankNHDD[Rank]=ChillTempAct[[#This Row],[Rank]])*RankNHDD[KIRKNHDD])","v":22.759814814814813},{"$f":"YEAR(ChillTempAct[[#This Row],[Date]])","v":2020},{"$f":"MONTH(ChillTempAct[[#This Row],[Date]])","v":11},{"$f":"IF(ChillTempAct[[#This Row],[Month]]=J108,K108+1,1)","v":16}]
[44138,65,28,{"$f":"AVERAGE(ChillTempAct[[#This Row],[ChillHigh]:[ChillLow]])","v":46.5},{"$f":"IF(ChillTempAct[[#This Row],[ChillAve]]<65,65-ChillTempAct[[#This Row],[ChillAve]],0)","v":18.5},{"$f":"INDEX(TempAdj[AdjustPct],MATCH(MONTH(ChillTempAct[[#This Row],[Date]]),TempAdj[Month],0))","v":4.2599999999999999E-2},{"$f":"ChillTempAct[[#This Row],[ChillHDD]]*(1+ChillTempAct[[#This Row],[ChillAdj]])","v":19.2881},{"$f":"SUMPRODUCT((RankNHDD[Month]=ChillTempAct[[#This Row],[Month]])*(RankNHDD[Rank]=ChillTempAct[[#This Row],[Rank]])*RankNHDD[KIRKNHDD])","v":22.064259259259259},{"$f":"YEAR(ChillTempAct[[#This Row],[Date]])","v":2020},{"$f":"MONTH(ChillTempAct[[#This Row],[Date]])","v":11},{"$f":"IF(ChillTempAct[[#This Row],[Month]]=J109,K109+1,1)","v":17}]
[44160,51,42,{"$f":"AVERAGE(ChillTempAct[[#This Row],[ChillHigh]:[ChillLow]])","v":46.5},{"$f":"IF(ChillTempAct[[#This Row],[ChillAve]]<65,65-ChillTempAct[[#This Row],[ChillAve]],0)","v":18.5},{"$f":"INDEX(TempAdj[AdjustPct],MATCH(MONTH(ChillTempAct[[#This Row],[Date]]),TempAdj[Month],0))","v":4.2599999999999999E-2},{"$f":"ChillTempAct[[#This Row],[ChillHDD]]*(1+ChillTempAct[[#This Row],[ChillAdj]])","v":19.2881},{"$f":"SUMPRODUCT((RankNHDD[Month]=ChillTempAct[[#This Row],[Month]])*(RankNHDD[Rank]=ChillTempAct[[#This Row],[Rank]])*RankNHDD[KIRKNHDD])","v":21.27277777777778},{"$f":"YEAR(ChillTempAct[[#This Row],[Date]])","v":2020},{"$f":"MONTH(ChillTempAct[[#This Row],[Date]])","v":11},{"$f":"IF(ChillTempAct[[#This Row],[Month]]=J110,K110+1,1)","v":18}]
[44156,56,39,{"$f":"AVERAGE(ChillTempAct[[#This Row],[ChillHigh]:[ChillLow]])","v":47.5},{"$f":"IF(ChillTempAct[[#This Row],[ChillAve]]<65,65-ChillTempAct[[#This Row],[ChillAve]],0)","v":17.5},{"$f":"INDEX(TempAdj[AdjustPct],MATCH(MONTH(ChillTempAct[[#This Row],[Date]]),TempAdj[Month],0))","v":4.2599999999999999E-2},{"$f":"ChillTempAct[[#This Row],[ChillHDD]]*(1+ChillTempAct[[#This Row],[ChillAdj]])","v":18.2455},{"$f":"SUMPRODUCT((RankNHDD[Month]=ChillTempAct[[#This Row],[Month]])*(RankNHDD[Rank]=ChillTempAct[[#This Row],[Rank]])*RankNHDD[KIRKNHDD])","v":20.594444444444441},{"$f":"YEAR(ChillTempAct[[#This Row],[Date]])","v":2020},{"$f":"MONTH(ChillTempAct[[#This Row],[Date]])","v":11},{"$f":"IF(ChillTempAct[[#This Row],[Month]]=J111,K111+1,1)","v":19}]
[44150,62,38,{"$f":"AVERAGE(ChillTempAct[[#This Row],[ChillHigh]:[ChillLow]])","v":50},{"$f":"IF(ChillTempAct[[#This Row],[ChillAve]]<65,65-ChillTempAct[[#This Row],[ChillAve]],0)","v":15},{"$f":"INDEX(TempAdj[AdjustPct],MATCH(MONTH(ChillTempAct[[#This Row],[Date]]),TempAdj[Month],0))","v":4.2599999999999999E-2},{"$f":"ChillTempAct[[#This Row],[ChillHDD]]*(1+ChillTempAct[[#This Row],[ChillAdj]])","v":15.638999999999999},{"$f":"SUMPRODUCT((RankNHDD[Month]=ChillTempAct[[#This Row],[Month]])*(RankNHDD[Rank]=ChillTempAct[[#This Row],[Rank]])*RankNHDD[KIRKNHDD])","v":19.576666666666664},{"$f":"YEAR(ChillTempAct[[#This Row],[Date]])","v":2020},{"$f":"MONTH(ChillTempAct[[#This Row],[Date]])","v":11},{"$f":"IF(ChillTempAct[[#This Row],[Month]]=J112,K112+1,1)","v":20}]
[44136,68,35,{"$f":"AVERAGE(ChillTempAct[[#This Row],[ChillHigh]:[ChillLow]])","v":51.5},{"$f":"IF(ChillTempAct[[#This Row],[ChillAve]]<65,65-ChillTempAct[[#This Row],[ChillAve]],0)","v":13.5},{"$f":"INDEX(TempAdj[AdjustPct],MATCH(MONTH(ChillTempAct[[#This Row],[Date]]),TempAdj[Month],0))","v":4.2599999999999999E-2},{"$f":"ChillTempAct[[#This Row],[ChillHDD]]*(1+ChillTempAct[[#This Row],[ChillAdj]])","v":14.075099999999999},{"$f":"SUMPRODUCT((RankNHDD[Month]=ChillTempAct[[#This Row],[Month]])*(RankNHDD[Rank]=ChillTempAct[[#This Row],[Rank]])*RankNHDD[KIRKNHDD])","v":18.077962962962964},{"$f":"YEAR(ChillTempAct[[#This Row],[Date]])","v":2020},{"$f":"MONTH(ChillTempAct[[#This Row],[Date]])","v":11},{"$f":"IF(ChillTempAct[[#This Row],[Month]]=J113,K113+1,1)","v":21}]
[44154,67,40,{"$f":"AVERAGE(ChillTempAct[[#This Row],[ChillHigh]:[ChillLow]])","v":53.5},{"$f":"IF(ChillTempAct[[#This Row],[ChillAve]]<65,65-ChillTempAct[[#This Row],[ChillAve]],0)","v":11.5},{"$f":"INDEX(TempAdj[AdjustPct],MATCH(MONTH(ChillTempAct[[#This Row],[Date]]),TempAdj[Month],0))","v":4.2599999999999999E-2},{"$f":"ChillTempAct[[#This Row],[ChillHDD]]*(1+ChillTempAct[[#This Row],[ChillAdj]])","v":11.9899},{"$f":"SUMPRODUCT((RankNHDD[Month]=ChillTempAct[[#This Row],[Month]])*(RankNHDD[Rank]=ChillTempAct[[#This Row],[Rank]])*RankNHDD[KIRKNHDD])","v":17.13425925925926},{"$f":"YEAR(ChillTempAct[[#This Row],[Date]])","v":2020},{"$f":"MONTH(ChillTempAct[[#This Row],[Date]])","v":11},{"$f":"IF(ChillTempAct[[#This Row],[Month]]=J114,K114+1,1)","v":22}]
[44139,74,36,{"$f":"AVERAGE(ChillTempAct[[#This Row],[ChillHigh]:[ChillLow]])","v":55},{"$f":"IF(ChillTempAct[[#This Row],[ChillAve]]<65,65-ChillTempAct[[#This Row],[ChillAve]],0)","v":10},{"$f":"INDEX(TempAdj[AdjustPct],MATCH(MONTH(ChillTempAct[[#This Row],[Date]]),TempAdj[Month],0))","v":4.2599999999999999E-2},{"$f":"ChillTempAct[[#This Row],[ChillHDD]]*(1+ChillTempAct[[#This Row],[ChillAdj]])","v":10.426},{"$f":"SUMPRODUCT((RankNHDD[Month]=ChillTempAct[[#This Row],[Month]])*(RankNHDD[Rank]=ChillTempAct[[#This Row],[Rank]])*RankNHDD[KIRKNHDD])","v":16.063148148148148},{"$f":"YEAR(ChillTempAct[[#This Row],[Date]])","v":2020},{"$f":"MONTH(ChillTempAct[[#This Row],[Date]])","v":11},{"$f":"IF(ChillTempAct[[#This Row],[Month]]=J115,K115+1,1)","v":23}]
[44140,68,48,{"$f":"AVERAGE(ChillTempAct[[#This Row],[ChillHigh]:[ChillLow]])","v":58},{"$f":"IF(ChillTempAct[[#This Row],[ChillAve]]<65,65-ChillTempAct[[#This Row],[ChillAve]],0)","v":7},{"$f":"INDEX(TempAdj[AdjustPct],MATCH(MONTH(ChillTempAct[[#This Row],[Date]]),TempAdj[Month],0))","v":4.2599999999999999E-2},{"$f":"ChillTempAct[[#This Row],[ChillHDD]]*(1+ChillTempAct[[#This Row],[ChillAdj]])","v":7.2981999999999996},{"$f":"SUMPRODUCT((RankNHDD[Month]=ChillTempAct[[#This Row],[Month]])*(RankNHDD[Rank]=ChillTempAct[[#This Row],[Rank]])*RankNHDD[KIRKNHDD])","v":15.076851851851849},{"$f":"YEAR(ChillTempAct[[#This Row],[Date]])","v":2020},{"$f":"MONTH(ChillTempAct[[#This Row],[Date]])","v":11},{"$f":"IF(ChillTempAct[[#This Row],[Month]]=J116,K116+1,1)","v":24}]
[44141,75,42,{"$f":"AVERAGE(ChillTempAct[[#This Row],[ChillHigh]:[ChillLow]])","v":58.5},{"$f":"IF(ChillTempAct[[#This Row],[ChillAve]]<65,65-ChillTempAct[[#This Row],[ChillAve]],0)","v":6.5},{"$f":"INDEX(TempAdj[AdjustPct],MATCH(MONTH(ChillTempAct[[#This Row],[Date]]),TempAdj[Month],0))","v":4.2599999999999999E-2},{"$f":"ChillTempAct[[#This Row],[ChillHDD]]*(1+ChillTempAct[[#This Row],[ChillAdj]])","v":6.7768999999999995},{"$f":"SUMPRODUCT((RankNHDD[Month]=ChillTempAct[[#This Row],[Month]])*(RankNHDD[Rank]=ChillTempAct[[#This Row],[Rank]])*RankNHDD[KIRKNHDD])","v":13.913333333333332},{"$f":"YEAR(ChillTempAct[[#This Row],[Date]])","v":2020},{"$f":"MONTH(ChillTempAct[[#This Row],[Date]])","v":11},{"$f":"IF(ChillTempAct[[#This Row],[Month]]=J117,K117+1,1)","v":25}]
[44142,74,44,{"$f":"AVERAGE(ChillTempAct[[#This Row],[ChillHigh]:[ChillLow]])","v":59},{"$f":"IF(ChillTempAct[[#This Row],[ChillAve]]<65,65-ChillTempAct[[#This Row],[ChillAve]],0)","v":6},{"$f":"INDEX(TempAdj[AdjustPct],MATCH(MONTH(ChillTempAct[[#This Row],[Date]]),TempAdj[Month],0))","v":4.2599999999999999E-2},{"$f":"ChillTempAct[[#This Row],[ChillHDD]]*(1+ChillTempAct[[#This Row],[ChillAdj]])","v":6.2555999999999994},{"$f":"SUMPRODUCT((RankNHDD[Month]=ChillTempAct[[#This Row],[Month]])*(RankNHDD[Rank]=ChillTempAct[[#This Row],[Rank]])*RankNHDD[KIRKNHDD])","v":12.532777777777778},{"$f":"YEAR(ChillTempAct[[#This Row],[Date]])","v":2020},{"$f":"MONTH(ChillTempAct[[#This Row],[Date]])","v":11},{"$f":"IF(ChillTempAct[[#This Row],[Month]]=J118,K118+1,1)","v":26}]
[44155,72,46,{"$f":"AVERAGE(ChillTempAct[[#This Row],[ChillHigh]:[ChillLow]])","v":59},{"$f":"IF(ChillTempAct[[#This Row],[ChillAve]]<65,65-ChillTempAct[[#This Row],[ChillAve]],0)","v":6},{"$f":"INDEX(TempAdj[AdjustPct],MATCH(MONTH(ChillTempAct[[#This Row],[Date]]),TempAdj[Month],0))","v":4.2599999999999999E-2},{"$f":"ChillTempAct[[#This Row],[ChillHDD]]*(1+ChillTempAct[[#This Row],[ChillAdj]])","v":6.2555999999999994},{"$f":"SUMPRODUCT((RankNHDD[Month]=ChillTempAct[[#This Row],[Month]])*(RankNHDD[Rank]=ChillTempAct[[#This Row],[Rank]])*RankNHDD[KIRKNHDD])","v":10.467222222222222},{"$f":"YEAR(ChillTempAct[[#This Row],[Date]])","v":2020},{"$f":"MONTH(ChillTempAct[[#This Row],[Date]])","v":11},{"$f":"IF(ChillTempAct[[#This Row],[Month]]=J119,K119+1,1)","v":27}]
[44145,77,43,{"$f":"AVERAGE(ChillTempAct[[#This Row],[ChillHigh]:[ChillLow]])","v":60},{"$f":"IF(ChillTempAct[[#This Row],[ChillAve]]<65,65-ChillTempAct[[#This Row],[ChillAve]],0)","v":5},{"$f":"INDEX(TempAdj[AdjustPct],MATCH(MONTH(ChillTempAct[[#This Row],[Date]]),TempAdj[Month],0))","v":4.2599999999999999E-2},{"$f":"ChillTempAct[[#This Row],[ChillHDD]]*(1+ChillTempAct[[#This Row],[ChillAdj]])","v":5.2130000000000001},{"$f":"SUMPRODUCT((RankNHDD[Month]=ChillTempAct[[#This Row],[Month]])*(RankNHDD[Rank]=ChillTempAct[[#This Row],[Rank]])*RankNHDD[KIRKNHDD])","v":7.9072222222222202},{"$f":"YEAR(ChillTempAct[[#This Row],[Date]])","v":2020},{"$f":"MONTH(ChillTempAct[[#This Row],[Date]])","v":11},{"$f":"IF(ChillTempAct[[#This Row],[Month]]=J120,K120+1,1)","v":28}]
[44143,72,49,{"$f":"AVERAGE(ChillTempAct[[#This Row],[ChillHigh]:[ChillLow]])","v":60.5},{"$f":"IF(ChillTempAct[[#This Row],[ChillAve]]<65,65-ChillTempAct[[#This Row],[ChillAve]],0)","v":4.5},{"$f":"INDEX(TempAdj[AdjustPct],MATCH(MONTH(ChillTempAct[[#This Row],[Date]]),TempAdj[Month],0))","v":4.2599999999999999E-2},{"$f":"ChillTempAct[[#This Row],[ChillHDD]]*(1+ChillTempAct[[#This Row],[ChillAdj]])","v":4.6917},{"$f":"SUMPRODUCT((RankNHDD[Month]=ChillTempAct[[#This Row],[Month]])*(RankNHDD[Rank]=ChillTempAct[[#This Row],[Rank]])*RankNHDD[KIRKNHDD])","v":5.3861111111111137},{"$f":"YEAR(ChillTempAct[[#This Row],[Date]])","v":2020},{"$f":"MONTH(ChillTempAct[[#This Row],[Date]])","v":11},{"$f":"IF(ChillTempAct[[#This Row],[Month]]=J121,K121+1,1)","v":29}]
[44144,76,60,{"$f":"AVERAGE(ChillTempAct[[#This Row],[ChillHigh]:[ChillLow]])","v":68},{"$f":"IF(ChillTempAct[[#This Row],[ChillAve]]<65,65-ChillTempAct[[#This Row],[ChillAve]],0)","v":0},{"$f":"INDEX(TempAdj[AdjustPct],MATCH(MONTH(ChillTempAct[[#This Row],[Date]]),TempAdj[Month],0))","v":4.2599999999999999E-2},{"$f":"ChillTempAct[[#This Row],[ChillHDD]]*(1+ChillTempAct[[#This Row],[ChillAdj]])","v":0},{"$f":"SUMPRODUCT((RankNHDD[Month]=ChillTempAct[[#This Row],[Month]])*(RankNHDD[Rank]=ChillTempAct[[#This Row],[Rank]])*RankNHDD[KIRKNHDD])","v":1.7907407407407412},{"$f":"YEAR(ChillTempAct[[#This Row],[Date]])","v":2020},{"$f":"MONTH(ChillTempAct[[#This Row],[Date]])","v":11},{"$f":"IF(ChillTempAct[[#This Row],[Month]]=J122,K122+1,1)","v":30}]
[44190,22,4,{"$f":"AVERAGE(ChillTempAct[[#This Row],[ChillHigh]:[ChillLow]])","v":13},{"$f":"IF(ChillTempAct[[#This Row],[ChillAve]]<65,65-ChillTempAct[[#This Row],[ChillAve]],0)","v":52},{"$f":"INDEX(TempAdj[AdjustPct],MATCH(MONTH(ChillTempAct[[#This Row],[Date]]),TempAdj[Month],0))","v":2.8799999999999999E-2},{"$f":"ChillTempAct[[#This Row],[ChillHDD]]*(1+ChillTempAct[[#This Row],[ChillAdj]])","v":53.497599999999998},{"$f":"SUMPRODUCT((RankNHDD[Month]=ChillTempAct[[#This Row],[Month]])*(RankNHDD[Rank]=ChillTempAct[[#This Row],[Rank]])*RankNHDD[KIRKNHDD])","v":64.141129032258078},{"$f":"YEAR(ChillTempAct[[#This Row],[Date]])","v":2020},{"$f":"MONTH(ChillTempAct[[#This Row],[Date]])","v":12},{"$f":"IF(ChillTempAct[[#This Row],[Month]]=J123,K123+1,1)","v":1}]
[44191,32,5,{"$f":"AVERAGE(ChillTempAct[[#This Row],[ChillHigh]:[ChillLow]])","v":18.5},{"$f":"IF(ChillTempAct[[#This Row],[ChillAve]]<65,65-ChillTempAct[[#This Row],[ChillAve]],0)","v":46.5},{"$f":"INDEX(TempAdj[AdjustPct],MATCH(MONTH(ChillTempAct[[#This Row],[Date]]),TempAdj[Month],0))","v":2.8799999999999999E-2},{"$f":"ChillTempAct[[#This Row],[ChillHDD]]*(1+ChillTempAct[[#This Row],[ChillAdj]])","v":47.839199999999998},{"$f":"SUMPRODUCT((RankNHDD[Month]=ChillTempAct[[#This Row],[Month]])*(RankNHDD[Rank]=ChillTempAct[[#This Row],[Rank]])*RankNHDD[KIRKNHDD])","v":56.413440860215061},{"$f":"YEAR(ChillTempAct[[#This Row],[Date]])","v":2020},{"$f":"MONTH(ChillTempAct[[#This Row],[Date]])","v":12},{"$f":"IF(ChillTempAct[[#This Row],[Month]]=J124,K124+1,1)","v":2}]
[44196,32,13,{"$f":"AVERAGE(ChillTempAct[[#This Row],[ChillHigh]:[ChillLow]])","v":22.5},{"$f":"IF(ChillTempAct[[#This Row],[ChillAve]]<65,65-ChillTempAct[[#This Row],[ChillAve]],0)","v":42.5},{"$f":"INDEX(TempAdj[AdjustPct],MATCH(MONTH(ChillTempAct[[#This Row],[Date]]),TempAdj[Month],0))","v":2.8799999999999999E-2},{"$f":"ChillTempAct[[#This Row],[ChillHDD]]*(1+ChillTempAct[[#This Row],[ChillAdj]])","v":43.723999999999997},{"$f":"SUMPRODUCT((RankNHDD[Month]=ChillTempAct[[#This Row],[Month]])*(RankNHDD[Rank]=ChillTempAct[[#This Row],[Rank]])*RankNHDD[KIRKNHDD])","v":53.055698924731203},{"$f":"YEAR(ChillTempAct[[#This Row],[Date]])","v":2020},{"$f":"MONTH(ChillTempAct[[#This Row],[Date]])","v":12},{"$f":"IF(ChillTempAct[[#This Row],[Month]]=J125,K125+1,1)","v":3}]
[44181,27,19,{"$f":"AVERAGE(ChillTempAct[[#This Row],[ChillHigh]:[ChillLow]])","v":23},{"$f":"IF(ChillTempAct[[#This Row],[ChillAve]]<65,65-ChillTempAct[[#This Row],[ChillAve]],0)","v":42},{"$f":"INDEX(TempAdj[AdjustPct],MATCH(MONTH(ChillTempAct[[#This Row],[Date]]),TempAdj[Month],0))","v":2.8799999999999999E-2},{"$f":"ChillTempAct[[#This Row],[ChillHDD]]*(1+ChillTempAct[[#This Row],[ChillAdj]])","v":43.209599999999995},{"$f":"SUMPRODUCT((RankNHDD[Month]=ChillTempAct[[#This Row],[Month]])*(RankNHDD[Rank]=ChillTempAct[[#This Row],[Rank]])*RankNHDD[KIRKNHDD])","v":50.106075268817207},{"$f":"YEAR(ChillTempAct[[#This Row],[Date]])","v":2020},{"$f":"MONTH(ChillTempAct[[#This Row],[Date]])","v":12},{"$f":"IF(ChillTempAct[[#This Row],[Month]]=J126,K126+1,1)","v":4}]
[44179,31,18,{"$f":"AVERAGE(ChillTempAct[[#This Row],[ChillHigh]:[ChillLow]])","v":24.5},{"$f":"IF(ChillTempAct[[#This Row],[ChillAve]]<65,65-ChillTempAct[[#This Row],[ChillAve]],0)","v":40.5},{"$f":"INDEX(TempAdj[AdjustPct],MATCH(MONTH(ChillTempAct[[#This Row],[Date]]),TempAdj[Month],0))","v":2.8799999999999999E-2},{"$f":"ChillTempAct[[#This Row],[ChillHDD]]*(1+ChillTempAct[[#This Row],[ChillAdj]])","v":41.666399999999996},{"$f":"SUMPRODUCT((RankNHDD[Month]=ChillTempAct[[#This Row],[Month]])*(RankNHDD[Rank]=ChillTempAct[[#This Row],[Rank]])*RankNHDD[KIRKNHDD])","v":47.620430107526893},{"$f":"YEAR(ChillTempAct[[#This Row],[Date]])","v":2020},{"$f":"MONTH(ChillTempAct[[#This Row],[Date]])","v":12},{"$f":"IF(ChillTempAct[[#This Row],[Month]]=J127,K127+1,1)","v":5}]
[44180,31,18,{"$f":"AVERAGE(ChillTempAct[[#This Row],[ChillHigh]:[ChillLow]])","v":24.5},{"$f":"IF(ChillTempAct[[#This Row],[ChillAve]]<65,65-ChillTempAct[[#This Row],[ChillAve]],0)","v":40.5},{"$f":"INDEX(TempAdj[AdjustPct],MATCH(MONTH(ChillTempAct[[#This Row],[Date]]),TempAdj[Month],0))","v":2.8799999999999999E-2},{"$f":"ChillTempAct[[#This Row],[ChillHDD]]*(1+ChillTempAct[[#This Row],[ChillAdj]])","v":41.666399999999996},{"$f":"SUMPRODUCT((RankNHDD[Month]=ChillTempAct[[#This Row],[Month]])*(RankNHDD[Rank]=ChillTempAct[[#This Row],[Rank]])*RankNHDD[KIRKNHDD])","v":45.680143369175624},{"$f":"YEAR(ChillTempAct[[#This Row],[Date]])","v":2020},{"$f":"MONTH(ChillTempAct[[#This Row],[Date]])","v":12},{"$f":"IF(ChillTempAct[[#This Row],[Month]]=J128,K128+1,1)","v":6}]
[44182,31,18,{"$f":"AVERAGE(ChillTempAct[[#This Row],[ChillHigh]:[ChillLow]])","v":24.5},{"$f":"IF(ChillTempAct[[#This Row],[ChillAve]]<65,65-ChillTempAct[[#This Row],[ChillAve]],0)","v":40.5},{"$f":"INDEX(TempAdj[AdjustPct],MATCH(MONTH(ChillTempAct[[#This Row],[Date]]),TempAdj[Month],0))","v":2.8799999999999999E-2},{"$f":"ChillTempAct[[#This Row],[ChillHDD]]*(1+ChillTempAct[[#This Row],[ChillAdj]])","v":41.666399999999996},{"$f":"SUMPRODUCT((RankNHDD[Month]=ChillTempAct[[#This Row],[Month]])*(RankNHDD[Rank]=ChillTempAct[[#This Row],[Rank]])*RankNHDD[KIRKNHDD])","v":43.916648745519709},{"$f":"YEAR(ChillTempAct[[#This Row],[Date]])","v":2020},{"$f":"MONTH(ChillTempAct[[#This Row],[Date]])","v":12},{"$f":"IF(ChillTempAct[[#This Row],[Month]]=J129,K129+1,1)","v":7}]
[44166,37,15,{"$f":"AVERAGE(ChillTempAct[[#This Row],[ChillHigh]:[ChillLow]])","v":26},{"$f":"IF(ChillTempAct[[#This Row],[ChillAve]]<65,65-ChillTempAct[[#This Row],[ChillAve]],0)","v":39},{"$f":"INDEX(TempAdj[AdjustPct],MATCH(MONTH(ChillTempAct[[#This Row],[Date]]),TempAdj[Month],0))","v":2.8799999999999999E-2},{"$f":"ChillTempAct[[#This Row],[ChillHDD]]*(1+ChillTempAct[[#This Row],[ChillAdj]])","v":40.123199999999997},{"$f":"SUMPRODUCT((RankNHDD[Month]=ChillTempAct[[#This Row],[Month]])*(RankNHDD[Rank]=ChillTempAct[[#This Row],[Rank]])*RankNHDD[KIRKNHDD])","v":42.349301075268826},{"$f":"YEAR(ChillTempAct[[#This Row],[Date]])","v":2020},{"$f":"MONTH(ChillTempAct[[#This Row],[Date]])","v":12},{"$f":"IF(ChillTempAct[[#This Row],[Month]]=J130,K130+1,1)","v":8}]
[44195,32,24,{"$f":"AVERAGE(ChillTempAct[[#This Row],[ChillHigh]:[ChillLow]])","v":28},{"$f":"IF(ChillTempAct[[#This Row],[ChillAve]]<65,65-ChillTempAct[[#This Row],[ChillAve]],0)","v":37},{"$f":"INDEX(TempAdj[AdjustPct],MATCH(MONTH(ChillTempAct[[#This Row],[Date]]),TempAdj[Month],0))","v":2.8799999999999999E-2},{"$f":"ChillTempAct[[#This Row],[ChillHDD]]*(1+ChillTempAct[[#This Row],[ChillAdj]])","v":38.065599999999996},{"$f":"SUMPRODUCT((RankNHDD[Month]=ChillTempAct[[#This Row],[Month]])*(RankNHDD[Rank]=ChillTempAct[[#This Row],[Rank]])*RankNHDD[KIRKNHDD])","v":41.072741935483876},{"$f":"YEAR(ChillTempAct[[#This Row],[Date]])","v":2020},{"$f":"MONTH(ChillTempAct[[#This Row],[Date]])","v":12},{"$f":"IF(ChillTempAct[[#This Row],[Month]]=J131,K131+1,1)","v":9}]
[44167,44,15,{"$f":"AVERAGE(ChillTempAct[[#This Row],[ChillHigh]:[ChillLow]])","v":29.5},{"$f":"IF(ChillTempAct[[#This Row],[ChillAve]]<65,65-ChillTempAct[[#This Row],[ChillAve]],0)","v":35.5},{"$f":"INDEX(TempAdj[AdjustPct],MATCH(MONTH(ChillTempAct[[#This Row],[Date]]),TempAdj[Month],0))","v":2.8799999999999999E-2},{"$f":"ChillTempAct[[#This Row],[ChillHDD]]*(1+ChillTempAct[[#This Row],[ChillAdj]])","v":36.522399999999998},{"$f":"SUMPRODUCT((RankNHDD[Month]=ChillTempAct[[#This Row],[Month]])*(RankNHDD[Rank]=ChillTempAct[[#This Row],[Rank]])*RankNHDD[KIRKNHDD])","v":40.174856630824387},{"$f":"YEAR(ChillTempAct[[#This Row],[Date]])","v":2020},{"$f":"MONTH(ChillTempAct[[#This Row],[Date]])","v":12},{"$f":"IF(ChillTempAct[[#This Row],[Month]]=J132,K132+1,1)","v":10}]
[44185,39,20,{"$f":"AVERAGE(ChillTempAct[[#This Row],[ChillHigh]:[ChillLow]])","v":29.5},{"$f":"IF(ChillTempAct[[#This Row],[ChillAve]]<65,65-ChillTempAct[[#This Row],[ChillAve]],0)","v":35.5},{"$f":"INDEX(TempAdj[AdjustPct],MATCH(MONTH(ChillTempAct[[#This Row],[Date]]),TempAdj[Month],0))","v":2.8799999999999999E-2},{"$f":"ChillTempAct[[#This Row],[ChillHDD]]*(1+ChillTempAct[[#This Row],[ChillAdj]])","v":36.522399999999998},{"$f":"SUMPRODUCT((RankNHDD[Month]=ChillTempAct[[#This Row],[Month]])*(RankNHDD[Rank]=ChillTempAct[[#This Row],[Rank]])*RankNHDD[KIRKNHDD])","v":39.343028673835128},{"$f":"YEAR(ChillTempAct[[#This Row],[Date]])","v":2020},{"$f":"MONTH(ChillTempAct[[#This Row],[Date]])","v":12},{"$f":"IF(ChillTempAct[[#This Row],[Month]]=J133,K133+1,1)","v":11}]
[44194,35,24,{"$f":"AVERAGE(ChillTempAct[[#This Row],[ChillHigh]:[ChillLow]])","v":29.5},{"$f":"IF(ChillTempAct[[#This Row],[ChillAve]]<65,65-ChillTempAct[[#This Row],[ChillAve]],0)","v":35.5},{"$f":"INDEX(TempAdj[AdjustPct],MATCH(MONTH(ChillTempAct[[#This Row],[Date]]),TempAdj[Month],0))","v":2.8799999999999999E-2},{"$f":"ChillTempAct[[#This Row],[ChillHDD]]*(1+ChillTempAct[[#This Row],[ChillAdj]])","v":36.522399999999998},{"$f":"SUMPRODUCT((RankNHDD[Month]=ChillTempAct[[#This Row],[Month]])*(RankNHDD[Rank]=ChillTempAct[[#This Row],[Rank]])*RankNHDD[KIRKNHDD])","v":38.280358422939067},{"$f":"YEAR(ChillTempAct[[#This Row],[Date]])","v":2020},{"$f":"MONTH(ChillTempAct[[#This Row],[Date]])","v":12},{"$f":"IF(ChillTempAct[[#This Row],[Month]]=J134,K134+1,1)","v":12}]
[44173,34,28,{"$f":"AVERAGE(ChillTempAct[[#This Row],[ChillHigh]:[ChillLow]])","v":31},{"$f":"IF(ChillTempAct[[#This Row],[ChillAve]]<65,65-ChillTempAct[[#This Row],[ChillAve]],0)","v":34},{"$f":"INDEX(TempAdj[AdjustPct],MATCH(MONTH(ChillTempAct[[#This Row],[Date]]),TempAdj[Month],0))","v":2.8799999999999999E-2},{"$f":"ChillTempAct[[#This Row],[ChillHDD]]*(1+ChillTempAct[[#This Row],[ChillAdj]])","v":34.979199999999999},{"$f":"SUMPRODUCT((RankNHDD[Month]=ChillTempAct[[#This Row],[Month]])*(RankNHDD[Rank]=ChillTempAct[[#This Row],[Rank]])*RankNHDD[KIRKNHDD])","v":37.370770609319003},{"$f":"YEAR(ChillTempAct[[#This Row],[Date]])","v":2020},{"$f":"MONTH(ChillTempAct[[#This Row],[Date]])","v":12},{"$f":"IF(ChillTempAct[[#This Row],[Month]]=J135,K135+1,1)","v":13}]
[44178,34,28,{"$f":"AVERAGE(ChillTempAct[[#This Row],[ChillHigh]:[ChillLow]])","v":31},{"$f":"IF(ChillTempAct[[#This Row],[ChillAve]]<65,65-ChillTempAct[[#This Row],[ChillAve]],0)","v":34},{"$f":"INDEX(TempAdj[AdjustPct],MATCH(MONTH(ChillTempAct[[#This Row],[Date]]),TempAdj[Month],0))","v":2.8799999999999999E-2},{"$f":"ChillTempAct[[#This Row],[ChillHDD]]*(1+ChillTempAct[[#This Row],[ChillAdj]])","v":34.979199999999999},{"$f":"SUMPRODUCT((RankNHDD[Month]=ChillTempAct[[#This Row],[Month]])*(RankNHDD[Rank]=ChillTempAct[[#This Row],[Rank]])*RankNHDD[KIRKNHDD])","v":36.52629032258065},{"$f":"YEAR(ChillTempAct[[#This Row],[Date]])","v":2020},{"$f":"MONTH(ChillTempAct[[#This Row],[Date]])","v":12},{"$f":"IF(ChillTempAct[[#This Row],[Month]]=J136,K136+1,1)","v":14}]
[44192,46,16,{"$f":"AVERAGE(ChillTempAct[[#This Row],[ChillHigh]:[ChillLow]])","v":31},{"$f":"IF(ChillTempAct[[#This Row],[ChillAve]]<65,65-ChillTempAct[[#This Row],[ChillAve]],0)","v":34},{"$f":"INDEX(TempAdj[AdjustPct],MATCH(MONTH(ChillTempAct[[#This Row],[Date]]),TempAdj[Month],0))","v":2.8799999999999999E-2},{"$f":"ChillTempAct[[#This Row],[ChillHDD]]*(1+ChillTempAct[[#This Row],[ChillAdj]])","v":34.979199999999999},{"$f":"SUMPRODUCT((RankNHDD[Month]=ChillTempAct[[#This Row],[Month]])*(RankNHDD[Rank]=ChillTempAct[[#This Row],[Rank]])*RankNHDD[KIRKNHDD])","v":35.81541218637993},{"$f":"YEAR(ChillTempAct[[#This Row],[Date]])","v":2020},{"$f":"MONTH(ChillTempAct[[#This Row],[Date]])","v":12},{"$f":"IF(ChillTempAct[[#This Row],[Month]]=J137,K137+1,1)","v":15}]
[44169,42,24,{"$f":"AVERAGE(ChillTempAct[[#This Row],[ChillHigh]:[ChillLow]])","v":33},{"$f":"IF(ChillTempAct[[#This Row],[ChillAve]]<65,65-ChillTempAct[[#This Row],[ChillAve]],0)","v":32},{"$f":"INDEX(TempAdj[AdjustPct],MATCH(MONTH(ChillTempAct[[#This Row],[Date]]),TempAdj[Month],0))","v":2.8799999999999999E-2},{"$f":"ChillTempAct[[#This Row],[ChillHDD]]*(1+ChillTempAct[[#This Row],[ChillAdj]])","v":32.921599999999998},{"$f":"SUMPRODUCT((RankNHDD[Month]=ChillTempAct[[#This Row],[Month]])*(RankNHDD[Rank]=ChillTempAct[[#This Row],[Rank]])*RankNHDD[KIRKNHDD])","v":34.727007168458776},{"$f":"YEAR(ChillTempAct[[#This Row],[Date]])","v":2020},{"$f":"MONTH(ChillTempAct[[#This Row],[Date]])","v":12},{"$f":"IF(ChillTempAct[[#This Row],[Month]]=J138,K138+1,1)","v":16}]
[44189,57,9,{"$f":"AVERAGE(ChillTempAct[[#This Row],[ChillHigh]:[ChillLow]])","v":33},{"$f":"IF(ChillTempAct[[#This Row],[ChillAve]]<65,65-ChillTempAct[[#This Row],[ChillAve]],0)","v":32},{"$f":"INDEX(TempAdj[AdjustPct],MATCH(MONTH(ChillTempAct[[#This Row],[Date]]),TempAdj[Month],0))","v":2.8799999999999999E-2},{"$f":"ChillTempAct[[#This Row],[ChillHDD]]*(1+ChillTempAct[[#This Row],[ChillAdj]])","v":32.921599999999998},{"$f":"SUMPRODUCT((RankNHDD[Month]=ChillTempAct[[#This Row],[Month]])*(RankNHDD[Rank]=ChillTempAct[[#This Row],[Rank]])*RankNHDD[KIRKNHDD])","v":33.681792114695341},{"$f":"YEAR(ChillTempAct[[#This Row],[Date]])","v":2020},{"$f":"MONTH(ChillTempAct[[#This Row],[Date]])","v":12},{"$f":"IF(ChillTempAct[[#This Row],[Month]]=J139,K139+1,1)","v":17}]
[44174,39,28,{"$f":"AVERAGE(ChillTempAct[[#This Row],[ChillHigh]:[ChillLow]])","v":33.5},{"$f":"IF(ChillTempAct[[#This Row],[ChillAve]]<65,65-ChillTempAct[[#This Row],[ChillAve]],0)","v":31.5},{"$f":"INDEX(TempAdj[AdjustPct],MATCH(MONTH(ChillTempAct[[#This Row],[Date]]),TempAdj[Month],0))","v":2.8799999999999999E-2},{"$f":"ChillTempAct[[#This Row],[ChillHDD]]*(1+ChillTempAct[[#This Row],[ChillAdj]])","v":32.407199999999996},{"$f":"SUMPRODUCT((RankNHDD[Month]=ChillTempAct[[#This Row],[Month]])*(RankNHDD[Rank]=ChillTempAct[[#This Row],[Rank]])*RankNHDD[KIRKNHDD])","v":32.824336917562725},{"$f":"YEAR(ChillTempAct[[#This Row],[Date]])","v":2020},{"$f":"MONTH(ChillTempAct[[#This Row],[Date]])","v":12},{"$f":"IF(ChillTempAct[[#This Row],[Month]]=J140,K140+1,1)","v":18}]
[44183,43,26,{"$f":"AVERAGE(ChillTempAct[[#This Row],[ChillHigh]:[ChillLow]])","v":34.5},{"$f":"IF(ChillTempAct[[#This Row],[ChillAve]]<65,65-ChillTempAct[[#This Row],[ChillAve]],0)","v":30.5},{"$f":"INDEX(TempAdj[AdjustPct],MATCH(MONTH(ChillTempAct[[#This Row],[Date]]),TempAdj[Month],0))","v":2.8799999999999999E-2},{"$f":"ChillTempAct[[#This Row],[ChillHDD]]*(1+ChillTempAct[[#This Row],[ChillAdj]])","v":31.378399999999999},{"$f":"SUMPRODUCT((RankNHDD[Month]=ChillTempAct[[#This Row],[Month]])*(RankNHDD[Rank]=ChillTempAct[[#This Row],[Rank]])*RankNHDD[KIRKNHDD])","v":31.934193548387089},{"$f":"YEAR(ChillTempAct[[#This Row],[Date]])","v":2020},{"$f":"MONTH(ChillTempAct[[#This Row],[Date]])","v":12},{"$f":"IF(ChillTempAct[[#This Row],[Month]]=J141,K141+1,1)","v":19}]
[44193,53,16,{"$f":"AVERAGE(ChillTempAct[[#This Row],[ChillHigh]:[ChillLow]])","v":34.5},{"$f":"IF(ChillTempAct[[#This Row],[ChillAve]]<65,65-ChillTempAct[[#This Row],[ChillAve]],0)","v":30.5},{"$f":"INDEX(TempAdj[AdjustPct],MATCH(MONTH(ChillTempAct[[#This Row],[Date]]),TempAdj[Month],0))","v":2.8799999999999999E-2},{"$f":"ChillTempAct[[#This Row],[ChillHDD]]*(1+ChillTempAct[[#This Row],[ChillAdj]])","v":31.378399999999999},{"$f":"SUMPRODUCT((RankNHDD[Month]=ChillTempAct[[#This Row],[Month]])*(RankNHDD[Rank]=ChillTempAct[[#This Row],[Rank]])*RankNHDD[KIRKNHDD])","v":30.966792114695341},{"$f":"YEAR(ChillTempAct[[#This Row],[Date]])","v":2020},{"$f":"MONTH(ChillTempAct[[#This Row],[Date]])","v":12},{"$f":"IF(ChillTempAct[[#This Row],[Month]]=J142,K142+1,1)","v":20}]
[44186,48,23,{"$f":"AVERAGE(ChillTempAct[[#This Row],[ChillHigh]:[ChillLow]])","v":35.5},{"$f":"IF(ChillTempAct[[#This Row],[ChillAve]]<65,65-ChillTempAct[[#This Row],[ChillAve]],0)","v":29.5},{"$f":"INDEX(TempAdj[AdjustPct],MATCH(MONTH(ChillTempAct[[#This Row],[Date]]),TempAdj[Month],0))","v":2.8799999999999999E-2},{"$f":"ChillTempAct[[#This Row],[ChillHDD]]*(1+ChillTempAct[[#This Row],[ChillAdj]])","v":30.349599999999999},{"$f":"SUMPRODUCT((RankNHDD[Month]=ChillTempAct[[#This Row],[Month]])*(RankNHDD[Rank]=ChillTempAct[[#This Row],[Rank]])*RankNHDD[KIRKNHDD])","v":30.176039426523289},{"$f":"YEAR(ChillTempAct[[#This Row],[Date]])","v":2020},{"$f":"MONTH(ChillTempAct[[#This Row],[Date]])","v":12},{"$f":"IF(ChillTempAct[[#This Row],[Month]]=J143,K143+1,1)","v":21}]
[44172,46,26,{"$f":"AVERAGE(ChillTempAct[[#This Row],[ChillHigh]:[ChillLow]])","v":36},{"$f":"IF(ChillTempAct[[#This Row],[ChillAve]]<65,65-ChillTempAct[[#This Row],[ChillAve]],0)","v":29},{"$f":"INDEX(TempAdj[AdjustPct],MATCH(MONTH(ChillTempAct[[#This Row],[Date]]),TempAdj[Month],0))","v":2.8799999999999999E-2},{"$f":"ChillTempAct[[#This Row],[ChillHDD]]*(1+ChillTempAct[[#This Row],[ChillAdj]])","v":29.835199999999997},{"$f":"SUMPRODUCT((RankNHDD[Month]=ChillTempAct[[#This Row],[Month]])*(RankNHDD[Rank]=ChillTempAct[[#This Row],[Rank]])*RankNHDD[KIRKNHDD])","v":29.45564516129032},{"$f":"YEAR(ChillTempAct[[#This Row],[Date]])","v":2020},{"$f":"MONTH(ChillTempAct[[#This Row],[Date]])","v":12},{"$f":"IF(ChillTempAct[[#This Row],[Month]]=J144,K144+1,1)","v":22}]
[44168,49,24,{"$f":"AVERAGE(ChillTempAct[[#This Row],[ChillHigh]:[ChillLow]])","v":36.5},{"$f":"IF(ChillTempAct[[#This Row],[ChillAve]]<65,65-ChillTempAct[[#This Row],[ChillAve]],0)","v":28.5},{"$f":"INDEX(TempAdj[AdjustPct],MATCH(MONTH(ChillTempAct[[#This Row],[Date]]),TempAdj[Month],0))","v":2.8799999999999999E-2},{"$f":"ChillTempAct[[#This Row],[ChillHDD]]*(1+ChillTempAct[[#This Row],[ChillAdj]])","v":29.320799999999998},{"$f":"SUMPRODUCT((RankNHDD[Month]=ChillTempAct[[#This Row],[Month]])*(RankNHDD[Rank]=ChillTempAct[[#This Row],[Rank]])*RankNHDD[KIRKNHDD])","v":28.63349462365591},{"$f":"YEAR(ChillTempAct[[#This Row],[Date]])","v":2020},{"$f":"MONTH(ChillTempAct[[#This Row],[Date]])","v":12},{"$f":"IF(ChillTempAct[[#This Row],[Month]]=J145,K145+1,1)","v":23}]
[44177,41,33,{"$f":"AVERAGE(ChillTempAct[[#This Row],[ChillHigh]:[ChillLow]])","v":37},{"$f":"IF(ChillTempAct[[#This Row],[ChillAve]]<65,65-ChillTempAct[[#This Row],[ChillAve]],0)","v":28},{"$f":"INDEX(TempAdj[AdjustPct],MATCH(MONTH(ChillTempAct[[#This Row],[Date]]),TempAdj[Month],0))","v":2.8799999999999999E-2},{"$f":"ChillTempAct[[#This Row],[ChillHDD]]*(1+ChillTempAct[[#This Row],[ChillAdj]])","v":28.806399999999996},{"$f":"SUMPRODUCT((RankNHDD[Month]=ChillTempAct[[#This Row],[Month]])*(RankNHDD[Rank]=ChillTempAct[[#This Row],[Rank]])*RankNHDD[KIRKNHDD])","v":27.616182795698922},{"$f":"YEAR(ChillTempAct[[#This Row],[Date]])","v":2020},{"$f":"MONTH(ChillTempAct[[#This Row],[Date]])","v":12},{"$f":"IF(ChillTempAct[[#This Row],[Month]]=J146,K146+1,1)","v":24}]
[44170,52,23,{"$f":"AVERAGE(ChillTempAct[[#This Row],[ChillHigh]:[ChillLow]])","v":37.5},{"$f":"IF(ChillTempAct[[#This Row],[ChillAve]]<65,65-ChillTempAct[[#This Row],[ChillAve]],0)","v":27.5},{"$f":"INDEX(TempAdj[AdjustPct],MATCH(MONTH(ChillTempAct[[#This Row],[Date]]),TempAdj[Month],0))","v":2.8799999999999999E-2},{"$f":"ChillTempAct[[#This Row],[ChillHDD]]*(1+ChillTempAct[[#This Row],[ChillAdj]])","v":28.291999999999998},{"$f":"SUMPRODUCT((RankNHDD[Month]=ChillTempAct[[#This Row],[Month]])*(RankNHDD[Rank]=ChillTempAct[[#This Row],[Rank]])*RankNHDD[KIRKNHDD])","v":26.567401433691753},{"$f":"YEAR(ChillTempAct[[#This Row],[Date]])","v":2020},{"$f":"MONTH(ChillTempAct[[#This Row],[Date]])","v":12},{"$f":"IF(ChillTempAct[[#This Row],[Month]]=J147,K147+1,1)","v":25}]
[44171,53,23,{"$f":"AVERAGE(ChillTempAct[[#This Row],[ChillHigh]:[ChillLow]])","v":38},{"$f":"IF(ChillTempAct[[#This Row],[ChillAve]]<65,65-ChillTempAct[[#This Row],[ChillAve]],0)","v":27},{"$f":"INDEX(TempAdj[AdjustPct],MATCH(MONTH(ChillTempAct[[#This Row],[Date]]),TempAdj[Month],0))","v":2.8799999999999999E-2},{"$f":"ChillTempAct[[#This Row],[ChillHDD]]*(1+ChillTempAct[[#This Row],[ChillAdj]])","v":27.7776},{"$f":"SUMPRODUCT((RankNHDD[Month]=ChillTempAct[[#This Row],[Month]])*(RankNHDD[Rank]=ChillTempAct[[#This Row],[Rank]])*RankNHDD[KIRKNHDD])","v":25.634014336917563},{"$f":"YEAR(ChillTempAct[[#This Row],[Date]])","v":2020},{"$f":"MONTH(ChillTempAct[[#This Row],[Date]])","v":12},{"$f":"IF(ChillTempAct[[#This Row],[Month]]=J148,K148+1,1)","v":26}]
[44187,57,24,{"$f":"AVERAGE(ChillTempAct[[#This Row],[ChillHigh]:[ChillLow]])","v":40.5},{"$f":"IF(ChillTempAct[[#This Row],[ChillAve]]<65,65-ChillTempAct[[#This Row],[ChillAve]],0)","v":24.5},{"$f":"INDEX(TempAdj[AdjustPct],MATCH(MONTH(ChillTempAct[[#This Row],[Date]]),TempAdj[Month],0))","v":2.8799999999999999E-2},{"$f":"ChillTempAct[[#This Row],[ChillHDD]]*(1+ChillTempAct[[#This Row],[ChillAdj]])","v":25.205599999999997},{"$f":"SUMPRODUCT((RankNHDD[Month]=ChillTempAct[[#This Row],[Month]])*(RankNHDD[Rank]=ChillTempAct[[#This Row],[Rank]])*RankNHDD[KIRKNHDD])","v":24.530483870967746},{"$f":"YEAR(ChillTempAct[[#This Row],[Date]])","v":2020},{"$f":"MONTH(ChillTempAct[[#This Row],[Date]])","v":12},{"$f":"IF(ChillTempAct[[#This Row],[Month]]=J149,K149+1,1)","v":27}]
[44184,52,30,{"$f":"AVERAGE(ChillTempAct[[#This Row],[ChillHigh]:[ChillLow]])","v":41},{"$f":"IF(ChillTempAct[[#This Row],[ChillAve]]<65,65-ChillTempAct[[#This Row],[ChillAve]],0)","v":24},{"$f":"INDEX(TempAdj[AdjustPct],MATCH(MONTH(ChillTempAct[[#This Row],[Date]]),TempAdj[Month],0))","v":2.8799999999999999E-2},{"$f":"ChillTempAct[[#This Row],[ChillHDD]]*(1+ChillTempAct[[#This Row],[ChillAdj]])","v":24.691199999999998},{"$f":"SUMPRODUCT((RankNHDD[Month]=ChillTempAct[[#This Row],[Month]])*(RankNHDD[Rank]=ChillTempAct[[#This Row],[Rank]])*RankNHDD[KIRKNHDD])","v":23.029551971326168},{"$f":"YEAR(ChillTempAct[[#This Row],[Date]])","v":2020},{"$f":"MONTH(ChillTempAct[[#This Row],[Date]])","v":12},{"$f":"IF(ChillTempAct[[#This Row],[Month]]=J150,K150+1,1)","v":28}]
[44188,59,25,{"$f":"AVERAGE(ChillTempAct[[#This Row],[ChillHigh]:[ChillLow]])","v":42},{"$f":"IF(ChillTempAct[[#This Row],[ChillAve]]<65,65-ChillTempAct[[#This Row],[ChillAve]],0)","v":23},{"$f":"INDEX(TempAdj[AdjustPct],MATCH(MONTH(ChillTempAct[[#This Row],[Date]]),TempAdj[Month],0))","v":2.8799999999999999E-2},{"$f":"ChillTempAct[[#This Row],[ChillHDD]]*(1+ChillTempAct[[#This Row],[ChillAdj]])","v":23.662399999999998},{"$f":"SUMPRODUCT((RankNHDD[Month]=ChillTempAct[[#This Row],[Month]])*(RankNHDD[Rank]=ChillTempAct[[#This Row],[Rank]])*RankNHDD[KIRKNHDD])","v":20.715035842293908},{"$f":"YEAR(ChillTempAct[[#This Row],[Date]])","v":2020},{"$f":"MONTH(ChillTempAct[[#This Row],[Date]])","v":12},{"$f":"IF(ChillTempAct[[#This Row],[Month]]=J151,K151+1,1)","v":29}]
[44175,64,28,{"$f":"AVERAGE(ChillTempAct[[#This Row],[ChillHigh]:[ChillLow]])","v":46},{"$f":"IF(ChillTempAct[[#This Row],[ChillAve]]<65,65-ChillTempAct[[#This Row],[ChillAve]],0)","v":19},{"$f":"INDEX(TempAdj[AdjustPct],MATCH(MONTH(ChillTempAct[[#This Row],[Date]]),TempAdj[Month],0))","v":2.8799999999999999E-2},{"$f":"ChillTempAct[[#This Row],[ChillHDD]]*(1+ChillTempAct[[#This Row],[ChillAdj]])","v":19.5472},{"$f":"SUMPRODUCT((RankNHDD[Month]=ChillTempAct[[#This Row],[Month]])*(RankNHDD[Rank]=ChillTempAct[[#This Row],[Rank]])*RankNHDD[KIRKNHDD])","v":18.225089605734766},{"$f":"YEAR(ChillTempAct[[#This Row],[Date]])","v":2020},{"$f":"MONTH(ChillTempAct[[#This Row],[Date]])","v":12},{"$f":"IF(ChillTempAct[[#This Row],[Month]]=J152,K152+1,1)","v":30}]
[44176,68,31,{"$f":"AVERAGE(ChillTempAct[[#This Row],[ChillHigh]:[ChillLow]])","v":49.5},{"$f":"IF(ChillTempAct[[#This Row],[ChillAve]]<65,65-ChillTempAct[[#This Row],[ChillAve]],0)","v":15.5},{"$f":"INDEX(TempAdj[AdjustPct],MATCH(MONTH(ChillTempAct[[#This Row],[Date]]),TempAdj[Month],0))","v":2.8799999999999999E-2},{"$f":"ChillTempAct[[#This Row],[ChillHDD]]*(1+ChillTempAct[[#This Row],[ChillAdj]])","v":15.946399999999999},{"$f":"SUMPRODUCT((RankNHDD[Month]=ChillTempAct[[#This Row],[Month]])*(RankNHDD[Rank]=ChillTempAct[[#This Row],[Rank]])*RankNHDD[KIRKNHDD])","v":12.179946236559145},{"$f":"YEAR(ChillTempAct[[#This Row],[Date]])","v":2020},{"$f":"MONTH(ChillTempAct[[#This Row],[Date]])","v":12},{"$f":"IF(ChillTempAct[[#This Row],[Month]]=J153,K153+1,1)","v":31}]
[44224,25,4,{"$f":"AVERAGE(ChillTempAct[[#This Row],[ChillHigh]:[ChillLow]])","v":14.5},{"$f":"IF(ChillTempAct[[#This Row],[ChillAve]]<65,65-ChillTempAct[[#This Row],[ChillAve]],0)","v":50.5},{"$f":"INDEX(TempAdj[AdjustPct],MATCH(MONTH(ChillTempAct[[#This Row],[Date]]),TempAdj[Month],0))","v":2.8899999999999999E-2},{"$f":"ChillTempAct[[#This Row],[ChillHDD]]*(1+ChillTempAct[[#This Row],[ChillAdj]])","v":51.959449999999997},{"$f":"SUMPRODUCT((RankNHDD[Month]=ChillTempAct[[#This Row],[Month]])*(RankNHDD[Rank]=ChillTempAct[[#This Row],[Rank]])*RankNHDD[KIRKNHDD])","v":65.822706093189979},{"$f":"YEAR(ChillTempAct[[#This Row],[Date]])","v":2021},{"$f":"MONTH(ChillTempAct[[#This Row],[Date]])","v":1},{"$f":"IF(ChillTempAct[[#This Row],[Month]]=J154,K154+1,1)","v":1}]
[44225,28,4,{"$f":"AVERAGE(ChillTempAct[[#This Row],[ChillHigh]:[ChillLow]])","v":16},{"$f":"IF(ChillTempAct[[#This Row],[ChillAve]]<65,65-ChillTempAct[[#This Row],[ChillAve]],0)","v":49},{"$f":"INDEX(TempAdj[AdjustPct],MATCH(MONTH(ChillTempAct[[#This Row],[Date]]),TempAdj[Month],0))","v":2.8899999999999999E-2},{"$f":"ChillTempAct[[#This Row],[ChillHDD]]*(1+ChillTempAct[[#This Row],[ChillAdj]])","v":50.416099999999993},{"$f":"SUMPRODUCT((RankNHDD[Month]=ChillTempAct[[#This Row],[Month]])*(RankNHDD[Rank]=ChillTempAct[[#This Row],[Rank]])*RankNHDD[KIRKNHDD])","v":60.72220430107528},{"$f":"YEAR(ChillTempAct[[#This Row],[Date]])","v":2021},{"$f":"MONTH(ChillTempAct[[#This Row],[Date]])","v":1},{"$f":"IF(ChillTempAct[[#This Row],[Month]]=J155,K155+1,1)","v":2}]
[44199,27,12,{"$f":"AVERAGE(ChillTempAct[[#This Row],[ChillHigh]:[ChillLow]])","v":19.5},{"$f":"IF(ChillTempAct[[#This Row],[ChillAve]]<65,65-ChillTempAct[[#This Row],[ChillAve]],0)","v":45.5},{"$f":"INDEX(TempAdj[AdjustPct],MATCH(MONTH(ChillTempAct[[#This Row],[Date]]),TempAdj[Month],0))","v":2.8899999999999999E-2},{"$f":"ChillTempAct[[#This Row],[ChillHDD]]*(1+ChillTempAct[[#This Row],[ChillAdj]])","v":46.814949999999996},{"$f":"SUMPRODUCT((RankNHDD[Month]=ChillTempAct[[#This Row],[Month]])*(RankNHDD[Rank]=ChillTempAct[[#This Row],[Rank]])*RankNHDD[KIRKNHDD])","v":57.487974910394264},{"$f":"YEAR(ChillTempAct[[#This Row],[Date]])","v":2021},{"$f":"MONTH(ChillTempAct[[#This Row],[Date]])","v":1},{"$f":"IF(ChillTempAct[[#This Row],[Month]]=J156,K156+1,1)","v":3}]
[44198,27,17,{"$f":"AVERAGE(ChillTempAct[[#This Row],[ChillHigh]:[ChillLow]])","v":22},{"$f":"IF(ChillTempAct[[#This Row],[ChillAve]]<65,65-ChillTempAct[[#This Row],[ChillAve]],0)","v":43},{"$f":"INDEX(TempAdj[AdjustPct],MATCH(MONTH(ChillTempAct[[#This Row],[Date]]),TempAdj[Month],0))","v":2.8899999999999999E-2},{"$f":"ChillTempAct[[#This Row],[ChillHDD]]*(1+ChillTempAct[[#This Row],[ChillAdj]])","v":44.242699999999999},{"$f":"SUMPRODUCT((RankNHDD[Month]=ChillTempAct[[#This Row],[Month]])*(RankNHDD[Rank]=ChillTempAct[[#This Row],[Rank]])*RankNHDD[KIRKNHDD])","v":55.163817204301068},{"$f":"YEAR(ChillTempAct[[#This Row],[Date]])","v":2021},{"$f":"MONTH(ChillTempAct[[#This Row],[Date]])","v":1},{"$f":"IF(ChillTempAct[[#This Row],[Month]]=J157,K157+1,1)","v":4}]
[44223,25,19,{"$f":"AVERAGE(ChillTempAct[[#This Row],[ChillHigh]:[ChillLow]])","v":22},{"$f":"IF(ChillTempAct[[#This Row],[ChillAve]]<65,65-ChillTempAct[[#This Row],[ChillAve]],0)","v":43},{"$f":"INDEX(TempAdj[AdjustPct],MATCH(MONTH(ChillTempAct[[#This Row],[Date]]),TempAdj[Month],0))","v":2.8899999999999999E-2},{"$f":"ChillTempAct[[#This Row],[ChillHDD]]*(1+ChillTempAct[[#This Row],[ChillAdj]])","v":44.242699999999999},{"$f":"SUMPRODUCT((RankNHDD[Month]=ChillTempAct[[#This Row],[Month]])*(RankNHDD[Rank]=ChillTempAct[[#This Row],[Rank]])*RankNHDD[KIRKNHDD])","v":53.204211469534037},{"$f":"YEAR(ChillTempAct[[#This Row],[Date]])","v":2021},{"$f":"MONTH(ChillTempAct[[#This Row],[Date]])","v":1},{"$f":"IF(ChillTempAct[[#This Row],[Month]]=J158,K158+1,1)","v":5}]
[44197,32,13,{"$f":"AVERAGE(ChillTempAct[[#This Row],[ChillHigh]:[ChillLow]])","v":22.5},{"$f":"IF(ChillTempAct[[#This Row],[ChillAve]]<65,65-ChillTempAct[[#This Row],[ChillAve]],0)","v":42.5},{"$f":"INDEX(TempAdj[AdjustPct],MATCH(MONTH(ChillTempAct[[#This Row],[Date]]),TempAdj[Month],0))","v":2.8899999999999999E-2},{"$f":"ChillTempAct[[#This Row],[ChillHDD]]*(1+ChillTempAct[[#This Row],[ChillAdj]])","v":43.728249999999996},{"$f":"SUMPRODUCT((RankNHDD[Month]=ChillTempAct[[#This Row],[Month]])*(RankNHDD[Rank]=ChillTempAct[[#This Row],[Rank]])*RankNHDD[KIRKNHDD])","v":51.393243727598566},{"$f":"YEAR(ChillTempAct[[#This Row],[Date]])","v":2021},{"$f":"MONTH(ChillTempAct[[#This Row],[Date]])","v":1},{"$f":"IF(ChillTempAct[[#This Row],[Month]]=J159,K159+1,1)","v":6}]
[44219,29,17,{"$f":"AVERAGE(ChillTempAct[[#This Row],[ChillHigh]:[ChillLow]])","v":23},{"$f":"IF(ChillTempAct[[#This Row],[ChillAve]]<65,65-ChillTempAct[[#This Row],[ChillAve]],0)","v":42},{"$f":"INDEX(TempAdj[AdjustPct],MATCH(MONTH(ChillTempAct[[#This Row],[Date]]),TempAdj[Month],0))","v":2.8899999999999999E-2},{"$f":"ChillTempAct[[#This Row],[ChillHDD]]*(1+ChillTempAct[[#This Row],[ChillAdj]])","v":43.213799999999999},{"$f":"SUMPRODUCT((RankNHDD[Month]=ChillTempAct[[#This Row],[Month]])*(RankNHDD[Rank]=ChillTempAct[[#This Row],[Rank]])*RankNHDD[KIRKNHDD])","v":49.684964157706091},{"$f":"YEAR(ChillTempAct[[#This Row],[Date]])","v":2021},{"$f":"MONTH(ChillTempAct[[#This Row],[Date]])","v":1},{"$f":"IF(ChillTempAct[[#This Row],[Month]]=J160,K160+1,1)","v":7}]
[44200,30,19,{"$f":"AVERAGE(ChillTempAct[[#This Row],[ChillHigh]:[ChillLow]])","v":24.5},{"$f":"IF(ChillTempAct[[#This Row],[ChillAve]]<65,65-ChillTempAct[[#This Row],[ChillAve]],0)","v":40.5},{"$f":"INDEX(TempAdj[AdjustPct],MATCH(MONTH(ChillTempAct[[#This Row],[Date]]),TempAdj[Month],0))","v":2.8899999999999999E-2},{"$f":"ChillTempAct[[#This Row],[ChillHDD]]*(1+ChillTempAct[[#This Row],[ChillAdj]])","v":41.670449999999995},{"$f":"SUMPRODUCT((RankNHDD[Month]=ChillTempAct[[#This Row],[Month]])*(RankNHDD[Rank]=ChillTempAct[[#This Row],[Rank]])*RankNHDD[KIRKNHDD])","v":48.045860215053757},{"$f":"YEAR(ChillTempAct[[#This Row],[Date]])","v":2021},{"$f":"MONTH(ChillTempAct[[#This Row],[Date]])","v":1},{"$f":"IF(ChillTempAct[[#This Row],[Month]]=J161,K161+1,1)","v":8}]
[44207,31,21,{"$f":"AVERAGE(ChillTempAct[[#This Row],[ChillHigh]:[ChillLow]])","v":26},{"$f":"IF(ChillTempAct[[#This Row],[ChillAve]]<65,65-ChillTempAct[[#This Row],[ChillAve]],0)","v":39},{"$f":"INDEX(TempAdj[AdjustPct],MATCH(MONTH(ChillTempAct[[#This Row],[Date]]),TempAdj[Month],0))","v":2.8899999999999999E-2},{"$f":"ChillTempAct[[#This Row],[ChillHDD]]*(1+ChillTempAct[[#This Row],[ChillAdj]])","v":40.127099999999999},{"$f":"SUMPRODUCT((RankNHDD[Month]=ChillTempAct[[#This Row],[Month]])*(RankNHDD[Rank]=ChillTempAct[[#This Row],[Rank]])*RankNHDD[KIRKNHDD])","v":46.415931899641571},{"$f":"YEAR(ChillTempAct[[#This Row],[Date]])","v":2021},{"$f":"MONTH(ChillTempAct[[#This Row],[Date]])","v":1},{"$f":"IF(ChillTempAct[[#This Row],[Month]]=J162,K162+1,1)","v":9}]
[44220,36,17,{"$f":"AVERAGE(ChillTempAct[[#This Row],[ChillHigh]:[ChillLow]])","v":26.5},{"$f":"IF(ChillTempAct[[#This Row],[ChillAve]]<65,65-ChillTempAct[[#This Row],[ChillAve]],0)","v":38.5},{"$f":"INDEX(TempAdj[AdjustPct],MATCH(MONTH(ChillTempAct[[#This Row],[Date]]),TempAdj[Month],0))","v":2.8899999999999999E-2},{"$f":"ChillTempAct[[#This Row],[ChillHDD]]*(1+ChillTempAct[[#This Row],[ChillAdj]])","v":39.612649999999995},{"$f":"SUMPRODUCT((RankNHDD[Month]=ChillTempAct[[#This Row],[Month]])*(RankNHDD[Rank]=ChillTempAct[[#This Row],[Rank]])*RankNHDD[KIRKNHDD])","v":45.240573476702501},{"$f":"YEAR(ChillTempAct[[#This Row],[Date]])","v":2021},{"$f":"MONTH(ChillTempAct[[#This Row],[Date]])","v":1},{"$f":"IF(ChillTempAct[[#This Row],[Month]]=J163,K163+1,1)","v":10}]
[44222,32,21,{"$f":"AVERAGE(ChillTempAct[[#This Row],[ChillHigh]:[ChillLow]])","v":26.5},{"$f":"IF(ChillTempAct[[#This Row],[ChillAve]]<65,65-ChillTempAct[[#This Row],[ChillAve]],0)","v":38.5},{"$f":"INDEX(TempAdj[AdjustPct],MATCH(MONTH(ChillTempAct[[#This Row],[Date]]),TempAdj[Month],0))","v":2.8899999999999999E-2},{"$f":"ChillTempAct[[#This Row],[ChillHDD]]*(1+ChillTempAct[[#This Row],[ChillAdj]])","v":39.612649999999995},{"$f":"SUMPRODUCT((RankNHDD[Month]=ChillTempAct[[#This Row],[Month]])*(RankNHDD[Rank]=ChillTempAct[[#This Row],[Rank]])*RankNHDD[KIRKNHDD])","v":44.340537634408598},{"$f":"YEAR(ChillTempAct[[#This Row],[Date]])","v":2021},{"$f":"MONTH(ChillTempAct[[#This Row],[Date]])","v":1},{"$f":"IF(ChillTempAct[[#This Row],[Month]]=J164,K164+1,1)","v":11}]
[44201,35,19,{"$f":"AVERAGE(ChillTempAct[[#This Row],[ChillHigh]:[ChillLow]])","v":27},{"$f":"IF(ChillTempAct[[#This Row],[ChillAve]]<65,65-ChillTempAct[[#This Row],[ChillAve]],0)","v":38},{"$f":"INDEX(TempAdj[AdjustPct],MATCH(MONTH(ChillTempAct[[#This Row],[Date]]),TempAdj[Month],0))","v":2.8899999999999999E-2},{"$f":"ChillTempAct[[#This Row],[ChillHDD]]*(1+ChillTempAct[[#This Row],[ChillAdj]])","v":39.098199999999999},{"$f":"SUMPRODUCT((RankNHDD[Month]=ChillTempAct[[#This Row],[Month]])*(RankNHDD[Rank]=ChillTempAct[[#This Row],[Rank]])*RankNHDD[KIRKNHDD])","v":43.232365591397851},{"$f":"YEAR(ChillTempAct[[#This Row],[Date]])","v":2021},{"$f":"MONTH(ChillTempAct[[#This Row],[Date]])","v":1},{"$f":"IF(ChillTempAct[[#This Row],[Month]]=J165,K165+1,1)","v":12}]
[44213,31,23,{"$f":"AVERAGE(ChillTempAct[[#This Row],[ChillHigh]:[ChillLow]])","v":27},{"$f":"IF(ChillTempAct[[#This Row],[ChillAve]]<65,65-ChillTempAct[[#This Row],[ChillAve]],0)","v":38},{"$f":"INDEX(TempAdj[AdjustPct],MATCH(MONTH(ChillTempAct[[#This Row],[Date]]),TempAdj[Month],0))","v":2.8899999999999999E-2},{"$f":"ChillTempAct[[#This Row],[ChillHDD]]*(1+ChillTempAct[[#This Row],[ChillAdj]])","v":39.098199999999999},{"$f":"SUMPRODUCT((RankNHDD[Month]=ChillTempAct[[#This Row],[Month]])*(RankNHDD[Rank]=ChillTempAct[[#This Row],[Rank]])*RankNHDD[KIRKNHDD])","v":42.183512544802859},{"$f":"YEAR(ChillTempAct[[#This Row],[Date]])","v":2021},{"$f":"MONTH(ChillTempAct[[#This Row],[Date]])","v":1},{"$f":"IF(ChillTempAct[[#This Row],[Month]]=J166,K166+1,1)","v":13}]
[44215,33,22,{"$f":"AVERAGE(ChillTempAct[[#This Row],[ChillHigh]:[ChillLow]])","v":27.5},{"$f":"IF(ChillTempAct[[#This Row],[ChillAve]]<65,65-ChillTempAct[[#This Row],[ChillAve]],0)","v":37.5},{"$f":"INDEX(TempAdj[AdjustPct],MATCH(MONTH(ChillTempAct[[#This Row],[Date]]),TempAdj[Month],0))","v":2.8899999999999999E-2},{"$f":"ChillTempAct[[#This Row],[ChillHDD]]*(1+ChillTempAct[[#This Row],[ChillAdj]])","v":38.583749999999995},{"$f":"SUMPRODUCT((RankNHDD[Month]=ChillTempAct[[#This Row],[Month]])*(RankNHDD[Rank]=ChillTempAct[[#This Row],[Rank]])*RankNHDD[KIRKNHDD])","v":40.864462365591393},{"$f":"YEAR(ChillTempAct[[#This Row],[Date]])","v":2021},{"$f":"MONTH(ChillTempAct[[#This Row],[Date]])","v":1},{"$f":"IF(ChillTempAct[[#This Row],[Month]]=J167,K167+1,1)","v":14}]
[44206,29,27,{"$f":"AVERAGE(ChillTempAct[[#This Row],[ChillHigh]:[ChillLow]])","v":28},{"$f":"IF(ChillTempAct[[#This Row],[ChillAve]]<65,65-ChillTempAct[[#This Row],[ChillAve]],0)","v":37},{"$f":"INDEX(TempAdj[AdjustPct],MATCH(MONTH(ChillTempAct[[#This Row],[Date]]),TempAdj[Month],0))","v":2.8899999999999999E-2},{"$f":"ChillTempAct[[#This Row],[ChillHDD]]*(1+ChillTempAct[[#This Row],[ChillAdj]])","v":38.069299999999998},{"$f":"SUMPRODUCT((RankNHDD[Month]=ChillTempAct[[#This Row],[Month]])*(RankNHDD[Rank]=ChillTempAct[[#This Row],[Rank]])*RankNHDD[KIRKNHDD])","v":39.602455197132606},{"$f":"YEAR(ChillTempAct[[#This Row],[Date]])","v":2021},{"$f":"MONTH(ChillTempAct[[#This Row],[Date]])","v":1},{"$f":"IF(ChillTempAct[[#This Row],[Month]]=J168,K168+1,1)","v":15}]
[44214,35,24,{"$f":"AVERAGE(ChillTempAct[[#This Row],[ChillHigh]:[ChillLow]])","v":29.5},{"$f":"IF(ChillTempAct[[#This Row],[ChillAve]]<65,65-ChillTempAct[[#This Row],[ChillAve]],0)","v":35.5},{"$f":"INDEX(TempAdj[AdjustPct],MATCH(MONTH(ChillTempAct[[#This Row],[Date]]),TempAdj[Month],0))","v":2.8899999999999999E-2},{"$f":"ChillTempAct[[#This Row],[ChillHDD]]*(1+ChillTempAct[[#This Row],[ChillAdj]])","v":36.525949999999995},{"$f":"SUMPRODUCT((RankNHDD[Month]=ChillTempAct[[#This Row],[Month]])*(RankNHDD[Rank]=ChillTempAct[[#This Row],[Rank]])*RankNHDD[KIRKNHDD])","v":38.514211469534047},{"$f":"YEAR(ChillTempAct[[#This Row],[Date]])","v":2021},{"$f":"MONTH(ChillTempAct[[#This Row],[Date]])","v":1},{"$f":"IF(ChillTempAct[[#This Row],[Month]]=J169,K169+1,1)","v":16}]
[44204,33,27,{"$f":"AVERAGE(ChillTempAct[[#This Row],[ChillHigh]:[ChillLow]])","v":30},{"$f":"IF(ChillTempAct[[#This Row],[ChillAve]]<65,65-ChillTempAct[[#This Row],[ChillAve]],0)","v":35},{"$f":"INDEX(TempAdj[AdjustPct],MATCH(MONTH(ChillTempAct[[#This Row],[Date]]),TempAdj[Month],0))","v":2.8899999999999999E-2},{"$f":"ChillTempAct[[#This Row],[ChillHDD]]*(1+ChillTempAct[[#This Row],[ChillAdj]])","v":36.011499999999998},{"$f":"SUMPRODUCT((RankNHDD[Month]=ChillTempAct[[#This Row],[Month]])*(RankNHDD[Rank]=ChillTempAct[[#This Row],[Rank]])*RankNHDD[KIRKNHDD])","v":37.535376344086018},{"$f":"YEAR(ChillTempAct[[#This Row],[Date]])","v":2021},{"$f":"MONTH(ChillTempAct[[#This Row],[Date]])","v":1},{"$f":"IF(ChillTempAct[[#This Row],[Month]]=J170,K170+1,1)","v":17}]
[44205,33,27,{"$f":"AVERAGE(ChillTempAct[[#This Row],[ChillHigh]:[ChillLow]])","v":30},{"$f":"IF(ChillTempAct[[#This Row],[ChillAve]]<65,65-ChillTempAct[[#This Row],[ChillAve]],0)","v":35},{"$f":"INDEX(TempAdj[AdjustPct],MATCH(MONTH(ChillTempAct[[#This Row],[Date]]),TempAdj[Month],0))","v":2.8899999999999999E-2},{"$f":"ChillTempAct[[#This Row],[ChillHDD]]*(1+ChillTempAct[[#This Row],[ChillAdj]])","v":36.011499999999998},{"$f":"SUMPRODUCT((RankNHDD[Month]=ChillTempAct[[#This Row],[Month]])*(RankNHDD[Rank]=ChillTempAct[[#This Row],[Rank]])*RankNHDD[KIRKNHDD])","v":36.481272401433678},{"$f":"YEAR(ChillTempAct[[#This Row],[Date]])","v":2021},{"$f":"MONTH(ChillTempAct[[#This Row],[Date]])","v":1},{"$f":"IF(ChillTempAct[[#This Row],[Month]]=J171,K171+1,1)","v":18}]
[44216,42,20,{"$f":"AVERAGE(ChillTempAct[[#This Row],[ChillHigh]:[ChillLow]])","v":31},{"$f":"IF(ChillTempAct[[#This Row],[ChillAve]]<65,65-ChillTempAct[[#This Row],[ChillAve]],0)","v":34},{"$f":"INDEX(TempAdj[AdjustPct],MATCH(MONTH(ChillTempAct[[#This Row],[Date]]),TempAdj[Month],0))","v":2.8899999999999999E-2},{"$f":"ChillTempAct[[#This Row],[ChillHDD]]*(1+ChillTempAct[[#This Row],[ChillAdj]])","v":34.982599999999998},{"$f":"SUMPRODUCT((RankNHDD[Month]=ChillTempAct[[#This Row],[Month]])*(RankNHDD[Rank]=ChillTempAct[[#This Row],[Rank]])*RankNHDD[KIRKNHDD])","v":35.555268817204293},{"$f":"YEAR(ChillTempAct[[#This Row],[Date]])","v":2021},{"$f":"MONTH(ChillTempAct[[#This Row],[Date]])","v":1},{"$f":"IF(ChillTempAct[[#This Row],[Month]]=J172,K172+1,1)","v":19}]
[44226,41,21,{"$f":"AVERAGE(ChillTempAct[[#This Row],[ChillHigh]:[ChillLow]])","v":31},{"$f":"IF(ChillTempAct[[#This Row],[ChillAve]]<65,65-ChillTempAct[[#This Row],[ChillAve]],0)","v":34},{"$f":"INDEX(TempAdj[AdjustPct],MATCH(MONTH(ChillTempAct[[#This Row],[Date]]),TempAdj[Month],0))","v":2.8899999999999999E-2},{"$f":"ChillTempAct[[#This Row],[ChillHDD]]*(1+ChillTempAct[[#This Row],[ChillAdj]])","v":34.982599999999998},{"$f":"SUMPRODUCT((RankNHDD[Month]=ChillTempAct[[#This Row],[Month]])*(RankNHDD[Rank]=ChillTempAct[[#This Row],[Rank]])*RankNHDD[KIRKNHDD])","v":34.810842293906802},{"$f":"YEAR(ChillTempAct[[#This Row],[Date]])","v":2021},{"$f":"MONTH(ChillTempAct[[#This Row],[Date]])","v":1},{"$f":"IF(ChillTempAct[[#This Row],[Month]]=J173,K173+1,1)","v":20}]
[44202,44,19,{"$f":"AVERAGE(ChillTempAct[[#This Row],[ChillHigh]:[ChillLow]])","v":31.5},{"$f":"IF(ChillTempAct[[#This Row],[ChillAve]]<65,65-ChillTempAct[[#This Row],[ChillAve]],0)","v":33.5},{"$f":"INDEX(TempAdj[AdjustPct],MATCH(MONTH(ChillTempAct[[#This Row],[Date]]),TempAdj[Month],0))","v":2.8899999999999999E-2},{"$f":"ChillTempAct[[#This Row],[ChillHDD]]*(1+ChillTempAct[[#This Row],[ChillAdj]])","v":34.468149999999994},{"$f":"SUMPRODUCT((RankNHDD[Month]=ChillTempAct[[#This Row],[Month]])*(RankNHDD[Rank]=ChillTempAct[[#This Row],[Rank]])*RankNHDD[KIRKNHDD])","v":33.842401433691748},{"$f":"YEAR(ChillTempAct[[#This Row],[Date]])","v":2021},{"$f":"MONTH(ChillTempAct[[#This Row],[Date]])","v":1},{"$f":"IF(ChillTempAct[[#This Row],[Month]]=J174,K174+1,1)","v":21}]
[44212,34,29,{"$f":"AVERAGE(ChillTempAct[[#This Row],[ChillHigh]:[ChillLow]])","v":31.5},{"$f":"IF(ChillTempAct[[#This Row],[ChillAve]]<65,65-ChillTempAct[[#This Row],[ChillAve]],0)","v":33.5},{"$f":"INDEX(TempAdj[AdjustPct],MATCH(MONTH(ChillTempAct[[#This Row],[Date]]),TempAdj[Month],0))","v":2.8899999999999999E-2},{"$f":"ChillTempAct[[#This Row],[ChillHDD]]*(1+ChillTempAct[[#This Row],[ChillAdj]])","v":34.468149999999994},{"$f":"SUMPRODUCT((RankNHDD[Month]=ChillTempAct[[#This Row],[Month]])*(RankNHDD[Rank]=ChillTempAct[[#This Row],[Rank]])*RankNHDD[KIRKNHDD])","v":32.992311827956982},{"$f":"YEAR(ChillTempAct[[#This Row],[Date]])","v":2021},{"$f":"MONTH(ChillTempAct[[#This Row],[Date]])","v":1},{"$f":"IF(ChillTempAct[[#This Row],[Month]]=J175,K175+1,1)","v":22}]
[44208,42,25,{"$f":"AVERAGE(ChillTempAct[[#This Row],[ChillHigh]:[ChillLow]])","v":33.5},{"$f":"IF(ChillTempAct[[#This Row],[ChillAve]]<65,65-ChillTempAct[[#This Row],[ChillAve]],0)","v":31.5},{"$f":"INDEX(TempAdj[AdjustPct],MATCH(MONTH(ChillTempAct[[#This Row],[Date]]),TempAdj[Month],0))","v":2.8899999999999999E-2},{"$f":"ChillTempAct[[#This Row],[ChillHDD]]*(1+ChillTempAct[[#This Row],[ChillAdj]])","v":32.410350000000001},{"$f":"SUMPRODUCT((RankNHDD[Month]=ChillTempAct[[#This Row],[Month]])*(RankNHDD[Rank]=ChillTempAct[[#This Row],[Rank]])*RankNHDD[KIRKNHDD])","v":32.111827956989238},{"$f":"YEAR(ChillTempAct[[#This Row],[Date]])","v":2021},{"$f":"MONTH(ChillTempAct[[#This Row],[Date]])","v":1},{"$f":"IF(ChillTempAct[[#This Row],[Month]]=J176,K176+1,1)","v":23}]
[44221,36,31,{"$f":"AVERAGE(ChillTempAct[[#This Row],[ChillHigh]:[ChillLow]])","v":33.5},{"$f":"IF(ChillTempAct[[#This Row],[ChillAve]]<65,65-ChillTempAct[[#This Row],[ChillAve]],0)","v":31.5},{"$f":"INDEX(TempAdj[AdjustPct],MATCH(MONTH(ChillTempAct[[#This Row],[Date]]),TempAdj[Month],0))","v":2.8899999999999999E-2},{"$f":"ChillTempAct[[#This Row],[ChillHDD]]*(1+ChillTempAct[[#This Row],[ChillAdj]])","v":32.410350000000001},{"$f":"SUMPRODUCT((RankNHDD[Month]=ChillTempAct[[#This Row],[Month]])*(RankNHDD[Rank]=ChillTempAct[[#This Row],[Rank]])*RankNHDD[KIRKNHDD])","v":30.768136200716835},{"$f":"YEAR(ChillTempAct[[#This Row],[Date]])","v":2021},{"$f":"MONTH(ChillTempAct[[#This Row],[Date]])","v":1},{"$f":"IF(ChillTempAct[[#This Row],[Month]]=J177,K177+1,1)","v":24}]
[44211,41,28,{"$f":"AVERAGE(ChillTempAct[[#This Row],[ChillHigh]:[ChillLow]])","v":34.5},{"$f":"IF(ChillTempAct[[#This Row],[ChillAve]]<65,65-ChillTempAct[[#This Row],[ChillAve]],0)","v":30.5},{"$f":"INDEX(TempAdj[AdjustPct],MATCH(MONTH(ChillTempAct[[#This Row],[Date]]),TempAdj[Month],0))","v":2.8899999999999999E-2},{"$f":"ChillTempAct[[#This Row],[ChillHDD]]*(1+ChillTempAct[[#This Row],[ChillAdj]])","v":31.381449999999997},{"$f":"SUMPRODUCT((RankNHDD[Month]=ChillTempAct[[#This Row],[Month]])*(RankNHDD[Rank]=ChillTempAct[[#This Row],[Rank]])*RankNHDD[KIRKNHDD])","v":29.395394265232973},{"$f":"YEAR(ChillTempAct[[#This Row],[Date]])","v":2021},{"$f":"MONTH(ChillTempAct[[#This Row],[Date]])","v":1},{"$f":"IF(ChillTempAct[[#This Row],[Month]]=J178,K178+1,1)","v":25}]
[44203,39,31,{"$f":"AVERAGE(ChillTempAct[[#This Row],[ChillHigh]:[ChillLow]])","v":35},{"$f":"IF(ChillTempAct[[#This Row],[ChillAve]]<65,65-ChillTempAct[[#This Row],[ChillAve]],0)","v":30},{"$f":"INDEX(TempAdj[AdjustPct],MATCH(MONTH(ChillTempAct[[#This Row],[Date]]),TempAdj[Month],0))","v":2.8899999999999999E-2},{"$f":"ChillTempAct[[#This Row],[ChillHDD]]*(1+ChillTempAct[[#This Row],[ChillAdj]])","v":30.866999999999997},{"$f":"SUMPRODUCT((RankNHDD[Month]=ChillTempAct[[#This Row],[Month]])*(RankNHDD[Rank]=ChillTempAct[[#This Row],[Rank]])*RankNHDD[KIRKNHDD])","v":28.297043010752681},{"$f":"YEAR(ChillTempAct[[#This Row],[Date]])","v":2021},{"$f":"MONTH(ChillTempAct[[#This Row],[Date]])","v":1},{"$f":"IF(ChillTempAct[[#This Row],[Month]]=J179,K179+1,1)","v":26}]
[44217,50,22,{"$f":"AVERAGE(ChillTempAct[[#This Row],[ChillHigh]:[ChillLow]])","v":36},{"$f":"IF(ChillTempAct[[#This Row],[ChillAve]]<65,65-ChillTempAct[[#This Row],[ChillAve]],0)","v":29},{"$f":"INDEX(TempAdj[AdjustPct],MATCH(MONTH(ChillTempAct[[#This Row],[Date]]),TempAdj[Month],0))","v":2.8899999999999999E-2},{"$f":"ChillTempAct[[#This Row],[ChillHDD]]*(1+ChillTempAct[[#This Row],[ChillAdj]])","v":29.838099999999997},{"$f":"SUMPRODUCT((RankNHDD[Month]=ChillTempAct[[#This Row],[Month]])*(RankNHDD[Rank]=ChillTempAct[[#This Row],[Rank]])*RankNHDD[KIRKNHDD])","v":27.088584229390676},{"$f":"YEAR(ChillTempAct[[#This Row],[Date]])","v":2021},{"$f":"MONTH(ChillTempAct[[#This Row],[Date]])","v":1},{"$f":"IF(ChillTempAct[[#This Row],[Month]]=J180,K180+1,1)","v":27}]
[44227,41,31,{"$f":"AVERAGE(ChillTempAct[[#This Row],[ChillHigh]:[ChillLow]])","v":36},{"$f":"IF(ChillTempAct[[#This Row],[ChillAve]]<65,65-ChillTempAct[[#This Row],[ChillAve]],0)","v":29},{"$f":"INDEX(TempAdj[AdjustPct],MATCH(MONTH(ChillTempAct[[#This Row],[Date]]),TempAdj[Month],0))","v":2.8899999999999999E-2},{"$f":"ChillTempAct[[#This Row],[ChillHDD]]*(1+ChillTempAct[[#This Row],[ChillAdj]])","v":29.838099999999997},{"$f":"SUMPRODUCT((RankNHDD[Month]=ChillTempAct[[#This Row],[Month]])*(RankNHDD[Rank]=ChillTempAct[[#This Row],[Rank]])*RankNHDD[KIRKNHDD])","v":25.43605734767025},{"$f":"YEAR(ChillTempAct[[#This Row],[Date]])","v":2021},{"$f":"MONTH(ChillTempAct[[#This Row],[Date]])","v":1},{"$f":"IF(ChillTempAct[[#This Row],[Month]]=J181,K181+1,1)","v":28}]
[44218,53,23,{"$f":"AVERAGE(ChillTempAct[[#This Row],[ChillHigh]:[ChillLow]])","v":38},{"$f":"IF(ChillTempAct[[#This Row],[ChillAve]]<65,65-ChillTempAct[[#This Row],[ChillAve]],0)","v":27},{"$f":"INDEX(TempAdj[AdjustPct],MATCH(MONTH(ChillTempAct[[#This Row],[Date]]),TempAdj[Month],0))","v":2.8899999999999999E-2},{"$f":"ChillTempAct[[#This Row],[ChillHDD]]*(1+ChillTempAct[[#This Row],[ChillAdj]])","v":27.780299999999997},{"$f":"SUMPRODUCT((RankNHDD[Month]=ChillTempAct[[#This Row],[Month]])*(RankNHDD[Rank]=ChillTempAct[[#This Row],[Rank]])*RankNHDD[KIRKNHDD])","v":23.563172043010745},{"$f":"YEAR(ChillTempAct[[#This Row],[Date]])","v":2021},{"$f":"MONTH(ChillTempAct[[#This Row],[Date]])","v":1},{"$f":"IF(ChillTempAct[[#This Row],[Month]]=J182,K182+1,1)","v":29}]
[44209,51,26,{"$f":"AVERAGE(ChillTempAct[[#This Row],[ChillHigh]:[ChillLow]])","v":38.5},{"$f":"IF(ChillTempAct[[#This Row],[ChillAve]]<65,65-ChillTempAct[[#This Row],[ChillAve]],0)","v":26.5},{"$f":"INDEX(TempAdj[AdjustPct],MATCH(MONTH(ChillTempAct[[#This Row],[Date]]),TempAdj[Month],0))","v":2.8899999999999999E-2},{"$f":"ChillTempAct[[#This Row],[ChillHDD]]*(1+ChillTempAct[[#This Row],[ChillAdj]])","v":27.265849999999997},{"$f":"SUMPRODUCT((RankNHDD[Month]=ChillTempAct[[#This Row],[Month]])*(RankNHDD[Rank]=ChillTempAct[[#This Row],[Rank]])*RankNHDD[KIRKNHDD])","v":21.201881720430098},{"$f":"YEAR(ChillTempAct[[#This Row],[Date]])","v":2021},{"$f":"MONTH(ChillTempAct[[#This Row],[Date]])","v":1},{"$f":"IF(ChillTempAct[[#This Row],[Month]]=J183,K183+1,1)","v":30}]
[44210,50,32,{"$f":"AVERAGE(ChillTempAct[[#This Row],[ChillHigh]:[ChillLow]])","v":41},{"$f":"IF(ChillTempAct[[#This Row],[ChillAve]]<65,65-ChillTempAct[[#This Row],[ChillAve]],0)","v":24},{"$f":"INDEX(TempAdj[AdjustPct],MATCH(MONTH(ChillTempAct[[#This Row],[Date]]),TempAdj[Month],0))","v":2.8899999999999999E-2},{"$f":"ChillTempAct[[#This Row],[ChillHDD]]*(1+ChillTempAct[[#This Row],[ChillAdj]])","v":24.693599999999996},{"$f":"SUMPRODUCT((RankNHDD[Month]=ChillTempAct[[#This Row],[Month]])*(RankNHDD[Rank]=ChillTempAct[[#This Row],[Rank]])*RankNHDD[KIRKNHDD])","v":15.503064516129026},{"$f":"YEAR(ChillTempAct[[#This Row],[Date]])","v":2021},{"$f":"MONTH(ChillTempAct[[#This Row],[Date]])","v":1},{"$f":"IF(ChillTempAct[[#This Row],[Month]]=J184,K184+1,1)","v":31}]
[44243,-2,-14,{"$f":"AVERAGE(ChillTempAct[[#This Row],[ChillHigh]:[ChillLow]])","v":-8},{"$f":"IF(ChillTempAct[[#This Row],[ChillAve]]<65,65-ChillTempAct[[#This Row],[ChillAve]],0)","v":73},{"$f":"INDEX(TempAdj[AdjustPct],MATCH(MONTH(ChillTempAct[[#This Row],[Date]]),TempAdj[Month],0))","v":3.9800000000000002E-2},{"$f":"ChillTempAct[[#This Row],[ChillHDD]]*(1+ChillTempAct[[#This Row],[ChillAdj]])","v":75.9054},{"$f":"SUMPRODUCT((RankNHDD[Month]=ChillTempAct[[#This Row],[Month]])*(RankNHDD[Rank]=ChillTempAct[[#This Row],[Rank]])*RankNHDD[KIRKNHDD])","v":63.242389162561587},{"$f":"YEAR(ChillTempAct[[#This Row],[Date]])","v":2021},{"$f":"MONTH(ChillTempAct[[#This Row],[Date]])","v":2},{"$f":"IF(ChillTempAct[[#This Row],[Month]]=J185,K185+1,1)","v":1}]
[44242,1,-9,{"$f":"AVERAGE(ChillTempAct[[#This Row],[ChillHigh]:[ChillLow]])","v":-4},{"$f":"IF(ChillTempAct[[#This Row],[ChillAve]]<65,65-ChillTempAct[[#This Row],[ChillAve]],0)","v":69},{"$f":"INDEX(TempAdj[AdjustPct],MATCH(MONTH(ChillTempAct[[#This Row],[Date]]),TempAdj[Month],0))","v":3.9800000000000002E-2},{"$f":"ChillTempAct[[#This Row],[ChillHDD]]*(1+ChillTempAct[[#This Row],[ChillAdj]])","v":71.746200000000002},{"$f":"SUMPRODUCT((RankNHDD[Month]=ChillTempAct[[#This Row],[Month]])*(RankNHDD[Rank]=ChillTempAct[[#This Row],[Rank]])*RankNHDD[KIRKNHDD])","v":57.00799671592776},{"$f":"YEAR(ChillTempAct[[#This Row],[Date]])","v":2021},{"$f":"MONTH(ChillTempAct[[#This Row],[Date]])","v":2},{"$f":"IF(ChillTempAct[[#This Row],[Month]]=J186,K186+1,1)","v":2}]
[44244,7,-14,{"$f":"AVERAGE(ChillTempAct[[#This Row],[ChillHigh]:[ChillLow]])","v":-3.5},{"$f":"IF(ChillTempAct[[#This Row],[ChillAve]]<65,65-ChillTempAct[[#This Row],[ChillAve]],0)","v":68.5},{"$f":"INDEX(TempAdj[AdjustPct],MATCH(MONTH(ChillTempAct[[#This Row],[Date]]),TempAdj[Month],0))","v":3.9800000000000002E-2},{"$f":"ChillTempAct[[#This Row],[ChillHDD]]*(1+ChillTempAct[[#This Row],[ChillAdj]])","v":71.226300000000009},{"$f":"SUMPRODUCT((RankNHDD[Month]=ChillTempAct[[#This Row],[Month]])*(RankNHDD[Rank]=ChillTempAct[[#This Row],[Rank]])*RankNHDD[KIRKNHDD])","v":53.574663382594416},{"$f":"YEAR(ChillTempAct[[#This Row],[Date]])","v":2021},{"$f":"MONTH(ChillTempAct[[#This Row],[Date]])","v":2},{"$f":"IF(ChillTempAct[[#This Row],[Month]]=J187,K187+1,1)","v":3}]
[44240,5,-5,{"$f":"AVERAGE(ChillTempAct[[#This Row],[ChillHigh]:[ChillLow]])","v":0},{"$f":"IF(ChillTempAct[[#This Row],[ChillAve]]<65,65-ChillTempAct[[#This Row],[ChillAve]],0)","v":65},{"$f":"INDEX(TempAdj[AdjustPct],MATCH(MONTH(ChillTempAct[[#This Row],[Date]]),TempAdj[Month],0))","v":3.9800000000000002E-2},{"$f":"ChillTempAct[[#This Row],[ChillHDD]]*(1+ChillTempAct[[#This Row],[ChillAdj]])","v":67.587000000000003},{"$f":"SUMPRODUCT((RankNHDD[Month]=ChillTempAct[[#This Row],[Month]])*(RankNHDD[Rank]=ChillTempAct[[#This Row],[Rank]])*RankNHDD[KIRKNHDD])","v":50.76514778325123},{"$f":"YEAR(ChillTempAct[[#This Row],[Date]])","v":2021},{"$f":"MONTH(ChillTempAct[[#This Row],[Date]])","v":2},{"$f":"IF(ChillTempAct[[#This Row],[Month]]=J188,K188+1,1)","v":4}]
[44241,5,-4,{"$f":"AVERAGE(ChillTempAct[[#This Row],[ChillHigh]:[ChillLow]])","v":0.5},{"$f":"IF(ChillTempAct[[#This Row],[ChillAve]]<65,65-ChillTempAct[[#This Row],[ChillAve]],0)","v":64.5},{"$f":"INDEX(TempAdj[AdjustPct],MATCH(MONTH(ChillTempAct[[#This Row],[Date]]),TempAdj[Month],0))","v":3.9800000000000002E-2},{"$f":"ChillTempAct[[#This Row],[ChillHDD]]*(1+ChillTempAct[[#This Row],[ChillAdj]])","v":67.067100000000011},{"$f":"SUMPRODUCT((RankNHDD[Month]=ChillTempAct[[#This Row],[Month]])*(RankNHDD[Rank]=ChillTempAct[[#This Row],[Rank]])*RankNHDD[KIRKNHDD])","v":48.819934318555013},{"$f":"YEAR(ChillTempAct[[#This Row],[Date]])","v":2021},{"$f":"MONTH(ChillTempAct[[#This Row],[Date]])","v":2},{"$f":"IF(ChillTempAct[[#This Row],[Month]]=J189,K189+1,1)","v":5}]
[44235,3,-1,{"$f":"AVERAGE(ChillTempAct[[#This Row],[ChillHigh]:[ChillLow]])","v":1},{"$f":"IF(ChillTempAct[[#This Row],[ChillAve]]<65,65-ChillTempAct[[#This Row],[ChillAve]],0)","v":64},{"$f":"INDEX(TempAdj[AdjustPct],MATCH(MONTH(ChillTempAct[[#This Row],[Date]]),TempAdj[Month],0))","v":3.9800000000000002E-2},{"$f":"ChillTempAct[[#This Row],[ChillHDD]]*(1+ChillTempAct[[#This Row],[ChillAdj]])","v":66.547200000000004},{"$f":"SUMPRODUCT((RankNHDD[Month]=ChillTempAct[[#This Row],[Month]])*(RankNHDD[Rank]=ChillTempAct[[#This Row],[Rank]])*RankNHDD[KIRKNHDD])","v":46.878288177339911},{"$f":"YEAR(ChillTempAct[[#This Row],[Date]])","v":2021},{"$f":"MONTH(ChillTempAct[[#This Row],[Date]])","v":2},{"$f":"IF(ChillTempAct[[#This Row],[Month]]=J190,K190+1,1)","v":6}]
[44236,7,2,{"$f":"AVERAGE(ChillTempAct[[#This Row],[ChillHigh]:[ChillLow]])","v":4.5},{"$f":"IF(ChillTempAct[[#This Row],[ChillAve]]<65,65-ChillTempAct[[#This Row],[ChillAve]],0)","v":60.5},{"$f":"INDEX(TempAdj[AdjustPct],MATCH(MONTH(ChillTempAct[[#This Row],[Date]]),TempAdj[Month],0))","v":3.9800000000000002E-2},{"$f":"ChillTempAct[[#This Row],[ChillHDD]]*(1+ChillTempAct[[#This Row],[ChillAdj]])","v":62.907900000000005},{"$f":"SUMPRODUCT((RankNHDD[Month]=ChillTempAct[[#This Row],[Month]])*(RankNHDD[Rank]=ChillTempAct[[#This Row],[Rank]])*RankNHDD[KIRKNHDD])","v":44.8792446633826},{"$f":"YEAR(ChillTempAct[[#This Row],[Date]])","v":2021},{"$f":"MONTH(ChillTempAct[[#This Row],[Date]])","v":2},{"$f":"IF(ChillTempAct[[#This Row],[Month]]=J191,K191+1,1)","v":7}]
[44239,12,-2,{"$f":"AVERAGE(ChillTempAct[[#This Row],[ChillHigh]:[ChillLow]])","v":5},{"$f":"IF(ChillTempAct[[#This Row],[ChillAve]]<65,65-ChillTempAct[[#This Row],[ChillAve]],0)","v":60},{"$f":"INDEX(TempAdj[AdjustPct],MATCH(MONTH(ChillTempAct[[#This Row],[Date]]),TempAdj[Month],0))","v":3.9800000000000002E-2},{"$f":"ChillTempAct[[#This Row],[ChillHDD]]*(1+ChillTempAct[[#This Row],[ChillAdj]])","v":62.388000000000005},{"$f":"SUMPRODUCT((RankNHDD[Month]=ChillTempAct[[#This Row],[Month]])*(RankNHDD[Rank]=ChillTempAct[[#This Row],[Rank]])*RankNHDD[KIRKNHDD])","v":42.894445812807881},{"$f":"YEAR(ChillTempAct[[#This Row],[Date]])","v":2021},{"$f":"MONTH(ChillTempAct[[#This Row],[Date]])","v":2},{"$f":"IF(ChillTempAct[[#This Row],[Month]]=J192,K192+1,1)","v":8}]
[44245,20,-8,{"$f":"AVERAGE(ChillTempAct[[#This Row],[ChillHigh]:[ChillLow]])","v":6},{"$f":"IF(ChillTempAct[[#This Row],[ChillAve]]<65,65-ChillTempAct[[#This Row],[ChillAve]],0)","v":59},{"$f":"INDEX(TempAdj[AdjustPct],MATCH(MONTH(ChillTempAct[[#This Row],[Date]]),TempAdj[Month],0))","v":3.9800000000000002E-2},{"$f":"ChillTempAct[[#This Row],[ChillHDD]]*(1+ChillTempAct[[#This Row],[ChillAdj]])","v":61.348200000000006},{"$f":"SUMPRODUCT((RankNHDD[Month]=ChillTempAct[[#This Row],[Month]])*(RankNHDD[Rank]=ChillTempAct[[#This Row],[Rank]])*RankNHDD[KIRKNHDD])","v":41.50905172413794},{"$f":"YEAR(ChillTempAct[[#This Row],[Date]])","v":2021},{"$f":"MONTH(ChillTempAct[[#This Row],[Date]])","v":2},{"$f":"IF(ChillTempAct[[#This Row],[Month]]=J193,K193+1,1)","v":9}]
[44237,11,3,{"$f":"AVERAGE(ChillTempAct[[#This Row],[ChillHigh]:[ChillLow]])","v":7},{"$f":"IF(ChillTempAct[[#This Row],[ChillAve]]<65,65-ChillTempAct[[#This Row],[ChillAve]],0)","v":58},{"$f":"INDEX(TempAdj[AdjustPct],MATCH(MONTH(ChillTempAct[[#This Row],[Date]]),TempAdj[Month],0))","v":3.9800000000000002E-2},{"$f":"ChillTempAct[[#This Row],[ChillHDD]]*(1+ChillTempAct[[#This Row],[ChillAdj]])","v":60.308400000000006},{"$f":"SUMPRODUCT((RankNHDD[Month]=ChillTempAct[[#This Row],[Month]])*(RankNHDD[Rank]=ChillTempAct[[#This Row],[Rank]])*RankNHDD[KIRKNHDD])","v":40.177586206896557},{"$f":"YEAR(ChillTempAct[[#This Row],[Date]])","v":2021},{"$f":"MONTH(ChillTempAct[[#This Row],[Date]])","v":2},{"$f":"IF(ChillTempAct[[#This Row],[Month]]=J194,K194+1,1)","v":10}]
[44246,22,-8,{"$f":"AVERAGE(ChillTempAct[[#This Row],[ChillHigh]:[ChillLow]])","v":7},{"$f":"IF(ChillTempAct[[#This Row],[ChillAve]]<65,65-ChillTempAct[[#This Row],[ChillAve]],0)","v":58},{"$f":"INDEX(TempAdj[AdjustPct],MATCH(MONTH(ChillTempAct[[#This Row],[Date]]),TempAdj[Month],0))","v":3.9800000000000002E-2},{"$f":"ChillTempAct[[#This Row],[ChillHDD]]*(1+ChillTempAct[[#This Row],[ChillAdj]])","v":60.308400000000006},{"$f":"SUMPRODUCT((RankNHDD[Month]=ChillTempAct[[#This Row],[Month]])*(RankNHDD[Rank]=ChillTempAct[[#This Row],[Rank]])*RankNHDD[KIRKNHDD])","v":39.049371921182257},{"$f":"YEAR(ChillTempAct[[#This Row],[Date]])","v":2021},{"$f":"MONTH(ChillTempAct[[#This Row],[Date]])","v":2},{"$f":"IF(ChillTempAct[[#This Row],[Month]]=J195,K195+1,1)","v":11}]
[44238,13,4,{"$f":"AVERAGE(ChillTempAct[[#This Row],[ChillHigh]:[ChillLow]])","v":8.5},{"$f":"IF(ChillTempAct[[#This Row],[ChillAve]]<65,65-ChillTempAct[[#This Row],[ChillAve]],0)","v":56.5},{"$f":"INDEX(TempAdj[AdjustPct],MATCH(MONTH(ChillTempAct[[#This Row],[Date]]),TempAdj[Month],0))","v":3.9800000000000002E-2},{"$f":"ChillTempAct[[#This Row],[ChillHDD]]*(1+ChillTempAct[[#This Row],[ChillAdj]])","v":58.748700000000007},{"$f":"SUMPRODUCT((RankNHDD[Month]=ChillTempAct[[#This Row],[Month]])*(RankNHDD[Rank]=ChillTempAct[[#This Row],[Rank]])*RankNHDD[KIRKNHDD])","v":37.866009852216749},{"$f":"YEAR(ChillTempAct[[#This Row],[Date]])","v":2021},{"$f":"MONTH(ChillTempAct[[#This Row],[Date]])","v":2},{"$f":"IF(ChillTempAct[[#This Row],[Month]]=J196,K196+1,1)","v":12}]
[44234,20,-1,{"$f":"AVERAGE(ChillTempAct[[#This Row],[ChillHigh]:[ChillLow]])","v":9.5},{"$f":"IF(ChillTempAct[[#This Row],[ChillAve]]<65,65-ChillTempAct[[#This Row],[ChillAve]],0)","v":55.5},{"$f":"INDEX(TempAdj[AdjustPct],MATCH(MONTH(ChillTempAct[[#This Row],[Date]]),TempAdj[Month],0))","v":3.9800000000000002E-2},{"$f":"ChillTempAct[[#This Row],[ChillHDD]]*(1+ChillTempAct[[#This Row],[ChillAdj]])","v":57.7089},{"$f":"SUMPRODUCT((RankNHDD[Month]=ChillTempAct[[#This Row],[Month]])*(RankNHDD[Rank]=ChillTempAct[[#This Row],[Rank]])*RankNHDD[KIRKNHDD])","v":36.764934318555007},{"$f":"YEAR(ChillTempAct[[#This Row],[Date]])","v":2021},{"$f":"MONTH(ChillTempAct[[#This Row],[Date]])","v":2},{"$f":"IF(ChillTempAct[[#This Row],[Month]]=J197,K197+1,1)","v":13}]
[44247,30,5,{"$f":"AVERAGE(ChillTempAct[[#This Row],[ChillHigh]:[ChillLow]])","v":17.5},{"$f":"IF(ChillTempAct[[#This Row],[ChillAve]]<65,65-ChillTempAct[[#This Row],[ChillAve]],0)","v":47.5},{"$f":"INDEX(TempAdj[AdjustPct],MATCH(MONTH(ChillTempAct[[#This Row],[Date]]),TempAdj[Month],0))","v":3.9800000000000002E-2},{"$f":"ChillTempAct[[#This Row],[ChillHDD]]*(1+ChillTempAct[[#This Row],[ChillAdj]])","v":49.390500000000003},{"$f":"SUMPRODUCT((RankNHDD[Month]=ChillTempAct[[#This Row],[Month]])*(RankNHDD[Rank]=ChillTempAct[[#This Row],[Rank]])*RankNHDD[KIRKNHDD])","v":35.623895730706067},{"$f":"YEAR(ChillTempAct[[#This Row],[Date]])","v":2021},{"$f":"MONTH(ChillTempAct[[#This Row],[Date]])","v":2},{"$f":"IF(ChillTempAct[[#This Row],[Month]]=J198,K198+1,1)","v":14}]
[44233,31,13,{"$f":"AVERAGE(ChillTempAct[[#This Row],[ChillHigh]:[ChillLow]])","v":22},{"$f":"IF(ChillTempAct[[#This Row],[ChillAve]]<65,65-ChillTempAct[[#This Row],[ChillAve]],0)","v":43},{"$f":"INDEX(TempAdj[AdjustPct],MATCH(MONTH(ChillTempAct[[#This Row],[Date]]),TempAdj[Month],0))","v":3.9800000000000002E-2},{"$f":"ChillTempAct[[#This Row],[ChillHDD]]*(1+ChillTempAct[[#This Row],[ChillAdj]])","v":44.711400000000005},{"$f":"SUMPRODUCT((RankNHDD[Month]=ChillTempAct[[#This Row],[Month]])*(RankNHDD[Rank]=ChillTempAct[[#This Row],[Rank]])*RankNHDD[KIRKNHDD])","v":34.460303776683091},{"$f":"YEAR(ChillTempAct[[#This Row],[Date]])","v":2021},{"$f":"MONTH(ChillTempAct[[#This Row],[Date]])","v":2},{"$f":"IF(ChillTempAct[[#This Row],[Month]]=J199,K199+1,1)","v":15}]
[44229,28,24,{"$f":"AVERAGE(ChillTempAct[[#This Row],[ChillHigh]:[ChillLow]])","v":26},{"$f":"IF(ChillTempAct[[#This Row],[ChillAve]]<65,65-ChillTempAct[[#This Row],[ChillAve]],0)","v":39},{"$f":"INDEX(TempAdj[AdjustPct],MATCH(MONTH(ChillTempAct[[#This Row],[Date]]),TempAdj[Month],0))","v":3.9800000000000002E-2},{"$f":"ChillTempAct[[#This Row],[ChillHDD]]*(1+ChillTempAct[[#This Row],[ChillAdj]])","v":40.552199999999999},{"$f":"SUMPRODUCT((RankNHDD[Month]=ChillTempAct[[#This Row],[Month]])*(RankNHDD[Rank]=ChillTempAct[[#This Row],[Rank]])*RankNHDD[KIRKNHDD])","v":33.162060755336611},{"$f":"YEAR(ChillTempAct[[#This Row],[Date]])","v":2021},{"$f":"MONTH(ChillTempAct[[#This Row],[Date]])","v":2},{"$f":"IF(ChillTempAct[[#This Row],[Month]]=J200,K200+1,1)","v":16}]
[44248,37,16,{"$f":"AVERAGE(ChillTempAct[[#This Row],[ChillHigh]:[ChillLow]])","v":26.5},{"$f":"IF(ChillTempAct[[#This Row],[ChillAve]]<65,65-ChillTempAct[[#This Row],[ChillAve]],0)","v":38.5},{"$f":"INDEX(TempAdj[AdjustPct],MATCH(MONTH(ChillTempAct[[#This Row],[Date]]),TempAdj[Month],0))","v":3.9800000000000002E-2},{"$f":"ChillTempAct[[#This Row],[ChillHDD]]*(1+ChillTempAct[[#This Row],[ChillAdj]])","v":40.032299999999999},{"$f":"SUMPRODUCT((RankNHDD[Month]=ChillTempAct[[#This Row],[Month]])*(RankNHDD[Rank]=ChillTempAct[[#This Row],[Rank]])*RankNHDD[KIRKNHDD])","v":32.132516420361256},{"$f":"YEAR(ChillTempAct[[#This Row],[Date]])","v":2021},{"$f":"MONTH(ChillTempAct[[#This Row],[Date]])","v":2},{"$f":"IF(ChillTempAct[[#This Row],[Month]]=J201,K201+1,1)","v":17}]
[44232,39,19,{"$f":"AVERAGE(ChillTempAct[[#This Row],[ChillHigh]:[ChillLow]])","v":29},{"$f":"IF(ChillTempAct[[#This Row],[ChillAve]]<65,65-ChillTempAct[[#This Row],[ChillAve]],0)","v":36},{"$f":"INDEX(TempAdj[AdjustPct],MATCH(MONTH(ChillTempAct[[#This Row],[Date]]),TempAdj[Month],0))","v":3.9800000000000002E-2},{"$f":"ChillTempAct[[#This Row],[ChillHDD]]*(1+ChillTempAct[[#This Row],[ChillAdj]])","v":37.4328},{"$f":"SUMPRODUCT((RankNHDD[Month]=ChillTempAct[[#This Row],[Month]])*(RankNHDD[Rank]=ChillTempAct[[#This Row],[Rank]])*RankNHDD[KIRKNHDD])","v":31.237635467980297},{"$f":"YEAR(ChillTempAct[[#This Row],[Date]])","v":2021},{"$f":"MONTH(ChillTempAct[[#This Row],[Date]])","v":2},{"$f":"IF(ChillTempAct[[#This Row],[Month]]=J202,K202+1,1)","v":18}]
[44228,34,26,{"$f":"AVERAGE(ChillTempAct[[#This Row],[ChillHigh]:[ChillLow]])","v":30},{"$f":"IF(ChillTempAct[[#This Row],[ChillAve]]<65,65-ChillTempAct[[#This Row],[ChillAve]],0)","v":35},{"$f":"INDEX(TempAdj[AdjustPct],MATCH(MONTH(ChillTempAct[[#This Row],[Date]]),TempAdj[Month],0))","v":3.9800000000000002E-2},{"$f":"ChillTempAct[[#This Row],[ChillHDD]]*(1+ChillTempAct[[#This Row],[ChillAdj]])","v":36.393000000000001},{"$f":"SUMPRODUCT((RankNHDD[Month]=ChillTempAct[[#This Row],[Month]])*(RankNHDD[Rank]=ChillTempAct[[#This Row],[Rank]])*RankNHDD[KIRKNHDD])","v":30.321371100164207},{"$f":"YEAR(ChillTempAct[[#This Row],[Date]])","v":2021},{"$f":"MONTH(ChillTempAct[[#This Row],[Date]])","v":2},{"$f":"IF(ChillTempAct[[#This Row],[Month]]=J203,K203+1,1)","v":19}]
[44230,36,24,{"$f":"AVERAGE(ChillTempAct[[#This Row],[ChillHigh]:[ChillLow]])","v":30},{"$f":"IF(ChillTempAct[[#This Row],[ChillAve]]<65,65-ChillTempAct[[#This Row],[ChillAve]],0)","v":35},{"$f":"INDEX(TempAdj[AdjustPct],MATCH(MONTH(ChillTempAct[[#This Row],[Date]]),TempAdj[Month],0))","v":3.9800000000000002E-2},{"$f":"ChillTempAct[[#This Row],[ChillHDD]]*(1+ChillTempAct[[#This Row],[ChillAdj]])","v":36.393000000000001},{"$f":"SUMPRODUCT((RankNHDD[Month]=ChillTempAct[[#This Row],[Month]])*(RankNHDD[Rank]=ChillTempAct[[#This Row],[Rank]])*RankNHDD[KIRKNHDD])","v":28.929610016420369},{"$f":"YEAR(ChillTempAct[[#This Row],[Date]])","v":2021},{"$f":"MONTH(ChillTempAct[[#This Row],[Date]])","v":2},{"$f":"IF(ChillTempAct[[#This Row],[Month]]=J204,K204+1,1)","v":20}]
[44249,37,24,{"$f":"AVERAGE(ChillTempAct[[#This Row],[ChillHigh]:[ChillLow]])","v":30.5},{"$f":"IF(ChillTempAct[[#This Row],[ChillAve]]<65,65-ChillTempAct[[#This Row],[ChillAve]],0)","v":34.5},{"$f":"INDEX(TempAdj[AdjustPct],MATCH(MONTH(ChillTempAct[[#This Row],[Date]]),TempAdj[Month],0))","v":3.9800000000000002E-2},{"$f":"ChillTempAct[[#This Row],[ChillHDD]]*(1+ChillTempAct[[#This Row],[ChillAdj]])","v":35.873100000000001},{"$f":"SUMPRODUCT((RankNHDD[Month]=ChillTempAct[[#This Row],[Month]])*(RankNHDD[Rank]=ChillTempAct[[#This Row],[Rank]])*RankNHDD[KIRKNHDD])","v":27.744831691297215},{"$f":"YEAR(ChillTempAct[[#This Row],[Date]])","v":2021},{"$f":"MONTH(ChillTempAct[[#This Row],[Date]])","v":2},{"$f":"IF(ChillTempAct[[#This Row],[Month]]=J205,K205+1,1)","v":21}]
[44253,43,24,{"$f":"AVERAGE(ChillTempAct[[#This Row],[ChillHigh]:[ChillLow]])","v":33.5},{"$f":"IF(ChillTempAct[[#This Row],[ChillAve]]<65,65-ChillTempAct[[#This Row],[ChillAve]],0)","v":31.5},{"$f":"INDEX(TempAdj[AdjustPct],MATCH(MONTH(ChillTempAct[[#This Row],[Date]]),TempAdj[Month],0))","v":3.9800000000000002E-2},{"$f":"ChillTempAct[[#This Row],[ChillHDD]]*(1+ChillTempAct[[#This Row],[ChillAdj]])","v":32.753700000000002},{"$f":"SUMPRODUCT((RankNHDD[Month]=ChillTempAct[[#This Row],[Month]])*(RankNHDD[Rank]=ChillTempAct[[#This Row],[Rank]])*RankNHDD[KIRKNHDD])","v":26.327175697865357},{"$f":"YEAR(ChillTempAct[[#This Row],[Date]])","v":2021},{"$f":"MONTH(ChillTempAct[[#This Row],[Date]])","v":2},{"$f":"IF(ChillTempAct[[#This Row],[Month]]=J206,K206+1,1)","v":22}]
[44252,44,25,{"$f":"AVERAGE(ChillTempAct[[#This Row],[ChillHigh]:[ChillLow]])","v":34.5},{"$f":"IF(ChillTempAct[[#This Row],[ChillAve]]<65,65-ChillTempAct[[#This Row],[ChillAve]],0)","v":30.5},{"$f":"INDEX(TempAdj[AdjustPct],MATCH(MONTH(ChillTempAct[[#This Row],[Date]]),TempAdj[Month],0))","v":3.9800000000000002E-2},{"$f":"ChillTempAct[[#This Row],[ChillHDD]]*(1+ChillTempAct[[#This Row],[ChillAdj]])","v":31.713900000000002},{"$f":"SUMPRODUCT((RankNHDD[Month]=ChillTempAct[[#This Row],[Month]])*(RankNHDD[Rank]=ChillTempAct[[#This Row],[Rank]])*RankNHDD[KIRKNHDD])","v":24.963612479474556},{"$f":"YEAR(ChillTempAct[[#This Row],[Date]])","v":2021},{"$f":"MONTH(ChillTempAct[[#This Row],[Date]])","v":2},{"$f":"IF(ChillTempAct[[#This Row],[Month]]=J207,K207+1,1)","v":23}]
[44231,52,25,{"$f":"AVERAGE(ChillTempAct[[#This Row],[ChillHigh]:[ChillLow]])","v":38.5},{"$f":"IF(ChillTempAct[[#This Row],[ChillAve]]<65,65-ChillTempAct[[#This Row],[ChillAve]],0)","v":26.5},{"$f":"INDEX(TempAdj[AdjustPct],MATCH(MONTH(ChillTempAct[[#This Row],[Date]]),TempAdj[Month],0))","v":3.9800000000000002E-2},{"$f":"ChillTempAct[[#This Row],[ChillHDD]]*(1+ChillTempAct[[#This Row],[ChillAdj]])","v":27.5547},{"$f":"SUMPRODUCT((RankNHDD[Month]=ChillTempAct[[#This Row],[Month]])*(RankNHDD[Rank]=ChillTempAct[[#This Row],[Rank]])*RankNHDD[KIRKNHDD])","v":23.466264367816102},{"$f":"YEAR(ChillTempAct[[#This Row],[Date]])","v":2021},{"$f":"MONTH(ChillTempAct[[#This Row],[Date]])","v":2},{"$f":"IF(ChillTempAct[[#This Row],[Month]]=J208,K208+1,1)","v":24}]
[44250,53,24,{"$f":"AVERAGE(ChillTempAct[[#This Row],[ChillHigh]:[ChillLow]])","v":38.5},{"$f":"IF(ChillTempAct[[#This Row],[ChillAve]]<65,65-ChillTempAct[[#This Row],[ChillAve]],0)","v":26.5},{"$f":"INDEX(TempAdj[AdjustPct],MATCH(MONTH(ChillTempAct[[#This Row],[Date]]),TempAdj[Month],0))","v":3.9800000000000002E-2},{"$f":"ChillTempAct[[#This Row],[ChillHDD]]*(1+ChillTempAct[[#This Row],[ChillAdj]])","v":27.5547},{"$f":"SUMPRODUCT((RankNHDD[Month]=ChillTempAct[[#This Row],[Month]])*(RankNHDD[Rank]=ChillTempAct[[#This Row],[Rank]])*RankNHDD[KIRKNHDD])","v":22.007783251231526},{"$f":"YEAR(ChillTempAct[[#This Row],[Date]])","v":2021},{"$f":"MONTH(ChillTempAct[[#This Row],[Date]])","v":2},{"$f":"IF(ChillTempAct[[#This Row],[Month]]=J209,K209+1,1)","v":25}]
[44254,48,29,{"$f":"AVERAGE(ChillTempAct[[#This Row],[ChillHigh]:[ChillLow]])","v":38.5},{"$f":"IF(ChillTempAct[[#This Row],[ChillAve]]<65,65-ChillTempAct[[#This Row],[ChillAve]],0)","v":26.5},{"$f":"INDEX(TempAdj[AdjustPct],MATCH(MONTH(ChillTempAct[[#This Row],[Date]]),TempAdj[Month],0))","v":3.9800000000000002E-2},{"$f":"ChillTempAct[[#This Row],[ChillHDD]]*(1+ChillTempAct[[#This Row],[ChillAdj]])","v":27.5547},{"$f":"SUMPRODUCT((RankNHDD[Month]=ChillTempAct[[#This Row],[Month]])*(RankNHDD[Rank]=ChillTempAct[[#This Row],[Rank]])*RankNHDD[KIRKNHDD])","v":19.816995073891629},{"$f":"YEAR(ChillTempAct[[#This Row],[Date]])","v":2021},{"$f":"MONTH(ChillTempAct[[#This Row],[Date]])","v":2},{"$f":"IF(ChillTempAct[[#This Row],[Month]]=J210,K210+1,1)","v":26}]
[44255,58,29,{"$f":"AVERAGE(ChillTempAct[[#This Row],[ChillHigh]:[ChillLow]])","v":43.5},{"$f":"IF(ChillTempAct[[#This Row],[ChillAve]]<65,65-ChillTempAct[[#This Row],[ChillAve]],0)","v":21.5},{"$f":"INDEX(TempAdj[AdjustPct],MATCH(MONTH(ChillTempAct[[#This Row],[Date]]),TempAdj[Month],0))","v":3.9800000000000002E-2},{"$f":"ChillTempAct[[#This Row],[ChillHDD]]*(1+ChillTempAct[[#This Row],[ChillAdj]])","v":22.355700000000002},{"$f":"SUMPRODUCT((RankNHDD[Month]=ChillTempAct[[#This Row],[Month]])*(RankNHDD[Rank]=ChillTempAct[[#This Row],[Rank]])*RankNHDD[KIRKNHDD])","v":17.022586206896555},{"$f":"YEAR(ChillTempAct[[#This Row],[Date]])","v":2021},{"$f":"MONTH(ChillTempAct[[#This Row],[Date]])","v":2},{"$f":"IF(ChillTempAct[[#This Row],[Month]]=J211,K211+1,1)","v":27}]
[44251,62,31,{"$f":"AVERAGE(ChillTempAct[[#This Row],[ChillHigh]:[ChillLow]])","v":46.5},{"$f":"IF(ChillTempAct[[#This Row],[ChillAve]]<65,65-ChillTempAct[[#This Row],[ChillAve]],0)","v":18.5},{"$f":"INDEX(TempAdj[AdjustPct],MATCH(MONTH(ChillTempAct[[#This Row],[Date]]),TempAdj[Month],0))","v":3.9800000000000002E-2},{"$f":"ChillTempAct[[#This Row],[ChillHDD]]*(1+ChillTempAct[[#This Row],[ChillAdj]])","v":19.2363},{"$f":"SUMPRODUCT((RankNHDD[Month]=ChillTempAct[[#This Row],[Month]])*(RankNHDD[Rank]=ChillTempAct[[#This Row],[Rank]])*RankNHDD[KIRKNHDD])","v":11.245615763546798},{"$f":"YEAR(ChillTempAct[[#This Row],[Date]])","v":2021},{"$f":"MONTH(ChillTempAct[[#This Row],[Date]])","v":2},{"$f":"IF(ChillTempAct[[#This Row],[Month]]=J212,K212+1,1)","v":28}]
[44256,49,23,{"$f":"AVERAGE(ChillTempAct[[#This Row],[ChillHigh]:[ChillLow]])","v":36},{"$f":"IF(ChillTempAct[[#This Row],[ChillAve]]<65,65-ChillTempAct[[#This Row],[ChillAve]],0)","v":29},{"$f":"INDEX(TempAdj[AdjustPct],MATCH(MONTH(ChillTempAct[[#This Row],[Date]]),TempAdj[Month],0))","v":7.0599999999999996E-2},{"$f":"ChillTempAct[[#This Row],[ChillHDD]]*(1+ChillTempAct[[#This Row],[ChillAdj]])","v":31.0474},{"$f":"SUMPRODUCT((RankNHDD[Month]=ChillTempAct[[#This Row],[Month]])*(RankNHDD[Rank]=ChillTempAct[[#This Row],[Rank]])*RankNHDD[KIRKNHDD])","v":51.628887652947725},{"$f":"YEAR(ChillTempAct[[#This Row],[Date]])","v":2021},{"$f":"MONTH(ChillTempAct[[#This Row],[Date]])","v":3},{"$f":"IF(ChillTempAct[[#This Row],[Month]]=J213,K213+1,1)","v":1}]
[44257,49,23,{"$f":"AVERAGE(ChillTempAct[[#This Row],[ChillHigh]:[ChillLow]])","v":36},{"$f":"IF(ChillTempAct[[#This Row],[ChillAve]]<65,65-ChillTempAct[[#This Row],[ChillAve]],0)","v":29},{"$f":"INDEX(TempAdj[AdjustPct],MATCH(MONTH(ChillTempAct[[#This Row],[Date]]),TempAdj[Month],0))","v":7.0599999999999996E-2},{"$f":"ChillTempAct[[#This Row],[ChillHDD]]*(1+ChillTempAct[[#This Row],[ChillAdj]])","v":31.0474},{"$f":"SUMPRODUCT((RankNHDD[Month]=ChillTempAct[[#This Row],[Month]])*(RankNHDD[Rank]=ChillTempAct[[#This Row],[Rank]])*RankNHDD[KIRKNHDD])","v":43.434677419354827},{"$f":"YEAR(ChillTempAct[[#This Row],[Date]])","v":2021},{"$f":"MONTH(ChillTempAct[[#This Row],[Date]])","v":3},{"$f":"IF(ChillTempAct[[#This Row],[Month]]=J214,K214+1,1)","v":2}]
[44273,41,35,{"$f":"AVERAGE(ChillTempAct[[#This Row],[ChillHigh]:[ChillLow]])","v":38},{"$f":"IF(ChillTempAct[[#This Row],[ChillAve]]<65,65-ChillTempAct[[#This Row],[ChillAve]],0)","v":27},{"$f":"INDEX(TempAdj[AdjustPct],MATCH(MONTH(ChillTempAct[[#This Row],[Date]]),TempAdj[Month],0))","v":7.0599999999999996E-2},{"$f":"ChillTempAct[[#This Row],[ChillHDD]]*(1+ChillTempAct[[#This Row],[ChillAdj]])","v":28.906199999999998},{"$f":"SUMPRODUCT((RankNHDD[Month]=ChillTempAct[[#This Row],[Month]])*(RankNHDD[Rank]=ChillTempAct[[#This Row],[Rank]])*RankNHDD[KIRKNHDD])","v":40.113602150537631},{"$f":"YEAR(ChillTempAct[[#This Row],[Date]])","v":2021},{"$f":"MONTH(ChillTempAct[[#This Row],[Date]])","v":3},{"$f":"IF(ChillTempAct[[#This Row],[Month]]=J215,K215+1,1)","v":3}]
[44274,48,29,{"$f":"AVERAGE(ChillTempAct[[#This Row],[ChillHigh]:[ChillLow]])","v":38.5},{"$f":"IF(ChillTempAct[[#This Row],[ChillAve]]<65,65-ChillTempAct[[#This Row],[ChillAve]],0)","v":26.5},{"$f":"INDEX(TempAdj[AdjustPct],MATCH(MONTH(ChillTempAct[[#This Row],[Date]]),TempAdj[Month],0))","v":7.0599999999999996E-2},{"$f":"ChillTempAct[[#This Row],[ChillHDD]]*(1+ChillTempAct[[#This Row],[ChillAdj]])","v":28.370899999999999},{"$f":"SUMPRODUCT((RankNHDD[Month]=ChillTempAct[[#This Row],[Month]])*(RankNHDD[Rank]=ChillTempAct[[#This Row],[Rank]])*RankNHDD[KIRKNHDD])","v":37.790615498702252},{"$f":"YEAR(ChillTempAct[[#This Row],[Date]])","v":2021},{"$f":"MONTH(ChillTempAct[[#This Row],[Date]])","v":3},{"$f":"IF(ChillTempAct[[#This Row],[Month]]=J216,K216+1,1)","v":4}]
[44275,52,28,{"$f":"AVERAGE(ChillTempAct[[#This Row],[ChillHigh]:[ChillLow]])","v":40},{"$f":"IF(ChillTempAct[[#This Row],[ChillAve]]<65,65-ChillTempAct[[#This Row],[ChillAve]],0)","v":25},{"$f":"INDEX(TempAdj[AdjustPct],MATCH(MONTH(ChillTempAct[[#This Row],[Date]]),TempAdj[Month],0))","v":7.0599999999999996E-2},{"$f":"ChillTempAct[[#This Row],[ChillHDD]]*(1+ChillTempAct[[#This Row],[ChillAdj]])","v":26.765000000000001},{"$f":"SUMPRODUCT((RankNHDD[Month]=ChillTempAct[[#This Row],[Month]])*(RankNHDD[Rank]=ChillTempAct[[#This Row],[Rank]])*RankNHDD[KIRKNHDD])","v":36.396559139784941},{"$f":"YEAR(ChillTempAct[[#This Row],[Date]])","v":2021},{"$f":"MONTH(ChillTempAct[[#This Row],[Date]])","v":3},{"$f":"IF(ChillTempAct[[#This Row],[Month]]=J217,K217+1,1)","v":5}]
[44281,42,39,{"$f":"AVERAGE(ChillTempAct[[#This Row],[ChillHigh]:[ChillLow]])","v":40.5},{"$f":"IF(ChillTempAct[[#This Row],[ChillAve]]<65,65-ChillTempAct[[#This Row],[ChillAve]],0)","v":24.5},{"$f":"INDEX(TempAdj[AdjustPct],MATCH(MONTH(ChillTempAct[[#This Row],[Date]]),TempAdj[Month],0))","v":7.0599999999999996E-2},{"$f":"ChillTempAct[[#This Row],[ChillHDD]]*(1+ChillTempAct[[#This Row],[ChillAdj]])","v":26.229700000000001},{"$f":"SUMPRODUCT((RankNHDD[Month]=ChillTempAct[[#This Row],[Month]])*(RankNHDD[Rank]=ChillTempAct[[#This Row],[Rank]])*RankNHDD[KIRKNHDD])","v":34.914068100358421},{"$f":"YEAR(ChillTempAct[[#This Row],[Date]])","v":2021},{"$f":"MONTH(ChillTempAct[[#This Row],[Date]])","v":3},{"$f":"IF(ChillTempAct[[#This Row],[Month]]=J218,K218+1,1)","v":6}]
[44258,59,24,{"$f":"AVERAGE(ChillTempAct[[#This Row],[ChillHigh]:[ChillLow]])","v":41.5},{"$f":"IF(ChillTempAct[[#This Row],[ChillAve]]<65,65-ChillTempAct[[#This Row],[ChillAve]],0)","v":23.5},{"$f":"INDEX(TempAdj[AdjustPct],MATCH(MONTH(ChillTempAct[[#This Row],[Date]]),TempAdj[Month],0))","v":7.0599999999999996E-2},{"$f":"ChillTempAct[[#This Row],[ChillHDD]]*(1+ChillTempAct[[#This Row],[ChillAdj]])","v":25.159099999999999},{"$f":"SUMPRODUCT((RankNHDD[Month]=ChillTempAct[[#This Row],[Month]])*(RankNHDD[Rank]=ChillTempAct[[#This Row],[Rank]])*RankNHDD[KIRKNHDD])","v":33.644802867383511},{"$f":"YEAR(ChillTempAct[[#This Row],[Date]])","v":2021},{"$f":"MONTH(ChillTempAct[[#This Row],[Date]])","v":3},{"$f":"IF(ChillTempAct[[#This Row],[Month]]=J219,K219+1,1)","v":7}]
[44272,45,39,{"$f":"AVERAGE(ChillTempAct[[#This Row],[ChillHigh]:[ChillLow]])","v":42},{"$f":"IF(ChillTempAct[[#This Row],[ChillAve]]<65,65-ChillTempAct[[#This Row],[ChillAve]],0)","v":23},{"$f":"INDEX(TempAdj[AdjustPct],MATCH(MONTH(ChillTempAct[[#This Row],[Date]]),TempAdj[Month],0))","v":7.0599999999999996E-2},{"$f":"ChillTempAct[[#This Row],[ChillHDD]]*(1+ChillTempAct[[#This Row],[ChillAdj]])","v":24.623799999999999},{"$f":"SUMPRODUCT((RankNHDD[Month]=ChillTempAct[[#This Row],[Month]])*(RankNHDD[Rank]=ChillTempAct[[#This Row],[Rank]])*RankNHDD[KIRKNHDD])","v":32.487580645161287},{"$f":"YEAR(ChillTempAct[[#This Row],[Date]])","v":2021},{"$f":"MONTH(ChillTempAct[[#This Row],[Date]])","v":3},{"$f":"IF(ChillTempAct[[#This Row],[Month]]=J220,K220+1,1)","v":8}]
[44268,50,35,{"$f":"AVERAGE(ChillTempAct[[#This Row],[ChillHigh]:[ChillLow]])","v":42.5},{"$f":"IF(ChillTempAct[[#This Row],[ChillAve]]<65,65-ChillTempAct[[#This Row],[ChillAve]],0)","v":22.5},{"$f":"INDEX(TempAdj[AdjustPct],MATCH(MONTH(ChillTempAct[[#This Row],[Date]]),TempAdj[Month],0))","v":7.0599999999999996E-2},{"$f":"ChillTempAct[[#This Row],[ChillHDD]]*(1+ChillTempAct[[#This Row],[ChillAdj]])","v":24.0885},{"$f":"SUMPRODUCT((RankNHDD[Month]=ChillTempAct[[#This Row],[Month]])*(RankNHDD[Rank]=ChillTempAct[[#This Row],[Rank]])*RankNHDD[KIRKNHDD])","v":31.421935483870971},{"$f":"YEAR(ChillTempAct[[#This Row],[Date]])","v":2021},{"$f":"MONTH(ChillTempAct[[#This Row],[Date]])","v":3},{"$f":"IF(ChillTempAct[[#This Row],[Month]]=J221,K221+1,1)","v":9}]
[44261,55,31,{"$f":"AVERAGE(ChillTempAct[[#This Row],[ChillHigh]:[ChillLow]])","v":43},{"$f":"IF(ChillTempAct[[#This Row],[ChillAve]]<65,65-ChillTempAct[[#This Row],[ChillAve]],0)","v":22},{"$f":"INDEX(TempAdj[AdjustPct],MATCH(MONTH(ChillTempAct[[#This Row],[Date]]),TempAdj[Month],0))","v":7.0599999999999996E-2},{"$f":"ChillTempAct[[#This Row],[ChillHDD]]*(1+ChillTempAct[[#This Row],[ChillAdj]])","v":23.5532},{"$f":"SUMPRODUCT((RankNHDD[Month]=ChillTempAct[[#This Row],[Month]])*(RankNHDD[Rank]=ChillTempAct[[#This Row],[Rank]])*RankNHDD[KIRKNHDD])","v":30.452204301075266},{"$f":"YEAR(ChillTempAct[[#This Row],[Date]])","v":2021},{"$f":"MONTH(ChillTempAct[[#This Row],[Date]])","v":3},{"$f":"IF(ChillTempAct[[#This Row],[Month]]=J222,K222+1,1)","v":10}]
[44271,49,37,{"$f":"AVERAGE(ChillTempAct[[#This Row],[ChillHigh]:[ChillLow]])","v":43},{"$f":"IF(ChillTempAct[[#This Row],[ChillAve]]<65,65-ChillTempAct[[#This Row],[ChillAve]],0)","v":22},{"$f":"INDEX(TempAdj[AdjustPct],MATCH(MONTH(ChillTempAct[[#This Row],[Date]]),TempAdj[Month],0))","v":7.0599999999999996E-2},{"$f":"ChillTempAct[[#This Row],[ChillHDD]]*(1+ChillTempAct[[#This Row],[ChillAdj]])","v":23.5532},{"$f":"SUMPRODUCT((RankNHDD[Month]=ChillTempAct[[#This Row],[Month]])*(RankNHDD[Rank]=ChillTempAct[[#This Row],[Rank]])*RankNHDD[KIRKNHDD])","v":29.412365591397851},{"$f":"YEAR(ChillTempAct[[#This Row],[Date]])","v":2021},{"$f":"MONTH(ChillTempAct[[#This Row],[Date]])","v":3},{"$f":"IF(ChillTempAct[[#This Row],[Month]]=J223,K223+1,1)","v":11}]
[44276,58,28,{"$f":"AVERAGE(ChillTempAct[[#This Row],[ChillHigh]:[ChillLow]])","v":43},{"$f":"IF(ChillTempAct[[#This Row],[ChillAve]]<65,65-ChillTempAct[[#This Row],[ChillAve]],0)","v":22},{"$f":"INDEX(TempAdj[AdjustPct],MATCH(MONTH(ChillTempAct[[#This Row],[Date]]),TempAdj[Month],0))","v":7.0599999999999996E-2},{"$f":"ChillTempAct[[#This Row],[ChillHDD]]*(1+ChillTempAct[[#This Row],[ChillAdj]])","v":23.5532},{"$f":"SUMPRODUCT((RankNHDD[Month]=ChillTempAct[[#This Row],[Month]])*(RankNHDD[Rank]=ChillTempAct[[#This Row],[Rank]])*RankNHDD[KIRKNHDD])","v":28.303655913978496},{"$f":"YEAR(ChillTempAct[[#This Row],[Date]])","v":2021},{"$f":"MONTH(ChillTempAct[[#This Row],[Date]])","v":3},{"$f":"IF(ChillTempAct[[#This Row],[Month]]=J224,K224+1,1)","v":12}]
[44286,55,31,{"$f":"AVERAGE(ChillTempAct[[#This Row],[ChillHigh]:[ChillLow]])","v":43},{"$f":"IF(ChillTempAct[[#This Row],[ChillAve]]<65,65-ChillTempAct[[#This Row],[ChillAve]],0)","v":22},{"$f":"INDEX(TempAdj[AdjustPct],MATCH(MONTH(ChillTempAct[[#This Row],[Date]]),TempAdj[Month],0))","v":7.0599999999999996E-2},{"$f":"ChillTempAct[[#This Row],[ChillHDD]]*(1+ChillTempAct[[#This Row],[ChillAdj]])","v":23.5532},{"$f":"SUMPRODUCT((RankNHDD[Month]=ChillTempAct[[#This Row],[Month]])*(RankNHDD[Rank]=ChillTempAct[[#This Row],[Rank]])*RankNHDD[KIRKNHDD])","v":27.318673835125448},{"$f":"YEAR(ChillTempAct[[#This Row],[Date]])","v":2021},{"$f":"MONTH(ChillTempAct[[#This Row],[Date]])","v":3},{"$f":"IF(ChillTempAct[[#This Row],[Month]]=J225,K225+1,1)","v":13}]
[44280,48,40,{"$f":"AVERAGE(ChillTempAct[[#This Row],[ChillHigh]:[ChillLow]])","v":44},{"$f":"IF(ChillTempAct[[#This Row],[ChillAve]]<65,65-ChillTempAct[[#This Row],[ChillAve]],0)","v":21},{"$f":"INDEX(TempAdj[AdjustPct],MATCH(MONTH(ChillTempAct[[#This Row],[Date]]),TempAdj[Month],0))","v":7.0599999999999996E-2},{"$f":"ChillTempAct[[#This Row],[ChillHDD]]*(1+ChillTempAct[[#This Row],[ChillAdj]])","v":22.482600000000001},{"$f":"SUMPRODUCT((RankNHDD[Month]=ChillTempAct[[#This Row],[Month]])*(RankNHDD[Rank]=ChillTempAct[[#This Row],[Rank]])*RankNHDD[KIRKNHDD])","v":26.526612903225807},{"$f":"YEAR(ChillTempAct[[#This Row],[Date]])","v":2021},{"$f":"MONTH(ChillTempAct[[#This Row],[Date]])","v":3},{"$f":"IF(ChillTempAct[[#This Row],[Month]]=J226,K226+1,1)","v":14}]
[44270,48,41,{"$f":"AVERAGE(ChillTempAct[[#This Row],[ChillHigh]:[ChillLow]])","v":44.5},{"$f":"IF(ChillTempAct[[#This Row],[ChillAve]]<65,65-ChillTempAct[[#This Row],[ChillAve]],0)","v":20.5},{"$f":"INDEX(TempAdj[AdjustPct],MATCH(MONTH(ChillTempAct[[#This Row],[Date]]),TempAdj[Month],0))","v":7.0599999999999996E-2},{"$f":"ChillTempAct[[#This Row],[ChillHDD]]*(1+ChillTempAct[[#This Row],[ChillAdj]])","v":21.947299999999998},{"$f":"SUMPRODUCT((RankNHDD[Month]=ChillTempAct[[#This Row],[Month]])*(RankNHDD[Rank]=ChillTempAct[[#This Row],[Rank]])*RankNHDD[KIRKNHDD])","v":25.620566679026073},{"$f":"YEAR(ChillTempAct[[#This Row],[Date]])","v":2021},{"$f":"MONTH(ChillTempAct[[#This Row],[Date]])","v":3},{"$f":"IF(ChillTempAct[[#This Row],[Month]]=J227,K227+1,1)","v":15}]
[44267,56,34,{"$f":"AVERAGE(ChillTempAct[[#This Row],[ChillHigh]:[ChillLow]])","v":45},{"$f":"IF(ChillTempAct[[#This Row],[ChillAve]]<65,65-ChillTempAct[[#This Row],[ChillAve]],0)","v":20},{"$f":"INDEX(TempAdj[AdjustPct],MATCH(MONTH(ChillTempAct[[#This Row],[Date]]),TempAdj[Month],0))","v":7.0599999999999996E-2},{"$f":"ChillTempAct[[#This Row],[ChillHDD]]*(1+ChillTempAct[[#This Row],[ChillAdj]])","v":21.411999999999999},{"$f":"SUMPRODUCT((RankNHDD[Month]=ChillTempAct[[#This Row],[Month]])*(RankNHDD[Rank]=ChillTempAct[[#This Row],[Rank]])*RankNHDD[KIRKNHDD])","v":24.763602150537633},{"$f":"YEAR(ChillTempAct[[#This Row],[Date]])","v":2021},{"$f":"MONTH(ChillTempAct[[#This Row],[Date]])","v":3},{"$f":"IF(ChillTempAct[[#This Row],[Month]]=J228,K228+1,1)","v":16}]
[44259,67,24,{"$f":"AVERAGE(ChillTempAct[[#This Row],[ChillHigh]:[ChillLow]])","v":45.5},{"$f":"IF(ChillTempAct[[#This Row],[ChillAve]]<65,65-ChillTempAct[[#This Row],[ChillAve]],0)","v":19.5},{"$f":"INDEX(TempAdj[AdjustPct],MATCH(MONTH(ChillTempAct[[#This Row],[Date]]),TempAdj[Month],0))","v":7.0599999999999996E-2},{"$f":"ChillTempAct[[#This Row],[ChillHDD]]*(1+ChillTempAct[[#This Row],[ChillAdj]])","v":20.8767},{"$f":"SUMPRODUCT((RankNHDD[Month]=ChillTempAct[[#This Row],[Month]])*(RankNHDD[Rank]=ChillTempAct[[#This Row],[Rank]])*RankNHDD[KIRKNHDD])","v":23.623835125448029},{"$f":"YEAR(ChillTempAct[[#This Row],[Date]])","v":2021},{"$f":"MONTH(ChillTempAct[[#This Row],[Date]])","v":3},{"$f":"IF(ChillTempAct[[#This Row],[Month]]=J229,K229+1,1)","v":17}]
[44284,55,38,{"$f":"AVERAGE(ChillTempAct[[#This Row],[ChillHigh]:[ChillLow]])","v":46.5},{"$f":"IF(ChillTempAct[[#This Row],[ChillAve]]<65,65-ChillTempAct[[#This Row],[ChillAve]],0)","v":18.5},{"$f":"INDEX(TempAdj[AdjustPct],MATCH(MONTH(ChillTempAct[[#This Row],[Date]]),TempAdj[Month],0))","v":7.0599999999999996E-2},{"$f":"ChillTempAct[[#This Row],[ChillHDD]]*(1+ChillTempAct[[#This Row],[ChillAdj]])","v":19.806100000000001},{"$f":"SUMPRODUCT((RankNHDD[Month]=ChillTempAct[[#This Row],[Month]])*(RankNHDD[Rank]=ChillTempAct[[#This Row],[Rank]])*RankNHDD[KIRKNHDD])","v":22.574892473118279},{"$f":"YEAR(ChillTempAct[[#This Row],[Date]])","v":2021},{"$f":"MONTH(ChillTempAct[[#This Row],[Date]])","v":3},{"$f":"IF(ChillTempAct[[#This Row],[Month]]=J230,K230+1,1)","v":18}]
[44277,66,28,{"$f":"AVERAGE(ChillTempAct[[#This Row],[ChillHigh]:[ChillLow]])","v":47},{"$f":"IF(ChillTempAct[[#This Row],[ChillAve]]<65,65-ChillTempAct[[#This Row],[ChillAve]],0)","v":18},{"$f":"INDEX(TempAdj[AdjustPct],MATCH(MONTH(ChillTempAct[[#This Row],[Date]]),TempAdj[Month],0))","v":7.0599999999999996E-2},{"$f":"ChillTempAct[[#This Row],[ChillHDD]]*(1+ChillTempAct[[#This Row],[ChillAdj]])","v":19.270800000000001},{"$f":"SUMPRODUCT((RankNHDD[Month]=ChillTempAct[[#This Row],[Month]])*(RankNHDD[Rank]=ChillTempAct[[#This Row],[Rank]])*RankNHDD[KIRKNHDD])","v":21.718351254480282},{"$f":"YEAR(ChillTempAct[[#This Row],[Date]])","v":2021},{"$f":"MONTH(ChillTempAct[[#This Row],[Date]])","v":3},{"$f":"IF(ChillTempAct[[#This Row],[Month]]=J231,K231+1,1)","v":19}]
[44269,55,41,{"$f":"AVERAGE(ChillTempAct[[#This Row],[ChillHigh]:[ChillLow]])","v":48},{"$f":"IF(ChillTempAct[[#This Row],[ChillAve]]<65,65-ChillTempAct[[#This Row],[ChillAve]],0)","v":17},{"$f":"INDEX(TempAdj[AdjustPct],MATCH(MONTH(ChillTempAct[[#This Row],[Date]]),TempAdj[Month],0))","v":7.0599999999999996E-2},{"$f":"ChillTempAct[[#This Row],[ChillHDD]]*(1+ChillTempAct[[#This Row],[ChillAdj]])","v":18.200199999999999},{"$f":"SUMPRODUCT((RankNHDD[Month]=ChillTempAct[[#This Row],[Month]])*(RankNHDD[Rank]=ChillTempAct[[#This Row],[Rank]])*RankNHDD[KIRKNHDD])","v":20.845430107526884},{"$f":"YEAR(ChillTempAct[[#This Row],[Date]])","v":2021},{"$f":"MONTH(ChillTempAct[[#This Row],[Date]])","v":3},{"$f":"IF(ChillTempAct[[#This Row],[Month]]=J232,K232+1,1)","v":20}]
[44283,61,35,{"$f":"AVERAGE(ChillTempAct[[#This Row],[ChillHigh]:[ChillLow]])","v":48},{"$f":"IF(ChillTempAct[[#This Row],[ChillAve]]<65,65-ChillTempAct[[#This Row],[ChillAve]],0)","v":17},{"$f":"INDEX(TempAdj[AdjustPct],MATCH(MONTH(ChillTempAct[[#This Row],[Date]]),TempAdj[Month],0))","v":7.0599999999999996E-2},{"$f":"ChillTempAct[[#This Row],[ChillHDD]]*(1+ChillTempAct[[#This Row],[ChillAdj]])","v":18.200199999999999},{"$f":"SUMPRODUCT((RankNHDD[Month]=ChillTempAct[[#This Row],[Month]])*(RankNHDD[Rank]=ChillTempAct[[#This Row],[Rank]])*RankNHDD[KIRKNHDD])","v":19.96516129032258},{"$f":"YEAR(ChillTempAct[[#This Row],[Date]])","v":2021},{"$f":"MONTH(ChillTempAct[[#This Row],[Date]])","v":3},{"$f":"IF(ChillTempAct[[#This Row],[Month]]=J233,K233+1,1)","v":21}]
[44262,64,33,{"$f":"AVERAGE(ChillTempAct[[#This Row],[ChillHigh]:[ChillLow]])","v":48.5},{"$f":"IF(ChillTempAct[[#This Row],[ChillAve]]<65,65-ChillTempAct[[#This Row],[ChillAve]],0)","v":16.5},{"$f":"INDEX(TempAdj[AdjustPct],MATCH(MONTH(ChillTempAct[[#This Row],[Date]]),TempAdj[Month],0))","v":7.0599999999999996E-2},{"$f":"ChillTempAct[[#This Row],[ChillHDD]]*(1+ChillTempAct[[#This Row],[ChillAdj]])","v":17.664899999999999},{"$f":"SUMPRODUCT((RankNHDD[Month]=ChillTempAct[[#This Row],[Month]])*(RankNHDD[Rank]=ChillTempAct[[#This Row],[Rank]])*RankNHDD[KIRKNHDD])","v":18.934336917562728},{"$f":"YEAR(ChillTempAct[[#This Row],[Date]])","v":2021},{"$f":"MONTH(ChillTempAct[[#This Row],[Date]])","v":3},{"$f":"IF(ChillTempAct[[#This Row],[Month]]=J234,K234+1,1)","v":22}]
[44282,58,40,{"$f":"AVERAGE(ChillTempAct[[#This Row],[ChillHigh]:[ChillLow]])","v":49},{"$f":"IF(ChillTempAct[[#This Row],[ChillAve]]<65,65-ChillTempAct[[#This Row],[ChillAve]],0)","v":16},{"$f":"INDEX(TempAdj[AdjustPct],MATCH(MONTH(ChillTempAct[[#This Row],[Date]]),TempAdj[Month],0))","v":7.0599999999999996E-2},{"$f":"ChillTempAct[[#This Row],[ChillHDD]]*(1+ChillTempAct[[#This Row],[ChillAdj]])","v":17.1296},{"$f":"SUMPRODUCT((RankNHDD[Month]=ChillTempAct[[#This Row],[Month]])*(RankNHDD[Rank]=ChillTempAct[[#This Row],[Rank]])*RankNHDD[KIRKNHDD])","v":17.770818193054012},{"$f":"YEAR(ChillTempAct[[#This Row],[Date]])","v":2021},{"$f":"MONTH(ChillTempAct[[#This Row],[Date]])","v":3},{"$f":"IF(ChillTempAct[[#This Row],[Month]]=J235,K235+1,1)","v":23}]
[44260,66,33,{"$f":"AVERAGE(ChillTempAct[[#This Row],[ChillHigh]:[ChillLow]])","v":49.5},{"$f":"IF(ChillTempAct[[#This Row],[ChillAve]]<65,65-ChillTempAct[[#This Row],[ChillAve]],0)","v":15.5},{"$f":"INDEX(TempAdj[AdjustPct],MATCH(MONTH(ChillTempAct[[#This Row],[Date]]),TempAdj[Month],0))","v":7.0599999999999996E-2},{"$f":"ChillTempAct[[#This Row],[ChillHDD]]*(1+ChillTempAct[[#This Row],[ChillAdj]])","v":16.5943},{"$f":"SUMPRODUCT((RankNHDD[Month]=ChillTempAct[[#This Row],[Month]])*(RankNHDD[Rank]=ChillTempAct[[#This Row],[Rank]])*RankNHDD[KIRKNHDD])","v":16.436630824372756},{"$f":"YEAR(ChillTempAct[[#This Row],[Date]])","v":2021},{"$f":"MONTH(ChillTempAct[[#This Row],[Date]])","v":3},{"$f":"IF(ChillTempAct[[#This Row],[Month]]=J236,K236+1,1)","v":24}]
[44279,60,47,{"$f":"AVERAGE(ChillTempAct[[#This Row],[ChillHigh]:[ChillLow]])","v":53.5},{"$f":"IF(ChillTempAct[[#This Row],[ChillAve]]<65,65-ChillTempAct[[#This Row],[ChillAve]],0)","v":11.5},{"$f":"INDEX(TempAdj[AdjustPct],MATCH(MONTH(ChillTempAct[[#This Row],[Date]]),TempAdj[Month],0))","v":7.0599999999999996E-2},{"$f":"ChillTempAct[[#This Row],[ChillHDD]]*(1+ChillTempAct[[#This Row],[ChillAdj]])","v":12.3119},{"$f":"SUMPRODUCT((RankNHDD[Month]=ChillTempAct[[#This Row],[Month]])*(RankNHDD[Rank]=ChillTempAct[[#This Row],[Rank]])*RankNHDD[KIRKNHDD])","v":15.104068100358422},{"$f":"YEAR(ChillTempAct[[#This Row],[Date]])","v":2021},{"$f":"MONTH(ChillTempAct[[#This Row],[Date]])","v":3},{"$f":"IF(ChillTempAct[[#This Row],[Month]]=J237,K237+1,1)","v":25}]
[44266,73,36,{"$f":"AVERAGE(ChillTempAct[[#This Row],[ChillHigh]:[ChillLow]])","v":54.5},{"$f":"IF(ChillTempAct[[#This Row],[ChillAve]]<65,65-ChillTempAct[[#This Row],[ChillAve]],0)","v":10.5},{"$f":"INDEX(TempAdj[AdjustPct],MATCH(MONTH(ChillTempAct[[#This Row],[Date]]),TempAdj[Month],0))","v":7.0599999999999996E-2},{"$f":"ChillTempAct[[#This Row],[ChillHDD]]*(1+ChillTempAct[[#This Row],[ChillAdj]])","v":11.241300000000001},{"$f":"SUMPRODUCT((RankNHDD[Month]=ChillTempAct[[#This Row],[Month]])*(RankNHDD[Rank]=ChillTempAct[[#This Row],[Rank]])*RankNHDD[KIRKNHDD])","v":13.46325608701026},{"$f":"YEAR(ChillTempAct[[#This Row],[Date]])","v":2021},{"$f":"MONTH(ChillTempAct[[#This Row],[Date]])","v":3},{"$f":"IF(ChillTempAct[[#This Row],[Month]]=J238,K238+1,1)","v":26}]
[44263,67,45,{"$f":"AVERAGE(ChillTempAct[[#This Row],[ChillHigh]:[ChillLow]])","v":56},{"$f":"IF(ChillTempAct[[#This Row],[ChillAve]]<65,65-ChillTempAct[[#This Row],[ChillAve]],0)","v":9},{"$f":"INDEX(TempAdj[AdjustPct],MATCH(MONTH(ChillTempAct[[#This Row],[Date]]),TempAdj[Month],0))","v":7.0599999999999996E-2},{"$f":"ChillTempAct[[#This Row],[ChillHDD]]*(1+ChillTempAct[[#This Row],[ChillAdj]])","v":9.6354000000000006},{"$f":"SUMPRODUCT((RankNHDD[Month]=ChillTempAct[[#This Row],[Month]])*(RankNHDD[Rank]=ChillTempAct[[#This Row],[Rank]])*RankNHDD[KIRKNHDD])","v":11.253028673835129},{"$f":"YEAR(ChillTempAct[[#This Row],[Date]])","v":2021},{"$f":"MONTH(ChillTempAct[[#This Row],[Date]])","v":3},{"$f":"IF(ChillTempAct[[#This Row],[Month]]=J239,K239+1,1)","v":27}]
[44278,65,48,{"$f":"AVERAGE(ChillTempAct[[#This Row],[ChillHigh]:[ChillLow]])","v":56.5},{"$f":"IF(ChillTempAct[[#This Row],[ChillAve]]<65,65-ChillTempAct[[#This Row],[ChillAve]],0)","v":8.5},{"$f":"INDEX(TempAdj[AdjustPct],MATCH(MONTH(ChillTempAct[[#This Row],[Date]]),TempAdj[Month],0))","v":7.0599999999999996E-2},{"$f":"ChillTempAct[[#This Row],[ChillHDD]]*(1+ChillTempAct[[#This Row],[ChillAdj]])","v":9.1000999999999994},{"$f":"SUMPRODUCT((RankNHDD[Month]=ChillTempAct[[#This Row],[Month]])*(RankNHDD[Rank]=ChillTempAct[[#This Row],[Rank]])*RankNHDD[KIRKNHDD])","v":9.0216308243727621},{"$f":"YEAR(ChillTempAct[[#This Row],[Date]])","v":2021},{"$f":"MONTH(ChillTempAct[[#This Row],[Date]])","v":3},{"$f":"IF(ChillTempAct[[#This Row],[Month]]=J240,K240+1,1)","v":28}]
[44264,70,48,{"$f":"AVERAGE(ChillTempAct[[#This Row],[ChillHigh]:[ChillLow]])","v":59},{"$f":"IF(ChillTempAct[[#This Row],[ChillAve]]<65,65-ChillTempAct[[#This Row],[ChillAve]],0)","v":6},{"$f":"INDEX(TempAdj[AdjustPct],MATCH(MONTH(ChillTempAct[[#This Row],[Date]]),TempAdj[Month],0))","v":7.0599999999999996E-2},{"$f":"ChillTempAct[[#This Row],[ChillHDD]]*(1+ChillTempAct[[#This Row],[ChillAdj]])","v":6.4236000000000004},{"$f":"SUMPRODUCT((RankNHDD[Month]=ChillTempAct[[#This Row],[Month]])*(RankNHDD[Rank]=ChillTempAct[[#This Row],[Rank]])*RankNHDD[KIRKNHDD])","v":6.3462544802867393},{"$f":"YEAR(ChillTempAct[[#This Row],[Date]])","v":2021},{"$f":"MONTH(ChillTempAct[[#This Row],[Date]])","v":3},{"$f":"IF(ChillTempAct[[#This Row],[Month]]=J241,K241+1,1)","v":29}]
[44285,73,47,{"$f":"AVERAGE(ChillTempAct[[#This Row],[ChillHigh]:[ChillLow]])","v":60},{"$f":"IF(ChillTempAct[[#This Row],[ChillAve]]<65,65-ChillTempAct[[#This Row],[ChillAve]],0)","v":5},{"$f":"INDEX(TempAdj[AdjustPct],MATCH(MONTH(ChillTempAct[[#This Row],[Date]]),TempAdj[Month],0))","v":7.0599999999999996E-2},{"$f":"ChillTempAct[[#This Row],[ChillHDD]]*(1+ChillTempAct[[#This Row],[ChillAdj]])","v":5.3529999999999998},{"$f":"SUMPRODUCT((RankNHDD[Month]=ChillTempAct[[#This Row],[Month]])*(RankNHDD[Rank]=ChillTempAct[[#This Row],[Rank]])*RankNHDD[KIRKNHDD])","v":3.2097311827956996},{"$f":"YEAR(ChillTempAct[[#This Row],[Date]])","v":2021},{"$f":"MONTH(ChillTempAct[[#This Row],[Date]])","v":3},{"$f":"IF(ChillTempAct[[#This Row],[Month]]=J242,K242+1,1)","v":30}]
[44265,74,51,{"$f":"AVERAGE(ChillTempAct[[#This Row],[ChillHigh]:[ChillLow]])","v":62.5},{"$f":"IF(ChillTempAct[[#This Row],[ChillAve]]<65,65-ChillTempAct[[#This Row],[ChillAve]],0)","v":2.5},{"$f":"INDEX(TempAdj[AdjustPct],MATCH(MONTH(ChillTempAct[[#This Row],[Date]]),TempAdj[Month],0))","v":7.0599999999999996E-2},{"$f":"ChillTempAct[[#This Row],[ChillHDD]]*(1+ChillTempAct[[#This Row],[ChillAdj]])","v":2.6764999999999999},{"$f":"SUMPRODUCT((RankNHDD[Month]=ChillTempAct[[#This Row],[Month]])*(RankNHDD[Rank]=ChillTempAct[[#This Row],[Rank]])*RankNHDD[KIRKNHDD])","v":0.40121863799283164},{"$f":"YEAR(ChillTempAct[[#This Row],[Date]])","v":2021},{"$f":"MONTH(ChillTempAct[[#This Row],[Date]])","v":3},{"$f":"IF(ChillTempAct[[#This Row],[Month]]=J243,K243+1,1)","v":31}]
[44307,43,29,{"$f":"AVERAGE(ChillTempAct[[#This Row],[ChillHigh]:[ChillLow]])","v":36},{"$f":"IF(ChillTempAct[[#This Row],[ChillAve]]<65,65-ChillTempAct[[#This Row],[ChillAve]],0)","v":29},{"$f":"INDEX(TempAdj[AdjustPct],MATCH(MONTH(ChillTempAct[[#This Row],[Date]]),TempAdj[Month],0))","v":0.1125},{"$f":"ChillTempAct[[#This Row],[ChillHDD]]*(1+ChillTempAct[[#This Row],[ChillAdj]])","v":32.262500000000003},{"$f":"SUMPRODUCT((RankNHDD[Month]=ChillTempAct[[#This Row],[Month]])*(RankNHDD[Rank]=ChillTempAct[[#This Row],[Rank]])*RankNHDD[KIRKNHDD])","v":33.206111111111106},{"$f":"YEAR(ChillTempAct[[#This Row],[Date]])","v":2021},{"$f":"MONTH(ChillTempAct[[#This Row],[Date]])","v":4},{"$f":"IF(ChillTempAct[[#This Row],[Month]]=J244,K244+1,1)","v":1}]
[44287,48,25,{"$f":"AVERAGE(ChillTempAct[[#This Row],[ChillHigh]:[ChillLow]])","v":36.5},{"$f":"IF(ChillTempAct[[#This Row],[ChillAve]]<65,65-ChillTempAct[[#This Row],[ChillAve]],0)","v":28.5},{"$f":"INDEX(TempAdj[AdjustPct],MATCH(MONTH(ChillTempAct[[#This Row],[Date]]),TempAdj[Month],0))","v":0.1125},{"$f":"ChillTempAct[[#This Row],[ChillHDD]]*(1+ChillTempAct[[#This Row],[ChillAdj]])","v":31.706250000000001},{"$f":"SUMPRODUCT((RankNHDD[Month]=ChillTempAct[[#This Row],[Month]])*(RankNHDD[Rank]=ChillTempAct[[#This Row],[Rank]])*RankNHDD[KIRKNHDD])","v":29.198333333333334},{"$f":"YEAR(ChillTempAct[[#This Row],[Date]])","v":2021},{"$f":"MONTH(ChillTempAct[[#This Row],[Date]])","v":4},{"$f":"IF(ChillTempAct[[#This Row],[Month]]=J245,K245+1,1)","v":2}]
[44288,48,25,{"$f":"AVERAGE(ChillTempAct[[#This Row],[ChillHigh]:[ChillLow]])","v":36.5},{"$f":"IF(ChillTempAct[[#This Row],[ChillAve]]<65,65-ChillTempAct[[#This Row],[ChillAve]],0)","v":28.5},{"$f":"INDEX(TempAdj[AdjustPct],MATCH(MONTH(ChillTempAct[[#This Row],[Date]]),TempAdj[Month],0))","v":0.1125},{"$f":"ChillTempAct[[#This Row],[ChillHDD]]*(1+ChillTempAct[[#This Row],[ChillAdj]])","v":31.706250000000001},{"$f":"SUMPRODUCT((RankNHDD[Month]=ChillTempAct[[#This Row],[Month]])*(RankNHDD[Rank]=ChillTempAct[[#This Row],[Rank]])*RankNHDD[KIRKNHDD])","v":26.74902031063322},{"$f":"YEAR(ChillTempAct[[#This Row],[Date]])","v":2021},{"$f":"MONTH(ChillTempAct[[#This Row],[Date]])","v":4},{"$f":"IF(ChillTempAct[[#This Row],[Month]]=J246,K246+1,1)","v":3}]
[44308,47,29,{"$f":"AVERAGE(ChillTempAct[[#This Row],[ChillHigh]:[ChillLow]])","v":38},{"$f":"IF(ChillTempAct[[#This Row],[ChillAve]]<65,65-ChillTempAct[[#This Row],[ChillAve]],0)","v":27},{"$f":"INDEX(TempAdj[AdjustPct],MATCH(MONTH(ChillTempAct[[#This Row],[Date]]),TempAdj[Month],0))","v":0.1125},{"$f":"ChillTempAct[[#This Row],[ChillHDD]]*(1+ChillTempAct[[#This Row],[ChillAdj]])","v":30.037500000000001},{"$f":"SUMPRODUCT((RankNHDD[Month]=ChillTempAct[[#This Row],[Month]])*(RankNHDD[Rank]=ChillTempAct[[#This Row],[Rank]])*RankNHDD[KIRKNHDD])","v":24.935830346475502},{"$f":"YEAR(ChillTempAct[[#This Row],[Date]])","v":2021},{"$f":"MONTH(ChillTempAct[[#This Row],[Date]])","v":4},{"$f":"IF(ChillTempAct[[#This Row],[Month]]=J247,K247+1,1)","v":4}]
[44306,49,31,{"$f":"AVERAGE(ChillTempAct[[#This Row],[ChillHigh]:[ChillLow]])","v":40},{"$f":"IF(ChillTempAct[[#This Row],[ChillAve]]<65,65-ChillTempAct[[#This Row],[ChillAve]],0)","v":25},{"$f":"INDEX(TempAdj[AdjustPct],MATCH(MONTH(ChillTempAct[[#This Row],[Date]]),TempAdj[Month],0))","v":0.1125},{"$f":"ChillTempAct[[#This Row],[ChillHDD]]*(1+ChillTempAct[[#This Row],[ChillAdj]])","v":27.8125},{"$f":"SUMPRODUCT((RankNHDD[Month]=ChillTempAct[[#This Row],[Month]])*(RankNHDD[Rank]=ChillTempAct[[#This Row],[Rank]])*RankNHDD[KIRKNHDD])","v":23.522592592592591},{"$f":"YEAR(ChillTempAct[[#This Row],[Date]])","v":2021},{"$f":"MONTH(ChillTempAct[[#This Row],[Date]])","v":4},{"$f":"IF(ChillTempAct[[#This Row],[Month]]=J248,K248+1,1)","v":5}]
[44309,56,30,{"$f":"AVERAGE(ChillTempAct[[#This Row],[ChillHigh]:[ChillLow]])","v":43},{"$f":"IF(ChillTempAct[[#This Row],[ChillAve]]<65,65-ChillTempAct[[#This Row],[ChillAve]],0)","v":22},{"$f":"INDEX(TempAdj[AdjustPct],MATCH(MONTH(ChillTempAct[[#This Row],[Date]]),TempAdj[Month],0))","v":0.1125},{"$f":"ChillTempAct[[#This Row],[ChillHDD]]*(1+ChillTempAct[[#This Row],[ChillAdj]])","v":24.475000000000001},{"$f":"SUMPRODUCT((RankNHDD[Month]=ChillTempAct[[#This Row],[Month]])*(RankNHDD[Rank]=ChillTempAct[[#This Row],[Rank]])*RankNHDD[KIRKNHDD])","v":22.445579450418155},{"$f":"YEAR(ChillTempAct[[#This Row],[Date]])","v":2021},{"$f":"MONTH(ChillTempAct[[#This Row],[Date]])","v":4},{"$f":"IF(ChillTempAct[[#This Row],[Month]]=J249,K249+1,1)","v":6}]
[44301,54,34,{"$f":"AVERAGE(ChillTempAct[[#This Row],[ChillHigh]:[ChillLow]])","v":44},{"$f":"IF(ChillTempAct[[#This Row],[ChillAve]]<65,65-ChillTempAct[[#This Row],[ChillAve]],0)","v":21},{"$f":"INDEX(TempAdj[AdjustPct],MATCH(MONTH(ChillTempAct[[#This Row],[Date]]),TempAdj[Month],0))","v":0.1125},{"$f":"ChillTempAct[[#This Row],[ChillHDD]]*(1+ChillTempAct[[#This Row],[ChillAdj]])","v":23.362500000000001},{"$f":"SUMPRODUCT((RankNHDD[Month]=ChillTempAct[[#This Row],[Month]])*(RankNHDD[Rank]=ChillTempAct[[#This Row],[Rank]])*RankNHDD[KIRKNHDD])","v":21.317777777777781},{"$f":"YEAR(ChillTempAct[[#This Row],[Date]])","v":2021},{"$f":"MONTH(ChillTempAct[[#This Row],[Date]])","v":4},{"$f":"IF(ChillTempAct[[#This Row],[Month]]=J250,K250+1,1)","v":7}]
[44302,57,35,{"$f":"AVERAGE(ChillTempAct[[#This Row],[ChillHigh]:[ChillLow]])","v":46},{"$f":"IF(ChillTempAct[[#This Row],[ChillAve]]<65,65-ChillTempAct[[#This Row],[ChillAve]],0)","v":19},{"$f":"INDEX(TempAdj[AdjustPct],MATCH(MONTH(ChillTempAct[[#This Row],[Date]]),TempAdj[Month],0))","v":0.1125},{"$f":"ChillTempAct[[#This Row],[ChillHDD]]*(1+ChillTempAct[[#This Row],[ChillAdj]])","v":21.137499999999999},{"$f":"SUMPRODUCT((RankNHDD[Month]=ChillTempAct[[#This Row],[Month]])*(RankNHDD[Rank]=ChillTempAct[[#This Row],[Rank]])*RankNHDD[KIRKNHDD])","v":20.053518518518512},{"$f":"YEAR(ChillTempAct[[#This Row],[Date]])","v":2021},{"$f":"MONTH(ChillTempAct[[#This Row],[Date]])","v":4},{"$f":"IF(ChillTempAct[[#This Row],[Month]]=J251,K251+1,1)","v":8}]
[44303,53,41,{"$f":"AVERAGE(ChillTempAct[[#This Row],[ChillHigh]:[ChillLow]])","v":47},{"$f":"IF(ChillTempAct[[#This Row],[ChillAve]]<65,65-ChillTempAct[[#This Row],[ChillAve]],0)","v":18},{"$f":"INDEX(TempAdj[AdjustPct],MATCH(MONTH(ChillTempAct[[#This Row],[Date]]),TempAdj[Month],0))","v":0.1125},{"$f":"ChillTempAct[[#This Row],[ChillHDD]]*(1+ChillTempAct[[#This Row],[ChillAdj]])","v":20.025000000000002},{"$f":"SUMPRODUCT((RankNHDD[Month]=ChillTempAct[[#This Row],[Month]])*(RankNHDD[Rank]=ChillTempAct[[#This Row],[Rank]])*RankNHDD[KIRKNHDD])","v":19.188333333333329},{"$f":"YEAR(ChillTempAct[[#This Row],[Date]])","v":2021},{"$f":"MONTH(ChillTempAct[[#This Row],[Date]])","v":4},{"$f":"IF(ChillTempAct[[#This Row],[Month]]=J252,K252+1,1)","v":9}]
[44297,55,40,{"$f":"AVERAGE(ChillTempAct[[#This Row],[ChillHigh]:[ChillLow]])","v":47.5},{"$f":"IF(ChillTempAct[[#This Row],[ChillAve]]<65,65-ChillTempAct[[#This Row],[ChillAve]],0)","v":17.5},{"$f":"INDEX(TempAdj[AdjustPct],MATCH(MONTH(ChillTempAct[[#This Row],[Date]]),TempAdj[Month],0))","v":0.1125},{"$f":"ChillTempAct[[#This Row],[ChillHDD]]*(1+ChillTempAct[[#This Row],[ChillAdj]])","v":19.46875},{"$f":"SUMPRODUCT((RankNHDD[Month]=ChillTempAct[[#This Row],[Month]])*(RankNHDD[Rank]=ChillTempAct[[#This Row],[Rank]])*RankNHDD[KIRKNHDD])","v":17.985507765830349},{"$f":"YEAR(ChillTempAct[[#This Row],[Date]])","v":2021},{"$f":"MONTH(ChillTempAct[[#This Row],[Date]])","v":4},{"$f":"IF(ChillTempAct[[#This Row],[Month]]=J253,K253+1,1)","v":10}]
[44299,60,36,{"$f":"AVERAGE(ChillTempAct[[#This Row],[ChillHigh]:[ChillLow]])","v":48},{"$f":"IF(ChillTempAct[[#This Row],[ChillAve]]<65,65-ChillTempAct[[#This Row],[ChillAve]],0)","v":17},{"$f":"INDEX(TempAdj[AdjustPct],MATCH(MONTH(ChillTempAct[[#This Row],[Date]]),TempAdj[Month],0))","v":0.1125},{"$f":"ChillTempAct[[#This Row],[ChillHDD]]*(1+ChillTempAct[[#This Row],[ChillAdj]])","v":18.912500000000001},{"$f":"SUMPRODUCT((RankNHDD[Month]=ChillTempAct[[#This Row],[Month]])*(RankNHDD[Rank]=ChillTempAct[[#This Row],[Rank]])*RankNHDD[KIRKNHDD])","v":17.138888888888893},{"$f":"YEAR(ChillTempAct[[#This Row],[Date]])","v":2021},{"$f":"MONTH(ChillTempAct[[#This Row],[Date]])","v":4},{"$f":"IF(ChillTempAct[[#This Row],[Month]]=J254,K254+1,1)","v":11}]
[44300,59,37,{"$f":"AVERAGE(ChillTempAct[[#This Row],[ChillHigh]:[ChillLow]])","v":48},{"$f":"IF(ChillTempAct[[#This Row],[ChillAve]]<65,65-ChillTempAct[[#This Row],[ChillAve]],0)","v":17},{"$f":"INDEX(TempAdj[AdjustPct],MATCH(MONTH(ChillTempAct[[#This Row],[Date]]),TempAdj[Month],0))","v":0.1125},{"$f":"ChillTempAct[[#This Row],[ChillHDD]]*(1+ChillTempAct[[#This Row],[ChillAdj]])","v":18.912500000000001},{"$f":"SUMPRODUCT((RankNHDD[Month]=ChillTempAct[[#This Row],[Month]])*(RankNHDD[Rank]=ChillTempAct[[#This Row],[Rank]])*RankNHDD[KIRKNHDD])","v":16.281535244922338},{"$f":"YEAR(ChillTempAct[[#This Row],[Date]])","v":2021},{"$f":"MONTH(ChillTempAct[[#This Row],[Date]])","v":4},{"$f":"IF(ChillTempAct[[#This Row],[Month]]=J255,K255+1,1)","v":12}]
[44289,64,34,{"$f":"AVERAGE(ChillTempAct[[#This Row],[ChillHigh]:[ChillLow]])","v":49},{"$f":"IF(ChillTempAct[[#This Row],[ChillAve]]<65,65-ChillTempAct[[#This Row],[ChillAve]],0)","v":16},{"$f":"INDEX(TempAdj[AdjustPct],MATCH(MONTH(ChillTempAct[[#This Row],[Date]]),TempAdj[Month],0))","v":0.1125},{"$f":"ChillTempAct[[#This Row],[ChillHDD]]*(1+ChillTempAct[[#This Row],[ChillAdj]])","v":17.8},{"$f":"SUMPRODUCT((RankNHDD[Month]=ChillTempAct[[#This Row],[Month]])*(RankNHDD[Rank]=ChillTempAct[[#This Row],[Rank]])*RankNHDD[KIRKNHDD])","v":15.445925925925923},{"$f":"YEAR(ChillTempAct[[#This Row],[Date]])","v":2021},{"$f":"MONTH(ChillTempAct[[#This Row],[Date]])","v":4},{"$f":"IF(ChillTempAct[[#This Row],[Month]]=J256,K256+1,1)","v":13}]
[44295,55,44,{"$f":"AVERAGE(ChillTempAct[[#This Row],[ChillHigh]:[ChillLow]])","v":49.5},{"$f":"IF(ChillTempAct[[#This Row],[ChillAve]]<65,65-ChillTempAct[[#This Row],[ChillAve]],0)","v":15.5},{"$f":"INDEX(TempAdj[AdjustPct],MATCH(MONTH(ChillTempAct[[#This Row],[Date]]),TempAdj[Month],0))","v":0.1125},{"$f":"ChillTempAct[[#This Row],[ChillHDD]]*(1+ChillTempAct[[#This Row],[ChillAdj]])","v":17.243750000000002},{"$f":"SUMPRODUCT((RankNHDD[Month]=ChillTempAct[[#This Row],[Month]])*(RankNHDD[Rank]=ChillTempAct[[#This Row],[Rank]])*RankNHDD[KIRKNHDD])","v":14.683518518518516},{"$f":"YEAR(ChillTempAct[[#This Row],[Date]])","v":2021},{"$f":"MONTH(ChillTempAct[[#This Row],[Date]])","v":4},{"$f":"IF(ChillTempAct[[#This Row],[Month]]=J257,K257+1,1)","v":14}]
[44305,60,39,{"$f":"AVERAGE(ChillTempAct[[#This Row],[ChillHigh]:[ChillLow]])","v":49.5},{"$f":"IF(ChillTempAct[[#This Row],[ChillAve]]<65,65-ChillTempAct[[#This Row],[ChillAve]],0)","v":15.5},{"$f":"INDEX(TempAdj[AdjustPct],MATCH(MONTH(ChillTempAct[[#This Row],[Date]]),TempAdj[Month],0))","v":0.1125},{"$f":"ChillTempAct[[#This Row],[ChillHDD]]*(1+ChillTempAct[[#This Row],[ChillAdj]])","v":17.243750000000002},{"$f":"SUMPRODUCT((RankNHDD[Month]=ChillTempAct[[#This Row],[Month]])*(RankNHDD[Rank]=ChillTempAct[[#This Row],[Rank]])*RankNHDD[KIRKNHDD])","v":13.768148148148148},{"$f":"YEAR(ChillTempAct[[#This Row],[Date]])","v":2021},{"$f":"MONTH(ChillTempAct[[#This Row],[Date]])","v":4},{"$f":"IF(ChillTempAct[[#This Row],[Month]]=J258,K258+1,1)","v":15}]
[44304,59,43,{"$f":"AVERAGE(ChillTempAct[[#This Row],[ChillHigh]:[ChillLow]])","v":51},{"$f":"IF(ChillTempAct[[#This Row],[ChillAve]]<65,65-ChillTempAct[[#This Row],[ChillAve]],0)","v":14},{"$f":"INDEX(TempAdj[AdjustPct],MATCH(MONTH(ChillTempAct[[#This Row],[Date]]),TempAdj[Month],0))","v":0.1125},{"$f":"ChillTempAct[[#This Row],[ChillHDD]]*(1+ChillTempAct[[#This Row],[ChillAdj]])","v":15.575000000000001},{"$f":"SUMPRODUCT((RankNHDD[Month]=ChillTempAct[[#This Row],[Month]])*(RankNHDD[Rank]=ChillTempAct[[#This Row],[Rank]])*RankNHDD[KIRKNHDD])","v":13.166111111111112},{"$f":"YEAR(ChillTempAct[[#This Row],[Date]])","v":2021},{"$f":"MONTH(ChillTempAct[[#This Row],[Date]])","v":4},{"$f":"IF(ChillTempAct[[#This Row],[Month]]=J259,K259+1,1)","v":16}]
[44310,59,44,{"$f":"AVERAGE(ChillTempAct[[#This Row],[ChillHigh]:[ChillLow]])","v":51.5},{"$f":"IF(ChillTempAct[[#This Row],[ChillAve]]<65,65-ChillTempAct[[#This Row],[ChillAve]],0)","v":13.5},{"$f":"INDEX(TempAdj[AdjustPct],MATCH(MONTH(ChillTempAct[[#This Row],[Date]]),TempAdj[Month],0))","v":0.1125},{"$f":"ChillTempAct[[#This Row],[ChillHDD]]*(1+ChillTempAct[[#This Row],[ChillAdj]])","v":15.018750000000001},{"$f":"SUMPRODUCT((RankNHDD[Month]=ChillTempAct[[#This Row],[Month]])*(RankNHDD[Rank]=ChillTempAct[[#This Row],[Rank]])*RankNHDD[KIRKNHDD])","v":12.333333333333334},{"$f":"YEAR(ChillTempAct[[#This Row],[Date]])","v":2021},{"$f":"MONTH(ChillTempAct[[#This Row],[Date]])","v":4},{"$f":"IF(ChillTempAct[[#This Row],[Month]]=J260,K260+1,1)","v":17}]
[44311,65,42,{"$f":"AVERAGE(ChillTempAct[[#This Row],[ChillHigh]:[ChillLow]])","v":53.5},{"$f":"IF(ChillTempAct[[#This Row],[ChillAve]]<65,65-ChillTempAct[[#This Row],[ChillAve]],0)","v":11.5},{"$f":"INDEX(TempAdj[AdjustPct],MATCH(MONTH(ChillTempAct[[#This Row],[Date]]),TempAdj[Month],0))","v":0.1125},{"$f":"ChillTempAct[[#This Row],[ChillHDD]]*(1+ChillTempAct[[#This Row],[ChillAdj]])","v":12.793750000000001},{"$f":"SUMPRODUCT((RankNHDD[Month]=ChillTempAct[[#This Row],[Month]])*(RankNHDD[Rank]=ChillTempAct[[#This Row],[Rank]])*RankNHDD[KIRKNHDD])","v":11.424444444444445},{"$f":"YEAR(ChillTempAct[[#This Row],[Date]])","v":2021},{"$f":"MONTH(ChillTempAct[[#This Row],[Date]])","v":4},{"$f":"IF(ChillTempAct[[#This Row],[Month]]=J261,K261+1,1)","v":18}]
[44294,64,45,{"$f":"AVERAGE(ChillTempAct[[#This Row],[ChillHigh]:[ChillLow]])","v":54.5},{"$f":"IF(ChillTempAct[[#This Row],[ChillAve]]<65,65-ChillTempAct[[#This Row],[ChillAve]],0)","v":10.5},{"$f":"INDEX(TempAdj[AdjustPct],MATCH(MONTH(ChillTempAct[[#This Row],[Date]]),TempAdj[Month],0))","v":0.1125},{"$f":"ChillTempAct[[#This Row],[ChillHDD]]*(1+ChillTempAct[[#This Row],[ChillAdj]])","v":11.68125},{"$f":"SUMPRODUCT((RankNHDD[Month]=ChillTempAct[[#This Row],[Month]])*(RankNHDD[Rank]=ChillTempAct[[#This Row],[Rank]])*RankNHDD[KIRKNHDD])","v":10.569814814814814},{"$f":"YEAR(ChillTempAct[[#This Row],[Date]])","v":2021},{"$f":"MONTH(ChillTempAct[[#This Row],[Date]])","v":4},{"$f":"IF(ChillTempAct[[#This Row],[Month]]=J262,K262+1,1)","v":19}]
[44298,69,43,{"$f":"AVERAGE(ChillTempAct[[#This Row],[ChillHigh]:[ChillLow]])","v":56},{"$f":"IF(ChillTempAct[[#This Row],[ChillAve]]<65,65-ChillTempAct[[#This Row],[ChillAve]],0)","v":9},{"$f":"INDEX(TempAdj[AdjustPct],MATCH(MONTH(ChillTempAct[[#This Row],[Date]]),TempAdj[Month],0))","v":0.1125},{"$f":"ChillTempAct[[#This Row],[ChillHDD]]*(1+ChillTempAct[[#This Row],[ChillAdj]])","v":10.012500000000001},{"$f":"SUMPRODUCT((RankNHDD[Month]=ChillTempAct[[#This Row],[Month]])*(RankNHDD[Rank]=ChillTempAct[[#This Row],[Rank]])*RankNHDD[KIRKNHDD])","v":9.6188888888888879},{"$f":"YEAR(ChillTempAct[[#This Row],[Date]])","v":2021},{"$f":"MONTH(ChillTempAct[[#This Row],[Date]])","v":4},{"$f":"IF(ChillTempAct[[#This Row],[Month]]=J263,K263+1,1)","v":20}]
[44296,71,45,{"$f":"AVERAGE(ChillTempAct[[#This Row],[ChillHigh]:[ChillLow]])","v":58},{"$f":"IF(ChillTempAct[[#This Row],[ChillAve]]<65,65-ChillTempAct[[#This Row],[ChillAve]],0)","v":7},{"$f":"INDEX(TempAdj[AdjustPct],MATCH(MONTH(ChillTempAct[[#This Row],[Date]]),TempAdj[Month],0))","v":0.1125},{"$f":"ChillTempAct[[#This Row],[ChillHDD]]*(1+ChillTempAct[[#This Row],[ChillAdj]])","v":7.7875000000000005},{"$f":"SUMPRODUCT((RankNHDD[Month]=ChillTempAct[[#This Row],[Month]])*(RankNHDD[Rank]=ChillTempAct[[#This Row],[Rank]])*RankNHDD[KIRKNHDD])","v":8.7196296296296278},{"$f":"YEAR(ChillTempAct[[#This Row],[Date]])","v":2021},{"$f":"MONTH(ChillTempAct[[#This Row],[Date]])","v":4},{"$f":"IF(ChillTempAct[[#This Row],[Month]]=J264,K264+1,1)","v":21}]
[44312,71,45,{"$f":"AVERAGE(ChillTempAct[[#This Row],[ChillHigh]:[ChillLow]])","v":58},{"$f":"IF(ChillTempAct[[#This Row],[ChillAve]]<65,65-ChillTempAct[[#This Row],[ChillAve]],0)","v":7},{"$f":"INDEX(TempAdj[AdjustPct],MATCH(MONTH(ChillTempAct[[#This Row],[Date]]),TempAdj[Month],0))","v":0.1125},{"$f":"ChillTempAct[[#This Row],[ChillHDD]]*(1+ChillTempAct[[#This Row],[ChillAdj]])","v":7.7875000000000005},{"$f":"SUMPRODUCT((RankNHDD[Month]=ChillTempAct[[#This Row],[Month]])*(RankNHDD[Rank]=ChillTempAct[[#This Row],[Rank]])*RankNHDD[KIRKNHDD])","v":7.5681481481481452},{"$f":"YEAR(ChillTempAct[[#This Row],[Date]])","v":2021},{"$f":"MONTH(ChillTempAct[[#This Row],[Date]])","v":4},{"$f":"IF(ChillTempAct[[#This Row],[Month]]=J265,K265+1,1)","v":22}]
[44290,74,48,{"$f":"AVERAGE(ChillTempAct[[#This Row],[ChillHigh]:[ChillLow]])","v":61},{"$f":"IF(ChillTempAct[[#This Row],[ChillAve]]<65,65-ChillTempAct[[#This Row],[ChillAve]],0)","v":4},{"$f":"INDEX(TempAdj[AdjustPct],MATCH(MONTH(ChillTempAct[[#This Row],[Date]]),TempAdj[Month],0))","v":0.1125},{"$f":"ChillTempAct[[#This Row],[ChillHDD]]*(1+ChillTempAct[[#This Row],[ChillAdj]])","v":4.45},{"$f":"SUMPRODUCT((RankNHDD[Month]=ChillTempAct[[#This Row],[Month]])*(RankNHDD[Rank]=ChillTempAct[[#This Row],[Rank]])*RankNHDD[KIRKNHDD])","v":6.3938888888888892},{"$f":"YEAR(ChillTempAct[[#This Row],[Date]])","v":2021},{"$f":"MONTH(ChillTempAct[[#This Row],[Date]])","v":4},{"$f":"IF(ChillTempAct[[#This Row],[Month]]=J266,K266+1,1)","v":23}]
[44316,75,47,{"$f":"AVERAGE(ChillTempAct[[#This Row],[ChillHigh]:[ChillLow]])","v":61},{"$f":"IF(ChillTempAct[[#This Row],[ChillAve]]<65,65-ChillTempAct[[#This Row],[ChillAve]],0)","v":4},{"$f":"INDEX(TempAdj[AdjustPct],MATCH(MONTH(ChillTempAct[[#This Row],[Date]]),TempAdj[Month],0))","v":0.1125},{"$f":"ChillTempAct[[#This Row],[ChillHDD]]*(1+ChillTempAct[[#This Row],[ChillAdj]])","v":4.45},{"$f":"SUMPRODUCT((RankNHDD[Month]=ChillTempAct[[#This Row],[Month]])*(RankNHDD[Rank]=ChillTempAct[[#This Row],[Rank]])*RankNHDD[KIRKNHDD])","v":5.4016666666666673},{"$f":"YEAR(ChillTempAct[[#This Row],[Date]])","v":2021},{"$f":"MONTH(ChillTempAct[[#This Row],[Date]])","v":4},{"$f":"IF(ChillTempAct[[#This Row],[Month]]=J267,K267+1,1)","v":24}]
[44291,79,48,{"$f":"AVERAGE(ChillTempAct[[#This Row],[ChillHigh]:[ChillLow]])","v":63.5},{"$f":"IF(ChillTempAct[[#This Row],[ChillAve]]<65,65-ChillTempAct[[#This Row],[ChillAve]],0)","v":1.5},{"$f":"INDEX(TempAdj[AdjustPct],MATCH(MONTH(ChillTempAct[[#This Row],[Date]]),TempAdj[Month],0))","v":0.1125},{"$f":"ChillTempAct[[#This Row],[ChillHDD]]*(1+ChillTempAct[[#This Row],[ChillAdj]])","v":1.6687500000000002},{"$f":"SUMPRODUCT((RankNHDD[Month]=ChillTempAct[[#This Row],[Month]])*(RankNHDD[Rank]=ChillTempAct[[#This Row],[Rank]])*RankNHDD[KIRKNHDD])","v":4.2124074074074072},{"$f":"YEAR(ChillTempAct[[#This Row],[Date]])","v":2021},{"$f":"MONTH(ChillTempAct[[#This Row],[Date]])","v":4},{"$f":"IF(ChillTempAct[[#This Row],[Month]]=J268,K268+1,1)","v":25}]
[44315,74,55,{"$f":"AVERAGE(ChillTempAct[[#This Row],[ChillHigh]:[ChillLow]])","v":64.5},{"$f":"IF(ChillTempAct[[#This Row],[ChillAve]]<65,65-ChillTempAct[[#This Row],[ChillAve]],0)","v":0.5},{"$f":"INDEX(TempAdj[AdjustPct],MATCH(MONTH(ChillTempAct[[#This Row],[Date]]),TempAdj[Month],0))","v":0.1125},{"$f":"ChillTempAct[[#This Row],[ChillHDD]]*(1+ChillTempAct[[#This Row],[ChillAdj]])","v":0.55625000000000002},{"$f":"SUMPRODUCT((RankNHDD[Month]=ChillTempAct[[#This Row],[Month]])*(RankNHDD[Rank]=ChillTempAct[[#This Row],[Rank]])*RankNHDD[KIRKNHDD])","v":2.7270370370370371},{"$f":"YEAR(ChillTempAct[[#This Row],[Date]])","v":2021},{"$f":"MONTH(ChillTempAct[[#This Row],[Date]])","v":4},{"$f":"IF(ChillTempAct[[#This Row],[Month]]=J269,K269+1,1)","v":26}]
[44292,79,53,{"$f":"AVERAGE(ChillTempAct[[#This Row],[ChillHigh]:[ChillLow]])","v":66},{"$f":"IF(ChillTempAct[[#This Row],[ChillAve]]<65,65-ChillTempAct[[#This Row],[ChillAve]],0)","v":0},{"$f":"INDEX(TempAdj[AdjustPct],MATCH(MONTH(ChillTempAct[[#This Row],[Date]]),TempAdj[Month],0))","v":0.1125},{"$f":"ChillTempAct[[#This Row],[ChillHDD]]*(1+ChillTempAct[[#This Row],[ChillAdj]])","v":0},{"$f":"SUMPRODUCT((RankNHDD[Month]=ChillTempAct[[#This Row],[Month]])*(RankNHDD[Rank]=ChillTempAct[[#This Row],[Rank]])*RankNHDD[KIRKNHDD])","v":1.0690740740740743},{"$f":"YEAR(ChillTempAct[[#This Row],[Date]])","v":2021},{"$f":"MONTH(ChillTempAct[[#This Row],[Date]])","v":4},{"$f":"IF(ChillTempAct[[#This Row],[Month]]=J270,K270+1,1)","v":27}]
[44293,78,57,{"$f":"AVERAGE(ChillTempAct[[#This Row],[ChillHigh]:[ChillLow]])","v":67.5},{"$f":"IF(ChillTempAct[[#This Row],[ChillAve]]<65,65-ChillTempAct[[#This Row],[ChillAve]],0)","v":0},{"$f":"INDEX(TempAdj[AdjustPct],MATCH(MONTH(ChillTempAct[[#This Row],[Date]]),TempAdj[Month],0))","v":0.1125},{"$f":"ChillTempAct[[#This Row],[ChillHDD]]*(1+ChillTempAct[[#This Row],[ChillAdj]])","v":0},{"$f":"SUMPRODUCT((RankNHDD[Month]=ChillTempAct[[#This Row],[Month]])*(RankNHDD[Rank]=ChillTempAct[[#This Row],[Rank]])*RankNHDD[KIRKNHDD])","v":9.4444444444443821E-3},{"$f":"YEAR(ChillTempAct[[#This Row],[Date]])","v":2021},{"$f":"MONTH(ChillTempAct[[#This Row],[Date]])","v":4},{"$f":"IF(ChillTempAct[[#This Row],[Month]]=J271,K271+1,1)","v":28}]
[44313,86,59,{"$f":"AVERAGE(ChillTempAct[[#This Row],[ChillHigh]:[ChillLow]])","v":72.5},{"$f":"IF(ChillTempAct[[#This Row],[ChillAve]]<65,65-ChillTempAct[[#This Row],[ChillAve]],0)","v":0},{"$f":"INDEX(TempAdj[AdjustPct],MATCH(MONTH(ChillTempAct[[#This Row],[Date]]),TempAdj[Month],0))","v":0.1125},{"$f":"ChillTempAct[[#This Row],[ChillHDD]]*(1+ChillTempAct[[#This Row],[ChillAdj]])","v":0},{"$f":"SUMPRODUCT((RankNHDD[Month]=ChillTempAct[[#This Row],[Month]])*(RankNHDD[Rank]=ChillTempAct[[#This Row],[Rank]])*RankNHDD[KIRKNHDD])","v":0},{"$f":"YEAR(ChillTempAct[[#This Row],[Date]])","v":2021},{"$f":"MONTH(ChillTempAct[[#This Row],[Date]])","v":4},{"$f":"IF(ChillTempAct[[#This Row],[Month]]=J272,K272+1,1)","v":29}]
[44314,84,65,{"$f":"AVERAGE(ChillTempAct[[#This Row],[ChillHigh]:[ChillLow]])","v":74.5},{"$f":"IF(ChillTempAct[[#This Row],[ChillAve]]<65,65-ChillTempAct[[#This Row],[ChillAve]],0)","v":0},{"$f":"INDEX(TempAdj[AdjustPct],MATCH(MONTH(ChillTempAct[[#This Row],[Date]]),TempAdj[Month],0))","v":0.1125},{"$f":"ChillTempAct[[#This Row],[ChillHDD]]*(1+ChillTempAct[[#This Row],[ChillAdj]])","v":0},{"$f":"SUMPRODUCT((RankNHDD[Month]=ChillTempAct[[#This Row],[Month]])*(RankNHDD[Rank]=ChillTempAct[[#This Row],[Rank]])*RankNHDD[KIRKNHDD])","v":0},{"$f":"YEAR(ChillTempAct[[#This Row],[Date]])","v":2021},{"$f":"MONTH(ChillTempAct[[#This Row],[Date]])","v":4},{"$f":"IF(ChillTempAct[[#This Row],[Month]]=J273,K273+1,1)","v":30}]
[44326,53,39,{"$f":"AVERAGE(ChillTempAct[[#This Row],[ChillHigh]:[ChillLow]])","v":46},{"$f":"IF(ChillTempAct[[#This Row],[ChillAve]]<65,65-ChillTempAct[[#This Row],[ChillAve]],0)","v":19},{"$f":"INDEX(TempAdj[AdjustPct],MATCH(MONTH(ChillTempAct[[#This Row],[Date]]),TempAdj[Month],0))","v":0.2883},{"$f":"ChillTempAct[[#This Row],[ChillHDD]]*(1+ChillTempAct[[#This Row],[ChillAdj]])","v":24.477699999999999},{"$f":"SUMPRODUCT((RankNHDD[Month]=ChillTempAct[[#This Row],[Month]])*(RankNHDD[Rank]=ChillTempAct[[#This Row],[Rank]])*RankNHDD[KIRKNHDD])","v":21.201254480286739},{"$f":"YEAR(ChillTempAct[[#This Row],[Date]])","v":2021},{"$f":"MONTH(ChillTempAct[[#This Row],[Date]])","v":5},{"$f":"IF(ChillTempAct[[#This Row],[Month]]=J274,K274+1,1)","v":1}]
[44345,54,44,{"$f":"AVERAGE(ChillTempAct[[#This Row],[ChillHigh]:[ChillLow]])","v":49},{"$f":"IF(ChillTempAct[[#This Row],[ChillAve]]<65,65-ChillTempAct[[#This Row],[ChillAve]],0)","v":16},{"$f":"INDEX(TempAdj[AdjustPct],MATCH(MONTH(ChillTempAct[[#This Row],[Date]]),TempAdj[Month],0))","v":0.2883},{"$f":"ChillTempAct[[#This Row],[ChillHDD]]*(1+ChillTempAct[[#This Row],[ChillAdj]])","v":20.6128},{"$f":"SUMPRODUCT((RankNHDD[Month]=ChillTempAct[[#This Row],[Month]])*(RankNHDD[Rank]=ChillTempAct[[#This Row],[Rank]])*RankNHDD[KIRKNHDD])","v":17.361827956989249},{"$f":"YEAR(ChillTempAct[[#This Row],[Date]])","v":2021},{"$f":"MONTH(ChillTempAct[[#This Row],[Date]])","v":5},{"$f":"IF(ChillTempAct[[#This Row],[Month]]=J275,K275+1,1)","v":2}]
[44321,62,38,{"$f":"AVERAGE(ChillTempAct[[#This Row],[ChillHigh]:[ChillLow]])","v":50},{"$f":"IF(ChillTempAct[[#This Row],[ChillAve]]<65,65-ChillTempAct[[#This Row],[ChillAve]],0)","v":15},{"$f":"INDEX(TempAdj[AdjustPct],MATCH(MONTH(ChillTempAct[[#This Row],[Date]]),TempAdj[Month],0))","v":0.2883},{"$f":"ChillTempAct[[#This Row],[ChillHDD]]*(1+ChillTempAct[[#This Row],[ChillAdj]])","v":19.3245},{"$f":"SUMPRODUCT((RankNHDD[Month]=ChillTempAct[[#This Row],[Month]])*(RankNHDD[Rank]=ChillTempAct[[#This Row],[Rank]])*RankNHDD[KIRKNHDD])","v":15.368243727598569},{"$f":"YEAR(ChillTempAct[[#This Row],[Date]])","v":2021},{"$f":"MONTH(ChillTempAct[[#This Row],[Date]])","v":5},{"$f":"IF(ChillTempAct[[#This Row],[Month]]=J276,K276+1,1)","v":3}]
[44329,64,37,{"$f":"AVERAGE(ChillTempAct[[#This Row],[ChillHigh]:[ChillLow]])","v":50.5},{"$f":"IF(ChillTempAct[[#This Row],[ChillAve]]<65,65-ChillTempAct[[#This Row],[ChillAve]],0)","v":14.5},{"$f":"INDEX(TempAdj[AdjustPct],MATCH(MONTH(ChillTempAct[[#This Row],[Date]]),TempAdj[Month],0))","v":0.2883},{"$f":"ChillTempAct[[#This Row],[ChillHDD]]*(1+ChillTempAct[[#This Row],[ChillAdj]])","v":18.680350000000001},{"$f":"SUMPRODUCT((RankNHDD[Month]=ChillTempAct[[#This Row],[Month]])*(RankNHDD[Rank]=ChillTempAct[[#This Row],[Rank]])*RankNHDD[KIRKNHDD])","v":13.707939068100355},{"$f":"YEAR(ChillTempAct[[#This Row],[Date]])","v":2021},{"$f":"MONTH(ChillTempAct[[#This Row],[Date]])","v":5},{"$f":"IF(ChillTempAct[[#This Row],[Month]]=J277,K277+1,1)","v":4}]
[44327,64,39,{"$f":"AVERAGE(ChillTempAct[[#This Row],[ChillHigh]:[ChillLow]])","v":51.5},{"$f":"IF(ChillTempAct[[#This Row],[ChillAve]]<65,65-ChillTempAct[[#This Row],[ChillAve]],0)","v":13.5},{"$f":"INDEX(TempAdj[AdjustPct],MATCH(MONTH(ChillTempAct[[#This Row],[Date]]),TempAdj[Month],0))","v":0.2883},{"$f":"ChillTempAct[[#This Row],[ChillHDD]]*(1+ChillTempAct[[#This Row],[ChillAdj]])","v":17.392050000000001},{"$f":"SUMPRODUCT((RankNHDD[Month]=ChillTempAct[[#This Row],[Month]])*(RankNHDD[Rank]=ChillTempAct[[#This Row],[Rank]])*RankNHDD[KIRKNHDD])","v":12.2791935483871},{"$f":"YEAR(ChillTempAct[[#This Row],[Date]])","v":2021},{"$f":"MONTH(ChillTempAct[[#This Row],[Date]])","v":5},{"$f":"IF(ChillTempAct[[#This Row],[Month]]=J278,K278+1,1)","v":5}]
[44328,60,44,{"$f":"AVERAGE(ChillTempAct[[#This Row],[ChillHigh]:[ChillLow]])","v":52},{"$f":"IF(ChillTempAct[[#This Row],[ChillAve]]<65,65-ChillTempAct[[#This Row],[ChillAve]],0)","v":13},{"$f":"INDEX(TempAdj[AdjustPct],MATCH(MONTH(ChillTempAct[[#This Row],[Date]]),TempAdj[Month],0))","v":0.2883},{"$f":"ChillTempAct[[#This Row],[ChillHDD]]*(1+ChillTempAct[[#This Row],[ChillAdj]])","v":16.747900000000001},{"$f":"SUMPRODUCT((RankNHDD[Month]=ChillTempAct[[#This Row],[Month]])*(RankNHDD[Rank]=ChillTempAct[[#This Row],[Rank]])*RankNHDD[KIRKNHDD])","v":11.01689964157706},{"$f":"YEAR(ChillTempAct[[#This Row],[Date]])","v":2021},{"$f":"MONTH(ChillTempAct[[#This Row],[Date]])","v":5},{"$f":"IF(ChillTempAct[[#This Row],[Month]]=J279,K279+1,1)","v":6}]
[44323,64,42,{"$f":"AVERAGE(ChillTempAct[[#This Row],[ChillHigh]:[ChillLow]])","v":53},{"$f":"IF(ChillTempAct[[#This Row],[ChillAve]]<65,65-ChillTempAct[[#This Row],[ChillAve]],0)","v":12},{"$f":"INDEX(TempAdj[AdjustPct],MATCH(MONTH(ChillTempAct[[#This Row],[Date]]),TempAdj[Month],0))","v":0.2883},{"$f":"ChillTempAct[[#This Row],[ChillHDD]]*(1+ChillTempAct[[#This Row],[ChillAdj]])","v":15.4596},{"$f":"SUMPRODUCT((RankNHDD[Month]=ChillTempAct[[#This Row],[Month]])*(RankNHDD[Rank]=ChillTempAct[[#This Row],[Rank]])*RankNHDD[KIRKNHDD])","v":10.027741935483872},{"$f":"YEAR(ChillTempAct[[#This Row],[Date]])","v":2021},{"$f":"MONTH(ChillTempAct[[#This Row],[Date]])","v":5},{"$f":"IF(ChillTempAct[[#This Row],[Month]]=J280,K280+1,1)","v":7}]
[44325,62,44,{"$f":"AVERAGE(ChillTempAct[[#This Row],[ChillHigh]:[ChillLow]])","v":53},{"$f":"IF(ChillTempAct[[#This Row],[ChillAve]]<65,65-ChillTempAct[[#This Row],[ChillAve]],0)","v":12},{"$f":"INDEX(TempAdj[AdjustPct],MATCH(MONTH(ChillTempAct[[#This Row],[Date]]),TempAdj[Month],0))","v":0.2883},{"$f":"ChillTempAct[[#This Row],[ChillHDD]]*(1+ChillTempAct[[#This Row],[ChillAdj]])","v":15.4596},{"$f":"SUMPRODUCT((RankNHDD[Month]=ChillTempAct[[#This Row],[Month]])*(RankNHDD[Rank]=ChillTempAct[[#This Row],[Rank]])*RankNHDD[KIRKNHDD])","v":9.1459677419354843},{"$f":"YEAR(ChillTempAct[[#This Row],[Date]])","v":2021},{"$f":"MONTH(ChillTempAct[[#This Row],[Date]])","v":5},{"$f":"IF(ChillTempAct[[#This Row],[Month]]=J281,K281+1,1)","v":8}]
[44322,69,38,{"$f":"AVERAGE(ChillTempAct[[#This Row],[ChillHigh]:[ChillLow]])","v":53.5},{"$f":"IF(ChillTempAct[[#This Row],[ChillAve]]<65,65-ChillTempAct[[#This Row],[ChillAve]],0)","v":11.5},{"$f":"INDEX(TempAdj[AdjustPct],MATCH(MONTH(ChillTempAct[[#This Row],[Date]]),TempAdj[Month],0))","v":0.2883},{"$f":"ChillTempAct[[#This Row],[ChillHDD]]*(1+ChillTempAct[[#This Row],[ChillAdj]])","v":14.81545},{"$f":"SUMPRODUCT((RankNHDD[Month]=ChillTempAct[[#This Row],[Month]])*(RankNHDD[Rank]=ChillTempAct[[#This Row],[Rank]])*RankNHDD[KIRKNHDD])","v":8.2015412186379937},{"$f":"YEAR(ChillTempAct[[#This Row],[Date]])","v":2021},{"$f":"MONTH(ChillTempAct[[#This Row],[Date]])","v":5},{"$f":"IF(ChillTempAct[[#This Row],[Month]]=J282,K282+1,1)","v":9}]
[44330,67,41,{"$f":"AVERAGE(ChillTempAct[[#This Row],[ChillHigh]:[ChillLow]])","v":54},{"$f":"IF(ChillTempAct[[#This Row],[ChillAve]]<65,65-ChillTempAct[[#This Row],[ChillAve]],0)","v":11},{"$f":"INDEX(TempAdj[AdjustPct],MATCH(MONTH(ChillTempAct[[#This Row],[Date]]),TempAdj[Month],0))","v":0.2883},{"$f":"ChillTempAct[[#This Row],[ChillHDD]]*(1+ChillTempAct[[#This Row],[ChillAdj]])","v":14.1713},{"$f":"SUMPRODUCT((RankNHDD[Month]=ChillTempAct[[#This Row],[Month]])*(RankNHDD[Rank]=ChillTempAct[[#This Row],[Rank]])*RankNHDD[KIRKNHDD])","v":7.4299999999999979},{"$f":"YEAR(ChillTempAct[[#This Row],[Date]])","v":2021},{"$f":"MONTH(ChillTempAct[[#This Row],[Date]])","v":5},{"$f":"IF(ChillTempAct[[#This Row],[Month]]=J283,K283+1,1)","v":10}]
[44346,66,45,{"$f":"AVERAGE(ChillTempAct[[#This Row],[ChillHigh]:[ChillLow]])","v":55.5},{"$f":"IF(ChillTempAct[[#This Row],[ChillAve]]<65,65-ChillTempAct[[#This Row],[ChillAve]],0)","v":9.5},{"$f":"INDEX(TempAdj[AdjustPct],MATCH(MONTH(ChillTempAct[[#This Row],[Date]]),TempAdj[Month],0))","v":0.2883},{"$f":"ChillTempAct[[#This Row],[ChillHDD]]*(1+ChillTempAct[[#This Row],[ChillAdj]])","v":12.238849999999999},{"$f":"SUMPRODUCT((RankNHDD[Month]=ChillTempAct[[#This Row],[Month]])*(RankNHDD[Rank]=ChillTempAct[[#This Row],[Rank]])*RankNHDD[KIRKNHDD])","v":6.7132795698924737},{"$f":"YEAR(ChillTempAct[[#This Row],[Date]])","v":2021},{"$f":"MONTH(ChillTempAct[[#This Row],[Date]])","v":5},{"$f":"IF(ChillTempAct[[#This Row],[Month]]=J284,K284+1,1)","v":11}]
[44333,60,53,{"$f":"AVERAGE(ChillTempAct[[#This Row],[ChillHigh]:[ChillLow]])","v":56.5},{"$f":"IF(ChillTempAct[[#This Row],[ChillAve]]<65,65-ChillTempAct[[#This Row],[ChillAve]],0)","v":8.5},{"$f":"INDEX(TempAdj[AdjustPct],MATCH(MONTH(ChillTempAct[[#This Row],[Date]]),TempAdj[Month],0))","v":0.2883},{"$f":"ChillTempAct[[#This Row],[ChillHDD]]*(1+ChillTempAct[[#This Row],[ChillAdj]])","v":10.95055},{"$f":"SUMPRODUCT((RankNHDD[Month]=ChillTempAct[[#This Row],[Month]])*(RankNHDD[Rank]=ChillTempAct[[#This Row],[Rank]])*RankNHDD[KIRKNHDD])","v":6.065878136200717},{"$f":"YEAR(ChillTempAct[[#This Row],[Date]])","v":2021},{"$f":"MONTH(ChillTempAct[[#This Row],[Date]])","v":5},{"$f":"IF(ChillTempAct[[#This Row],[Month]]=J285,K285+1,1)","v":12}]
[44332,63,51,{"$f":"AVERAGE(ChillTempAct[[#This Row],[ChillHigh]:[ChillLow]])","v":57},{"$f":"IF(ChillTempAct[[#This Row],[ChillAve]]<65,65-ChillTempAct[[#This Row],[ChillAve]],0)","v":8},{"$f":"INDEX(TempAdj[AdjustPct],MATCH(MONTH(ChillTempAct[[#This Row],[Date]]),TempAdj[Month],0))","v":0.2883},{"$f":"ChillTempAct[[#This Row],[ChillHDD]]*(1+ChillTempAct[[#This Row],[ChillAdj]])","v":10.3064},{"$f":"SUMPRODUCT((RankNHDD[Month]=ChillTempAct[[#This Row],[Month]])*(RankNHDD[Rank]=ChillTempAct[[#This Row],[Rank]])*RankNHDD[KIRKNHDD])","v":5.264462365591398},{"$f":"YEAR(ChillTempAct[[#This Row],[Date]])","v":2021},{"$f":"MONTH(ChillTempAct[[#This Row],[Date]])","v":5},{"$f":"IF(ChillTempAct[[#This Row],[Month]]=J286,K286+1,1)","v":13}]
[44320,69,49,{"$f":"AVERAGE(ChillTempAct[[#This Row],[ChillHigh]:[ChillLow]])","v":59},{"$f":"IF(ChillTempAct[[#This Row],[ChillAve]]<65,65-ChillTempAct[[#This Row],[ChillAve]],0)","v":6},{"$f":"INDEX(TempAdj[AdjustPct],MATCH(MONTH(ChillTempAct[[#This Row],[Date]]),TempAdj[Month],0))","v":0.2883},{"$f":"ChillTempAct[[#This Row],[ChillHDD]]*(1+ChillTempAct[[#This Row],[ChillAdj]])","v":7.7298},{"$f":"SUMPRODUCT((RankNHDD[Month]=ChillTempAct[[#This Row],[Month]])*(RankNHDD[Rank]=ChillTempAct[[#This Row],[Rank]])*RankNHDD[KIRKNHDD])","v":4.6554838709677409},{"$f":"YEAR(ChillTempAct[[#This Row],[Date]])","v":2021},{"$f":"MONTH(ChillTempAct[[#This Row],[Date]])","v":5},{"$f":"IF(ChillTempAct[[#This Row],[Month]]=J287,K287+1,1)","v":14}]
[44344,72,46,{"$f":"AVERAGE(ChillTempAct[[#This Row],[ChillHigh]:[ChillLow]])","v":59},{"$f":"IF(ChillTempAct[[#This Row],[ChillAve]]<65,65-ChillTempAct[[#This Row],[ChillAve]],0)","v":6},{"$f":"INDEX(TempAdj[AdjustPct],MATCH(MONTH(ChillTempAct[[#This Row],[Date]]),TempAdj[Month],0))","v":0.2883},{"$f":"ChillTempAct[[#This Row],[ChillHDD]]*(1+ChillTempAct[[#This Row],[ChillAdj]])","v":7.7298},{"$f":"SUMPRODUCT((RankNHDD[Month]=ChillTempAct[[#This Row],[Month]])*(RankNHDD[Rank]=ChillTempAct[[#This Row],[Rank]])*RankNHDD[KIRKNHDD])","v":3.908870967741934},{"$f":"YEAR(ChillTempAct[[#This Row],[Date]])","v":2021},{"$f":"MONTH(ChillTempAct[[#This Row],[Date]])","v":5},{"$f":"IF(ChillTempAct[[#This Row],[Month]]=J288,K288+1,1)","v":15}]
[44324,71,48,{"$f":"AVERAGE(ChillTempAct[[#This Row],[ChillHigh]:[ChillLow]])","v":59.5},{"$f":"IF(ChillTempAct[[#This Row],[ChillAve]]<65,65-ChillTempAct[[#This Row],[ChillAve]],0)","v":5.5},{"$f":"INDEX(TempAdj[AdjustPct],MATCH(MONTH(ChillTempAct[[#This Row],[Date]]),TempAdj[Month],0))","v":0.2883},{"$f":"ChillTempAct[[#This Row],[ChillHDD]]*(1+ChillTempAct[[#This Row],[ChillAdj]])","v":7.0856500000000002},{"$f":"SUMPRODUCT((RankNHDD[Month]=ChillTempAct[[#This Row],[Month]])*(RankNHDD[Rank]=ChillTempAct[[#This Row],[Rank]])*RankNHDD[KIRKNHDD])","v":3.1718279569892456},{"$f":"YEAR(ChillTempAct[[#This Row],[Date]])","v":2021},{"$f":"MONTH(ChillTempAct[[#This Row],[Date]])","v":5},{"$f":"IF(ChillTempAct[[#This Row],[Month]]=J289,K289+1,1)","v":16}]
[44347,66,55,{"$f":"AVERAGE(ChillTempAct[[#This Row],[ChillHigh]:[ChillLow]])","v":60.5},{"$f":"IF(ChillTempAct[[#This Row],[ChillAve]]<65,65-ChillTempAct[[#This Row],[ChillAve]],0)","v":4.5},{"$f":"INDEX(TempAdj[AdjustPct],MATCH(MONTH(ChillTempAct[[#This Row],[Date]]),TempAdj[Month],0))","v":0.2883},{"$f":"ChillTempAct[[#This Row],[ChillHDD]]*(1+ChillTempAct[[#This Row],[ChillAdj]])","v":5.7973499999999998},{"$f":"SUMPRODUCT((RankNHDD[Month]=ChillTempAct[[#This Row],[Month]])*(RankNHDD[Rank]=ChillTempAct[[#This Row],[Rank]])*RankNHDD[KIRKNHDD])","v":2.4845698924731172},{"$f":"YEAR(ChillTempAct[[#This Row],[Date]])","v":2021},{"$f":"MONTH(ChillTempAct[[#This Row],[Date]])","v":5},{"$f":"IF(ChillTempAct[[#This Row],[Month]]=J290,K290+1,1)","v":17}]
[44331,73,52,{"$f":"AVERAGE(ChillTempAct[[#This Row],[ChillHigh]:[ChillLow]])","v":62.5},{"$f":"IF(ChillTempAct[[#This Row],[ChillAve]]<65,65-ChillTempAct[[#This Row],[ChillAve]],0)","v":2.5},{"$f":"INDEX(TempAdj[AdjustPct],MATCH(MONTH(ChillTempAct[[#This Row],[Date]]),TempAdj[Month],0))","v":0.2883},{"$f":"ChillTempAct[[#This Row],[ChillHDD]]*(1+ChillTempAct[[#This Row],[ChillAdj]])","v":3.2207499999999998},{"$f":"SUMPRODUCT((RankNHDD[Month]=ChillTempAct[[#This Row],[Month]])*(RankNHDD[Rank]=ChillTempAct[[#This Row],[Rank]])*RankNHDD[KIRKNHDD])","v":1.7857347670250883},{"$f":"YEAR(ChillTempAct[[#This Row],[Date]])","v":2021},{"$f":"MONTH(ChillTempAct[[#This Row],[Date]])","v":5},{"$f":"IF(ChillTempAct[[#This Row],[Month]]=J291,K291+1,1)","v":18}]
[44334,66,59,{"$f":"AVERAGE(ChillTempAct[[#This Row],[ChillHigh]:[ChillLow]])","v":62.5},{"$f":"IF(ChillTempAct[[#This Row],[ChillAve]]<65,65-ChillTempAct[[#This Row],[ChillAve]],0)","v":2.5},{"$f":"INDEX(TempAdj[AdjustPct],MATCH(MONTH(ChillTempAct[[#This Row],[Date]]),TempAdj[Month],0))","v":0.2883},{"$f":"ChillTempAct[[#This Row],[ChillHDD]]*(1+ChillTempAct[[#This Row],[ChillAdj]])","v":3.2207499999999998},{"$f":"SUMPRODUCT((RankNHDD[Month]=ChillTempAct[[#This Row],[Month]])*(RankNHDD[Rank]=ChillTempAct[[#This Row],[Rank]])*RankNHDD[KIRKNHDD])","v":0.92596774193548137},{"$f":"YEAR(ChillTempAct[[#This Row],[Date]])","v":2021},{"$f":"MONTH(ChillTempAct[[#This Row],[Date]])","v":5},{"$f":"IF(ChillTempAct[[#This Row],[Month]]=J292,K292+1,1)","v":19}]
[44317,80,50,{"$f":"AVERAGE(ChillTempAct[[#This Row],[ChillHigh]:[ChillLow]])","v":65},{"$f":"IF(ChillTempAct[[#This Row],[ChillAve]]<65,65-ChillTempAct[[#This Row],[ChillAve]],0)","v":0},{"$f":"INDEX(TempAdj[AdjustPct],MATCH(MONTH(ChillTempAct[[#This Row],[Date]]),TempAdj[Month],0))","v":0.2883},{"$f":"ChillTempAct[[#This Row],[ChillHDD]]*(1+ChillTempAct[[#This Row],[ChillAdj]])","v":0},{"$f":"SUMPRODUCT((RankNHDD[Month]=ChillTempAct[[#This Row],[Month]])*(RankNHDD[Rank]=ChillTempAct[[#This Row],[Rank]])*RankNHDD[KIRKNHDD])","v":8.833333333333257E-2},{"$f":"YEAR(ChillTempAct[[#This Row],[Date]])","v":2021},{"$f":"MONTH(ChillTempAct[[#This Row],[Date]])","v":5},{"$f":"IF(ChillTempAct[[#This Row],[Month]]=J293,K293+1,1)","v":20}]
[44339,70,62,{"$f":"AVERAGE(ChillTempAct[[#This Row],[ChillHigh]:[ChillLow]])","v":66},{"$f":"IF(ChillTempAct[[#This Row],[ChillAve]]<65,65-ChillTempAct[[#This Row],[ChillAve]],0)","v":0},{"$f":"INDEX(TempAdj[AdjustPct],MATCH(MONTH(ChillTempAct[[#This Row],[Date]]),TempAdj[Month],0))","v":0.2883},{"$f":"ChillTempAct[[#This Row],[ChillHDD]]*(1+ChillTempAct[[#This Row],[ChillAdj]])","v":0},{"$f":"SUMPRODUCT((RankNHDD[Month]=ChillTempAct[[#This Row],[Month]])*(RankNHDD[Rank]=ChillTempAct[[#This Row],[Rank]])*RankNHDD[KIRKNHDD])","v":0},{"$f":"YEAR(ChillTempAct[[#This Row],[Date]])","v":2021},{"$f":"MONTH(ChillTempAct[[#This Row],[Date]])","v":5},{"$f":"IF(ChillTempAct[[#This Row],[Month]]=J294,K294+1,1)","v":21}]
[44336,73,65,{"$f":"AVERAGE(ChillTempAct[[#This Row],[ChillHigh]:[ChillLow]])","v":69},{"$f":"IF(ChillTempAct[[#This Row],[ChillAve]]<65,65-ChillTempAct[[#This Row],[ChillAve]],0)","v":0},{"$f":"INDEX(TempAdj[AdjustPct],MATCH(MONTH(ChillTempAct[[#This Row],[Date]]),TempAdj[Month],0))","v":0.2883},{"$f":"ChillTempAct[[#This Row],[ChillHDD]]*(1+ChillTempAct[[#This Row],[ChillAdj]])","v":0},{"$f":"SUMPRODUCT((RankNHDD[Month]=ChillTempAct[[#This Row],[Month]])*(RankNHDD[Rank]=ChillTempAct[[#This Row],[Rank]])*RankNHDD[KIRKNHDD])","v":0},{"$f":"YEAR(ChillTempAct[[#This Row],[Date]])","v":2021},{"$f":"MONTH(ChillTempAct[[#This Row],[Date]])","v":5},{"$f":"IF(ChillTempAct[[#This Row],[Month]]=J295,K295+1,1)","v":22}]
[44338,74,65,{"$f":"AVERAGE(ChillTempAct[[#This Row],[ChillHigh]:[ChillLow]])","v":69.5},{"$f":"IF(ChillTempAct[[#This Row],[ChillAve]]<65,65-ChillTempAct[[#This Row],[ChillAve]],0)","v":0},{"$f":"INDEX(TempAdj[AdjustPct],MATCH(MONTH(ChillTempAct[[#This Row],[Date]]),TempAdj[Month],0))","v":0.2883},{"$f":"ChillTempAct[[#This Row],[ChillHDD]]*(1+ChillTempAct[[#This Row],[ChillAdj]])","v":0},{"$f":"SUMPRODUCT((RankNHDD[Month]=ChillTempAct[[#This Row],[Month]])*(RankNHDD[Rank]=ChillTempAct[[#This Row],[Rank]])*RankNHDD[KIRKNHDD])","v":0},{"$f":"YEAR(ChillTempAct[[#This Row],[Date]])","v":2021},{"$f":"MONTH(ChillTempAct[[#This Row],[Date]])","v":5},{"$f":"IF(ChillTempAct[[#This Row],[Month]]=J296,K296+1,1)","v":23}]
[44319,79,61,{"$f":"AVERAGE(ChillTempAct[[#This Row],[ChillHigh]:[ChillLow]])","v":70},{"$f":"IF(ChillTempAct[[#This Row],[ChillAve]]<65,65-ChillTempAct[[#This Row],[ChillAve]],0)","v":0},{"$f":"INDEX(TempAdj[AdjustPct],MATCH(MONTH(ChillTempAct[[#This Row],[Date]]),TempAdj[Month],0))","v":0.2883},{"$f":"ChillTempAct[[#This Row],[ChillHDD]]*(1+ChillTempAct[[#This Row],[ChillAdj]])","v":0},{"$f":"SUMPRODUCT((RankNHDD[Month]=ChillTempAct[[#This Row],[Month]])*(RankNHDD[Rank]=ChillTempAct[[#This Row],[Rank]])*RankNHDD[KIRKNHDD])","v":0},{"$f":"YEAR(ChillTempAct[[#This Row],[Date]])","v":2021},{"$f":"MONTH(ChillTempAct[[#This Row],[Date]])","v":5},{"$f":"IF(ChillTempAct[[#This Row],[Month]]=J297,K297+1,1)","v":24}]
[44335,78,62,{"$f":"AVERAGE(ChillTempAct[[#This Row],[ChillHigh]:[ChillLow]])","v":70},{"$f":"IF(ChillTempAct[[#This Row],[ChillAve]]<65,65-ChillTempAct[[#This Row],[ChillAve]],0)","v":0},{"$f":"INDEX(TempAdj[AdjustPct],MATCH(MONTH(ChillTempAct[[#This Row],[Date]]),TempAdj[Month],0))","v":0.2883},{"$f":"ChillTempAct[[#This Row],[ChillHDD]]*(1+ChillTempAct[[#This Row],[ChillAdj]])","v":0},{"$f":"SUMPRODUCT((RankNHDD[Month]=ChillTempAct[[#This Row],[Month]])*(RankNHDD[Rank]=ChillTempAct[[#This Row],[Rank]])*RankNHDD[KIRKNHDD])","v":0},{"$f":"YEAR(ChillTempAct[[#This Row],[Date]])","v":2021},{"$f":"MONTH(ChillTempAct[[#This Row],[Date]])","v":5},{"$f":"IF(ChillTempAct[[#This Row],[Month]]=J298,K298+1,1)","v":25}]
[44337,74,67,{"$f":"AVERAGE(ChillTempAct[[#This Row],[ChillHigh]:[ChillLow]])","v":70.5},{"$f":"IF(ChillTempAct[[#This Row],[ChillAve]]<65,65-ChillTempAct[[#This Row],[ChillAve]],0)","v":0},{"$f":"INDEX(TempAdj[AdjustPct],MATCH(MONTH(ChillTempAct[[#This Row],[Date]]),TempAdj[Month],0))","v":0.2883},{"$f":"ChillTempAct[[#This Row],[ChillHDD]]*(1+ChillTempAct[[#This Row],[ChillAdj]])","v":0},{"$f":"SUMPRODUCT((RankNHDD[Month]=ChillTempAct[[#This Row],[Month]])*(RankNHDD[Rank]=ChillTempAct[[#This Row],[Rank]])*RankNHDD[KIRKNHDD])","v":0},{"$f":"YEAR(ChillTempAct[[#This Row],[Date]])","v":2021},{"$f":"MONTH(ChillTempAct[[#This Row],[Date]])","v":5},{"$f":"IF(ChillTempAct[[#This Row],[Month]]=J299,K299+1,1)","v":26}]
[44342,78,65,{"$f":"AVERAGE(ChillTempAct[[#This Row],[ChillHigh]:[ChillLow]])","v":71.5},{"$f":"IF(ChillTempAct[[#This Row],[ChillAve]]<65,65-ChillTempAct[[#This Row],[ChillAve]],0)","v":0},{"$f":"INDEX(TempAdj[AdjustPct],MATCH(MONTH(ChillTempAct[[#This Row],[Date]]),TempAdj[Month],0))","v":0.2883},{"$f":"ChillTempAct[[#This Row],[ChillHDD]]*(1+ChillTempAct[[#This Row],[ChillAdj]])","v":0},{"$f":"SUMPRODUCT((RankNHDD[Month]=ChillTempAct[[#This Row],[Month]])*(RankNHDD[Rank]=ChillTempAct[[#This Row],[Rank]])*RankNHDD[KIRKNHDD])","v":0},{"$f":"YEAR(ChillTempAct[[#This Row],[Date]])","v":2021},{"$f":"MONTH(ChillTempAct[[#This Row],[Date]])","v":5},{"$f":"IF(ChillTempAct[[#This Row],[Month]]=J300,K300+1,1)","v":27}]
[44318,83,61,{"$f":"AVERAGE(ChillTempAct[[#This Row],[ChillHigh]:[ChillLow]])","v":72},{"$f":"IF(ChillTempAct[[#This Row],[ChillAve]]<65,65-ChillTempAct[[#This Row],[ChillAve]],0)","v":0},{"$f":"INDEX(TempAdj[AdjustPct],MATCH(MONTH(ChillTempAct[[#This Row],[Date]]),TempAdj[Month],0))","v":0.2883},{"$f":"ChillTempAct[[#This Row],[ChillHDD]]*(1+ChillTempAct[[#This Row],[ChillAdj]])","v":0},{"$f":"SUMPRODUCT((RankNHDD[Month]=ChillTempAct[[#This Row],[Month]])*(RankNHDD[Rank]=ChillTempAct[[#This Row],[Rank]])*RankNHDD[KIRKNHDD])","v":0},{"$f":"YEAR(ChillTempAct[[#This Row],[Date]])","v":2021},{"$f":"MONTH(ChillTempAct[[#This Row],[Date]])","v":5},{"$f":"IF(ChillTempAct[[#This Row],[Month]]=J301,K301+1,1)","v":28}]
[44340,80,64,{"$f":"AVERAGE(ChillTempAct[[#This Row],[ChillHigh]:[ChillLow]])","v":72},{"$f":"IF(ChillTempAct[[#This Row],[ChillAve]]<65,65-ChillTempAct[[#This Row],[ChillAve]],0)","v":0},{"$f":"INDEX(TempAdj[AdjustPct],MATCH(MONTH(ChillTempAct[[#This Row],[Date]]),TempAdj[Month],0))","v":0.2883},{"$f":"ChillTempAct[[#This Row],[ChillHDD]]*(1+ChillTempAct[[#This Row],[ChillAdj]])","v":0},{"$f":"SUMPRODUCT((RankNHDD[Month]=ChillTempAct[[#This Row],[Month]])*(RankNHDD[Rank]=ChillTempAct[[#This Row],[Rank]])*RankNHDD[KIRKNHDD])","v":0},{"$f":"YEAR(ChillTempAct[[#This Row],[Date]])","v":2021},{"$f":"MONTH(ChillTempAct[[#This Row],[Date]])","v":5},{"$f":"IF(ChillTempAct[[#This Row],[Month]]=J302,K302+1,1)","v":29}]
[44341,82,67,{"$f":"AVERAGE(ChillTempAct[[#This Row],[ChillHigh]:[ChillLow]])","v":74.5},{"$f":"IF(ChillTempAct[[#This Row],[ChillAve]]<65,65-ChillTempAct[[#This Row],[ChillAve]],0)","v":0},{"$f":"INDEX(TempAdj[AdjustPct],MATCH(MONTH(ChillTempAct[[#This Row],[Date]]),TempAdj[Month],0))","v":0.2883},{"$f":"ChillTempAct[[#This Row],[ChillHDD]]*(1+ChillTempAct[[#This Row],[ChillAdj]])","v":0},{"$f":"SUMPRODUCT((RankNHDD[Month]=ChillTempAct[[#This Row],[Month]])*(RankNHDD[Rank]=ChillTempAct[[#This Row],[Rank]])*RankNHDD[KIRKNHDD])","v":0},{"$f":"YEAR(ChillTempAct[[#This Row],[Date]])","v":2021},{"$f":"MONTH(ChillTempAct[[#This Row],[Date]])","v":5},{"$f":"IF(ChillTempAct[[#This Row],[Month]]=J303,K303+1,1)","v":30}]
[44343,86,64,{"$f":"AVERAGE(ChillTempAct[[#This Row],[ChillHigh]:[ChillLow]])","v":75},{"$f":"IF(ChillTempAct[[#This Row],[ChillAve]]<65,65-ChillTempAct[[#This Row],[ChillAve]],0)","v":0},{"$f":"INDEX(TempAdj[AdjustPct],MATCH(MONTH(ChillTempAct[[#This Row],[Date]]),TempAdj[Month],0))","v":0.2883},{"$f":"ChillTempAct[[#This Row],[ChillHDD]]*(1+ChillTempAct[[#This Row],[ChillAdj]])","v":0},{"$f":"SUMPRODUCT((RankNHDD[Month]=ChillTempAct[[#This Row],[Month]])*(RankNHDD[Rank]=ChillTempAct[[#This Row],[Rank]])*RankNHDD[KIRKNHDD])","v":0},{"$f":"YEAR(ChillTempAct[[#This Row],[Date]])","v":2021},{"$f":"MONTH(ChillTempAct[[#This Row],[Date]])","v":5},{"$f":"IF(ChillTempAct[[#This Row],[Month]]=J304,K304+1,1)","v":31}]
[44348,61,54,{"$f":"AVERAGE(ChillTempAct[[#This Row],[ChillHigh]:[ChillLow]])","v":57.5},{"$f":"IF(ChillTempAct[[#This Row],[ChillAve]]<65,65-ChillTempAct[[#This Row],[ChillAve]],0)","v":7.5},{"$f":"INDEX(TempAdj[AdjustPct],MATCH(MONTH(ChillTempAct[[#This Row],[Date]]),TempAdj[Month],0))","v":0.67179999999999995},{"$f":"ChillTempAct[[#This Row],[ChillHDD]]*(1+ChillTempAct[[#This Row],[ChillAdj]])","v":12.538499999999999},{"$f":"SUMPRODUCT((RankNHDD[Month]=ChillTempAct[[#This Row],[Month]])*(RankNHDD[Rank]=ChillTempAct[[#This Row],[Rank]])*RankNHDD[KIRKNHDD])","v":8.9318637992831516},{"$f":"YEAR(ChillTempAct[[#This Row],[Date]])","v":2021},{"$f":"MONTH(ChillTempAct[[#This Row],[Date]])","v":6},{"$f":"IF(ChillTempAct[[#This Row],[Month]]=J305,K305+1,1)","v":1}]
[44369,74,54,{"$f":"AVERAGE(ChillTempAct[[#This Row],[ChillHigh]:[ChillLow]])","v":64},{"$f":"IF(ChillTempAct[[#This Row],[ChillAve]]<65,65-ChillTempAct[[#This Row],[ChillAve]],0)","v":1},{"$f":"INDEX(TempAdj[AdjustPct],MATCH(MONTH(ChillTempAct[[#This Row],[Date]]),TempAdj[Month],0))","v":0.67179999999999995},{"$f":"ChillTempAct[[#This Row],[ChillHDD]]*(1+ChillTempAct[[#This Row],[ChillAdj]])","v":1.6718},{"$f":"SUMPRODUCT((RankNHDD[Month]=ChillTempAct[[#This Row],[Month]])*(RankNHDD[Rank]=ChillTempAct[[#This Row],[Rank]])*RankNHDD[KIRKNHDD])","v":4.877347670250896},{"$f":"YEAR(ChillTempAct[[#This Row],[Date]])","v":2021},{"$f":"MONTH(ChillTempAct[[#This Row],[Date]])","v":6},{"$f":"IF(ChillTempAct[[#This Row],[Month]]=J306,K306+1,1)","v":2}]
[44349,74,55,{"$f":"AVERAGE(ChillTempAct[[#This Row],[ChillHigh]:[ChillLow]])","v":64.5},{"$f":"IF(ChillTempAct[[#This Row],[ChillAve]]<65,65-ChillTempAct[[#This Row],[ChillAve]],0)","v":0.5},{"$f":"INDEX(TempAdj[AdjustPct],MATCH(MONTH(ChillTempAct[[#This Row],[Date]]),TempAdj[Month],0))","v":0.67179999999999995},{"$f":"ChillTempAct[[#This Row],[ChillHDD]]*(1+ChillTempAct[[#This Row],[ChillAdj]])","v":0.83589999999999998},{"$f":"SUMPRODUCT((RankNHDD[Month]=ChillTempAct[[#This Row],[Month]])*(RankNHDD[Rank]=ChillTempAct[[#This Row],[Rank]])*RankNHDD[KIRKNHDD])","v":2.8872222222222224},{"$f":"YEAR(ChillTempAct[[#This Row],[Date]])","v":2021},{"$f":"MONTH(ChillTempAct[[#This Row],[Date]])","v":6},{"$f":"IF(ChillTempAct[[#This Row],[Month]]=J307,K307+1,1)","v":3}]
[44350,77,54,{"$f":"AVERAGE(ChillTempAct[[#This Row],[ChillHigh]:[ChillLow]])","v":65.5},{"$f":"IF(ChillTempAct[[#This Row],[ChillAve]]<65,65-ChillTempAct[[#This Row],[ChillAve]],0)","v":0},{"$f":"INDEX(TempAdj[AdjustPct],MATCH(MONTH(ChillTempAct[[#This Row],[Date]]),TempAdj[Month],0))","v":0.67179999999999995},{"$f":"ChillTempAct[[#This Row],[ChillHDD]]*(1+ChillTempAct[[#This Row],[ChillAdj]])","v":0},{"$f":"SUMPRODUCT((RankNHDD[Month]=ChillTempAct[[#This Row],[Month]])*(RankNHDD[Rank]=ChillTempAct[[#This Row],[Rank]])*RankNHDD[KIRKNHDD])","v":1.612222222222222},{"$f":"YEAR(ChillTempAct[[#This Row],[Date]])","v":2021},{"$f":"MONTH(ChillTempAct[[#This Row],[Date]])","v":6},{"$f":"IF(ChillTempAct[[#This Row],[Month]]=J308,K308+1,1)","v":4}]
[44351,84,58,{"$f":"AVERAGE(ChillTempAct[[#This Row],[ChillHigh]:[ChillLow]])","v":71},{"$f":"IF(ChillTempAct[[#This Row],[ChillAve]]<65,65-ChillTempAct[[#This Row],[ChillAve]],0)","v":0},{"$f":"INDEX(TempAdj[AdjustPct],MATCH(MONTH(ChillTempAct[[#This Row],[Date]]),TempAdj[Month],0))","v":0.67179999999999995},{"$f":"ChillTempAct[[#This Row],[ChillHDD]]*(1+ChillTempAct[[#This Row],[ChillAdj]])","v":0},{"$f":"SUMPRODUCT((RankNHDD[Month]=ChillTempAct[[#This Row],[Month]])*(RankNHDD[Rank]=ChillTempAct[[#This Row],[Rank]])*RankNHDD[KIRKNHDD])","v":0.56722222222222174},{"$f":"YEAR(ChillTempAct[[#This Row],[Date]])","v":2021},{"$f":"MONTH(ChillTempAct[[#This Row],[Date]])","v":6},{"$f":"IF(ChillTempAct[[#This Row],[Month]]=J309,K309+1,1)","v":5}]
[44370,85,58,{"$f":"AVERAGE(ChillTempAct[[#This Row],[ChillHigh]:[ChillLow]])","v":71.5},{"$f":"IF(ChillTempAct[[#This Row],[ChillAve]]<65,65-ChillTempAct[[#This Row],[ChillAve]],0)","v":0},{"$f":"INDEX(TempAdj[AdjustPct],MATCH(MONTH(ChillTempAct[[#This Row],[Date]]),TempAdj[Month],0))","v":0.67179999999999995},{"$f":"ChillTempAct[[#This Row],[ChillHDD]]*(1+ChillTempAct[[#This Row],[ChillAdj]])","v":0},{"$f":"SUMPRODUCT((RankNHDD[Month]=ChillTempAct[[#This Row],[Month]])*(RankNHDD[Rank]=ChillTempAct[[#This Row],[Rank]])*RankNHDD[KIRKNHDD])","v":0},{"$f":"YEAR(ChillTempAct[[#This Row],[Date]])","v":2021},{"$f":"MONTH(ChillTempAct[[#This Row],[Date]])","v":6},{"$f":"IF(ChillTempAct[[#This Row],[Month]]=J310,K310+1,1)","v":6}]
[44374,80,66,{"$f":"AVERAGE(ChillTempAct[[#This Row],[ChillHigh]:[ChillLow]])","v":73},{"$f":"IF(ChillTempAct[[#This Row],[ChillAve]]<65,65-ChillTempAct[[#This Row],[ChillAve]],0)","v":0},{"$f":"INDEX(TempAdj[AdjustPct],MATCH(MONTH(ChillTempAct[[#This Row],[Date]]),TempAdj[Month],0))","v":0.67179999999999995},{"$f":"ChillTempAct[[#This Row],[ChillHDD]]*(1+ChillTempAct[[#This Row],[ChillAdj]])","v":0},{"$f":"SUMPRODUCT((RankNHDD[Month]=ChillTempAct[[#This Row],[Month]])*(RankNHDD[Rank]=ChillTempAct[[#This Row],[Rank]])*RankNHDD[KIRKNHDD])","v":0},{"$f":"YEAR(ChillTempAct[[#This Row],[Date]])","v":2021},{"$f":"MONTH(ChillTempAct[[#This Row],[Date]])","v":6},{"$f":"IF(ChillTempAct[[#This Row],[Month]]=J311,K311+1,1)","v":7}]
[44377,77,69,{"$f":"AVERAGE(ChillTempAct[[#This Row],[ChillHigh]:[ChillLow]])","v":73},{"$f":"IF(ChillTempAct[[#This Row],[ChillAve]]<65,65-ChillTempAct[[#This Row],[ChillAve]],0)","v":0},{"$f":"INDEX(TempAdj[AdjustPct],MATCH(MONTH(ChillTempAct[[#This Row],[Date]]),TempAdj[Month],0))","v":0.67179999999999995},{"$f":"ChillTempAct[[#This Row],[ChillHDD]]*(1+ChillTempAct[[#This Row],[ChillAdj]])","v":0},{"$f":"SUMPRODUCT((RankNHDD[Month]=ChillTempAct[[#This Row],[Month]])*(RankNHDD[Rank]=ChillTempAct[[#This Row],[Rank]])*RankNHDD[KIRKNHDD])","v":0},{"$f":"YEAR(ChillTempAct[[#This Row],[Date]])","v":2021},{"$f":"MONTH(ChillTempAct[[#This Row],[Date]])","v":6},{"$f":"IF(ChillTempAct[[#This Row],[Month]]=J312,K312+1,1)","v":8}]
[44376,79,68,{"$f":"AVERAGE(ChillTempAct[[#This Row],[ChillHigh]:[ChillLow]])","v":73.5},{"$f":"IF(ChillTempAct[[#This Row],[ChillAve]]<65,65-ChillTempAct[[#This Row],[ChillAve]],0)","v":0},{"$f":"INDEX(TempAdj[AdjustPct],MATCH(MONTH(ChillTempAct[[#This Row],[Date]]),TempAdj[Month],0))","v":0.67179999999999995},{"$f":"ChillTempAct[[#This Row],[ChillHDD]]*(1+ChillTempAct[[#This Row],[ChillAdj]])","v":0},{"$f":"SUMPRODUCT((RankNHDD[Month]=ChillTempAct[[#This Row],[Month]])*(RankNHDD[Rank]=ChillTempAct[[#This Row],[Rank]])*RankNHDD[KIRKNHDD])","v":0},{"$f":"YEAR(ChillTempAct[[#This Row],[Date]])","v":2021},{"$f":"MONTH(ChillTempAct[[#This Row],[Date]])","v":6},{"$f":"IF(ChillTempAct[[#This Row],[Month]]=J313,K313+1,1)","v":9}]
[44375,79,69,{"$f":"AVERAGE(ChillTempAct[[#This Row],[ChillHigh]:[ChillLow]])","v":74},{"$f":"IF(ChillTempAct[[#This Row],[ChillAve]]<65,65-ChillTempAct[[#This Row],[ChillAve]],0)","v":0},{"$f":"INDEX(TempAdj[AdjustPct],MATCH(MONTH(ChillTempAct[[#This Row],[Date]]),TempAdj[Month],0))","v":0.67179999999999995},{"$f":"ChillTempAct[[#This Row],[ChillHDD]]*(1+ChillTempAct[[#This Row],[ChillAdj]])","v":0},{"$f":"SUMPRODUCT((RankNHDD[Month]=ChillTempAct[[#This Row],[Month]])*(RankNHDD[Rank]=ChillTempAct[[#This Row],[Rank]])*RankNHDD[KIRKNHDD])","v":0},{"$f":"YEAR(ChillTempAct[[#This Row],[Date]])","v":2021},{"$f":"MONTH(ChillTempAct[[#This Row],[Date]])","v":6},{"$f":"IF(ChillTempAct[[#This Row],[Month]]=J314,K314+1,1)","v":10}]
[44372,82,67,{"$f":"AVERAGE(ChillTempAct[[#This Row],[ChillHigh]:[ChillLow]])","v":74.5},{"$f":"IF(ChillTempAct[[#This Row],[ChillAve]]<65,65-ChillTempAct[[#This Row],[ChillAve]],0)","v":0},{"$f":"INDEX(TempAdj[AdjustPct],MATCH(MONTH(ChillTempAct[[#This Row],[Date]]),TempAdj[Month],0))","v":0.67179999999999995},{"$f":"ChillTempAct[[#This Row],[ChillHDD]]*(1+ChillTempAct[[#This Row],[ChillAdj]])","v":0},{"$f":"SUMPRODUCT((RankNHDD[Month]=ChillTempAct[[#This Row],[Month]])*(RankNHDD[Rank]=ChillTempAct[[#This Row],[Rank]])*RankNHDD[KIRKNHDD])","v":0},{"$f":"YEAR(ChillTempAct[[#This Row],[Date]])","v":2021},{"$f":"MONTH(ChillTempAct[[#This Row],[Date]])","v":6},{"$f":"IF(ChillTempAct[[#This Row],[Month]]=J315,K315+1,1)","v":11}]
[44354,84,66,{"$f":"AVERAGE(ChillTempAct[[#This Row],[ChillHigh]:[ChillLow]])","v":75},{"$f":"IF(ChillTempAct[[#This Row],[ChillAve]]<65,65-ChillTempAct[[#This Row],[ChillAve]],0)","v":0},{"$f":"INDEX(TempAdj[AdjustPct],MATCH(MONTH(ChillTempAct[[#This Row],[Date]]),TempAdj[Month],0))","v":0.67179999999999995},{"$f":"ChillTempAct[[#This Row],[ChillHDD]]*(1+ChillTempAct[[#This Row],[ChillAdj]])","v":0},{"$f":"SUMPRODUCT((RankNHDD[Month]=ChillTempAct[[#This Row],[Month]])*(RankNHDD[Rank]=ChillTempAct[[#This Row],[Rank]])*RankNHDD[KIRKNHDD])","v":0},{"$f":"YEAR(ChillTempAct[[#This Row],[Date]])","v":2021},{"$f":"MONTH(ChillTempAct[[#This Row],[Date]])","v":6},{"$f":"IF(ChillTempAct[[#This Row],[Month]]=J316,K316+1,1)","v":12}]
[44352,87,65,{"$f":"AVERAGE(ChillTempAct[[#This Row],[ChillHigh]:[ChillLow]])","v":76},{"$f":"IF(ChillTempAct[[#This Row],[ChillAve]]<65,65-ChillTempAct[[#This Row],[ChillAve]],0)","v":0},{"$f":"INDEX(TempAdj[AdjustPct],MATCH(MONTH(ChillTempAct[[#This Row],[Date]]),TempAdj[Month],0))","v":0.67179999999999995},{"$f":"ChillTempAct[[#This Row],[ChillHDD]]*(1+ChillTempAct[[#This Row],[ChillAdj]])","v":0},{"$f":"SUMPRODUCT((RankNHDD[Month]=ChillTempAct[[#This Row],[Month]])*(RankNHDD[Rank]=ChillTempAct[[#This Row],[Rank]])*RankNHDD[KIRKNHDD])","v":0},{"$f":"YEAR(ChillTempAct[[#This Row],[Date]])","v":2021},{"$f":"MONTH(ChillTempAct[[#This Row],[Date]])","v":6},{"$f":"IF(ChillTempAct[[#This Row],[Month]]=J317,K317+1,1)","v":13}]
[44373,85,67,{"$f":"AVERAGE(ChillTempAct[[#This Row],[ChillHigh]:[ChillLow]])","v":76},{"$f":"IF(ChillTempAct[[#This Row],[ChillAve]]<65,65-ChillTempAct[[#This Row],[ChillAve]],0)","v":0},{"$f":"INDEX(TempAdj[AdjustPct],MATCH(MONTH(ChillTempAct[[#This Row],[Date]]),TempAdj[Month],0))","v":0.67179999999999995},{"$f":"ChillTempAct[[#This Row],[ChillHDD]]*(1+ChillTempAct[[#This Row],[ChillAdj]])","v":0},{"$f":"SUMPRODUCT((RankNHDD[Month]=ChillTempAct[[#This Row],[Month]])*(RankNHDD[Rank]=ChillTempAct[[#This Row],[Rank]])*RankNHDD[KIRKNHDD])","v":0},{"$f":"YEAR(ChillTempAct[[#This Row],[Date]])","v":2021},{"$f":"MONTH(ChillTempAct[[#This Row],[Date]])","v":6},{"$f":"IF(ChillTempAct[[#This Row],[Month]]=J318,K318+1,1)","v":14}]
[44353,88,65,{"$f":"AVERAGE(ChillTempAct[[#This Row],[ChillHigh]:[ChillLow]])","v":76.5},{"$f":"IF(ChillTempAct[[#This Row],[ChillAve]]<65,65-ChillTempAct[[#This Row],[ChillAve]],0)","v":0},{"$f":"INDEX(TempAdj[AdjustPct],MATCH(MONTH(ChillTempAct[[#This Row],[Date]]),TempAdj[Month],0))","v":0.67179999999999995},{"$f":"ChillTempAct[[#This Row],[ChillHDD]]*(1+ChillTempAct[[#This Row],[ChillAdj]])","v":0},{"$f":"SUMPRODUCT((RankNHDD[Month]=ChillTempAct[[#This Row],[Month]])*(RankNHDD[Rank]=ChillTempAct[[#This Row],[Rank]])*RankNHDD[KIRKNHDD])","v":0},{"$f":"YEAR(ChillTempAct[[#This Row],[Date]])","v":2021},{"$f":"MONTH(ChillTempAct[[#This Row],[Date]])","v":6},{"$f":"IF(ChillTempAct[[#This Row],[Month]]=J319,K319+1,1)","v":15}]
[44371,85,68,{"$f":"AVERAGE(ChillTempAct[[#This Row],[ChillHigh]:[ChillLow]])","v":76.5},{"$f":"IF(ChillTempAct[[#This Row],[ChillAve]]<65,65-ChillTempAct[[#This Row],[ChillAve]],0)","v":0},{"$f":"INDEX(TempAdj[AdjustPct],MATCH(MONTH(ChillTempAct[[#This Row],[Date]]),TempAdj[Month],0))","v":0.67179999999999995},{"$f":"ChillTempAct[[#This Row],[ChillHDD]]*(1+ChillTempAct[[#This Row],[ChillAdj]])","v":0},{"$f":"SUMPRODUCT((RankNHDD[Month]=ChillTempAct[[#This Row],[Month]])*(RankNHDD[Rank]=ChillTempAct[[#This Row],[Rank]])*RankNHDD[KIRKNHDD])","v":0},{"$f":"YEAR(ChillTempAct[[#This Row],[Date]])","v":2021},{"$f":"MONTH(ChillTempAct[[#This Row],[Date]])","v":6},{"$f":"IF(ChillTempAct[[#This Row],[Month]]=J320,K320+1,1)","v":16}]
[44355,87,67,{"$f":"AVERAGE(ChillTempAct[[#This Row],[ChillHigh]:[ChillLow]])","v":77},{"$f":"IF(ChillTempAct[[#This Row],[ChillAve]]<65,65-ChillTempAct[[#This Row],[ChillAve]],0)","v":0},{"$f":"INDEX(TempAdj[AdjustPct],MATCH(MONTH(ChillTempAct[[#This Row],[Date]]),TempAdj[Month],0))","v":0.67179999999999995},{"$f":"ChillTempAct[[#This Row],[ChillHDD]]*(1+ChillTempAct[[#This Row],[ChillAdj]])","v":0},{"$f":"SUMPRODUCT((RankNHDD[Month]=ChillTempAct[[#This Row],[Month]])*(RankNHDD[Rank]=ChillTempAct[[#This Row],[Rank]])*RankNHDD[KIRKNHDD])","v":0},{"$f":"YEAR(ChillTempAct[[#This Row],[Date]])","v":2021},{"$f":"MONTH(ChillTempAct[[#This Row],[Date]])","v":6},{"$f":"IF(ChillTempAct[[#This Row],[Month]]=J321,K321+1,1)","v":17}]
[44356,87,67,{"$f":"AVERAGE(ChillTempAct[[#This Row],[ChillHigh]:[ChillLow]])","v":77},{"$f":"IF(ChillTempAct[[#This Row],[ChillAve]]<65,65-ChillTempAct[[#This Row],[ChillAve]],0)","v":0},{"$f":"INDEX(TempAdj[AdjustPct],MATCH(MONTH(ChillTempAct[[#This Row],[Date]]),TempAdj[Month],0))","v":0.67179999999999995},{"$f":"ChillTempAct[[#This Row],[ChillHDD]]*(1+ChillTempAct[[#This Row],[ChillAdj]])","v":0},{"$f":"SUMPRODUCT((RankNHDD[Month]=ChillTempAct[[#This Row],[Month]])*(RankNHDD[Rank]=ChillTempAct[[#This Row],[Rank]])*RankNHDD[KIRKNHDD])","v":0},{"$f":"YEAR(ChillTempAct[[#This Row],[Date]])","v":2021},{"$f":"MONTH(ChillTempAct[[#This Row],[Date]])","v":6},{"$f":"IF(ChillTempAct[[#This Row],[Month]]=J322,K322+1,1)","v":18}]
[44361,91,63,{"$f":"AVERAGE(ChillTempAct[[#This Row],[ChillHigh]:[ChillLow]])","v":77},{"$f":"IF(ChillTempAct[[#This Row],[ChillAve]]<65,65-ChillTempAct[[#This Row],[ChillAve]],0)","v":0},{"$f":"INDEX(TempAdj[AdjustPct],MATCH(MONTH(ChillTempAct[[#This Row],[Date]]),TempAdj[Month],0))","v":0.67179999999999995},{"$f":"ChillTempAct[[#This Row],[ChillHDD]]*(1+ChillTempAct[[#This Row],[ChillAdj]])","v":0},{"$f":"SUMPRODUCT((RankNHDD[Month]=ChillTempAct[[#This Row],[Month]])*(RankNHDD[Rank]=ChillTempAct[[#This Row],[Rank]])*RankNHDD[KIRKNHDD])","v":0},{"$f":"YEAR(ChillTempAct[[#This Row],[Date]])","v":2021},{"$f":"MONTH(ChillTempAct[[#This Row],[Date]])","v":6},{"$f":"IF(ChillTempAct[[#This Row],[Month]]=J323,K323+1,1)","v":19}]
[44363,92,62,{"$f":"AVERAGE(ChillTempAct[[#This Row],[ChillHigh]:[ChillLow]])","v":77},{"$f":"IF(ChillTempAct[[#This Row],[ChillAve]]<65,65-ChillTempAct[[#This Row],[ChillAve]],0)","v":0},{"$f":"INDEX(TempAdj[AdjustPct],MATCH(MONTH(ChillTempAct[[#This Row],[Date]]),TempAdj[Month],0))","v":0.67179999999999995},{"$f":"ChillTempAct[[#This Row],[ChillHDD]]*(1+ChillTempAct[[#This Row],[ChillAdj]])","v":0},{"$f":"SUMPRODUCT((RankNHDD[Month]=ChillTempAct[[#This Row],[Month]])*(RankNHDD[Rank]=ChillTempAct[[#This Row],[Rank]])*RankNHDD[KIRKNHDD])","v":0},{"$f":"YEAR(ChillTempAct[[#This Row],[Date]])","v":2021},{"$f":"MONTH(ChillTempAct[[#This Row],[Date]])","v":6},{"$f":"IF(ChillTempAct[[#This Row],[Month]]=J324,K324+1,1)","v":20}]
[44368,92,62,{"$f":"AVERAGE(ChillTempAct[[#This Row],[ChillHigh]:[ChillLow]])","v":77},{"$f":"IF(ChillTempAct[[#This Row],[ChillAve]]<65,65-ChillTempAct[[#This Row],[ChillAve]],0)","v":0},{"$f":"INDEX(TempAdj[AdjustPct],MATCH(MONTH(ChillTempAct[[#This Row],[Date]]),TempAdj[Month],0))","v":0.67179999999999995},{"$f":"ChillTempAct[[#This Row],[ChillHDD]]*(1+ChillTempAct[[#This Row],[ChillAdj]])","v":0},{"$f":"SUMPRODUCT((RankNHDD[Month]=ChillTempAct[[#This Row],[Month]])*(RankNHDD[Rank]=ChillTempAct[[#This Row],[Rank]])*RankNHDD[KIRKNHDD])","v":0},{"$f":"YEAR(ChillTempAct[[#This Row],[Date]])","v":2021},{"$f":"MONTH(ChillTempAct[[#This Row],[Date]])","v":6},{"$f":"IF(ChillTempAct[[#This Row],[Month]]=J325,K325+1,1)","v":21}]
[44362,93,63,{"$f":"AVERAGE(ChillTempAct[[#This Row],[ChillHigh]:[ChillLow]])","v":78},{"$f":"IF(ChillTempAct[[#This Row],[ChillAve]]<65,65-ChillTempAct[[#This Row],[ChillAve]],0)","v":0},{"$f":"INDEX(TempAdj[AdjustPct],MATCH(MONTH(ChillTempAct[[#This Row],[Date]]),TempAdj[Month],0))","v":0.67179999999999995},{"$f":"ChillTempAct[[#This Row],[ChillHDD]]*(1+ChillTempAct[[#This Row],[ChillAdj]])","v":0},{"$f":"SUMPRODUCT((RankNHDD[Month]=ChillTempAct[[#This Row],[Month]])*(RankNHDD[Rank]=ChillTempAct[[#This Row],[Rank]])*RankNHDD[KIRKNHDD])","v":0},{"$f":"YEAR(ChillTempAct[[#This Row],[Date]])","v":2021},{"$f":"MONTH(ChillTempAct[[#This Row],[Date]])","v":6},{"$f":"IF(ChillTempAct[[#This Row],[Month]]=J326,K326+1,1)","v":22}]
[44360,91.5,66.5,{"$f":"AVERAGE(ChillTempAct[[#This Row],[ChillHigh]:[ChillLow]])","v":79},{"$f":"IF(ChillTempAct[[#This Row],[ChillAve]]<65,65-ChillTempAct[[#This Row],[ChillAve]],0)","v":0},{"$f":"INDEX(TempAdj[AdjustPct],MATCH(MONTH(ChillTempAct[[#This Row],[Date]]),TempAdj[Month],0))","v":0.67179999999999995},{"$f":"ChillTempAct[[#This Row],[ChillHDD]]*(1+ChillTempAct[[#This Row],[ChillAdj]])","v":0},{"$f":"SUMPRODUCT((RankNHDD[Month]=ChillTempAct[[#This Row],[Month]])*(RankNHDD[Rank]=ChillTempAct[[#This Row],[Rank]])*RankNHDD[KIRKNHDD])","v":0},{"$f":"YEAR(ChillTempAct[[#This Row],[Date]])","v":2021},{"$f":"MONTH(ChillTempAct[[#This Row],[Date]])","v":6},{"$f":"IF(ChillTempAct[[#This Row],[Month]]=J327,K327+1,1)","v":23}]
[44367,93,66,{"$f":"AVERAGE(ChillTempAct[[#This Row],[ChillHigh]:[ChillLow]])","v":79.5},{"$f":"IF(ChillTempAct[[#This Row],[ChillAve]]<65,65-ChillTempAct[[#This Row],[ChillAve]],0)","v":0},{"$f":"INDEX(TempAdj[AdjustPct],MATCH(MONTH(ChillTempAct[[#This Row],[Date]]),TempAdj[Month],0))","v":0.67179999999999995},{"$f":"ChillTempAct[[#This Row],[ChillHDD]]*(1+ChillTempAct[[#This Row],[ChillAdj]])","v":0},{"$f":"SUMPRODUCT((RankNHDD[Month]=ChillTempAct[[#This Row],[Month]])*(RankNHDD[Rank]=ChillTempAct[[#This Row],[Rank]])*RankNHDD[KIRKNHDD])","v":0},{"$f":"YEAR(ChillTempAct[[#This Row],[Date]])","v":2021},{"$f":"MONTH(ChillTempAct[[#This Row],[Date]])","v":6},{"$f":"IF(ChillTempAct[[#This Row],[Month]]=J328,K328+1,1)","v":24}]
[44357,91,69,{"$f":"AVERAGE(ChillTempAct[[#This Row],[ChillHigh]:[ChillLow]])","v":80},{"$f":"IF(ChillTempAct[[#This Row],[ChillAve]]<65,65-ChillTempAct[[#This Row],[ChillAve]],0)","v":0},{"$f":"INDEX(TempAdj[AdjustPct],MATCH(MONTH(ChillTempAct[[#This Row],[Date]]),TempAdj[Month],0))","v":0.67179999999999995},{"$f":"ChillTempAct[[#This Row],[ChillHDD]]*(1+ChillTempAct[[#This Row],[ChillAdj]])","v":0},{"$f":"SUMPRODUCT((RankNHDD[Month]=ChillTempAct[[#This Row],[Month]])*(RankNHDD[Rank]=ChillTempAct[[#This Row],[Rank]])*RankNHDD[KIRKNHDD])","v":0},{"$f":"YEAR(ChillTempAct[[#This Row],[Date]])","v":2021},{"$f":"MONTH(ChillTempAct[[#This Row],[Date]])","v":6},{"$f":"IF(ChillTempAct[[#This Row],[Month]]=J329,K329+1,1)","v":25}]
[44358,92,69,{"$f":"AVERAGE(ChillTempAct[[#This Row],[ChillHigh]:[ChillLow]])","v":80.5},{"$f":"IF(ChillTempAct[[#This Row],[ChillAve]]<65,65-ChillTempAct[[#This Row],[ChillAve]],0)","v":0},{"$f":"INDEX(TempAdj[AdjustPct],MATCH(MONTH(ChillTempAct[[#This Row],[Date]]),TempAdj[Month],0))","v":0.67179999999999995},{"$f":"ChillTempAct[[#This Row],[ChillHDD]]*(1+ChillTempAct[[#This Row],[ChillAdj]])","v":0},{"$f":"SUMPRODUCT((RankNHDD[Month]=ChillTempAct[[#This Row],[Month]])*(RankNHDD[Rank]=ChillTempAct[[#This Row],[Rank]])*RankNHDD[KIRKNHDD])","v":0},{"$f":"YEAR(ChillTempAct[[#This Row],[Date]])","v":2021},{"$f":"MONTH(ChillTempAct[[#This Row],[Date]])","v":6},{"$f":"IF(ChillTempAct[[#This Row],[Month]]=J330,K330+1,1)","v":26}]
[44364,92,69,{"$f":"AVERAGE(ChillTempAct[[#This Row],[ChillHigh]:[ChillLow]])","v":80.5},{"$f":"IF(ChillTempAct[[#This Row],[ChillAve]]<65,65-ChillTempAct[[#This Row],[ChillAve]],0)","v":0},{"$f":"INDEX(TempAdj[AdjustPct],MATCH(MONTH(ChillTempAct[[#This Row],[Date]]),TempAdj[Month],0))","v":0.67179999999999995},{"$f":"ChillTempAct[[#This Row],[ChillHDD]]*(1+ChillTempAct[[#This Row],[ChillAdj]])","v":0},{"$f":"SUMPRODUCT((RankNHDD[Month]=ChillTempAct[[#This Row],[Month]])*(RankNHDD[Rank]=ChillTempAct[[#This Row],[Rank]])*RankNHDD[KIRKNHDD])","v":0},{"$f":"YEAR(ChillTempAct[[#This Row],[Date]])","v":2021},{"$f":"MONTH(ChillTempAct[[#This Row],[Date]])","v":6},{"$f":"IF(ChillTempAct[[#This Row],[Month]]=J331,K331+1,1)","v":27}]
[44359,92,70,{"$f":"AVERAGE(ChillTempAct[[#This Row],[ChillHigh]:[ChillLow]])","v":81},{"$f":"IF(ChillTempAct[[#This Row],[ChillAve]]<65,65-ChillTempAct[[#This Row],[ChillAve]],0)","v":0},{"$f":"INDEX(TempAdj[AdjustPct],MATCH(MONTH(ChillTempAct[[#This Row],[Date]]),TempAdj[Month],0))","v":0.67179999999999995},{"$f":"ChillTempAct[[#This Row],[ChillHDD]]*(1+ChillTempAct[[#This Row],[ChillAdj]])","v":0},{"$f":"SUMPRODUCT((RankNHDD[Month]=ChillTempAct[[#This Row],[Month]])*(RankNHDD[Rank]=ChillTempAct[[#This Row],[Rank]])*RankNHDD[KIRKNHDD])","v":0},{"$f":"YEAR(ChillTempAct[[#This Row],[Date]])","v":2021},{"$f":"MONTH(ChillTempAct[[#This Row],[Date]])","v":6},{"$f":"IF(ChillTempAct[[#This Row],[Month]]=J332,K332+1,1)","v":28}]
[44365,91,72,{"$f":"AVERAGE(ChillTempAct[[#This Row],[ChillHigh]:[ChillLow]])","v":81.5},{"$f":"IF(ChillTempAct[[#This Row],[ChillAve]]<65,65-ChillTempAct[[#This Row],[ChillAve]],0)","v":0},{"$f":"INDEX(TempAdj[AdjustPct],MATCH(MONTH(ChillTempAct[[#This Row],[Date]]),TempAdj[Month],0))","v":0.67179999999999995},{"$f":"ChillTempAct[[#This Row],[ChillHDD]]*(1+ChillTempAct[[#This Row],[ChillAdj]])","v":0},{"$f":"SUMPRODUCT((RankNHDD[Month]=ChillTempAct[[#This Row],[Month]])*(RankNHDD[Rank]=ChillTempAct[[#This Row],[Rank]])*RankNHDD[KIRKNHDD])","v":0},{"$f":"YEAR(ChillTempAct[[#This Row],[Date]])","v":2021},{"$f":"MONTH(ChillTempAct[[#This Row],[Date]])","v":6},{"$f":"IF(ChillTempAct[[#This Row],[Month]]=J333,K333+1,1)","v":29}]
[44366,96,75,{"$f":"AVERAGE(ChillTempAct[[#This Row],[ChillHigh]:[ChillLow]])","v":85.5},{"$f":"IF(ChillTempAct[[#This Row],[ChillAve]]<65,65-ChillTempAct[[#This Row],[ChillAve]],0)","v":0},{"$f":"INDEX(TempAdj[AdjustPct],MATCH(MONTH(ChillTempAct[[#This Row],[Date]]),TempAdj[Month],0))","v":0.67179999999999995},{"$f":"ChillTempAct[[#This Row],[ChillHDD]]*(1+ChillTempAct[[#This Row],[ChillAdj]])","v":0},{"$f":"SUMPRODUCT((RankNHDD[Month]=ChillTempAct[[#This Row],[Month]])*(RankNHDD[Rank]=ChillTempAct[[#This Row],[Rank]])*RankNHDD[KIRKNHDD])","v":0},{"$f":"YEAR(ChillTempAct[[#This Row],[Date]])","v":2021},{"$f":"MONTH(ChillTempAct[[#This Row],[Date]])","v":6},{"$f":"IF(ChillTempAct[[#This Row],[Month]]=J334,K334+1,1)","v":30}]
[44389,67,63,{"$f":"AVERAGE(ChillTempAct[[#This Row],[ChillHigh]:[ChillLow]])","v":65},{"$f":"IF(ChillTempAct[[#This Row],[ChillAve]]<65,65-ChillTempAct[[#This Row],[ChillAve]],0)","v":0},{"$f":"INDEX(TempAdj[AdjustPct],MATCH(MONTH(ChillTempAct[[#This Row],[Date]]),TempAdj[Month],0))","v":0.74939999999999996},{"$f":"ChillTempAct[[#This Row],[ChillHDD]]*(1+ChillTempAct[[#This Row],[ChillAdj]])","v":0},{"$f":"SUMPRODUCT((RankNHDD[Month]=ChillTempAct[[#This Row],[Month]])*(RankNHDD[Rank]=ChillTempAct[[#This Row],[Rank]])*RankNHDD[KIRKNHDD])","v":1.9386200716845867},{"$f":"YEAR(ChillTempAct[[#This Row],[Date]])","v":2021},{"$f":"MONTH(ChillTempAct[[#This Row],[Date]])","v":7},{"$f":"IF(ChillTempAct[[#This Row],[Month]]=J335,K335+1,1)","v":1}]
[44390,74,63,{"$f":"AVERAGE(ChillTempAct[[#This Row],[ChillHigh]:[ChillLow]])","v":68.5},{"$f":"IF(ChillTempAct[[#This Row],[ChillAve]]<65,65-ChillTempAct[[#This Row],[ChillAve]],0)","v":0},{"$f":"INDEX(TempAdj[AdjustPct],MATCH(MONTH(ChillTempAct[[#This Row],[Date]]),TempAdj[Month],0))","v":0.74939999999999996},{"$f":"ChillTempAct[[#This Row],[ChillHDD]]*(1+ChillTempAct[[#This Row],[ChillAdj]])","v":0},{"$f":"SUMPRODUCT((RankNHDD[Month]=ChillTempAct[[#This Row],[Month]])*(RankNHDD[Rank]=ChillTempAct[[#This Row],[Rank]])*RankNHDD[KIRKNHDD])","v":0},{"$f":"YEAR(ChillTempAct[[#This Row],[Date]])","v":2021},{"$f":"MONTH(ChillTempAct[[#This Row],[Date]])","v":7},{"$f":"IF(ChillTempAct[[#This Row],[Month]]=J336,K336+1,1)","v":2}]
[44386,79,65,{"$f":"AVERAGE(ChillTempAct[[#This Row],[ChillHigh]:[ChillLow]])","v":72},{"$f":"IF(ChillTempAct[[#This Row],[ChillAve]]<65,65-ChillTempAct[[#This Row],[ChillAve]],0)","v":0},{"$f":"INDEX(TempAdj[AdjustPct],MATCH(MONTH(ChillTempAct[[#This Row],[Date]]),TempAdj[Month],0))","v":0.74939999999999996},{"$f":"ChillTempAct[[#This Row],[ChillHDD]]*(1+ChillTempAct[[#This Row],[ChillAdj]])","v":0},{"$f":"SUMPRODUCT((RankNHDD[Month]=ChillTempAct[[#This Row],[Month]])*(RankNHDD[Rank]=ChillTempAct[[#This Row],[Rank]])*RankNHDD[KIRKNHDD])","v":0},{"$f":"YEAR(ChillTempAct[[#This Row],[Date]])","v":2021},{"$f":"MONTH(ChillTempAct[[#This Row],[Date]])","v":7},{"$f":"IF(ChillTempAct[[#This Row],[Month]]=J337,K337+1,1)","v":3}]
[44393,77,68,{"$f":"AVERAGE(ChillTempAct[[#This Row],[ChillHigh]:[ChillLow]])","v":72.5},{"$f":"IF(ChillTempAct[[#This Row],[ChillAve]]<65,65-ChillTempAct[[#This Row],[ChillAve]],0)","v":0},{"$f":"INDEX(TempAdj[AdjustPct],MATCH(MONTH(ChillTempAct[[#This Row],[Date]]),TempAdj[Month],0))","v":0.74939999999999996},{"$f":"ChillTempAct[[#This Row],[ChillHDD]]*(1+ChillTempAct[[#This Row],[ChillAdj]])","v":0},{"$f":"SUMPRODUCT((RankNHDD[Month]=ChillTempAct[[#This Row],[Month]])*(RankNHDD[Rank]=ChillTempAct[[#This Row],[Rank]])*RankNHDD[KIRKNHDD])","v":0},{"$f":"YEAR(ChillTempAct[[#This Row],[Date]])","v":2021},{"$f":"MONTH(ChillTempAct[[#This Row],[Date]])","v":7},{"$f":"IF(ChillTempAct[[#This Row],[Month]]=J338,K338+1,1)","v":4}]
[44385,83,64,{"$f":"AVERAGE(ChillTempAct[[#This Row],[ChillHigh]:[ChillLow]])","v":73.5},{"$f":"IF(ChillTempAct[[#This Row],[ChillAve]]<65,65-ChillTempAct[[#This Row],[ChillAve]],0)","v":0},{"$f":"INDEX(TempAdj[AdjustPct],MATCH(MONTH(ChillTempAct[[#This Row],[Date]]),TempAdj[Month],0))","v":0.74939999999999996},{"$f":"ChillTempAct[[#This Row],[ChillHDD]]*(1+ChillTempAct[[#This Row],[ChillAdj]])","v":0},{"$f":"SUMPRODUCT((RankNHDD[Month]=ChillTempAct[[#This Row],[Month]])*(RankNHDD[Rank]=ChillTempAct[[#This Row],[Rank]])*RankNHDD[KIRKNHDD])","v":0},{"$f":"YEAR(ChillTempAct[[#This Row],[Date]])","v":2021},{"$f":"MONTH(ChillTempAct[[#This Row],[Date]])","v":7},{"$f":"IF(ChillTempAct[[#This Row],[Month]]=J339,K339+1,1)","v":5}]
[44395,84,63,{"$f":"AVERAGE(ChillTempAct[[#This Row],[ChillHigh]:[ChillLow]])","v":73.5},{"$f":"IF(ChillTempAct[[#This Row],[ChillAve]]<65,65-ChillTempAct[[#This Row],[ChillAve]],0)","v":0},{"$f":"INDEX(TempAdj[AdjustPct],MATCH(MONTH(ChillTempAct[[#This Row],[Date]]),TempAdj[Month],0))","v":0.74939999999999996},{"$f":"ChillTempAct[[#This Row],[ChillHDD]]*(1+ChillTempAct[[#This Row],[ChillAdj]])","v":0},{"$f":"SUMPRODUCT((RankNHDD[Month]=ChillTempAct[[#This Row],[Month]])*(RankNHDD[Rank]=ChillTempAct[[#This Row],[Rank]])*RankNHDD[KIRKNHDD])","v":0},{"$f":"YEAR(ChillTempAct[[#This Row],[Date]])","v":2021},{"$f":"MONTH(ChillTempAct[[#This Row],[Date]])","v":7},{"$f":"IF(ChillTempAct[[#This Row],[Month]]=J340,K340+1,1)","v":6}]
[44378,78,70,{"$f":"AVERAGE(ChillTempAct[[#This Row],[ChillHigh]:[ChillLow]])","v":74},{"$f":"IF(ChillTempAct[[#This Row],[ChillAve]]<65,65-ChillTempAct[[#This Row],[ChillAve]],0)","v":0},{"$f":"INDEX(TempAdj[AdjustPct],MATCH(MONTH(ChillTempAct[[#This Row],[Date]]),TempAdj[Month],0))","v":0.74939999999999996},{"$f":"ChillTempAct[[#This Row],[ChillHDD]]*(1+ChillTempAct[[#This Row],[ChillAdj]])","v":0},{"$f":"SUMPRODUCT((RankNHDD[Month]=ChillTempAct[[#This Row],[Month]])*(RankNHDD[Rank]=ChillTempAct[[#This Row],[Rank]])*RankNHDD[KIRKNHDD])","v":0},{"$f":"YEAR(ChillTempAct[[#This Row],[Date]])","v":2021},{"$f":"MONTH(ChillTempAct[[#This Row],[Date]])","v":7},{"$f":"IF(ChillTempAct[[#This Row],[Month]]=J341,K341+1,1)","v":7}]
[44388,83,65,{"$f":"AVERAGE(ChillTempAct[[#This Row],[ChillHigh]:[ChillLow]])","v":74},{"$f":"IF(ChillTempAct[[#This Row],[ChillAve]]<65,65-ChillTempAct[[#This Row],[ChillAve]],0)","v":0},{"$f":"INDEX(TempAdj[AdjustPct],MATCH(MONTH(ChillTempAct[[#This Row],[Date]]),TempAdj[Month],0))","v":0.74939999999999996},{"$f":"ChillTempAct[[#This Row],[ChillHDD]]*(1+ChillTempAct[[#This Row],[ChillAdj]])","v":0},{"$f":"SUMPRODUCT((RankNHDD[Month]=ChillTempAct[[#This Row],[Month]])*(RankNHDD[Rank]=ChillTempAct[[#This Row],[Rank]])*RankNHDD[KIRKNHDD])","v":0},{"$f":"YEAR(ChillTempAct[[#This Row],[Date]])","v":2021},{"$f":"MONTH(ChillTempAct[[#This Row],[Date]])","v":7},{"$f":"IF(ChillTempAct[[#This Row],[Month]]=J342,K342+1,1)","v":8}]
[44396,84,65,{"$f":"AVERAGE(ChillTempAct[[#This Row],[ChillHigh]:[ChillLow]])","v":74.5},{"$f":"IF(ChillTempAct[[#This Row],[ChillAve]]<65,65-ChillTempAct[[#This Row],[ChillAve]],0)","v":0},{"$f":"INDEX(TempAdj[AdjustPct],MATCH(MONTH(ChillTempAct[[#This Row],[Date]]),TempAdj[Month],0))","v":0.74939999999999996},{"$f":"ChillTempAct[[#This Row],[ChillHDD]]*(1+ChillTempAct[[#This Row],[ChillAdj]])","v":0},{"$f":"SUMPRODUCT((RankNHDD[Month]=ChillTempAct[[#This Row],[Month]])*(RankNHDD[Rank]=ChillTempAct[[#This Row],[Rank]])*RankNHDD[KIRKNHDD])","v":0},{"$f":"YEAR(ChillTempAct[[#This Row],[Date]])","v":2021},{"$f":"MONTH(ChillTempAct[[#This Row],[Date]])","v":7},{"$f":"IF(ChillTempAct[[#This Row],[Month]]=J343,K343+1,1)","v":9}]
[44379,86,65,{"$f":"AVERAGE(ChillTempAct[[#This Row],[ChillHigh]:[ChillLow]])","v":75.5},{"$f":"IF(ChillTempAct[[#This Row],[ChillAve]]<65,65-ChillTempAct[[#This Row],[ChillAve]],0)","v":0},{"$f":"INDEX(TempAdj[AdjustPct],MATCH(MONTH(ChillTempAct[[#This Row],[Date]]),TempAdj[Month],0))","v":0.74939999999999996},{"$f":"ChillTempAct[[#This Row],[ChillHDD]]*(1+ChillTempAct[[#This Row],[ChillAdj]])","v":0},{"$f":"SUMPRODUCT((RankNHDD[Month]=ChillTempAct[[#This Row],[Month]])*(RankNHDD[Rank]=ChillTempAct[[#This Row],[Rank]])*RankNHDD[KIRKNHDD])","v":0},{"$f":"YEAR(ChillTempAct[[#This Row],[Date]])","v":2021},{"$f":"MONTH(ChillTempAct[[#This Row],[Date]])","v":7},{"$f":"IF(ChillTempAct[[#This Row],[Month]]=J344,K344+1,1)","v":10}]
[44381,86,65,{"$f":"AVERAGE(ChillTempAct[[#This Row],[ChillHigh]:[ChillLow]])","v":75.5},{"$f":"IF(ChillTempAct[[#This Row],[ChillAve]]<65,65-ChillTempAct[[#This Row],[ChillAve]],0)","v":0},{"$f":"INDEX(TempAdj[AdjustPct],MATCH(MONTH(ChillTempAct[[#This Row],[Date]]),TempAdj[Month],0))","v":0.74939999999999996},{"$f":"ChillTempAct[[#This Row],[ChillHDD]]*(1+ChillTempAct[[#This Row],[ChillAdj]])","v":0},{"$f":"SUMPRODUCT((RankNHDD[Month]=ChillTempAct[[#This Row],[Month]])*(RankNHDD[Rank]=ChillTempAct[[#This Row],[Rank]])*RankNHDD[KIRKNHDD])","v":0},{"$f":"YEAR(ChillTempAct[[#This Row],[Date]])","v":2021},{"$f":"MONTH(ChillTempAct[[#This Row],[Date]])","v":7},{"$f":"IF(ChillTempAct[[#This Row],[Month]]=J345,K345+1,1)","v":11}]
[44391,85,66,{"$f":"AVERAGE(ChillTempAct[[#This Row],[ChillHigh]:[ChillLow]])","v":75.5},{"$f":"IF(ChillTempAct[[#This Row],[ChillAve]]<65,65-ChillTempAct[[#This Row],[ChillAve]],0)","v":0},{"$f":"INDEX(TempAdj[AdjustPct],MATCH(MONTH(ChillTempAct[[#This Row],[Date]]),TempAdj[Month],0))","v":0.74939999999999996},{"$f":"ChillTempAct[[#This Row],[ChillHDD]]*(1+ChillTempAct[[#This Row],[ChillAdj]])","v":0},{"$f":"SUMPRODUCT((RankNHDD[Month]=ChillTempAct[[#This Row],[Month]])*(RankNHDD[Rank]=ChillTempAct[[#This Row],[Rank]])*RankNHDD[KIRKNHDD])","v":0},{"$f":"YEAR(ChillTempAct[[#This Row],[Date]])","v":2021},{"$f":"MONTH(ChillTempAct[[#This Row],[Date]])","v":7},{"$f":"IF(ChillTempAct[[#This Row],[Month]]=J346,K346+1,1)","v":12}]
[44398,87,64,{"$f":"AVERAGE(ChillTempAct[[#This Row],[ChillHigh]:[ChillLow]])","v":75.5},{"$f":"IF(ChillTempAct[[#This Row],[ChillAve]]<65,65-ChillTempAct[[#This Row],[ChillAve]],0)","v":0},{"$f":"INDEX(TempAdj[AdjustPct],MATCH(MONTH(ChillTempAct[[#This Row],[Date]]),TempAdj[Month],0))","v":0.74939999999999996},{"$f":"ChillTempAct[[#This Row],[ChillHDD]]*(1+ChillTempAct[[#This Row],[ChillAdj]])","v":0},{"$f":"SUMPRODUCT((RankNHDD[Month]=ChillTempAct[[#This Row],[Month]])*(RankNHDD[Rank]=ChillTempAct[[#This Row],[Rank]])*RankNHDD[KIRKNHDD])","v":0},{"$f":"YEAR(ChillTempAct[[#This Row],[Date]])","v":2021},{"$f":"MONTH(ChillTempAct[[#This Row],[Date]])","v":7},{"$f":"IF(ChillTempAct[[#This Row],[Month]]=J347,K347+1,1)","v":13}]
[44380,86,66,{"$f":"AVERAGE(ChillTempAct[[#This Row],[ChillHigh]:[ChillLow]])","v":76},{"$f":"IF(ChillTempAct[[#This Row],[ChillAve]]<65,65-ChillTempAct[[#This Row],[ChillAve]],0)","v":0},{"$f":"INDEX(TempAdj[AdjustPct],MATCH(MONTH(ChillTempAct[[#This Row],[Date]]),TempAdj[Month],0))","v":0.74939999999999996},{"$f":"ChillTempAct[[#This Row],[ChillHDD]]*(1+ChillTempAct[[#This Row],[ChillAdj]])","v":0},{"$f":"SUMPRODUCT((RankNHDD[Month]=ChillTempAct[[#This Row],[Month]])*(RankNHDD[Rank]=ChillTempAct[[#This Row],[Rank]])*RankNHDD[KIRKNHDD])","v":0},{"$f":"YEAR(ChillTempAct[[#This Row],[Date]])","v":2021},{"$f":"MONTH(ChillTempAct[[#This Row],[Date]])","v":7},{"$f":"IF(ChillTempAct[[#This Row],[Month]]=J348,K348+1,1)","v":14}]
[44394,84,68,{"$f":"AVERAGE(ChillTempAct[[#This Row],[ChillHigh]:[ChillLow]])","v":76},{"$f":"IF(ChillTempAct[[#This Row],[ChillAve]]<65,65-ChillTempAct[[#This Row],[ChillAve]],0)","v":0},{"$f":"INDEX(TempAdj[AdjustPct],MATCH(MONTH(ChillTempAct[[#This Row],[Date]]),TempAdj[Month],0))","v":0.74939999999999996},{"$f":"ChillTempAct[[#This Row],[ChillHDD]]*(1+ChillTempAct[[#This Row],[ChillAdj]])","v":0},{"$f":"SUMPRODUCT((RankNHDD[Month]=ChillTempAct[[#This Row],[Month]])*(RankNHDD[Rank]=ChillTempAct[[#This Row],[Rank]])*RankNHDD[KIRKNHDD])","v":0},{"$f":"YEAR(ChillTempAct[[#This Row],[Date]])","v":2021},{"$f":"MONTH(ChillTempAct[[#This Row],[Date]])","v":7},{"$f":"IF(ChillTempAct[[#This Row],[Month]]=J349,K349+1,1)","v":15}]
[44397,86,66,{"$f":"AVERAGE(ChillTempAct[[#This Row],[ChillHigh]:[ChillLow]])","v":76},{"$f":"IF(ChillTempAct[[#This Row],[ChillAve]]<65,65-ChillTempAct[[#This Row],[ChillAve]],0)","v":0},{"$f":"INDEX(TempAdj[AdjustPct],MATCH(MONTH(ChillTempAct[[#This Row],[Date]]),TempAdj[Month],0))","v":0.74939999999999996},{"$f":"ChillTempAct[[#This Row],[ChillHDD]]*(1+ChillTempAct[[#This Row],[ChillAdj]])","v":0},{"$f":"SUMPRODUCT((RankNHDD[Month]=ChillTempAct[[#This Row],[Month]])*(RankNHDD[Rank]=ChillTempAct[[#This Row],[Rank]])*RankNHDD[KIRKNHDD])","v":0},{"$f":"YEAR(ChillTempAct[[#This Row],[Date]])","v":2021},{"$f":"MONTH(ChillTempAct[[#This Row],[Date]])","v":7},{"$f":"IF(ChillTempAct[[#This Row],[Month]]=J350,K350+1,1)","v":16}]
[44399,86,66,{"$f":"AVERAGE(ChillTempAct[[#This Row],[ChillHigh]:[ChillLow]])","v":76},{"$f":"IF(ChillTempAct[[#This Row],[ChillAve]]<65,65-ChillTempAct[[#This Row],[ChillAve]],0)","v":0},{"$f":"INDEX(TempAdj[AdjustPct],MATCH(MONTH(ChillTempAct[[#This Row],[Date]]),TempAdj[Month],0))","v":0.74939999999999996},{"$f":"ChillTempAct[[#This Row],[ChillHDD]]*(1+ChillTempAct[[#This Row],[ChillAdj]])","v":0},{"$f":"SUMPRODUCT((RankNHDD[Month]=ChillTempAct[[#This Row],[Month]])*(RankNHDD[Rank]=ChillTempAct[[#This Row],[Rank]])*RankNHDD[KIRKNHDD])","v":0},{"$f":"YEAR(ChillTempAct[[#This Row],[Date]])","v":2021},{"$f":"MONTH(ChillTempAct[[#This Row],[Date]])","v":7},{"$f":"IF(ChillTempAct[[#This Row],[Month]]=J351,K351+1,1)","v":17}]
[44383,88,67,{"$f":"AVERAGE(ChillTempAct[[#This Row],[ChillHigh]:[ChillLow]])","v":77.5},{"$f":"IF(ChillTempAct[[#This Row],[ChillAve]]<65,65-ChillTempAct[[#This Row],[ChillAve]],0)","v":0},{"$f":"INDEX(TempAdj[AdjustPct],MATCH(MONTH(ChillTempAct[[#This Row],[Date]]),TempAdj[Month],0))","v":0.74939999999999996},{"$f":"ChillTempAct[[#This Row],[ChillHDD]]*(1+ChillTempAct[[#This Row],[ChillAdj]])","v":0},{"$f":"SUMPRODUCT((RankNHDD[Month]=ChillTempAct[[#This Row],[Month]])*(RankNHDD[Rank]=ChillTempAct[[#This Row],[Rank]])*RankNHDD[KIRKNHDD])","v":0},{"$f":"YEAR(ChillTempAct[[#This Row],[Date]])","v":2021},{"$f":"MONTH(ChillTempAct[[#This Row],[Date]])","v":7},{"$f":"IF(ChillTempAct[[#This Row],[Month]]=J352,K352+1,1)","v":18}]
[44403,87,68,{"$f":"AVERAGE(ChillTempAct[[#This Row],[ChillHigh]:[ChillLow]])","v":77.5},{"$f":"IF(ChillTempAct[[#This Row],[ChillAve]]<65,65-ChillTempAct[[#This Row],[ChillAve]],0)","v":0},{"$f":"INDEX(TempAdj[AdjustPct],MATCH(MONTH(ChillTempAct[[#This Row],[Date]]),TempAdj[Month],0))","v":0.74939999999999996},{"$f":"ChillTempAct[[#This Row],[ChillHDD]]*(1+ChillTempAct[[#This Row],[ChillAdj]])","v":0},{"$f":"SUMPRODUCT((RankNHDD[Month]=ChillTempAct[[#This Row],[Month]])*(RankNHDD[Rank]=ChillTempAct[[#This Row],[Rank]])*RankNHDD[KIRKNHDD])","v":0},{"$f":"YEAR(ChillTempAct[[#This Row],[Date]])","v":2021},{"$f":"MONTH(ChillTempAct[[#This Row],[Date]])","v":7},{"$f":"IF(ChillTempAct[[#This Row],[Month]]=J353,K353+1,1)","v":19}]
[44404,89,67,{"$f":"AVERAGE(ChillTempAct[[#This Row],[ChillHigh]:[ChillLow]])","v":78},{"$f":"IF(ChillTempAct[[#This Row],[ChillAve]]<65,65-ChillTempAct[[#This Row],[ChillAve]],0)","v":0},{"$f":"INDEX(TempAdj[AdjustPct],MATCH(MONTH(ChillTempAct[[#This Row],[Date]]),TempAdj[Month],0))","v":0.74939999999999996},{"$f":"ChillTempAct[[#This Row],[ChillHDD]]*(1+ChillTempAct[[#This Row],[ChillAdj]])","v":0},{"$f":"SUMPRODUCT((RankNHDD[Month]=ChillTempAct[[#This Row],[Month]])*(RankNHDD[Rank]=ChillTempAct[[#This Row],[Rank]])*RankNHDD[KIRKNHDD])","v":0},{"$f":"YEAR(ChillTempAct[[#This Row],[Date]])","v":2021},{"$f":"MONTH(ChillTempAct[[#This Row],[Date]])","v":7},{"$f":"IF(ChillTempAct[[#This Row],[Month]]=J354,K354+1,1)","v":20}]
[44384,88,69,{"$f":"AVERAGE(ChillTempAct[[#This Row],[ChillHigh]:[ChillLow]])","v":78.5},{"$f":"IF(ChillTempAct[[#This Row],[ChillAve]]<65,65-ChillTempAct[[#This Row],[ChillAve]],0)","v":0},{"$f":"INDEX(TempAdj[AdjustPct],MATCH(MONTH(ChillTempAct[[#This Row],[Date]]),TempAdj[Month],0))","v":0.74939999999999996},{"$f":"ChillTempAct[[#This Row],[ChillHDD]]*(1+ChillTempAct[[#This Row],[ChillAdj]])","v":0},{"$f":"SUMPRODUCT((RankNHDD[Month]=ChillTempAct[[#This Row],[Month]])*(RankNHDD[Rank]=ChillTempAct[[#This Row],[Rank]])*RankNHDD[KIRKNHDD])","v":0},{"$f":"YEAR(ChillTempAct[[#This Row],[Date]])","v":2021},{"$f":"MONTH(ChillTempAct[[#This Row],[Date]])","v":7},{"$f":"IF(ChillTempAct[[#This Row],[Month]]=J355,K355+1,1)","v":21}]
[44387,89,68,{"$f":"AVERAGE(ChillTempAct[[#This Row],[ChillHigh]:[ChillLow]])","v":78.5},{"$f":"IF(ChillTempAct[[#This Row],[ChillAve]]<65,65-ChillTempAct[[#This Row],[ChillAve]],0)","v":0},{"$f":"INDEX(TempAdj[AdjustPct],MATCH(MONTH(ChillTempAct[[#This Row],[Date]]),TempAdj[Month],0))","v":0.74939999999999996},{"$f":"ChillTempAct[[#This Row],[ChillHDD]]*(1+ChillTempAct[[#This Row],[ChillAdj]])","v":0},{"$f":"SUMPRODUCT((RankNHDD[Month]=ChillTempAct[[#This Row],[Month]])*(RankNHDD[Rank]=ChillTempAct[[#This Row],[Rank]])*RankNHDD[KIRKNHDD])","v":0},{"$f":"YEAR(ChillTempAct[[#This Row],[Date]])","v":2021},{"$f":"MONTH(ChillTempAct[[#This Row],[Date]])","v":7},{"$f":"IF(ChillTempAct[[#This Row],[Month]]=J356,K356+1,1)","v":22}]
[44382,89,69,{"$f":"AVERAGE(ChillTempAct[[#This Row],[ChillHigh]:[ChillLow]])","v":79},{"$f":"IF(ChillTempAct[[#This Row],[ChillAve]]<65,65-ChillTempAct[[#This Row],[ChillAve]],0)","v":0},{"$f":"INDEX(TempAdj[AdjustPct],MATCH(MONTH(ChillTempAct[[#This Row],[Date]]),TempAdj[Month],0))","v":0.74939999999999996},{"$f":"ChillTempAct[[#This Row],[ChillHDD]]*(1+ChillTempAct[[#This Row],[ChillAdj]])","v":0},{"$f":"SUMPRODUCT((RankNHDD[Month]=ChillTempAct[[#This Row],[Month]])*(RankNHDD[Rank]=ChillTempAct[[#This Row],[Rank]])*RankNHDD[KIRKNHDD])","v":0},{"$f":"YEAR(ChillTempAct[[#This Row],[Date]])","v":2021},{"$f":"MONTH(ChillTempAct[[#This Row],[Date]])","v":7},{"$f":"IF(ChillTempAct[[#This Row],[Month]]=J357,K357+1,1)","v":23}]
[44400,88,70,{"$f":"AVERAGE(ChillTempAct[[#This Row],[ChillHigh]:[ChillLow]])","v":79},{"$f":"IF(ChillTempAct[[#This Row],[ChillAve]]<65,65-ChillTempAct[[#This Row],[ChillAve]],0)","v":0},{"$f":"INDEX(TempAdj[AdjustPct],MATCH(MONTH(ChillTempAct[[#This Row],[Date]]),TempAdj[Month],0))","v":0.74939999999999996},{"$f":"ChillTempAct[[#This Row],[ChillHDD]]*(1+ChillTempAct[[#This Row],[ChillAdj]])","v":0},{"$f":"SUMPRODUCT((RankNHDD[Month]=ChillTempAct[[#This Row],[Month]])*(RankNHDD[Rank]=ChillTempAct[[#This Row],[Rank]])*RankNHDD[KIRKNHDD])","v":0},{"$f":"YEAR(ChillTempAct[[#This Row],[Date]])","v":2021},{"$f":"MONTH(ChillTempAct[[#This Row],[Date]])","v":7},{"$f":"IF(ChillTempAct[[#This Row],[Month]]=J358,K358+1,1)","v":24}]
[44405,91,67,{"$f":"AVERAGE(ChillTempAct[[#This Row],[ChillHigh]:[ChillLow]])","v":79},{"$f":"IF(ChillTempAct[[#This Row],[ChillAve]]<65,65-ChillTempAct[[#This Row],[ChillAve]],0)","v":0},{"$f":"INDEX(TempAdj[AdjustPct],MATCH(MONTH(ChillTempAct[[#This Row],[Date]]),TempAdj[Month],0))","v":0.74939999999999996},{"$f":"ChillTempAct[[#This Row],[ChillHDD]]*(1+ChillTempAct[[#This Row],[ChillAdj]])","v":0},{"$f":"SUMPRODUCT((RankNHDD[Month]=ChillTempAct[[#This Row],[Month]])*(RankNHDD[Rank]=ChillTempAct[[#This Row],[Rank]])*RankNHDD[KIRKNHDD])","v":0},{"$f":"YEAR(ChillTempAct[[#This Row],[Date]])","v":2021},{"$f":"MONTH(ChillTempAct[[#This Row],[Date]])","v":7},{"$f":"IF(ChillTempAct[[#This Row],[Month]]=J359,K359+1,1)","v":25}]
[44408,90,70,{"$f":"AVERAGE(ChillTempAct[[#This Row],[ChillHigh]:[ChillLow]])","v":80},{"$f":"IF(ChillTempAct[[#This Row],[ChillAve]]<65,65-ChillTempAct[[#This Row],[ChillAve]],0)","v":0},{"$f":"INDEX(TempAdj[AdjustPct],MATCH(MONTH(ChillTempAct[[#This Row],[Date]]),TempAdj[Month],0))","v":0.74939999999999996},{"$f":"ChillTempAct[[#This Row],[ChillHDD]]*(1+ChillTempAct[[#This Row],[ChillAdj]])","v":0},{"$f":"SUMPRODUCT((RankNHDD[Month]=ChillTempAct[[#This Row],[Month]])*(RankNHDD[Rank]=ChillTempAct[[#This Row],[Rank]])*RankNHDD[KIRKNHDD])","v":0},{"$f":"YEAR(ChillTempAct[[#This Row],[Date]])","v":2021},{"$f":"MONTH(ChillTempAct[[#This Row],[Date]])","v":7},{"$f":"IF(ChillTempAct[[#This Row],[Month]]=J360,K360+1,1)","v":26}]
[44392,89,73,{"$f":"AVERAGE(ChillTempAct[[#This Row],[ChillHigh]:[ChillLow]])","v":81},{"$f":"IF(ChillTempAct[[#This Row],[ChillAve]]<65,65-ChillTempAct[[#This Row],[ChillAve]],0)","v":0},{"$f":"INDEX(TempAdj[AdjustPct],MATCH(MONTH(ChillTempAct[[#This Row],[Date]]),TempAdj[Month],0))","v":0.74939999999999996},{"$f":"ChillTempAct[[#This Row],[ChillHDD]]*(1+ChillTempAct[[#This Row],[ChillAdj]])","v":0},{"$f":"SUMPRODUCT((RankNHDD[Month]=ChillTempAct[[#This Row],[Month]])*(RankNHDD[Rank]=ChillTempAct[[#This Row],[Rank]])*RankNHDD[KIRKNHDD])","v":0},{"$f":"YEAR(ChillTempAct[[#This Row],[Date]])","v":2021},{"$f":"MONTH(ChillTempAct[[#This Row],[Date]])","v":7},{"$f":"IF(ChillTempAct[[#This Row],[Month]]=J361,K361+1,1)","v":27}]
[44401,90,74,{"$f":"AVERAGE(ChillTempAct[[#This Row],[ChillHigh]:[ChillLow]])","v":82},{"$f":"IF(ChillTempAct[[#This Row],[ChillAve]]<65,65-ChillTempAct[[#This Row],[ChillAve]],0)","v":0},{"$f":"INDEX(TempAdj[AdjustPct],MATCH(MONTH(ChillTempAct[[#This Row],[Date]]),TempAdj[Month],0))","v":0.74939999999999996},{"$f":"ChillTempAct[[#This Row],[ChillHDD]]*(1+ChillTempAct[[#This Row],[ChillAdj]])","v":0},{"$f":"SUMPRODUCT((RankNHDD[Month]=ChillTempAct[[#This Row],[Month]])*(RankNHDD[Rank]=ChillTempAct[[#This Row],[Rank]])*RankNHDD[KIRKNHDD])","v":0},{"$f":"YEAR(ChillTempAct[[#This Row],[Date]])","v":2021},{"$f":"MONTH(ChillTempAct[[#This Row],[Date]])","v":7},{"$f":"IF(ChillTempAct[[#This Row],[Month]]=J362,K362+1,1)","v":28}]
[44406,94,73,{"$f":"AVERAGE(ChillTempAct[[#This Row],[ChillHigh]:[ChillLow]])","v":83.5},{"$f":"IF(ChillTempAct[[#This Row],[ChillAve]]<65,65-ChillTempAct[[#This Row],[ChillAve]],0)","v":0},{"$f":"INDEX(TempAdj[AdjustPct],MATCH(MONTH(ChillTempAct[[#This Row],[Date]]),TempAdj[Month],0))","v":0.74939999999999996},{"$f":"ChillTempAct[[#This Row],[ChillHDD]]*(1+ChillTempAct[[#This Row],[ChillAdj]])","v":0},{"$f":"SUMPRODUCT((RankNHDD[Month]=ChillTempAct[[#This Row],[Month]])*(RankNHDD[Rank]=ChillTempAct[[#This Row],[Rank]])*RankNHDD[KIRKNHDD])","v":0},{"$f":"YEAR(ChillTempAct[[#This Row],[Date]])","v":2021},{"$f":"MONTH(ChillTempAct[[#This Row],[Date]])","v":7},{"$f":"IF(ChillTempAct[[#This Row],[Month]]=J363,K363+1,1)","v":29}]
[44402,97,72,{"$f":"AVERAGE(ChillTempAct[[#This Row],[ChillHigh]:[ChillLow]])","v":84.5},{"$f":"IF(ChillTempAct[[#This Row],[ChillAve]]<65,65-ChillTempAct[[#This Row],[ChillAve]],0)","v":0},{"$f":"INDEX(TempAdj[AdjustPct],MATCH(MONTH(ChillTempAct[[#This Row],[Date]]),TempAdj[Month],0))","v":0.74939999999999996},{"$f":"ChillTempAct[[#This Row],[ChillHDD]]*(1+ChillTempAct[[#This Row],[ChillAdj]])","v":0},{"$f":"SUMPRODUCT((RankNHDD[Month]=ChillTempAct[[#This Row],[Month]])*(RankNHDD[Rank]=ChillTempAct[[#This Row],[Rank]])*RankNHDD[KIRKNHDD])","v":0},{"$f":"YEAR(ChillTempAct[[#This Row],[Date]])","v":2021},{"$f":"MONTH(ChillTempAct[[#This Row],[Date]])","v":7},{"$f":"IF(ChillTempAct[[#This Row],[Month]]=J364,K364+1,1)","v":30}]
[44407,99,75,{"$f":"AVERAGE(ChillTempAct[[#This Row],[ChillHigh]:[ChillLow]])","v":87},{"$f":"IF(ChillTempAct[[#This Row],[ChillAve]]<65,65-ChillTempAct[[#This Row],[ChillAve]],0)","v":0},{"$f":"INDEX(TempAdj[AdjustPct],MATCH(MONTH(ChillTempAct[[#This Row],[Date]]),TempAdj[Month],0))","v":0.74939999999999996},{"$f":"ChillTempAct[[#This Row],[ChillHDD]]*(1+ChillTempAct[[#This Row],[ChillAdj]])","v":0},{"$f":"SUMPRODUCT((RankNHDD[Month]=ChillTempAct[[#This Row],[Month]])*(RankNHDD[Rank]=ChillTempAct[[#This Row],[Rank]])*RankNHDD[KIRKNHDD])","v":0},{"$f":"YEAR(ChillTempAct[[#This Row],[Date]])","v":2021},{"$f":"MONTH(ChillTempAct[[#This Row],[Date]])","v":7},{"$f":"IF(ChillTempAct[[#This Row],[Month]]=J365,K365+1,1)","v":31}]
[44411,79,58,{"$f":"AVERAGE(ChillTempAct[[#This Row],[ChillHigh]:[ChillLow]])","v":68.5},{"$f":"IF(ChillTempAct[[#This Row],[ChillAve]]<65,65-ChillTempAct[[#This Row],[ChillAve]],0)","v":0},{"$f":"INDEX(TempAdj[AdjustPct],MATCH(MONTH(ChillTempAct[[#This Row],[Date]]),TempAdj[Month],0))","v":1.0758000000000001},{"$f":"ChillTempAct[[#This Row],[ChillHDD]]*(1+ChillTempAct[[#This Row],[ChillAdj]])","v":0},{"$f":"SUMPRODUCT((RankNHDD[Month]=ChillTempAct[[#This Row],[Month]])*(RankNHDD[Rank]=ChillTempAct[[#This Row],[Rank]])*RankNHDD[KIRKNHDD])","v":4.868709677419349},{"$f":"YEAR(ChillTempAct[[#This Row],[Date]])","v":2021},{"$f":"MONTH(ChillTempAct[[#This Row],[Date]])","v":8},{"$f":"IF(ChillTempAct[[#This Row],[Month]]=J366,K366+1,1)","v":1}]
[44412,80,59,{"$f":"AVERAGE(ChillTempAct[[#This Row],[ChillHigh]:[ChillLow]])","v":69.5},{"$f":"IF(ChillTempAct[[#This Row],[ChillAve]]<65,65-ChillTempAct[[#This Row],[ChillAve]],0)","v":0},{"$f":"INDEX(TempAdj[AdjustPct],MATCH(MONTH(ChillTempAct[[#This Row],[Date]]),TempAdj[Month],0))","v":1.0758000000000001},{"$f":"ChillTempAct[[#This Row],[ChillHDD]]*(1+ChillTempAct[[#This Row],[ChillAdj]])","v":0},{"$f":"SUMPRODUCT((RankNHDD[Month]=ChillTempAct[[#This Row],[Month]])*(RankNHDD[Rank]=ChillTempAct[[#This Row],[Rank]])*RankNHDD[KIRKNHDD])","v":1.5306989247311804},{"$f":"YEAR(ChillTempAct[[#This Row],[Date]])","v":2021},{"$f":"MONTH(ChillTempAct[[#This Row],[Date]])","v":8},{"$f":"IF(ChillTempAct[[#This Row],[Month]]=J367,K367+1,1)","v":2}]
[44409,77,64,{"$f":"AVERAGE(ChillTempAct[[#This Row],[ChillHigh]:[ChillLow]])","v":70.5},{"$f":"IF(ChillTempAct[[#This Row],[ChillAve]]<65,65-ChillTempAct[[#This Row],[ChillAve]],0)","v":0},{"$f":"INDEX(TempAdj[AdjustPct],MATCH(MONTH(ChillTempAct[[#This Row],[Date]]),TempAdj[Month],0))","v":1.0758000000000001},{"$f":"ChillTempAct[[#This Row],[ChillHDD]]*(1+ChillTempAct[[#This Row],[ChillAdj]])","v":0},{"$f":"SUMPRODUCT((RankNHDD[Month]=ChillTempAct[[#This Row],[Month]])*(RankNHDD[Rank]=ChillTempAct[[#This Row],[Rank]])*RankNHDD[KIRKNHDD])","v":4.2473118279569157E-2},{"$f":"YEAR(ChillTempAct[[#This Row],[Date]])","v":2021},{"$f":"MONTH(ChillTempAct[[#This Row],[Date]])","v":8},{"$f":"IF(ChillTempAct[[#This Row],[Month]]=J368,K368+1,1)","v":3}]
[44413,82,60,{"$f":"AVERAGE(ChillTempAct[[#This Row],[ChillHigh]:[ChillLow]])","v":71},{"$f":"IF(ChillTempAct[[#This Row],[ChillAve]]<65,65-ChillTempAct[[#This Row],[ChillAve]],0)","v":0},{"$f":"INDEX(TempAdj[AdjustPct],MATCH(MONTH(ChillTempAct[[#This Row],[Date]]),TempAdj[Month],0))","v":1.0758000000000001},{"$f":"ChillTempAct[[#This Row],[ChillHDD]]*(1+ChillTempAct[[#This Row],[ChillAdj]])","v":0},{"$f":"SUMPRODUCT((RankNHDD[Month]=ChillTempAct[[#This Row],[Month]])*(RankNHDD[Rank]=ChillTempAct[[#This Row],[Rank]])*RankNHDD[KIRKNHDD])","v":0},{"$f":"YEAR(ChillTempAct[[#This Row],[Date]])","v":2021},{"$f":"MONTH(ChillTempAct[[#This Row],[Date]])","v":8},{"$f":"IF(ChillTempAct[[#This Row],[Month]]=J369,K369+1,1)","v":4}]
[44410,82,61,{"$f":"AVERAGE(ChillTempAct[[#This Row],[ChillHigh]:[ChillLow]])","v":71.5},{"$f":"IF(ChillTempAct[[#This Row],[ChillAve]]<65,65-ChillTempAct[[#This Row],[ChillAve]],0)","v":0},{"$f":"INDEX(TempAdj[AdjustPct],MATCH(MONTH(ChillTempAct[[#This Row],[Date]]),TempAdj[Month],0))","v":1.0758000000000001},{"$f":"ChillTempAct[[#This Row],[ChillHDD]]*(1+ChillTempAct[[#This Row],[ChillAdj]])","v":0},{"$f":"SUMPRODUCT((RankNHDD[Month]=ChillTempAct[[#This Row],[Month]])*(RankNHDD[Rank]=ChillTempAct[[#This Row],[Rank]])*RankNHDD[KIRKNHDD])","v":0},{"$f":"YEAR(ChillTempAct[[#This Row],[Date]])","v":2021},{"$f":"MONTH(ChillTempAct[[#This Row],[Date]])","v":8},{"$f":"IF(ChillTempAct[[#This Row],[Month]]=J370,K370+1,1)","v":5}]
[44423,84,60,{"$f":"AVERAGE(ChillTempAct[[#This Row],[ChillHigh]:[ChillLow]])","v":72},{"$f":"IF(ChillTempAct[[#This Row],[ChillAve]]<65,65-ChillTempAct[[#This Row],[ChillAve]],0)","v":0},{"$f":"INDEX(TempAdj[AdjustPct],MATCH(MONTH(ChillTempAct[[#This Row],[Date]]),TempAdj[Month],0))","v":1.0758000000000001},{"$f":"ChillTempAct[[#This Row],[ChillHDD]]*(1+ChillTempAct[[#This Row],[ChillAdj]])","v":0},{"$f":"SUMPRODUCT((RankNHDD[Month]=ChillTempAct[[#This Row],[Month]])*(RankNHDD[Rank]=ChillTempAct[[#This Row],[Rank]])*RankNHDD[KIRKNHDD])","v":0},{"$f":"YEAR(ChillTempAct[[#This Row],[Date]])","v":2021},{"$f":"MONTH(ChillTempAct[[#This Row],[Date]])","v":8},{"$f":"IF(ChillTempAct[[#This Row],[Month]]=J371,K371+1,1)","v":6}]
[44424,83,61,{"$f":"AVERAGE(ChillTempAct[[#This Row],[ChillHigh]:[ChillLow]])","v":72},{"$f":"IF(ChillTempAct[[#This Row],[ChillAve]]<65,65-ChillTempAct[[#This Row],[ChillAve]],0)","v":0},{"$f":"INDEX(TempAdj[AdjustPct],MATCH(MONTH(ChillTempAct[[#This Row],[Date]]),TempAdj[Month],0))","v":1.0758000000000001},{"$f":"ChillTempAct[[#This Row],[ChillHDD]]*(1+ChillTempAct[[#This Row],[ChillAdj]])","v":0},{"$f":"SUMPRODUCT((RankNHDD[Month]=ChillTempAct[[#This Row],[Month]])*(RankNHDD[Rank]=ChillTempAct[[#This Row],[Rank]])*RankNHDD[KIRKNHDD])","v":0},{"$f":"YEAR(ChillTempAct[[#This Row],[Date]])","v":2021},{"$f":"MONTH(ChillTempAct[[#This Row],[Date]])","v":8},{"$f":"IF(ChillTempAct[[#This Row],[Month]]=J372,K372+1,1)","v":7}]
[44430,84,60,{"$f":"AVERAGE(ChillTempAct[[#This Row],[ChillHigh]:[ChillLow]])","v":72},{"$f":"IF(ChillTempAct[[#This Row],[ChillAve]]<65,65-ChillTempAct[[#This Row],[ChillAve]],0)","v":0},{"$f":"INDEX(TempAdj[AdjustPct],MATCH(MONTH(ChillTempAct[[#This Row],[Date]]),TempAdj[Month],0))","v":1.0758000000000001},{"$f":"ChillTempAct[[#This Row],[ChillHDD]]*(1+ChillTempAct[[#This Row],[ChillAdj]])","v":0},{"$f":"SUMPRODUCT((RankNHDD[Month]=ChillTempAct[[#This Row],[Month]])*(RankNHDD[Rank]=ChillTempAct[[#This Row],[Rank]])*RankNHDD[KIRKNHDD])","v":0},{"$f":"YEAR(ChillTempAct[[#This Row],[Date]])","v":2021},{"$f":"MONTH(ChillTempAct[[#This Row],[Date]])","v":8},{"$f":"IF(ChillTempAct[[#This Row],[Month]]=J373,K373+1,1)","v":8}]
[44425,84,61,{"$f":"AVERAGE(ChillTempAct[[#This Row],[ChillHigh]:[ChillLow]])","v":72.5},{"$f":"IF(ChillTempAct[[#This Row],[ChillAve]]<65,65-ChillTempAct[[#This Row],[ChillAve]],0)","v":0},{"$f":"INDEX(TempAdj[AdjustPct],MATCH(MONTH(ChillTempAct[[#This Row],[Date]]),TempAdj[Month],0))","v":1.0758000000000001},{"$f":"ChillTempAct[[#This Row],[ChillHDD]]*(1+ChillTempAct[[#This Row],[ChillAdj]])","v":0},{"$f":"SUMPRODUCT((RankNHDD[Month]=ChillTempAct[[#This Row],[Month]])*(RankNHDD[Rank]=ChillTempAct[[#This Row],[Rank]])*RankNHDD[KIRKNHDD])","v":0},{"$f":"YEAR(ChillTempAct[[#This Row],[Date]])","v":2021},{"$f":"MONTH(ChillTempAct[[#This Row],[Date]])","v":8},{"$f":"IF(ChillTempAct[[#This Row],[Month]]=J374,K374+1,1)","v":9}]
[44414,83,64,{"$f":"AVERAGE(ChillTempAct[[#This Row],[ChillHigh]:[ChillLow]])","v":73.5},{"$f":"IF(ChillTempAct[[#This Row],[ChillAve]]<65,65-ChillTempAct[[#This Row],[ChillAve]],0)","v":0},{"$f":"INDEX(TempAdj[AdjustPct],MATCH(MONTH(ChillTempAct[[#This Row],[Date]]),TempAdj[Month],0))","v":1.0758000000000001},{"$f":"ChillTempAct[[#This Row],[ChillHDD]]*(1+ChillTempAct[[#This Row],[ChillAdj]])","v":0},{"$f":"SUMPRODUCT((RankNHDD[Month]=ChillTempAct[[#This Row],[Month]])*(RankNHDD[Rank]=ChillTempAct[[#This Row],[Rank]])*RankNHDD[KIRKNHDD])","v":0},{"$f":"YEAR(ChillTempAct[[#This Row],[Date]])","v":2021},{"$f":"MONTH(ChillTempAct[[#This Row],[Date]])","v":8},{"$f":"IF(ChillTempAct[[#This Row],[Month]]=J375,K375+1,1)","v":10}]
[44431,85,62,{"$f":"AVERAGE(ChillTempAct[[#This Row],[ChillHigh]:[ChillLow]])","v":73.5},{"$f":"IF(ChillTempAct[[#This Row],[ChillAve]]<65,65-ChillTempAct[[#This Row],[ChillAve]],0)","v":0},{"$f":"INDEX(TempAdj[AdjustPct],MATCH(MONTH(ChillTempAct[[#This Row],[Date]]),TempAdj[Month],0))","v":1.0758000000000001},{"$f":"ChillTempAct[[#This Row],[ChillHDD]]*(1+ChillTempAct[[#This Row],[ChillAdj]])","v":0},{"$f":"SUMPRODUCT((RankNHDD[Month]=ChillTempAct[[#This Row],[Month]])*(RankNHDD[Rank]=ChillTempAct[[#This Row],[Rank]])*RankNHDD[KIRKNHDD])","v":0},{"$f":"YEAR(ChillTempAct[[#This Row],[Date]])","v":2021},{"$f":"MONTH(ChillTempAct[[#This Row],[Date]])","v":8},{"$f":"IF(ChillTempAct[[#This Row],[Month]]=J376,K376+1,1)","v":11}]
[44422,84,64,{"$f":"AVERAGE(ChillTempAct[[#This Row],[ChillHigh]:[ChillLow]])","v":74},{"$f":"IF(ChillTempAct[[#This Row],[ChillAve]]<65,65-ChillTempAct[[#This Row],[ChillAve]],0)","v":0},{"$f":"INDEX(TempAdj[AdjustPct],MATCH(MONTH(ChillTempAct[[#This Row],[Date]]),TempAdj[Month],0))","v":1.0758000000000001},{"$f":"ChillTempAct[[#This Row],[ChillHDD]]*(1+ChillTempAct[[#This Row],[ChillAdj]])","v":0},{"$f":"SUMPRODUCT((RankNHDD[Month]=ChillTempAct[[#This Row],[Month]])*(RankNHDD[Rank]=ChillTempAct[[#This Row],[Rank]])*RankNHDD[KIRKNHDD])","v":0},{"$f":"YEAR(ChillTempAct[[#This Row],[Date]])","v":2021},{"$f":"MONTH(ChillTempAct[[#This Row],[Date]])","v":8},{"$f":"IF(ChillTempAct[[#This Row],[Month]]=J377,K377+1,1)","v":12}]
[44426,88,63,{"$f":"AVERAGE(ChillTempAct[[#This Row],[ChillHigh]:[ChillLow]])","v":75.5},{"$f":"IF(ChillTempAct[[#This Row],[ChillAve]]<65,65-ChillTempAct[[#This Row],[ChillAve]],0)","v":0},{"$f":"INDEX(TempAdj[AdjustPct],MATCH(MONTH(ChillTempAct[[#This Row],[Date]]),TempAdj[Month],0))","v":1.0758000000000001},{"$f":"ChillTempAct[[#This Row],[ChillHDD]]*(1+ChillTempAct[[#This Row],[ChillAdj]])","v":0},{"$f":"SUMPRODUCT((RankNHDD[Month]=ChillTempAct[[#This Row],[Month]])*(RankNHDD[Rank]=ChillTempAct[[#This Row],[Rank]])*RankNHDD[KIRKNHDD])","v":0},{"$f":"YEAR(ChillTempAct[[#This Row],[Date]])","v":2021},{"$f":"MONTH(ChillTempAct[[#This Row],[Date]])","v":8},{"$f":"IF(ChillTempAct[[#This Row],[Month]]=J378,K378+1,1)","v":13}]
[44417,83,69,{"$f":"AVERAGE(ChillTempAct[[#This Row],[ChillHigh]:[ChillLow]])","v":76},{"$f":"IF(ChillTempAct[[#This Row],[ChillAve]]<65,65-ChillTempAct[[#This Row],[ChillAve]],0)","v":0},{"$f":"INDEX(TempAdj[AdjustPct],MATCH(MONTH(ChillTempAct[[#This Row],[Date]]),TempAdj[Month],0))","v":1.0758000000000001},{"$f":"ChillTempAct[[#This Row],[ChillHDD]]*(1+ChillTempAct[[#This Row],[ChillAdj]])","v":0},{"$f":"SUMPRODUCT((RankNHDD[Month]=ChillTempAct[[#This Row],[Month]])*(RankNHDD[Rank]=ChillTempAct[[#This Row],[Rank]])*RankNHDD[KIRKNHDD])","v":0},{"$f":"YEAR(ChillTempAct[[#This Row],[Date]])","v":2021},{"$f":"MONTH(ChillTempAct[[#This Row],[Date]])","v":8},{"$f":"IF(ChillTempAct[[#This Row],[Month]]=J379,K379+1,1)","v":14}]
[44419,85,69,{"$f":"AVERAGE(ChillTempAct[[#This Row],[ChillHigh]:[ChillLow]])","v":77},{"$f":"IF(ChillTempAct[[#This Row],[ChillAve]]<65,65-ChillTempAct[[#This Row],[ChillAve]],0)","v":0},{"$f":"INDEX(TempAdj[AdjustPct],MATCH(MONTH(ChillTempAct[[#This Row],[Date]]),TempAdj[Month],0))","v":1.0758000000000001},{"$f":"ChillTempAct[[#This Row],[ChillHDD]]*(1+ChillTempAct[[#This Row],[ChillAdj]])","v":0},{"$f":"SUMPRODUCT((RankNHDD[Month]=ChillTempAct[[#This Row],[Month]])*(RankNHDD[Rank]=ChillTempAct[[#This Row],[Rank]])*RankNHDD[KIRKNHDD])","v":0},{"$f":"YEAR(ChillTempAct[[#This Row],[Date]])","v":2021},{"$f":"MONTH(ChillTempAct[[#This Row],[Date]])","v":8},{"$f":"IF(ChillTempAct[[#This Row],[Month]]=J380,K380+1,1)","v":15}]
[44415,86,69,{"$f":"AVERAGE(ChillTempAct[[#This Row],[ChillHigh]:[ChillLow]])","v":77.5},{"$f":"IF(ChillTempAct[[#This Row],[ChillAve]]<65,65-ChillTempAct[[#This Row],[ChillAve]],0)","v":0},{"$f":"INDEX(TempAdj[AdjustPct],MATCH(MONTH(ChillTempAct[[#This Row],[Date]]),TempAdj[Month],0))","v":1.0758000000000001},{"$f":"ChillTempAct[[#This Row],[ChillHDD]]*(1+ChillTempAct[[#This Row],[ChillAdj]])","v":0},{"$f":"SUMPRODUCT((RankNHDD[Month]=ChillTempAct[[#This Row],[Month]])*(RankNHDD[Rank]=ChillTempAct[[#This Row],[Rank]])*RankNHDD[KIRKNHDD])","v":0},{"$f":"YEAR(ChillTempAct[[#This Row],[Date]])","v":2021},{"$f":"MONTH(ChillTempAct[[#This Row],[Date]])","v":8},{"$f":"IF(ChillTempAct[[#This Row],[Month]]=J381,K381+1,1)","v":16}]
[44427,89,66,{"$f":"AVERAGE(ChillTempAct[[#This Row],[ChillHigh]:[ChillLow]])","v":77.5},{"$f":"IF(ChillTempAct[[#This Row],[ChillAve]]<65,65-ChillTempAct[[#This Row],[ChillAve]],0)","v":0},{"$f":"INDEX(TempAdj[AdjustPct],MATCH(MONTH(ChillTempAct[[#This Row],[Date]]),TempAdj[Month],0))","v":1.0758000000000001},{"$f":"ChillTempAct[[#This Row],[ChillHDD]]*(1+ChillTempAct[[#This Row],[ChillAdj]])","v":0},{"$f":"SUMPRODUCT((RankNHDD[Month]=ChillTempAct[[#This Row],[Month]])*(RankNHDD[Rank]=ChillTempAct[[#This Row],[Rank]])*RankNHDD[KIRKNHDD])","v":0},{"$f":"YEAR(ChillTempAct[[#This Row],[Date]])","v":2021},{"$f":"MONTH(ChillTempAct[[#This Row],[Date]])","v":8},{"$f":"IF(ChillTempAct[[#This Row],[Month]]=J382,K382+1,1)","v":17}]
[44428,89,66,{"$f":"AVERAGE(ChillTempAct[[#This Row],[ChillHigh]:[ChillLow]])","v":77.5},{"$f":"IF(ChillTempAct[[#This Row],[ChillAve]]<65,65-ChillTempAct[[#This Row],[ChillAve]],0)","v":0},{"$f":"INDEX(TempAdj[AdjustPct],MATCH(MONTH(ChillTempAct[[#This Row],[Date]]),TempAdj[Month],0))","v":1.0758000000000001},{"$f":"ChillTempAct[[#This Row],[ChillHDD]]*(1+ChillTempAct[[#This Row],[ChillAdj]])","v":0},{"$f":"SUMPRODUCT((RankNHDD[Month]=ChillTempAct[[#This Row],[Month]])*(RankNHDD[Rank]=ChillTempAct[[#This Row],[Rank]])*RankNHDD[KIRKNHDD])","v":0},{"$f":"YEAR(ChillTempAct[[#This Row],[Date]])","v":2021},{"$f":"MONTH(ChillTempAct[[#This Row],[Date]])","v":8},{"$f":"IF(ChillTempAct[[#This Row],[Month]]=J383,K383+1,1)","v":18}]
[44439,90,65,{"$f":"AVERAGE(ChillTempAct[[#This Row],[ChillHigh]:[ChillLow]])","v":77.5},{"$f":"IF(ChillTempAct[[#This Row],[ChillAve]]<65,65-ChillTempAct[[#This Row],[ChillAve]],0)","v":0},{"$f":"INDEX(TempAdj[AdjustPct],MATCH(MONTH(ChillTempAct[[#This Row],[Date]]),TempAdj[Month],0))","v":1.0758000000000001},{"$f":"ChillTempAct[[#This Row],[ChillHDD]]*(1+ChillTempAct[[#This Row],[ChillAdj]])","v":0},{"$f":"SUMPRODUCT((RankNHDD[Month]=ChillTempAct[[#This Row],[Month]])*(RankNHDD[Rank]=ChillTempAct[[#This Row],[Rank]])*RankNHDD[KIRKNHDD])","v":0},{"$f":"YEAR(ChillTempAct[[#This Row],[Date]])","v":2021},{"$f":"MONTH(ChillTempAct[[#This Row],[Date]])","v":8},{"$f":"IF(ChillTempAct[[#This Row],[Month]]=J384,K384+1,1)","v":19}]
[44432,94,62,{"$f":"AVERAGE(ChillTempAct[[#This Row],[ChillHigh]:[ChillLow]])","v":78},{"$f":"IF(ChillTempAct[[#This Row],[ChillAve]]<65,65-ChillTempAct[[#This Row],[ChillAve]],0)","v":0},{"$f":"INDEX(TempAdj[AdjustPct],MATCH(MONTH(ChillTempAct[[#This Row],[Date]]),TempAdj[Month],0))","v":1.0758000000000001},{"$f":"ChillTempAct[[#This Row],[ChillHDD]]*(1+ChillTempAct[[#This Row],[ChillAdj]])","v":0},{"$f":"SUMPRODUCT((RankNHDD[Month]=ChillTempAct[[#This Row],[Month]])*(RankNHDD[Rank]=ChillTempAct[[#This Row],[Rank]])*RankNHDD[KIRKNHDD])","v":0},{"$f":"YEAR(ChillTempAct[[#This Row],[Date]])","v":2021},{"$f":"MONTH(ChillTempAct[[#This Row],[Date]])","v":8},{"$f":"IF(ChillTempAct[[#This Row],[Month]]=J385,K385+1,1)","v":20}]
[44434,85,71,{"$f":"AVERAGE(ChillTempAct[[#This Row],[ChillHigh]:[ChillLow]])","v":78},{"$f":"IF(ChillTempAct[[#This Row],[ChillAve]]<65,65-ChillTempAct[[#This Row],[ChillAve]],0)","v":0},{"$f":"INDEX(TempAdj[AdjustPct],MATCH(MONTH(ChillTempAct[[#This Row],[Date]]),TempAdj[Month],0))","v":1.0758000000000001},{"$f":"ChillTempAct[[#This Row],[ChillHDD]]*(1+ChillTempAct[[#This Row],[ChillAdj]])","v":0},{"$f":"SUMPRODUCT((RankNHDD[Month]=ChillTempAct[[#This Row],[Month]])*(RankNHDD[Rank]=ChillTempAct[[#This Row],[Rank]])*RankNHDD[KIRKNHDD])","v":0},{"$f":"YEAR(ChillTempAct[[#This Row],[Date]])","v":2021},{"$f":"MONTH(ChillTempAct[[#This Row],[Date]])","v":8},{"$f":"IF(ChillTempAct[[#This Row],[Month]]=J386,K386+1,1)","v":21}]
[44416,89,69,{"$f":"AVERAGE(ChillTempAct[[#This Row],[ChillHigh]:[ChillLow]])","v":79},{"$f":"IF(ChillTempAct[[#This Row],[ChillAve]]<65,65-ChillTempAct[[#This Row],[ChillAve]],0)","v":0},{"$f":"INDEX(TempAdj[AdjustPct],MATCH(MONTH(ChillTempAct[[#This Row],[Date]]),TempAdj[Month],0))","v":1.0758000000000001},{"$f":"ChillTempAct[[#This Row],[ChillHDD]]*(1+ChillTempAct[[#This Row],[ChillAdj]])","v":0},{"$f":"SUMPRODUCT((RankNHDD[Month]=ChillTempAct[[#This Row],[Month]])*(RankNHDD[Rank]=ChillTempAct[[#This Row],[Rank]])*RankNHDD[KIRKNHDD])","v":0},{"$f":"YEAR(ChillTempAct[[#This Row],[Date]])","v":2021},{"$f":"MONTH(ChillTempAct[[#This Row],[Date]])","v":8},{"$f":"IF(ChillTempAct[[#This Row],[Month]]=J387,K387+1,1)","v":22}]
[44429,90,68,{"$f":"AVERAGE(ChillTempAct[[#This Row],[ChillHigh]:[ChillLow]])","v":79},{"$f":"IF(ChillTempAct[[#This Row],[ChillAve]]<65,65-ChillTempAct[[#This Row],[ChillAve]],0)","v":0},{"$f":"INDEX(TempAdj[AdjustPct],MATCH(MONTH(ChillTempAct[[#This Row],[Date]]),TempAdj[Month],0))","v":1.0758000000000001},{"$f":"ChillTempAct[[#This Row],[ChillHDD]]*(1+ChillTempAct[[#This Row],[ChillAdj]])","v":0},{"$f":"SUMPRODUCT((RankNHDD[Month]=ChillTempAct[[#This Row],[Month]])*(RankNHDD[Rank]=ChillTempAct[[#This Row],[Rank]])*RankNHDD[KIRKNHDD])","v":0},{"$f":"YEAR(ChillTempAct[[#This Row],[Date]])","v":2021},{"$f":"MONTH(ChillTempAct[[#This Row],[Date]])","v":8},{"$f":"IF(ChillTempAct[[#This Row],[Month]]=J388,K388+1,1)","v":23}]
[44438,90,68,{"$f":"AVERAGE(ChillTempAct[[#This Row],[ChillHigh]:[ChillLow]])","v":79},{"$f":"IF(ChillTempAct[[#This Row],[ChillAve]]<65,65-ChillTempAct[[#This Row],[ChillAve]],0)","v":0},{"$f":"INDEX(TempAdj[AdjustPct],MATCH(MONTH(ChillTempAct[[#This Row],[Date]]),TempAdj[Month],0))","v":1.0758000000000001},{"$f":"ChillTempAct[[#This Row],[ChillHDD]]*(1+ChillTempAct[[#This Row],[ChillAdj]])","v":0},{"$f":"SUMPRODUCT((RankNHDD[Month]=ChillTempAct[[#This Row],[Month]])*(RankNHDD[Rank]=ChillTempAct[[#This Row],[Rank]])*RankNHDD[KIRKNHDD])","v":0},{"$f":"YEAR(ChillTempAct[[#This Row],[Date]])","v":2021},{"$f":"MONTH(ChillTempAct[[#This Row],[Date]])","v":8},{"$f":"IF(ChillTempAct[[#This Row],[Month]]=J389,K389+1,1)","v":24}]
[44421,91,68,{"$f":"AVERAGE(ChillTempAct[[#This Row],[ChillHigh]:[ChillLow]])","v":79.5},{"$f":"IF(ChillTempAct[[#This Row],[ChillAve]]<65,65-ChillTempAct[[#This Row],[ChillAve]],0)","v":0},{"$f":"INDEX(TempAdj[AdjustPct],MATCH(MONTH(ChillTempAct[[#This Row],[Date]]),TempAdj[Month],0))","v":1.0758000000000001},{"$f":"ChillTempAct[[#This Row],[ChillHDD]]*(1+ChillTempAct[[#This Row],[ChillAdj]])","v":0},{"$f":"SUMPRODUCT((RankNHDD[Month]=ChillTempAct[[#This Row],[Month]])*(RankNHDD[Rank]=ChillTempAct[[#This Row],[Rank]])*RankNHDD[KIRKNHDD])","v":0},{"$f":"YEAR(ChillTempAct[[#This Row],[Date]])","v":2021},{"$f":"MONTH(ChillTempAct[[#This Row],[Date]])","v":8},{"$f":"IF(ChillTempAct[[#This Row],[Month]]=J390,K390+1,1)","v":25}]
[44436,92,71,{"$f":"AVERAGE(ChillTempAct[[#This Row],[ChillHigh]:[ChillLow]])","v":81.5},{"$f":"IF(ChillTempAct[[#This Row],[ChillAve]]<65,65-ChillTempAct[[#This Row],[ChillAve]],0)","v":0},{"$f":"INDEX(TempAdj[AdjustPct],MATCH(MONTH(ChillTempAct[[#This Row],[Date]]),TempAdj[Month],0))","v":1.0758000000000001},{"$f":"ChillTempAct[[#This Row],[ChillHDD]]*(1+ChillTempAct[[#This Row],[ChillAdj]])","v":0},{"$f":"SUMPRODUCT((RankNHDD[Month]=ChillTempAct[[#This Row],[Month]])*(RankNHDD[Rank]=ChillTempAct[[#This Row],[Rank]])*RankNHDD[KIRKNHDD])","v":0},{"$f":"YEAR(ChillTempAct[[#This Row],[Date]])","v":2021},{"$f":"MONTH(ChillTempAct[[#This Row],[Date]])","v":8},{"$f":"IF(ChillTempAct[[#This Row],[Month]]=J391,K391+1,1)","v":26}]
[44437,91,72,{"$f":"AVERAGE(ChillTempAct[[#This Row],[ChillHigh]:[ChillLow]])","v":81.5},{"$f":"IF(ChillTempAct[[#This Row],[ChillAve]]<65,65-ChillTempAct[[#This Row],[ChillAve]],0)","v":0},{"$f":"INDEX(TempAdj[AdjustPct],MATCH(MONTH(ChillTempAct[[#This Row],[Date]]),TempAdj[Month],0))","v":1.0758000000000001},{"$f":"ChillTempAct[[#This Row],[ChillHDD]]*(1+ChillTempAct[[#This Row],[ChillAdj]])","v":0},{"$f":"SUMPRODUCT((RankNHDD[Month]=ChillTempAct[[#This Row],[Month]])*(RankNHDD[Rank]=ChillTempAct[[#This Row],[Rank]])*RankNHDD[KIRKNHDD])","v":0},{"$f":"YEAR(ChillTempAct[[#This Row],[Date]])","v":2021},{"$f":"MONTH(ChillTempAct[[#This Row],[Date]])","v":8},{"$f":"IF(ChillTempAct[[#This Row],[Month]]=J392,K392+1,1)","v":27}]
[44435,94,71,{"$f":"AVERAGE(ChillTempAct[[#This Row],[ChillHigh]:[ChillLow]])","v":82.5},{"$f":"IF(ChillTempAct[[#This Row],[ChillAve]]<65,65-ChillTempAct[[#This Row],[ChillAve]],0)","v":0},{"$f":"INDEX(TempAdj[AdjustPct],MATCH(MONTH(ChillTempAct[[#This Row],[Date]]),TempAdj[Month],0))","v":1.0758000000000001},{"$f":"ChillTempAct[[#This Row],[ChillHDD]]*(1+ChillTempAct[[#This Row],[ChillAdj]])","v":0},{"$f":"SUMPRODUCT((RankNHDD[Month]=ChillTempAct[[#This Row],[Month]])*(RankNHDD[Rank]=ChillTempAct[[#This Row],[Rank]])*RankNHDD[KIRKNHDD])","v":0},{"$f":"YEAR(ChillTempAct[[#This Row],[Date]])","v":2021},{"$f":"MONTH(ChillTempAct[[#This Row],[Date]])","v":8},{"$f":"IF(ChillTempAct[[#This Row],[Month]]=J393,K393+1,1)","v":28}]
[44433,93,73,{"$f":"AVERAGE(ChillTempAct[[#This Row],[ChillHigh]:[ChillLow]])","v":83},{"$f":"IF(ChillTempAct[[#This Row],[ChillAve]]<65,65-ChillTempAct[[#This Row],[ChillAve]],0)","v":0},{"$f":"INDEX(TempAdj[AdjustPct],MATCH(MONTH(ChillTempAct[[#This Row],[Date]]),TempAdj[Month],0))","v":1.0758000000000001},{"$f":"ChillTempAct[[#This Row],[ChillHDD]]*(1+ChillTempAct[[#This Row],[ChillAdj]])","v":0},{"$f":"SUMPRODUCT((RankNHDD[Month]=ChillTempAct[[#This Row],[Month]])*(RankNHDD[Rank]=ChillTempAct[[#This Row],[Rank]])*RankNHDD[KIRKNHDD])","v":0},{"$f":"YEAR(ChillTempAct[[#This Row],[Date]])","v":2021},{"$f":"MONTH(ChillTempAct[[#This Row],[Date]])","v":8},{"$f":"IF(ChillTempAct[[#This Row],[Month]]=J394,K394+1,1)","v":29}]
[44418,92,75,{"$f":"AVERAGE(ChillTempAct[[#This Row],[ChillHigh]:[ChillLow]])","v":83.5},{"$f":"IF(ChillTempAct[[#This Row],[ChillAve]]<65,65-ChillTempAct[[#This Row],[ChillAve]],0)","v":0},{"$f":"INDEX(TempAdj[AdjustPct],MATCH(MONTH(ChillTempAct[[#This Row],[Date]]),TempAdj[Month],0))","v":1.0758000000000001},{"$f":"ChillTempAct[[#This Row],[ChillHDD]]*(1+ChillTempAct[[#This Row],[ChillAdj]])","v":0},{"$f":"SUMPRODUCT((RankNHDD[Month]=ChillTempAct[[#This Row],[Month]])*(RankNHDD[Rank]=ChillTempAct[[#This Row],[Rank]])*RankNHDD[KIRKNHDD])","v":0},{"$f":"YEAR(ChillTempAct[[#This Row],[Date]])","v":2021},{"$f":"MONTH(ChillTempAct[[#This Row],[Date]])","v":8},{"$f":"IF(ChillTempAct[[#This Row],[Month]]=J395,K395+1,1)","v":30}]
[44420,92,77,{"$f":"AVERAGE(ChillTempAct[[#This Row],[ChillHigh]:[ChillLow]])","v":84.5},{"$f":"IF(ChillTempAct[[#This Row],[ChillAve]]<65,65-ChillTempAct[[#This Row],[ChillAve]],0)","v":0},{"$f":"INDEX(TempAdj[AdjustPct],MATCH(MONTH(ChillTempAct[[#This Row],[Date]]),TempAdj[Month],0))","v":1.0758000000000001},{"$f":"ChillTempAct[[#This Row],[ChillHDD]]*(1+ChillTempAct[[#This Row],[ChillAdj]])","v":0},{"$f":"SUMPRODUCT((RankNHDD[Month]=ChillTempAct[[#This Row],[Month]])*(RankNHDD[Rank]=ChillTempAct[[#This Row],[Rank]])*RankNHDD[KIRKNHDD])","v":0},{"$f":"YEAR(ChillTempAct[[#This Row],[Date]])","v":2021},{"$f":"MONTH(ChillTempAct[[#This Row],[Date]])","v":8},{"$f":"IF(ChillTempAct[[#This Row],[Month]]=J396,K396+1,1)","v":31}]
[44461,72,37,{"$f":"AVERAGE(ChillTempAct[[#This Row],[ChillHigh]:[ChillLow]])","v":54.5},{"$f":"IF(ChillTempAct[[#This Row],[ChillAve]]<65,65-ChillTempAct[[#This Row],[ChillAve]],0)","v":10.5},{"$f":"INDEX(TempAdj[AdjustPct],MATCH(MONTH(ChillTempAct[[#This Row],[Date]]),TempAdj[Month],0))","v":0.30930000000000002},{"$f":"ChillTempAct[[#This Row],[ChillHDD]]*(1+ChillTempAct[[#This Row],[ChillAdj]])","v":13.747649999999998},{"$f":"SUMPRODUCT((RankNHDD[Month]=ChillTempAct[[#This Row],[Month]])*(RankNHDD[Rank]=ChillTempAct[[#This Row],[Rank]])*RankNHDD[KIRKNHDD])","v":17.450925925925926},{"$f":"YEAR(ChillTempAct[[#This Row],[Date]])","v":2021},{"$f":"MONTH(ChillTempAct[[#This Row],[Date]])","v":9},{"$f":"IF(ChillTempAct[[#This Row],[Month]]=J397,K397+1,1)","v":1}]
[44462,70,43,{"$f":"AVERAGE(ChillTempAct[[#This Row],[ChillHigh]:[ChillLow]])","v":56.5},{"$f":"IF(ChillTempAct[[#This Row],[ChillAve]]<65,65-ChillTempAct[[#This Row],[ChillAve]],0)","v":8.5},{"$f":"INDEX(TempAdj[AdjustPct],MATCH(MONTH(ChillTempAct[[#This Row],[Date]]),TempAdj[Month],0))","v":0.30930000000000002},{"$f":"ChillTempAct[[#This Row],[ChillHDD]]*(1+ChillTempAct[[#This Row],[ChillAdj]])","v":11.129049999999999},{"$f":"SUMPRODUCT((RankNHDD[Month]=ChillTempAct[[#This Row],[Month]])*(RankNHDD[Rank]=ChillTempAct[[#This Row],[Rank]])*RankNHDD[KIRKNHDD])","v":13.436296296296296},{"$f":"YEAR(ChillTempAct[[#This Row],[Date]])","v":2021},{"$f":"MONTH(ChillTempAct[[#This Row],[Date]])","v":9},{"$f":"IF(ChillTempAct[[#This Row],[Month]]=J398,K398+1,1)","v":2}]
[44463,76,43,{"$f":"AVERAGE(ChillTempAct[[#This Row],[ChillHigh]:[ChillLow]])","v":59.5},{"$f":"IF(ChillTempAct[[#This Row],[ChillAve]]<65,65-ChillTempAct[[#This Row],[ChillAve]],0)","v":5.5},{"$f":"INDEX(TempAdj[AdjustPct],MATCH(MONTH(ChillTempAct[[#This Row],[Date]]),TempAdj[Month],0))","v":0.30930000000000002},{"$f":"ChillTempAct[[#This Row],[ChillHDD]]*(1+ChillTempAct[[#This Row],[ChillAdj]])","v":7.2011499999999993},{"$f":"SUMPRODUCT((RankNHDD[Month]=ChillTempAct[[#This Row],[Month]])*(RankNHDD[Rank]=ChillTempAct[[#This Row],[Rank]])*RankNHDD[KIRKNHDD])","v":11.309259259259257},{"$f":"YEAR(ChillTempAct[[#This Row],[Date]])","v":2021},{"$f":"MONTH(ChillTempAct[[#This Row],[Date]])","v":9},{"$f":"IF(ChillTempAct[[#This Row],[Month]]=J399,K399+1,1)","v":3}]
[44464,76,45,{"$f":"AVERAGE(ChillTempAct[[#This Row],[ChillHigh]:[ChillLow]])","v":60.5},{"$f":"IF(ChillTempAct[[#This Row],[ChillAve]]<65,65-ChillTempAct[[#This Row],[ChillAve]],0)","v":4.5},{"$f":"INDEX(TempAdj[AdjustPct],MATCH(MONTH(ChillTempAct[[#This Row],[Date]]),TempAdj[Month],0))","v":0.30930000000000002},{"$f":"ChillTempAct[[#This Row],[ChillHDD]]*(1+ChillTempAct[[#This Row],[ChillAdj]])","v":5.8918499999999998},{"$f":"SUMPRODUCT((RankNHDD[Month]=ChillTempAct[[#This Row],[Month]])*(RankNHDD[Rank]=ChillTempAct[[#This Row],[Rank]])*RankNHDD[KIRKNHDD])","v":9.779814814814813},{"$f":"YEAR(ChillTempAct[[#This Row],[Date]])","v":2021},{"$f":"MONTH(ChillTempAct[[#This Row],[Date]])","v":9},{"$f":"IF(ChillTempAct[[#This Row],[Month]]=J400,K400+1,1)","v":4}]
[44465,77,46,{"$f":"AVERAGE(ChillTempAct[[#This Row],[ChillHigh]:[ChillLow]])","v":61.5},{"$f":"IF(ChillTempAct[[#This Row],[ChillAve]]<65,65-ChillTempAct[[#This Row],[ChillAve]],0)","v":3.5},{"$f":"INDEX(TempAdj[AdjustPct],MATCH(MONTH(ChillTempAct[[#This Row],[Date]]),TempAdj[Month],0))","v":0.30930000000000002},{"$f":"ChillTempAct[[#This Row],[ChillHDD]]*(1+ChillTempAct[[#This Row],[ChillAdj]])","v":4.5825499999999995},{"$f":"SUMPRODUCT((RankNHDD[Month]=ChillTempAct[[#This Row],[Month]])*(RankNHDD[Rank]=ChillTempAct[[#This Row],[Rank]])*RankNHDD[KIRKNHDD])","v":8.3977777777777796},{"$f":"YEAR(ChillTempAct[[#This Row],[Date]])","v":2021},{"$f":"MONTH(ChillTempAct[[#This Row],[Date]])","v":9},{"$f":"IF(ChillTempAct[[#This Row],[Month]]=J401,K401+1,1)","v":5}]
[44444,74,57,{"$f":"AVERAGE(ChillTempAct[[#This Row],[ChillHigh]:[ChillLow]])","v":65.5},{"$f":"IF(ChillTempAct[[#This Row],[ChillAve]]<65,65-ChillTempAct[[#This Row],[ChillAve]],0)","v":0},{"$f":"INDEX(TempAdj[AdjustPct],MATCH(MONTH(ChillTempAct[[#This Row],[Date]]),TempAdj[Month],0))","v":0.30930000000000002},{"$f":"ChillTempAct[[#This Row],[ChillHDD]]*(1+ChillTempAct[[#This Row],[ChillAdj]])","v":0},{"$f":"SUMPRODUCT((RankNHDD[Month]=ChillTempAct[[#This Row],[Month]])*(RankNHDD[Rank]=ChillTempAct[[#This Row],[Rank]])*RankNHDD[KIRKNHDD])","v":7.2085185185185194},{"$f":"YEAR(ChillTempAct[[#This Row],[Date]])","v":2021},{"$f":"MONTH(ChillTempAct[[#This Row],[Date]])","v":9},{"$f":"IF(ChillTempAct[[#This Row],[Month]]=J402,K402+1,1)","v":6}]
[44448,81,53,{"$f":"AVERAGE(ChillTempAct[[#This Row],[ChillHigh]:[ChillLow]])","v":67},{"$f":"IF(ChillTempAct[[#This Row],[ChillAve]]<65,65-ChillTempAct[[#This Row],[ChillAve]],0)","v":0},{"$f":"INDEX(TempAdj[AdjustPct],MATCH(MONTH(ChillTempAct[[#This Row],[Date]]),TempAdj[Month],0))","v":0.30930000000000002},{"$f":"ChillTempAct[[#This Row],[ChillHDD]]*(1+ChillTempAct[[#This Row],[ChillAdj]])","v":0},{"$f":"SUMPRODUCT((RankNHDD[Month]=ChillTempAct[[#This Row],[Month]])*(RankNHDD[Rank]=ChillTempAct[[#This Row],[Rank]])*RankNHDD[KIRKNHDD])","v":6.1688888888888895},{"$f":"YEAR(ChillTempAct[[#This Row],[Date]])","v":2021},{"$f":"MONTH(ChillTempAct[[#This Row],[Date]])","v":9},{"$f":"IF(ChillTempAct[[#This Row],[Month]]=J403,K403+1,1)","v":7}]
[44449,81,53,{"$f":"AVERAGE(ChillTempAct[[#This Row],[ChillHigh]:[ChillLow]])","v":67},{"$f":"IF(ChillTempAct[[#This Row],[ChillAve]]<65,65-ChillTempAct[[#This Row],[ChillAve]],0)","v":0},{"$f":"INDEX(TempAdj[AdjustPct],MATCH(MONTH(ChillTempAct[[#This Row],[Date]]),TempAdj[Month],0))","v":0.30930000000000002},{"$f":"ChillTempAct[[#This Row],[ChillHDD]]*(1+ChillTempAct[[#This Row],[ChillAdj]])","v":0},{"$f":"SUMPRODUCT((RankNHDD[Month]=ChillTempAct[[#This Row],[Month]])*(RankNHDD[Rank]=ChillTempAct[[#This Row],[Rank]])*RankNHDD[KIRKNHDD])","v":5.2650000000000006},{"$f":"YEAR(ChillTempAct[[#This Row],[Date]])","v":2021},{"$f":"MONTH(ChillTempAct[[#This Row],[Date]])","v":9},{"$f":"IF(ChillTempAct[[#This Row],[Month]]=J404,K404+1,1)","v":8}]
[44455,81,56,{"$f":"AVERAGE(ChillTempAct[[#This Row],[ChillHigh]:[ChillLow]])","v":68.5},{"$f":"IF(ChillTempAct[[#This Row],[ChillAve]]<65,65-ChillTempAct[[#This Row],[ChillAve]],0)","v":0},{"$f":"INDEX(TempAdj[AdjustPct],MATCH(MONTH(ChillTempAct[[#This Row],[Date]]),TempAdj[Month],0))","v":0.30930000000000002},{"$f":"ChillTempAct[[#This Row],[ChillHDD]]*(1+ChillTempAct[[#This Row],[ChillAdj]])","v":0},{"$f":"SUMPRODUCT((RankNHDD[Month]=ChillTempAct[[#This Row],[Month]])*(RankNHDD[Rank]=ChillTempAct[[#This Row],[Rank]])*RankNHDD[KIRKNHDD])","v":4.532222222222221},{"$f":"YEAR(ChillTempAct[[#This Row],[Date]])","v":2021},{"$f":"MONTH(ChillTempAct[[#This Row],[Date]])","v":9},{"$f":"IF(ChillTempAct[[#This Row],[Month]]=J405,K405+1,1)","v":9}]
[44442,78,61,{"$f":"AVERAGE(ChillTempAct[[#This Row],[ChillHigh]:[ChillLow]])","v":69.5},{"$f":"IF(ChillTempAct[[#This Row],[ChillAve]]<65,65-ChillTempAct[[#This Row],[ChillAve]],0)","v":0},{"$f":"INDEX(TempAdj[AdjustPct],MATCH(MONTH(ChillTempAct[[#This Row],[Date]]),TempAdj[Month],0))","v":0.30930000000000002},{"$f":"ChillTempAct[[#This Row],[ChillHDD]]*(1+ChillTempAct[[#This Row],[ChillAdj]])","v":0},{"$f":"SUMPRODUCT((RankNHDD[Month]=ChillTempAct[[#This Row],[Month]])*(RankNHDD[Rank]=ChillTempAct[[#This Row],[Rank]])*RankNHDD[KIRKNHDD])","v":3.8581481481481479},{"$f":"YEAR(ChillTempAct[[#This Row],[Date]])","v":2021},{"$f":"MONTH(ChillTempAct[[#This Row],[Date]])","v":9},{"$f":"IF(ChillTempAct[[#This Row],[Month]]=J406,K406+1,1)","v":10}]
[44445,83,56,{"$f":"AVERAGE(ChillTempAct[[#This Row],[ChillHigh]:[ChillLow]])","v":69.5},{"$f":"IF(ChillTempAct[[#This Row],[ChillAve]]<65,65-ChillTempAct[[#This Row],[ChillAve]],0)","v":0},{"$f":"INDEX(TempAdj[AdjustPct],MATCH(MONTH(ChillTempAct[[#This Row],[Date]]),TempAdj[Month],0))","v":0.30930000000000002},{"$f":"ChillTempAct[[#This Row],[ChillHDD]]*(1+ChillTempAct[[#This Row],[ChillAdj]])","v":0},{"$f":"SUMPRODUCT((RankNHDD[Month]=ChillTempAct[[#This Row],[Month]])*(RankNHDD[Rank]=ChillTempAct[[#This Row],[Rank]])*RankNHDD[KIRKNHDD])","v":2.9318518518518517},{"$f":"YEAR(ChillTempAct[[#This Row],[Date]])","v":2021},{"$f":"MONTH(ChillTempAct[[#This Row],[Date]])","v":9},{"$f":"IF(ChillTempAct[[#This Row],[Month]]=J407,K407+1,1)","v":11}]
[44466,89,50,{"$f":"AVERAGE(ChillTempAct[[#This Row],[ChillHigh]:[ChillLow]])","v":69.5},{"$f":"IF(ChillTempAct[[#This Row],[ChillAve]]<65,65-ChillTempAct[[#This Row],[ChillAve]],0)","v":0},{"$f":"INDEX(TempAdj[AdjustPct],MATCH(MONTH(ChillTempAct[[#This Row],[Date]]),TempAdj[Month],0))","v":0.30930000000000002},{"$f":"ChillTempAct[[#This Row],[ChillHDD]]*(1+ChillTempAct[[#This Row],[ChillAdj]])","v":0},{"$f":"SUMPRODUCT((RankNHDD[Month]=ChillTempAct[[#This Row],[Month]])*(RankNHDD[Rank]=ChillTempAct[[#This Row],[Rank]])*RankNHDD[KIRKNHDD])","v":2.153703703703703},{"$f":"YEAR(ChillTempAct[[#This Row],[Date]])","v":2021},{"$f":"MONTH(ChillTempAct[[#This Row],[Date]])","v":9},{"$f":"IF(ChillTempAct[[#This Row],[Month]]=J408,K408+1,1)","v":12}]
[44454,83,57,{"$f":"AVERAGE(ChillTempAct[[#This Row],[ChillHigh]:[ChillLow]])","v":70},{"$f":"IF(ChillTempAct[[#This Row],[ChillAve]]<65,65-ChillTempAct[[#This Row],[ChillAve]],0)","v":0},{"$f":"INDEX(TempAdj[AdjustPct],MATCH(MONTH(ChillTempAct[[#This Row],[Date]]),TempAdj[Month],0))","v":0.30930000000000002},{"$f":"ChillTempAct[[#This Row],[ChillHDD]]*(1+ChillTempAct[[#This Row],[ChillAdj]])","v":0},{"$f":"SUMPRODUCT((RankNHDD[Month]=ChillTempAct[[#This Row],[Month]])*(RankNHDD[Rank]=ChillTempAct[[#This Row],[Rank]])*RankNHDD[KIRKNHDD])","v":1.3109259259259254},{"$f":"YEAR(ChillTempAct[[#This Row],[Date]])","v":2021},{"$f":"MONTH(ChillTempAct[[#This Row],[Date]])","v":9},{"$f":"IF(ChillTempAct[[#This Row],[Month]]=J409,K409+1,1)","v":13}]
[44469,82,58,{"$f":"AVERAGE(ChillTempAct[[#This Row],[ChillHigh]:[ChillLow]])","v":70},{"$f":"IF(ChillTempAct[[#This Row],[ChillAve]]<65,65-ChillTempAct[[#This Row],[ChillAve]],0)","v":0},{"$f":"INDEX(TempAdj[AdjustPct],MATCH(MONTH(ChillTempAct[[#This Row],[Date]]),TempAdj[Month],0))","v":0.30930000000000002},{"$f":"ChillTempAct[[#This Row],[ChillHDD]]*(1+ChillTempAct[[#This Row],[ChillAdj]])","v":0},{"$f":"SUMPRODUCT((RankNHDD[Month]=ChillTempAct[[#This Row],[Month]])*(RankNHDD[Rank]=ChillTempAct[[#This Row],[Rank]])*RankNHDD[KIRKNHDD])","v":0.40222222222222398},{"$f":"YEAR(ChillTempAct[[#This Row],[Date]])","v":2021},{"$f":"MONTH(ChillTempAct[[#This Row],[Date]])","v":9},{"$f":"IF(ChillTempAct[[#This Row],[Month]]=J410,K410+1,1)","v":14}]
[44440,80,62,{"$f":"AVERAGE(ChillTempAct[[#This Row],[ChillHigh]:[ChillLow]])","v":71},{"$f":"IF(ChillTempAct[[#This Row],[ChillAve]]<65,65-ChillTempAct[[#This Row],[ChillAve]],0)","v":0},{"$f":"INDEX(TempAdj[AdjustPct],MATCH(MONTH(ChillTempAct[[#This Row],[Date]]),TempAdj[Month],0))","v":0.30930000000000002},{"$f":"ChillTempAct[[#This Row],[ChillHDD]]*(1+ChillTempAct[[#This Row],[ChillAdj]])","v":0},{"$f":"SUMPRODUCT((RankNHDD[Month]=ChillTempAct[[#This Row],[Month]])*(RankNHDD[Rank]=ChillTempAct[[#This Row],[Rank]])*RankNHDD[KIRKNHDD])","v":0},{"$f":"YEAR(ChillTempAct[[#This Row],[Date]])","v":2021},{"$f":"MONTH(ChillTempAct[[#This Row],[Date]])","v":9},{"$f":"IF(ChillTempAct[[#This Row],[Month]]=J411,K411+1,1)","v":15}]
[44441,82,62,{"$f":"AVERAGE(ChillTempAct[[#This Row],[ChillHigh]:[ChillLow]])","v":72},{"$f":"IF(ChillTempAct[[#This Row],[ChillAve]]<65,65-ChillTempAct[[#This Row],[ChillAve]],0)","v":0},{"$f":"INDEX(TempAdj[AdjustPct],MATCH(MONTH(ChillTempAct[[#This Row],[Date]]),TempAdj[Month],0))","v":0.30930000000000002},{"$f":"ChillTempAct[[#This Row],[ChillHDD]]*(1+ChillTempAct[[#This Row],[ChillAdj]])","v":0},{"$f":"SUMPRODUCT((RankNHDD[Month]=ChillTempAct[[#This Row],[Month]])*(RankNHDD[Rank]=ChillTempAct[[#This Row],[Rank]])*RankNHDD[KIRKNHDD])","v":0},{"$f":"YEAR(ChillTempAct[[#This Row],[Date]])","v":2021},{"$f":"MONTH(ChillTempAct[[#This Row],[Date]])","v":9},{"$f":"IF(ChillTempAct[[#This Row],[Month]]=J412,K412+1,1)","v":16}]
[44450,87,57,{"$f":"AVERAGE(ChillTempAct[[#This Row],[ChillHigh]:[ChillLow]])","v":72},{"$f":"IF(ChillTempAct[[#This Row],[ChillAve]]<65,65-ChillTempAct[[#This Row],[ChillAve]],0)","v":0},{"$f":"INDEX(TempAdj[AdjustPct],MATCH(MONTH(ChillTempAct[[#This Row],[Date]]),TempAdj[Month],0))","v":0.30930000000000002},{"$f":"ChillTempAct[[#This Row],[ChillHDD]]*(1+ChillTempAct[[#This Row],[ChillAdj]])","v":0},{"$f":"SUMPRODUCT((RankNHDD[Month]=ChillTempAct[[#This Row],[Month]])*(RankNHDD[Rank]=ChillTempAct[[#This Row],[Rank]])*RankNHDD[KIRKNHDD])","v":0},{"$f":"YEAR(ChillTempAct[[#This Row],[Date]])","v":2021},{"$f":"MONTH(ChillTempAct[[#This Row],[Date]])","v":9},{"$f":"IF(ChillTempAct[[#This Row],[Month]]=J413,K413+1,1)","v":17}]
[44456,87,57,{"$f":"AVERAGE(ChillTempAct[[#This Row],[ChillHigh]:[ChillLow]])","v":72},{"$f":"IF(ChillTempAct[[#This Row],[ChillAve]]<65,65-ChillTempAct[[#This Row],[ChillAve]],0)","v":0},{"$f":"INDEX(TempAdj[AdjustPct],MATCH(MONTH(ChillTempAct[[#This Row],[Date]]),TempAdj[Month],0))","v":0.30930000000000002},{"$f":"ChillTempAct[[#This Row],[ChillHDD]]*(1+ChillTempAct[[#This Row],[ChillAdj]])","v":0},{"$f":"SUMPRODUCT((RankNHDD[Month]=ChillTempAct[[#This Row],[Month]])*(RankNHDD[Rank]=ChillTempAct[[#This Row],[Rank]])*RankNHDD[KIRKNHDD])","v":0},{"$f":"YEAR(ChillTempAct[[#This Row],[Date]])","v":2021},{"$f":"MONTH(ChillTempAct[[#This Row],[Date]])","v":9},{"$f":"IF(ChillTempAct[[#This Row],[Month]]=J414,K414+1,1)","v":18}]
[44460,88,56,{"$f":"AVERAGE(ChillTempAct[[#This Row],[ChillHigh]:[ChillLow]])","v":72},{"$f":"IF(ChillTempAct[[#This Row],[ChillAve]]<65,65-ChillTempAct[[#This Row],[ChillAve]],0)","v":0},{"$f":"INDEX(TempAdj[AdjustPct],MATCH(MONTH(ChillTempAct[[#This Row],[Date]]),TempAdj[Month],0))","v":0.30930000000000002},{"$f":"ChillTempAct[[#This Row],[ChillHDD]]*(1+ChillTempAct[[#This Row],[ChillAdj]])","v":0},{"$f":"SUMPRODUCT((RankNHDD[Month]=ChillTempAct[[#This Row],[Month]])*(RankNHDD[Rank]=ChillTempAct[[#This Row],[Rank]])*RankNHDD[KIRKNHDD])","v":0},{"$f":"YEAR(ChillTempAct[[#This Row],[Date]])","v":2021},{"$f":"MONTH(ChillTempAct[[#This Row],[Date]])","v":9},{"$f":"IF(ChillTempAct[[#This Row],[Month]]=J415,K415+1,1)","v":19}]
[44446,86,60,{"$f":"AVERAGE(ChillTempAct[[#This Row],[ChillHigh]:[ChillLow]])","v":73},{"$f":"IF(ChillTempAct[[#This Row],[ChillAve]]<65,65-ChillTempAct[[#This Row],[ChillAve]],0)","v":0},{"$f":"INDEX(TempAdj[AdjustPct],MATCH(MONTH(ChillTempAct[[#This Row],[Date]]),TempAdj[Month],0))","v":0.30930000000000002},{"$f":"ChillTempAct[[#This Row],[ChillHDD]]*(1+ChillTempAct[[#This Row],[ChillAdj]])","v":0},{"$f":"SUMPRODUCT((RankNHDD[Month]=ChillTempAct[[#This Row],[Month]])*(RankNHDD[Rank]=ChillTempAct[[#This Row],[Rank]])*RankNHDD[KIRKNHDD])","v":0},{"$f":"YEAR(ChillTempAct[[#This Row],[Date]])","v":2021},{"$f":"MONTH(ChillTempAct[[#This Row],[Date]])","v":9},{"$f":"IF(ChillTempAct[[#This Row],[Month]]=J416,K416+1,1)","v":20}]
[44447,89,57,{"$f":"AVERAGE(ChillTempAct[[#This Row],[ChillHigh]:[ChillLow]])","v":73},{"$f":"IF(ChillTempAct[[#This Row],[ChillAve]]<65,65-ChillTempAct[[#This Row],[ChillAve]],0)","v":0},{"$f":"INDEX(TempAdj[AdjustPct],MATCH(MONTH(ChillTempAct[[#This Row],[Date]]),TempAdj[Month],0))","v":0.30930000000000002},{"$f":"ChillTempAct[[#This Row],[ChillHDD]]*(1+ChillTempAct[[#This Row],[ChillAdj]])","v":0},{"$f":"SUMPRODUCT((RankNHDD[Month]=ChillTempAct[[#This Row],[Month]])*(RankNHDD[Rank]=ChillTempAct[[#This Row],[Rank]])*RankNHDD[KIRKNHDD])","v":0},{"$f":"YEAR(ChillTempAct[[#This Row],[Date]])","v":2021},{"$f":"MONTH(ChillTempAct[[#This Row],[Date]])","v":9},{"$f":"IF(ChillTempAct[[#This Row],[Month]]=J417,K417+1,1)","v":21}]
[44467,89,57,{"$f":"AVERAGE(ChillTempAct[[#This Row],[ChillHigh]:[ChillLow]])","v":73},{"$f":"IF(ChillTempAct[[#This Row],[ChillAve]]<65,65-ChillTempAct[[#This Row],[ChillAve]],0)","v":0},{"$f":"INDEX(TempAdj[AdjustPct],MATCH(MONTH(ChillTempAct[[#This Row],[Date]]),TempAdj[Month],0))","v":0.30930000000000002},{"$f":"ChillTempAct[[#This Row],[ChillHDD]]*(1+ChillTempAct[[#This Row],[ChillAdj]])","v":0},{"$f":"SUMPRODUCT((RankNHDD[Month]=ChillTempAct[[#This Row],[Month]])*(RankNHDD[Rank]=ChillTempAct[[#This Row],[Rank]])*RankNHDD[KIRKNHDD])","v":0},{"$f":"YEAR(ChillTempAct[[#This Row],[Date]])","v":2021},{"$f":"MONTH(ChillTempAct[[#This Row],[Date]])","v":9},{"$f":"IF(ChillTempAct[[#This Row],[Month]]=J418,K418+1,1)","v":22}]
[44468,89,57,{"$f":"AVERAGE(ChillTempAct[[#This Row],[ChillHigh]:[ChillLow]])","v":73},{"$f":"IF(ChillTempAct[[#This Row],[ChillAve]]<65,65-ChillTempAct[[#This Row],[ChillAve]],0)","v":0},{"$f":"INDEX(TempAdj[AdjustPct],MATCH(MONTH(ChillTempAct[[#This Row],[Date]]),TempAdj[Month],0))","v":0.30930000000000002},{"$f":"ChillTempAct[[#This Row],[ChillHDD]]*(1+ChillTempAct[[#This Row],[ChillAdj]])","v":0},{"$f":"SUMPRODUCT((RankNHDD[Month]=ChillTempAct[[#This Row],[Month]])*(RankNHDD[Rank]=ChillTempAct[[#This Row],[Rank]])*RankNHDD[KIRKNHDD])","v":0},{"$f":"YEAR(ChillTempAct[[#This Row],[Date]])","v":2021},{"$f":"MONTH(ChillTempAct[[#This Row],[Date]])","v":9},{"$f":"IF(ChillTempAct[[#This Row],[Month]]=J419,K419+1,1)","v":23}]
[44443,84,63,{"$f":"AVERAGE(ChillTempAct[[#This Row],[ChillHigh]:[ChillLow]])","v":73.5},{"$f":"IF(ChillTempAct[[#This Row],[ChillAve]]<65,65-ChillTempAct[[#This Row],[ChillAve]],0)","v":0},{"$f":"INDEX(TempAdj[AdjustPct],MATCH(MONTH(ChillTempAct[[#This Row],[Date]]),TempAdj[Month],0))","v":0.30930000000000002},{"$f":"ChillTempAct[[#This Row],[ChillHDD]]*(1+ChillTempAct[[#This Row],[ChillAdj]])","v":0},{"$f":"SUMPRODUCT((RankNHDD[Month]=ChillTempAct[[#This Row],[Month]])*(RankNHDD[Rank]=ChillTempAct[[#This Row],[Rank]])*RankNHDD[KIRKNHDD])","v":0},{"$f":"YEAR(ChillTempAct[[#This Row],[Date]])","v":2021},{"$f":"MONTH(ChillTempAct[[#This Row],[Date]])","v":9},{"$f":"IF(ChillTempAct[[#This Row],[Month]]=J420,K420+1,1)","v":24}]
[44453,87,62,{"$f":"AVERAGE(ChillTempAct[[#This Row],[ChillHigh]:[ChillLow]])","v":74.5},{"$f":"IF(ChillTempAct[[#This Row],[ChillAve]]<65,65-ChillTempAct[[#This Row],[ChillAve]],0)","v":0},{"$f":"INDEX(TempAdj[AdjustPct],MATCH(MONTH(ChillTempAct[[#This Row],[Date]]),TempAdj[Month],0))","v":0.30930000000000002},{"$f":"ChillTempAct[[#This Row],[ChillHDD]]*(1+ChillTempAct[[#This Row],[ChillAdj]])","v":0},{"$f":"SUMPRODUCT((RankNHDD[Month]=ChillTempAct[[#This Row],[Month]])*(RankNHDD[Rank]=ChillTempAct[[#This Row],[Rank]])*RankNHDD[KIRKNHDD])","v":0},{"$f":"YEAR(ChillTempAct[[#This Row],[Date]])","v":2021},{"$f":"MONTH(ChillTempAct[[#This Row],[Date]])","v":9},{"$f":"IF(ChillTempAct[[#This Row],[Month]]=J421,K421+1,1)","v":25}]
[44458,88,61,{"$f":"AVERAGE(ChillTempAct[[#This Row],[ChillHigh]:[ChillLow]])","v":74.5},{"$f":"IF(ChillTempAct[[#This Row],[ChillAve]]<65,65-ChillTempAct[[#This Row],[ChillAve]],0)","v":0},{"$f":"INDEX(TempAdj[AdjustPct],MATCH(MONTH(ChillTempAct[[#This Row],[Date]]),TempAdj[Month],0))","v":0.30930000000000002},{"$f":"ChillTempAct[[#This Row],[ChillHDD]]*(1+ChillTempAct[[#This Row],[ChillAdj]])","v":0},{"$f":"SUMPRODUCT((RankNHDD[Month]=ChillTempAct[[#This Row],[Month]])*(RankNHDD[Rank]=ChillTempAct[[#This Row],[Rank]])*RankNHDD[KIRKNHDD])","v":0},{"$f":"YEAR(ChillTempAct[[#This Row],[Date]])","v":2021},{"$f":"MONTH(ChillTempAct[[#This Row],[Date]])","v":9},{"$f":"IF(ChillTempAct[[#This Row],[Month]]=J422,K422+1,1)","v":26}]
[44457,90,60,{"$f":"AVERAGE(ChillTempAct[[#This Row],[ChillHigh]:[ChillLow]])","v":75},{"$f":"IF(ChillTempAct[[#This Row],[ChillAve]]<65,65-ChillTempAct[[#This Row],[ChillAve]],0)","v":0},{"$f":"INDEX(TempAdj[AdjustPct],MATCH(MONTH(ChillTempAct[[#This Row],[Date]]),TempAdj[Month],0))","v":0.30930000000000002},{"$f":"ChillTempAct[[#This Row],[ChillHDD]]*(1+ChillTempAct[[#This Row],[ChillAdj]])","v":0},{"$f":"SUMPRODUCT((RankNHDD[Month]=ChillTempAct[[#This Row],[Month]])*(RankNHDD[Rank]=ChillTempAct[[#This Row],[Rank]])*RankNHDD[KIRKNHDD])","v":0},{"$f":"YEAR(ChillTempAct[[#This Row],[Date]])","v":2021},{"$f":"MONTH(ChillTempAct[[#This Row],[Date]])","v":9},{"$f":"IF(ChillTempAct[[#This Row],[Month]]=J423,K423+1,1)","v":27}]
[44451,88,63,{"$f":"AVERAGE(ChillTempAct[[#This Row],[ChillHigh]:[ChillLow]])","v":75.5},{"$f":"IF(ChillTempAct[[#This Row],[ChillAve]]<65,65-ChillTempAct[[#This Row],[ChillAve]],0)","v":0},{"$f":"INDEX(TempAdj[AdjustPct],MATCH(MONTH(ChillTempAct[[#This Row],[Date]]),TempAdj[Month],0))","v":0.30930000000000002},{"$f":"ChillTempAct[[#This Row],[ChillHDD]]*(1+ChillTempAct[[#This Row],[ChillAdj]])","v":0},{"$f":"SUMPRODUCT((RankNHDD[Month]=ChillTempAct[[#This Row],[Month]])*(RankNHDD[Rank]=ChillTempAct[[#This Row],[Rank]])*RankNHDD[KIRKNHDD])","v":0},{"$f":"YEAR(ChillTempAct[[#This Row],[Date]])","v":2021},{"$f":"MONTH(ChillTempAct[[#This Row],[Date]])","v":9},{"$f":"IF(ChillTempAct[[#This Row],[Month]]=J424,K424+1,1)","v":28}]
[44452,88,63,{"$f":"AVERAGE(ChillTempAct[[#This Row],[ChillHigh]:[ChillLow]])","v":75.5},{"$f":"IF(ChillTempAct[[#This Row],[ChillAve]]<65,65-ChillTempAct[[#This Row],[ChillAve]],0)","v":0},{"$f":"INDEX(TempAdj[AdjustPct],MATCH(MONTH(ChillTempAct[[#This Row],[Date]]),TempAdj[Month],0))","v":0.30930000000000002},{"$f":"ChillTempAct[[#This Row],[ChillHDD]]*(1+ChillTempAct[[#This Row],[ChillAdj]])","v":0},{"$f":"SUMPRODUCT((RankNHDD[Month]=ChillTempAct[[#This Row],[Month]])*(RankNHDD[Rank]=ChillTempAct[[#This Row],[Rank]])*RankNHDD[KIRKNHDD])","v":0},{"$f":"YEAR(ChillTempAct[[#This Row],[Date]])","v":2021},{"$f":"MONTH(ChillTempAct[[#This Row],[Date]])","v":9},{"$f":"IF(ChillTempAct[[#This Row],[Month]]=J425,K425+1,1)","v":29}]
[44459,88,63,{"$f":"AVERAGE(ChillTempAct[[#This Row],[ChillHigh]:[ChillLow]])","v":75.5},{"$f":"IF(ChillTempAct[[#This Row],[ChillAve]]<65,65-ChillTempAct[[#This Row],[ChillAve]],0)","v":0},{"$f":"INDEX(TempAdj[AdjustPct],MATCH(MONTH(ChillTempAct[[#This Row],[Date]]),TempAdj[Month],0))","v":0.30930000000000002},{"$f":"ChillTempAct[[#This Row],[ChillHDD]]*(1+ChillTempAct[[#This Row],[ChillAdj]])","v":0},{"$f":"SUMPRODUCT((RankNHDD[Month]=ChillTempAct[[#This Row],[Month]])*(RankNHDD[Rank]=ChillTempAct[[#This Row],[Rank]])*RankNHDD[KIRKNHDD])","v":0},{"$f":"YEAR(ChillTempAct[[#This Row],[Date]])","v":2021},{"$f":"MONTH(ChillTempAct[[#This Row],[Date]])","v":9},{"$f":"IF(ChillTempAct[[#This Row],[Month]]=J426,K426+1,1)","v":30}]
[44495,51,38,{"$f":"AVERAGE(ChillTempAct[[#This Row],[ChillHigh]:[ChillLow]])","v":44.5},{"$f":"IF(ChillTempAct[[#This Row],[ChillAve]]<65,65-ChillTempAct[[#This Row],[ChillAve]],0)","v":20.5},{"$f":"INDEX(TempAdj[AdjustPct],MATCH(MONTH(ChillTempAct[[#This Row],[Date]]),TempAdj[Month],0))","v":0.1114},{"$f":"ChillTempAct[[#This Row],[ChillHDD]]*(1+ChillTempAct[[#This Row],[ChillAdj]])","v":22.7837},{"$f":"SUMPRODUCT((RankNHDD[Month]=ChillTempAct[[#This Row],[Month]])*(RankNHDD[Rank]=ChillTempAct[[#This Row],[Rank]])*RankNHDD[KIRKNHDD])","v":30.566308243727597},{"$f":"YEAR(ChillTempAct[[#This Row],[Date]])","v":2021},{"$f":"MONTH(ChillTempAct[[#This Row],[Date]])","v":10},{"$f":"IF(ChillTempAct[[#This Row],[Month]]=J427,K427+1,1)","v":1}]
[44499,51,38,{"$f":"AVERAGE(ChillTempAct[[#This Row],[ChillHigh]:[ChillLow]])","v":44.5},{"$f":"IF(ChillTempAct[[#This Row],[ChillAve]]<65,65-ChillTempAct[[#This Row],[ChillAve]],0)","v":20.5},{"$f":"INDEX(TempAdj[AdjustPct],MATCH(MONTH(ChillTempAct[[#This Row],[Date]]),TempAdj[Month],0))","v":0.1114},{"$f":"ChillTempAct[[#This Row],[ChillHDD]]*(1+ChillTempAct[[#This Row],[ChillAdj]])","v":22.7837},{"$f":"SUMPRODUCT((RankNHDD[Month]=ChillTempAct[[#This Row],[Month]])*(RankNHDD[Rank]=ChillTempAct[[#This Row],[Rank]])*RankNHDD[KIRKNHDD])","v":26.103745519713264},{"$f":"YEAR(ChillTempAct[[#This Row],[Date]])","v":2021},{"$f":"MONTH(ChillTempAct[[#This Row],[Date]])","v":10},{"$f":"IF(ChillTempAct[[#This Row],[Month]]=J428,K428+1,1)","v":2}]
[44491,55,36,{"$f":"AVERAGE(ChillTempAct[[#This Row],[ChillHigh]:[ChillLow]])","v":45.5},{"$f":"IF(ChillTempAct[[#This Row],[ChillAve]]<65,65-ChillTempAct[[#This Row],[ChillAve]],0)","v":19.5},{"$f":"INDEX(TempAdj[AdjustPct],MATCH(MONTH(ChillTempAct[[#This Row],[Date]]),TempAdj[Month],0))","v":0.1114},{"$f":"ChillTempAct[[#This Row],[ChillHDD]]*(1+ChillTempAct[[#This Row],[ChillAdj]])","v":21.6723},{"$f":"SUMPRODUCT((RankNHDD[Month]=ChillTempAct[[#This Row],[Month]])*(RankNHDD[Rank]=ChillTempAct[[#This Row],[Rank]])*RankNHDD[KIRKNHDD])","v":24.451899641577064},{"$f":"YEAR(ChillTempAct[[#This Row],[Date]])","v":2021},{"$f":"MONTH(ChillTempAct[[#This Row],[Date]])","v":10},{"$f":"IF(ChillTempAct[[#This Row],[Month]]=J429,K429+1,1)","v":3}]
[44498,48,44,{"$f":"AVERAGE(ChillTempAct[[#This Row],[ChillHigh]:[ChillLow]])","v":46},{"$f":"IF(ChillTempAct[[#This Row],[ChillAve]]<65,65-ChillTempAct[[#This Row],[ChillAve]],0)","v":19},{"$f":"INDEX(TempAdj[AdjustPct],MATCH(MONTH(ChillTempAct[[#This Row],[Date]]),TempAdj[Month],0))","v":0.1114},{"$f":"ChillTempAct[[#This Row],[ChillHDD]]*(1+ChillTempAct[[#This Row],[ChillAdj]])","v":21.116599999999998},{"$f":"SUMPRODUCT((RankNHDD[Month]=ChillTempAct[[#This Row],[Month]])*(RankNHDD[Rank]=ChillTempAct[[#This Row],[Rank]])*RankNHDD[KIRKNHDD])","v":23.15010752688173},{"$f":"YEAR(ChillTempAct[[#This Row],[Date]])","v":2021},{"$f":"MONTH(ChillTempAct[[#This Row],[Date]])","v":10},{"$f":"IF(ChillTempAct[[#This Row],[Month]]=J430,K430+1,1)","v":4}]
[44492,59,35,{"$f":"AVERAGE(ChillTempAct[[#This Row],[ChillHigh]:[ChillLow]])","v":47},{"$f":"IF(ChillTempAct[[#This Row],[ChillAve]]<65,65-ChillTempAct[[#This Row],[ChillAve]],0)","v":18},{"$f":"INDEX(TempAdj[AdjustPct],MATCH(MONTH(ChillTempAct[[#This Row],[Date]]),TempAdj[Month],0))","v":0.1114},{"$f":"ChillTempAct[[#This Row],[ChillHDD]]*(1+ChillTempAct[[#This Row],[ChillAdj]])","v":20.005199999999999},{"$f":"SUMPRODUCT((RankNHDD[Month]=ChillTempAct[[#This Row],[Month]])*(RankNHDD[Rank]=ChillTempAct[[#This Row],[Rank]])*RankNHDD[KIRKNHDD])","v":21.906021505376348},{"$f":"YEAR(ChillTempAct[[#This Row],[Date]])","v":2021},{"$f":"MONTH(ChillTempAct[[#This Row],[Date]])","v":10},{"$f":"IF(ChillTempAct[[#This Row],[Month]]=J431,K431+1,1)","v":5}]
[44481,58,38,{"$f":"AVERAGE(ChillTempAct[[#This Row],[ChillHigh]:[ChillLow]])","v":48},{"$f":"IF(ChillTempAct[[#This Row],[ChillAve]]<65,65-ChillTempAct[[#This Row],[ChillAve]],0)","v":17},{"$f":"INDEX(TempAdj[AdjustPct],MATCH(MONTH(ChillTempAct[[#This Row],[Date]]),TempAdj[Month],0))","v":0.1114},{"$f":"ChillTempAct[[#This Row],[ChillHDD]]*(1+ChillTempAct[[#This Row],[ChillAdj]])","v":18.893799999999999},{"$f":"SUMPRODUCT((RankNHDD[Month]=ChillTempAct[[#This Row],[Month]])*(RankNHDD[Rank]=ChillTempAct[[#This Row],[Rank]])*RankNHDD[KIRKNHDD])","v":20.623530465949823},{"$f":"YEAR(ChillTempAct[[#This Row],[Date]])","v":2021},{"$f":"MONTH(ChillTempAct[[#This Row],[Date]])","v":10},{"$f":"IF(ChillTempAct[[#This Row],[Month]]=J432,K432+1,1)","v":6}]
[44496,59,38,{"$f":"AVERAGE(ChillTempAct[[#This Row],[ChillHigh]:[ChillLow]])","v":48.5},{"$f":"IF(ChillTempAct[[#This Row],[ChillAve]]<65,65-ChillTempAct[[#This Row],[ChillAve]],0)","v":16.5},{"$f":"INDEX(TempAdj[AdjustPct],MATCH(MONTH(ChillTempAct[[#This Row],[Date]]),TempAdj[Month],0))","v":0.1114},{"$f":"ChillTempAct[[#This Row],[ChillHDD]]*(1+ChillTempAct[[#This Row],[ChillAdj]])","v":18.338100000000001},{"$f":"SUMPRODUCT((RankNHDD[Month]=ChillTempAct[[#This Row],[Month]])*(RankNHDD[Rank]=ChillTempAct[[#This Row],[Rank]])*RankNHDD[KIRKNHDD])","v":19.630035842293911},{"$f":"YEAR(ChillTempAct[[#This Row],[Date]])","v":2021},{"$f":"MONTH(ChillTempAct[[#This Row],[Date]])","v":10},{"$f":"IF(ChillTempAct[[#This Row],[Month]]=J433,K433+1,1)","v":7}]
[44485,62,39,{"$f":"AVERAGE(ChillTempAct[[#This Row],[ChillHigh]:[ChillLow]])","v":50.5},{"$f":"IF(ChillTempAct[[#This Row],[ChillAve]]<65,65-ChillTempAct[[#This Row],[ChillAve]],0)","v":14.5},{"$f":"INDEX(TempAdj[AdjustPct],MATCH(MONTH(ChillTempAct[[#This Row],[Date]]),TempAdj[Month],0))","v":0.1114},{"$f":"ChillTempAct[[#This Row],[ChillHDD]]*(1+ChillTempAct[[#This Row],[ChillAdj]])","v":16.115299999999998},{"$f":"SUMPRODUCT((RankNHDD[Month]=ChillTempAct[[#This Row],[Month]])*(RankNHDD[Rank]=ChillTempAct[[#This Row],[Rank]])*RankNHDD[KIRKNHDD])","v":18.662240143369175},{"$f":"YEAR(ChillTempAct[[#This Row],[Date]])","v":2021},{"$f":"MONTH(ChillTempAct[[#This Row],[Date]])","v":10},{"$f":"IF(ChillTempAct[[#This Row],[Month]]=J434,K434+1,1)","v":8}]
[44497,55,46,{"$f":"AVERAGE(ChillTempAct[[#This Row],[ChillHigh]:[ChillLow]])","v":50.5},{"$f":"IF(ChillTempAct[[#This Row],[ChillAve]]<65,65-ChillTempAct[[#This Row],[ChillAve]],0)","v":14.5},{"$f":"INDEX(TempAdj[AdjustPct],MATCH(MONTH(ChillTempAct[[#This Row],[Date]]),TempAdj[Month],0))","v":0.1114},{"$f":"ChillTempAct[[#This Row],[ChillHDD]]*(1+ChillTempAct[[#This Row],[ChillAdj]])","v":16.115299999999998},{"$f":"SUMPRODUCT((RankNHDD[Month]=ChillTempAct[[#This Row],[Month]])*(RankNHDD[Rank]=ChillTempAct[[#This Row],[Rank]])*RankNHDD[KIRKNHDD])","v":17.582616487455198},{"$f":"YEAR(ChillTempAct[[#This Row],[Date]])","v":2021},{"$f":"MONTH(ChillTempAct[[#This Row],[Date]])","v":10},{"$f":"IF(ChillTempAct[[#This Row],[Month]]=J435,K435+1,1)","v":9}]
[44500,61,40,{"$f":"AVERAGE(ChillTempAct[[#This Row],[ChillHigh]:[ChillLow]])","v":50.5},{"$f":"IF(ChillTempAct[[#This Row],[ChillAve]]<65,65-ChillTempAct[[#This Row],[ChillAve]],0)","v":14.5},{"$f":"INDEX(TempAdj[AdjustPct],MATCH(MONTH(ChillTempAct[[#This Row],[Date]]),TempAdj[Month],0))","v":0.1114},{"$f":"ChillTempAct[[#This Row],[ChillHDD]]*(1+ChillTempAct[[#This Row],[ChillAdj]])","v":16.115299999999998},{"$f":"SUMPRODUCT((RankNHDD[Month]=ChillTempAct[[#This Row],[Month]])*(RankNHDD[Rank]=ChillTempAct[[#This Row],[Rank]])*RankNHDD[KIRKNHDD])","v":16.682347670250898},{"$f":"YEAR(ChillTempAct[[#This Row],[Date]])","v":2021},{"$f":"MONTH(ChillTempAct[[#This Row],[Date]])","v":10},{"$f":"IF(ChillTempAct[[#This Row],[Month]]=J436,K436+1,1)","v":10}]
[44486,65,39,{"$f":"AVERAGE(ChillTempAct[[#This Row],[ChillHigh]:[ChillLow]])","v":52},{"$f":"IF(ChillTempAct[[#This Row],[ChillAve]]<65,65-ChillTempAct[[#This Row],[ChillAve]],0)","v":13},{"$f":"INDEX(TempAdj[AdjustPct],MATCH(MONTH(ChillTempAct[[#This Row],[Date]]),TempAdj[Month],0))","v":0.1114},{"$f":"ChillTempAct[[#This Row],[ChillHDD]]*(1+ChillTempAct[[#This Row],[ChillAdj]])","v":14.4482},{"$f":"SUMPRODUCT((RankNHDD[Month]=ChillTempAct[[#This Row],[Month]])*(RankNHDD[Rank]=ChillTempAct[[#This Row],[Rank]])*RankNHDD[KIRKNHDD])","v":15.821451612903227},{"$f":"YEAR(ChillTempAct[[#This Row],[Date]])","v":2021},{"$f":"MONTH(ChillTempAct[[#This Row],[Date]])","v":10},{"$f":"IF(ChillTempAct[[#This Row],[Month]]=J437,K437+1,1)","v":11}]
[44493,63,42,{"$f":"AVERAGE(ChillTempAct[[#This Row],[ChillHigh]:[ChillLow]])","v":52.5},{"$f":"IF(ChillTempAct[[#This Row],[ChillAve]]<65,65-ChillTempAct[[#This Row],[ChillAve]],0)","v":12.5},{"$f":"INDEX(TempAdj[AdjustPct],MATCH(MONTH(ChillTempAct[[#This Row],[Date]]),TempAdj[Month],0))","v":0.1114},{"$f":"ChillTempAct[[#This Row],[ChillHDD]]*(1+ChillTempAct[[#This Row],[ChillAdj]])","v":13.8925},{"$f":"SUMPRODUCT((RankNHDD[Month]=ChillTempAct[[#This Row],[Month]])*(RankNHDD[Rank]=ChillTempAct[[#This Row],[Rank]])*RankNHDD[KIRKNHDD])","v":14.861003584229392},{"$f":"YEAR(ChillTempAct[[#This Row],[Date]])","v":2021},{"$f":"MONTH(ChillTempAct[[#This Row],[Date]])","v":10},{"$f":"IF(ChillTempAct[[#This Row],[Month]]=J438,K438+1,1)","v":12}]
[44487,73,39,{"$f":"AVERAGE(ChillTempAct[[#This Row],[ChillHigh]:[ChillLow]])","v":56},{"$f":"IF(ChillTempAct[[#This Row],[ChillAve]]<65,65-ChillTempAct[[#This Row],[ChillAve]],0)","v":9},{"$f":"INDEX(TempAdj[AdjustPct],MATCH(MONTH(ChillTempAct[[#This Row],[Date]]),TempAdj[Month],0))","v":0.1114},{"$f":"ChillTempAct[[#This Row],[ChillHDD]]*(1+ChillTempAct[[#This Row],[ChillAdj]])","v":10.002599999999999},{"$f":"SUMPRODUCT((RankNHDD[Month]=ChillTempAct[[#This Row],[Month]])*(RankNHDD[Rank]=ChillTempAct[[#This Row],[Rank]])*RankNHDD[KIRKNHDD])","v":13.884193548387097},{"$f":"YEAR(ChillTempAct[[#This Row],[Date]])","v":2021},{"$f":"MONTH(ChillTempAct[[#This Row],[Date]])","v":10},{"$f":"IF(ChillTempAct[[#This Row],[Month]]=J439,K439+1,1)","v":13}]
[44490,69,45,{"$f":"AVERAGE(ChillTempAct[[#This Row],[ChillHigh]:[ChillLow]])","v":57},{"$f":"IF(ChillTempAct[[#This Row],[ChillAve]]<65,65-ChillTempAct[[#This Row],[ChillAve]],0)","v":8},{"$f":"INDEX(TempAdj[AdjustPct],MATCH(MONTH(ChillTempAct[[#This Row],[Date]]),TempAdj[Month],0))","v":0.1114},{"$f":"ChillTempAct[[#This Row],[ChillHDD]]*(1+ChillTempAct[[#This Row],[ChillAdj]])","v":8.8911999999999995},{"$f":"SUMPRODUCT((RankNHDD[Month]=ChillTempAct[[#This Row],[Month]])*(RankNHDD[Rank]=ChillTempAct[[#This Row],[Rank]])*RankNHDD[KIRKNHDD])","v":12.987240143369178},{"$f":"YEAR(ChillTempAct[[#This Row],[Date]])","v":2021},{"$f":"MONTH(ChillTempAct[[#This Row],[Date]])","v":10},{"$f":"IF(ChillTempAct[[#This Row],[Month]]=J440,K440+1,1)","v":14}]
[44488,76,42,{"$f":"AVERAGE(ChillTempAct[[#This Row],[ChillHigh]:[ChillLow]])","v":59},{"$f":"IF(ChillTempAct[[#This Row],[ChillAve]]<65,65-ChillTempAct[[#This Row],[ChillAve]],0)","v":6},{"$f":"INDEX(TempAdj[AdjustPct],MATCH(MONTH(ChillTempAct[[#This Row],[Date]]),TempAdj[Month],0))","v":0.1114},{"$f":"ChillTempAct[[#This Row],[ChillHDD]]*(1+ChillTempAct[[#This Row],[ChillAdj]])","v":6.6684000000000001},{"$f":"SUMPRODUCT((RankNHDD[Month]=ChillTempAct[[#This Row],[Month]])*(RankNHDD[Rank]=ChillTempAct[[#This Row],[Rank]])*RankNHDD[KIRKNHDD])","v":12.091738351254483},{"$f":"YEAR(ChillTempAct[[#This Row],[Date]])","v":2021},{"$f":"MONTH(ChillTempAct[[#This Row],[Date]])","v":10},{"$f":"IF(ChillTempAct[[#This Row],[Month]]=J441,K441+1,1)","v":15}]
[44489,76,42,{"$f":"AVERAGE(ChillTempAct[[#This Row],[ChillHigh]:[ChillLow]])","v":59},{"$f":"IF(ChillTempAct[[#This Row],[ChillAve]]<65,65-ChillTempAct[[#This Row],[ChillAve]],0)","v":6},{"$f":"INDEX(TempAdj[AdjustPct],MATCH(MONTH(ChillTempAct[[#This Row],[Date]]),TempAdj[Month],0))","v":0.1114},{"$f":"ChillTempAct[[#This Row],[ChillHDD]]*(1+ChillTempAct[[#This Row],[ChillAdj]])","v":6.6684000000000001},{"$f":"SUMPRODUCT((RankNHDD[Month]=ChillTempAct[[#This Row],[Month]])*(RankNHDD[Rank]=ChillTempAct[[#This Row],[Rank]])*RankNHDD[KIRKNHDD])","v":11.306774193548389},{"$f":"YEAR(ChillTempAct[[#This Row],[Date]])","v":2021},{"$f":"MONTH(ChillTempAct[[#This Row],[Date]])","v":10},{"$f":"IF(ChillTempAct[[#This Row],[Month]]=J442,K442+1,1)","v":16}]
[44494,73,46,{"$f":"AVERAGE(ChillTempAct[[#This Row],[ChillHigh]:[ChillLow]])","v":59.5},{"$f":"IF(ChillTempAct[[#This Row],[ChillAve]]<65,65-ChillTempAct[[#This Row],[ChillAve]],0)","v":5.5},{"$f":"INDEX(TempAdj[AdjustPct],MATCH(MONTH(ChillTempAct[[#This Row],[Date]]),TempAdj[Month],0))","v":0.1114},{"$f":"ChillTempAct[[#This Row],[ChillHDD]]*(1+ChillTempAct[[#This Row],[ChillAdj]])","v":6.1126999999999994},{"$f":"SUMPRODUCT((RankNHDD[Month]=ChillTempAct[[#This Row],[Month]])*(RankNHDD[Rank]=ChillTempAct[[#This Row],[Rank]])*RankNHDD[KIRKNHDD])","v":10.560179211469537},{"$f":"YEAR(ChillTempAct[[#This Row],[Date]])","v":2021},{"$f":"MONTH(ChillTempAct[[#This Row],[Date]])","v":10},{"$f":"IF(ChillTempAct[[#This Row],[Month]]=J443,K443+1,1)","v":17}]
[44475,70,55,{"$f":"AVERAGE(ChillTempAct[[#This Row],[ChillHigh]:[ChillLow]])","v":62.5},{"$f":"IF(ChillTempAct[[#This Row],[ChillAve]]<65,65-ChillTempAct[[#This Row],[ChillAve]],0)","v":2.5},{"$f":"INDEX(TempAdj[AdjustPct],MATCH(MONTH(ChillTempAct[[#This Row],[Date]]),TempAdj[Month],0))","v":0.1114},{"$f":"ChillTempAct[[#This Row],[ChillHDD]]*(1+ChillTempAct[[#This Row],[ChillAdj]])","v":2.7784999999999997},{"$f":"SUMPRODUCT((RankNHDD[Month]=ChillTempAct[[#This Row],[Month]])*(RankNHDD[Rank]=ChillTempAct[[#This Row],[Rank]])*RankNHDD[KIRKNHDD])","v":9.6870430107526921},{"$f":"YEAR(ChillTempAct[[#This Row],[Date]])","v":2021},{"$f":"MONTH(ChillTempAct[[#This Row],[Date]])","v":10},{"$f":"IF(ChillTempAct[[#This Row],[Month]]=J444,K444+1,1)","v":18}]
[44484,76,49,{"$f":"AVERAGE(ChillTempAct[[#This Row],[ChillHigh]:[ChillLow]])","v":62.5},{"$f":"IF(ChillTempAct[[#This Row],[ChillAve]]<65,65-ChillTempAct[[#This Row],[ChillAve]],0)","v":2.5},{"$f":"INDEX(TempAdj[AdjustPct],MATCH(MONTH(ChillTempAct[[#This Row],[Date]]),TempAdj[Month],0))","v":0.1114},{"$f":"ChillTempAct[[#This Row],[ChillHDD]]*(1+ChillTempAct[[#This Row],[ChillAdj]])","v":2.7784999999999997},{"$f":"SUMPRODUCT((RankNHDD[Month]=ChillTempAct[[#This Row],[Month]])*(RankNHDD[Rank]=ChillTempAct[[#This Row],[Rank]])*RankNHDD[KIRKNHDD])","v":8.9029928315412192},{"$f":"YEAR(ChillTempAct[[#This Row],[Date]])","v":2021},{"$f":"MONTH(ChillTempAct[[#This Row],[Date]])","v":10},{"$f":"IF(ChillTempAct[[#This Row],[Month]]=J445,K445+1,1)","v":19}]
[44473,77,49,{"$f":"AVERAGE(ChillTempAct[[#This Row],[ChillHigh]:[ChillLow]])","v":63},{"$f":"IF(ChillTempAct[[#This Row],[ChillAve]]<65,65-ChillTempAct[[#This Row],[ChillAve]],0)","v":2},{"$f":"INDEX(TempAdj[AdjustPct],MATCH(MONTH(ChillTempAct[[#This Row],[Date]]),TempAdj[Month],0))","v":0.1114},{"$f":"ChillTempAct[[#This Row],[ChillHDD]]*(1+ChillTempAct[[#This Row],[ChillAdj]])","v":2.2227999999999999},{"$f":"SUMPRODUCT((RankNHDD[Month]=ChillTempAct[[#This Row],[Month]])*(RankNHDD[Rank]=ChillTempAct[[#This Row],[Rank]])*RankNHDD[KIRKNHDD])","v":8.1101612903225835},{"$f":"YEAR(ChillTempAct[[#This Row],[Date]])","v":2021},{"$f":"MONTH(ChillTempAct[[#This Row],[Date]])","v":10},{"$f":"IF(ChillTempAct[[#This Row],[Month]]=J446,K446+1,1)","v":20}]
[44474,78,48,{"$f":"AVERAGE(ChillTempAct[[#This Row],[ChillHigh]:[ChillLow]])","v":63},{"$f":"IF(ChillTempAct[[#This Row],[ChillAve]]<65,65-ChillTempAct[[#This Row],[ChillAve]],0)","v":2},{"$f":"INDEX(TempAdj[AdjustPct],MATCH(MONTH(ChillTempAct[[#This Row],[Date]]),TempAdj[Month],0))","v":0.1114},{"$f":"ChillTempAct[[#This Row],[ChillHDD]]*(1+ChillTempAct[[#This Row],[ChillAdj]])","v":2.2227999999999999},{"$f":"SUMPRODUCT((RankNHDD[Month]=ChillTempAct[[#This Row],[Month]])*(RankNHDD[Rank]=ChillTempAct[[#This Row],[Rank]])*RankNHDD[KIRKNHDD])","v":7.2248387096774218},{"$f":"YEAR(ChillTempAct[[#This Row],[Date]])","v":2021},{"$f":"MONTH(ChillTempAct[[#This Row],[Date]])","v":10},{"$f":"IF(ChillTempAct[[#This Row],[Month]]=J447,K447+1,1)","v":21}]
[44482,78,48,{"$f":"AVERAGE(ChillTempAct[[#This Row],[ChillHigh]:[ChillLow]])","v":63},{"$f":"IF(ChillTempAct[[#This Row],[ChillAve]]<65,65-ChillTempAct[[#This Row],[ChillAve]],0)","v":2},{"$f":"INDEX(TempAdj[AdjustPct],MATCH(MONTH(ChillTempAct[[#This Row],[Date]]),TempAdj[Month],0))","v":0.1114},{"$f":"ChillTempAct[[#This Row],[ChillHDD]]*(1+ChillTempAct[[#This Row],[ChillAdj]])","v":2.2227999999999999},{"$f":"SUMPRODUCT((RankNHDD[Month]=ChillTempAct[[#This Row],[Month]])*(RankNHDD[Rank]=ChillTempAct[[#This Row],[Rank]])*RankNHDD[KIRKNHDD])","v":6.0353942652329762},{"$f":"YEAR(ChillTempAct[[#This Row],[Date]])","v":2021},{"$f":"MONTH(ChillTempAct[[#This Row],[Date]])","v":10},{"$f":"IF(ChillTempAct[[#This Row],[Month]]=J448,K448+1,1)","v":22}]
[44483,76,54,{"$f":"AVERAGE(ChillTempAct[[#This Row],[ChillHigh]:[ChillLow]])","v":65},{"$f":"IF(ChillTempAct[[#This Row],[ChillAve]]<65,65-ChillTempAct[[#This Row],[ChillAve]],0)","v":0},{"$f":"INDEX(TempAdj[AdjustPct],MATCH(MONTH(ChillTempAct[[#This Row],[Date]]),TempAdj[Month],0))","v":0.1114},{"$f":"ChillTempAct[[#This Row],[ChillHDD]]*(1+ChillTempAct[[#This Row],[ChillAdj]])","v":0},{"$f":"SUMPRODUCT((RankNHDD[Month]=ChillTempAct[[#This Row],[Month]])*(RankNHDD[Rank]=ChillTempAct[[#This Row],[Rank]])*RankNHDD[KIRKNHDD])","v":5.0546057347670255},{"$f":"YEAR(ChillTempAct[[#This Row],[Date]])","v":2021},{"$f":"MONTH(ChillTempAct[[#This Row],[Date]])","v":10},{"$f":"IF(ChillTempAct[[#This Row],[Month]]=J449,K449+1,1)","v":23}]
[44477,78,56,{"$f":"AVERAGE(ChillTempAct[[#This Row],[ChillHigh]:[ChillLow]])","v":67},{"$f":"IF(ChillTempAct[[#This Row],[ChillAve]]<65,65-ChillTempAct[[#This Row],[ChillAve]],0)","v":0},{"$f":"INDEX(TempAdj[AdjustPct],MATCH(MONTH(ChillTempAct[[#This Row],[Date]]),TempAdj[Month],0))","v":0.1114},{"$f":"ChillTempAct[[#This Row],[ChillHDD]]*(1+ChillTempAct[[#This Row],[ChillAdj]])","v":0},{"$f":"SUMPRODUCT((RankNHDD[Month]=ChillTempAct[[#This Row],[Month]])*(RankNHDD[Rank]=ChillTempAct[[#This Row],[Rank]])*RankNHDD[KIRKNHDD])","v":3.9418817204301084},{"$f":"YEAR(ChillTempAct[[#This Row],[Date]])","v":2021},{"$f":"MONTH(ChillTempAct[[#This Row],[Date]])","v":10},{"$f":"IF(ChillTempAct[[#This Row],[Month]]=J450,K450+1,1)","v":24}]
[44476,73,62,{"$f":"AVERAGE(ChillTempAct[[#This Row],[ChillHigh]:[ChillLow]])","v":67.5},{"$f":"IF(ChillTempAct[[#This Row],[ChillAve]]<65,65-ChillTempAct[[#This Row],[ChillAve]],0)","v":0},{"$f":"INDEX(TempAdj[AdjustPct],MATCH(MONTH(ChillTempAct[[#This Row],[Date]]),TempAdj[Month],0))","v":0.1114},{"$f":"ChillTempAct[[#This Row],[ChillHDD]]*(1+ChillTempAct[[#This Row],[ChillAdj]])","v":0},{"$f":"SUMPRODUCT((RankNHDD[Month]=ChillTempAct[[#This Row],[Month]])*(RankNHDD[Rank]=ChillTempAct[[#This Row],[Rank]])*RankNHDD[KIRKNHDD])","v":2.9795519713261664},{"$f":"YEAR(ChillTempAct[[#This Row],[Date]])","v":2021},{"$f":"MONTH(ChillTempAct[[#This Row],[Date]])","v":10},{"$f":"IF(ChillTempAct[[#This Row],[Month]]=J451,K451+1,1)","v":25}]
[44472,77,61,{"$f":"AVERAGE(ChillTempAct[[#This Row],[ChillHigh]:[ChillLow]])","v":69},{"$f":"IF(ChillTempAct[[#This Row],[ChillAve]]<65,65-ChillTempAct[[#This Row],[ChillAve]],0)","v":0},{"$f":"INDEX(TempAdj[AdjustPct],MATCH(MONTH(ChillTempAct[[#This Row],[Date]]),TempAdj[Month],0))","v":0.1114},{"$f":"ChillTempAct[[#This Row],[ChillHDD]]*(1+ChillTempAct[[#This Row],[ChillAdj]])","v":0},{"$f":"SUMPRODUCT((RankNHDD[Month]=ChillTempAct[[#This Row],[Month]])*(RankNHDD[Rank]=ChillTempAct[[#This Row],[Rank]])*RankNHDD[KIRKNHDD])","v":1.7708960573476709},{"$f":"YEAR(ChillTempAct[[#This Row],[Date]])","v":2021},{"$f":"MONTH(ChillTempAct[[#This Row],[Date]])","v":10},{"$f":"IF(ChillTempAct[[#This Row],[Month]]=J452,K452+1,1)","v":26}]
[44471,77,62,{"$f":"AVERAGE(ChillTempAct[[#This Row],[ChillHigh]:[ChillLow]])","v":69.5},{"$f":"IF(ChillTempAct[[#This Row],[ChillAve]]<65,65-ChillTempAct[[#This Row],[ChillAve]],0)","v":0},{"$f":"INDEX(TempAdj[AdjustPct],MATCH(MONTH(ChillTempAct[[#This Row],[Date]]),TempAdj[Month],0))","v":0.1114},{"$f":"ChillTempAct[[#This Row],[ChillHDD]]*(1+ChillTempAct[[#This Row],[ChillAdj]])","v":0},{"$f":"SUMPRODUCT((RankNHDD[Month]=ChillTempAct[[#This Row],[Month]])*(RankNHDD[Rank]=ChillTempAct[[#This Row],[Rank]])*RankNHDD[KIRKNHDD])","v":0.6302688172043015},{"$f":"YEAR(ChillTempAct[[#This Row],[Date]])","v":2021},{"$f":"MONTH(ChillTempAct[[#This Row],[Date]])","v":10},{"$f":"IF(ChillTempAct[[#This Row],[Month]]=J453,K453+1,1)","v":27}]
[44480,85,57,{"$f":"AVERAGE(ChillTempAct[[#This Row],[ChillHigh]:[ChillLow]])","v":71},{"$f":"IF(ChillTempAct[[#This Row],[ChillAve]]<65,65-ChillTempAct[[#This Row],[ChillAve]],0)","v":0},{"$f":"INDEX(TempAdj[AdjustPct],MATCH(MONTH(ChillTempAct[[#This Row],[Date]]),TempAdj[Month],0))","v":0.1114},{"$f":"ChillTempAct[[#This Row],[ChillHDD]]*(1+ChillTempAct[[#This Row],[ChillAdj]])","v":0},{"$f":"SUMPRODUCT((RankNHDD[Month]=ChillTempAct[[#This Row],[Month]])*(RankNHDD[Rank]=ChillTempAct[[#This Row],[Rank]])*RankNHDD[KIRKNHDD])","v":0},{"$f":"YEAR(ChillTempAct[[#This Row],[Date]])","v":2021},{"$f":"MONTH(ChillTempAct[[#This Row],[Date]])","v":10},{"$f":"IF(ChillTempAct[[#This Row],[Month]]=J454,K454+1,1)","v":28}]
[44478,87,56,{"$f":"AVERAGE(ChillTempAct[[#This Row],[ChillHigh]:[ChillLow]])","v":71.5},{"$f":"IF(ChillTempAct[[#This Row],[ChillAve]]<65,65-ChillTempAct[[#This Row],[ChillAve]],0)","v":0},{"$f":"INDEX(TempAdj[AdjustPct],MATCH(MONTH(ChillTempAct[[#This Row],[Date]]),TempAdj[Month],0))","v":0.1114},{"$f":"ChillTempAct[[#This Row],[ChillHDD]]*(1+ChillTempAct[[#This Row],[ChillAdj]])","v":0},{"$f":"SUMPRODUCT((RankNHDD[Month]=ChillTempAct[[#This Row],[Month]])*(RankNHDD[Rank]=ChillTempAct[[#This Row],[Rank]])*RankNHDD[KIRKNHDD])","v":0},{"$f":"YEAR(ChillTempAct[[#This Row],[Date]])","v":2021},{"$f":"MONTH(ChillTempAct[[#This Row],[Date]])","v":10},{"$f":"IF(ChillTempAct[[#This Row],[Month]]=J455,K455+1,1)","v":29}]
[44479,81,62,{"$f":"AVERAGE(ChillTempAct[[#This Row],[ChillHigh]:[ChillLow]])","v":71.5},{"$f":"IF(ChillTempAct[[#This Row],[ChillAve]]<65,65-ChillTempAct[[#This Row],[ChillAve]],0)","v":0},{"$f":"INDEX(TempAdj[AdjustPct],MATCH(MONTH(ChillTempAct[[#This Row],[Date]]),TempAdj[Month],0))","v":0.1114},{"$f":"ChillTempAct[[#This Row],[ChillHDD]]*(1+ChillTempAct[[#This Row],[ChillAdj]])","v":0},{"$f":"SUMPRODUCT((RankNHDD[Month]=ChillTempAct[[#This Row],[Month]])*(RankNHDD[Rank]=ChillTempAct[[#This Row],[Rank]])*RankNHDD[KIRKNHDD])","v":0},{"$f":"YEAR(ChillTempAct[[#This Row],[Date]])","v":2021},{"$f":"MONTH(ChillTempAct[[#This Row],[Date]])","v":10},{"$f":"IF(ChillTempAct[[#This Row],[Month]]=J456,K456+1,1)","v":30}]
[44470,86,63,{"$f":"AVERAGE(ChillTempAct[[#This Row],[ChillHigh]:[ChillLow]])","v":74.5},{"$f":"IF(ChillTempAct[[#This Row],[ChillAve]]<65,65-ChillTempAct[[#This Row],[ChillAve]],0)","v":0},{"$f":"INDEX(TempAdj[AdjustPct],MATCH(MONTH(ChillTempAct[[#This Row],[Date]]),TempAdj[Month],0))","v":0.1114},{"$f":"ChillTempAct[[#This Row],[ChillHDD]]*(1+ChillTempAct[[#This Row],[ChillAdj]])","v":0},{"$f":"SUMPRODUCT((RankNHDD[Month]=ChillTempAct[[#This Row],[Month]])*(RankNHDD[Rank]=ChillTempAct[[#This Row],[Rank]])*RankNHDD[KIRKNHDD])","v":0},{"$f":"YEAR(ChillTempAct[[#This Row],[Date]])","v":2021},{"$f":"MONTH(ChillTempAct[[#This Row],[Date]])","v":10},{"$f":"IF(ChillTempAct[[#This Row],[Month]]=J457,K457+1,1)","v":31}]
[44526,33,19,{"$f":"AVERAGE(ChillTempAct[[#This Row],[ChillHigh]:[ChillLow]])","v":26},{"$f":"IF(ChillTempAct[[#This Row],[ChillAve]]<65,65-ChillTempAct[[#This Row],[ChillAve]],0)","v":39},{"$f":"INDEX(TempAdj[AdjustPct],MATCH(MONTH(ChillTempAct[[#This Row],[Date]]),TempAdj[Month],0))","v":4.2599999999999999E-2},{"$f":"ChillTempAct[[#This Row],[ChillHDD]]*(1+ChillTempAct[[#This Row],[ChillAdj]])","v":40.6614},{"$f":"SUMPRODUCT((RankNHDD[Month]=ChillTempAct[[#This Row],[Month]])*(RankNHDD[Rank]=ChillTempAct[[#This Row],[Rank]])*RankNHDD[KIRKNHDD])","v":47.151666666666671},{"$f":"YEAR(ChillTempAct[[#This Row],[Date]])","v":2021},{"$f":"MONTH(ChillTempAct[[#This Row],[Date]])","v":11},{"$f":"IF(ChillTempAct[[#This Row],[Month]]=J458,K458+1,1)","v":1}]
[44519,44,23,{"$f":"AVERAGE(ChillTempAct[[#This Row],[ChillHigh]:[ChillLow]])","v":33.5},{"$f":"IF(ChillTempAct[[#This Row],[ChillAve]]<65,65-ChillTempAct[[#This Row],[ChillAve]],0)","v":31.5},{"$f":"INDEX(TempAdj[AdjustPct],MATCH(MONTH(ChillTempAct[[#This Row],[Date]]),TempAdj[Month],0))","v":4.2599999999999999E-2},{"$f":"ChillTempAct[[#This Row],[ChillHDD]]*(1+ChillTempAct[[#This Row],[ChillAdj]])","v":32.841900000000003},{"$f":"SUMPRODUCT((RankNHDD[Month]=ChillTempAct[[#This Row],[Month]])*(RankNHDD[Rank]=ChillTempAct[[#This Row],[Rank]])*RankNHDD[KIRKNHDD])","v":41.107222222222205},{"$f":"YEAR(ChillTempAct[[#This Row],[Date]])","v":2021},{"$f":"MONTH(ChillTempAct[[#This Row],[Date]])","v":11},{"$f":"IF(ChillTempAct[[#This Row],[Month]]=J459,K459+1,1)","v":2}]
[44513,38,30,{"$f":"AVERAGE(ChillTempAct[[#This Row],[ChillHigh]:[ChillLow]])","v":34},{"$f":"IF(ChillTempAct[[#This Row],[ChillAve]]<65,65-ChillTempAct[[#This Row],[ChillAve]],0)","v":31},{"$f":"INDEX(TempAdj[AdjustPct],MATCH(MONTH(ChillTempAct[[#This Row],[Date]]),TempAdj[Month],0))","v":4.2599999999999999E-2},{"$f":"ChillTempAct[[#This Row],[ChillHDD]]*(1+ChillTempAct[[#This Row],[ChillAdj]])","v":32.320599999999999},{"$f":"SUMPRODUCT((RankNHDD[Month]=ChillTempAct[[#This Row],[Month]])*(RankNHDD[Rank]=ChillTempAct[[#This Row],[Rank]])*RankNHDD[KIRKNHDD])","v":38.468148148148153},{"$f":"YEAR(ChillTempAct[[#This Row],[Date]])","v":2021},{"$f":"MONTH(ChillTempAct[[#This Row],[Date]])","v":11},{"$f":"IF(ChillTempAct[[#This Row],[Month]]=J460,K460+1,1)","v":3}]
[44523,44,27,{"$f":"AVERAGE(ChillTempAct[[#This Row],[ChillHigh]:[ChillLow]])","v":35.5},{"$f":"IF(ChillTempAct[[#This Row],[ChillAve]]<65,65-ChillTempAct[[#This Row],[ChillAve]],0)","v":29.5},{"$f":"INDEX(TempAdj[AdjustPct],MATCH(MONTH(ChillTempAct[[#This Row],[Date]]),TempAdj[Month],0))","v":4.2599999999999999E-2},{"$f":"ChillTempAct[[#This Row],[ChillHDD]]*(1+ChillTempAct[[#This Row],[ChillAdj]])","v":30.756699999999999},{"$f":"SUMPRODUCT((RankNHDD[Month]=ChillTempAct[[#This Row],[Month]])*(RankNHDD[Rank]=ChillTempAct[[#This Row],[Rank]])*RankNHDD[KIRKNHDD])","v":36.311296296296284},{"$f":"YEAR(ChillTempAct[[#This Row],[Date]])","v":2021},{"$f":"MONTH(ChillTempAct[[#This Row],[Date]])","v":11},{"$f":"IF(ChillTempAct[[#This Row],[Month]]=J461,K461+1,1)","v":4}]
[44520,49,23,{"$f":"AVERAGE(ChillTempAct[[#This Row],[ChillHigh]:[ChillLow]])","v":36},{"$f":"IF(ChillTempAct[[#This Row],[ChillAve]]<65,65-ChillTempAct[[#This Row],[ChillAve]],0)","v":29},{"$f":"INDEX(TempAdj[AdjustPct],MATCH(MONTH(ChillTempAct[[#This Row],[Date]]),TempAdj[Month],0))","v":4.2599999999999999E-2},{"$f":"ChillTempAct[[#This Row],[ChillHDD]]*(1+ChillTempAct[[#This Row],[ChillAdj]])","v":30.235399999999998},{"$f":"SUMPRODUCT((RankNHDD[Month]=ChillTempAct[[#This Row],[Month]])*(RankNHDD[Rank]=ChillTempAct[[#This Row],[Rank]])*RankNHDD[KIRKNHDD])","v":34.695555555555543},{"$f":"YEAR(ChillTempAct[[#This Row],[Date]])","v":2021},{"$f":"MONTH(ChillTempAct[[#This Row],[Date]])","v":11},{"$f":"IF(ChillTempAct[[#This Row],[Month]]=J462,K462+1,1)","v":5}]
[44527,48,24,{"$f":"AVERAGE(ChillTempAct[[#This Row],[ChillHigh]:[ChillLow]])","v":36},{"$f":"IF(ChillTempAct[[#This Row],[ChillAve]]<65,65-ChillTempAct[[#This Row],[ChillAve]],0)","v":29},{"$f":"INDEX(TempAdj[AdjustPct],MATCH(MONTH(ChillTempAct[[#This Row],[Date]]),TempAdj[Month],0))","v":4.2599999999999999E-2},{"$f":"ChillTempAct[[#This Row],[ChillHDD]]*(1+ChillTempAct[[#This Row],[ChillAdj]])","v":30.235399999999998},{"$f":"SUMPRODUCT((RankNHDD[Month]=ChillTempAct[[#This Row],[Month]])*(RankNHDD[Rank]=ChillTempAct[[#This Row],[Rank]])*RankNHDD[KIRKNHDD])","v":33.244814814814809},{"$f":"YEAR(ChillTempAct[[#This Row],[Date]])","v":2021},{"$f":"MONTH(ChillTempAct[[#This Row],[Date]])","v":11},{"$f":"IF(ChillTempAct[[#This Row],[Month]]=J463,K463+1,1)","v":6}]
[44502,42,32,{"$f":"AVERAGE(ChillTempAct[[#This Row],[ChillHigh]:[ChillLow]])","v":37},{"$f":"IF(ChillTempAct[[#This Row],[ChillAve]]<65,65-ChillTempAct[[#This Row],[ChillAve]],0)","v":28},{"$f":"INDEX(TempAdj[AdjustPct],MATCH(MONTH(ChillTempAct[[#This Row],[Date]]),TempAdj[Month],0))","v":4.2599999999999999E-2},{"$f":"ChillTempAct[[#This Row],[ChillHDD]]*(1+ChillTempAct[[#This Row],[ChillAdj]])","v":29.192799999999998},{"$f":"SUMPRODUCT((RankNHDD[Month]=ChillTempAct[[#This Row],[Month]])*(RankNHDD[Rank]=ChillTempAct[[#This Row],[Rank]])*RankNHDD[KIRKNHDD])","v":31.984259259259254},{"$f":"YEAR(ChillTempAct[[#This Row],[Date]])","v":2021},{"$f":"MONTH(ChillTempAct[[#This Row],[Date]])","v":11},{"$f":"IF(ChillTempAct[[#This Row],[Month]]=J464,K464+1,1)","v":7}]
[44514,45,30,{"$f":"AVERAGE(ChillTempAct[[#This Row],[ChillHigh]:[ChillLow]])","v":37.5},{"$f":"IF(ChillTempAct[[#This Row],[ChillAve]]<65,65-ChillTempAct[[#This Row],[ChillAve]],0)","v":27.5},{"$f":"INDEX(TempAdj[AdjustPct],MATCH(MONTH(ChillTempAct[[#This Row],[Date]]),TempAdj[Month],0))","v":4.2599999999999999E-2},{"$f":"ChillTempAct[[#This Row],[ChillHDD]]*(1+ChillTempAct[[#This Row],[ChillAdj]])","v":28.671499999999998},{"$f":"SUMPRODUCT((RankNHDD[Month]=ChillTempAct[[#This Row],[Month]])*(RankNHDD[Rank]=ChillTempAct[[#This Row],[Rank]])*RankNHDD[KIRKNHDD])","v":30.960740740740736},{"$f":"YEAR(ChillTempAct[[#This Row],[Date]])","v":2021},{"$f":"MONTH(ChillTempAct[[#This Row],[Date]])","v":11},{"$f":"IF(ChillTempAct[[#This Row],[Month]]=J465,K465+1,1)","v":8}]
[44503,49,27,{"$f":"AVERAGE(ChillTempAct[[#This Row],[ChillHigh]:[ChillLow]])","v":38},{"$f":"IF(ChillTempAct[[#This Row],[ChillAve]]<65,65-ChillTempAct[[#This Row],[ChillAve]],0)","v":27},{"$f":"INDEX(TempAdj[AdjustPct],MATCH(MONTH(ChillTempAct[[#This Row],[Date]]),TempAdj[Month],0))","v":4.2599999999999999E-2},{"$f":"ChillTempAct[[#This Row],[ChillHDD]]*(1+ChillTempAct[[#This Row],[ChillAdj]])","v":28.150199999999998},{"$f":"SUMPRODUCT((RankNHDD[Month]=ChillTempAct[[#This Row],[Month]])*(RankNHDD[Rank]=ChillTempAct[[#This Row],[Rank]])*RankNHDD[KIRKNHDD])","v":29.911111111111111},{"$f":"YEAR(ChillTempAct[[#This Row],[Date]])","v":2021},{"$f":"MONTH(ChillTempAct[[#This Row],[Date]])","v":11},{"$f":"IF(ChillTempAct[[#This Row],[Month]]=J466,K466+1,1)","v":9}]
[44504,52,27,{"$f":"AVERAGE(ChillTempAct[[#This Row],[ChillHigh]:[ChillLow]])","v":39.5},{"$f":"IF(ChillTempAct[[#This Row],[ChillAve]]<65,65-ChillTempAct[[#This Row],[ChillAve]],0)","v":25.5},{"$f":"INDEX(TempAdj[AdjustPct],MATCH(MONTH(ChillTempAct[[#This Row],[Date]]),TempAdj[Month],0))","v":4.2599999999999999E-2},{"$f":"ChillTempAct[[#This Row],[ChillHDD]]*(1+ChillTempAct[[#This Row],[ChillAdj]])","v":26.586299999999998},{"$f":"SUMPRODUCT((RankNHDD[Month]=ChillTempAct[[#This Row],[Month]])*(RankNHDD[Rank]=ChillTempAct[[#This Row],[Rank]])*RankNHDD[KIRKNHDD])","v":28.929259259259258},{"$f":"YEAR(ChillTempAct[[#This Row],[Date]])","v":2021},{"$f":"MONTH(ChillTempAct[[#This Row],[Date]])","v":11},{"$f":"IF(ChillTempAct[[#This Row],[Month]]=J467,K467+1,1)","v":10}]
[44529,50,29,{"$f":"AVERAGE(ChillTempAct[[#This Row],[ChillHigh]:[ChillLow]])","v":39.5},{"$f":"IF(ChillTempAct[[#This Row],[ChillAve]]<65,65-ChillTempAct[[#This Row],[ChillAve]],0)","v":25.5},{"$f":"INDEX(TempAdj[AdjustPct],MATCH(MONTH(ChillTempAct[[#This Row],[Date]]),TempAdj[Month],0))","v":4.2599999999999999E-2},{"$f":"ChillTempAct[[#This Row],[ChillHDD]]*(1+ChillTempAct[[#This Row],[ChillAdj]])","v":26.586299999999998},{"$f":"SUMPRODUCT((RankNHDD[Month]=ChillTempAct[[#This Row],[Month]])*(RankNHDD[Rank]=ChillTempAct[[#This Row],[Rank]])*RankNHDD[KIRKNHDD])","v":27.719629629629626},{"$f":"YEAR(ChillTempAct[[#This Row],[Date]])","v":2021},{"$f":"MONTH(ChillTempAct[[#This Row],[Date]])","v":11},{"$f":"IF(ChillTempAct[[#This Row],[Month]]=J468,K468+1,1)","v":11}]
[44518,52,29,{"$f":"AVERAGE(ChillTempAct[[#This Row],[ChillHigh]:[ChillLow]])","v":40.5},{"$f":"IF(ChillTempAct[[#This Row],[ChillAve]]<65,65-ChillTempAct[[#This Row],[ChillAve]],0)","v":24.5},{"$f":"INDEX(TempAdj[AdjustPct],MATCH(MONTH(ChillTempAct[[#This Row],[Date]]),TempAdj[Month],0))","v":4.2599999999999999E-2},{"$f":"ChillTempAct[[#This Row],[ChillHDD]]*(1+ChillTempAct[[#This Row],[ChillAdj]])","v":25.543699999999998},{"$f":"SUMPRODUCT((RankNHDD[Month]=ChillTempAct[[#This Row],[Month]])*(RankNHDD[Rank]=ChillTempAct[[#This Row],[Rank]])*RankNHDD[KIRKNHDD])","v":26.551111111111105},{"$f":"YEAR(ChillTempAct[[#This Row],[Date]])","v":2021},{"$f":"MONTH(ChillTempAct[[#This Row],[Date]])","v":11},{"$f":"IF(ChillTempAct[[#This Row],[Month]]=J469,K469+1,1)","v":12}]
[44515,46,37,{"$f":"AVERAGE(ChillTempAct[[#This Row],[ChillHigh]:[ChillLow]])","v":41.5},{"$f":"IF(ChillTempAct[[#This Row],[ChillAve]]<65,65-ChillTempAct[[#This Row],[ChillAve]],0)","v":23.5},{"$f":"INDEX(TempAdj[AdjustPct],MATCH(MONTH(ChillTempAct[[#This Row],[Date]]),TempAdj[Month],0))","v":4.2599999999999999E-2},{"$f":"ChillTempAct[[#This Row],[ChillHDD]]*(1+ChillTempAct[[#This Row],[ChillAdj]])","v":24.501100000000001},{"$f":"SUMPRODUCT((RankNHDD[Month]=ChillTempAct[[#This Row],[Month]])*(RankNHDD[Rank]=ChillTempAct[[#This Row],[Rank]])*RankNHDD[KIRKNHDD])","v":25.420370370370367},{"$f":"YEAR(ChillTempAct[[#This Row],[Date]])","v":2021},{"$f":"MONTH(ChillTempAct[[#This Row],[Date]])","v":11},{"$f":"IF(ChillTempAct[[#This Row],[Month]]=J470,K470+1,1)","v":13}]
[44505,54,30,{"$f":"AVERAGE(ChillTempAct[[#This Row],[ChillHigh]:[ChillLow]])","v":42},{"$f":"IF(ChillTempAct[[#This Row],[ChillAve]]<65,65-ChillTempAct[[#This Row],[ChillAve]],0)","v":23},{"$f":"INDEX(TempAdj[AdjustPct],MATCH(MONTH(ChillTempAct[[#This Row],[Date]]),TempAdj[Month],0))","v":4.2599999999999999E-2},{"$f":"ChillTempAct[[#This Row],[ChillHDD]]*(1+ChillTempAct[[#This Row],[ChillAdj]])","v":23.979800000000001},{"$f":"SUMPRODUCT((RankNHDD[Month]=ChillTempAct[[#This Row],[Month]])*(RankNHDD[Rank]=ChillTempAct[[#This Row],[Rank]])*RankNHDD[KIRKNHDD])","v":24.463518518518519},{"$f":"YEAR(ChillTempAct[[#This Row],[Date]])","v":2021},{"$f":"MONTH(ChillTempAct[[#This Row],[Date]])","v":11},{"$f":"IF(ChillTempAct[[#This Row],[Month]]=J471,K471+1,1)","v":14}]
[44522,57,27,{"$f":"AVERAGE(ChillTempAct[[#This Row],[ChillHigh]:[ChillLow]])","v":42},{"$f":"IF(ChillTempAct[[#This Row],[ChillAve]]<65,65-ChillTempAct[[#This Row],[ChillAve]],0)","v":23},{"$f":"INDEX(TempAdj[AdjustPct],MATCH(MONTH(ChillTempAct[[#This Row],[Date]]),TempAdj[Month],0))","v":4.2599999999999999E-2},{"$f":"ChillTempAct[[#This Row],[ChillHDD]]*(1+ChillTempAct[[#This Row],[ChillAdj]])","v":23.979800000000001},{"$f":"SUMPRODUCT((RankNHDD[Month]=ChillTempAct[[#This Row],[Month]])*(RankNHDD[Rank]=ChillTempAct[[#This Row],[Rank]])*RankNHDD[KIRKNHDD])","v":23.609259259259261},{"$f":"YEAR(ChillTempAct[[#This Row],[Date]])","v":2021},{"$f":"MONTH(ChillTempAct[[#This Row],[Date]])","v":11},{"$f":"IF(ChillTempAct[[#This Row],[Month]]=J472,K472+1,1)","v":15}]
[44525,61,25,{"$f":"AVERAGE(ChillTempAct[[#This Row],[ChillHigh]:[ChillLow]])","v":43},{"$f":"IF(ChillTempAct[[#This Row],[ChillAve]]<65,65-ChillTempAct[[#This Row],[ChillAve]],0)","v":22},{"$f":"INDEX(TempAdj[AdjustPct],MATCH(MONTH(ChillTempAct[[#This Row],[Date]]),TempAdj[Month],0))","v":4.2599999999999999E-2},{"$f":"ChillTempAct[[#This Row],[ChillHDD]]*(1+ChillTempAct[[#This Row],[ChillAdj]])","v":22.937200000000001},{"$f":"SUMPRODUCT((RankNHDD[Month]=ChillTempAct[[#This Row],[Month]])*(RankNHDD[Rank]=ChillTempAct[[#This Row],[Rank]])*RankNHDD[KIRKNHDD])","v":22.759814814814813},{"$f":"YEAR(ChillTempAct[[#This Row],[Date]])","v":2021},{"$f":"MONTH(ChillTempAct[[#This Row],[Date]])","v":11},{"$f":"IF(ChillTempAct[[#This Row],[Month]]=J473,K473+1,1)","v":16}]
[44524,60,28,{"$f":"AVERAGE(ChillTempAct[[#This Row],[ChillHigh]:[ChillLow]])","v":44},{"$f":"IF(ChillTempAct[[#This Row],[ChillAve]]<65,65-ChillTempAct[[#This Row],[ChillAve]],0)","v":21},{"$f":"INDEX(TempAdj[AdjustPct],MATCH(MONTH(ChillTempAct[[#This Row],[Date]]),TempAdj[Month],0))","v":4.2599999999999999E-2},{"$f":"ChillTempAct[[#This Row],[ChillHDD]]*(1+ChillTempAct[[#This Row],[ChillAdj]])","v":21.894600000000001},{"$f":"SUMPRODUCT((RankNHDD[Month]=ChillTempAct[[#This Row],[Month]])*(RankNHDD[Rank]=ChillTempAct[[#This Row],[Rank]])*RankNHDD[KIRKNHDD])","v":22.064259259259259},{"$f":"YEAR(ChillTempAct[[#This Row],[Date]])","v":2021},{"$f":"MONTH(ChillTempAct[[#This Row],[Date]])","v":11},{"$f":"IF(ChillTempAct[[#This Row],[Month]]=J474,K474+1,1)","v":17}]
[44512,53,36,{"$f":"AVERAGE(ChillTempAct[[#This Row],[ChillHigh]:[ChillLow]])","v":44.5},{"$f":"IF(ChillTempAct[[#This Row],[ChillAve]]<65,65-ChillTempAct[[#This Row],[ChillAve]],0)","v":20.5},{"$f":"INDEX(TempAdj[AdjustPct],MATCH(MONTH(ChillTempAct[[#This Row],[Date]]),TempAdj[Month],0))","v":4.2599999999999999E-2},{"$f":"ChillTempAct[[#This Row],[ChillHDD]]*(1+ChillTempAct[[#This Row],[ChillAdj]])","v":21.3733},{"$f":"SUMPRODUCT((RankNHDD[Month]=ChillTempAct[[#This Row],[Month]])*(RankNHDD[Rank]=ChillTempAct[[#This Row],[Rank]])*RankNHDD[KIRKNHDD])","v":21.27277777777778},{"$f":"YEAR(ChillTempAct[[#This Row],[Date]])","v":2021},{"$f":"MONTH(ChillTempAct[[#This Row],[Date]])","v":11},{"$f":"IF(ChillTempAct[[#This Row],[Month]]=J475,K475+1,1)","v":18}]
[44506,58,35,{"$f":"AVERAGE(ChillTempAct[[#This Row],[ChillHigh]:[ChillLow]])","v":46.5},{"$f":"IF(ChillTempAct[[#This Row],[ChillAve]]<65,65-ChillTempAct[[#This Row],[ChillAve]],0)","v":18.5},{"$f":"INDEX(TempAdj[AdjustPct],MATCH(MONTH(ChillTempAct[[#This Row],[Date]]),TempAdj[Month],0))","v":4.2599999999999999E-2},{"$f":"ChillTempAct[[#This Row],[ChillHDD]]*(1+ChillTempAct[[#This Row],[ChillAdj]])","v":19.2881},{"$f":"SUMPRODUCT((RankNHDD[Month]=ChillTempAct[[#This Row],[Month]])*(RankNHDD[Rank]=ChillTempAct[[#This Row],[Rank]])*RankNHDD[KIRKNHDD])","v":20.594444444444441},{"$f":"YEAR(ChillTempAct[[#This Row],[Date]])","v":2021},{"$f":"MONTH(ChillTempAct[[#This Row],[Date]])","v":11},{"$f":"IF(ChillTempAct[[#This Row],[Month]]=J476,K476+1,1)","v":19}]
[44521,56,37,{"$f":"AVERAGE(ChillTempAct[[#This Row],[ChillHigh]:[ChillLow]])","v":46.5},{"$f":"IF(ChillTempAct[[#This Row],[ChillAve]]<65,65-ChillTempAct[[#This Row],[ChillAve]],0)","v":18.5},{"$f":"INDEX(TempAdj[AdjustPct],MATCH(MONTH(ChillTempAct[[#This Row],[Date]]),TempAdj[Month],0))","v":4.2599999999999999E-2},{"$f":"ChillTempAct[[#This Row],[ChillHDD]]*(1+ChillTempAct[[#This Row],[ChillAdj]])","v":19.2881},{"$f":"SUMPRODUCT((RankNHDD[Month]=ChillTempAct[[#This Row],[Month]])*(RankNHDD[Rank]=ChillTempAct[[#This Row],[Rank]])*RankNHDD[KIRKNHDD])","v":19.576666666666664},{"$f":"YEAR(ChillTempAct[[#This Row],[Date]])","v":2021},{"$f":"MONTH(ChillTempAct[[#This Row],[Date]])","v":11},{"$f":"IF(ChillTempAct[[#This Row],[Month]]=J477,K477+1,1)","v":20}]
[44528,65,30,{"$f":"AVERAGE(ChillTempAct[[#This Row],[ChillHigh]:[ChillLow]])","v":47.5},{"$f":"IF(ChillTempAct[[#This Row],[ChillAve]]<65,65-ChillTempAct[[#This Row],[ChillAve]],0)","v":17.5},{"$f":"INDEX(TempAdj[AdjustPct],MATCH(MONTH(ChillTempAct[[#This Row],[Date]]),TempAdj[Month],0))","v":4.2599999999999999E-2},{"$f":"ChillTempAct[[#This Row],[ChillHDD]]*(1+ChillTempAct[[#This Row],[ChillAdj]])","v":18.2455},{"$f":"SUMPRODUCT((RankNHDD[Month]=ChillTempAct[[#This Row],[Month]])*(RankNHDD[Rank]=ChillTempAct[[#This Row],[Rank]])*RankNHDD[KIRKNHDD])","v":18.077962962962964},{"$f":"YEAR(ChillTempAct[[#This Row],[Date]])","v":2021},{"$f":"MONTH(ChillTempAct[[#This Row],[Date]])","v":11},{"$f":"IF(ChillTempAct[[#This Row],[Month]]=J478,K478+1,1)","v":21}]
[44501,56,40,{"$f":"AVERAGE(ChillTempAct[[#This Row],[ChillHigh]:[ChillLow]])","v":48},{"$f":"IF(ChillTempAct[[#This Row],[ChillAve]]<65,65-ChillTempAct[[#This Row],[ChillAve]],0)","v":17},{"$f":"INDEX(TempAdj[AdjustPct],MATCH(MONTH(ChillTempAct[[#This Row],[Date]]),TempAdj[Month],0))","v":4.2599999999999999E-2},{"$f":"ChillTempAct[[#This Row],[ChillHDD]]*(1+ChillTempAct[[#This Row],[ChillAdj]])","v":17.7242},{"$f":"SUMPRODUCT((RankNHDD[Month]=ChillTempAct[[#This Row],[Month]])*(RankNHDD[Rank]=ChillTempAct[[#This Row],[Rank]])*RankNHDD[KIRKNHDD])","v":17.13425925925926},{"$f":"YEAR(ChillTempAct[[#This Row],[Date]])","v":2021},{"$f":"MONTH(ChillTempAct[[#This Row],[Date]])","v":11},{"$f":"IF(ChillTempAct[[#This Row],[Month]]=J479,K479+1,1)","v":22}]
[44530,63,33,{"$f":"AVERAGE(ChillTempAct[[#This Row],[ChillHigh]:[ChillLow]])","v":48},{"$f":"IF(ChillTempAct[[#This Row],[ChillAve]]<65,65-ChillTempAct[[#This Row],[ChillAve]],0)","v":17},{"$f":"INDEX(TempAdj[AdjustPct],MATCH(MONTH(ChillTempAct[[#This Row],[Date]]),TempAdj[Month],0))","v":4.2599999999999999E-2},{"$f":"ChillTempAct[[#This Row],[ChillHDD]]*(1+ChillTempAct[[#This Row],[ChillAdj]])","v":17.7242},{"$f":"SUMPRODUCT((RankNHDD[Month]=ChillTempAct[[#This Row],[Month]])*(RankNHDD[Rank]=ChillTempAct[[#This Row],[Rank]])*RankNHDD[KIRKNHDD])","v":16.063148148148148},{"$f":"YEAR(ChillTempAct[[#This Row],[Date]])","v":2021},{"$f":"MONTH(ChillTempAct[[#This Row],[Date]])","v":11},{"$f":"IF(ChillTempAct[[#This Row],[Month]]=J480,K480+1,1)","v":23}]
[44507,66,35,{"$f":"AVERAGE(ChillTempAct[[#This Row],[ChillHigh]:[ChillLow]])","v":50.5},{"$f":"IF(ChillTempAct[[#This Row],[ChillAve]]<65,65-ChillTempAct[[#This Row],[ChillAve]],0)","v":14.5},{"$f":"INDEX(TempAdj[AdjustPct],MATCH(MONTH(ChillTempAct[[#This Row],[Date]]),TempAdj[Month],0))","v":4.2599999999999999E-2},{"$f":"ChillTempAct[[#This Row],[ChillHDD]]*(1+ChillTempAct[[#This Row],[ChillAdj]])","v":15.117699999999999},{"$f":"SUMPRODUCT((RankNHDD[Month]=ChillTempAct[[#This Row],[Month]])*(RankNHDD[Rank]=ChillTempAct[[#This Row],[Rank]])*RankNHDD[KIRKNHDD])","v":15.076851851851849},{"$f":"YEAR(ChillTempAct[[#This Row],[Date]])","v":2021},{"$f":"MONTH(ChillTempAct[[#This Row],[Date]])","v":11},{"$f":"IF(ChillTempAct[[#This Row],[Month]]=J481,K481+1,1)","v":24}]
[44516,64,37,{"$f":"AVERAGE(ChillTempAct[[#This Row],[ChillHigh]:[ChillLow]])","v":50.5},{"$f":"IF(ChillTempAct[[#This Row],[ChillAve]]<65,65-ChillTempAct[[#This Row],[ChillAve]],0)","v":14.5},{"$f":"INDEX(TempAdj[AdjustPct],MATCH(MONTH(ChillTempAct[[#This Row],[Date]]),TempAdj[Month],0))","v":4.2599999999999999E-2},{"$f":"ChillTempAct[[#This Row],[ChillHDD]]*(1+ChillTempAct[[#This Row],[ChillAdj]])","v":15.117699999999999},{"$f":"SUMPRODUCT((RankNHDD[Month]=ChillTempAct[[#This Row],[Month]])*(RankNHDD[Rank]=ChillTempAct[[#This Row],[Rank]])*RankNHDD[KIRKNHDD])","v":13.913333333333332},{"$f":"YEAR(ChillTempAct[[#This Row],[Date]])","v":2021},{"$f":"MONTH(ChillTempAct[[#This Row],[Date]])","v":11},{"$f":"IF(ChillTempAct[[#This Row],[Month]]=J482,K482+1,1)","v":25}]
[44517,71,38,{"$f":"AVERAGE(ChillTempAct[[#This Row],[ChillHigh]:[ChillLow]])","v":54.5},{"$f":"IF(ChillTempAct[[#This Row],[ChillAve]]<65,65-ChillTempAct[[#This Row],[ChillAve]],0)","v":10.5},{"$f":"INDEX(TempAdj[AdjustPct],MATCH(MONTH(ChillTempAct[[#This Row],[Date]]),TempAdj[Month],0))","v":4.2599999999999999E-2},{"$f":"ChillTempAct[[#This Row],[ChillHDD]]*(1+ChillTempAct[[#This Row],[ChillAdj]])","v":10.9473},{"$f":"SUMPRODUCT((RankNHDD[Month]=ChillTempAct[[#This Row],[Month]])*(RankNHDD[Rank]=ChillTempAct[[#This Row],[Rank]])*RankNHDD[KIRKNHDD])","v":12.532777777777778},{"$f":"YEAR(ChillTempAct[[#This Row],[Date]])","v":2021},{"$f":"MONTH(ChillTempAct[[#This Row],[Date]])","v":11},{"$f":"IF(ChillTempAct[[#This Row],[Month]]=J483,K483+1,1)","v":26}]
[44511,68,42,{"$f":"AVERAGE(ChillTempAct[[#This Row],[ChillHigh]:[ChillLow]])","v":55},{"$f":"IF(ChillTempAct[[#This Row],[ChillAve]]<65,65-ChillTempAct[[#This Row],[ChillAve]],0)","v":10},{"$f":"INDEX(TempAdj[AdjustPct],MATCH(MONTH(ChillTempAct[[#This Row],[Date]]),TempAdj[Month],0))","v":4.2599999999999999E-2},{"$f":"ChillTempAct[[#This Row],[ChillHDD]]*(1+ChillTempAct[[#This Row],[ChillAdj]])","v":10.426},{"$f":"SUMPRODUCT((RankNHDD[Month]=ChillTempAct[[#This Row],[Month]])*(RankNHDD[Rank]=ChillTempAct[[#This Row],[Rank]])*RankNHDD[KIRKNHDD])","v":10.467222222222222},{"$f":"YEAR(ChillTempAct[[#This Row],[Date]])","v":2021},{"$f":"MONTH(ChillTempAct[[#This Row],[Date]])","v":11},{"$f":"IF(ChillTempAct[[#This Row],[Month]]=J484,K484+1,1)","v":27}]
[44508,70,43,{"$f":"AVERAGE(ChillTempAct[[#This Row],[ChillHigh]:[ChillLow]])","v":56.5},{"$f":"IF(ChillTempAct[[#This Row],[ChillAve]]<65,65-ChillTempAct[[#This Row],[ChillAve]],0)","v":8.5},{"$f":"INDEX(TempAdj[AdjustPct],MATCH(MONTH(ChillTempAct[[#This Row],[Date]]),TempAdj[Month],0))","v":4.2599999999999999E-2},{"$f":"ChillTempAct[[#This Row],[ChillHDD]]*(1+ChillTempAct[[#This Row],[ChillAdj]])","v":8.8620999999999999},{"$f":"SUMPRODUCT((RankNHDD[Month]=ChillTempAct[[#This Row],[Month]])*(RankNHDD[Rank]=ChillTempAct[[#This Row],[Rank]])*RankNHDD[KIRKNHDD])","v":7.9072222222222202},{"$f":"YEAR(ChillTempAct[[#This Row],[Date]])","v":2021},{"$f":"MONTH(ChillTempAct[[#This Row],[Date]])","v":11},{"$f":"IF(ChillTempAct[[#This Row],[Month]]=J485,K485+1,1)","v":28}]
[44510,65,51,{"$f":"AVERAGE(ChillTempAct[[#This Row],[ChillHigh]:[ChillLow]])","v":58},{"$f":"IF(ChillTempAct[[#This Row],[ChillAve]]<65,65-ChillTempAct[[#This Row],[ChillAve]],0)","v":7},{"$f":"INDEX(TempAdj[AdjustPct],MATCH(MONTH(ChillTempAct[[#This Row],[Date]]),TempAdj[Month],0))","v":4.2599999999999999E-2},{"$f":"ChillTempAct[[#This Row],[ChillHDD]]*(1+ChillTempAct[[#This Row],[ChillAdj]])","v":7.2981999999999996},{"$f":"SUMPRODUCT((RankNHDD[Month]=ChillTempAct[[#This Row],[Month]])*(RankNHDD[Rank]=ChillTempAct[[#This Row],[Rank]])*RankNHDD[KIRKNHDD])","v":5.3861111111111137},{"$f":"YEAR(ChillTempAct[[#This Row],[Date]])","v":2021},{"$f":"MONTH(ChillTempAct[[#This Row],[Date]])","v":11},{"$f":"IF(ChillTempAct[[#This Row],[Month]]=J486,K486+1,1)","v":29}]
[44509,70,47,{"$f":"AVERAGE(ChillTempAct[[#This Row],[ChillHigh]:[ChillLow]])","v":58.5},{"$f":"IF(ChillTempAct[[#This Row],[ChillAve]]<65,65-ChillTempAct[[#This Row],[ChillAve]],0)","v":6.5},{"$f":"INDEX(TempAdj[AdjustPct],MATCH(MONTH(ChillTempAct[[#This Row],[Date]]),TempAdj[Month],0))","v":4.2599999999999999E-2},{"$f":"ChillTempAct[[#This Row],[ChillHDD]]*(1+ChillTempAct[[#This Row],[ChillAdj]])","v":6.7768999999999995},{"$f":"SUMPRODUCT((RankNHDD[Month]=ChillTempAct[[#This Row],[Month]])*(RankNHDD[Rank]=ChillTempAct[[#This Row],[Rank]])*RankNHDD[KIRKNHDD])","v":1.7907407407407412},{"$f":"YEAR(ChillTempAct[[#This Row],[Date]])","v":2021},{"$f":"MONTH(ChillTempAct[[#This Row],[Date]])","v":11},{"$f":"IF(ChillTempAct[[#This Row],[Month]]=J487,K487+1,1)","v":30}]
[44560,31,18,{"$f":"AVERAGE(ChillTempAct[[#This Row],[ChillHigh]:[ChillLow]])","v":24.5},{"$f":"IF(ChillTempAct[[#This Row],[ChillAve]]<65,65-ChillTempAct[[#This Row],[ChillAve]],0)","v":40.5},{"$f":"INDEX(TempAdj[AdjustPct],MATCH(MONTH(ChillTempAct[[#This Row],[Date]]),TempAdj[Month],0))","v":2.8799999999999999E-2},{"$f":"ChillTempAct[[#This Row],[ChillHDD]]*(1+ChillTempAct[[#This Row],[ChillAdj]])","v":41.666399999999996},{"$f":"SUMPRODUCT((RankNHDD[Month]=ChillTempAct[[#This Row],[Month]])*(RankNHDD[Rank]=ChillTempAct[[#This Row],[Rank]])*RankNHDD[KIRKNHDD])","v":64.141129032258078},{"$f":"YEAR(ChillTempAct[[#This Row],[Date]])","v":2021},{"$f":"MONTH(ChillTempAct[[#This Row],[Date]])","v":12},{"$f":"IF(ChillTempAct[[#This Row],[Month]]=J488,K488+1,1)","v":1}]
[44549,37,17,{"$f":"AVERAGE(ChillTempAct[[#This Row],[ChillHigh]:[ChillLow]])","v":27},{"$f":"IF(ChillTempAct[[#This Row],[ChillAve]]<65,65-ChillTempAct[[#This Row],[ChillAve]],0)","v":38},{"$f":"INDEX(TempAdj[AdjustPct],MATCH(MONTH(ChillTempAct[[#This Row],[Date]]),TempAdj[Month],0))","v":2.8799999999999999E-2},{"$f":"ChillTempAct[[#This Row],[ChillHDD]]*(1+ChillTempAct[[#This Row],[ChillAdj]])","v":39.0944},{"$f":"SUMPRODUCT((RankNHDD[Month]=ChillTempAct[[#This Row],[Month]])*(RankNHDD[Rank]=ChillTempAct[[#This Row],[Rank]])*RankNHDD[KIRKNHDD])","v":56.413440860215061},{"$f":"YEAR(ChillTempAct[[#This Row],[Date]])","v":2021},{"$f":"MONTH(ChillTempAct[[#This Row],[Date]])","v":12},{"$f":"IF(ChillTempAct[[#This Row],[Month]]=J489,K489+1,1)","v":2}]
[44537,35,21,{"$f":"AVERAGE(ChillTempAct[[#This Row],[ChillHigh]:[ChillLow]])","v":28},{"$f":"IF(ChillTempAct[[#This Row],[ChillAve]]<65,65-ChillTempAct[[#This Row],[ChillAve]],0)","v":37},{"$f":"INDEX(TempAdj[AdjustPct],MATCH(MONTH(ChillTempAct[[#This Row],[Date]]),TempAdj[Month],0))","v":2.8799999999999999E-2},{"$f":"ChillTempAct[[#This Row],[ChillHDD]]*(1+ChillTempAct[[#This Row],[ChillAdj]])","v":38.065599999999996},{"$f":"SUMPRODUCT((RankNHDD[Month]=ChillTempAct[[#This Row],[Month]])*(RankNHDD[Rank]=ChillTempAct[[#This Row],[Rank]])*RankNHDD[KIRKNHDD])","v":53.055698924731203},{"$f":"YEAR(ChillTempAct[[#This Row],[Date]])","v":2021},{"$f":"MONTH(ChillTempAct[[#This Row],[Date]])","v":12},{"$f":"IF(ChillTempAct[[#This Row],[Month]]=J490,K490+1,1)","v":3}]
[44550,35,22,{"$f":"AVERAGE(ChillTempAct[[#This Row],[ChillHigh]:[ChillLow]])","v":28.5},{"$f":"IF(ChillTempAct[[#This Row],[ChillAve]]<65,65-ChillTempAct[[#This Row],[ChillAve]],0)","v":36.5},{"$f":"INDEX(TempAdj[AdjustPct],MATCH(MONTH(ChillTempAct[[#This Row],[Date]]),TempAdj[Month],0))","v":2.8799999999999999E-2},{"$f":"ChillTempAct[[#This Row],[ChillHDD]]*(1+ChillTempAct[[#This Row],[ChillAdj]])","v":37.551199999999994},{"$f":"SUMPRODUCT((RankNHDD[Month]=ChillTempAct[[#This Row],[Month]])*(RankNHDD[Rank]=ChillTempAct[[#This Row],[Rank]])*RankNHDD[KIRKNHDD])","v":50.106075268817207},{"$f":"YEAR(ChillTempAct[[#This Row],[Date]])","v":2021},{"$f":"MONTH(ChillTempAct[[#This Row],[Date]])","v":12},{"$f":"IF(ChillTempAct[[#This Row],[Month]]=J491,K491+1,1)","v":4}]
[44551,44,17,{"$f":"AVERAGE(ChillTempAct[[#This Row],[ChillHigh]:[ChillLow]])","v":30.5},{"$f":"IF(ChillTempAct[[#This Row],[ChillAve]]<65,65-ChillTempAct[[#This Row],[ChillAve]],0)","v":34.5},{"$f":"INDEX(TempAdj[AdjustPct],MATCH(MONTH(ChillTempAct[[#This Row],[Date]]),TempAdj[Month],0))","v":2.8799999999999999E-2},{"$f":"ChillTempAct[[#This Row],[ChillHDD]]*(1+ChillTempAct[[#This Row],[ChillAdj]])","v":35.493600000000001},{"$f":"SUMPRODUCT((RankNHDD[Month]=ChillTempAct[[#This Row],[Month]])*(RankNHDD[Rank]=ChillTempAct[[#This Row],[Rank]])*RankNHDD[KIRKNHDD])","v":47.620430107526893},{"$f":"YEAR(ChillTempAct[[#This Row],[Date]])","v":2021},{"$f":"MONTH(ChillTempAct[[#This Row],[Date]])","v":12},{"$f":"IF(ChillTempAct[[#This Row],[Month]]=J492,K492+1,1)","v":5}]
[44552,44,17,{"$f":"AVERAGE(ChillTempAct[[#This Row],[ChillHigh]:[ChillLow]])","v":30.5},{"$f":"IF(ChillTempAct[[#This Row],[ChillAve]]<65,65-ChillTempAct[[#This Row],[ChillAve]],0)","v":34.5},{"$f":"INDEX(TempAdj[AdjustPct],MATCH(MONTH(ChillTempAct[[#This Row],[Date]]),TempAdj[Month],0))","v":2.8799999999999999E-2},{"$f":"ChillTempAct[[#This Row],[ChillHDD]]*(1+ChillTempAct[[#This Row],[ChillAdj]])","v":35.493600000000001},{"$f":"SUMPRODUCT((RankNHDD[Month]=ChillTempAct[[#This Row],[Month]])*(RankNHDD[Rank]=ChillTempAct[[#This Row],[Rank]])*RankNHDD[KIRKNHDD])","v":45.680143369175624},{"$f":"YEAR(ChillTempAct[[#This Row],[Date]])","v":2021},{"$f":"MONTH(ChillTempAct[[#This Row],[Date]])","v":12},{"$f":"IF(ChillTempAct[[#This Row],[Month]]=J493,K493+1,1)","v":6}]
[44538,39,23,{"$f":"AVERAGE(ChillTempAct[[#This Row],[ChillHigh]:[ChillLow]])","v":31},{"$f":"IF(ChillTempAct[[#This Row],[ChillAve]]<65,65-ChillTempAct[[#This Row],[ChillAve]],0)","v":34},{"$f":"INDEX(TempAdj[AdjustPct],MATCH(MONTH(ChillTempAct[[#This Row],[Date]]),TempAdj[Month],0))","v":2.8799999999999999E-2},{"$f":"ChillTempAct[[#This Row],[ChillHDD]]*(1+ChillTempAct[[#This Row],[ChillAdj]])","v":34.979199999999999},{"$f":"SUMPRODUCT((RankNHDD[Month]=ChillTempAct[[#This Row],[Month]])*(RankNHDD[Rank]=ChillTempAct[[#This Row],[Rank]])*RankNHDD[KIRKNHDD])","v":43.916648745519709},{"$f":"YEAR(ChillTempAct[[#This Row],[Date]])","v":2021},{"$f":"MONTH(ChillTempAct[[#This Row],[Date]])","v":12},{"$f":"IF(ChillTempAct[[#This Row],[Month]]=J494,K494+1,1)","v":7}]
[44561,36,26,{"$f":"AVERAGE(ChillTempAct[[#This Row],[ChillHigh]:[ChillLow]])","v":31},{"$f":"IF(ChillTempAct[[#This Row],[ChillAve]]<65,65-ChillTempAct[[#This Row],[ChillAve]],0)","v":34},{"$f":"INDEX(TempAdj[AdjustPct],MATCH(MONTH(ChillTempAct[[#This Row],[Date]]),TempAdj[Month],0))","v":2.8799999999999999E-2},{"$f":"ChillTempAct[[#This Row],[ChillHDD]]*(1+ChillTempAct[[#This Row],[ChillAdj]])","v":34.979199999999999},{"$f":"SUMPRODUCT((RankNHDD[Month]=ChillTempAct[[#This Row],[Month]])*(RankNHDD[Rank]=ChillTempAct[[#This Row],[Rank]])*RankNHDD[KIRKNHDD])","v":42.349301075268826},{"$f":"YEAR(ChillTempAct[[#This Row],[Date]])","v":2021},{"$f":"MONTH(ChillTempAct[[#This Row],[Date]])","v":12},{"$f":"IF(ChillTempAct[[#This Row],[Month]]=J495,K495+1,1)","v":8}]
[44548,41,25,{"$f":"AVERAGE(ChillTempAct[[#This Row],[ChillHigh]:[ChillLow]])","v":33},{"$f":"IF(ChillTempAct[[#This Row],[ChillAve]]<65,65-ChillTempAct[[#This Row],[ChillAve]],0)","v":32},{"$f":"INDEX(TempAdj[AdjustPct],MATCH(MONTH(ChillTempAct[[#This Row],[Date]]),TempAdj[Month],0))","v":2.8799999999999999E-2},{"$f":"ChillTempAct[[#This Row],[ChillHDD]]*(1+ChillTempAct[[#This Row],[ChillAdj]])","v":32.921599999999998},{"$f":"SUMPRODUCT((RankNHDD[Month]=ChillTempAct[[#This Row],[Month]])*(RankNHDD[Rank]=ChillTempAct[[#This Row],[Rank]])*RankNHDD[KIRKNHDD])","v":41.072741935483876},{"$f":"YEAR(ChillTempAct[[#This Row],[Date]])","v":2021},{"$f":"MONTH(ChillTempAct[[#This Row],[Date]])","v":12},{"$f":"IF(ChillTempAct[[#This Row],[Month]]=J496,K496+1,1)","v":9}]
[44553,47,21,{"$f":"AVERAGE(ChillTempAct[[#This Row],[ChillHigh]:[ChillLow]])","v":34},{"$f":"IF(ChillTempAct[[#This Row],[ChillAve]]<65,65-ChillTempAct[[#This Row],[ChillAve]],0)","v":31},{"$f":"INDEX(TempAdj[AdjustPct],MATCH(MONTH(ChillTempAct[[#This Row],[Date]]),TempAdj[Month],0))","v":2.8799999999999999E-2},{"$f":"ChillTempAct[[#This Row],[ChillHDD]]*(1+ChillTempAct[[#This Row],[ChillAdj]])","v":31.892799999999998},{"$f":"SUMPRODUCT((RankNHDD[Month]=ChillTempAct[[#This Row],[Month]])*(RankNHDD[Rank]=ChillTempAct[[#This Row],[Rank]])*RankNHDD[KIRKNHDD])","v":40.174856630824387},{"$f":"YEAR(ChillTempAct[[#This Row],[Date]])","v":2021},{"$f":"MONTH(ChillTempAct[[#This Row],[Date]])","v":12},{"$f":"IF(ChillTempAct[[#This Row],[Month]]=J497,K497+1,1)","v":10}]
[44559,49,20,{"$f":"AVERAGE(ChillTempAct[[#This Row],[ChillHigh]:[ChillLow]])","v":34.5},{"$f":"IF(ChillTempAct[[#This Row],[ChillAve]]<65,65-ChillTempAct[[#This Row],[ChillAve]],0)","v":30.5},{"$f":"INDEX(TempAdj[AdjustPct],MATCH(MONTH(ChillTempAct[[#This Row],[Date]]),TempAdj[Month],0))","v":2.8799999999999999E-2},{"$f":"ChillTempAct[[#This Row],[ChillHDD]]*(1+ChillTempAct[[#This Row],[ChillAdj]])","v":31.378399999999999},{"$f":"SUMPRODUCT((RankNHDD[Month]=ChillTempAct[[#This Row],[Month]])*(RankNHDD[Rank]=ChillTempAct[[#This Row],[Rank]])*RankNHDD[KIRKNHDD])","v":39.343028673835128},{"$f":"YEAR(ChillTempAct[[#This Row],[Date]])","v":2021},{"$f":"MONTH(ChillTempAct[[#This Row],[Date]])","v":12},{"$f":"IF(ChillTempAct[[#This Row],[Month]]=J498,K498+1,1)","v":11}]
[44547,45,25,{"$f":"AVERAGE(ChillTempAct[[#This Row],[ChillHigh]:[ChillLow]])","v":35},{"$f":"IF(ChillTempAct[[#This Row],[ChillAve]]<65,65-ChillTempAct[[#This Row],[ChillAve]],0)","v":30},{"$f":"INDEX(TempAdj[AdjustPct],MATCH(MONTH(ChillTempAct[[#This Row],[Date]]),TempAdj[Month],0))","v":2.8799999999999999E-2},{"$f":"ChillTempAct[[#This Row],[ChillHDD]]*(1+ChillTempAct[[#This Row],[ChillAdj]])","v":30.863999999999997},{"$f":"SUMPRODUCT((RankNHDD[Month]=ChillTempAct[[#This Row],[Month]])*(RankNHDD[Rank]=ChillTempAct[[#This Row],[Rank]])*RankNHDD[KIRKNHDD])","v":38.280358422939067},{"$f":"YEAR(ChillTempAct[[#This Row],[Date]])","v":2021},{"$f":"MONTH(ChillTempAct[[#This Row],[Date]])","v":12},{"$f":"IF(ChillTempAct[[#This Row],[Month]]=J499,K499+1,1)","v":12}]
[44539,48,24,{"$f":"AVERAGE(ChillTempAct[[#This Row],[ChillHigh]:[ChillLow]])","v":36},{"$f":"IF(ChillTempAct[[#This Row],[ChillAve]]<65,65-ChillTempAct[[#This Row],[ChillAve]],0)","v":29},{"$f":"INDEX(TempAdj[AdjustPct],MATCH(MONTH(ChillTempAct[[#This Row],[Date]]),TempAdj[Month],0))","v":2.8799999999999999E-2},{"$f":"ChillTempAct[[#This Row],[ChillHDD]]*(1+ChillTempAct[[#This Row],[ChillAdj]])","v":29.835199999999997},{"$f":"SUMPRODUCT((RankNHDD[Month]=ChillTempAct[[#This Row],[Month]])*(RankNHDD[Rank]=ChillTempAct[[#This Row],[Rank]])*RankNHDD[KIRKNHDD])","v":37.370770609319003},{"$f":"YEAR(ChillTempAct[[#This Row],[Date]])","v":2021},{"$f":"MONTH(ChillTempAct[[#This Row],[Date]])","v":12},{"$f":"IF(ChillTempAct[[#This Row],[Month]]=J500,K500+1,1)","v":13}]
[44558,42,33,{"$f":"AVERAGE(ChillTempAct[[#This Row],[ChillHigh]:[ChillLow]])","v":37.5},{"$f":"IF(ChillTempAct[[#This Row],[ChillAve]]<65,65-ChillTempAct[[#This Row],[ChillAve]],0)","v":27.5},{"$f":"INDEX(TempAdj[AdjustPct],MATCH(MONTH(ChillTempAct[[#This Row],[Date]]),TempAdj[Month],0))","v":2.8799999999999999E-2},{"$f":"ChillTempAct[[#This Row],[ChillHDD]]*(1+ChillTempAct[[#This Row],[ChillAdj]])","v":28.291999999999998},{"$f":"SUMPRODUCT((RankNHDD[Month]=ChillTempAct[[#This Row],[Month]])*(RankNHDD[Rank]=ChillTempAct[[#This Row],[Rank]])*RankNHDD[KIRKNHDD])","v":36.52629032258065},{"$f":"YEAR(ChillTempAct[[#This Row],[Date]])","v":2021},{"$f":"MONTH(ChillTempAct[[#This Row],[Date]])","v":12},{"$f":"IF(ChillTempAct[[#This Row],[Month]]=J501,K501+1,1)","v":14}]
[44542,49,27,{"$f":"AVERAGE(ChillTempAct[[#This Row],[ChillHigh]:[ChillLow]])","v":38},{"$f":"IF(ChillTempAct[[#This Row],[ChillAve]]<65,65-ChillTempAct[[#This Row],[ChillAve]],0)","v":27},{"$f":"INDEX(TempAdj[AdjustPct],MATCH(MONTH(ChillTempAct[[#This Row],[Date]]),TempAdj[Month],0))","v":2.8799999999999999E-2},{"$f":"ChillTempAct[[#This Row],[ChillHDD]]*(1+ChillTempAct[[#This Row],[ChillAdj]])","v":27.7776},{"$f":"SUMPRODUCT((RankNHDD[Month]=ChillTempAct[[#This Row],[Month]])*(RankNHDD[Rank]=ChillTempAct[[#This Row],[Rank]])*RankNHDD[KIRKNHDD])","v":35.81541218637993},{"$f":"YEAR(ChillTempAct[[#This Row],[Date]])","v":2021},{"$f":"MONTH(ChillTempAct[[#This Row],[Date]])","v":12},{"$f":"IF(ChillTempAct[[#This Row],[Month]]=J502,K502+1,1)","v":15}]
[44556,52,27,{"$f":"AVERAGE(ChillTempAct[[#This Row],[ChillHigh]:[ChillLow]])","v":39.5},{"$f":"IF(ChillTempAct[[#This Row],[ChillAve]]<65,65-ChillTempAct[[#This Row],[ChillAve]],0)","v":25.5},{"$f":"INDEX(TempAdj[AdjustPct],MATCH(MONTH(ChillTempAct[[#This Row],[Date]]),TempAdj[Month],0))","v":2.8799999999999999E-2},{"$f":"ChillTempAct[[#This Row],[ChillHDD]]*(1+ChillTempAct[[#This Row],[ChillAdj]])","v":26.234399999999997},{"$f":"SUMPRODUCT((RankNHDD[Month]=ChillTempAct[[#This Row],[Month]])*(RankNHDD[Rank]=ChillTempAct[[#This Row],[Rank]])*RankNHDD[KIRKNHDD])","v":34.727007168458776},{"$f":"YEAR(ChillTempAct[[#This Row],[Date]])","v":2021},{"$f":"MONTH(ChillTempAct[[#This Row],[Date]])","v":12},{"$f":"IF(ChillTempAct[[#This Row],[Month]]=J503,K503+1,1)","v":16}]
[44531,49,32,{"$f":"AVERAGE(ChillTempAct[[#This Row],[ChillHigh]:[ChillLow]])","v":40.5},{"$f":"IF(ChillTempAct[[#This Row],[ChillAve]]<65,65-ChillTempAct[[#This Row],[ChillAve]],0)","v":24.5},{"$f":"INDEX(TempAdj[AdjustPct],MATCH(MONTH(ChillTempAct[[#This Row],[Date]]),TempAdj[Month],0))","v":2.8799999999999999E-2},{"$f":"ChillTempAct[[#This Row],[ChillHDD]]*(1+ChillTempAct[[#This Row],[ChillAdj]])","v":25.205599999999997},{"$f":"SUMPRODUCT((RankNHDD[Month]=ChillTempAct[[#This Row],[Month]])*(RankNHDD[Rank]=ChillTempAct[[#This Row],[Rank]])*RankNHDD[KIRKNHDD])","v":33.681792114695341},{"$f":"YEAR(ChillTempAct[[#This Row],[Date]])","v":2021},{"$f":"MONTH(ChillTempAct[[#This Row],[Date]])","v":12},{"$f":"IF(ChillTempAct[[#This Row],[Month]]=J504,K504+1,1)","v":17}]
[44544,55,27,{"$f":"AVERAGE(ChillTempAct[[#This Row],[ChillHigh]:[ChillLow]])","v":41},{"$f":"IF(ChillTempAct[[#This Row],[ChillAve]]<65,65-ChillTempAct[[#This Row],[ChillAve]],0)","v":24},{"$f":"INDEX(TempAdj[AdjustPct],MATCH(MONTH(ChillTempAct[[#This Row],[Date]]),TempAdj[Month],0))","v":2.8799999999999999E-2},{"$f":"ChillTempAct[[#This Row],[ChillHDD]]*(1+ChillTempAct[[#This Row],[ChillAdj]])","v":24.691199999999998},{"$f":"SUMPRODUCT((RankNHDD[Month]=ChillTempAct[[#This Row],[Month]])*(RankNHDD[Rank]=ChillTempAct[[#This Row],[Rank]])*RankNHDD[KIRKNHDD])","v":32.824336917562725},{"$f":"YEAR(ChillTempAct[[#This Row],[Date]])","v":2021},{"$f":"MONTH(ChillTempAct[[#This Row],[Date]])","v":12},{"$f":"IF(ChillTempAct[[#This Row],[Month]]=J505,K505+1,1)","v":18}]
[44535,49,34,{"$f":"AVERAGE(ChillTempAct[[#This Row],[ChillHigh]:[ChillLow]])","v":41.5},{"$f":"IF(ChillTempAct[[#This Row],[ChillAve]]<65,65-ChillTempAct[[#This Row],[ChillAve]],0)","v":23.5},{"$f":"INDEX(TempAdj[AdjustPct],MATCH(MONTH(ChillTempAct[[#This Row],[Date]]),TempAdj[Month],0))","v":2.8799999999999999E-2},{"$f":"ChillTempAct[[#This Row],[ChillHDD]]*(1+ChillTempAct[[#This Row],[ChillAdj]])","v":24.1768},{"$f":"SUMPRODUCT((RankNHDD[Month]=ChillTempAct[[#This Row],[Month]])*(RankNHDD[Rank]=ChillTempAct[[#This Row],[Rank]])*RankNHDD[KIRKNHDD])","v":31.934193548387089},{"$f":"YEAR(ChillTempAct[[#This Row],[Date]])","v":2021},{"$f":"MONTH(ChillTempAct[[#This Row],[Date]])","v":12},{"$f":"IF(ChillTempAct[[#This Row],[Month]]=J506,K506+1,1)","v":19}]
[44543,55,28,{"$f":"AVERAGE(ChillTempAct[[#This Row],[ChillHigh]:[ChillLow]])","v":41.5},{"$f":"IF(ChillTempAct[[#This Row],[ChillAve]]<65,65-ChillTempAct[[#This Row],[ChillAve]],0)","v":23.5},{"$f":"INDEX(TempAdj[AdjustPct],MATCH(MONTH(ChillTempAct[[#This Row],[Date]]),TempAdj[Month],0))","v":2.8799999999999999E-2},{"$f":"ChillTempAct[[#This Row],[ChillHDD]]*(1+ChillTempAct[[#This Row],[ChillAdj]])","v":24.1768},{"$f":"SUMPRODUCT((RankNHDD[Month]=ChillTempAct[[#This Row],[Month]])*(RankNHDD[Rank]=ChillTempAct[[#This Row],[Rank]])*RankNHDD[KIRKNHDD])","v":30.966792114695341},{"$f":"YEAR(ChillTempAct[[#This Row],[Date]])","v":2021},{"$f":"MONTH(ChillTempAct[[#This Row],[Date]])","v":12},{"$f":"IF(ChillTempAct[[#This Row],[Month]]=J507,K507+1,1)","v":20}]
[44536,62,26,{"$f":"AVERAGE(ChillTempAct[[#This Row],[ChillHigh]:[ChillLow]])","v":44},{"$f":"IF(ChillTempAct[[#This Row],[ChillAve]]<65,65-ChillTempAct[[#This Row],[ChillAve]],0)","v":21},{"$f":"INDEX(TempAdj[AdjustPct],MATCH(MONTH(ChillTempAct[[#This Row],[Date]]),TempAdj[Month],0))","v":2.8799999999999999E-2},{"$f":"ChillTempAct[[#This Row],[ChillHDD]]*(1+ChillTempAct[[#This Row],[ChillAdj]])","v":21.604799999999997},{"$f":"SUMPRODUCT((RankNHDD[Month]=ChillTempAct[[#This Row],[Month]])*(RankNHDD[Rank]=ChillTempAct[[#This Row],[Rank]])*RankNHDD[KIRKNHDD])","v":30.176039426523289},{"$f":"YEAR(ChillTempAct[[#This Row],[Date]])","v":2021},{"$f":"MONTH(ChillTempAct[[#This Row],[Date]])","v":12},{"$f":"IF(ChillTempAct[[#This Row],[Month]]=J508,K508+1,1)","v":21}]
[44557,60,30,{"$f":"AVERAGE(ChillTempAct[[#This Row],[ChillHigh]:[ChillLow]])","v":45},{"$f":"IF(ChillTempAct[[#This Row],[ChillAve]]<65,65-ChillTempAct[[#This Row],[ChillAve]],0)","v":20},{"$f":"INDEX(TempAdj[AdjustPct],MATCH(MONTH(ChillTempAct[[#This Row],[Date]]),TempAdj[Month],0))","v":2.8799999999999999E-2},{"$f":"ChillTempAct[[#This Row],[ChillHDD]]*(1+ChillTempAct[[#This Row],[ChillAdj]])","v":20.576000000000001},{"$f":"SUMPRODUCT((RankNHDD[Month]=ChillTempAct[[#This Row],[Month]])*(RankNHDD[Rank]=ChillTempAct[[#This Row],[Rank]])*RankNHDD[KIRKNHDD])","v":29.45564516129032},{"$f":"YEAR(ChillTempAct[[#This Row],[Date]])","v":2021},{"$f":"MONTH(ChillTempAct[[#This Row],[Date]])","v":12},{"$f":"IF(ChillTempAct[[#This Row],[Month]]=J509,K509+1,1)","v":22}]
[44534,62,34,{"$f":"AVERAGE(ChillTempAct[[#This Row],[ChillHigh]:[ChillLow]])","v":48},{"$f":"IF(ChillTempAct[[#This Row],[ChillAve]]<65,65-ChillTempAct[[#This Row],[ChillAve]],0)","v":17},{"$f":"INDEX(TempAdj[AdjustPct],MATCH(MONTH(ChillTempAct[[#This Row],[Date]]),TempAdj[Month],0))","v":2.8799999999999999E-2},{"$f":"ChillTempAct[[#This Row],[ChillHDD]]*(1+ChillTempAct[[#This Row],[ChillAdj]])","v":17.489599999999999},{"$f":"SUMPRODUCT((RankNHDD[Month]=ChillTempAct[[#This Row],[Month]])*(RankNHDD[Rank]=ChillTempAct[[#This Row],[Rank]])*RankNHDD[KIRKNHDD])","v":28.63349462365591},{"$f":"YEAR(ChillTempAct[[#This Row],[Date]])","v":2021},{"$f":"MONTH(ChillTempAct[[#This Row],[Date]])","v":12},{"$f":"IF(ChillTempAct[[#This Row],[Month]]=J510,K510+1,1)","v":23}]
[44540,61,36,{"$f":"AVERAGE(ChillTempAct[[#This Row],[ChillHigh]:[ChillLow]])","v":48.5},{"$f":"IF(ChillTempAct[[#This Row],[ChillAve]]<65,65-ChillTempAct[[#This Row],[ChillAve]],0)","v":16.5},{"$f":"INDEX(TempAdj[AdjustPct],MATCH(MONTH(ChillTempAct[[#This Row],[Date]]),TempAdj[Month],0))","v":2.8799999999999999E-2},{"$f":"ChillTempAct[[#This Row],[ChillHDD]]*(1+ChillTempAct[[#This Row],[ChillAdj]])","v":16.975199999999997},{"$f":"SUMPRODUCT((RankNHDD[Month]=ChillTempAct[[#This Row],[Month]])*(RankNHDD[Rank]=ChillTempAct[[#This Row],[Rank]])*RankNHDD[KIRKNHDD])","v":27.616182795698922},{"$f":"YEAR(ChillTempAct[[#This Row],[Date]])","v":2021},{"$f":"MONTH(ChillTempAct[[#This Row],[Date]])","v":12},{"$f":"IF(ChillTempAct[[#This Row],[Month]]=J511,K511+1,1)","v":24}]
[44541,64,33,{"$f":"AVERAGE(ChillTempAct[[#This Row],[ChillHigh]:[ChillLow]])","v":48.5},{"$f":"IF(ChillTempAct[[#This Row],[ChillAve]]<65,65-ChillTempAct[[#This Row],[ChillAve]],0)","v":16.5},{"$f":"INDEX(TempAdj[AdjustPct],MATCH(MONTH(ChillTempAct[[#This Row],[Date]]),TempAdj[Month],0))","v":2.8799999999999999E-2},{"$f":"ChillTempAct[[#This Row],[ChillHDD]]*(1+ChillTempAct[[#This Row],[ChillAdj]])","v":16.975199999999997},{"$f":"SUMPRODUCT((RankNHDD[Month]=ChillTempAct[[#This Row],[Month]])*(RankNHDD[Rank]=ChillTempAct[[#This Row],[Rank]])*RankNHDD[KIRKNHDD])","v":26.567401433691753},{"$f":"YEAR(ChillTempAct[[#This Row],[Date]])","v":2021},{"$f":"MONTH(ChillTempAct[[#This Row],[Date]])","v":12},{"$f":"IF(ChillTempAct[[#This Row],[Month]]=J512,K512+1,1)","v":25}]
[44554,58,39,{"$f":"AVERAGE(ChillTempAct[[#This Row],[ChillHigh]:[ChillLow]])","v":48.5},{"$f":"IF(ChillTempAct[[#This Row],[ChillAve]]<65,65-ChillTempAct[[#This Row],[ChillAve]],0)","v":16.5},{"$f":"INDEX(TempAdj[AdjustPct],MATCH(MONTH(ChillTempAct[[#This Row],[Date]]),TempAdj[Month],0))","v":2.8799999999999999E-2},{"$f":"ChillTempAct[[#This Row],[ChillHDD]]*(1+ChillTempAct[[#This Row],[ChillAdj]])","v":16.975199999999997},{"$f":"SUMPRODUCT((RankNHDD[Month]=ChillTempAct[[#This Row],[Month]])*(RankNHDD[Rank]=ChillTempAct[[#This Row],[Rank]])*RankNHDD[KIRKNHDD])","v":25.634014336917563},{"$f":"YEAR(ChillTempAct[[#This Row],[Date]])","v":2021},{"$f":"MONTH(ChillTempAct[[#This Row],[Date]])","v":12},{"$f":"IF(ChillTempAct[[#This Row],[Month]]=J513,K513+1,1)","v":26}]
[44532,62,36,{"$f":"AVERAGE(ChillTempAct[[#This Row],[ChillHigh]:[ChillLow]])","v":49},{"$f":"IF(ChillTempAct[[#This Row],[ChillAve]]<65,65-ChillTempAct[[#This Row],[ChillAve]],0)","v":16},{"$f":"INDEX(TempAdj[AdjustPct],MATCH(MONTH(ChillTempAct[[#This Row],[Date]]),TempAdj[Month],0))","v":2.8799999999999999E-2},{"$f":"ChillTempAct[[#This Row],[ChillHDD]]*(1+ChillTempAct[[#This Row],[ChillAdj]])","v":16.460799999999999},{"$f":"SUMPRODUCT((RankNHDD[Month]=ChillTempAct[[#This Row],[Month]])*(RankNHDD[Rank]=ChillTempAct[[#This Row],[Rank]])*RankNHDD[KIRKNHDD])","v":24.530483870967746},{"$f":"YEAR(ChillTempAct[[#This Row],[Date]])","v":2021},{"$f":"MONTH(ChillTempAct[[#This Row],[Date]])","v":12},{"$f":"IF(ChillTempAct[[#This Row],[Month]]=J514,K514+1,1)","v":27}]
[44545,67,37,{"$f":"AVERAGE(ChillTempAct[[#This Row],[ChillHigh]:[ChillLow]])","v":52},{"$f":"IF(ChillTempAct[[#This Row],[ChillAve]]<65,65-ChillTempAct[[#This Row],[ChillAve]],0)","v":13},{"$f":"INDEX(TempAdj[AdjustPct],MATCH(MONTH(ChillTempAct[[#This Row],[Date]]),TempAdj[Month],0))","v":2.8799999999999999E-2},{"$f":"ChillTempAct[[#This Row],[ChillHDD]]*(1+ChillTempAct[[#This Row],[ChillAdj]])","v":13.3744},{"$f":"SUMPRODUCT((RankNHDD[Month]=ChillTempAct[[#This Row],[Month]])*(RankNHDD[Rank]=ChillTempAct[[#This Row],[Rank]])*RankNHDD[KIRKNHDD])","v":23.029551971326168},{"$f":"YEAR(ChillTempAct[[#This Row],[Date]])","v":2021},{"$f":"MONTH(ChillTempAct[[#This Row],[Date]])","v":12},{"$f":"IF(ChillTempAct[[#This Row],[Month]]=J515,K515+1,1)","v":28}]
[44546,74,31,{"$f":"AVERAGE(ChillTempAct[[#This Row],[ChillHigh]:[ChillLow]])","v":52.5},{"$f":"IF(ChillTempAct[[#This Row],[ChillAve]]<65,65-ChillTempAct[[#This Row],[ChillAve]],0)","v":12.5},{"$f":"INDEX(TempAdj[AdjustPct],MATCH(MONTH(ChillTempAct[[#This Row],[Date]]),TempAdj[Month],0))","v":2.8799999999999999E-2},{"$f":"ChillTempAct[[#This Row],[ChillHDD]]*(1+ChillTempAct[[#This Row],[ChillAdj]])","v":12.86},{"$f":"SUMPRODUCT((RankNHDD[Month]=ChillTempAct[[#This Row],[Month]])*(RankNHDD[Rank]=ChillTempAct[[#This Row],[Rank]])*RankNHDD[KIRKNHDD])","v":20.715035842293908},{"$f":"YEAR(ChillTempAct[[#This Row],[Date]])","v":2021},{"$f":"MONTH(ChillTempAct[[#This Row],[Date]])","v":12},{"$f":"IF(ChillTempAct[[#This Row],[Month]]=J516,K516+1,1)","v":29}]
[44533,70,37,{"$f":"AVERAGE(ChillTempAct[[#This Row],[ChillHigh]:[ChillLow]])","v":53.5},{"$f":"IF(ChillTempAct[[#This Row],[ChillAve]]<65,65-ChillTempAct[[#This Row],[ChillAve]],0)","v":11.5},{"$f":"INDEX(TempAdj[AdjustPct],MATCH(MONTH(ChillTempAct[[#This Row],[Date]]),TempAdj[Month],0))","v":2.8799999999999999E-2},{"$f":"ChillTempAct[[#This Row],[ChillHDD]]*(1+ChillTempAct[[#This Row],[ChillAdj]])","v":11.831199999999999},{"$f":"SUMPRODUCT((RankNHDD[Month]=ChillTempAct[[#This Row],[Month]])*(RankNHDD[Rank]=ChillTempAct[[#This Row],[Rank]])*RankNHDD[KIRKNHDD])","v":18.225089605734766},{"$f":"YEAR(ChillTempAct[[#This Row],[Date]])","v":2021},{"$f":"MONTH(ChillTempAct[[#This Row],[Date]])","v":12},{"$f":"IF(ChillTempAct[[#This Row],[Month]]=J517,K517+1,1)","v":30}]
[44555,71,39,{"$f":"AVERAGE(ChillTempAct[[#This Row],[ChillHigh]:[ChillLow]])","v":55},{"$f":"IF(ChillTempAct[[#This Row],[ChillAve]]<65,65-ChillTempAct[[#This Row],[ChillAve]],0)","v":10},{"$f":"INDEX(TempAdj[AdjustPct],MATCH(MONTH(ChillTempAct[[#This Row],[Date]]),TempAdj[Month],0))","v":2.8799999999999999E-2},{"$f":"ChillTempAct[[#This Row],[ChillHDD]]*(1+ChillTempAct[[#This Row],[ChillAdj]])","v":10.288},{"$f":"SUMPRODUCT((RankNHDD[Month]=ChillTempAct[[#This Row],[Month]])*(RankNHDD[Rank]=ChillTempAct[[#This Row],[Rank]])*RankNHDD[KIRKNHDD])","v":12.179946236559145},{"$f":"YEAR(ChillTempAct[[#This Row],[Date]])","v":2021},{"$f":"MONTH(ChillTempAct[[#This Row],[Date]])","v":12},{"$f":"IF(ChillTempAct[[#This Row],[Month]]=J518,K518+1,1)","v":31}]
[44582,12,-3,{"$f":"AVERAGE(ChillTempAct[[#This Row],[ChillHigh]:[ChillLow]])","v":4.5},{"$f":"IF(ChillTempAct[[#This Row],[ChillAve]]<65,65-ChillTempAct[[#This Row],[ChillAve]],0)","v":60.5},{"$f":"INDEX(TempAdj[AdjustPct],MATCH(MONTH(ChillTempAct[[#This Row],[Date]]),TempAdj[Month],0))","v":2.8899999999999999E-2},{"$f":"ChillTempAct[[#This Row],[ChillHDD]]*(1+ChillTempAct[[#This Row],[ChillAdj]])","v":62.248449999999998},{"$f":"SUMPRODUCT((RankNHDD[Month]=ChillTempAct[[#This Row],[Month]])*(RankNHDD[Rank]=ChillTempAct[[#This Row],[Rank]])*RankNHDD[KIRKNHDD])","v":65.822706093189979},{"$f":"YEAR(ChillTempAct[[#This Row],[Date]])","v":2022},{"$f":"MONTH(ChillTempAct[[#This Row],[Date]])","v":1},{"$f":"IF(ChillTempAct[[#This Row],[Month]]=J519,K519+1,1)","v":1}]
[44564,12,0,{"$f":"AVERAGE(ChillTempAct[[#This Row],[ChillHigh]:[ChillLow]])","v":6},{"$f":"IF(ChillTempAct[[#This Row],[ChillAve]]<65,65-ChillTempAct[[#This Row],[ChillAve]],0)","v":59},{"$f":"INDEX(TempAdj[AdjustPct],MATCH(MONTH(ChillTempAct[[#This Row],[Date]]),TempAdj[Month],0))","v":2.8899999999999999E-2},{"$f":"ChillTempAct[[#This Row],[ChillHDD]]*(1+ChillTempAct[[#This Row],[ChillAdj]])","v":60.705099999999995},{"$f":"SUMPRODUCT((RankNHDD[Month]=ChillTempAct[[#This Row],[Month]])*(RankNHDD[Rank]=ChillTempAct[[#This Row],[Rank]])*RankNHDD[KIRKNHDD])","v":60.72220430107528},{"$f":"YEAR(ChillTempAct[[#This Row],[Date]])","v":2022},{"$f":"MONTH(ChillTempAct[[#This Row],[Date]])","v":1},{"$f":"IF(ChillTempAct[[#This Row],[Month]]=J520,K520+1,1)","v":2}]
[44568,10,4,{"$f":"AVERAGE(ChillTempAct[[#This Row],[ChillHigh]:[ChillLow]])","v":7},{"$f":"IF(ChillTempAct[[#This Row],[ChillAve]]<65,65-ChillTempAct[[#This Row],[ChillAve]],0)","v":58},{"$f":"INDEX(TempAdj[AdjustPct],MATCH(MONTH(ChillTempAct[[#This Row],[Date]]),TempAdj[Month],0))","v":2.8899999999999999E-2},{"$f":"ChillTempAct[[#This Row],[ChillHDD]]*(1+ChillTempAct[[#This Row],[ChillAdj]])","v":59.676199999999994},{"$f":"SUMPRODUCT((RankNHDD[Month]=ChillTempAct[[#This Row],[Month]])*(RankNHDD[Rank]=ChillTempAct[[#This Row],[Rank]])*RankNHDD[KIRKNHDD])","v":57.487974910394264},{"$f":"YEAR(ChillTempAct[[#This Row],[Date]])","v":2022},{"$f":"MONTH(ChillTempAct[[#This Row],[Date]])","v":1},{"$f":"IF(ChillTempAct[[#This Row],[Month]]=J521,K521+1,1)","v":3}]
[44563,15,0,{"$f":"AVERAGE(ChillTempAct[[#This Row],[ChillHigh]:[ChillLow]])","v":7.5},{"$f":"IF(ChillTempAct[[#This Row],[ChillAve]]<65,65-ChillTempAct[[#This Row],[ChillAve]],0)","v":57.5},{"$f":"INDEX(TempAdj[AdjustPct],MATCH(MONTH(ChillTempAct[[#This Row],[Date]]),TempAdj[Month],0))","v":2.8899999999999999E-2},{"$f":"ChillTempAct[[#This Row],[ChillHDD]]*(1+ChillTempAct[[#This Row],[ChillAdj]])","v":59.161749999999998},{"$f":"SUMPRODUCT((RankNHDD[Month]=ChillTempAct[[#This Row],[Month]])*(RankNHDD[Rank]=ChillTempAct[[#This Row],[Rank]])*RankNHDD[KIRKNHDD])","v":55.163817204301068},{"$f":"YEAR(ChillTempAct[[#This Row],[Date]])","v":2022},{"$f":"MONTH(ChillTempAct[[#This Row],[Date]])","v":1},{"$f":"IF(ChillTempAct[[#This Row],[Month]]=J522,K522+1,1)","v":4}]
[44583,22,-3,{"$f":"AVERAGE(ChillTempAct[[#This Row],[ChillHigh]:[ChillLow]])","v":9.5},{"$f":"IF(ChillTempAct[[#This Row],[ChillAve]]<65,65-ChillTempAct[[#This Row],[ChillAve]],0)","v":55.5},{"$f":"INDEX(TempAdj[AdjustPct],MATCH(MONTH(ChillTempAct[[#This Row],[Date]]),TempAdj[Month],0))","v":2.8899999999999999E-2},{"$f":"ChillTempAct[[#This Row],[ChillHDD]]*(1+ChillTempAct[[#This Row],[ChillAdj]])","v":57.103949999999998},{"$f":"SUMPRODUCT((RankNHDD[Month]=ChillTempAct[[#This Row],[Month]])*(RankNHDD[Rank]=ChillTempAct[[#This Row],[Rank]])*RankNHDD[KIRKNHDD])","v":53.204211469534037},{"$f":"YEAR(ChillTempAct[[#This Row],[Date]])","v":2022},{"$f":"MONTH(ChillTempAct[[#This Row],[Date]])","v":1},{"$f":"IF(ChillTempAct[[#This Row],[Month]]=J523,K523+1,1)","v":5}]
[44587,18,1,{"$f":"AVERAGE(ChillTempAct[[#This Row],[ChillHigh]:[ChillLow]])","v":9.5},{"$f":"IF(ChillTempAct[[#This Row],[ChillAve]]<65,65-ChillTempAct[[#This Row],[ChillAve]],0)","v":55.5},{"$f":"INDEX(TempAdj[AdjustPct],MATCH(MONTH(ChillTempAct[[#This Row],[Date]]),TempAdj[Month],0))","v":2.8899999999999999E-2},{"$f":"ChillTempAct[[#This Row],[ChillHDD]]*(1+ChillTempAct[[#This Row],[ChillAdj]])","v":57.103949999999998},{"$f":"SUMPRODUCT((RankNHDD[Month]=ChillTempAct[[#This Row],[Month]])*(RankNHDD[Rank]=ChillTempAct[[#This Row],[Rank]])*RankNHDD[KIRKNHDD])","v":51.393243727598566},{"$f":"YEAR(ChillTempAct[[#This Row],[Date]])","v":2022},{"$f":"MONTH(ChillTempAct[[#This Row],[Date]])","v":1},{"$f":"IF(ChillTempAct[[#This Row],[Month]]=J524,K524+1,1)","v":6}]
[44581,20,1,{"$f":"AVERAGE(ChillTempAct[[#This Row],[ChillHigh]:[ChillLow]])","v":10.5},{"$f":"IF(ChillTempAct[[#This Row],[ChillAve]]<65,65-ChillTempAct[[#This Row],[ChillAve]],0)","v":54.5},{"$f":"INDEX(TempAdj[AdjustPct],MATCH(MONTH(ChillTempAct[[#This Row],[Date]]),TempAdj[Month],0))","v":2.8899999999999999E-2},{"$f":"ChillTempAct[[#This Row],[ChillHDD]]*(1+ChillTempAct[[#This Row],[ChillAdj]])","v":56.075049999999997},{"$f":"SUMPRODUCT((RankNHDD[Month]=ChillTempAct[[#This Row],[Month]])*(RankNHDD[Rank]=ChillTempAct[[#This Row],[Rank]])*RankNHDD[KIRKNHDD])","v":49.684964157706091},{"$f":"YEAR(ChillTempAct[[#This Row],[Date]])","v":2022},{"$f":"MONTH(ChillTempAct[[#This Row],[Date]])","v":1},{"$f":"IF(ChillTempAct[[#This Row],[Month]]=J525,K525+1,1)","v":7}]
[44567,16,6,{"$f":"AVERAGE(ChillTempAct[[#This Row],[ChillHigh]:[ChillLow]])","v":11},{"$f":"IF(ChillTempAct[[#This Row],[ChillAve]]<65,65-ChillTempAct[[#This Row],[ChillAve]],0)","v":54},{"$f":"INDEX(TempAdj[AdjustPct],MATCH(MONTH(ChillTempAct[[#This Row],[Date]]),TempAdj[Month],0))","v":2.8899999999999999E-2},{"$f":"ChillTempAct[[#This Row],[ChillHDD]]*(1+ChillTempAct[[#This Row],[ChillAdj]])","v":55.560599999999994},{"$f":"SUMPRODUCT((RankNHDD[Month]=ChillTempAct[[#This Row],[Month]])*(RankNHDD[Rank]=ChillTempAct[[#This Row],[Rank]])*RankNHDD[KIRKNHDD])","v":48.045860215053757},{"$f":"YEAR(ChillTempAct[[#This Row],[Date]])","v":2022},{"$f":"MONTH(ChillTempAct[[#This Row],[Date]])","v":1},{"$f":"IF(ChillTempAct[[#This Row],[Month]]=J526,K526+1,1)","v":8}]
[44569,25,6,{"$f":"AVERAGE(ChillTempAct[[#This Row],[ChillHigh]:[ChillLow]])","v":15.5},{"$f":"IF(ChillTempAct[[#This Row],[ChillAve]]<65,65-ChillTempAct[[#This Row],[ChillAve]],0)","v":49.5},{"$f":"INDEX(TempAdj[AdjustPct],MATCH(MONTH(ChillTempAct[[#This Row],[Date]]),TempAdj[Month],0))","v":2.8899999999999999E-2},{"$f":"ChillTempAct[[#This Row],[ChillHDD]]*(1+ChillTempAct[[#This Row],[ChillAdj]])","v":50.930549999999997},{"$f":"SUMPRODUCT((RankNHDD[Month]=ChillTempAct[[#This Row],[Month]])*(RankNHDD[Rank]=ChillTempAct[[#This Row],[Rank]])*RankNHDD[KIRKNHDD])","v":46.415931899641571},{"$f":"YEAR(ChillTempAct[[#This Row],[Date]])","v":2022},{"$f":"MONTH(ChillTempAct[[#This Row],[Date]])","v":1},{"$f":"IF(ChillTempAct[[#This Row],[Month]]=J527,K527+1,1)","v":9}]
[44588,30,2,{"$f":"AVERAGE(ChillTempAct[[#This Row],[ChillHigh]:[ChillLow]])","v":16},{"$f":"IF(ChillTempAct[[#This Row],[ChillAve]]<65,65-ChillTempAct[[#This Row],[ChillAve]],0)","v":49},{"$f":"INDEX(TempAdj[AdjustPct],MATCH(MONTH(ChillTempAct[[#This Row],[Date]]),TempAdj[Month],0))","v":2.8899999999999999E-2},{"$f":"ChillTempAct[[#This Row],[ChillHDD]]*(1+ChillTempAct[[#This Row],[ChillAdj]])","v":50.416099999999993},{"$f":"SUMPRODUCT((RankNHDD[Month]=ChillTempAct[[#This Row],[Month]])*(RankNHDD[Rank]=ChillTempAct[[#This Row],[Rank]])*RankNHDD[KIRKNHDD])","v":45.240573476702501},{"$f":"YEAR(ChillTempAct[[#This Row],[Date]])","v":2022},{"$f":"MONTH(ChillTempAct[[#This Row],[Date]])","v":1},{"$f":"IF(ChillTempAct[[#This Row],[Month]]=J528,K528+1,1)","v":10}]
[44590,25,8,{"$f":"AVERAGE(ChillTempAct[[#This Row],[ChillHigh]:[ChillLow]])","v":16.5},{"$f":"IF(ChillTempAct[[#This Row],[ChillAve]]<65,65-ChillTempAct[[#This Row],[ChillAve]],0)","v":48.5},{"$f":"INDEX(TempAdj[AdjustPct],MATCH(MONTH(ChillTempAct[[#This Row],[Date]]),TempAdj[Month],0))","v":2.8899999999999999E-2},{"$f":"ChillTempAct[[#This Row],[ChillHDD]]*(1+ChillTempAct[[#This Row],[ChillAdj]])","v":49.901649999999997},{"$f":"SUMPRODUCT((RankNHDD[Month]=ChillTempAct[[#This Row],[Month]])*(RankNHDD[Rank]=ChillTempAct[[#This Row],[Rank]])*RankNHDD[KIRKNHDD])","v":44.340537634408598},{"$f":"YEAR(ChillTempAct[[#This Row],[Date]])","v":2022},{"$f":"MONTH(ChillTempAct[[#This Row],[Date]])","v":1},{"$f":"IF(ChillTempAct[[#This Row],[Month]]=J529,K529+1,1)","v":11}]
[44577,23,14,{"$f":"AVERAGE(ChillTempAct[[#This Row],[ChillHigh]:[ChillLow]])","v":18.5},{"$f":"IF(ChillTempAct[[#This Row],[ChillAve]]<65,65-ChillTempAct[[#This Row],[ChillAve]],0)","v":46.5},{"$f":"INDEX(TempAdj[AdjustPct],MATCH(MONTH(ChillTempAct[[#This Row],[Date]]),TempAdj[Month],0))","v":2.8899999999999999E-2},{"$f":"ChillTempAct[[#This Row],[ChillHDD]]*(1+ChillTempAct[[#This Row],[ChillAdj]])","v":47.843849999999996},{"$f":"SUMPRODUCT((RankNHDD[Month]=ChillTempAct[[#This Row],[Month]])*(RankNHDD[Rank]=ChillTempAct[[#This Row],[Rank]])*RankNHDD[KIRKNHDD])","v":43.232365591397851},{"$f":"YEAR(ChillTempAct[[#This Row],[Date]])","v":2022},{"$f":"MONTH(ChillTempAct[[#This Row],[Date]])","v":1},{"$f":"IF(ChillTempAct[[#This Row],[Month]]=J530,K530+1,1)","v":12}]
[44565,34,4,{"$f":"AVERAGE(ChillTempAct[[#This Row],[ChillHigh]:[ChillLow]])","v":19},{"$f":"IF(ChillTempAct[[#This Row],[ChillAve]]<65,65-ChillTempAct[[#This Row],[ChillAve]],0)","v":46},{"$f":"INDEX(TempAdj[AdjustPct],MATCH(MONTH(ChillTempAct[[#This Row],[Date]]),TempAdj[Month],0))","v":2.8899999999999999E-2},{"$f":"ChillTempAct[[#This Row],[ChillHDD]]*(1+ChillTempAct[[#This Row],[ChillAdj]])","v":47.3294},{"$f":"SUMPRODUCT((RankNHDD[Month]=ChillTempAct[[#This Row],[Month]])*(RankNHDD[Rank]=ChillTempAct[[#This Row],[Rank]])*RankNHDD[KIRKNHDD])","v":42.183512544802859},{"$f":"YEAR(ChillTempAct[[#This Row],[Date]])","v":2022},{"$f":"MONTH(ChillTempAct[[#This Row],[Date]])","v":1},{"$f":"IF(ChillTempAct[[#This Row],[Month]]=J531,K531+1,1)","v":13}]
[44571,25,15,{"$f":"AVERAGE(ChillTempAct[[#This Row],[ChillHigh]:[ChillLow]])","v":20},{"$f":"IF(ChillTempAct[[#This Row],[ChillAve]]<65,65-ChillTempAct[[#This Row],[ChillAve]],0)","v":45},{"$f":"INDEX(TempAdj[AdjustPct],MATCH(MONTH(ChillTempAct[[#This Row],[Date]]),TempAdj[Month],0))","v":2.8899999999999999E-2},{"$f":"ChillTempAct[[#This Row],[ChillHDD]]*(1+ChillTempAct[[#This Row],[ChillAdj]])","v":46.3005},{"$f":"SUMPRODUCT((RankNHDD[Month]=ChillTempAct[[#This Row],[Month]])*(RankNHDD[Rank]=ChillTempAct[[#This Row],[Rank]])*RankNHDD[KIRKNHDD])","v":40.864462365591393},{"$f":"YEAR(ChillTempAct[[#This Row],[Date]])","v":2022},{"$f":"MONTH(ChillTempAct[[#This Row],[Date]])","v":1},{"$f":"IF(ChillTempAct[[#This Row],[Month]]=J532,K532+1,1)","v":14}]
[44578,32,14,{"$f":"AVERAGE(ChillTempAct[[#This Row],[ChillHigh]:[ChillLow]])","v":23},{"$f":"IF(ChillTempAct[[#This Row],[ChillAve]]<65,65-ChillTempAct[[#This Row],[ChillAve]],0)","v":42},{"$f":"INDEX(TempAdj[AdjustPct],MATCH(MONTH(ChillTempAct[[#This Row],[Date]]),TempAdj[Month],0))","v":2.8899999999999999E-2},{"$f":"ChillTempAct[[#This Row],[ChillHDD]]*(1+ChillTempAct[[#This Row],[ChillAdj]])","v":43.213799999999999},{"$f":"SUMPRODUCT((RankNHDD[Month]=ChillTempAct[[#This Row],[Month]])*(RankNHDD[Rank]=ChillTempAct[[#This Row],[Rank]])*RankNHDD[KIRKNHDD])","v":39.602455197132606},{"$f":"YEAR(ChillTempAct[[#This Row],[Date]])","v":2022},{"$f":"MONTH(ChillTempAct[[#This Row],[Date]])","v":1},{"$f":"IF(ChillTempAct[[#This Row],[Month]]=J533,K533+1,1)","v":15}]
[44589,37,10,{"$f":"AVERAGE(ChillTempAct[[#This Row],[ChillHigh]:[ChillLow]])","v":23.5},{"$f":"IF(ChillTempAct[[#This Row],[ChillAve]]<65,65-ChillTempAct[[#This Row],[ChillAve]],0)","v":41.5},{"$f":"INDEX(TempAdj[AdjustPct],MATCH(MONTH(ChillTempAct[[#This Row],[Date]]),TempAdj[Month],0))","v":2.8899999999999999E-2},{"$f":"ChillTempAct[[#This Row],[ChillHDD]]*(1+ChillTempAct[[#This Row],[ChillAdj]])","v":42.699349999999995},{"$f":"SUMPRODUCT((RankNHDD[Month]=ChillTempAct[[#This Row],[Month]])*(RankNHDD[Rank]=ChillTempAct[[#This Row],[Rank]])*RankNHDD[KIRKNHDD])","v":38.514211469534047},{"$f":"YEAR(ChillTempAct[[#This Row],[Date]])","v":2022},{"$f":"MONTH(ChillTempAct[[#This Row],[Date]])","v":1},{"$f":"IF(ChillTempAct[[#This Row],[Month]]=J534,K534+1,1)","v":16}]
[44572,33,16,{"$f":"AVERAGE(ChillTempAct[[#This Row],[ChillHigh]:[ChillLow]])","v":24.5},{"$f":"IF(ChillTempAct[[#This Row],[ChillAve]]<65,65-ChillTempAct[[#This Row],[ChillAve]],0)","v":40.5},{"$f":"INDEX(TempAdj[AdjustPct],MATCH(MONTH(ChillTempAct[[#This Row],[Date]]),TempAdj[Month],0))","v":2.8899999999999999E-2},{"$f":"ChillTempAct[[#This Row],[ChillHDD]]*(1+ChillTempAct[[#This Row],[ChillAdj]])","v":41.670449999999995},{"$f":"SUMPRODUCT((RankNHDD[Month]=ChillTempAct[[#This Row],[Month]])*(RankNHDD[Rank]=ChillTempAct[[#This Row],[Rank]])*RankNHDD[KIRKNHDD])","v":37.535376344086018},{"$f":"YEAR(ChillTempAct[[#This Row],[Date]])","v":2022},{"$f":"MONTH(ChillTempAct[[#This Row],[Date]])","v":1},{"$f":"IF(ChillTempAct[[#This Row],[Month]]=J535,K535+1,1)","v":17}]
[44586,44,6,{"$f":"AVERAGE(ChillTempAct[[#This Row],[ChillHigh]:[ChillLow]])","v":25},{"$f":"IF(ChillTempAct[[#This Row],[ChillAve]]<65,65-ChillTempAct[[#This Row],[ChillAve]],0)","v":40},{"$f":"INDEX(TempAdj[AdjustPct],MATCH(MONTH(ChillTempAct[[#This Row],[Date]]),TempAdj[Month],0))","v":2.8899999999999999E-2},{"$f":"ChillTempAct[[#This Row],[ChillHDD]]*(1+ChillTempAct[[#This Row],[ChillAdj]])","v":41.155999999999999},{"$f":"SUMPRODUCT((RankNHDD[Month]=ChillTempAct[[#This Row],[Month]])*(RankNHDD[Rank]=ChillTempAct[[#This Row],[Rank]])*RankNHDD[KIRKNHDD])","v":36.481272401433678},{"$f":"YEAR(ChillTempAct[[#This Row],[Date]])","v":2022},{"$f":"MONTH(ChillTempAct[[#This Row],[Date]])","v":1},{"$f":"IF(ChillTempAct[[#This Row],[Month]]=J536,K536+1,1)","v":18}]
[44570,34,20,{"$f":"AVERAGE(ChillTempAct[[#This Row],[ChillHigh]:[ChillLow]])","v":27},{"$f":"IF(ChillTempAct[[#This Row],[ChillAve]]<65,65-ChillTempAct[[#This Row],[ChillAve]],0)","v":38},{"$f":"INDEX(TempAdj[AdjustPct],MATCH(MONTH(ChillTempAct[[#This Row],[Date]]),TempAdj[Month],0))","v":2.8899999999999999E-2},{"$f":"ChillTempAct[[#This Row],[ChillHDD]]*(1+ChillTempAct[[#This Row],[ChillAdj]])","v":39.098199999999999},{"$f":"SUMPRODUCT((RankNHDD[Month]=ChillTempAct[[#This Row],[Month]])*(RankNHDD[Rank]=ChillTempAct[[#This Row],[Rank]])*RankNHDD[KIRKNHDD])","v":35.555268817204293},{"$f":"YEAR(ChillTempAct[[#This Row],[Date]])","v":2022},{"$f":"MONTH(ChillTempAct[[#This Row],[Date]])","v":1},{"$f":"IF(ChillTempAct[[#This Row],[Month]]=J537,K537+1,1)","v":19}]
[44566,46,11,{"$f":"AVERAGE(ChillTempAct[[#This Row],[ChillHigh]:[ChillLow]])","v":28.5},{"$f":"IF(ChillTempAct[[#This Row],[ChillAve]]<65,65-ChillTempAct[[#This Row],[ChillAve]],0)","v":36.5},{"$f":"INDEX(TempAdj[AdjustPct],MATCH(MONTH(ChillTempAct[[#This Row],[Date]]),TempAdj[Month],0))","v":2.8899999999999999E-2},{"$f":"ChillTempAct[[#This Row],[ChillHDD]]*(1+ChillTempAct[[#This Row],[ChillAdj]])","v":37.554849999999995},{"$f":"SUMPRODUCT((RankNHDD[Month]=ChillTempAct[[#This Row],[Month]])*(RankNHDD[Rank]=ChillTempAct[[#This Row],[Rank]])*RankNHDD[KIRKNHDD])","v":34.810842293906802},{"$f":"YEAR(ChillTempAct[[#This Row],[Date]])","v":2022},{"$f":"MONTH(ChillTempAct[[#This Row],[Date]])","v":1},{"$f":"IF(ChillTempAct[[#This Row],[Month]]=J538,K538+1,1)","v":20}]
[44592,34,23,{"$f":"AVERAGE(ChillTempAct[[#This Row],[ChillHigh]:[ChillLow]])","v":28.5},{"$f":"IF(ChillTempAct[[#This Row],[ChillAve]]<65,65-ChillTempAct[[#This Row],[ChillAve]],0)","v":36.5},{"$f":"INDEX(TempAdj[AdjustPct],MATCH(MONTH(ChillTempAct[[#This Row],[Date]]),TempAdj[Month],0))","v":2.8899999999999999E-2},{"$f":"ChillTempAct[[#This Row],[ChillHDD]]*(1+ChillTempAct[[#This Row],[ChillAdj]])","v":37.554849999999995},{"$f":"SUMPRODUCT((RankNHDD[Month]=ChillTempAct[[#This Row],[Month]])*(RankNHDD[Rank]=ChillTempAct[[#This Row],[Rank]])*RankNHDD[KIRKNHDD])","v":33.842401433691748},{"$f":"YEAR(ChillTempAct[[#This Row],[Date]])","v":2022},{"$f":"MONTH(ChillTempAct[[#This Row],[Date]])","v":1},{"$f":"IF(ChillTempAct[[#This Row],[Month]]=J539,K539+1,1)","v":21}]
[44579,35,23,{"$f":"AVERAGE(ChillTempAct[[#This Row],[ChillHigh]:[ChillLow]])","v":29},{"$f":"IF(ChillTempAct[[#This Row],[ChillAve]]<65,65-ChillTempAct[[#This Row],[ChillAve]],0)","v":36},{"$f":"INDEX(TempAdj[AdjustPct],MATCH(MONTH(ChillTempAct[[#This Row],[Date]]),TempAdj[Month],0))","v":2.8899999999999999E-2},{"$f":"ChillTempAct[[#This Row],[ChillHDD]]*(1+ChillTempAct[[#This Row],[ChillAdj]])","v":37.040399999999998},{"$f":"SUMPRODUCT((RankNHDD[Month]=ChillTempAct[[#This Row],[Month]])*(RankNHDD[Rank]=ChillTempAct[[#This Row],[Rank]])*RankNHDD[KIRKNHDD])","v":32.992311827956982},{"$f":"YEAR(ChillTempAct[[#This Row],[Date]])","v":2022},{"$f":"MONTH(ChillTempAct[[#This Row],[Date]])","v":1},{"$f":"IF(ChillTempAct[[#This Row],[Month]]=J540,K540+1,1)","v":22}]
[44585,37,21,{"$f":"AVERAGE(ChillTempAct[[#This Row],[ChillHigh]:[ChillLow]])","v":29},{"$f":"IF(ChillTempAct[[#This Row],[ChillAve]]<65,65-ChillTempAct[[#This Row],[ChillAve]],0)","v":36},{"$f":"INDEX(TempAdj[AdjustPct],MATCH(MONTH(ChillTempAct[[#This Row],[Date]]),TempAdj[Month],0))","v":2.8899999999999999E-2},{"$f":"ChillTempAct[[#This Row],[ChillHDD]]*(1+ChillTempAct[[#This Row],[ChillAdj]])","v":37.040399999999998},{"$f":"SUMPRODUCT((RankNHDD[Month]=ChillTempAct[[#This Row],[Month]])*(RankNHDD[Rank]=ChillTempAct[[#This Row],[Rank]])*RankNHDD[KIRKNHDD])","v":32.111827956989238},{"$f":"YEAR(ChillTempAct[[#This Row],[Date]])","v":2022},{"$f":"MONTH(ChillTempAct[[#This Row],[Date]])","v":1},{"$f":"IF(ChillTempAct[[#This Row],[Month]]=J541,K541+1,1)","v":23}]
[44562,45,15,{"$f":"AVERAGE(ChillTempAct[[#This Row],[ChillHigh]:[ChillLow]])","v":30},{"$f":"IF(ChillTempAct[[#This Row],[ChillAve]]<65,65-ChillTempAct[[#This Row],[ChillAve]],0)","v":35},{"$f":"INDEX(TempAdj[AdjustPct],MATCH(MONTH(ChillTempAct[[#This Row],[Date]]),TempAdj[Month],0))","v":2.8899999999999999E-2},{"$f":"ChillTempAct[[#This Row],[ChillHDD]]*(1+ChillTempAct[[#This Row],[ChillAdj]])","v":36.011499999999998},{"$f":"SUMPRODUCT((RankNHDD[Month]=ChillTempAct[[#This Row],[Month]])*(RankNHDD[Rank]=ChillTempAct[[#This Row],[Rank]])*RankNHDD[KIRKNHDD])","v":30.768136200716835},{"$f":"YEAR(ChillTempAct[[#This Row],[Date]])","v":2022},{"$f":"MONTH(ChillTempAct[[#This Row],[Date]])","v":1},{"$f":"IF(ChillTempAct[[#This Row],[Month]]=J542,K542+1,1)","v":24}]
[44584,41,19,{"$f":"AVERAGE(ChillTempAct[[#This Row],[ChillHigh]:[ChillLow]])","v":30},{"$f":"IF(ChillTempAct[[#This Row],[ChillAve]]<65,65-ChillTempAct[[#This Row],[ChillAve]],0)","v":35},{"$f":"INDEX(TempAdj[AdjustPct],MATCH(MONTH(ChillTempAct[[#This Row],[Date]]),TempAdj[Month],0))","v":2.8899999999999999E-2},{"$f":"ChillTempAct[[#This Row],[ChillHDD]]*(1+ChillTempAct[[#This Row],[ChillAdj]])","v":36.011499999999998},{"$f":"SUMPRODUCT((RankNHDD[Month]=ChillTempAct[[#This Row],[Month]])*(RankNHDD[Rank]=ChillTempAct[[#This Row],[Rank]])*RankNHDD[KIRKNHDD])","v":29.395394265232973},{"$f":"YEAR(ChillTempAct[[#This Row],[Date]])","v":2022},{"$f":"MONTH(ChillTempAct[[#This Row],[Date]])","v":1},{"$f":"IF(ChillTempAct[[#This Row],[Month]]=J543,K543+1,1)","v":25}]
[44576,38,23,{"$f":"AVERAGE(ChillTempAct[[#This Row],[ChillHigh]:[ChillLow]])","v":30.5},{"$f":"IF(ChillTempAct[[#This Row],[ChillAve]]<65,65-ChillTempAct[[#This Row],[ChillAve]],0)","v":34.5},{"$f":"INDEX(TempAdj[AdjustPct],MATCH(MONTH(ChillTempAct[[#This Row],[Date]]),TempAdj[Month],0))","v":2.8899999999999999E-2},{"$f":"ChillTempAct[[#This Row],[ChillHDD]]*(1+ChillTempAct[[#This Row],[ChillAdj]])","v":35.497049999999994},{"$f":"SUMPRODUCT((RankNHDD[Month]=ChillTempAct[[#This Row],[Month]])*(RankNHDD[Rank]=ChillTempAct[[#This Row],[Rank]])*RankNHDD[KIRKNHDD])","v":28.297043010752681},{"$f":"YEAR(ChillTempAct[[#This Row],[Date]])","v":2022},{"$f":"MONTH(ChillTempAct[[#This Row],[Date]])","v":1},{"$f":"IF(ChillTempAct[[#This Row],[Month]]=J544,K544+1,1)","v":26}]
[44591,48,15,{"$f":"AVERAGE(ChillTempAct[[#This Row],[ChillHigh]:[ChillLow]])","v":31.5},{"$f":"IF(ChillTempAct[[#This Row],[ChillAve]]<65,65-ChillTempAct[[#This Row],[ChillAve]],0)","v":33.5},{"$f":"INDEX(TempAdj[AdjustPct],MATCH(MONTH(ChillTempAct[[#This Row],[Date]]),TempAdj[Month],0))","v":2.8899999999999999E-2},{"$f":"ChillTempAct[[#This Row],[ChillHDD]]*(1+ChillTempAct[[#This Row],[ChillAdj]])","v":34.468149999999994},{"$f":"SUMPRODUCT((RankNHDD[Month]=ChillTempAct[[#This Row],[Month]])*(RankNHDD[Rank]=ChillTempAct[[#This Row],[Rank]])*RankNHDD[KIRKNHDD])","v":27.088584229390676},{"$f":"YEAR(ChillTempAct[[#This Row],[Date]])","v":2022},{"$f":"MONTH(ChillTempAct[[#This Row],[Date]])","v":1},{"$f":"IF(ChillTempAct[[#This Row],[Month]]=J545,K545+1,1)","v":27}]
[44580,47,20,{"$f":"AVERAGE(ChillTempAct[[#This Row],[ChillHigh]:[ChillLow]])","v":33.5},{"$f":"IF(ChillTempAct[[#This Row],[ChillAve]]<65,65-ChillTempAct[[#This Row],[ChillAve]],0)","v":31.5},{"$f":"INDEX(TempAdj[AdjustPct],MATCH(MONTH(ChillTempAct[[#This Row],[Date]]),TempAdj[Month],0))","v":2.8899999999999999E-2},{"$f":"ChillTempAct[[#This Row],[ChillHDD]]*(1+ChillTempAct[[#This Row],[ChillAdj]])","v":32.410350000000001},{"$f":"SUMPRODUCT((RankNHDD[Month]=ChillTempAct[[#This Row],[Month]])*(RankNHDD[Rank]=ChillTempAct[[#This Row],[Rank]])*RankNHDD[KIRKNHDD])","v":25.43605734767025},{"$f":"YEAR(ChillTempAct[[#This Row],[Date]])","v":2022},{"$f":"MONTH(ChillTempAct[[#This Row],[Date]])","v":1},{"$f":"IF(ChillTempAct[[#This Row],[Month]]=J546,K546+1,1)","v":28}]
[44573,56,19,{"$f":"AVERAGE(ChillTempAct[[#This Row],[ChillHigh]:[ChillLow]])","v":37.5},{"$f":"IF(ChillTempAct[[#This Row],[ChillAve]]<65,65-ChillTempAct[[#This Row],[ChillAve]],0)","v":27.5},{"$f":"INDEX(TempAdj[AdjustPct],MATCH(MONTH(ChillTempAct[[#This Row],[Date]]),TempAdj[Month],0))","v":2.8899999999999999E-2},{"$f":"ChillTempAct[[#This Row],[ChillHDD]]*(1+ChillTempAct[[#This Row],[ChillAdj]])","v":28.294749999999997},{"$f":"SUMPRODUCT((RankNHDD[Month]=ChillTempAct[[#This Row],[Month]])*(RankNHDD[Rank]=ChillTempAct[[#This Row],[Rank]])*RankNHDD[KIRKNHDD])","v":23.563172043010745},{"$f":"YEAR(ChillTempAct[[#This Row],[Date]])","v":2022},{"$f":"MONTH(ChillTempAct[[#This Row],[Date]])","v":1},{"$f":"IF(ChillTempAct[[#This Row],[Month]]=J547,K547+1,1)","v":29}]
[44574,53,29,{"$f":"AVERAGE(ChillTempAct[[#This Row],[ChillHigh]:[ChillLow]])","v":41},{"$f":"IF(ChillTempAct[[#This Row],[ChillAve]]<65,65-ChillTempAct[[#This Row],[ChillAve]],0)","v":24},{"$f":"INDEX(TempAdj[AdjustPct],MATCH(MONTH(ChillTempAct[[#This Row],[Date]]),TempAdj[Month],0))","v":2.8899999999999999E-2},{"$f":"ChillTempAct[[#This Row],[ChillHDD]]*(1+ChillTempAct[[#This Row],[ChillAdj]])","v":24.693599999999996},{"$f":"SUMPRODUCT((RankNHDD[Month]=ChillTempAct[[#This Row],[Month]])*(RankNHDD[Rank]=ChillTempAct[[#This Row],[Rank]])*RankNHDD[KIRKNHDD])","v":21.201881720430098},{"$f":"YEAR(ChillTempAct[[#This Row],[Date]])","v":2022},{"$f":"MONTH(ChillTempAct[[#This Row],[Date]])","v":1},{"$f":"IF(ChillTempAct[[#This Row],[Month]]=J548,K548+1,1)","v":30}]
[44575,54,28,{"$f":"AVERAGE(ChillTempAct[[#This Row],[ChillHigh]:[ChillLow]])","v":41},{"$f":"IF(ChillTempAct[[#This Row],[ChillAve]]<65,65-ChillTempAct[[#This Row],[ChillAve]],0)","v":24},{"$f":"INDEX(TempAdj[AdjustPct],MATCH(MONTH(ChillTempAct[[#This Row],[Date]]),TempAdj[Month],0))","v":2.8899999999999999E-2},{"$f":"ChillTempAct[[#This Row],[ChillHDD]]*(1+ChillTempAct[[#This Row],[ChillAdj]])","v":24.693599999999996},{"$f":"SUMPRODUCT((RankNHDD[Month]=ChillTempAct[[#This Row],[Month]])*(RankNHDD[Rank]=ChillTempAct[[#This Row],[Rank]])*RankNHDD[KIRKNHDD])","v":15.503064516129026},{"$f":"YEAR(ChillTempAct[[#This Row],[Date]])","v":2022},{"$f":"MONTH(ChillTempAct[[#This Row],[Date]])","v":1},{"$f":"IF(ChillTempAct[[#This Row],[Month]]=J549,K549+1,1)","v":31}]
[44596,19,2,{"$f":"AVERAGE(ChillTempAct[[#This Row],[ChillHigh]:[ChillLow]])","v":10.5},{"$f":"IF(ChillTempAct[[#This Row],[ChillAve]]<65,65-ChillTempAct[[#This Row],[ChillAve]],0)","v":54.5},{"$f":"INDEX(TempAdj[AdjustPct],MATCH(MONTH(ChillTempAct[[#This Row],[Date]]),TempAdj[Month],0))","v":3.9800000000000002E-2},{"$f":"ChillTempAct[[#This Row],[ChillHDD]]*(1+ChillTempAct[[#This Row],[ChillAdj]])","v":56.6691},{"$f":"SUMPRODUCT((RankNHDD[Month]=ChillTempAct[[#This Row],[Month]])*(RankNHDD[Rank]=ChillTempAct[[#This Row],[Rank]])*RankNHDD[KIRKNHDD])","v":63.242389162561587},{"$f":"YEAR(ChillTempAct[[#This Row],[Date]])","v":2022},{"$f":"MONTH(ChillTempAct[[#This Row],[Date]])","v":2},{"$f":"IF(ChillTempAct[[#This Row],[Month]]=J550,K550+1,1)","v":1}]
[44616,18,5,{"$f":"AVERAGE(ChillTempAct[[#This Row],[ChillHigh]:[ChillLow]])","v":11.5},{"$f":"IF(ChillTempAct[[#This Row],[ChillAve]]<65,65-ChillTempAct[[#This Row],[ChillAve]],0)","v":53.5},{"$f":"INDEX(TempAdj[AdjustPct],MATCH(MONTH(ChillTempAct[[#This Row],[Date]]),TempAdj[Month],0))","v":3.9800000000000002E-2},{"$f":"ChillTempAct[[#This Row],[ChillHDD]]*(1+ChillTempAct[[#This Row],[ChillAdj]])","v":55.629300000000001},{"$f":"SUMPRODUCT((RankNHDD[Month]=ChillTempAct[[#This Row],[Month]])*(RankNHDD[Rank]=ChillTempAct[[#This Row],[Rank]])*RankNHDD[KIRKNHDD])","v":57.00799671592776},{"$f":"YEAR(ChillTempAct[[#This Row],[Date]])","v":2022},{"$f":"MONTH(ChillTempAct[[#This Row],[Date]])","v":2},{"$f":"IF(ChillTempAct[[#This Row],[Month]]=J551,K551+1,1)","v":2}]
[44595,18,6,{"$f":"AVERAGE(ChillTempAct[[#This Row],[ChillHigh]:[ChillLow]])","v":12},{"$f":"IF(ChillTempAct[[#This Row],[ChillAve]]<65,65-ChillTempAct[[#This Row],[ChillAve]],0)","v":53},{"$f":"INDEX(TempAdj[AdjustPct],MATCH(MONTH(ChillTempAct[[#This Row],[Date]]),TempAdj[Month],0))","v":3.9800000000000002E-2},{"$f":"ChillTempAct[[#This Row],[ChillHDD]]*(1+ChillTempAct[[#This Row],[ChillAdj]])","v":55.109400000000001},{"$f":"SUMPRODUCT((RankNHDD[Month]=ChillTempAct[[#This Row],[Month]])*(RankNHDD[Rank]=ChillTempAct[[#This Row],[Rank]])*RankNHDD[KIRKNHDD])","v":53.574663382594416},{"$f":"YEAR(ChillTempAct[[#This Row],[Date]])","v":2022},{"$f":"MONTH(ChillTempAct[[#This Row],[Date]])","v":2},{"$f":"IF(ChillTempAct[[#This Row],[Month]]=J552,K552+1,1)","v":3}]
[44610,23,2,{"$f":"AVERAGE(ChillTempAct[[#This Row],[ChillHigh]:[ChillLow]])","v":12.5},{"$f":"IF(ChillTempAct[[#This Row],[ChillAve]]<65,65-ChillTempAct[[#This Row],[ChillAve]],0)","v":52.5},{"$f":"INDEX(TempAdj[AdjustPct],MATCH(MONTH(ChillTempAct[[#This Row],[Date]]),TempAdj[Month],0))","v":3.9800000000000002E-2},{"$f":"ChillTempAct[[#This Row],[ChillHDD]]*(1+ChillTempAct[[#This Row],[ChillAdj]])","v":54.589500000000001},{"$f":"SUMPRODUCT((RankNHDD[Month]=ChillTempAct[[#This Row],[Month]])*(RankNHDD[Rank]=ChillTempAct[[#This Row],[Rank]])*RankNHDD[KIRKNHDD])","v":50.76514778325123},{"$f":"YEAR(ChillTempAct[[#This Row],[Date]])","v":2022},{"$f":"MONTH(ChillTempAct[[#This Row],[Date]])","v":2},{"$f":"IF(ChillTempAct[[#This Row],[Month]]=J553,K553+1,1)","v":4}]
[44617,20,5,{"$f":"AVERAGE(ChillTempAct[[#This Row],[ChillHigh]:[ChillLow]])","v":12.5},{"$f":"IF(ChillTempAct[[#This Row],[ChillAve]]<65,65-ChillTempAct[[#This Row],[ChillAve]],0)","v":52.5},{"$f":"INDEX(TempAdj[AdjustPct],MATCH(MONTH(ChillTempAct[[#This Row],[Date]]),TempAdj[Month],0))","v":3.9800000000000002E-2},{"$f":"ChillTempAct[[#This Row],[ChillHDD]]*(1+ChillTempAct[[#This Row],[ChillAdj]])","v":54.589500000000001},{"$f":"SUMPRODUCT((RankNHDD[Month]=ChillTempAct[[#This Row],[Month]])*(RankNHDD[Rank]=ChillTempAct[[#This Row],[Rank]])*RankNHDD[KIRKNHDD])","v":48.819934318555013},{"$f":"YEAR(ChillTempAct[[#This Row],[Date]])","v":2022},{"$f":"MONTH(ChillTempAct[[#This Row],[Date]])","v":2},{"$f":"IF(ChillTempAct[[#This Row],[Month]]=J554,K554+1,1)","v":5}]
[44597,30,1,{"$f":"AVERAGE(ChillTempAct[[#This Row],[ChillHigh]:[ChillLow]])","v":15.5},{"$f":"IF(ChillTempAct[[#This Row],[ChillAve]]<65,65-ChillTempAct[[#This Row],[ChillAve]],0)","v":49.5},{"$f":"INDEX(TempAdj[AdjustPct],MATCH(MONTH(ChillTempAct[[#This Row],[Date]]),TempAdj[Month],0))","v":3.9800000000000002E-2},{"$f":"ChillTempAct[[#This Row],[ChillHDD]]*(1+ChillTempAct[[#This Row],[ChillAdj]])","v":51.470100000000002},{"$f":"SUMPRODUCT((RankNHDD[Month]=ChillTempAct[[#This Row],[Month]])*(RankNHDD[Rank]=ChillTempAct[[#This Row],[Rank]])*RankNHDD[KIRKNHDD])","v":46.878288177339911},{"$f":"YEAR(ChillTempAct[[#This Row],[Date]])","v":2022},{"$f":"MONTH(ChillTempAct[[#This Row],[Date]])","v":2},{"$f":"IF(ChillTempAct[[#This Row],[Month]]=J555,K555+1,1)","v":6}]
[44618,26,7,{"$f":"AVERAGE(ChillTempAct[[#This Row],[ChillHigh]:[ChillLow]])","v":16.5},{"$f":"IF(ChillTempAct[[#This Row],[ChillAve]]<65,65-ChillTempAct[[#This Row],[ChillAve]],0)","v":48.5},{"$f":"INDEX(TempAdj[AdjustPct],MATCH(MONTH(ChillTempAct[[#This Row],[Date]]),TempAdj[Month],0))","v":3.9800000000000002E-2},{"$f":"ChillTempAct[[#This Row],[ChillHDD]]*(1+ChillTempAct[[#This Row],[ChillAdj]])","v":50.430300000000003},{"$f":"SUMPRODUCT((RankNHDD[Month]=ChillTempAct[[#This Row],[Month]])*(RankNHDD[Rank]=ChillTempAct[[#This Row],[Rank]])*RankNHDD[KIRKNHDD])","v":44.8792446633826},{"$f":"YEAR(ChillTempAct[[#This Row],[Date]])","v":2022},{"$f":"MONTH(ChillTempAct[[#This Row],[Date]])","v":2},{"$f":"IF(ChillTempAct[[#This Row],[Month]]=J556,K556+1,1)","v":7}]
[44605,26,9,{"$f":"AVERAGE(ChillTempAct[[#This Row],[ChillHigh]:[ChillLow]])","v":17.5},{"$f":"IF(ChillTempAct[[#This Row],[ChillAve]]<65,65-ChillTempAct[[#This Row],[ChillAve]],0)","v":47.5},{"$f":"INDEX(TempAdj[AdjustPct],MATCH(MONTH(ChillTempAct[[#This Row],[Date]]),TempAdj[Month],0))","v":3.9800000000000002E-2},{"$f":"ChillTempAct[[#This Row],[ChillHDD]]*(1+ChillTempAct[[#This Row],[ChillAdj]])","v":49.390500000000003},{"$f":"SUMPRODUCT((RankNHDD[Month]=ChillTempAct[[#This Row],[Month]])*(RankNHDD[Rank]=ChillTempAct[[#This Row],[Rank]])*RankNHDD[KIRKNHDD])","v":42.894445812807881},{"$f":"YEAR(ChillTempAct[[#This Row],[Date]])","v":2022},{"$f":"MONTH(ChillTempAct[[#This Row],[Date]])","v":2},{"$f":"IF(ChillTempAct[[#This Row],[Month]]=J557,K557+1,1)","v":8}]
[44615,31,5,{"$f":"AVERAGE(ChillTempAct[[#This Row],[ChillHigh]:[ChillLow]])","v":18},{"$f":"IF(ChillTempAct[[#This Row],[ChillAve]]<65,65-ChillTempAct[[#This Row],[ChillAve]],0)","v":47},{"$f":"INDEX(TempAdj[AdjustPct],MATCH(MONTH(ChillTempAct[[#This Row],[Date]]),TempAdj[Month],0))","v":3.9800000000000002E-2},{"$f":"ChillTempAct[[#This Row],[ChillHDD]]*(1+ChillTempAct[[#This Row],[ChillAdj]])","v":48.870600000000003},{"$f":"SUMPRODUCT((RankNHDD[Month]=ChillTempAct[[#This Row],[Month]])*(RankNHDD[Rank]=ChillTempAct[[#This Row],[Rank]])*RankNHDD[KIRKNHDD])","v":41.50905172413794},{"$f":"YEAR(ChillTempAct[[#This Row],[Date]])","v":2022},{"$f":"MONTH(ChillTempAct[[#This Row],[Date]])","v":2},{"$f":"IF(ChillTempAct[[#This Row],[Month]]=J558,K558+1,1)","v":9}]
[44611,38,4,{"$f":"AVERAGE(ChillTempAct[[#This Row],[ChillHigh]:[ChillLow]])","v":21},{"$f":"IF(ChillTempAct[[#This Row],[ChillAve]]<65,65-ChillTempAct[[#This Row],[ChillAve]],0)","v":44},{"$f":"INDEX(TempAdj[AdjustPct],MATCH(MONTH(ChillTempAct[[#This Row],[Date]]),TempAdj[Month],0))","v":3.9800000000000002E-2},{"$f":"ChillTempAct[[#This Row],[ChillHDD]]*(1+ChillTempAct[[#This Row],[ChillAdj]])","v":45.751200000000004},{"$f":"SUMPRODUCT((RankNHDD[Month]=ChillTempAct[[#This Row],[Month]])*(RankNHDD[Rank]=ChillTempAct[[#This Row],[Rank]])*RankNHDD[KIRKNHDD])","v":40.177586206896557},{"$f":"YEAR(ChillTempAct[[#This Row],[Date]])","v":2022},{"$f":"MONTH(ChillTempAct[[#This Row],[Date]])","v":2},{"$f":"IF(ChillTempAct[[#This Row],[Month]]=J559,K559+1,1)","v":10}]
[44606,26,19,{"$f":"AVERAGE(ChillTempAct[[#This Row],[ChillHigh]:[ChillLow]])","v":22.5},{"$f":"IF(ChillTempAct[[#This Row],[ChillAve]]<65,65-ChillTempAct[[#This Row],[ChillAve]],0)","v":42.5},{"$f":"INDEX(TempAdj[AdjustPct],MATCH(MONTH(ChillTempAct[[#This Row],[Date]]),TempAdj[Month],0))","v":3.9800000000000002E-2},{"$f":"ChillTempAct[[#This Row],[ChillHDD]]*(1+ChillTempAct[[#This Row],[ChillAdj]])","v":44.191500000000005},{"$f":"SUMPRODUCT((RankNHDD[Month]=ChillTempAct[[#This Row],[Month]])*(RankNHDD[Rank]=ChillTempAct[[#This Row],[Rank]])*RankNHDD[KIRKNHDD])","v":39.049371921182257},{"$f":"YEAR(ChillTempAct[[#This Row],[Date]])","v":2022},{"$f":"MONTH(ChillTempAct[[#This Row],[Date]])","v":2},{"$f":"IF(ChillTempAct[[#This Row],[Month]]=J560,K560+1,1)","v":11}]
[44598,38,10,{"$f":"AVERAGE(ChillTempAct[[#This Row],[ChillHigh]:[ChillLow]])","v":24},{"$f":"IF(ChillTempAct[[#This Row],[ChillAve]]<65,65-ChillTempAct[[#This Row],[ChillAve]],0)","v":41},{"$f":"INDEX(TempAdj[AdjustPct],MATCH(MONTH(ChillTempAct[[#This Row],[Date]]),TempAdj[Month],0))","v":3.9800000000000002E-2},{"$f":"ChillTempAct[[#This Row],[ChillHDD]]*(1+ChillTempAct[[#This Row],[ChillAdj]])","v":42.631800000000005},{"$f":"SUMPRODUCT((RankNHDD[Month]=ChillTempAct[[#This Row],[Month]])*(RankNHDD[Rank]=ChillTempAct[[#This Row],[Rank]])*RankNHDD[KIRKNHDD])","v":37.866009852216749},{"$f":"YEAR(ChillTempAct[[#This Row],[Date]])","v":2022},{"$f":"MONTH(ChillTempAct[[#This Row],[Date]])","v":2},{"$f":"IF(ChillTempAct[[#This Row],[Month]]=J561,K561+1,1)","v":12}]
[44619,39,11,{"$f":"AVERAGE(ChillTempAct[[#This Row],[ChillHigh]:[ChillLow]])","v":25},{"$f":"IF(ChillTempAct[[#This Row],[ChillAve]]<65,65-ChillTempAct[[#This Row],[ChillAve]],0)","v":40},{"$f":"INDEX(TempAdj[AdjustPct],MATCH(MONTH(ChillTempAct[[#This Row],[Date]]),TempAdj[Month],0))","v":3.9800000000000002E-2},{"$f":"ChillTempAct[[#This Row],[ChillHDD]]*(1+ChillTempAct[[#This Row],[ChillAdj]])","v":41.591999999999999},{"$f":"SUMPRODUCT((RankNHDD[Month]=ChillTempAct[[#This Row],[Month]])*(RankNHDD[Rank]=ChillTempAct[[#This Row],[Rank]])*RankNHDD[KIRKNHDD])","v":36.764934318555007},{"$f":"YEAR(ChillTempAct[[#This Row],[Date]])","v":2022},{"$f":"MONTH(ChillTempAct[[#This Row],[Date]])","v":2},{"$f":"IF(ChillTempAct[[#This Row],[Month]]=J562,K562+1,1)","v":13}]
[44612,41,15,{"$f":"AVERAGE(ChillTempAct[[#This Row],[ChillHigh]:[ChillLow]])","v":28},{"$f":"IF(ChillTempAct[[#This Row],[ChillAve]]<65,65-ChillTempAct[[#This Row],[ChillAve]],0)","v":37},{"$f":"INDEX(TempAdj[AdjustPct],MATCH(MONTH(ChillTempAct[[#This Row],[Date]]),TempAdj[Month],0))","v":3.9800000000000002E-2},{"$f":"ChillTempAct[[#This Row],[ChillHDD]]*(1+ChillTempAct[[#This Row],[ChillAdj]])","v":38.4726},{"$f":"SUMPRODUCT((RankNHDD[Month]=ChillTempAct[[#This Row],[Month]])*(RankNHDD[Rank]=ChillTempAct[[#This Row],[Rank]])*RankNHDD[KIRKNHDD])","v":35.623895730706067},{"$f":"YEAR(ChillTempAct[[#This Row],[Date]])","v":2022},{"$f":"MONTH(ChillTempAct[[#This Row],[Date]])","v":2},{"$f":"IF(ChillTempAct[[#This Row],[Month]]=J563,K563+1,1)","v":14}]
[44594,46,13,{"$f":"AVERAGE(ChillTempAct[[#This Row],[ChillHigh]:[ChillLow]])","v":29.5},{"$f":"IF(ChillTempAct[[#This Row],[ChillAve]]<65,65-ChillTempAct[[#This Row],[ChillAve]],0)","v":35.5},{"$f":"INDEX(TempAdj[AdjustPct],MATCH(MONTH(ChillTempAct[[#This Row],[Date]]),TempAdj[Month],0))","v":3.9800000000000002E-2},{"$f":"ChillTempAct[[#This Row],[ChillHDD]]*(1+ChillTempAct[[#This Row],[ChillAdj]])","v":36.9129},{"$f":"SUMPRODUCT((RankNHDD[Month]=ChillTempAct[[#This Row],[Month]])*(RankNHDD[Rank]=ChillTempAct[[#This Row],[Rank]])*RankNHDD[KIRKNHDD])","v":34.460303776683091},{"$f":"YEAR(ChillTempAct[[#This Row],[Date]])","v":2022},{"$f":"MONTH(ChillTempAct[[#This Row],[Date]])","v":2},{"$f":"IF(ChillTempAct[[#This Row],[Month]]=J564,K564+1,1)","v":15}]
[44604,50,10,{"$f":"AVERAGE(ChillTempAct[[#This Row],[ChillHigh]:[ChillLow]])","v":30},{"$f":"IF(ChillTempAct[[#This Row],[ChillAve]]<65,65-ChillTempAct[[#This Row],[ChillAve]],0)","v":35},{"$f":"INDEX(TempAdj[AdjustPct],MATCH(MONTH(ChillTempAct[[#This Row],[Date]]),TempAdj[Month],0))","v":3.9800000000000002E-2},{"$f":"ChillTempAct[[#This Row],[ChillHDD]]*(1+ChillTempAct[[#This Row],[ChillAdj]])","v":36.393000000000001},{"$f":"SUMPRODUCT((RankNHDD[Month]=ChillTempAct[[#This Row],[Month]])*(RankNHDD[Rank]=ChillTempAct[[#This Row],[Rank]])*RankNHDD[KIRKNHDD])","v":33.162060755336611},{"$f":"YEAR(ChillTempAct[[#This Row],[Date]])","v":2022},{"$f":"MONTH(ChillTempAct[[#This Row],[Date]])","v":2},{"$f":"IF(ChillTempAct[[#This Row],[Month]]=J565,K565+1,1)","v":16}]
[44607,45,18,{"$f":"AVERAGE(ChillTempAct[[#This Row],[ChillHigh]:[ChillLow]])","v":31.5},{"$f":"IF(ChillTempAct[[#This Row],[ChillAve]]<65,65-ChillTempAct[[#This Row],[ChillAve]],0)","v":33.5},{"$f":"INDEX(TempAdj[AdjustPct],MATCH(MONTH(ChillTempAct[[#This Row],[Date]]),TempAdj[Month],0))","v":3.9800000000000002E-2},{"$f":"ChillTempAct[[#This Row],[ChillHDD]]*(1+ChillTempAct[[#This Row],[ChillAdj]])","v":34.833300000000001},{"$f":"SUMPRODUCT((RankNHDD[Month]=ChillTempAct[[#This Row],[Month]])*(RankNHDD[Rank]=ChillTempAct[[#This Row],[Rank]])*RankNHDD[KIRKNHDD])","v":32.132516420361256},{"$f":"YEAR(ChillTempAct[[#This Row],[Date]])","v":2022},{"$f":"MONTH(ChillTempAct[[#This Row],[Date]])","v":2},{"$f":"IF(ChillTempAct[[#This Row],[Month]]=J566,K566+1,1)","v":17}]
[44599,48,21,{"$f":"AVERAGE(ChillTempAct[[#This Row],[ChillHigh]:[ChillLow]])","v":34.5},{"$f":"IF(ChillTempAct[[#This Row],[ChillAve]]<65,65-ChillTempAct[[#This Row],[ChillAve]],0)","v":30.5},{"$f":"INDEX(TempAdj[AdjustPct],MATCH(MONTH(ChillTempAct[[#This Row],[Date]]),TempAdj[Month],0))","v":3.9800000000000002E-2},{"$f":"ChillTempAct[[#This Row],[ChillHDD]]*(1+ChillTempAct[[#This Row],[ChillAdj]])","v":31.713900000000002},{"$f":"SUMPRODUCT((RankNHDD[Month]=ChillTempAct[[#This Row],[Month]])*(RankNHDD[Rank]=ChillTempAct[[#This Row],[Rank]])*RankNHDD[KIRKNHDD])","v":31.237635467980297},{"$f":"YEAR(ChillTempAct[[#This Row],[Date]])","v":2022},{"$f":"MONTH(ChillTempAct[[#This Row],[Date]])","v":2},{"$f":"IF(ChillTempAct[[#This Row],[Month]]=J567,K567+1,1)","v":18}]
[44620,52,19,{"$f":"AVERAGE(ChillTempAct[[#This Row],[ChillHigh]:[ChillLow]])","v":35.5},{"$f":"IF(ChillTempAct[[#This Row],[ChillAve]]<65,65-ChillTempAct[[#This Row],[ChillAve]],0)","v":29.5},{"$f":"INDEX(TempAdj[AdjustPct],MATCH(MONTH(ChillTempAct[[#This Row],[Date]]),TempAdj[Month],0))","v":3.9800000000000002E-2},{"$f":"ChillTempAct[[#This Row],[ChillHDD]]*(1+ChillTempAct[[#This Row],[ChillAdj]])","v":30.674100000000003},{"$f":"SUMPRODUCT((RankNHDD[Month]=ChillTempAct[[#This Row],[Month]])*(RankNHDD[Rank]=ChillTempAct[[#This Row],[Rank]])*RankNHDD[KIRKNHDD])","v":30.321371100164207},{"$f":"YEAR(ChillTempAct[[#This Row],[Date]])","v":2022},{"$f":"MONTH(ChillTempAct[[#This Row],[Date]])","v":2},{"$f":"IF(ChillTempAct[[#This Row],[Month]]=J568,K568+1,1)","v":19}]
[44600,51,21,{"$f":"AVERAGE(ChillTempAct[[#This Row],[ChillHigh]:[ChillLow]])","v":36},{"$f":"IF(ChillTempAct[[#This Row],[ChillAve]]<65,65-ChillTempAct[[#This Row],[ChillAve]],0)","v":29},{"$f":"INDEX(TempAdj[AdjustPct],MATCH(MONTH(ChillTempAct[[#This Row],[Date]]),TempAdj[Month],0))","v":3.9800000000000002E-2},{"$f":"ChillTempAct[[#This Row],[ChillHDD]]*(1+ChillTempAct[[#This Row],[ChillAdj]])","v":30.154200000000003},{"$f":"SUMPRODUCT((RankNHDD[Month]=ChillTempAct[[#This Row],[Month]])*(RankNHDD[Rank]=ChillTempAct[[#This Row],[Rank]])*RankNHDD[KIRKNHDD])","v":28.929610016420369},{"$f":"YEAR(ChillTempAct[[#This Row],[Date]])","v":2022},{"$f":"MONTH(ChillTempAct[[#This Row],[Date]])","v":2},{"$f":"IF(ChillTempAct[[#This Row],[Month]]=J569,K569+1,1)","v":20}]
[44603,46,26,{"$f":"AVERAGE(ChillTempAct[[#This Row],[ChillHigh]:[ChillLow]])","v":36},{"$f":"IF(ChillTempAct[[#This Row],[ChillAve]]<65,65-ChillTempAct[[#This Row],[ChillAve]],0)","v":29},{"$f":"INDEX(TempAdj[AdjustPct],MATCH(MONTH(ChillTempAct[[#This Row],[Date]]),TempAdj[Month],0))","v":3.9800000000000002E-2},{"$f":"ChillTempAct[[#This Row],[ChillHDD]]*(1+ChillTempAct[[#This Row],[ChillAdj]])","v":30.154200000000003},{"$f":"SUMPRODUCT((RankNHDD[Month]=ChillTempAct[[#This Row],[Month]])*(RankNHDD[Rank]=ChillTempAct[[#This Row],[Rank]])*RankNHDD[KIRKNHDD])","v":27.744831691297215},{"$f":"YEAR(ChillTempAct[[#This Row],[Date]])","v":2022},{"$f":"MONTH(ChillTempAct[[#This Row],[Date]])","v":2},{"$f":"IF(ChillTempAct[[#This Row],[Month]]=J570,K570+1,1)","v":21}]
[44602,51,26,{"$f":"AVERAGE(ChillTempAct[[#This Row],[ChillHigh]:[ChillLow]])","v":38.5},{"$f":"IF(ChillTempAct[[#This Row],[ChillAve]]<65,65-ChillTempAct[[#This Row],[ChillAve]],0)","v":26.5},{"$f":"INDEX(TempAdj[AdjustPct],MATCH(MONTH(ChillTempAct[[#This Row],[Date]]),TempAdj[Month],0))","v":3.9800000000000002E-2},{"$f":"ChillTempAct[[#This Row],[ChillHDD]]*(1+ChillTempAct[[#This Row],[ChillAdj]])","v":27.5547},{"$f":"SUMPRODUCT((RankNHDD[Month]=ChillTempAct[[#This Row],[Month]])*(RankNHDD[Rank]=ChillTempAct[[#This Row],[Rank]])*RankNHDD[KIRKNHDD])","v":26.327175697865357},{"$f":"YEAR(ChillTempAct[[#This Row],[Date]])","v":2022},{"$f":"MONTH(ChillTempAct[[#This Row],[Date]])","v":2},{"$f":"IF(ChillTempAct[[#This Row],[Month]]=J571,K571+1,1)","v":22}]
[44593,58,27,{"$f":"AVERAGE(ChillTempAct[[#This Row],[ChillHigh]:[ChillLow]])","v":42.5},{"$f":"IF(ChillTempAct[[#This Row],[ChillAve]]<65,65-ChillTempAct[[#This Row],[ChillAve]],0)","v":22.5},{"$f":"INDEX(TempAdj[AdjustPct],MATCH(MONTH(ChillTempAct[[#This Row],[Date]]),TempAdj[Month],0))","v":3.9800000000000002E-2},{"$f":"ChillTempAct[[#This Row],[ChillHDD]]*(1+ChillTempAct[[#This Row],[ChillAdj]])","v":23.395500000000002},{"$f":"SUMPRODUCT((RankNHDD[Month]=ChillTempAct[[#This Row],[Month]])*(RankNHDD[Rank]=ChillTempAct[[#This Row],[Rank]])*RankNHDD[KIRKNHDD])","v":24.963612479474556},{"$f":"YEAR(ChillTempAct[[#This Row],[Date]])","v":2022},{"$f":"MONTH(ChillTempAct[[#This Row],[Date]])","v":2},{"$f":"IF(ChillTempAct[[#This Row],[Month]]=J572,K572+1,1)","v":23}]
[44601,59,27,{"$f":"AVERAGE(ChillTempAct[[#This Row],[ChillHigh]:[ChillLow]])","v":43},{"$f":"IF(ChillTempAct[[#This Row],[ChillAve]]<65,65-ChillTempAct[[#This Row],[ChillAve]],0)","v":22},{"$f":"INDEX(TempAdj[AdjustPct],MATCH(MONTH(ChillTempAct[[#This Row],[Date]]),TempAdj[Month],0))","v":3.9800000000000002E-2},{"$f":"ChillTempAct[[#This Row],[ChillHDD]]*(1+ChillTempAct[[#This Row],[ChillAdj]])","v":22.875600000000002},{"$f":"SUMPRODUCT((RankNHDD[Month]=ChillTempAct[[#This Row],[Month]])*(RankNHDD[Rank]=ChillTempAct[[#This Row],[Rank]])*RankNHDD[KIRKNHDD])","v":23.466264367816102},{"$f":"YEAR(ChillTempAct[[#This Row],[Date]])","v":2022},{"$f":"MONTH(ChillTempAct[[#This Row],[Date]])","v":2},{"$f":"IF(ChillTempAct[[#This Row],[Month]]=J573,K573+1,1)","v":24}]
[44609,63,23,{"$f":"AVERAGE(ChillTempAct[[#This Row],[ChillHigh]:[ChillLow]])","v":43},{"$f":"IF(ChillTempAct[[#This Row],[ChillAve]]<65,65-ChillTempAct[[#This Row],[ChillAve]],0)","v":22},{"$f":"INDEX(TempAdj[AdjustPct],MATCH(MONTH(ChillTempAct[[#This Row],[Date]]),TempAdj[Month],0))","v":3.9800000000000002E-2},{"$f":"ChillTempAct[[#This Row],[ChillHDD]]*(1+ChillTempAct[[#This Row],[ChillAdj]])","v":22.875600000000002},{"$f":"SUMPRODUCT((RankNHDD[Month]=ChillTempAct[[#This Row],[Month]])*(RankNHDD[Rank]=ChillTempAct[[#This Row],[Rank]])*RankNHDD[KIRKNHDD])","v":22.007783251231526},{"$f":"YEAR(ChillTempAct[[#This Row],[Date]])","v":2022},{"$f":"MONTH(ChillTempAct[[#This Row],[Date]])","v":2},{"$f":"IF(ChillTempAct[[#This Row],[Month]]=J574,K574+1,1)","v":25}]
[44608,63,26,{"$f":"AVERAGE(ChillTempAct[[#This Row],[ChillHigh]:[ChillLow]])","v":44.5},{"$f":"IF(ChillTempAct[[#This Row],[ChillAve]]<65,65-ChillTempAct[[#This Row],[ChillAve]],0)","v":20.5},{"$f":"INDEX(TempAdj[AdjustPct],MATCH(MONTH(ChillTempAct[[#This Row],[Date]]),TempAdj[Month],0))","v":3.9800000000000002E-2},{"$f":"ChillTempAct[[#This Row],[ChillHDD]]*(1+ChillTempAct[[#This Row],[ChillAdj]])","v":21.315900000000003},{"$f":"SUMPRODUCT((RankNHDD[Month]=ChillTempAct[[#This Row],[Month]])*(RankNHDD[Rank]=ChillTempAct[[#This Row],[Rank]])*RankNHDD[KIRKNHDD])","v":19.816995073891629},{"$f":"YEAR(ChillTempAct[[#This Row],[Date]])","v":2022},{"$f":"MONTH(ChillTempAct[[#This Row],[Date]])","v":2},{"$f":"IF(ChillTempAct[[#This Row],[Month]]=J575,K575+1,1)","v":26}]
[44613,59,33,{"$f":"AVERAGE(ChillTempAct[[#This Row],[ChillHigh]:[ChillLow]])","v":46},{"$f":"IF(ChillTempAct[[#This Row],[ChillAve]]<65,65-ChillTempAct[[#This Row],[ChillAve]],0)","v":19},{"$f":"INDEX(TempAdj[AdjustPct],MATCH(MONTH(ChillTempAct[[#This Row],[Date]]),TempAdj[Month],0))","v":3.9800000000000002E-2},{"$f":"ChillTempAct[[#This Row],[ChillHDD]]*(1+ChillTempAct[[#This Row],[ChillAdj]])","v":19.7562},{"$f":"SUMPRODUCT((RankNHDD[Month]=ChillTempAct[[#This Row],[Month]])*(RankNHDD[Rank]=ChillTempAct[[#This Row],[Rank]])*RankNHDD[KIRKNHDD])","v":17.022586206896555},{"$f":"YEAR(ChillTempAct[[#This Row],[Date]])","v":2022},{"$f":"MONTH(ChillTempAct[[#This Row],[Date]])","v":2},{"$f":"IF(ChillTempAct[[#This Row],[Month]]=J576,K576+1,1)","v":27}]
[44614,67,31,{"$f":"AVERAGE(ChillTempAct[[#This Row],[ChillHigh]:[ChillLow]])","v":49},{"$f":"IF(ChillTempAct[[#This Row],[ChillAve]]<65,65-ChillTempAct[[#This Row],[ChillAve]],0)","v":16},{"$f":"INDEX(TempAdj[AdjustPct],MATCH(MONTH(ChillTempAct[[#This Row],[Date]]),TempAdj[Month],0))","v":3.9800000000000002E-2},{"$f":"ChillTempAct[[#This Row],[ChillHDD]]*(1+ChillTempAct[[#This Row],[ChillAdj]])","v":16.636800000000001},{"$f":"SUMPRODUCT((RankNHDD[Month]=ChillTempAct[[#This Row],[Month]])*(RankNHDD[Rank]=ChillTempAct[[#This Row],[Rank]])*RankNHDD[KIRKNHDD])","v":11.245615763546798},{"$f":"YEAR(ChillTempAct[[#This Row],[Date]])","v":2022},{"$f":"MONTH(ChillTempAct[[#This Row],[Date]])","v":2},{"$f":"IF(ChillTempAct[[#This Row],[Month]]=J577,K577+1,1)","v":28}]
[44631,20,15,{"$f":"AVERAGE(ChillTempAct[[#This Row],[ChillHigh]:[ChillLow]])","v":17.5},{"$f":"IF(ChillTempAct[[#This Row],[ChillAve]]<65,65-ChillTempAct[[#This Row],[ChillAve]],0)","v":47.5},{"$f":"INDEX(TempAdj[AdjustPct],MATCH(MONTH(ChillTempAct[[#This Row],[Date]]),TempAdj[Month],0))","v":7.0599999999999996E-2},{"$f":"ChillTempAct[[#This Row],[ChillHDD]]*(1+ChillTempAct[[#This Row],[ChillAdj]])","v":50.853499999999997},{"$f":"SUMPRODUCT((RankNHDD[Month]=ChillTempAct[[#This Row],[Month]])*(RankNHDD[Rank]=ChillTempAct[[#This Row],[Rank]])*RankNHDD[KIRKNHDD])","v":51.628887652947725},{"$f":"YEAR(ChillTempAct[[#This Row],[Date]])","v":2022},{"$f":"MONTH(ChillTempAct[[#This Row],[Date]])","v":3},{"$f":"IF(ChillTempAct[[#This Row],[Month]]=J578,K578+1,1)","v":1}]
[44632,29,6,{"$f":"AVERAGE(ChillTempAct[[#This Row],[ChillHigh]:[ChillLow]])","v":17.5},{"$f":"IF(ChillTempAct[[#This Row],[ChillAve]]<65,65-ChillTempAct[[#This Row],[ChillAve]],0)","v":47.5},{"$f":"INDEX(TempAdj[AdjustPct],MATCH(MONTH(ChillTempAct[[#This Row],[Date]]),TempAdj[Month],0))","v":7.0599999999999996E-2},{"$f":"ChillTempAct[[#This Row],[ChillHDD]]*(1+ChillTempAct[[#This Row],[ChillAdj]])","v":50.853499999999997},{"$f":"SUMPRODUCT((RankNHDD[Month]=ChillTempAct[[#This Row],[Month]])*(RankNHDD[Rank]=ChillTempAct[[#This Row],[Rank]])*RankNHDD[KIRKNHDD])","v":43.434677419354827},{"$f":"YEAR(ChillTempAct[[#This Row],[Date]])","v":2022},{"$f":"MONTH(ChillTempAct[[#This Row],[Date]])","v":3},{"$f":"IF(ChillTempAct[[#This Row],[Month]]=J579,K579+1,1)","v":2}]
[44633,34,6,{"$f":"AVERAGE(ChillTempAct[[#This Row],[ChillHigh]:[ChillLow]])","v":20},{"$f":"IF(ChillTempAct[[#This Row],[ChillAve]]<65,65-ChillTempAct[[#This Row],[ChillAve]],0)","v":45},{"$f":"INDEX(TempAdj[AdjustPct],MATCH(MONTH(ChillTempAct[[#This Row],[Date]]),TempAdj[Month],0))","v":7.0599999999999996E-2},{"$f":"ChillTempAct[[#This Row],[ChillHDD]]*(1+ChillTempAct[[#This Row],[ChillAdj]])","v":48.177},{"$f":"SUMPRODUCT((RankNHDD[Month]=ChillTempAct[[#This Row],[Month]])*(RankNHDD[Rank]=ChillTempAct[[#This Row],[Rank]])*RankNHDD[KIRKNHDD])","v":40.113602150537631},{"$f":"YEAR(ChillTempAct[[#This Row],[Date]])","v":2022},{"$f":"MONTH(ChillTempAct[[#This Row],[Date]])","v":3},{"$f":"IF(ChillTempAct[[#This Row],[Month]]=J580,K580+1,1)","v":3}]
[44628,31,13,{"$f":"AVERAGE(ChillTempAct[[#This Row],[ChillHigh]:[ChillLow]])","v":22},{"$f":"IF(ChillTempAct[[#This Row],[ChillAve]]<65,65-ChillTempAct[[#This Row],[ChillAve]],0)","v":43},{"$f":"INDEX(TempAdj[AdjustPct],MATCH(MONTH(ChillTempAct[[#This Row],[Date]]),TempAdj[Month],0))","v":7.0599999999999996E-2},{"$f":"ChillTempAct[[#This Row],[ChillHDD]]*(1+ChillTempAct[[#This Row],[ChillAdj]])","v":46.035800000000002},{"$f":"SUMPRODUCT((RankNHDD[Month]=ChillTempAct[[#This Row],[Month]])*(RankNHDD[Rank]=ChillTempAct[[#This Row],[Rank]])*RankNHDD[KIRKNHDD])","v":37.790615498702252},{"$f":"YEAR(ChillTempAct[[#This Row],[Date]])","v":2022},{"$f":"MONTH(ChillTempAct[[#This Row],[Date]])","v":3},{"$f":"IF(ChillTempAct[[#This Row],[Month]]=J581,K581+1,1)","v":4}]
[44629,40,14,{"$f":"AVERAGE(ChillTempAct[[#This Row],[ChillHigh]:[ChillLow]])","v":27},{"$f":"IF(ChillTempAct[[#This Row],[ChillAve]]<65,65-ChillTempAct[[#This Row],[ChillAve]],0)","v":38},{"$f":"INDEX(TempAdj[AdjustPct],MATCH(MONTH(ChillTempAct[[#This Row],[Date]]),TempAdj[Month],0))","v":7.0599999999999996E-2},{"$f":"ChillTempAct[[#This Row],[ChillHDD]]*(1+ChillTempAct[[#This Row],[ChillAdj]])","v":40.6828},{"$f":"SUMPRODUCT((RankNHDD[Month]=ChillTempAct[[#This Row],[Month]])*(RankNHDD[Rank]=ChillTempAct[[#This Row],[Rank]])*RankNHDD[KIRKNHDD])","v":36.396559139784941},{"$f":"YEAR(ChillTempAct[[#This Row],[Date]])","v":2022},{"$f":"MONTH(ChillTempAct[[#This Row],[Date]])","v":3},{"$f":"IF(ChillTempAct[[#This Row],[Month]]=J582,K582+1,1)","v":5}]
[44630,37,19,{"$f":"AVERAGE(ChillTempAct[[#This Row],[ChillHigh]:[ChillLow]])","v":28},{"$f":"IF(ChillTempAct[[#This Row],[ChillAve]]<65,65-ChillTempAct[[#This Row],[ChillAve]],0)","v":37},{"$f":"INDEX(TempAdj[AdjustPct],MATCH(MONTH(ChillTempAct[[#This Row],[Date]]),TempAdj[Month],0))","v":7.0599999999999996E-2},{"$f":"ChillTempAct[[#This Row],[ChillHDD]]*(1+ChillTempAct[[#This Row],[ChillAdj]])","v":39.612200000000001},{"$f":"SUMPRODUCT((RankNHDD[Month]=ChillTempAct[[#This Row],[Month]])*(RankNHDD[Rank]=ChillTempAct[[#This Row],[Rank]])*RankNHDD[KIRKNHDD])","v":34.914068100358421},{"$f":"YEAR(ChillTempAct[[#This Row],[Date]])","v":2022},{"$f":"MONTH(ChillTempAct[[#This Row],[Date]])","v":3},{"$f":"IF(ChillTempAct[[#This Row],[Month]]=J583,K583+1,1)","v":6}]
[44627,41,25,{"$f":"AVERAGE(ChillTempAct[[#This Row],[ChillHigh]:[ChillLow]])","v":33},{"$f":"IF(ChillTempAct[[#This Row],[ChillAve]]<65,65-ChillTempAct[[#This Row],[ChillAve]],0)","v":32},{"$f":"INDEX(TempAdj[AdjustPct],MATCH(MONTH(ChillTempAct[[#This Row],[Date]]),TempAdj[Month],0))","v":7.0599999999999996E-2},{"$f":"ChillTempAct[[#This Row],[ChillHDD]]*(1+ChillTempAct[[#This Row],[ChillAdj]])","v":34.2592},{"$f":"SUMPRODUCT((RankNHDD[Month]=ChillTempAct[[#This Row],[Month]])*(RankNHDD[Rank]=ChillTempAct[[#This Row],[Rank]])*RankNHDD[KIRKNHDD])","v":33.644802867383511},{"$f":"YEAR(ChillTempAct[[#This Row],[Date]])","v":2022},{"$f":"MONTH(ChillTempAct[[#This Row],[Date]])","v":3},{"$f":"IF(ChillTempAct[[#This Row],[Month]]=J584,K584+1,1)","v":7}]
[44648,43,28,{"$f":"AVERAGE(ChillTempAct[[#This Row],[ChillHigh]:[ChillLow]])","v":35.5},{"$f":"IF(ChillTempAct[[#This Row],[ChillAve]]<65,65-ChillTempAct[[#This Row],[ChillAve]],0)","v":29.5},{"$f":"INDEX(TempAdj[AdjustPct],MATCH(MONTH(ChillTempAct[[#This Row],[Date]]),TempAdj[Month],0))","v":7.0599999999999996E-2},{"$f":"ChillTempAct[[#This Row],[ChillHDD]]*(1+ChillTempAct[[#This Row],[ChillAdj]])","v":31.582699999999999},{"$f":"SUMPRODUCT((RankNHDD[Month]=ChillTempAct[[#This Row],[Month]])*(RankNHDD[Rank]=ChillTempAct[[#This Row],[Rank]])*RankNHDD[KIRKNHDD])","v":32.487580645161287},{"$f":"YEAR(ChillTempAct[[#This Row],[Date]])","v":2022},{"$f":"MONTH(ChillTempAct[[#This Row],[Date]])","v":3},{"$f":"IF(ChillTempAct[[#This Row],[Month]]=J585,K585+1,1)","v":8}]
[44644,39,33,{"$f":"AVERAGE(ChillTempAct[[#This Row],[ChillHigh]:[ChillLow]])","v":36},{"$f":"IF(ChillTempAct[[#This Row],[ChillAve]]<65,65-ChillTempAct[[#This Row],[ChillAve]],0)","v":29},{"$f":"INDEX(TempAdj[AdjustPct],MATCH(MONTH(ChillTempAct[[#This Row],[Date]]),TempAdj[Month],0))","v":7.0599999999999996E-2},{"$f":"ChillTempAct[[#This Row],[ChillHDD]]*(1+ChillTempAct[[#This Row],[ChillAdj]])","v":31.0474},{"$f":"SUMPRODUCT((RankNHDD[Month]=ChillTempAct[[#This Row],[Month]])*(RankNHDD[Rank]=ChillTempAct[[#This Row],[Rank]])*RankNHDD[KIRKNHDD])","v":31.421935483870971},{"$f":"YEAR(ChillTempAct[[#This Row],[Date]])","v":2022},{"$f":"MONTH(ChillTempAct[[#This Row],[Date]])","v":3},{"$f":"IF(ChillTempAct[[#This Row],[Month]]=J586,K586+1,1)","v":9}]
[44639,42,32,{"$f":"AVERAGE(ChillTempAct[[#This Row],[ChillHigh]:[ChillLow]])","v":37},{"$f":"IF(ChillTempAct[[#This Row],[ChillAve]]<65,65-ChillTempAct[[#This Row],[ChillAve]],0)","v":28},{"$f":"INDEX(TempAdj[AdjustPct],MATCH(MONTH(ChillTempAct[[#This Row],[Date]]),TempAdj[Month],0))","v":7.0599999999999996E-2},{"$f":"ChillTempAct[[#This Row],[ChillHDD]]*(1+ChillTempAct[[#This Row],[ChillAdj]])","v":29.976800000000001},{"$f":"SUMPRODUCT((RankNHDD[Month]=ChillTempAct[[#This Row],[Month]])*(RankNHDD[Rank]=ChillTempAct[[#This Row],[Rank]])*RankNHDD[KIRKNHDD])","v":30.452204301075266},{"$f":"YEAR(ChillTempAct[[#This Row],[Date]])","v":2022},{"$f":"MONTH(ChillTempAct[[#This Row],[Date]])","v":3},{"$f":"IF(ChillTempAct[[#This Row],[Month]]=J587,K587+1,1)","v":10}]
[44645,41,33,{"$f":"AVERAGE(ChillTempAct[[#This Row],[ChillHigh]:[ChillLow]])","v":37},{"$f":"IF(ChillTempAct[[#This Row],[ChillAve]]<65,65-ChillTempAct[[#This Row],[ChillAve]],0)","v":28},{"$f":"INDEX(TempAdj[AdjustPct],MATCH(MONTH(ChillTempAct[[#This Row],[Date]]),TempAdj[Month],0))","v":7.0599999999999996E-2},{"$f":"ChillTempAct[[#This Row],[ChillHDD]]*(1+ChillTempAct[[#This Row],[ChillAdj]])","v":29.976800000000001},{"$f":"SUMPRODUCT((RankNHDD[Month]=ChillTempAct[[#This Row],[Month]])*(RankNHDD[Rank]=ChillTempAct[[#This Row],[Rank]])*RankNHDD[KIRKNHDD])","v":29.412365591397851},{"$f":"YEAR(ChillTempAct[[#This Row],[Date]])","v":2022},{"$f":"MONTH(ChillTempAct[[#This Row],[Date]])","v":3},{"$f":"IF(ChillTempAct[[#This Row],[Month]]=J588,K588+1,1)","v":11}]
[44647,49,29,{"$f":"AVERAGE(ChillTempAct[[#This Row],[ChillHigh]:[ChillLow]])","v":39},{"$f":"IF(ChillTempAct[[#This Row],[ChillAve]]<65,65-ChillTempAct[[#This Row],[ChillAve]],0)","v":26},{"$f":"INDEX(TempAdj[AdjustPct],MATCH(MONTH(ChillTempAct[[#This Row],[Date]]),TempAdj[Month],0))","v":7.0599999999999996E-2},{"$f":"ChillTempAct[[#This Row],[ChillHDD]]*(1+ChillTempAct[[#This Row],[ChillAdj]])","v":27.835599999999999},{"$f":"SUMPRODUCT((RankNHDD[Month]=ChillTempAct[[#This Row],[Month]])*(RankNHDD[Rank]=ChillTempAct[[#This Row],[Rank]])*RankNHDD[KIRKNHDD])","v":28.303655913978496},{"$f":"YEAR(ChillTempAct[[#This Row],[Date]])","v":2022},{"$f":"MONTH(ChillTempAct[[#This Row],[Date]])","v":3},{"$f":"IF(ChillTempAct[[#This Row],[Month]]=J589,K589+1,1)","v":12}]
[44649,49,32,{"$f":"AVERAGE(ChillTempAct[[#This Row],[ChillHigh]:[ChillLow]])","v":40.5},{"$f":"IF(ChillTempAct[[#This Row],[ChillAve]]<65,65-ChillTempAct[[#This Row],[ChillAve]],0)","v":24.5},{"$f":"INDEX(TempAdj[AdjustPct],MATCH(MONTH(ChillTempAct[[#This Row],[Date]]),TempAdj[Month],0))","v":7.0599999999999996E-2},{"$f":"ChillTempAct[[#This Row],[ChillHDD]]*(1+ChillTempAct[[#This Row],[ChillAdj]])","v":26.229700000000001},{"$f":"SUMPRODUCT((RankNHDD[Month]=ChillTempAct[[#This Row],[Month]])*(RankNHDD[Rank]=ChillTempAct[[#This Row],[Rank]])*RankNHDD[KIRKNHDD])","v":27.318673835125448},{"$f":"YEAR(ChillTempAct[[#This Row],[Date]])","v":2022},{"$f":"MONTH(ChillTempAct[[#This Row],[Date]])","v":3},{"$f":"IF(ChillTempAct[[#This Row],[Month]]=J590,K590+1,1)","v":13}]
[44624,52,30,{"$f":"AVERAGE(ChillTempAct[[#This Row],[ChillHigh]:[ChillLow]])","v":41},{"$f":"IF(ChillTempAct[[#This Row],[ChillAve]]<65,65-ChillTempAct[[#This Row],[ChillAve]],0)","v":24},{"$f":"INDEX(TempAdj[AdjustPct],MATCH(MONTH(ChillTempAct[[#This Row],[Date]]),TempAdj[Month],0))","v":7.0599999999999996E-2},{"$f":"ChillTempAct[[#This Row],[ChillHDD]]*(1+ChillTempAct[[#This Row],[ChillAdj]])","v":25.694400000000002},{"$f":"SUMPRODUCT((RankNHDD[Month]=ChillTempAct[[#This Row],[Month]])*(RankNHDD[Rank]=ChillTempAct[[#This Row],[Rank]])*RankNHDD[KIRKNHDD])","v":26.526612903225807},{"$f":"YEAR(ChillTempAct[[#This Row],[Date]])","v":2022},{"$f":"MONTH(ChillTempAct[[#This Row],[Date]])","v":3},{"$f":"IF(ChillTempAct[[#This Row],[Month]]=J591,K591+1,1)","v":14}]
[44646,54,33,{"$f":"AVERAGE(ChillTempAct[[#This Row],[ChillHigh]:[ChillLow]])","v":43.5},{"$f":"IF(ChillTempAct[[#This Row],[ChillAve]]<65,65-ChillTempAct[[#This Row],[ChillAve]],0)","v":21.5},{"$f":"INDEX(TempAdj[AdjustPct],MATCH(MONTH(ChillTempAct[[#This Row],[Date]]),TempAdj[Month],0))","v":7.0599999999999996E-2},{"$f":"ChillTempAct[[#This Row],[ChillHDD]]*(1+ChillTempAct[[#This Row],[ChillAdj]])","v":23.017900000000001},{"$f":"SUMPRODUCT((RankNHDD[Month]=ChillTempAct[[#This Row],[Month]])*(RankNHDD[Rank]=ChillTempAct[[#This Row],[Rank]])*RankNHDD[KIRKNHDD])","v":25.620566679026073},{"$f":"YEAR(ChillTempAct[[#This Row],[Date]])","v":2022},{"$f":"MONTH(ChillTempAct[[#This Row],[Date]])","v":3},{"$f":"IF(ChillTempAct[[#This Row],[Month]]=J592,K592+1,1)","v":15}]
[44651,55,32,{"$f":"AVERAGE(ChillTempAct[[#This Row],[ChillHigh]:[ChillLow]])","v":43.5},{"$f":"IF(ChillTempAct[[#This Row],[ChillAve]]<65,65-ChillTempAct[[#This Row],[ChillAve]],0)","v":21.5},{"$f":"INDEX(TempAdj[AdjustPct],MATCH(MONTH(ChillTempAct[[#This Row],[Date]]),TempAdj[Month],0))","v":7.0599999999999996E-2},{"$f":"ChillTempAct[[#This Row],[ChillHDD]]*(1+ChillTempAct[[#This Row],[ChillAdj]])","v":23.017900000000001},{"$f":"SUMPRODUCT((RankNHDD[Month]=ChillTempAct[[#This Row],[Month]])*(RankNHDD[Rank]=ChillTempAct[[#This Row],[Rank]])*RankNHDD[KIRKNHDD])","v":24.763602150537633},{"$f":"YEAR(ChillTempAct[[#This Row],[Date]])","v":2022},{"$f":"MONTH(ChillTempAct[[#This Row],[Date]])","v":3},{"$f":"IF(ChillTempAct[[#This Row],[Month]]=J593,K593+1,1)","v":16}]
[44621,65,27,{"$f":"AVERAGE(ChillTempAct[[#This Row],[ChillHigh]:[ChillLow]])","v":46},{"$f":"IF(ChillTempAct[[#This Row],[ChillAve]]<65,65-ChillTempAct[[#This Row],[ChillAve]],0)","v":19},{"$f":"INDEX(TempAdj[AdjustPct],MATCH(MONTH(ChillTempAct[[#This Row],[Date]]),TempAdj[Month],0))","v":7.0599999999999996E-2},{"$f":"ChillTempAct[[#This Row],[ChillHDD]]*(1+ChillTempAct[[#This Row],[ChillAdj]])","v":20.3414},{"$f":"SUMPRODUCT((RankNHDD[Month]=ChillTempAct[[#This Row],[Month]])*(RankNHDD[Rank]=ChillTempAct[[#This Row],[Rank]])*RankNHDD[KIRKNHDD])","v":23.623835125448029},{"$f":"YEAR(ChillTempAct[[#This Row],[Date]])","v":2022},{"$f":"MONTH(ChillTempAct[[#This Row],[Date]])","v":3},{"$f":"IF(ChillTempAct[[#This Row],[Month]]=J594,K594+1,1)","v":17}]
[44634,58,34,{"$f":"AVERAGE(ChillTempAct[[#This Row],[ChillHigh]:[ChillLow]])","v":46},{"$f":"IF(ChillTempAct[[#This Row],[ChillAve]]<65,65-ChillTempAct[[#This Row],[ChillAve]],0)","v":19},{"$f":"INDEX(TempAdj[AdjustPct],MATCH(MONTH(ChillTempAct[[#This Row],[Date]]),TempAdj[Month],0))","v":7.0599999999999996E-2},{"$f":"ChillTempAct[[#This Row],[ChillHDD]]*(1+ChillTempAct[[#This Row],[ChillAdj]])","v":20.3414},{"$f":"SUMPRODUCT((RankNHDD[Month]=ChillTempAct[[#This Row],[Month]])*(RankNHDD[Rank]=ChillTempAct[[#This Row],[Rank]])*RankNHDD[KIRKNHDD])","v":22.574892473118279},{"$f":"YEAR(ChillTempAct[[#This Row],[Date]])","v":2022},{"$f":"MONTH(ChillTempAct[[#This Row],[Date]])","v":3},{"$f":"IF(ChillTempAct[[#This Row],[Month]]=J595,K595+1,1)","v":18}]
[44625,64,30,{"$f":"AVERAGE(ChillTempAct[[#This Row],[ChillHigh]:[ChillLow]])","v":47},{"$f":"IF(ChillTempAct[[#This Row],[ChillAve]]<65,65-ChillTempAct[[#This Row],[ChillAve]],0)","v":18},{"$f":"INDEX(TempAdj[AdjustPct],MATCH(MONTH(ChillTempAct[[#This Row],[Date]]),TempAdj[Month],0))","v":7.0599999999999996E-2},{"$f":"ChillTempAct[[#This Row],[ChillHDD]]*(1+ChillTempAct[[#This Row],[ChillAdj]])","v":19.270800000000001},{"$f":"SUMPRODUCT((RankNHDD[Month]=ChillTempAct[[#This Row],[Month]])*(RankNHDD[Rank]=ChillTempAct[[#This Row],[Rank]])*RankNHDD[KIRKNHDD])","v":21.718351254480282},{"$f":"YEAR(ChillTempAct[[#This Row],[Date]])","v":2022},{"$f":"MONTH(ChillTempAct[[#This Row],[Date]])","v":3},{"$f":"IF(ChillTempAct[[#This Row],[Month]]=J596,K596+1,1)","v":19}]
[44643,58,36,{"$f":"AVERAGE(ChillTempAct[[#This Row],[ChillHigh]:[ChillLow]])","v":47},{"$f":"IF(ChillTempAct[[#This Row],[ChillAve]]<65,65-ChillTempAct[[#This Row],[ChillAve]],0)","v":18},{"$f":"INDEX(TempAdj[AdjustPct],MATCH(MONTH(ChillTempAct[[#This Row],[Date]]),TempAdj[Month],0))","v":7.0599999999999996E-2},{"$f":"ChillTempAct[[#This Row],[ChillHDD]]*(1+ChillTempAct[[#This Row],[ChillAdj]])","v":19.270800000000001},{"$f":"SUMPRODUCT((RankNHDD[Month]=ChillTempAct[[#This Row],[Month]])*(RankNHDD[Rank]=ChillTempAct[[#This Row],[Rank]])*RankNHDD[KIRKNHDD])","v":20.845430107526884},{"$f":"YEAR(ChillTempAct[[#This Row],[Date]])","v":2022},{"$f":"MONTH(ChillTempAct[[#This Row],[Date]])","v":3},{"$f":"IF(ChillTempAct[[#This Row],[Month]]=J597,K597+1,1)","v":20}]
[44640,64,32,{"$f":"AVERAGE(ChillTempAct[[#This Row],[ChillHigh]:[ChillLow]])","v":48},{"$f":"IF(ChillTempAct[[#This Row],[ChillAve]]<65,65-ChillTempAct[[#This Row],[ChillAve]],0)","v":17},{"$f":"INDEX(TempAdj[AdjustPct],MATCH(MONTH(ChillTempAct[[#This Row],[Date]]),TempAdj[Month],0))","v":7.0599999999999996E-2},{"$f":"ChillTempAct[[#This Row],[ChillHDD]]*(1+ChillTempAct[[#This Row],[ChillAdj]])","v":18.200199999999999},{"$f":"SUMPRODUCT((RankNHDD[Month]=ChillTempAct[[#This Row],[Month]])*(RankNHDD[Rank]=ChillTempAct[[#This Row],[Rank]])*RankNHDD[KIRKNHDD])","v":19.96516129032258},{"$f":"YEAR(ChillTempAct[[#This Row],[Date]])","v":2022},{"$f":"MONTH(ChillTempAct[[#This Row],[Date]])","v":3},{"$f":"IF(ChillTempAct[[#This Row],[Month]]=J598,K598+1,1)","v":21}]
[44626,69,28,{"$f":"AVERAGE(ChillTempAct[[#This Row],[ChillHigh]:[ChillLow]])","v":48.5},{"$f":"IF(ChillTempAct[[#This Row],[ChillAve]]<65,65-ChillTempAct[[#This Row],[ChillAve]],0)","v":16.5},{"$f":"INDEX(TempAdj[AdjustPct],MATCH(MONTH(ChillTempAct[[#This Row],[Date]]),TempAdj[Month],0))","v":7.0599999999999996E-2},{"$f":"ChillTempAct[[#This Row],[ChillHDD]]*(1+ChillTempAct[[#This Row],[ChillAdj]])","v":17.664899999999999},{"$f":"SUMPRODUCT((RankNHDD[Month]=ChillTempAct[[#This Row],[Month]])*(RankNHDD[Rank]=ChillTempAct[[#This Row],[Rank]])*RankNHDD[KIRKNHDD])","v":18.934336917562728},{"$f":"YEAR(ChillTempAct[[#This Row],[Date]])","v":2022},{"$f":"MONTH(ChillTempAct[[#This Row],[Date]])","v":3},{"$f":"IF(ChillTempAct[[#This Row],[Month]]=J599,K599+1,1)","v":22}]
[44636,64,35,{"$f":"AVERAGE(ChillTempAct[[#This Row],[ChillHigh]:[ChillLow]])","v":49.5},{"$f":"IF(ChillTempAct[[#This Row],[ChillAve]]<65,65-ChillTempAct[[#This Row],[ChillAve]],0)","v":15.5},{"$f":"INDEX(TempAdj[AdjustPct],MATCH(MONTH(ChillTempAct[[#This Row],[Date]]),TempAdj[Month],0))","v":7.0599999999999996E-2},{"$f":"ChillTempAct[[#This Row],[ChillHDD]]*(1+ChillTempAct[[#This Row],[ChillAdj]])","v":16.5943},{"$f":"SUMPRODUCT((RankNHDD[Month]=ChillTempAct[[#This Row],[Month]])*(RankNHDD[Rank]=ChillTempAct[[#This Row],[Rank]])*RankNHDD[KIRKNHDD])","v":17.770818193054012},{"$f":"YEAR(ChillTempAct[[#This Row],[Date]])","v":2022},{"$f":"MONTH(ChillTempAct[[#This Row],[Date]])","v":3},{"$f":"IF(ChillTempAct[[#This Row],[Month]]=J600,K600+1,1)","v":23}]
[44635,63,37,{"$f":"AVERAGE(ChillTempAct[[#This Row],[ChillHigh]:[ChillLow]])","v":50},{"$f":"IF(ChillTempAct[[#This Row],[ChillAve]]<65,65-ChillTempAct[[#This Row],[ChillAve]],0)","v":15},{"$f":"INDEX(TempAdj[AdjustPct],MATCH(MONTH(ChillTempAct[[#This Row],[Date]]),TempAdj[Month],0))","v":7.0599999999999996E-2},{"$f":"ChillTempAct[[#This Row],[ChillHDD]]*(1+ChillTempAct[[#This Row],[ChillAdj]])","v":16.059000000000001},{"$f":"SUMPRODUCT((RankNHDD[Month]=ChillTempAct[[#This Row],[Month]])*(RankNHDD[Rank]=ChillTempAct[[#This Row],[Rank]])*RankNHDD[KIRKNHDD])","v":16.436630824372756},{"$f":"YEAR(ChillTempAct[[#This Row],[Date]])","v":2022},{"$f":"MONTH(ChillTempAct[[#This Row],[Date]])","v":3},{"$f":"IF(ChillTempAct[[#This Row],[Month]]=J601,K601+1,1)","v":24}]
[44622,73,29,{"$f":"AVERAGE(ChillTempAct[[#This Row],[ChillHigh]:[ChillLow]])","v":51},{"$f":"IF(ChillTempAct[[#This Row],[ChillAve]]<65,65-ChillTempAct[[#This Row],[ChillAve]],0)","v":14},{"$f":"INDEX(TempAdj[AdjustPct],MATCH(MONTH(ChillTempAct[[#This Row],[Date]]),TempAdj[Month],0))","v":7.0599999999999996E-2},{"$f":"ChillTempAct[[#This Row],[ChillHDD]]*(1+ChillTempAct[[#This Row],[ChillAdj]])","v":14.9884},{"$f":"SUMPRODUCT((RankNHDD[Month]=ChillTempAct[[#This Row],[Month]])*(RankNHDD[Rank]=ChillTempAct[[#This Row],[Rank]])*RankNHDD[KIRKNHDD])","v":15.104068100358422},{"$f":"YEAR(ChillTempAct[[#This Row],[Date]])","v":2022},{"$f":"MONTH(ChillTempAct[[#This Row],[Date]])","v":3},{"$f":"IF(ChillTempAct[[#This Row],[Month]]=J602,K602+1,1)","v":25}]
[44650,66,40,{"$f":"AVERAGE(ChillTempAct[[#This Row],[ChillHigh]:[ChillLow]])","v":53},{"$f":"IF(ChillTempAct[[#This Row],[ChillAve]]<65,65-ChillTempAct[[#This Row],[ChillAve]],0)","v":12},{"$f":"INDEX(TempAdj[AdjustPct],MATCH(MONTH(ChillTempAct[[#This Row],[Date]]),TempAdj[Month],0))","v":7.0599999999999996E-2},{"$f":"ChillTempAct[[#This Row],[ChillHDD]]*(1+ChillTempAct[[#This Row],[ChillAdj]])","v":12.847200000000001},{"$f":"SUMPRODUCT((RankNHDD[Month]=ChillTempAct[[#This Row],[Month]])*(RankNHDD[Rank]=ChillTempAct[[#This Row],[Rank]])*RankNHDD[KIRKNHDD])","v":13.46325608701026},{"$f":"YEAR(ChillTempAct[[#This Row],[Date]])","v":2022},{"$f":"MONTH(ChillTempAct[[#This Row],[Date]])","v":3},{"$f":"IF(ChillTempAct[[#This Row],[Month]]=J603,K603+1,1)","v":26}]
[44637,72,35,{"$f":"AVERAGE(ChillTempAct[[#This Row],[ChillHigh]:[ChillLow]])","v":53.5},{"$f":"IF(ChillTempAct[[#This Row],[ChillAve]]<65,65-ChillTempAct[[#This Row],[ChillAve]],0)","v":11.5},{"$f":"INDEX(TempAdj[AdjustPct],MATCH(MONTH(ChillTempAct[[#This Row],[Date]]),TempAdj[Month],0))","v":7.0599999999999996E-2},{"$f":"ChillTempAct[[#This Row],[ChillHDD]]*(1+ChillTempAct[[#This Row],[ChillAdj]])","v":12.3119},{"$f":"SUMPRODUCT((RankNHDD[Month]=ChillTempAct[[#This Row],[Month]])*(RankNHDD[Rank]=ChillTempAct[[#This Row],[Rank]])*RankNHDD[KIRKNHDD])","v":11.253028673835129},{"$f":"YEAR(ChillTempAct[[#This Row],[Date]])","v":2022},{"$f":"MONTH(ChillTempAct[[#This Row],[Date]])","v":3},{"$f":"IF(ChillTempAct[[#This Row],[Month]]=J604,K604+1,1)","v":27}]
[44641,75,36,{"$f":"AVERAGE(ChillTempAct[[#This Row],[ChillHigh]:[ChillLow]])","v":55.5},{"$f":"IF(ChillTempAct[[#This Row],[ChillAve]]<65,65-ChillTempAct[[#This Row],[ChillAve]],0)","v":9.5},{"$f":"INDEX(TempAdj[AdjustPct],MATCH(MONTH(ChillTempAct[[#This Row],[Date]]),TempAdj[Month],0))","v":7.0599999999999996E-2},{"$f":"ChillTempAct[[#This Row],[ChillHDD]]*(1+ChillTempAct[[#This Row],[ChillAdj]])","v":10.1707},{"$f":"SUMPRODUCT((RankNHDD[Month]=ChillTempAct[[#This Row],[Month]])*(RankNHDD[Rank]=ChillTempAct[[#This Row],[Rank]])*RankNHDD[KIRKNHDD])","v":9.0216308243727621},{"$f":"YEAR(ChillTempAct[[#This Row],[Date]])","v":2022},{"$f":"MONTH(ChillTempAct[[#This Row],[Date]])","v":3},{"$f":"IF(ChillTempAct[[#This Row],[Month]]=J605,K605+1,1)","v":28}]
[44623,82,31,{"$f":"AVERAGE(ChillTempAct[[#This Row],[ChillHigh]:[ChillLow]])","v":56.5},{"$f":"IF(ChillTempAct[[#This Row],[ChillAve]]<65,65-ChillTempAct[[#This Row],[ChillAve]],0)","v":8.5},{"$f":"INDEX(TempAdj[AdjustPct],MATCH(MONTH(ChillTempAct[[#This Row],[Date]]),TempAdj[Month],0))","v":7.0599999999999996E-2},{"$f":"ChillTempAct[[#This Row],[ChillHDD]]*(1+ChillTempAct[[#This Row],[ChillAdj]])","v":9.1000999999999994},{"$f":"SUMPRODUCT((RankNHDD[Month]=ChillTempAct[[#This Row],[Month]])*(RankNHDD[Rank]=ChillTempAct[[#This Row],[Rank]])*RankNHDD[KIRKNHDD])","v":6.3462544802867393},{"$f":"YEAR(ChillTempAct[[#This Row],[Date]])","v":2022},{"$f":"MONTH(ChillTempAct[[#This Row],[Date]])","v":3},{"$f":"IF(ChillTempAct[[#This Row],[Month]]=J606,K606+1,1)","v":29}]
[44638,74,42,{"$f":"AVERAGE(ChillTempAct[[#This Row],[ChillHigh]:[ChillLow]])","v":58},{"$f":"IF(ChillTempAct[[#This Row],[ChillAve]]<65,65-ChillTempAct[[#This Row],[ChillAve]],0)","v":7},{"$f":"INDEX(TempAdj[AdjustPct],MATCH(MONTH(ChillTempAct[[#This Row],[Date]]),TempAdj[Month],0))","v":7.0599999999999996E-2},{"$f":"ChillTempAct[[#This Row],[ChillHDD]]*(1+ChillTempAct[[#This Row],[ChillAdj]])","v":7.4942000000000002},{"$f":"SUMPRODUCT((RankNHDD[Month]=ChillTempAct[[#This Row],[Month]])*(RankNHDD[Rank]=ChillTempAct[[#This Row],[Rank]])*RankNHDD[KIRKNHDD])","v":3.2097311827956996},{"$f":"YEAR(ChillTempAct[[#This Row],[Date]])","v":2022},{"$f":"MONTH(ChillTempAct[[#This Row],[Date]])","v":3},{"$f":"IF(ChillTempAct[[#This Row],[Month]]=J607,K607+1,1)","v":30}]
[44642,71,48,{"$f":"AVERAGE(ChillTempAct[[#This Row],[ChillHigh]:[ChillLow]])","v":59.5},{"$f":"IF(ChillTempAct[[#This Row],[ChillAve]]<65,65-ChillTempAct[[#This Row],[ChillAve]],0)","v":5.5},{"$f":"INDEX(TempAdj[AdjustPct],MATCH(MONTH(ChillTempAct[[#This Row],[Date]]),TempAdj[Month],0))","v":7.0599999999999996E-2},{"$f":"ChillTempAct[[#This Row],[ChillHDD]]*(1+ChillTempAct[[#This Row],[ChillAdj]])","v":5.8883000000000001},{"$f":"SUMPRODUCT((RankNHDD[Month]=ChillTempAct[[#This Row],[Month]])*(RankNHDD[Rank]=ChillTempAct[[#This Row],[Rank]])*RankNHDD[KIRKNHDD])","v":0.40121863799283164},{"$f":"YEAR(ChillTempAct[[#This Row],[Date]])","v":2022},{"$f":"MONTH(ChillTempAct[[#This Row],[Date]])","v":3},{"$f":"IF(ChillTempAct[[#This Row],[Month]]=J608,K608+1,1)","v":31}]
[44652,36,25,{"$f":"AVERAGE(ChillTempAct[[#This Row],[ChillHigh]:[ChillLow]])","v":30.5},{"$f":"IF(ChillTempAct[[#This Row],[ChillAve]]<65,65-ChillTempAct[[#This Row],[ChillAve]],0)","v":34.5},{"$f":"INDEX(TempAdj[AdjustPct],MATCH(MONTH(ChillTempAct[[#This Row],[Date]]),TempAdj[Month],0))","v":0.1125},{"$f":"ChillTempAct[[#This Row],[ChillHDD]]*(1+ChillTempAct[[#This Row],[ChillAdj]])","v":38.381250000000001},{"$f":"SUMPRODUCT((RankNHDD[Month]=ChillTempAct[[#This Row],[Month]])*(RankNHDD[Rank]=ChillTempAct[[#This Row],[Rank]])*RankNHDD[KIRKNHDD])","v":33.206111111111106},{"$f":"YEAR(ChillTempAct[[#This Row],[Date]])","v":2022},{"$f":"MONTH(ChillTempAct[[#This Row],[Date]])","v":4},{"$f":"IF(ChillTempAct[[#This Row],[Month]]=J609,K609+1,1)","v":1}]
[44669,39,31,{"$f":"AVERAGE(ChillTempAct[[#This Row],[ChillHigh]:[ChillLow]])","v":35},{"$f":"IF(ChillTempAct[[#This Row],[ChillAve]]<65,65-ChillTempAct[[#This Row],[ChillAve]],0)","v":30},{"$f":"INDEX(TempAdj[AdjustPct],MATCH(MONTH(ChillTempAct[[#This Row],[Date]]),TempAdj[Month],0))","v":0.1125},{"$f":"ChillTempAct[[#This Row],[ChillHDD]]*(1+ChillTempAct[[#This Row],[ChillAdj]])","v":33.375},{"$f":"SUMPRODUCT((RankNHDD[Month]=ChillTempAct[[#This Row],[Month]])*(RankNHDD[Rank]=ChillTempAct[[#This Row],[Rank]])*RankNHDD[KIRKNHDD])","v":29.198333333333334},{"$f":"YEAR(ChillTempAct[[#This Row],[Date]])","v":2022},{"$f":"MONTH(ChillTempAct[[#This Row],[Date]])","v":4},{"$f":"IF(ChillTempAct[[#This Row],[Month]]=J610,K610+1,1)","v":2}]
[44660,47,28,{"$f":"AVERAGE(ChillTempAct[[#This Row],[ChillHigh]:[ChillLow]])","v":37.5},{"$f":"IF(ChillTempAct[[#This Row],[ChillAve]]<65,65-ChillTempAct[[#This Row],[ChillAve]],0)","v":27.5},{"$f":"INDEX(TempAdj[AdjustPct],MATCH(MONTH(ChillTempAct[[#This Row],[Date]]),TempAdj[Month],0))","v":0.1125},{"$f":"ChillTempAct[[#This Row],[ChillHDD]]*(1+ChillTempAct[[#This Row],[ChillAdj]])","v":30.59375},{"$f":"SUMPRODUCT((RankNHDD[Month]=ChillTempAct[[#This Row],[Month]])*(RankNHDD[Rank]=ChillTempAct[[#This Row],[Rank]])*RankNHDD[KIRKNHDD])","v":26.74902031063322},{"$f":"YEAR(ChillTempAct[[#This Row],[Date]])","v":2022},{"$f":"MONTH(ChillTempAct[[#This Row],[Date]])","v":4},{"$f":"IF(ChillTempAct[[#This Row],[Month]]=J611,K611+1,1)","v":3}]
[44653,53,23,{"$f":"AVERAGE(ChillTempAct[[#This Row],[ChillHigh]:[ChillLow]])","v":38},{"$f":"IF(ChillTempAct[[#This Row],[ChillAve]]<65,65-ChillTempAct[[#This Row],[ChillAve]],0)","v":27},{"$f":"INDEX(TempAdj[AdjustPct],MATCH(MONTH(ChillTempAct[[#This Row],[Date]]),TempAdj[Month],0))","v":0.1125},{"$f":"ChillTempAct[[#This Row],[ChillHDD]]*(1+ChillTempAct[[#This Row],[ChillAdj]])","v":30.037500000000001},{"$f":"SUMPRODUCT((RankNHDD[Month]=ChillTempAct[[#This Row],[Month]])*(RankNHDD[Rank]=ChillTempAct[[#This Row],[Rank]])*RankNHDD[KIRKNHDD])","v":24.935830346475502},{"$f":"YEAR(ChillTempAct[[#This Row],[Date]])","v":2022},{"$f":"MONTH(ChillTempAct[[#This Row],[Date]])","v":4},{"$f":"IF(ChillTempAct[[#This Row],[Month]]=J612,K612+1,1)","v":4}]
[44665,45,31,{"$f":"AVERAGE(ChillTempAct[[#This Row],[ChillHigh]:[ChillLow]])","v":38},{"$f":"IF(ChillTempAct[[#This Row],[ChillAve]]<65,65-ChillTempAct[[#This Row],[ChillAve]],0)","v":27},{"$f":"INDEX(TempAdj[AdjustPct],MATCH(MONTH(ChillTempAct[[#This Row],[Date]]),TempAdj[Month],0))","v":0.1125},{"$f":"ChillTempAct[[#This Row],[ChillHDD]]*(1+ChillTempAct[[#This Row],[ChillAdj]])","v":30.037500000000001},{"$f":"SUMPRODUCT((RankNHDD[Month]=ChillTempAct[[#This Row],[Month]])*(RankNHDD[Rank]=ChillTempAct[[#This Row],[Rank]])*RankNHDD[KIRKNHDD])","v":23.522592592592591},{"$f":"YEAR(ChillTempAct[[#This Row],[Date]])","v":2022},{"$f":"MONTH(ChillTempAct[[#This Row],[Date]])","v":4},{"$f":"IF(ChillTempAct[[#This Row],[Month]]=J613,K613+1,1)","v":5}]
[44659,45,32,{"$f":"AVERAGE(ChillTempAct[[#This Row],[ChillHigh]:[ChillLow]])","v":38.5},{"$f":"IF(ChillTempAct[[#This Row],[ChillAve]]<65,65-ChillTempAct[[#This Row],[ChillAve]],0)","v":26.5},{"$f":"INDEX(TempAdj[AdjustPct],MATCH(MONTH(ChillTempAct[[#This Row],[Date]]),TempAdj[Month],0))","v":0.1125},{"$f":"ChillTempAct[[#This Row],[ChillHDD]]*(1+ChillTempAct[[#This Row],[ChillAdj]])","v":29.481250000000003},{"$f":"SUMPRODUCT((RankNHDD[Month]=ChillTempAct[[#This Row],[Month]])*(RankNHDD[Rank]=ChillTempAct[[#This Row],[Rank]])*RankNHDD[KIRKNHDD])","v":22.445579450418155},{"$f":"YEAR(ChillTempAct[[#This Row],[Date]])","v":2022},{"$f":"MONTH(ChillTempAct[[#This Row],[Date]])","v":4},{"$f":"IF(ChillTempAct[[#This Row],[Month]]=J614,K614+1,1)","v":6}]
[44670,53,27,{"$f":"AVERAGE(ChillTempAct[[#This Row],[ChillHigh]:[ChillLow]])","v":40},{"$f":"IF(ChillTempAct[[#This Row],[ChillAve]]<65,65-ChillTempAct[[#This Row],[ChillAve]],0)","v":25},{"$f":"INDEX(TempAdj[AdjustPct],MATCH(MONTH(ChillTempAct[[#This Row],[Date]]),TempAdj[Month],0))","v":0.1125},{"$f":"ChillTempAct[[#This Row],[ChillHDD]]*(1+ChillTempAct[[#This Row],[ChillAdj]])","v":27.8125},{"$f":"SUMPRODUCT((RankNHDD[Month]=ChillTempAct[[#This Row],[Month]])*(RankNHDD[Rank]=ChillTempAct[[#This Row],[Rank]])*RankNHDD[KIRKNHDD])","v":21.317777777777781},{"$f":"YEAR(ChillTempAct[[#This Row],[Date]])","v":2022},{"$f":"MONTH(ChillTempAct[[#This Row],[Date]])","v":4},{"$f":"IF(ChillTempAct[[#This Row],[Month]]=J615,K615+1,1)","v":7}]
[44671,54,27,{"$f":"AVERAGE(ChillTempAct[[#This Row],[ChillHigh]:[ChillLow]])","v":40.5},{"$f":"IF(ChillTempAct[[#This Row],[ChillAve]]<65,65-ChillTempAct[[#This Row],[ChillAve]],0)","v":24.5},{"$f":"INDEX(TempAdj[AdjustPct],MATCH(MONTH(ChillTempAct[[#This Row],[Date]]),TempAdj[Month],0))","v":0.1125},{"$f":"ChillTempAct[[#This Row],[ChillHDD]]*(1+ChillTempAct[[#This Row],[ChillAdj]])","v":27.256250000000001},{"$f":"SUMPRODUCT((RankNHDD[Month]=ChillTempAct[[#This Row],[Month]])*(RankNHDD[Rank]=ChillTempAct[[#This Row],[Rank]])*RankNHDD[KIRKNHDD])","v":20.053518518518512},{"$f":"YEAR(ChillTempAct[[#This Row],[Date]])","v":2022},{"$f":"MONTH(ChillTempAct[[#This Row],[Date]])","v":4},{"$f":"IF(ChillTempAct[[#This Row],[Month]]=J616,K616+1,1)","v":8}]
[44668,53,33,{"$f":"AVERAGE(ChillTempAct[[#This Row],[ChillHigh]:[ChillLow]])","v":43},{"$f":"IF(ChillTempAct[[#This Row],[ChillAve]]<65,65-ChillTempAct[[#This Row],[ChillAve]],0)","v":22},{"$f":"INDEX(TempAdj[AdjustPct],MATCH(MONTH(ChillTempAct[[#This Row],[Date]]),TempAdj[Month],0))","v":0.1125},{"$f":"ChillTempAct[[#This Row],[ChillHDD]]*(1+ChillTempAct[[#This Row],[ChillAdj]])","v":24.475000000000001},{"$f":"SUMPRODUCT((RankNHDD[Month]=ChillTempAct[[#This Row],[Month]])*(RankNHDD[Rank]=ChillTempAct[[#This Row],[Rank]])*RankNHDD[KIRKNHDD])","v":19.188333333333329},{"$f":"YEAR(ChillTempAct[[#This Row],[Date]])","v":2022},{"$f":"MONTH(ChillTempAct[[#This Row],[Date]])","v":4},{"$f":"IF(ChillTempAct[[#This Row],[Month]]=J617,K617+1,1)","v":9}]
[44677,56,31,{"$f":"AVERAGE(ChillTempAct[[#This Row],[ChillHigh]:[ChillLow]])","v":43.5},{"$f":"IF(ChillTempAct[[#This Row],[ChillAve]]<65,65-ChillTempAct[[#This Row],[ChillAve]],0)","v":21.5},{"$f":"INDEX(TempAdj[AdjustPct],MATCH(MONTH(ChillTempAct[[#This Row],[Date]]),TempAdj[Month],0))","v":0.1125},{"$f":"ChillTempAct[[#This Row],[ChillHDD]]*(1+ChillTempAct[[#This Row],[ChillAdj]])","v":23.918749999999999},{"$f":"SUMPRODUCT((RankNHDD[Month]=ChillTempAct[[#This Row],[Month]])*(RankNHDD[Rank]=ChillTempAct[[#This Row],[Rank]])*RankNHDD[KIRKNHDD])","v":17.985507765830349},{"$f":"YEAR(ChillTempAct[[#This Row],[Date]])","v":2022},{"$f":"MONTH(ChillTempAct[[#This Row],[Date]])","v":4},{"$f":"IF(ChillTempAct[[#This Row],[Month]]=J618,K618+1,1)","v":10}]
[44661,59,30,{"$f":"AVERAGE(ChillTempAct[[#This Row],[ChillHigh]:[ChillLow]])","v":44.5},{"$f":"IF(ChillTempAct[[#This Row],[ChillAve]]<65,65-ChillTempAct[[#This Row],[ChillAve]],0)","v":20.5},{"$f":"INDEX(TempAdj[AdjustPct],MATCH(MONTH(ChillTempAct[[#This Row],[Date]]),TempAdj[Month],0))","v":0.1125},{"$f":"ChillTempAct[[#This Row],[ChillHDD]]*(1+ChillTempAct[[#This Row],[ChillAdj]])","v":22.806250000000002},{"$f":"SUMPRODUCT((RankNHDD[Month]=ChillTempAct[[#This Row],[Month]])*(RankNHDD[Rank]=ChillTempAct[[#This Row],[Rank]])*RankNHDD[KIRKNHDD])","v":17.138888888888893},{"$f":"YEAR(ChillTempAct[[#This Row],[Date]])","v":2022},{"$f":"MONTH(ChillTempAct[[#This Row],[Date]])","v":4},{"$f":"IF(ChillTempAct[[#This Row],[Month]]=J619,K619+1,1)","v":11}]
[44667,56,33,{"$f":"AVERAGE(ChillTempAct[[#This Row],[ChillHigh]:[ChillLow]])","v":44.5},{"$f":"IF(ChillTempAct[[#This Row],[ChillAve]]<65,65-ChillTempAct[[#This Row],[ChillAve]],0)","v":20.5},{"$f":"INDEX(TempAdj[AdjustPct],MATCH(MONTH(ChillTempAct[[#This Row],[Date]]),TempAdj[Month],0))","v":0.1125},{"$f":"ChillTempAct[[#This Row],[ChillHDD]]*(1+ChillTempAct[[#This Row],[ChillAdj]])","v":22.806250000000002},{"$f":"SUMPRODUCT((RankNHDD[Month]=ChillTempAct[[#This Row],[Month]])*(RankNHDD[Rank]=ChillTempAct[[#This Row],[Rank]])*RankNHDD[KIRKNHDD])","v":16.281535244922338},{"$f":"YEAR(ChillTempAct[[#This Row],[Date]])","v":2022},{"$f":"MONTH(ChillTempAct[[#This Row],[Date]])","v":4},{"$f":"IF(ChillTempAct[[#This Row],[Month]]=J620,K620+1,1)","v":12}]
[44666,59,31,{"$f":"AVERAGE(ChillTempAct[[#This Row],[ChillHigh]:[ChillLow]])","v":45},{"$f":"IF(ChillTempAct[[#This Row],[ChillAve]]<65,65-ChillTempAct[[#This Row],[ChillAve]],0)","v":20},{"$f":"INDEX(TempAdj[AdjustPct],MATCH(MONTH(ChillTempAct[[#This Row],[Date]]),TempAdj[Month],0))","v":0.1125},{"$f":"ChillTempAct[[#This Row],[ChillHDD]]*(1+ChillTempAct[[#This Row],[ChillAdj]])","v":22.25},{"$f":"SUMPRODUCT((RankNHDD[Month]=ChillTempAct[[#This Row],[Month]])*(RankNHDD[Rank]=ChillTempAct[[#This Row],[Rank]])*RankNHDD[KIRKNHDD])","v":15.445925925925923},{"$f":"YEAR(ChillTempAct[[#This Row],[Date]])","v":2022},{"$f":"MONTH(ChillTempAct[[#This Row],[Date]])","v":4},{"$f":"IF(ChillTempAct[[#This Row],[Month]]=J621,K621+1,1)","v":13}]
[44654,58,33,{"$f":"AVERAGE(ChillTempAct[[#This Row],[ChillHigh]:[ChillLow]])","v":45.5},{"$f":"IF(ChillTempAct[[#This Row],[ChillAve]]<65,65-ChillTempAct[[#This Row],[ChillAve]],0)","v":19.5},{"$f":"INDEX(TempAdj[AdjustPct],MATCH(MONTH(ChillTempAct[[#This Row],[Date]]),TempAdj[Month],0))","v":0.1125},{"$f":"ChillTempAct[[#This Row],[ChillHDD]]*(1+ChillTempAct[[#This Row],[ChillAdj]])","v":21.693750000000001},{"$f":"SUMPRODUCT((RankNHDD[Month]=ChillTempAct[[#This Row],[Month]])*(RankNHDD[Rank]=ChillTempAct[[#This Row],[Rank]])*RankNHDD[KIRKNHDD])","v":14.683518518518516},{"$f":"YEAR(ChillTempAct[[#This Row],[Date]])","v":2022},{"$f":"MONTH(ChillTempAct[[#This Row],[Date]])","v":4},{"$f":"IF(ChillTempAct[[#This Row],[Month]]=J622,K622+1,1)","v":14}]
[44656,56,36,{"$f":"AVERAGE(ChillTempAct[[#This Row],[ChillHigh]:[ChillLow]])","v":46},{"$f":"IF(ChillTempAct[[#This Row],[ChillAve]]<65,65-ChillTempAct[[#This Row],[ChillAve]],0)","v":19},{"$f":"INDEX(TempAdj[AdjustPct],MATCH(MONTH(ChillTempAct[[#This Row],[Date]]),TempAdj[Month],0))","v":0.1125},{"$f":"ChillTempAct[[#This Row],[ChillHDD]]*(1+ChillTempAct[[#This Row],[ChillAdj]])","v":21.137499999999999},{"$f":"SUMPRODUCT((RankNHDD[Month]=ChillTempAct[[#This Row],[Month]])*(RankNHDD[Rank]=ChillTempAct[[#This Row],[Rank]])*RankNHDD[KIRKNHDD])","v":13.768148148148148},{"$f":"YEAR(ChillTempAct[[#This Row],[Date]])","v":2022},{"$f":"MONTH(ChillTempAct[[#This Row],[Date]])","v":4},{"$f":"IF(ChillTempAct[[#This Row],[Month]]=J623,K623+1,1)","v":15}]
[44672,55,39,{"$f":"AVERAGE(ChillTempAct[[#This Row],[ChillHigh]:[ChillLow]])","v":47},{"$f":"IF(ChillTempAct[[#This Row],[ChillAve]]<65,65-ChillTempAct[[#This Row],[ChillAve]],0)","v":18},{"$f":"INDEX(TempAdj[AdjustPct],MATCH(MONTH(ChillTempAct[[#This Row],[Date]]),TempAdj[Month],0))","v":0.1125},{"$f":"ChillTempAct[[#This Row],[ChillHDD]]*(1+ChillTempAct[[#This Row],[ChillAdj]])","v":20.025000000000002},{"$f":"SUMPRODUCT((RankNHDD[Month]=ChillTempAct[[#This Row],[Month]])*(RankNHDD[Rank]=ChillTempAct[[#This Row],[Rank]])*RankNHDD[KIRKNHDD])","v":13.166111111111112},{"$f":"YEAR(ChillTempAct[[#This Row],[Date]])","v":2022},{"$f":"MONTH(ChillTempAct[[#This Row],[Date]])","v":4},{"$f":"IF(ChillTempAct[[#This Row],[Month]]=J624,K624+1,1)","v":16}]
[44678,63,32,{"$f":"AVERAGE(ChillTempAct[[#This Row],[ChillHigh]:[ChillLow]])","v":47.5},{"$f":"IF(ChillTempAct[[#This Row],[ChillAve]]<65,65-ChillTempAct[[#This Row],[ChillAve]],0)","v":17.5},{"$f":"INDEX(TempAdj[AdjustPct],MATCH(MONTH(ChillTempAct[[#This Row],[Date]]),TempAdj[Month],0))","v":0.1125},{"$f":"ChillTempAct[[#This Row],[ChillHDD]]*(1+ChillTempAct[[#This Row],[ChillAdj]])","v":19.46875},{"$f":"SUMPRODUCT((RankNHDD[Month]=ChillTempAct[[#This Row],[Month]])*(RankNHDD[Rank]=ChillTempAct[[#This Row],[Rank]])*RankNHDD[KIRKNHDD])","v":12.333333333333334},{"$f":"YEAR(ChillTempAct[[#This Row],[Date]])","v":2022},{"$f":"MONTH(ChillTempAct[[#This Row],[Date]])","v":4},{"$f":"IF(ChillTempAct[[#This Row],[Month]]=J625,K625+1,1)","v":17}]
[44658,56,40,{"$f":"AVERAGE(ChillTempAct[[#This Row],[ChillHigh]:[ChillLow]])","v":48},{"$f":"IF(ChillTempAct[[#This Row],[ChillAve]]<65,65-ChillTempAct[[#This Row],[ChillAve]],0)","v":17},{"$f":"INDEX(TempAdj[AdjustPct],MATCH(MONTH(ChillTempAct[[#This Row],[Date]]),TempAdj[Month],0))","v":0.1125},{"$f":"ChillTempAct[[#This Row],[ChillHDD]]*(1+ChillTempAct[[#This Row],[ChillAdj]])","v":18.912500000000001},{"$f":"SUMPRODUCT((RankNHDD[Month]=ChillTempAct[[#This Row],[Month]])*(RankNHDD[Rank]=ChillTempAct[[#This Row],[Rank]])*RankNHDD[KIRKNHDD])","v":11.424444444444445},{"$f":"YEAR(ChillTempAct[[#This Row],[Date]])","v":2022},{"$f":"MONTH(ChillTempAct[[#This Row],[Date]])","v":4},{"$f":"IF(ChillTempAct[[#This Row],[Month]]=J626,K626+1,1)","v":18}]
[44655,65,34,{"$f":"AVERAGE(ChillTempAct[[#This Row],[ChillHigh]:[ChillLow]])","v":49.5},{"$f":"IF(ChillTempAct[[#This Row],[ChillAve]]<65,65-ChillTempAct[[#This Row],[ChillAve]],0)","v":15.5},{"$f":"INDEX(TempAdj[AdjustPct],MATCH(MONTH(ChillTempAct[[#This Row],[Date]]),TempAdj[Month],0))","v":0.1125},{"$f":"ChillTempAct[[#This Row],[ChillHDD]]*(1+ChillTempAct[[#This Row],[ChillAdj]])","v":17.243750000000002},{"$f":"SUMPRODUCT((RankNHDD[Month]=ChillTempAct[[#This Row],[Month]])*(RankNHDD[Rank]=ChillTempAct[[#This Row],[Rank]])*RankNHDD[KIRKNHDD])","v":10.569814814814814},{"$f":"YEAR(ChillTempAct[[#This Row],[Date]])","v":2022},{"$f":"MONTH(ChillTempAct[[#This Row],[Date]])","v":4},{"$f":"IF(ChillTempAct[[#This Row],[Month]]=J627,K627+1,1)","v":19}]
[44676,67,40,{"$f":"AVERAGE(ChillTempAct[[#This Row],[ChillHigh]:[ChillLow]])","v":53.5},{"$f":"IF(ChillTempAct[[#This Row],[ChillAve]]<65,65-ChillTempAct[[#This Row],[ChillAve]],0)","v":11.5},{"$f":"INDEX(TempAdj[AdjustPct],MATCH(MONTH(ChillTempAct[[#This Row],[Date]]),TempAdj[Month],0))","v":0.1125},{"$f":"ChillTempAct[[#This Row],[ChillHDD]]*(1+ChillTempAct[[#This Row],[ChillAdj]])","v":12.793750000000001},{"$f":"SUMPRODUCT((RankNHDD[Month]=ChillTempAct[[#This Row],[Month]])*(RankNHDD[Rank]=ChillTempAct[[#This Row],[Rank]])*RankNHDD[KIRKNHDD])","v":9.6188888888888879},{"$f":"YEAR(ChillTempAct[[#This Row],[Date]])","v":2022},{"$f":"MONTH(ChillTempAct[[#This Row],[Date]])","v":4},{"$f":"IF(ChillTempAct[[#This Row],[Month]]=J628,K628+1,1)","v":20}]
[44673,71,38,{"$f":"AVERAGE(ChillTempAct[[#This Row],[ChillHigh]:[ChillLow]])","v":54.5},{"$f":"IF(ChillTempAct[[#This Row],[ChillAve]]<65,65-ChillTempAct[[#This Row],[ChillAve]],0)","v":10.5},{"$f":"INDEX(TempAdj[AdjustPct],MATCH(MONTH(ChillTempAct[[#This Row],[Date]]),TempAdj[Month],0))","v":0.1125},{"$f":"ChillTempAct[[#This Row],[ChillHDD]]*(1+ChillTempAct[[#This Row],[ChillAdj]])","v":11.68125},{"$f":"SUMPRODUCT((RankNHDD[Month]=ChillTempAct[[#This Row],[Month]])*(RankNHDD[Rank]=ChillTempAct[[#This Row],[Rank]])*RankNHDD[KIRKNHDD])","v":8.7196296296296278},{"$f":"YEAR(ChillTempAct[[#This Row],[Date]])","v":2022},{"$f":"MONTH(ChillTempAct[[#This Row],[Date]])","v":4},{"$f":"IF(ChillTempAct[[#This Row],[Month]]=J629,K629+1,1)","v":21}]
[44663,65,46,{"$f":"AVERAGE(ChillTempAct[[#This Row],[ChillHigh]:[ChillLow]])","v":55.5},{"$f":"IF(ChillTempAct[[#This Row],[ChillAve]]<65,65-ChillTempAct[[#This Row],[ChillAve]],0)","v":9.5},{"$f":"INDEX(TempAdj[AdjustPct],MATCH(MONTH(ChillTempAct[[#This Row],[Date]]),TempAdj[Month],0))","v":0.1125},{"$f":"ChillTempAct[[#This Row],[ChillHDD]]*(1+ChillTempAct[[#This Row],[ChillAdj]])","v":10.56875},{"$f":"SUMPRODUCT((RankNHDD[Month]=ChillTempAct[[#This Row],[Month]])*(RankNHDD[Rank]=ChillTempAct[[#This Row],[Rank]])*RankNHDD[KIRKNHDD])","v":7.5681481481481452},{"$f":"YEAR(ChillTempAct[[#This Row],[Date]])","v":2022},{"$f":"MONTH(ChillTempAct[[#This Row],[Date]])","v":4},{"$f":"IF(ChillTempAct[[#This Row],[Month]]=J630,K630+1,1)","v":22}]
[44657,71,43,{"$f":"AVERAGE(ChillTempAct[[#This Row],[ChillHigh]:[ChillLow]])","v":57},{"$f":"IF(ChillTempAct[[#This Row],[ChillAve]]<65,65-ChillTempAct[[#This Row],[ChillAve]],0)","v":8},{"$f":"INDEX(TempAdj[AdjustPct],MATCH(MONTH(ChillTempAct[[#This Row],[Date]]),TempAdj[Month],0))","v":0.1125},{"$f":"ChillTempAct[[#This Row],[ChillHDD]]*(1+ChillTempAct[[#This Row],[ChillAdj]])","v":8.9},{"$f":"SUMPRODUCT((RankNHDD[Month]=ChillTempAct[[#This Row],[Month]])*(RankNHDD[Rank]=ChillTempAct[[#This Row],[Rank]])*RankNHDD[KIRKNHDD])","v":6.3938888888888892},{"$f":"YEAR(ChillTempAct[[#This Row],[Date]])","v":2022},{"$f":"MONTH(ChillTempAct[[#This Row],[Date]])","v":4},{"$f":"IF(ChillTempAct[[#This Row],[Month]]=J631,K631+1,1)","v":23}]
[44681,66,53,{"$f":"AVERAGE(ChillTempAct[[#This Row],[ChillHigh]:[ChillLow]])","v":59.5},{"$f":"IF(ChillTempAct[[#This Row],[ChillAve]]<65,65-ChillTempAct[[#This Row],[ChillAve]],0)","v":5.5},{"$f":"INDEX(TempAdj[AdjustPct],MATCH(MONTH(ChillTempAct[[#This Row],[Date]]),TempAdj[Month],0))","v":0.1125},{"$f":"ChillTempAct[[#This Row],[ChillHDD]]*(1+ChillTempAct[[#This Row],[ChillAdj]])","v":6.1187500000000004},{"$f":"SUMPRODUCT((RankNHDD[Month]=ChillTempAct[[#This Row],[Month]])*(RankNHDD[Rank]=ChillTempAct[[#This Row],[Rank]])*RankNHDD[KIRKNHDD])","v":5.4016666666666673},{"$f":"YEAR(ChillTempAct[[#This Row],[Date]])","v":2022},{"$f":"MONTH(ChillTempAct[[#This Row],[Date]])","v":4},{"$f":"IF(ChillTempAct[[#This Row],[Month]]=J632,K632+1,1)","v":24}]
[44679,75,48,{"$f":"AVERAGE(ChillTempAct[[#This Row],[ChillHigh]:[ChillLow]])","v":61.5},{"$f":"IF(ChillTempAct[[#This Row],[ChillAve]]<65,65-ChillTempAct[[#This Row],[ChillAve]],0)","v":3.5},{"$f":"INDEX(TempAdj[AdjustPct],MATCH(MONTH(ChillTempAct[[#This Row],[Date]]),TempAdj[Month],0))","v":0.1125},{"$f":"ChillTempAct[[#This Row],[ChillHDD]]*(1+ChillTempAct[[#This Row],[ChillAdj]])","v":3.8937500000000003},{"$f":"SUMPRODUCT((RankNHDD[Month]=ChillTempAct[[#This Row],[Month]])*(RankNHDD[Rank]=ChillTempAct[[#This Row],[Rank]])*RankNHDD[KIRKNHDD])","v":4.2124074074074072},{"$f":"YEAR(ChillTempAct[[#This Row],[Date]])","v":2022},{"$f":"MONTH(ChillTempAct[[#This Row],[Date]])","v":4},{"$f":"IF(ChillTempAct[[#This Row],[Month]]=J633,K633+1,1)","v":25}]
[44680,71,54,{"$f":"AVERAGE(ChillTempAct[[#This Row],[ChillHigh]:[ChillLow]])","v":62.5},{"$f":"IF(ChillTempAct[[#This Row],[ChillAve]]<65,65-ChillTempAct[[#This Row],[ChillAve]],0)","v":2.5},{"$f":"INDEX(TempAdj[AdjustPct],MATCH(MONTH(ChillTempAct[[#This Row],[Date]]),TempAdj[Month],0))","v":0.1125},{"$f":"ChillTempAct[[#This Row],[ChillHDD]]*(1+ChillTempAct[[#This Row],[ChillAdj]])","v":2.78125},{"$f":"SUMPRODUCT((RankNHDD[Month]=ChillTempAct[[#This Row],[Month]])*(RankNHDD[Rank]=ChillTempAct[[#This Row],[Rank]])*RankNHDD[KIRKNHDD])","v":2.7270370370370371},{"$f":"YEAR(ChillTempAct[[#This Row],[Date]])","v":2022},{"$f":"MONTH(ChillTempAct[[#This Row],[Date]])","v":4},{"$f":"IF(ChillTempAct[[#This Row],[Month]]=J634,K634+1,1)","v":26}]
[44662,80,46,{"$f":"AVERAGE(ChillTempAct[[#This Row],[ChillHigh]:[ChillLow]])","v":63},{"$f":"IF(ChillTempAct[[#This Row],[ChillAve]]<65,65-ChillTempAct[[#This Row],[ChillAve]],0)","v":2},{"$f":"INDEX(TempAdj[AdjustPct],MATCH(MONTH(ChillTempAct[[#This Row],[Date]]),TempAdj[Month],0))","v":0.1125},{"$f":"ChillTempAct[[#This Row],[ChillHDD]]*(1+ChillTempAct[[#This Row],[ChillAdj]])","v":2.2250000000000001},{"$f":"SUMPRODUCT((RankNHDD[Month]=ChillTempAct[[#This Row],[Month]])*(RankNHDD[Rank]=ChillTempAct[[#This Row],[Rank]])*RankNHDD[KIRKNHDD])","v":1.0690740740740743},{"$f":"YEAR(ChillTempAct[[#This Row],[Date]])","v":2022},{"$f":"MONTH(ChillTempAct[[#This Row],[Date]])","v":4},{"$f":"IF(ChillTempAct[[#This Row],[Month]]=J635,K635+1,1)","v":27}]
[44675,76,50,{"$f":"AVERAGE(ChillTempAct[[#This Row],[ChillHigh]:[ChillLow]])","v":63},{"$f":"IF(ChillTempAct[[#This Row],[ChillAve]]<65,65-ChillTempAct[[#This Row],[ChillAve]],0)","v":2},{"$f":"INDEX(TempAdj[AdjustPct],MATCH(MONTH(ChillTempAct[[#This Row],[Date]]),TempAdj[Month],0))","v":0.1125},{"$f":"ChillTempAct[[#This Row],[ChillHDD]]*(1+ChillTempAct[[#This Row],[ChillAdj]])","v":2.2250000000000001},{"$f":"SUMPRODUCT((RankNHDD[Month]=ChillTempAct[[#This Row],[Month]])*(RankNHDD[Rank]=ChillTempAct[[#This Row],[Rank]])*RankNHDD[KIRKNHDD])","v":9.4444444444443821E-3},{"$f":"YEAR(ChillTempAct[[#This Row],[Date]])","v":2022},{"$f":"MONTH(ChillTempAct[[#This Row],[Date]])","v":4},{"$f":"IF(ChillTempAct[[#This Row],[Month]]=J636,K636+1,1)","v":28}]
[44664,84,45,{"$f":"AVERAGE(ChillTempAct[[#This Row],[ChillHigh]:[ChillLow]])","v":64.5},{"$f":"IF(ChillTempAct[[#This Row],[ChillAve]]<65,65-ChillTempAct[[#This Row],[ChillAve]],0)","v":0.5},{"$f":"INDEX(TempAdj[AdjustPct],MATCH(MONTH(ChillTempAct[[#This Row],[Date]]),TempAdj[Month],0))","v":0.1125},{"$f":"ChillTempAct[[#This Row],[ChillHDD]]*(1+ChillTempAct[[#This Row],[ChillAdj]])","v":0.55625000000000002},{"$f":"SUMPRODUCT((RankNHDD[Month]=ChillTempAct[[#This Row],[Month]])*(RankNHDD[Rank]=ChillTempAct[[#This Row],[Rank]])*RankNHDD[KIRKNHDD])","v":0},{"$f":"YEAR(ChillTempAct[[#This Row],[Date]])","v":2022},{"$f":"MONTH(ChillTempAct[[#This Row],[Date]])","v":4},{"$f":"IF(ChillTempAct[[#This Row],[Month]]=J637,K637+1,1)","v":29}]
[44674,84,64,{"$f":"AVERAGE(ChillTempAct[[#This Row],[ChillHigh]:[ChillLow]])","v":74},{"$f":"IF(ChillTempAct[[#This Row],[ChillAve]]<65,65-ChillTempAct[[#This Row],[ChillAve]],0)","v":0},{"$f":"INDEX(TempAdj[AdjustPct],MATCH(MONTH(ChillTempAct[[#This Row],[Date]]),TempAdj[Month],0))","v":0.1125},{"$f":"ChillTempAct[[#This Row],[ChillHDD]]*(1+ChillTempAct[[#This Row],[ChillAdj]])","v":0},{"$f":"SUMPRODUCT((RankNHDD[Month]=ChillTempAct[[#This Row],[Month]])*(RankNHDD[Rank]=ChillTempAct[[#This Row],[Rank]])*RankNHDD[KIRKNHDD])","v":0},{"$f":"YEAR(ChillTempAct[[#This Row],[Date]])","v":2022},{"$f":"MONTH(ChillTempAct[[#This Row],[Date]])","v":4},{"$f":"IF(ChillTempAct[[#This Row],[Month]]=J638,K638+1,1)","v":30}]
[44684,57,45,{"$f":"AVERAGE(ChillTempAct[[#This Row],[ChillHigh]:[ChillLow]])","v":51},{"$f":"IF(ChillTempAct[[#This Row],[ChillAve]]<65,65-ChillTempAct[[#This Row],[ChillAve]],0)","v":14},{"$f":"INDEX(TempAdj[AdjustPct],MATCH(MONTH(ChillTempAct[[#This Row],[Date]]),TempAdj[Month],0))","v":0.2883},{"$f":"ChillTempAct[[#This Row],[ChillHDD]]*(1+ChillTempAct[[#This Row],[ChillAdj]])","v":18.036200000000001},{"$f":"SUMPRODUCT((RankNHDD[Month]=ChillTempAct[[#This Row],[Month]])*(RankNHDD[Rank]=ChillTempAct[[#This Row],[Rank]])*RankNHDD[KIRKNHDD])","v":21.201254480286739},{"$f":"YEAR(ChillTempAct[[#This Row],[Date]])","v":2022},{"$f":"MONTH(ChillTempAct[[#This Row],[Date]])","v":5},{"$f":"IF(ChillTempAct[[#This Row],[Month]]=J639,K639+1,1)","v":1}]
[44685,57,45,{"$f":"AVERAGE(ChillTempAct[[#This Row],[ChillHigh]:[ChillLow]])","v":51},{"$f":"IF(ChillTempAct[[#This Row],[ChillAve]]<65,65-ChillTempAct[[#This Row],[ChillAve]],0)","v":14},{"$f":"INDEX(TempAdj[AdjustPct],MATCH(MONTH(ChillTempAct[[#This Row],[Date]]),TempAdj[Month],0))","v":0.2883},{"$f":"ChillTempAct[[#This Row],[ChillHDD]]*(1+ChillTempAct[[#This Row],[ChillAdj]])","v":18.036200000000001},{"$f":"SUMPRODUCT((RankNHDD[Month]=ChillTempAct[[#This Row],[Month]])*(RankNHDD[Rank]=ChillTempAct[[#This Row],[Rank]])*RankNHDD[KIRKNHDD])","v":17.361827956989249},{"$f":"YEAR(ChillTempAct[[#This Row],[Date]])","v":2022},{"$f":"MONTH(ChillTempAct[[#This Row],[Date]])","v":5},{"$f":"IF(ChillTempAct[[#This Row],[Month]]=J640,K640+1,1)","v":2}]
[44686,54,48,{"$f":"AVERAGE(ChillTempAct[[#This Row],[ChillHigh]:[ChillLow]])","v":51},{"$f":"IF(ChillTempAct[[#This Row],[ChillAve]]<65,65-ChillTempAct[[#This Row],[ChillAve]],0)","v":14},{"$f":"INDEX(TempAdj[AdjustPct],MATCH(MONTH(ChillTempAct[[#This Row],[Date]]),TempAdj[Month],0))","v":0.2883},{"$f":"ChillTempAct[[#This Row],[ChillHDD]]*(1+ChillTempAct[[#This Row],[ChillAdj]])","v":18.036200000000001},{"$f":"SUMPRODUCT((RankNHDD[Month]=ChillTempAct[[#This Row],[Month]])*(RankNHDD[Rank]=ChillTempAct[[#This Row],[Rank]])*RankNHDD[KIRKNHDD])","v":15.368243727598569},{"$f":"YEAR(ChillTempAct[[#This Row],[Date]])","v":2022},{"$f":"MONTH(ChillTempAct[[#This Row],[Date]])","v":5},{"$f":"IF(ChillTempAct[[#This Row],[Month]]=J641,K641+1,1)","v":3}]
[44703,62,41,{"$f":"AVERAGE(ChillTempAct[[#This Row],[ChillHigh]:[ChillLow]])","v":51.5},{"$f":"IF(ChillTempAct[[#This Row],[ChillAve]]<65,65-ChillTempAct[[#This Row],[ChillAve]],0)","v":13.5},{"$f":"INDEX(TempAdj[AdjustPct],MATCH(MONTH(ChillTempAct[[#This Row],[Date]]),TempAdj[Month],0))","v":0.2883},{"$f":"ChillTempAct[[#This Row],[ChillHDD]]*(1+ChillTempAct[[#This Row],[ChillAdj]])","v":17.392050000000001},{"$f":"SUMPRODUCT((RankNHDD[Month]=ChillTempAct[[#This Row],[Month]])*(RankNHDD[Rank]=ChillTempAct[[#This Row],[Rank]])*RankNHDD[KIRKNHDD])","v":13.707939068100355},{"$f":"YEAR(ChillTempAct[[#This Row],[Date]])","v":2022},{"$f":"MONTH(ChillTempAct[[#This Row],[Date]])","v":5},{"$f":"IF(ChillTempAct[[#This Row],[Month]]=J642,K642+1,1)","v":4}]
[44704,67,42,{"$f":"AVERAGE(ChillTempAct[[#This Row],[ChillHigh]:[ChillLow]])","v":54.5},{"$f":"IF(ChillTempAct[[#This Row],[ChillAve]]<65,65-ChillTempAct[[#This Row],[ChillAve]],0)","v":10.5},{"$f":"INDEX(TempAdj[AdjustPct],MATCH(MONTH(ChillTempAct[[#This Row],[Date]]),TempAdj[Month],0))","v":0.2883},{"$f":"ChillTempAct[[#This Row],[ChillHDD]]*(1+ChillTempAct[[#This Row],[ChillAdj]])","v":13.527150000000001},{"$f":"SUMPRODUCT((RankNHDD[Month]=ChillTempAct[[#This Row],[Month]])*(RankNHDD[Rank]=ChillTempAct[[#This Row],[Rank]])*RankNHDD[KIRKNHDD])","v":12.2791935483871},{"$f":"YEAR(ChillTempAct[[#This Row],[Date]])","v":2022},{"$f":"MONTH(ChillTempAct[[#This Row],[Date]])","v":5},{"$f":"IF(ChillTempAct[[#This Row],[Month]]=J643,K643+1,1)","v":5}]
[44687,59,51,{"$f":"AVERAGE(ChillTempAct[[#This Row],[ChillHigh]:[ChillLow]])","v":55},{"$f":"IF(ChillTempAct[[#This Row],[ChillAve]]<65,65-ChillTempAct[[#This Row],[ChillAve]],0)","v":10},{"$f":"INDEX(TempAdj[AdjustPct],MATCH(MONTH(ChillTempAct[[#This Row],[Date]]),TempAdj[Month],0))","v":0.2883},{"$f":"ChillTempAct[[#This Row],[ChillHDD]]*(1+ChillTempAct[[#This Row],[ChillAdj]])","v":12.882999999999999},{"$f":"SUMPRODUCT((RankNHDD[Month]=ChillTempAct[[#This Row],[Month]])*(RankNHDD[Rank]=ChillTempAct[[#This Row],[Rank]])*RankNHDD[KIRKNHDD])","v":11.01689964157706},{"$f":"YEAR(ChillTempAct[[#This Row],[Date]])","v":2022},{"$f":"MONTH(ChillTempAct[[#This Row],[Date]])","v":5},{"$f":"IF(ChillTempAct[[#This Row],[Month]]=J644,K644+1,1)","v":6}]
[44683,67,44,{"$f":"AVERAGE(ChillTempAct[[#This Row],[ChillHigh]:[ChillLow]])","v":55.5},{"$f":"IF(ChillTempAct[[#This Row],[ChillAve]]<65,65-ChillTempAct[[#This Row],[ChillAve]],0)","v":9.5},{"$f":"INDEX(TempAdj[AdjustPct],MATCH(MONTH(ChillTempAct[[#This Row],[Date]]),TempAdj[Month],0))","v":0.2883},{"$f":"ChillTempAct[[#This Row],[ChillHDD]]*(1+ChillTempAct[[#This Row],[ChillAdj]])","v":12.238849999999999},{"$f":"SUMPRODUCT((RankNHDD[Month]=ChillTempAct[[#This Row],[Month]])*(RankNHDD[Rank]=ChillTempAct[[#This Row],[Rank]])*RankNHDD[KIRKNHDD])","v":10.027741935483872},{"$f":"YEAR(ChillTempAct[[#This Row],[Date]])","v":2022},{"$f":"MONTH(ChillTempAct[[#This Row],[Date]])","v":5},{"$f":"IF(ChillTempAct[[#This Row],[Month]]=J645,K645+1,1)","v":7}]
[44688,66,45,{"$f":"AVERAGE(ChillTempAct[[#This Row],[ChillHigh]:[ChillLow]])","v":55.5},{"$f":"IF(ChillTempAct[[#This Row],[ChillAve]]<65,65-ChillTempAct[[#This Row],[ChillAve]],0)","v":9.5},{"$f":"INDEX(TempAdj[AdjustPct],MATCH(MONTH(ChillTempAct[[#This Row],[Date]]),TempAdj[Month],0))","v":0.2883},{"$f":"ChillTempAct[[#This Row],[ChillHDD]]*(1+ChillTempAct[[#This Row],[ChillAdj]])","v":12.238849999999999},{"$f":"SUMPRODUCT((RankNHDD[Month]=ChillTempAct[[#This Row],[Month]])*(RankNHDD[Rank]=ChillTempAct[[#This Row],[Rank]])*RankNHDD[KIRKNHDD])","v":9.1459677419354843},{"$f":"YEAR(ChillTempAct[[#This Row],[Date]])","v":2022},{"$f":"MONTH(ChillTempAct[[#This Row],[Date]])","v":5},{"$f":"IF(ChillTempAct[[#This Row],[Month]]=J646,K646+1,1)","v":8}]
[44708,60,51,{"$f":"AVERAGE(ChillTempAct[[#This Row],[ChillHigh]:[ChillLow]])","v":55.5},{"$f":"IF(ChillTempAct[[#This Row],[ChillAve]]<65,65-ChillTempAct[[#This Row],[ChillAve]],0)","v":9.5},{"$f":"INDEX(TempAdj[AdjustPct],MATCH(MONTH(ChillTempAct[[#This Row],[Date]]),TempAdj[Month],0))","v":0.2883},{"$f":"ChillTempAct[[#This Row],[ChillHDD]]*(1+ChillTempAct[[#This Row],[ChillAdj]])","v":12.238849999999999},{"$f":"SUMPRODUCT((RankNHDD[Month]=ChillTempAct[[#This Row],[Month]])*(RankNHDD[Rank]=ChillTempAct[[#This Row],[Rank]])*RankNHDD[KIRKNHDD])","v":8.2015412186379937},{"$f":"YEAR(ChillTempAct[[#This Row],[Date]])","v":2022},{"$f":"MONTH(ChillTempAct[[#This Row],[Date]])","v":5},{"$f":"IF(ChillTempAct[[#This Row],[Month]]=J647,K647+1,1)","v":9}]
[44682,64,49,{"$f":"AVERAGE(ChillTempAct[[#This Row],[ChillHigh]:[ChillLow]])","v":56.5},{"$f":"IF(ChillTempAct[[#This Row],[ChillAve]]<65,65-ChillTempAct[[#This Row],[ChillAve]],0)","v":8.5},{"$f":"INDEX(TempAdj[AdjustPct],MATCH(MONTH(ChillTempAct[[#This Row],[Date]]),TempAdj[Month],0))","v":0.2883},{"$f":"ChillTempAct[[#This Row],[ChillHDD]]*(1+ChillTempAct[[#This Row],[ChillAdj]])","v":10.95055},{"$f":"SUMPRODUCT((RankNHDD[Month]=ChillTempAct[[#This Row],[Month]])*(RankNHDD[Rank]=ChillTempAct[[#This Row],[Rank]])*RankNHDD[KIRKNHDD])","v":7.4299999999999979},{"$f":"YEAR(ChillTempAct[[#This Row],[Date]])","v":2022},{"$f":"MONTH(ChillTempAct[[#This Row],[Date]])","v":5},{"$f":"IF(ChillTempAct[[#This Row],[Month]]=J648,K648+1,1)","v":10}]
[44705,68,45,{"$f":"AVERAGE(ChillTempAct[[#This Row],[ChillHigh]:[ChillLow]])","v":56.5},{"$f":"IF(ChillTempAct[[#This Row],[ChillAve]]<65,65-ChillTempAct[[#This Row],[ChillAve]],0)","v":8.5},{"$f":"INDEX(TempAdj[AdjustPct],MATCH(MONTH(ChillTempAct[[#This Row],[Date]]),TempAdj[Month],0))","v":0.2883},{"$f":"ChillTempAct[[#This Row],[ChillHDD]]*(1+ChillTempAct[[#This Row],[ChillAdj]])","v":10.95055},{"$f":"SUMPRODUCT((RankNHDD[Month]=ChillTempAct[[#This Row],[Month]])*(RankNHDD[Rank]=ChillTempAct[[#This Row],[Rank]])*RankNHDD[KIRKNHDD])","v":6.7132795698924737},{"$f":"YEAR(ChillTempAct[[#This Row],[Date]])","v":2022},{"$f":"MONTH(ChillTempAct[[#This Row],[Date]])","v":5},{"$f":"IF(ChillTempAct[[#This Row],[Month]]=J649,K649+1,1)","v":11}]
[44706,65,53,{"$f":"AVERAGE(ChillTempAct[[#This Row],[ChillHigh]:[ChillLow]])","v":59},{"$f":"IF(ChillTempAct[[#This Row],[ChillAve]]<65,65-ChillTempAct[[#This Row],[ChillAve]],0)","v":6},{"$f":"INDEX(TempAdj[AdjustPct],MATCH(MONTH(ChillTempAct[[#This Row],[Date]]),TempAdj[Month],0))","v":0.2883},{"$f":"ChillTempAct[[#This Row],[ChillHDD]]*(1+ChillTempAct[[#This Row],[ChillAdj]])","v":7.7298},{"$f":"SUMPRODUCT((RankNHDD[Month]=ChillTempAct[[#This Row],[Month]])*(RankNHDD[Rank]=ChillTempAct[[#This Row],[Rank]])*RankNHDD[KIRKNHDD])","v":6.065878136200717},{"$f":"YEAR(ChillTempAct[[#This Row],[Date]])","v":2022},{"$f":"MONTH(ChillTempAct[[#This Row],[Date]])","v":5},{"$f":"IF(ChillTempAct[[#This Row],[Month]]=J650,K650+1,1)","v":12}]
[44689,73,46,{"$f":"AVERAGE(ChillTempAct[[#This Row],[ChillHigh]:[ChillLow]])","v":59.5},{"$f":"IF(ChillTempAct[[#This Row],[ChillAve]]<65,65-ChillTempAct[[#This Row],[ChillAve]],0)","v":5.5},{"$f":"INDEX(TempAdj[AdjustPct],MATCH(MONTH(ChillTempAct[[#This Row],[Date]]),TempAdj[Month],0))","v":0.2883},{"$f":"ChillTempAct[[#This Row],[ChillHDD]]*(1+ChillTempAct[[#This Row],[ChillAdj]])","v":7.0856500000000002},{"$f":"SUMPRODUCT((RankNHDD[Month]=ChillTempAct[[#This Row],[Month]])*(RankNHDD[Rank]=ChillTempAct[[#This Row],[Rank]])*RankNHDD[KIRKNHDD])","v":5.264462365591398},{"$f":"YEAR(ChillTempAct[[#This Row],[Date]])","v":2022},{"$f":"MONTH(ChillTempAct[[#This Row],[Date]])","v":5},{"$f":"IF(ChillTempAct[[#This Row],[Month]]=J651,K651+1,1)","v":13}]
[44702,74,50,{"$f":"AVERAGE(ChillTempAct[[#This Row],[ChillHigh]:[ChillLow]])","v":62},{"$f":"IF(ChillTempAct[[#This Row],[ChillAve]]<65,65-ChillTempAct[[#This Row],[ChillAve]],0)","v":3},{"$f":"INDEX(TempAdj[AdjustPct],MATCH(MONTH(ChillTempAct[[#This Row],[Date]]),TempAdj[Month],0))","v":0.2883},{"$f":"ChillTempAct[[#This Row],[ChillHDD]]*(1+ChillTempAct[[#This Row],[ChillAdj]])","v":3.8649},{"$f":"SUMPRODUCT((RankNHDD[Month]=ChillTempAct[[#This Row],[Month]])*(RankNHDD[Rank]=ChillTempAct[[#This Row],[Rank]])*RankNHDD[KIRKNHDD])","v":4.6554838709677409},{"$f":"YEAR(ChillTempAct[[#This Row],[Date]])","v":2022},{"$f":"MONTH(ChillTempAct[[#This Row],[Date]])","v":5},{"$f":"IF(ChillTempAct[[#This Row],[Month]]=J652,K652+1,1)","v":14}]
[44697,74,51,{"$f":"AVERAGE(ChillTempAct[[#This Row],[ChillHigh]:[ChillLow]])","v":62.5},{"$f":"IF(ChillTempAct[[#This Row],[ChillAve]]<65,65-ChillTempAct[[#This Row],[ChillAve]],0)","v":2.5},{"$f":"INDEX(TempAdj[AdjustPct],MATCH(MONTH(ChillTempAct[[#This Row],[Date]]),TempAdj[Month],0))","v":0.2883},{"$f":"ChillTempAct[[#This Row],[ChillHDD]]*(1+ChillTempAct[[#This Row],[ChillAdj]])","v":3.2207499999999998},{"$f":"SUMPRODUCT((RankNHDD[Month]=ChillTempAct[[#This Row],[Month]])*(RankNHDD[Rank]=ChillTempAct[[#This Row],[Rank]])*RankNHDD[KIRKNHDD])","v":3.908870967741934},{"$f":"YEAR(ChillTempAct[[#This Row],[Date]])","v":2022},{"$f":"MONTH(ChillTempAct[[#This Row],[Date]])","v":5},{"$f":"IF(ChillTempAct[[#This Row],[Month]]=J653,K653+1,1)","v":15}]
[44707,73,54,{"$f":"AVERAGE(ChillTempAct[[#This Row],[ChillHigh]:[ChillLow]])","v":63.5},{"$f":"IF(ChillTempAct[[#This Row],[ChillAve]]<65,65-ChillTempAct[[#This Row],[ChillAve]],0)","v":1.5},{"$f":"INDEX(TempAdj[AdjustPct],MATCH(MONTH(ChillTempAct[[#This Row],[Date]]),TempAdj[Month],0))","v":0.2883},{"$f":"ChillTempAct[[#This Row],[ChillHDD]]*(1+ChillTempAct[[#This Row],[ChillAdj]])","v":1.93245},{"$f":"SUMPRODUCT((RankNHDD[Month]=ChillTempAct[[#This Row],[Month]])*(RankNHDD[Rank]=ChillTempAct[[#This Row],[Rank]])*RankNHDD[KIRKNHDD])","v":3.1718279569892456},{"$f":"YEAR(ChillTempAct[[#This Row],[Date]])","v":2022},{"$f":"MONTH(ChillTempAct[[#This Row],[Date]])","v":5},{"$f":"IF(ChillTempAct[[#This Row],[Month]]=J654,K654+1,1)","v":16}]
[44690,72,57,{"$f":"AVERAGE(ChillTempAct[[#This Row],[ChillHigh]:[ChillLow]])","v":64.5},{"$f":"IF(ChillTempAct[[#This Row],[ChillAve]]<65,65-ChillTempAct[[#This Row],[ChillAve]],0)","v":0.5},{"$f":"INDEX(TempAdj[AdjustPct],MATCH(MONTH(ChillTempAct[[#This Row],[Date]]),TempAdj[Month],0))","v":0.2883},{"$f":"ChillTempAct[[#This Row],[ChillHDD]]*(1+ChillTempAct[[#This Row],[ChillAdj]])","v":0.64415},{"$f":"SUMPRODUCT((RankNHDD[Month]=ChillTempAct[[#This Row],[Month]])*(RankNHDD[Rank]=ChillTempAct[[#This Row],[Rank]])*RankNHDD[KIRKNHDD])","v":2.4845698924731172},{"$f":"YEAR(ChillTempAct[[#This Row],[Date]])","v":2022},{"$f":"MONTH(ChillTempAct[[#This Row],[Date]])","v":5},{"$f":"IF(ChillTempAct[[#This Row],[Month]]=J655,K655+1,1)","v":17}]
[44709,79,51,{"$f":"AVERAGE(ChillTempAct[[#This Row],[ChillHigh]:[ChillLow]])","v":65},{"$f":"IF(ChillTempAct[[#This Row],[ChillAve]]<65,65-ChillTempAct[[#This Row],[ChillAve]],0)","v":0},{"$f":"INDEX(TempAdj[AdjustPct],MATCH(MONTH(ChillTempAct[[#This Row],[Date]]),TempAdj[Month],0))","v":0.2883},{"$f":"ChillTempAct[[#This Row],[ChillHDD]]*(1+ChillTempAct[[#This Row],[ChillAdj]])","v":0},{"$f":"SUMPRODUCT((RankNHDD[Month]=ChillTempAct[[#This Row],[Month]])*(RankNHDD[Rank]=ChillTempAct[[#This Row],[Rank]])*RankNHDD[KIRKNHDD])","v":1.7857347670250883},{"$f":"YEAR(ChillTempAct[[#This Row],[Date]])","v":2022},{"$f":"MONTH(ChillTempAct[[#This Row],[Date]])","v":5},{"$f":"IF(ChillTempAct[[#This Row],[Month]]=J656,K656+1,1)","v":18}]
[44698,80,52,{"$f":"AVERAGE(ChillTempAct[[#This Row],[ChillHigh]:[ChillLow]])","v":66},{"$f":"IF(ChillTempAct[[#This Row],[ChillAve]]<65,65-ChillTempAct[[#This Row],[ChillAve]],0)","v":0},{"$f":"INDEX(TempAdj[AdjustPct],MATCH(MONTH(ChillTempAct[[#This Row],[Date]]),TempAdj[Month],0))","v":0.2883},{"$f":"ChillTempAct[[#This Row],[ChillHDD]]*(1+ChillTempAct[[#This Row],[ChillAdj]])","v":0},{"$f":"SUMPRODUCT((RankNHDD[Month]=ChillTempAct[[#This Row],[Month]])*(RankNHDD[Rank]=ChillTempAct[[#This Row],[Rank]])*RankNHDD[KIRKNHDD])","v":0.92596774193548137},{"$f":"YEAR(ChillTempAct[[#This Row],[Date]])","v":2022},{"$f":"MONTH(ChillTempAct[[#This Row],[Date]])","v":5},{"$f":"IF(ChillTempAct[[#This Row],[Month]]=J657,K657+1,1)","v":19}]
[44710,81,57,{"$f":"AVERAGE(ChillTempAct[[#This Row],[ChillHigh]:[ChillLow]])","v":69},{"$f":"IF(ChillTempAct[[#This Row],[ChillAve]]<65,65-ChillTempAct[[#This Row],[ChillAve]],0)","v":0},{"$f":"INDEX(TempAdj[AdjustPct],MATCH(MONTH(ChillTempAct[[#This Row],[Date]]),TempAdj[Month],0))","v":0.2883},{"$f":"ChillTempAct[[#This Row],[ChillHDD]]*(1+ChillTempAct[[#This Row],[ChillAdj]])","v":0},{"$f":"SUMPRODUCT((RankNHDD[Month]=ChillTempAct[[#This Row],[Month]])*(RankNHDD[Rank]=ChillTempAct[[#This Row],[Rank]])*RankNHDD[KIRKNHDD])","v":8.833333333333257E-2},{"$f":"YEAR(ChillTempAct[[#This Row],[Date]])","v":2022},{"$f":"MONTH(ChillTempAct[[#This Row],[Date]])","v":5},{"$f":"IF(ChillTempAct[[#This Row],[Month]]=J658,K658+1,1)","v":20}]
[44699,86,56,{"$f":"AVERAGE(ChillTempAct[[#This Row],[ChillHigh]:[ChillLow]])","v":71},{"$f":"IF(ChillTempAct[[#This Row],[ChillAve]]<65,65-ChillTempAct[[#This Row],[ChillAve]],0)","v":0},{"$f":"INDEX(TempAdj[AdjustPct],MATCH(MONTH(ChillTempAct[[#This Row],[Date]]),TempAdj[Month],0))","v":0.2883},{"$f":"ChillTempAct[[#This Row],[ChillHDD]]*(1+ChillTempAct[[#This Row],[ChillAdj]])","v":0},{"$f":"SUMPRODUCT((RankNHDD[Month]=ChillTempAct[[#This Row],[Month]])*(RankNHDD[Rank]=ChillTempAct[[#This Row],[Rank]])*RankNHDD[KIRKNHDD])","v":0},{"$f":"YEAR(ChillTempAct[[#This Row],[Date]])","v":2022},{"$f":"MONTH(ChillTempAct[[#This Row],[Date]])","v":5},{"$f":"IF(ChillTempAct[[#This Row],[Month]]=J659,K659+1,1)","v":21}]
[44700,83,59,{"$f":"AVERAGE(ChillTempAct[[#This Row],[ChillHigh]:[ChillLow]])","v":71},{"$f":"IF(ChillTempAct[[#This Row],[ChillAve]]<65,65-ChillTempAct[[#This Row],[ChillAve]],0)","v":0},{"$f":"INDEX(TempAdj[AdjustPct],MATCH(MONTH(ChillTempAct[[#This Row],[Date]]),TempAdj[Month],0))","v":0.2883},{"$f":"ChillTempAct[[#This Row],[ChillHDD]]*(1+ChillTempAct[[#This Row],[ChillAdj]])","v":0},{"$f":"SUMPRODUCT((RankNHDD[Month]=ChillTempAct[[#This Row],[Month]])*(RankNHDD[Rank]=ChillTempAct[[#This Row],[Rank]])*RankNHDD[KIRKNHDD])","v":0},{"$f":"YEAR(ChillTempAct[[#This Row],[Date]])","v":2022},{"$f":"MONTH(ChillTempAct[[#This Row],[Date]])","v":5},{"$f":"IF(ChillTempAct[[#This Row],[Month]]=J660,K660+1,1)","v":22}]
[44701,83,60,{"$f":"AVERAGE(ChillTempAct[[#This Row],[ChillHigh]:[ChillLow]])","v":71.5},{"$f":"IF(ChillTempAct[[#This Row],[ChillAve]]<65,65-ChillTempAct[[#This Row],[ChillAve]],0)","v":0},{"$f":"INDEX(TempAdj[AdjustPct],MATCH(MONTH(ChillTempAct[[#This Row],[Date]]),TempAdj[Month],0))","v":0.2883},{"$f":"ChillTempAct[[#This Row],[ChillHDD]]*(1+ChillTempAct[[#This Row],[ChillAdj]])","v":0},{"$f":"SUMPRODUCT((RankNHDD[Month]=ChillTempAct[[#This Row],[Month]])*(RankNHDD[Rank]=ChillTempAct[[#This Row],[Rank]])*RankNHDD[KIRKNHDD])","v":0},{"$f":"YEAR(ChillTempAct[[#This Row],[Date]])","v":2022},{"$f":"MONTH(ChillTempAct[[#This Row],[Date]])","v":5},{"$f":"IF(ChillTempAct[[#This Row],[Month]]=J661,K661+1,1)","v":23}]
[44695,86,62,{"$f":"AVERAGE(ChillTempAct[[#This Row],[ChillHigh]:[ChillLow]])","v":74},{"$f":"IF(ChillTempAct[[#This Row],[ChillAve]]<65,65-ChillTempAct[[#This Row],[ChillAve]],0)","v":0},{"$f":"INDEX(TempAdj[AdjustPct],MATCH(MONTH(ChillTempAct[[#This Row],[Date]]),TempAdj[Month],0))","v":0.2883},{"$f":"ChillTempAct[[#This Row],[ChillHDD]]*(1+ChillTempAct[[#This Row],[ChillAdj]])","v":0},{"$f":"SUMPRODUCT((RankNHDD[Month]=ChillTempAct[[#This Row],[Month]])*(RankNHDD[Rank]=ChillTempAct[[#This Row],[Rank]])*RankNHDD[KIRKNHDD])","v":0},{"$f":"YEAR(ChillTempAct[[#This Row],[Date]])","v":2022},{"$f":"MONTH(ChillTempAct[[#This Row],[Date]])","v":5},{"$f":"IF(ChillTempAct[[#This Row],[Month]]=J662,K662+1,1)","v":24}]
[44696,89,60,{"$f":"AVERAGE(ChillTempAct[[#This Row],[ChillHigh]:[ChillLow]])","v":74.5},{"$f":"IF(ChillTempAct[[#This Row],[ChillAve]]<65,65-ChillTempAct[[#This Row],[ChillAve]],0)","v":0},{"$f":"INDEX(TempAdj[AdjustPct],MATCH(MONTH(ChillTempAct[[#This Row],[Date]]),TempAdj[Month],0))","v":0.2883},{"$f":"ChillTempAct[[#This Row],[ChillHDD]]*(1+ChillTempAct[[#This Row],[ChillAdj]])","v":0},{"$f":"SUMPRODUCT((RankNHDD[Month]=ChillTempAct[[#This Row],[Month]])*(RankNHDD[Rank]=ChillTempAct[[#This Row],[Rank]])*RankNHDD[KIRKNHDD])","v":0},{"$f":"YEAR(ChillTempAct[[#This Row],[Date]])","v":2022},{"$f":"MONTH(ChillTempAct[[#This Row],[Date]])","v":5},{"$f":"IF(ChillTempAct[[#This Row],[Month]]=J663,K663+1,1)","v":25}]
[44712,88,65,{"$f":"AVERAGE(ChillTempAct[[#This Row],[ChillHigh]:[ChillLow]])","v":76.5},{"$f":"IF(ChillTempAct[[#This Row],[ChillAve]]<65,65-ChillTempAct[[#This Row],[ChillAve]],0)","v":0},{"$f":"INDEX(TempAdj[AdjustPct],MATCH(MONTH(ChillTempAct[[#This Row],[Date]]),TempAdj[Month],0))","v":0.2883},{"$f":"ChillTempAct[[#This Row],[ChillHDD]]*(1+ChillTempAct[[#This Row],[ChillAdj]])","v":0},{"$f":"SUMPRODUCT((RankNHDD[Month]=ChillTempAct[[#This Row],[Month]])*(RankNHDD[Rank]=ChillTempAct[[#This Row],[Rank]])*RankNHDD[KIRKNHDD])","v":0},{"$f":"YEAR(ChillTempAct[[#This Row],[Date]])","v":2022},{"$f":"MONTH(ChillTempAct[[#This Row],[Date]])","v":5},{"$f":"IF(ChillTempAct[[#This Row],[Month]]=J664,K664+1,1)","v":26}]
[44711,88,68,{"$f":"AVERAGE(ChillTempAct[[#This Row],[ChillHigh]:[ChillLow]])","v":78},{"$f":"IF(ChillTempAct[[#This Row],[ChillAve]]<65,65-ChillTempAct[[#This Row],[ChillAve]],0)","v":0},{"$f":"INDEX(TempAdj[AdjustPct],MATCH(MONTH(ChillTempAct[[#This Row],[Date]]),TempAdj[Month],0))","v":0.2883},{"$f":"ChillTempAct[[#This Row],[ChillHDD]]*(1+ChillTempAct[[#This Row],[ChillAdj]])","v":0},{"$f":"SUMPRODUCT((RankNHDD[Month]=ChillTempAct[[#This Row],[Month]])*(RankNHDD[Rank]=ChillTempAct[[#This Row],[Rank]])*RankNHDD[KIRKNHDD])","v":0},{"$f":"YEAR(ChillTempAct[[#This Row],[Date]])","v":2022},{"$f":"MONTH(ChillTempAct[[#This Row],[Date]])","v":5},{"$f":"IF(ChillTempAct[[#This Row],[Month]]=J665,K665+1,1)","v":27}]
[44691,90,67,{"$f":"AVERAGE(ChillTempAct[[#This Row],[ChillHigh]:[ChillLow]])","v":78.5},{"$f":"IF(ChillTempAct[[#This Row],[ChillAve]]<65,65-ChillTempAct[[#This Row],[ChillAve]],0)","v":0},{"$f":"INDEX(TempAdj[AdjustPct],MATCH(MONTH(ChillTempAct[[#This Row],[Date]]),TempAdj[Month],0))","v":0.2883},{"$f":"ChillTempAct[[#This Row],[ChillHDD]]*(1+ChillTempAct[[#This Row],[ChillAdj]])","v":0},{"$f":"SUMPRODUCT((RankNHDD[Month]=ChillTempAct[[#This Row],[Month]])*(RankNHDD[Rank]=ChillTempAct[[#This Row],[Rank]])*RankNHDD[KIRKNHDD])","v":0},{"$f":"YEAR(ChillTempAct[[#This Row],[Date]])","v":2022},{"$f":"MONTH(ChillTempAct[[#This Row],[Date]])","v":5},{"$f":"IF(ChillTempAct[[#This Row],[Month]]=J666,K666+1,1)","v":28}]
[44694,92,65,{"$f":"AVERAGE(ChillTempAct[[#This Row],[ChillHigh]:[ChillLow]])","v":78.5},{"$f":"IF(ChillTempAct[[#This Row],[ChillAve]]<65,65-ChillTempAct[[#This Row],[ChillAve]],0)","v":0},{"$f":"INDEX(TempAdj[AdjustPct],MATCH(MONTH(ChillTempAct[[#This Row],[Date]]),TempAdj[Month],0))","v":0.2883},{"$f":"ChillTempAct[[#This Row],[ChillHDD]]*(1+ChillTempAct[[#This Row],[ChillAdj]])","v":0},{"$f":"SUMPRODUCT((RankNHDD[Month]=ChillTempAct[[#This Row],[Month]])*(RankNHDD[Rank]=ChillTempAct[[#This Row],[Rank]])*RankNHDD[KIRKNHDD])","v":0},{"$f":"YEAR(ChillTempAct[[#This Row],[Date]])","v":2022},{"$f":"MONTH(ChillTempAct[[#This Row],[Date]])","v":5},{"$f":"IF(ChillTempAct[[#This Row],[Month]]=J667,K667+1,1)","v":29}]
[44692,90,70,{"$f":"AVERAGE(ChillTempAct[[#This Row],[ChillHigh]:[ChillLow]])","v":80},{"$f":"IF(ChillTempAct[[#This Row],[ChillAve]]<65,65-ChillTempAct[[#This Row],[ChillAve]],0)","v":0},{"$f":"INDEX(TempAdj[AdjustPct],MATCH(MONTH(ChillTempAct[[#This Row],[Date]]),TempAdj[Month],0))","v":0.2883},{"$f":"ChillTempAct[[#This Row],[ChillHDD]]*(1+ChillTempAct[[#This Row],[ChillAdj]])","v":0},{"$f":"SUMPRODUCT((RankNHDD[Month]=ChillTempAct[[#This Row],[Month]])*(RankNHDD[Rank]=ChillTempAct[[#This Row],[Rank]])*RankNHDD[KIRKNHDD])","v":0},{"$f":"YEAR(ChillTempAct[[#This Row],[Date]])","v":2022},{"$f":"MONTH(ChillTempAct[[#This Row],[Date]])","v":5},{"$f":"IF(ChillTempAct[[#This Row],[Month]]=J668,K668+1,1)","v":30}]
[44693,91,71,{"$f":"AVERAGE(ChillTempAct[[#This Row],[ChillHigh]:[ChillLow]])","v":81},{"$f":"IF(ChillTempAct[[#This Row],[ChillAve]]<65,65-ChillTempAct[[#This Row],[ChillAve]],0)","v":0},{"$f":"INDEX(TempAdj[AdjustPct],MATCH(MONTH(ChillTempAct[[#This Row],[Date]]),TempAdj[Month],0))","v":0.2883},{"$f":"ChillTempAct[[#This Row],[ChillHDD]]*(1+ChillTempAct[[#This Row],[ChillAdj]])","v":0},{"$f":"SUMPRODUCT((RankNHDD[Month]=ChillTempAct[[#This Row],[Month]])*(RankNHDD[Rank]=ChillTempAct[[#This Row],[Rank]])*RankNHDD[KIRKNHDD])","v":0},{"$f":"YEAR(ChillTempAct[[#This Row],[Date]])","v":2022},{"$f":"MONTH(ChillTempAct[[#This Row],[Date]])","v":5},{"$f":"IF(ChillTempAct[[#This Row],[Month]]=J669,K669+1,1)","v":31}]
[44714,72,53,{"$f":"AVERAGE(ChillTempAct[[#This Row],[ChillHigh]:[ChillLow]])","v":62.5},{"$f":"IF(ChillTempAct[[#This Row],[ChillAve]]<65,65-ChillTempAct[[#This Row],[ChillAve]],0)","v":2.5},{"$f":"INDEX(TempAdj[AdjustPct],MATCH(MONTH(ChillTempAct[[#This Row],[Date]]),TempAdj[Month],0))","v":0.67179999999999995},{"$f":"ChillTempAct[[#This Row],[ChillHDD]]*(1+ChillTempAct[[#This Row],[ChillAdj]])","v":4.1795},{"$f":"SUMPRODUCT((RankNHDD[Month]=ChillTempAct[[#This Row],[Month]])*(RankNHDD[Rank]=ChillTempAct[[#This Row],[Rank]])*RankNHDD[KIRKNHDD])","v":8.9318637992831516},{"$f":"YEAR(ChillTempAct[[#This Row],[Date]])","v":2022},{"$f":"MONTH(ChillTempAct[[#This Row],[Date]])","v":6},{"$f":"IF(ChillTempAct[[#This Row],[Month]]=J670,K670+1,1)","v":1}]
[44715,75,54,{"$f":"AVERAGE(ChillTempAct[[#This Row],[ChillHigh]:[ChillLow]])","v":64.5},{"$f":"IF(ChillTempAct[[#This Row],[ChillAve]]<65,65-ChillTempAct[[#This Row],[ChillAve]],0)","v":0.5},{"$f":"INDEX(TempAdj[AdjustPct],MATCH(MONTH(ChillTempAct[[#This Row],[Date]]),TempAdj[Month],0))","v":0.67179999999999995},{"$f":"ChillTempAct[[#This Row],[ChillHDD]]*(1+ChillTempAct[[#This Row],[ChillAdj]])","v":0.83589999999999998},{"$f":"SUMPRODUCT((RankNHDD[Month]=ChillTempAct[[#This Row],[Month]])*(RankNHDD[Rank]=ChillTempAct[[#This Row],[Rank]])*RankNHDD[KIRKNHDD])","v":4.877347670250896},{"$f":"YEAR(ChillTempAct[[#This Row],[Date]])","v":2022},{"$f":"MONTH(ChillTempAct[[#This Row],[Date]])","v":6},{"$f":"IF(ChillTempAct[[#This Row],[Month]]=J671,K671+1,1)","v":2}]
[44739,77,56,{"$f":"AVERAGE(ChillTempAct[[#This Row],[ChillHigh]:[ChillLow]])","v":66.5},{"$f":"IF(ChillTempAct[[#This Row],[ChillAve]]<65,65-ChillTempAct[[#This Row],[ChillAve]],0)","v":0},{"$f":"INDEX(TempAdj[AdjustPct],MATCH(MONTH(ChillTempAct[[#This Row],[Date]]),TempAdj[Month],0))","v":0.67179999999999995},{"$f":"ChillTempAct[[#This Row],[ChillHDD]]*(1+ChillTempAct[[#This Row],[ChillAdj]])","v":0},{"$f":"SUMPRODUCT((RankNHDD[Month]=ChillTempAct[[#This Row],[Month]])*(RankNHDD[Rank]=ChillTempAct[[#This Row],[Rank]])*RankNHDD[KIRKNHDD])","v":2.8872222222222224},{"$f":"YEAR(ChillTempAct[[#This Row],[Date]])","v":2022},{"$f":"MONTH(ChillTempAct[[#This Row],[Date]])","v":6},{"$f":"IF(ChillTempAct[[#This Row],[Month]]=J672,K672+1,1)","v":3}]
[44713,75,59,{"$f":"AVERAGE(ChillTempAct[[#This Row],[ChillHigh]:[ChillLow]])","v":67},{"$f":"IF(ChillTempAct[[#This Row],[ChillAve]]<65,65-ChillTempAct[[#This Row],[ChillAve]],0)","v":0},{"$f":"INDEX(TempAdj[AdjustPct],MATCH(MONTH(ChillTempAct[[#This Row],[Date]]),TempAdj[Month],0))","v":0.67179999999999995},{"$f":"ChillTempAct[[#This Row],[ChillHDD]]*(1+ChillTempAct[[#This Row],[ChillAdj]])","v":0},{"$f":"SUMPRODUCT((RankNHDD[Month]=ChillTempAct[[#This Row],[Month]])*(RankNHDD[Rank]=ChillTempAct[[#This Row],[Rank]])*RankNHDD[KIRKNHDD])","v":1.612222222222222},{"$f":"YEAR(ChillTempAct[[#This Row],[Date]])","v":2022},{"$f":"MONTH(ChillTempAct[[#This Row],[Date]])","v":6},{"$f":"IF(ChillTempAct[[#This Row],[Month]]=J673,K673+1,1)","v":4}]
[44721,77,58,{"$f":"AVERAGE(ChillTempAct[[#This Row],[ChillHigh]:[ChillLow]])","v":67.5},{"$f":"IF(ChillTempAct[[#This Row],[ChillAve]]<65,65-ChillTempAct[[#This Row],[ChillAve]],0)","v":0},{"$f":"INDEX(TempAdj[AdjustPct],MATCH(MONTH(ChillTempAct[[#This Row],[Date]]),TempAdj[Month],0))","v":0.67179999999999995},{"$f":"ChillTempAct[[#This Row],[ChillHDD]]*(1+ChillTempAct[[#This Row],[ChillAdj]])","v":0},{"$f":"SUMPRODUCT((RankNHDD[Month]=ChillTempAct[[#This Row],[Month]])*(RankNHDD[Rank]=ChillTempAct[[#This Row],[Rank]])*RankNHDD[KIRKNHDD])","v":0.56722222222222174},{"$f":"YEAR(ChillTempAct[[#This Row],[Date]])","v":2022},{"$f":"MONTH(ChillTempAct[[#This Row],[Date]])","v":6},{"$f":"IF(ChillTempAct[[#This Row],[Month]]=J674,K674+1,1)","v":5}]
[44740,79,58,{"$f":"AVERAGE(ChillTempAct[[#This Row],[ChillHigh]:[ChillLow]])","v":68.5},{"$f":"IF(ChillTempAct[[#This Row],[ChillAve]]<65,65-ChillTempAct[[#This Row],[ChillAve]],0)","v":0},{"$f":"INDEX(TempAdj[AdjustPct],MATCH(MONTH(ChillTempAct[[#This Row],[Date]]),TempAdj[Month],0))","v":0.67179999999999995},{"$f":"ChillTempAct[[#This Row],[ChillHDD]]*(1+ChillTempAct[[#This Row],[ChillAdj]])","v":0},{"$f":"SUMPRODUCT((RankNHDD[Month]=ChillTempAct[[#This Row],[Month]])*(RankNHDD[Rank]=ChillTempAct[[#This Row],[Rank]])*RankNHDD[KIRKNHDD])","v":0},{"$f":"YEAR(ChillTempAct[[#This Row],[Date]])","v":2022},{"$f":"MONTH(ChillTempAct[[#This Row],[Date]])","v":6},{"$f":"IF(ChillTempAct[[#This Row],[Month]]=J675,K675+1,1)","v":6}]
[44716,83,55,{"$f":"AVERAGE(ChillTempAct[[#This Row],[ChillHigh]:[ChillLow]])","v":69},{"$f":"IF(ChillTempAct[[#This Row],[ChillAve]]<65,65-ChillTempAct[[#This Row],[ChillAve]],0)","v":0},{"$f":"INDEX(TempAdj[AdjustPct],MATCH(MONTH(ChillTempAct[[#This Row],[Date]]),TempAdj[Month],0))","v":0.67179999999999995},{"$f":"ChillTempAct[[#This Row],[ChillHDD]]*(1+ChillTempAct[[#This Row],[ChillAdj]])","v":0},{"$f":"SUMPRODUCT((RankNHDD[Month]=ChillTempAct[[#This Row],[Month]])*(RankNHDD[Rank]=ChillTempAct[[#This Row],[Rank]])*RankNHDD[KIRKNHDD])","v":0},{"$f":"YEAR(ChillTempAct[[#This Row],[Date]])","v":2022},{"$f":"MONTH(ChillTempAct[[#This Row],[Date]])","v":6},{"$f":"IF(ChillTempAct[[#This Row],[Month]]=J676,K676+1,1)","v":7}]
[44717,80,59,{"$f":"AVERAGE(ChillTempAct[[#This Row],[ChillHigh]:[ChillLow]])","v":69.5},{"$f":"IF(ChillTempAct[[#This Row],[ChillAve]]<65,65-ChillTempAct[[#This Row],[ChillAve]],0)","v":0},{"$f":"INDEX(TempAdj[AdjustPct],MATCH(MONTH(ChillTempAct[[#This Row],[Date]]),TempAdj[Month],0))","v":0.67179999999999995},{"$f":"ChillTempAct[[#This Row],[ChillHDD]]*(1+ChillTempAct[[#This Row],[ChillAdj]])","v":0},{"$f":"SUMPRODUCT((RankNHDD[Month]=ChillTempAct[[#This Row],[Month]])*(RankNHDD[Rank]=ChillTempAct[[#This Row],[Rank]])*RankNHDD[KIRKNHDD])","v":0},{"$f":"YEAR(ChillTempAct[[#This Row],[Date]])","v":2022},{"$f":"MONTH(ChillTempAct[[#This Row],[Date]])","v":6},{"$f":"IF(ChillTempAct[[#This Row],[Month]]=J677,K677+1,1)","v":8}]
[44722,82,58,{"$f":"AVERAGE(ChillTempAct[[#This Row],[ChillHigh]:[ChillLow]])","v":70},{"$f":"IF(ChillTempAct[[#This Row],[ChillAve]]<65,65-ChillTempAct[[#This Row],[ChillAve]],0)","v":0},{"$f":"INDEX(TempAdj[AdjustPct],MATCH(MONTH(ChillTempAct[[#This Row],[Date]]),TempAdj[Month],0))","v":0.67179999999999995},{"$f":"ChillTempAct[[#This Row],[ChillHDD]]*(1+ChillTempAct[[#This Row],[ChillAdj]])","v":0},{"$f":"SUMPRODUCT((RankNHDD[Month]=ChillTempAct[[#This Row],[Month]])*(RankNHDD[Rank]=ChillTempAct[[#This Row],[Rank]])*RankNHDD[KIRKNHDD])","v":0},{"$f":"YEAR(ChillTempAct[[#This Row],[Date]])","v":2022},{"$f":"MONTH(ChillTempAct[[#This Row],[Date]])","v":6},{"$f":"IF(ChillTempAct[[#This Row],[Month]]=J678,K678+1,1)","v":9}]
[44741,84,59,{"$f":"AVERAGE(ChillTempAct[[#This Row],[ChillHigh]:[ChillLow]])","v":71.5},{"$f":"IF(ChillTempAct[[#This Row],[ChillAve]]<65,65-ChillTempAct[[#This Row],[ChillAve]],0)","v":0},{"$f":"INDEX(TempAdj[AdjustPct],MATCH(MONTH(ChillTempAct[[#This Row],[Date]]),TempAdj[Month],0))","v":0.67179999999999995},{"$f":"ChillTempAct[[#This Row],[ChillHDD]]*(1+ChillTempAct[[#This Row],[ChillAdj]])","v":0},{"$f":"SUMPRODUCT((RankNHDD[Month]=ChillTempAct[[#This Row],[Month]])*(RankNHDD[Rank]=ChillTempAct[[#This Row],[Rank]])*RankNHDD[KIRKNHDD])","v":0},{"$f":"YEAR(ChillTempAct[[#This Row],[Date]])","v":2022},{"$f":"MONTH(ChillTempAct[[#This Row],[Date]])","v":6},{"$f":"IF(ChillTempAct[[#This Row],[Month]]=J679,K679+1,1)","v":10}]
[44718,82,63,{"$f":"AVERAGE(ChillTempAct[[#This Row],[ChillHigh]:[ChillLow]])","v":72.5},{"$f":"IF(ChillTempAct[[#This Row],[ChillAve]]<65,65-ChillTempAct[[#This Row],[ChillAve]],0)","v":0},{"$f":"INDEX(TempAdj[AdjustPct],MATCH(MONTH(ChillTempAct[[#This Row],[Date]]),TempAdj[Month],0))","v":0.67179999999999995},{"$f":"ChillTempAct[[#This Row],[ChillHDD]]*(1+ChillTempAct[[#This Row],[ChillAdj]])","v":0},{"$f":"SUMPRODUCT((RankNHDD[Month]=ChillTempAct[[#This Row],[Month]])*(RankNHDD[Rank]=ChillTempAct[[#This Row],[Rank]])*RankNHDD[KIRKNHDD])","v":0},{"$f":"YEAR(ChillTempAct[[#This Row],[Date]])","v":2022},{"$f":"MONTH(ChillTempAct[[#This Row],[Date]])","v":6},{"$f":"IF(ChillTempAct[[#This Row],[Month]]=J680,K680+1,1)","v":11}]
[44723,82,64,{"$f":"AVERAGE(ChillTempAct[[#This Row],[ChillHigh]:[ChillLow]])","v":73},{"$f":"IF(ChillTempAct[[#This Row],[ChillAve]]<65,65-ChillTempAct[[#This Row],[ChillAve]],0)","v":0},{"$f":"INDEX(TempAdj[AdjustPct],MATCH(MONTH(ChillTempAct[[#This Row],[Date]]),TempAdj[Month],0))","v":0.67179999999999995},{"$f":"ChillTempAct[[#This Row],[ChillHDD]]*(1+ChillTempAct[[#This Row],[ChillAdj]])","v":0},{"$f":"SUMPRODUCT((RankNHDD[Month]=ChillTempAct[[#This Row],[Month]])*(RankNHDD[Rank]=ChillTempAct[[#This Row],[Rank]])*RankNHDD[KIRKNHDD])","v":0},{"$f":"YEAR(ChillTempAct[[#This Row],[Date]])","v":2022},{"$f":"MONTH(ChillTempAct[[#This Row],[Date]])","v":6},{"$f":"IF(ChillTempAct[[#This Row],[Month]]=J681,K681+1,1)","v":12}]
[44720,86,62,{"$f":"AVERAGE(ChillTempAct[[#This Row],[ChillHigh]:[ChillLow]])","v":74},{"$f":"IF(ChillTempAct[[#This Row],[ChillAve]]<65,65-ChillTempAct[[#This Row],[ChillAve]],0)","v":0},{"$f":"INDEX(TempAdj[AdjustPct],MATCH(MONTH(ChillTempAct[[#This Row],[Date]]),TempAdj[Month],0))","v":0.67179999999999995},{"$f":"ChillTempAct[[#This Row],[ChillHDD]]*(1+ChillTempAct[[#This Row],[ChillAdj]])","v":0},{"$f":"SUMPRODUCT((RankNHDD[Month]=ChillTempAct[[#This Row],[Month]])*(RankNHDD[Rank]=ChillTempAct[[#This Row],[Rank]])*RankNHDD[KIRKNHDD])","v":0},{"$f":"YEAR(ChillTempAct[[#This Row],[Date]])","v":2022},{"$f":"MONTH(ChillTempAct[[#This Row],[Date]])","v":6},{"$f":"IF(ChillTempAct[[#This Row],[Month]]=J682,K682+1,1)","v":13}]
[44737,81,67,{"$f":"AVERAGE(ChillTempAct[[#This Row],[ChillHigh]:[ChillLow]])","v":74},{"$f":"IF(ChillTempAct[[#This Row],[ChillAve]]<65,65-ChillTempAct[[#This Row],[ChillAve]],0)","v":0},{"$f":"INDEX(TempAdj[AdjustPct],MATCH(MONTH(ChillTempAct[[#This Row],[Date]]),TempAdj[Month],0))","v":0.67179999999999995},{"$f":"ChillTempAct[[#This Row],[ChillHDD]]*(1+ChillTempAct[[#This Row],[ChillAdj]])","v":0},{"$f":"SUMPRODUCT((RankNHDD[Month]=ChillTempAct[[#This Row],[Month]])*(RankNHDD[Rank]=ChillTempAct[[#This Row],[Rank]])*RankNHDD[KIRKNHDD])","v":0},{"$f":"YEAR(ChillTempAct[[#This Row],[Date]])","v":2022},{"$f":"MONTH(ChillTempAct[[#This Row],[Date]])","v":6},{"$f":"IF(ChillTempAct[[#This Row],[Month]]=J683,K683+1,1)","v":14}]
[44735,85,65,{"$f":"AVERAGE(ChillTempAct[[#This Row],[ChillHigh]:[ChillLow]])","v":75},{"$f":"IF(ChillTempAct[[#This Row],[ChillAve]]<65,65-ChillTempAct[[#This Row],[ChillAve]],0)","v":0},{"$f":"INDEX(TempAdj[AdjustPct],MATCH(MONTH(ChillTempAct[[#This Row],[Date]]),TempAdj[Month],0))","v":0.67179999999999995},{"$f":"ChillTempAct[[#This Row],[ChillHDD]]*(1+ChillTempAct[[#This Row],[ChillAdj]])","v":0},{"$f":"SUMPRODUCT((RankNHDD[Month]=ChillTempAct[[#This Row],[Month]])*(RankNHDD[Rank]=ChillTempAct[[#This Row],[Rank]])*RankNHDD[KIRKNHDD])","v":0},{"$f":"YEAR(ChillTempAct[[#This Row],[Date]])","v":2022},{"$f":"MONTH(ChillTempAct[[#This Row],[Date]])","v":6},{"$f":"IF(ChillTempAct[[#This Row],[Month]]=J684,K684+1,1)","v":15}]
[44719,86,65,{"$f":"AVERAGE(ChillTempAct[[#This Row],[ChillHigh]:[ChillLow]])","v":75.5},{"$f":"IF(ChillTempAct[[#This Row],[ChillAve]]<65,65-ChillTempAct[[#This Row],[ChillAve]],0)","v":0},{"$f":"INDEX(TempAdj[AdjustPct],MATCH(MONTH(ChillTempAct[[#This Row],[Date]]),TempAdj[Month],0))","v":0.67179999999999995},{"$f":"ChillTempAct[[#This Row],[ChillHDD]]*(1+ChillTempAct[[#This Row],[ChillAdj]])","v":0},{"$f":"SUMPRODUCT((RankNHDD[Month]=ChillTempAct[[#This Row],[Month]])*(RankNHDD[Rank]=ChillTempAct[[#This Row],[Rank]])*RankNHDD[KIRKNHDD])","v":0},{"$f":"YEAR(ChillTempAct[[#This Row],[Date]])","v":2022},{"$f":"MONTH(ChillTempAct[[#This Row],[Date]])","v":6},{"$f":"IF(ChillTempAct[[#This Row],[Month]]=J685,K685+1,1)","v":16}]
[44736,83,68,{"$f":"AVERAGE(ChillTempAct[[#This Row],[ChillHigh]:[ChillLow]])","v":75.5},{"$f":"IF(ChillTempAct[[#This Row],[ChillAve]]<65,65-ChillTempAct[[#This Row],[ChillAve]],0)","v":0},{"$f":"INDEX(TempAdj[AdjustPct],MATCH(MONTH(ChillTempAct[[#This Row],[Date]]),TempAdj[Month],0))","v":0.67179999999999995},{"$f":"ChillTempAct[[#This Row],[ChillHDD]]*(1+ChillTempAct[[#This Row],[ChillAdj]])","v":0},{"$f":"SUMPRODUCT((RankNHDD[Month]=ChillTempAct[[#This Row],[Month]])*(RankNHDD[Rank]=ChillTempAct[[#This Row],[Rank]])*RankNHDD[KIRKNHDD])","v":0},{"$f":"YEAR(ChillTempAct[[#This Row],[Date]])","v":2022},{"$f":"MONTH(ChillTempAct[[#This Row],[Date]])","v":6},{"$f":"IF(ChillTempAct[[#This Row],[Month]]=J686,K686+1,1)","v":17}]
[44724,87,66,{"$f":"AVERAGE(ChillTempAct[[#This Row],[ChillHigh]:[ChillLow]])","v":76.5},{"$f":"IF(ChillTempAct[[#This Row],[ChillAve]]<65,65-ChillTempAct[[#This Row],[ChillAve]],0)","v":0},{"$f":"INDEX(TempAdj[AdjustPct],MATCH(MONTH(ChillTempAct[[#This Row],[Date]]),TempAdj[Month],0))","v":0.67179999999999995},{"$f":"ChillTempAct[[#This Row],[ChillHDD]]*(1+ChillTempAct[[#This Row],[ChillAdj]])","v":0},{"$f":"SUMPRODUCT((RankNHDD[Month]=ChillTempAct[[#This Row],[Month]])*(RankNHDD[Rank]=ChillTempAct[[#This Row],[Rank]])*RankNHDD[KIRKNHDD])","v":0},{"$f":"YEAR(ChillTempAct[[#This Row],[Date]])","v":2022},{"$f":"MONTH(ChillTempAct[[#This Row],[Date]])","v":6},{"$f":"IF(ChillTempAct[[#This Row],[Month]]=J687,K687+1,1)","v":18}]
[44731,87,67,{"$f":"AVERAGE(ChillTempAct[[#This Row],[ChillHigh]:[ChillLow]])","v":77},{"$f":"IF(ChillTempAct[[#This Row],[ChillAve]]<65,65-ChillTempAct[[#This Row],[ChillAve]],0)","v":0},{"$f":"INDEX(TempAdj[AdjustPct],MATCH(MONTH(ChillTempAct[[#This Row],[Date]]),TempAdj[Month],0))","v":0.67179999999999995},{"$f":"ChillTempAct[[#This Row],[ChillHDD]]*(1+ChillTempAct[[#This Row],[ChillAdj]])","v":0},{"$f":"SUMPRODUCT((RankNHDD[Month]=ChillTempAct[[#This Row],[Month]])*(RankNHDD[Rank]=ChillTempAct[[#This Row],[Rank]])*RankNHDD[KIRKNHDD])","v":0},{"$f":"YEAR(ChillTempAct[[#This Row],[Date]])","v":2022},{"$f":"MONTH(ChillTempAct[[#This Row],[Date]])","v":6},{"$f":"IF(ChillTempAct[[#This Row],[Month]]=J688,K688+1,1)","v":19}]
[44732,89,66,{"$f":"AVERAGE(ChillTempAct[[#This Row],[ChillHigh]:[ChillLow]])","v":77.5},{"$f":"IF(ChillTempAct[[#This Row],[ChillAve]]<65,65-ChillTempAct[[#This Row],[ChillAve]],0)","v":0},{"$f":"INDEX(TempAdj[AdjustPct],MATCH(MONTH(ChillTempAct[[#This Row],[Date]]),TempAdj[Month],0))","v":0.67179999999999995},{"$f":"ChillTempAct[[#This Row],[ChillHDD]]*(1+ChillTempAct[[#This Row],[ChillAdj]])","v":0},{"$f":"SUMPRODUCT((RankNHDD[Month]=ChillTempAct[[#This Row],[Month]])*(RankNHDD[Rank]=ChillTempAct[[#This Row],[Rank]])*RankNHDD[KIRKNHDD])","v":0},{"$f":"YEAR(ChillTempAct[[#This Row],[Date]])","v":2022},{"$f":"MONTH(ChillTempAct[[#This Row],[Date]])","v":6},{"$f":"IF(ChillTempAct[[#This Row],[Month]]=J689,K689+1,1)","v":20}]
[44742,90,65,{"$f":"AVERAGE(ChillTempAct[[#This Row],[ChillHigh]:[ChillLow]])","v":77.5},{"$f":"IF(ChillTempAct[[#This Row],[ChillAve]]<65,65-ChillTempAct[[#This Row],[ChillAve]],0)","v":0},{"$f":"INDEX(TempAdj[AdjustPct],MATCH(MONTH(ChillTempAct[[#This Row],[Date]]),TempAdj[Month],0))","v":0.67179999999999995},{"$f":"ChillTempAct[[#This Row],[ChillHDD]]*(1+ChillTempAct[[#This Row],[ChillAdj]])","v":0},{"$f":"SUMPRODUCT((RankNHDD[Month]=ChillTempAct[[#This Row],[Month]])*(RankNHDD[Rank]=ChillTempAct[[#This Row],[Rank]])*RankNHDD[KIRKNHDD])","v":0},{"$f":"YEAR(ChillTempAct[[#This Row],[Date]])","v":2022},{"$f":"MONTH(ChillTempAct[[#This Row],[Date]])","v":6},{"$f":"IF(ChillTempAct[[#This Row],[Month]]=J690,K690+1,1)","v":21}]
[44730,89,68,{"$f":"AVERAGE(ChillTempAct[[#This Row],[ChillHigh]:[ChillLow]])","v":78.5},{"$f":"IF(ChillTempAct[[#This Row],[ChillAve]]<65,65-ChillTempAct[[#This Row],[ChillAve]],0)","v":0},{"$f":"INDEX(TempAdj[AdjustPct],MATCH(MONTH(ChillTempAct[[#This Row],[Date]]),TempAdj[Month],0))","v":0.67179999999999995},{"$f":"ChillTempAct[[#This Row],[ChillHDD]]*(1+ChillTempAct[[#This Row],[ChillAdj]])","v":0},{"$f":"SUMPRODUCT((RankNHDD[Month]=ChillTempAct[[#This Row],[Month]])*(RankNHDD[Rank]=ChillTempAct[[#This Row],[Rank]])*RankNHDD[KIRKNHDD])","v":0},{"$f":"YEAR(ChillTempAct[[#This Row],[Date]])","v":2022},{"$f":"MONTH(ChillTempAct[[#This Row],[Date]])","v":6},{"$f":"IF(ChillTempAct[[#This Row],[Month]]=J691,K691+1,1)","v":22}]
[44733,91,66,{"$f":"AVERAGE(ChillTempAct[[#This Row],[ChillHigh]:[ChillLow]])","v":78.5},{"$f":"IF(ChillTempAct[[#This Row],[ChillAve]]<65,65-ChillTempAct[[#This Row],[ChillAve]],0)","v":0},{"$f":"INDEX(TempAdj[AdjustPct],MATCH(MONTH(ChillTempAct[[#This Row],[Date]]),TempAdj[Month],0))","v":0.67179999999999995},{"$f":"ChillTempAct[[#This Row],[ChillHDD]]*(1+ChillTempAct[[#This Row],[ChillAdj]])","v":0},{"$f":"SUMPRODUCT((RankNHDD[Month]=ChillTempAct[[#This Row],[Month]])*(RankNHDD[Rank]=ChillTempAct[[#This Row],[Rank]])*RankNHDD[KIRKNHDD])","v":0},{"$f":"YEAR(ChillTempAct[[#This Row],[Date]])","v":2022},{"$f":"MONTH(ChillTempAct[[#This Row],[Date]])","v":6},{"$f":"IF(ChillTempAct[[#This Row],[Month]]=J692,K692+1,1)","v":23}]
[44738,91,66,{"$f":"AVERAGE(ChillTempAct[[#This Row],[ChillHigh]:[ChillLow]])","v":78.5},{"$f":"IF(ChillTempAct[[#This Row],[ChillAve]]<65,65-ChillTempAct[[#This Row],[ChillAve]],0)","v":0},{"$f":"INDEX(TempAdj[AdjustPct],MATCH(MONTH(ChillTempAct[[#This Row],[Date]]),TempAdj[Month],0))","v":0.67179999999999995},{"$f":"ChillTempAct[[#This Row],[ChillHDD]]*(1+ChillTempAct[[#This Row],[ChillAdj]])","v":0},{"$f":"SUMPRODUCT((RankNHDD[Month]=ChillTempAct[[#This Row],[Month]])*(RankNHDD[Rank]=ChillTempAct[[#This Row],[Rank]])*RankNHDD[KIRKNHDD])","v":0},{"$f":"YEAR(ChillTempAct[[#This Row],[Date]])","v":2022},{"$f":"MONTH(ChillTempAct[[#This Row],[Date]])","v":6},{"$f":"IF(ChillTempAct[[#This Row],[Month]]=J693,K693+1,1)","v":24}]
[44725,88,73,{"$f":"AVERAGE(ChillTempAct[[#This Row],[ChillHigh]:[ChillLow]])","v":80.5},{"$f":"IF(ChillTempAct[[#This Row],[ChillAve]]<65,65-ChillTempAct[[#This Row],[ChillAve]],0)","v":0},{"$f":"INDEX(TempAdj[AdjustPct],MATCH(MONTH(ChillTempAct[[#This Row],[Date]]),TempAdj[Month],0))","v":0.67179999999999995},{"$f":"ChillTempAct[[#This Row],[ChillHDD]]*(1+ChillTempAct[[#This Row],[ChillAdj]])","v":0},{"$f":"SUMPRODUCT((RankNHDD[Month]=ChillTempAct[[#This Row],[Month]])*(RankNHDD[Rank]=ChillTempAct[[#This Row],[Rank]])*RankNHDD[KIRKNHDD])","v":0},{"$f":"YEAR(ChillTempAct[[#This Row],[Date]])","v":2022},{"$f":"MONTH(ChillTempAct[[#This Row],[Date]])","v":6},{"$f":"IF(ChillTempAct[[#This Row],[Month]]=J694,K694+1,1)","v":25}]
[44734,95,67,{"$f":"AVERAGE(ChillTempAct[[#This Row],[ChillHigh]:[ChillLow]])","v":81},{"$f":"IF(ChillTempAct[[#This Row],[ChillAve]]<65,65-ChillTempAct[[#This Row],[ChillAve]],0)","v":0},{"$f":"INDEX(TempAdj[AdjustPct],MATCH(MONTH(ChillTempAct[[#This Row],[Date]]),TempAdj[Month],0))","v":0.67179999999999995},{"$f":"ChillTempAct[[#This Row],[ChillHDD]]*(1+ChillTempAct[[#This Row],[ChillAdj]])","v":0},{"$f":"SUMPRODUCT((RankNHDD[Month]=ChillTempAct[[#This Row],[Month]])*(RankNHDD[Rank]=ChillTempAct[[#This Row],[Rank]])*RankNHDD[KIRKNHDD])","v":0},{"$f":"YEAR(ChillTempAct[[#This Row],[Date]])","v":2022},{"$f":"MONTH(ChillTempAct[[#This Row],[Date]])","v":6},{"$f":"IF(ChillTempAct[[#This Row],[Month]]=J695,K695+1,1)","v":26}]
[44728,91,72,{"$f":"AVERAGE(ChillTempAct[[#This Row],[ChillHigh]:[ChillLow]])","v":81.5},{"$f":"IF(ChillTempAct[[#This Row],[ChillAve]]<65,65-ChillTempAct[[#This Row],[ChillAve]],0)","v":0},{"$f":"INDEX(TempAdj[AdjustPct],MATCH(MONTH(ChillTempAct[[#This Row],[Date]]),TempAdj[Month],0))","v":0.67179999999999995},{"$f":"ChillTempAct[[#This Row],[ChillHDD]]*(1+ChillTempAct[[#This Row],[ChillAdj]])","v":0},{"$f":"SUMPRODUCT((RankNHDD[Month]=ChillTempAct[[#This Row],[Month]])*(RankNHDD[Rank]=ChillTempAct[[#This Row],[Rank]])*RankNHDD[KIRKNHDD])","v":0},{"$f":"YEAR(ChillTempAct[[#This Row],[Date]])","v":2022},{"$f":"MONTH(ChillTempAct[[#This Row],[Date]])","v":6},{"$f":"IF(ChillTempAct[[#This Row],[Month]]=J696,K696+1,1)","v":27}]
[44729,95,68,{"$f":"AVERAGE(ChillTempAct[[#This Row],[ChillHigh]:[ChillLow]])","v":81.5},{"$f":"IF(ChillTempAct[[#This Row],[ChillAve]]<65,65-ChillTempAct[[#This Row],[ChillAve]],0)","v":0},{"$f":"INDEX(TempAdj[AdjustPct],MATCH(MONTH(ChillTempAct[[#This Row],[Date]]),TempAdj[Month],0))","v":0.67179999999999995},{"$f":"ChillTempAct[[#This Row],[ChillHDD]]*(1+ChillTempAct[[#This Row],[ChillAdj]])","v":0},{"$f":"SUMPRODUCT((RankNHDD[Month]=ChillTempAct[[#This Row],[Month]])*(RankNHDD[Rank]=ChillTempAct[[#This Row],[Rank]])*RankNHDD[KIRKNHDD])","v":0},{"$f":"YEAR(ChillTempAct[[#This Row],[Date]])","v":2022},{"$f":"MONTH(ChillTempAct[[#This Row],[Date]])","v":6},{"$f":"IF(ChillTempAct[[#This Row],[Month]]=J697,K697+1,1)","v":28}]
[44727,93,75,{"$f":"AVERAGE(ChillTempAct[[#This Row],[ChillHigh]:[ChillLow]])","v":84},{"$f":"IF(ChillTempAct[[#This Row],[ChillAve]]<65,65-ChillTempAct[[#This Row],[ChillAve]],0)","v":0},{"$f":"INDEX(TempAdj[AdjustPct],MATCH(MONTH(ChillTempAct[[#This Row],[Date]]),TempAdj[Month],0))","v":0.67179999999999995},{"$f":"ChillTempAct[[#This Row],[ChillHDD]]*(1+ChillTempAct[[#This Row],[ChillAdj]])","v":0},{"$f":"SUMPRODUCT((RankNHDD[Month]=ChillTempAct[[#This Row],[Month]])*(RankNHDD[Rank]=ChillTempAct[[#This Row],[Rank]])*RankNHDD[KIRKNHDD])","v":0},{"$f":"YEAR(ChillTempAct[[#This Row],[Date]])","v":2022},{"$f":"MONTH(ChillTempAct[[#This Row],[Date]])","v":6},{"$f":"IF(ChillTempAct[[#This Row],[Month]]=J698,K698+1,1)","v":29}]
[44726,96,73,{"$f":"AVERAGE(ChillTempAct[[#This Row],[ChillHigh]:[ChillLow]])","v":84.5},{"$f":"IF(ChillTempAct[[#This Row],[ChillAve]]<65,65-ChillTempAct[[#This Row],[ChillAve]],0)","v":0},{"$f":"INDEX(TempAdj[AdjustPct],MATCH(MONTH(ChillTempAct[[#This Row],[Date]]),TempAdj[Month],0))","v":0.67179999999999995},{"$f":"ChillTempAct[[#This Row],[ChillHDD]]*(1+ChillTempAct[[#This Row],[ChillAdj]])","v":0},{"$f":"SUMPRODUCT((RankNHDD[Month]=ChillTempAct[[#This Row],[Month]])*(RankNHDD[Rank]=ChillTempAct[[#This Row],[Rank]])*RankNHDD[KIRKNHDD])","v":0},{"$f":"YEAR(ChillTempAct[[#This Row],[Date]])","v":2022},{"$f":"MONTH(ChillTempAct[[#This Row],[Date]])","v":6},{"$f":"IF(ChillTempAct[[#This Row],[Month]]=J699,K699+1,1)","v":30}]
[44768,71,63,{"$f":"AVERAGE(ChillTempAct[[#This Row],[ChillHigh]:[ChillLow]])","v":67},{"$f":"IF(ChillTempAct[[#This Row],[ChillAve]]<65,65-ChillTempAct[[#This Row],[ChillAve]],0)","v":0},{"$f":"INDEX(TempAdj[AdjustPct],MATCH(MONTH(ChillTempAct[[#This Row],[Date]]),TempAdj[Month],0))","v":0.74939999999999996},{"$f":"ChillTempAct[[#This Row],[ChillHDD]]*(1+ChillTempAct[[#This Row],[ChillAdj]])","v":0},{"$f":"SUMPRODUCT((RankNHDD[Month]=ChillTempAct[[#This Row],[Month]])*(RankNHDD[Rank]=ChillTempAct[[#This Row],[Rank]])*RankNHDD[KIRKNHDD])","v":1.9386200716845867},{"$f":"YEAR(ChillTempAct[[#This Row],[Date]])","v":2022},{"$f":"MONTH(ChillTempAct[[#This Row],[Date]])","v":7},{"$f":"IF(ChillTempAct[[#This Row],[Month]]=J700,K700+1,1)","v":1}]
[44769,74,64,{"$f":"AVERAGE(ChillTempAct[[#This Row],[ChillHigh]:[ChillLow]])","v":69},{"$f":"IF(ChillTempAct[[#This Row],[ChillAve]]<65,65-ChillTempAct[[#This Row],[ChillAve]],0)","v":0},{"$f":"INDEX(TempAdj[AdjustPct],MATCH(MONTH(ChillTempAct[[#This Row],[Date]]),TempAdj[Month],0))","v":0.74939999999999996},{"$f":"ChillTempAct[[#This Row],[ChillHDD]]*(1+ChillTempAct[[#This Row],[ChillAdj]])","v":0},{"$f":"SUMPRODUCT((RankNHDD[Month]=ChillTempAct[[#This Row],[Month]])*(RankNHDD[Rank]=ChillTempAct[[#This Row],[Rank]])*RankNHDD[KIRKNHDD])","v":0},{"$f":"YEAR(ChillTempAct[[#This Row],[Date]])","v":2022},{"$f":"MONTH(ChillTempAct[[#This Row],[Date]])","v":7},{"$f":"IF(ChillTempAct[[#This Row],[Month]]=J701,K701+1,1)","v":2}]
[44772,80,59,{"$f":"AVERAGE(ChillTempAct[[#This Row],[ChillHigh]:[ChillLow]])","v":69.5},{"$f":"IF(ChillTempAct[[#This Row],[ChillAve]]<65,65-ChillTempAct[[#This Row],[ChillAve]],0)","v":0},{"$f":"INDEX(TempAdj[AdjustPct],MATCH(MONTH(ChillTempAct[[#This Row],[Date]]),TempAdj[Month],0))","v":0.74939999999999996},{"$f":"ChillTempAct[[#This Row],[ChillHDD]]*(1+ChillTempAct[[#This Row],[ChillAdj]])","v":0},{"$f":"SUMPRODUCT((RankNHDD[Month]=ChillTempAct[[#This Row],[Month]])*(RankNHDD[Rank]=ChillTempAct[[#This Row],[Rank]])*RankNHDD[KIRKNHDD])","v":0},{"$f":"YEAR(ChillTempAct[[#This Row],[Date]])","v":2022},{"$f":"MONTH(ChillTempAct[[#This Row],[Date]])","v":7},{"$f":"IF(ChillTempAct[[#This Row],[Month]]=J702,K702+1,1)","v":3}]
[44771,81,59,{"$f":"AVERAGE(ChillTempAct[[#This Row],[ChillHigh]:[ChillLow]])","v":70},{"$f":"IF(ChillTempAct[[#This Row],[ChillAve]]<65,65-ChillTempAct[[#This Row],[ChillAve]],0)","v":0},{"$f":"INDEX(TempAdj[AdjustPct],MATCH(MONTH(ChillTempAct[[#This Row],[Date]]),TempAdj[Month],0))","v":0.74939999999999996},{"$f":"ChillTempAct[[#This Row],[ChillHDD]]*(1+ChillTempAct[[#This Row],[ChillAdj]])","v":0},{"$f":"SUMPRODUCT((RankNHDD[Month]=ChillTempAct[[#This Row],[Month]])*(RankNHDD[Rank]=ChillTempAct[[#This Row],[Rank]])*RankNHDD[KIRKNHDD])","v":0},{"$f":"YEAR(ChillTempAct[[#This Row],[Date]])","v":2022},{"$f":"MONTH(ChillTempAct[[#This Row],[Date]])","v":7},{"$f":"IF(ChillTempAct[[#This Row],[Month]]=J703,K703+1,1)","v":4}]
[44773,82,60,{"$f":"AVERAGE(ChillTempAct[[#This Row],[ChillHigh]:[ChillLow]])","v":71},{"$f":"IF(ChillTempAct[[#This Row],[ChillAve]]<65,65-ChillTempAct[[#This Row],[ChillAve]],0)","v":0},{"$f":"INDEX(TempAdj[AdjustPct],MATCH(MONTH(ChillTempAct[[#This Row],[Date]]),TempAdj[Month],0))","v":0.74939999999999996},{"$f":"ChillTempAct[[#This Row],[ChillHDD]]*(1+ChillTempAct[[#This Row],[ChillAdj]])","v":0},{"$f":"SUMPRODUCT((RankNHDD[Month]=ChillTempAct[[#This Row],[Month]])*(RankNHDD[Rank]=ChillTempAct[[#This Row],[Rank]])*RankNHDD[KIRKNHDD])","v":0},{"$f":"YEAR(ChillTempAct[[#This Row],[Date]])","v":2022},{"$f":"MONTH(ChillTempAct[[#This Row],[Date]])","v":7},{"$f":"IF(ChillTempAct[[#This Row],[Month]]=J704,K704+1,1)","v":5}]
[44745,78,66,{"$f":"AVERAGE(ChillTempAct[[#This Row],[ChillHigh]:[ChillLow]])","v":72},{"$f":"IF(ChillTempAct[[#This Row],[ChillAve]]<65,65-ChillTempAct[[#This Row],[ChillAve]],0)","v":0},{"$f":"INDEX(TempAdj[AdjustPct],MATCH(MONTH(ChillTempAct[[#This Row],[Date]]),TempAdj[Month],0))","v":0.74939999999999996},{"$f":"ChillTempAct[[#This Row],[ChillHDD]]*(1+ChillTempAct[[#This Row],[ChillAdj]])","v":0},{"$f":"SUMPRODUCT((RankNHDD[Month]=ChillTempAct[[#This Row],[Month]])*(RankNHDD[Rank]=ChillTempAct[[#This Row],[Rank]])*RankNHDD[KIRKNHDD])","v":0},{"$f":"YEAR(ChillTempAct[[#This Row],[Date]])","v":2022},{"$f":"MONTH(ChillTempAct[[#This Row],[Date]])","v":7},{"$f":"IF(ChillTempAct[[#This Row],[Month]]=J705,K705+1,1)","v":6}]
[44744,85,64,{"$f":"AVERAGE(ChillTempAct[[#This Row],[ChillHigh]:[ChillLow]])","v":74.5},{"$f":"IF(ChillTempAct[[#This Row],[ChillAve]]<65,65-ChillTempAct[[#This Row],[ChillAve]],0)","v":0},{"$f":"INDEX(TempAdj[AdjustPct],MATCH(MONTH(ChillTempAct[[#This Row],[Date]]),TempAdj[Month],0))","v":0.74939999999999996},{"$f":"ChillTempAct[[#This Row],[ChillHDD]]*(1+ChillTempAct[[#This Row],[ChillAdj]])","v":0},{"$f":"SUMPRODUCT((RankNHDD[Month]=ChillTempAct[[#This Row],[Month]])*(RankNHDD[Rank]=ChillTempAct[[#This Row],[Rank]])*RankNHDD[KIRKNHDD])","v":0},{"$f":"YEAR(ChillTempAct[[#This Row],[Date]])","v":2022},{"$f":"MONTH(ChillTempAct[[#This Row],[Date]])","v":7},{"$f":"IF(ChillTempAct[[#This Row],[Month]]=J706,K706+1,1)","v":7}]
[44755,85,64,{"$f":"AVERAGE(ChillTempAct[[#This Row],[ChillHigh]:[ChillLow]])","v":74.5},{"$f":"IF(ChillTempAct[[#This Row],[ChillAve]]<65,65-ChillTempAct[[#This Row],[ChillAve]],0)","v":0},{"$f":"INDEX(TempAdj[AdjustPct],MATCH(MONTH(ChillTempAct[[#This Row],[Date]]),TempAdj[Month],0))","v":0.74939999999999996},{"$f":"ChillTempAct[[#This Row],[ChillHDD]]*(1+ChillTempAct[[#This Row],[ChillAdj]])","v":0},{"$f":"SUMPRODUCT((RankNHDD[Month]=ChillTempAct[[#This Row],[Month]])*(RankNHDD[Rank]=ChillTempAct[[#This Row],[Rank]])*RankNHDD[KIRKNHDD])","v":0},{"$f":"YEAR(ChillTempAct[[#This Row],[Date]])","v":2022},{"$f":"MONTH(ChillTempAct[[#This Row],[Date]])","v":7},{"$f":"IF(ChillTempAct[[#This Row],[Month]]=J707,K707+1,1)","v":8}]
[44761,88,61,{"$f":"AVERAGE(ChillTempAct[[#This Row],[ChillHigh]:[ChillLow]])","v":74.5},{"$f":"IF(ChillTempAct[[#This Row],[ChillAve]]<65,65-ChillTempAct[[#This Row],[ChillAve]],0)","v":0},{"$f":"INDEX(TempAdj[AdjustPct],MATCH(MONTH(ChillTempAct[[#This Row],[Date]]),TempAdj[Month],0))","v":0.74939999999999996},{"$f":"ChillTempAct[[#This Row],[ChillHDD]]*(1+ChillTempAct[[#This Row],[ChillAdj]])","v":0},{"$f":"SUMPRODUCT((RankNHDD[Month]=ChillTempAct[[#This Row],[Month]])*(RankNHDD[Rank]=ChillTempAct[[#This Row],[Rank]])*RankNHDD[KIRKNHDD])","v":0},{"$f":"YEAR(ChillTempAct[[#This Row],[Date]])","v":2022},{"$f":"MONTH(ChillTempAct[[#This Row],[Date]])","v":7},{"$f":"IF(ChillTempAct[[#This Row],[Month]]=J708,K708+1,1)","v":9}]
[44759,80,70,{"$f":"AVERAGE(ChillTempAct[[#This Row],[ChillHigh]:[ChillLow]])","v":75},{"$f":"IF(ChillTempAct[[#This Row],[ChillAve]]<65,65-ChillTempAct[[#This Row],[ChillAve]],0)","v":0},{"$f":"INDEX(TempAdj[AdjustPct],MATCH(MONTH(ChillTempAct[[#This Row],[Date]]),TempAdj[Month],0))","v":0.74939999999999996},{"$f":"ChillTempAct[[#This Row],[ChillHDD]]*(1+ChillTempAct[[#This Row],[ChillAdj]])","v":0},{"$f":"SUMPRODUCT((RankNHDD[Month]=ChillTempAct[[#This Row],[Month]])*(RankNHDD[Rank]=ChillTempAct[[#This Row],[Rank]])*RankNHDD[KIRKNHDD])","v":0},{"$f":"YEAR(ChillTempAct[[#This Row],[Date]])","v":2022},{"$f":"MONTH(ChillTempAct[[#This Row],[Date]])","v":7},{"$f":"IF(ChillTempAct[[#This Row],[Month]]=J709,K709+1,1)","v":10}]
[44767,85,66,{"$f":"AVERAGE(ChillTempAct[[#This Row],[ChillHigh]:[ChillLow]])","v":75.5},{"$f":"IF(ChillTempAct[[#This Row],[ChillAve]]<65,65-ChillTempAct[[#This Row],[ChillAve]],0)","v":0},{"$f":"INDEX(TempAdj[AdjustPct],MATCH(MONTH(ChillTempAct[[#This Row],[Date]]),TempAdj[Month],0))","v":0.74939999999999996},{"$f":"ChillTempAct[[#This Row],[ChillHDD]]*(1+ChillTempAct[[#This Row],[ChillAdj]])","v":0},{"$f":"SUMPRODUCT((RankNHDD[Month]=ChillTempAct[[#This Row],[Month]])*(RankNHDD[Rank]=ChillTempAct[[#This Row],[Rank]])*RankNHDD[KIRKNHDD])","v":0},{"$f":"YEAR(ChillTempAct[[#This Row],[Date]])","v":2022},{"$f":"MONTH(ChillTempAct[[#This Row],[Date]])","v":7},{"$f":"IF(ChillTempAct[[#This Row],[Month]]=J710,K710+1,1)","v":11}]
[44760,84,68,{"$f":"AVERAGE(ChillTempAct[[#This Row],[ChillHigh]:[ChillLow]])","v":76},{"$f":"IF(ChillTempAct[[#This Row],[ChillAve]]<65,65-ChillTempAct[[#This Row],[ChillAve]],0)","v":0},{"$f":"INDEX(TempAdj[AdjustPct],MATCH(MONTH(ChillTempAct[[#This Row],[Date]]),TempAdj[Month],0))","v":0.74939999999999996},{"$f":"ChillTempAct[[#This Row],[ChillHDD]]*(1+ChillTempAct[[#This Row],[ChillAdj]])","v":0},{"$f":"SUMPRODUCT((RankNHDD[Month]=ChillTempAct[[#This Row],[Month]])*(RankNHDD[Rank]=ChillTempAct[[#This Row],[Rank]])*RankNHDD[KIRKNHDD])","v":0},{"$f":"YEAR(ChillTempAct[[#This Row],[Date]])","v":2022},{"$f":"MONTH(ChillTempAct[[#This Row],[Date]])","v":7},{"$f":"IF(ChillTempAct[[#This Row],[Month]]=J711,K711+1,1)","v":12}]
[44746,86,67,{"$f":"AVERAGE(ChillTempAct[[#This Row],[ChillHigh]:[ChillLow]])","v":76.5},{"$f":"IF(ChillTempAct[[#This Row],[ChillAve]]<65,65-ChillTempAct[[#This Row],[ChillAve]],0)","v":0},{"$f":"INDEX(TempAdj[AdjustPct],MATCH(MONTH(ChillTempAct[[#This Row],[Date]]),TempAdj[Month],0))","v":0.74939999999999996},{"$f":"ChillTempAct[[#This Row],[ChillHDD]]*(1+ChillTempAct[[#This Row],[ChillAdj]])","v":0},{"$f":"SUMPRODUCT((RankNHDD[Month]=ChillTempAct[[#This Row],[Month]])*(RankNHDD[Rank]=ChillTempAct[[#This Row],[Rank]])*RankNHDD[KIRKNHDD])","v":0},{"$f":"YEAR(ChillTempAct[[#This Row],[Date]])","v":2022},{"$f":"MONTH(ChillTempAct[[#This Row],[Date]])","v":7},{"$f":"IF(ChillTempAct[[#This Row],[Month]]=J712,K712+1,1)","v":13}]
[44752,85,68,{"$f":"AVERAGE(ChillTempAct[[#This Row],[ChillHigh]:[ChillLow]])","v":76.5},{"$f":"IF(ChillTempAct[[#This Row],[ChillAve]]<65,65-ChillTempAct[[#This Row],[ChillAve]],0)","v":0},{"$f":"INDEX(TempAdj[AdjustPct],MATCH(MONTH(ChillTempAct[[#This Row],[Date]]),TempAdj[Month],0))","v":0.74939999999999996},{"$f":"ChillTempAct[[#This Row],[ChillHDD]]*(1+ChillTempAct[[#This Row],[ChillAdj]])","v":0},{"$f":"SUMPRODUCT((RankNHDD[Month]=ChillTempAct[[#This Row],[Month]])*(RankNHDD[Rank]=ChillTempAct[[#This Row],[Rank]])*RankNHDD[KIRKNHDD])","v":0},{"$f":"YEAR(ChillTempAct[[#This Row],[Date]])","v":2022},{"$f":"MONTH(ChillTempAct[[#This Row],[Date]])","v":7},{"$f":"IF(ChillTempAct[[#This Row],[Month]]=J713,K713+1,1)","v":14}]
[44749,85,69,{"$f":"AVERAGE(ChillTempAct[[#This Row],[ChillHigh]:[ChillLow]])","v":77},{"$f":"IF(ChillTempAct[[#This Row],[ChillAve]]<65,65-ChillTempAct[[#This Row],[ChillAve]],0)","v":0},{"$f":"INDEX(TempAdj[AdjustPct],MATCH(MONTH(ChillTempAct[[#This Row],[Date]]),TempAdj[Month],0))","v":0.74939999999999996},{"$f":"ChillTempAct[[#This Row],[ChillHDD]]*(1+ChillTempAct[[#This Row],[ChillAdj]])","v":0},{"$f":"SUMPRODUCT((RankNHDD[Month]=ChillTempAct[[#This Row],[Month]])*(RankNHDD[Rank]=ChillTempAct[[#This Row],[Rank]])*RankNHDD[KIRKNHDD])","v":0},{"$f":"YEAR(ChillTempAct[[#This Row],[Date]])","v":2022},{"$f":"MONTH(ChillTempAct[[#This Row],[Date]])","v":7},{"$f":"IF(ChillTempAct[[#This Row],[Month]]=J714,K714+1,1)","v":15}]
[44756,89,65,{"$f":"AVERAGE(ChillTempAct[[#This Row],[ChillHigh]:[ChillLow]])","v":77},{"$f":"IF(ChillTempAct[[#This Row],[ChillAve]]<65,65-ChillTempAct[[#This Row],[ChillAve]],0)","v":0},{"$f":"INDEX(TempAdj[AdjustPct],MATCH(MONTH(ChillTempAct[[#This Row],[Date]]),TempAdj[Month],0))","v":0.74939999999999996},{"$f":"ChillTempAct[[#This Row],[ChillHDD]]*(1+ChillTempAct[[#This Row],[ChillAdj]])","v":0},{"$f":"SUMPRODUCT((RankNHDD[Month]=ChillTempAct[[#This Row],[Month]])*(RankNHDD[Rank]=ChillTempAct[[#This Row],[Rank]])*RankNHDD[KIRKNHDD])","v":0},{"$f":"YEAR(ChillTempAct[[#This Row],[Date]])","v":2022},{"$f":"MONTH(ChillTempAct[[#This Row],[Date]])","v":7},{"$f":"IF(ChillTempAct[[#This Row],[Month]]=J715,K715+1,1)","v":16}]
[44750,86,69,{"$f":"AVERAGE(ChillTempAct[[#This Row],[ChillHigh]:[ChillLow]])","v":77.5},{"$f":"IF(ChillTempAct[[#This Row],[ChillAve]]<65,65-ChillTempAct[[#This Row],[ChillAve]],0)","v":0},{"$f":"INDEX(TempAdj[AdjustPct],MATCH(MONTH(ChillTempAct[[#This Row],[Date]]),TempAdj[Month],0))","v":0.74939999999999996},{"$f":"ChillTempAct[[#This Row],[ChillHDD]]*(1+ChillTempAct[[#This Row],[ChillAdj]])","v":0},{"$f":"SUMPRODUCT((RankNHDD[Month]=ChillTempAct[[#This Row],[Month]])*(RankNHDD[Rank]=ChillTempAct[[#This Row],[Rank]])*RankNHDD[KIRKNHDD])","v":0},{"$f":"YEAR(ChillTempAct[[#This Row],[Date]])","v":2022},{"$f":"MONTH(ChillTempAct[[#This Row],[Date]])","v":7},{"$f":"IF(ChillTempAct[[#This Row],[Month]]=J716,K716+1,1)","v":17}]
[44754,90,65,{"$f":"AVERAGE(ChillTempAct[[#This Row],[ChillHigh]:[ChillLow]])","v":77.5},{"$f":"IF(ChillTempAct[[#This Row],[ChillAve]]<65,65-ChillTempAct[[#This Row],[ChillAve]],0)","v":0},{"$f":"INDEX(TempAdj[AdjustPct],MATCH(MONTH(ChillTempAct[[#This Row],[Date]]),TempAdj[Month],0))","v":0.74939999999999996},{"$f":"ChillTempAct[[#This Row],[ChillHDD]]*(1+ChillTempAct[[#This Row],[ChillAdj]])","v":0},{"$f":"SUMPRODUCT((RankNHDD[Month]=ChillTempAct[[#This Row],[Month]])*(RankNHDD[Rank]=ChillTempAct[[#This Row],[Rank]])*RankNHDD[KIRKNHDD])","v":0},{"$f":"YEAR(ChillTempAct[[#This Row],[Date]])","v":2022},{"$f":"MONTH(ChillTempAct[[#This Row],[Date]])","v":7},{"$f":"IF(ChillTempAct[[#This Row],[Month]]=J717,K717+1,1)","v":18}]
[44763,89,66,{"$f":"AVERAGE(ChillTempAct[[#This Row],[ChillHigh]:[ChillLow]])","v":77.5},{"$f":"IF(ChillTempAct[[#This Row],[ChillAve]]<65,65-ChillTempAct[[#This Row],[ChillAve]],0)","v":0},{"$f":"INDEX(TempAdj[AdjustPct],MATCH(MONTH(ChillTempAct[[#This Row],[Date]]),TempAdj[Month],0))","v":0.74939999999999996},{"$f":"ChillTempAct[[#This Row],[ChillHDD]]*(1+ChillTempAct[[#This Row],[ChillAdj]])","v":0},{"$f":"SUMPRODUCT((RankNHDD[Month]=ChillTempAct[[#This Row],[Month]])*(RankNHDD[Rank]=ChillTempAct[[#This Row],[Rank]])*RankNHDD[KIRKNHDD])","v":0},{"$f":"YEAR(ChillTempAct[[#This Row],[Date]])","v":2022},{"$f":"MONTH(ChillTempAct[[#This Row],[Date]])","v":7},{"$f":"IF(ChillTempAct[[#This Row],[Month]]=J718,K718+1,1)","v":19}]
[44770,86,70,{"$f":"AVERAGE(ChillTempAct[[#This Row],[ChillHigh]:[ChillLow]])","v":78},{"$f":"IF(ChillTempAct[[#This Row],[ChillAve]]<65,65-ChillTempAct[[#This Row],[ChillAve]],0)","v":0},{"$f":"INDEX(TempAdj[AdjustPct],MATCH(MONTH(ChillTempAct[[#This Row],[Date]]),TempAdj[Month],0))","v":0.74939999999999996},{"$f":"ChillTempAct[[#This Row],[ChillHDD]]*(1+ChillTempAct[[#This Row],[ChillAdj]])","v":0},{"$f":"SUMPRODUCT((RankNHDD[Month]=ChillTempAct[[#This Row],[Month]])*(RankNHDD[Rank]=ChillTempAct[[#This Row],[Rank]])*RankNHDD[KIRKNHDD])","v":0},{"$f":"YEAR(ChillTempAct[[#This Row],[Date]])","v":2022},{"$f":"MONTH(ChillTempAct[[#This Row],[Date]])","v":7},{"$f":"IF(ChillTempAct[[#This Row],[Month]]=J719,K719+1,1)","v":20}]
[44743,89,68,{"$f":"AVERAGE(ChillTempAct[[#This Row],[ChillHigh]:[ChillLow]])","v":78.5},{"$f":"IF(ChillTempAct[[#This Row],[ChillAve]]<65,65-ChillTempAct[[#This Row],[ChillAve]],0)","v":0},{"$f":"INDEX(TempAdj[AdjustPct],MATCH(MONTH(ChillTempAct[[#This Row],[Date]]),TempAdj[Month],0))","v":0.74939999999999996},{"$f":"ChillTempAct[[#This Row],[ChillHDD]]*(1+ChillTempAct[[#This Row],[ChillAdj]])","v":0},{"$f":"SUMPRODUCT((RankNHDD[Month]=ChillTempAct[[#This Row],[Month]])*(RankNHDD[Rank]=ChillTempAct[[#This Row],[Rank]])*RankNHDD[KIRKNHDD])","v":0},{"$f":"YEAR(ChillTempAct[[#This Row],[Date]])","v":2022},{"$f":"MONTH(ChillTempAct[[#This Row],[Date]])","v":7},{"$f":"IF(ChillTempAct[[#This Row],[Month]]=J720,K720+1,1)","v":21}]
[44751,87,70,{"$f":"AVERAGE(ChillTempAct[[#This Row],[ChillHigh]:[ChillLow]])","v":78.5},{"$f":"IF(ChillTempAct[[#This Row],[ChillAve]]<65,65-ChillTempAct[[#This Row],[ChillAve]],0)","v":0},{"$f":"INDEX(TempAdj[AdjustPct],MATCH(MONTH(ChillTempAct[[#This Row],[Date]]),TempAdj[Month],0))","v":0.74939999999999996},{"$f":"ChillTempAct[[#This Row],[ChillHDD]]*(1+ChillTempAct[[#This Row],[ChillAdj]])","v":0},{"$f":"SUMPRODUCT((RankNHDD[Month]=ChillTempAct[[#This Row],[Month]])*(RankNHDD[Rank]=ChillTempAct[[#This Row],[Rank]])*RankNHDD[KIRKNHDD])","v":0},{"$f":"YEAR(ChillTempAct[[#This Row],[Date]])","v":2022},{"$f":"MONTH(ChillTempAct[[#This Row],[Date]])","v":7},{"$f":"IF(ChillTempAct[[#This Row],[Month]]=J721,K721+1,1)","v":22}]
[44753,87,70,{"$f":"AVERAGE(ChillTempAct[[#This Row],[ChillHigh]:[ChillLow]])","v":78.5},{"$f":"IF(ChillTempAct[[#This Row],[ChillAve]]<65,65-ChillTempAct[[#This Row],[ChillAve]],0)","v":0},{"$f":"INDEX(TempAdj[AdjustPct],MATCH(MONTH(ChillTempAct[[#This Row],[Date]]),TempAdj[Month],0))","v":0.74939999999999996},{"$f":"ChillTempAct[[#This Row],[ChillHDD]]*(1+ChillTempAct[[#This Row],[ChillAdj]])","v":0},{"$f":"SUMPRODUCT((RankNHDD[Month]=ChillTempAct[[#This Row],[Month]])*(RankNHDD[Rank]=ChillTempAct[[#This Row],[Rank]])*RankNHDD[KIRKNHDD])","v":0},{"$f":"YEAR(ChillTempAct[[#This Row],[Date]])","v":2022},{"$f":"MONTH(ChillTempAct[[#This Row],[Date]])","v":7},{"$f":"IF(ChillTempAct[[#This Row],[Month]]=J722,K722+1,1)","v":23}]
[44757,92,67,{"$f":"AVERAGE(ChillTempAct[[#This Row],[ChillHigh]:[ChillLow]])","v":79.5},{"$f":"IF(ChillTempAct[[#This Row],[ChillAve]]<65,65-ChillTempAct[[#This Row],[ChillAve]],0)","v":0},{"$f":"INDEX(TempAdj[AdjustPct],MATCH(MONTH(ChillTempAct[[#This Row],[Date]]),TempAdj[Month],0))","v":0.74939999999999996},{"$f":"ChillTempAct[[#This Row],[ChillHDD]]*(1+ChillTempAct[[#This Row],[ChillAdj]])","v":0},{"$f":"SUMPRODUCT((RankNHDD[Month]=ChillTempAct[[#This Row],[Month]])*(RankNHDD[Rank]=ChillTempAct[[#This Row],[Rank]])*RankNHDD[KIRKNHDD])","v":0},{"$f":"YEAR(ChillTempAct[[#This Row],[Date]])","v":2022},{"$f":"MONTH(ChillTempAct[[#This Row],[Date]])","v":7},{"$f":"IF(ChillTempAct[[#This Row],[Month]]=J723,K723+1,1)","v":24}]
[44762,92,67,{"$f":"AVERAGE(ChillTempAct[[#This Row],[ChillHigh]:[ChillLow]])","v":79.5},{"$f":"IF(ChillTempAct[[#This Row],[ChillAve]]<65,65-ChillTempAct[[#This Row],[ChillAve]],0)","v":0},{"$f":"INDEX(TempAdj[AdjustPct],MATCH(MONTH(ChillTempAct[[#This Row],[Date]]),TempAdj[Month],0))","v":0.74939999999999996},{"$f":"ChillTempAct[[#This Row],[ChillHDD]]*(1+ChillTempAct[[#This Row],[ChillAdj]])","v":0},{"$f":"SUMPRODUCT((RankNHDD[Month]=ChillTempAct[[#This Row],[Month]])*(RankNHDD[Rank]=ChillTempAct[[#This Row],[Rank]])*RankNHDD[KIRKNHDD])","v":0},{"$f":"YEAR(ChillTempAct[[#This Row],[Date]])","v":2022},{"$f":"MONTH(ChillTempAct[[#This Row],[Date]])","v":7},{"$f":"IF(ChillTempAct[[#This Row],[Month]]=J724,K724+1,1)","v":25}]
[44764,93,68,{"$f":"AVERAGE(ChillTempAct[[#This Row],[ChillHigh]:[ChillLow]])","v":80.5},{"$f":"IF(ChillTempAct[[#This Row],[ChillAve]]<65,65-ChillTempAct[[#This Row],[ChillAve]],0)","v":0},{"$f":"INDEX(TempAdj[AdjustPct],MATCH(MONTH(ChillTempAct[[#This Row],[Date]]),TempAdj[Month],0))","v":0.74939999999999996},{"$f":"ChillTempAct[[#This Row],[ChillHDD]]*(1+ChillTempAct[[#This Row],[ChillAdj]])","v":0},{"$f":"SUMPRODUCT((RankNHDD[Month]=ChillTempAct[[#This Row],[Month]])*(RankNHDD[Rank]=ChillTempAct[[#This Row],[Rank]])*RankNHDD[KIRKNHDD])","v":0},{"$f":"YEAR(ChillTempAct[[#This Row],[Date]])","v":2022},{"$f":"MONTH(ChillTempAct[[#This Row],[Date]])","v":7},{"$f":"IF(ChillTempAct[[#This Row],[Month]]=J725,K725+1,1)","v":26}]
[44765,94,72,{"$f":"AVERAGE(ChillTempAct[[#This Row],[ChillHigh]:[ChillLow]])","v":83},{"$f":"IF(ChillTempAct[[#This Row],[ChillAve]]<65,65-ChillTempAct[[#This Row],[ChillAve]],0)","v":0},{"$f":"INDEX(TempAdj[AdjustPct],MATCH(MONTH(ChillTempAct[[#This Row],[Date]]),TempAdj[Month],0))","v":0.74939999999999996},{"$f":"ChillTempAct[[#This Row],[ChillHDD]]*(1+ChillTempAct[[#This Row],[ChillAdj]])","v":0},{"$f":"SUMPRODUCT((RankNHDD[Month]=ChillTempAct[[#This Row],[Month]])*(RankNHDD[Rank]=ChillTempAct[[#This Row],[Rank]])*RankNHDD[KIRKNHDD])","v":0},{"$f":"YEAR(ChillTempAct[[#This Row],[Date]])","v":2022},{"$f":"MONTH(ChillTempAct[[#This Row],[Date]])","v":7},{"$f":"IF(ChillTempAct[[#This Row],[Month]]=J726,K726+1,1)","v":27}]
[44758,97,71,{"$f":"AVERAGE(ChillTempAct[[#This Row],[ChillHigh]:[ChillLow]])","v":84},{"$f":"IF(ChillTempAct[[#This Row],[ChillAve]]<65,65-ChillTempAct[[#This Row],[ChillAve]],0)","v":0},{"$f":"INDEX(TempAdj[AdjustPct],MATCH(MONTH(ChillTempAct[[#This Row],[Date]]),TempAdj[Month],0))","v":0.74939999999999996},{"$f":"ChillTempAct[[#This Row],[ChillHDD]]*(1+ChillTempAct[[#This Row],[ChillAdj]])","v":0},{"$f":"SUMPRODUCT((RankNHDD[Month]=ChillTempAct[[#This Row],[Month]])*(RankNHDD[Rank]=ChillTempAct[[#This Row],[Rank]])*RankNHDD[KIRKNHDD])","v":0},{"$f":"YEAR(ChillTempAct[[#This Row],[Date]])","v":2022},{"$f":"MONTH(ChillTempAct[[#This Row],[Date]])","v":7},{"$f":"IF(ChillTempAct[[#This Row],[Month]]=J727,K727+1,1)","v":28}]
[44748,94,75,{"$f":"AVERAGE(ChillTempAct[[#This Row],[ChillHigh]:[ChillLow]])","v":84.5},{"$f":"IF(ChillTempAct[[#This Row],[ChillAve]]<65,65-ChillTempAct[[#This Row],[ChillAve]],0)","v":0},{"$f":"INDEX(TempAdj[AdjustPct],MATCH(MONTH(ChillTempAct[[#This Row],[Date]]),TempAdj[Month],0))","v":0.74939999999999996},{"$f":"ChillTempAct[[#This Row],[ChillHDD]]*(1+ChillTempAct[[#This Row],[ChillAdj]])","v":0},{"$f":"SUMPRODUCT((RankNHDD[Month]=ChillTempAct[[#This Row],[Month]])*(RankNHDD[Rank]=ChillTempAct[[#This Row],[Rank]])*RankNHDD[KIRKNHDD])","v":0},{"$f":"YEAR(ChillTempAct[[#This Row],[Date]])","v":2022},{"$f":"MONTH(ChillTempAct[[#This Row],[Date]])","v":7},{"$f":"IF(ChillTempAct[[#This Row],[Month]]=J728,K728+1,1)","v":29}]
[44747,95,76,{"$f":"AVERAGE(ChillTempAct[[#This Row],[ChillHigh]:[ChillLow]])","v":85.5},{"$f":"IF(ChillTempAct[[#This Row],[ChillAve]]<65,65-ChillTempAct[[#This Row],[ChillAve]],0)","v":0},{"$f":"INDEX(TempAdj[AdjustPct],MATCH(MONTH(ChillTempAct[[#This Row],[Date]]),TempAdj[Month],0))","v":0.74939999999999996},{"$f":"ChillTempAct[[#This Row],[ChillHDD]]*(1+ChillTempAct[[#This Row],[ChillAdj]])","v":0},{"$f":"SUMPRODUCT((RankNHDD[Month]=ChillTempAct[[#This Row],[Month]])*(RankNHDD[Rank]=ChillTempAct[[#This Row],[Rank]])*RankNHDD[KIRKNHDD])","v":0},{"$f":"YEAR(ChillTempAct[[#This Row],[Date]])","v":2022},{"$f":"MONTH(ChillTempAct[[#This Row],[Date]])","v":7},{"$f":"IF(ChillTempAct[[#This Row],[Month]]=J729,K729+1,1)","v":30}]
[44766,95,79,{"$f":"AVERAGE(ChillTempAct[[#This Row],[ChillHigh]:[ChillLow]])","v":87},{"$f":"IF(ChillTempAct[[#This Row],[ChillAve]]<65,65-ChillTempAct[[#This Row],[ChillAve]],0)","v":0},{"$f":"INDEX(TempAdj[AdjustPct],MATCH(MONTH(ChillTempAct[[#This Row],[Date]]),TempAdj[Month],0))","v":0.74939999999999996},{"$f":"ChillTempAct[[#This Row],[ChillHDD]]*(1+ChillTempAct[[#This Row],[ChillAdj]])","v":0},{"$f":"SUMPRODUCT((RankNHDD[Month]=ChillTempAct[[#This Row],[Month]])*(RankNHDD[Rank]=ChillTempAct[[#This Row],[Rank]])*RankNHDD[KIRKNHDD])","v":0},{"$f":"YEAR(ChillTempAct[[#This Row],[Date]])","v":2022},{"$f":"MONTH(ChillTempAct[[#This Row],[Date]])","v":7},{"$f":"IF(ChillTempAct[[#This Row],[Month]]=J730,K730+1,1)","v":31}]
[44790,76,61,{"$f":"AVERAGE(ChillTempAct[[#This Row],[ChillHigh]:[ChillLow]])","v":68.5},{"$f":"IF(ChillTempAct[[#This Row],[ChillAve]]<65,65-ChillTempAct[[#This Row],[ChillAve]],0)","v":0},{"$f":"INDEX(TempAdj[AdjustPct],MATCH(MONTH(ChillTempAct[[#This Row],[Date]]),TempAdj[Month],0))","v":1.0758000000000001},{"$f":"ChillTempAct[[#This Row],[ChillHDD]]*(1+ChillTempAct[[#This Row],[ChillAdj]])","v":0},{"$f":"SUMPRODUCT((RankNHDD[Month]=ChillTempAct[[#This Row],[Month]])*(RankNHDD[Rank]=ChillTempAct[[#This Row],[Rank]])*RankNHDD[KIRKNHDD])","v":4.868709677419349},{"$f":"YEAR(ChillTempAct[[#This Row],[Date]])","v":2022},{"$f":"MONTH(ChillTempAct[[#This Row],[Date]])","v":8},{"$f":"IF(ChillTempAct[[#This Row],[Month]]=J731,K731+1,1)","v":1}]
[44789,75,63,{"$f":"AVERAGE(ChillTempAct[[#This Row],[ChillHigh]:[ChillLow]])","v":69},{"$f":"IF(ChillTempAct[[#This Row],[ChillAve]]<65,65-ChillTempAct[[#This Row],[ChillAve]],0)","v":0},{"$f":"INDEX(TempAdj[AdjustPct],MATCH(MONTH(ChillTempAct[[#This Row],[Date]]),TempAdj[Month],0))","v":1.0758000000000001},{"$f":"ChillTempAct[[#This Row],[ChillHDD]]*(1+ChillTempAct[[#This Row],[ChillAdj]])","v":0},{"$f":"SUMPRODUCT((RankNHDD[Month]=ChillTempAct[[#This Row],[Month]])*(RankNHDD[Rank]=ChillTempAct[[#This Row],[Rank]])*RankNHDD[KIRKNHDD])","v":1.5306989247311804},{"$f":"YEAR(ChillTempAct[[#This Row],[Date]])","v":2022},{"$f":"MONTH(ChillTempAct[[#This Row],[Date]])","v":8},{"$f":"IF(ChillTempAct[[#This Row],[Month]]=J732,K732+1,1)","v":2}]
[44782,78,62,{"$f":"AVERAGE(ChillTempAct[[#This Row],[ChillHigh]:[ChillLow]])","v":70},{"$f":"IF(ChillTempAct[[#This Row],[ChillAve]]<65,65-ChillTempAct[[#This Row],[ChillAve]],0)","v":0},{"$f":"INDEX(TempAdj[AdjustPct],MATCH(MONTH(ChillTempAct[[#This Row],[Date]]),TempAdj[Month],0))","v":1.0758000000000001},{"$f":"ChillTempAct[[#This Row],[ChillHDD]]*(1+ChillTempAct[[#This Row],[ChillAdj]])","v":0},{"$f":"SUMPRODUCT((RankNHDD[Month]=ChillTempAct[[#This Row],[Month]])*(RankNHDD[Rank]=ChillTempAct[[#This Row],[Rank]])*RankNHDD[KIRKNHDD])","v":4.2473118279569157E-2},{"$f":"YEAR(ChillTempAct[[#This Row],[Date]])","v":2022},{"$f":"MONTH(ChillTempAct[[#This Row],[Date]])","v":8},{"$f":"IF(ChillTempAct[[#This Row],[Month]]=J733,K733+1,1)","v":3}]
[44783,82,59,{"$f":"AVERAGE(ChillTempAct[[#This Row],[ChillHigh]:[ChillLow]])","v":70.5},{"$f":"IF(ChillTempAct[[#This Row],[ChillAve]]<65,65-ChillTempAct[[#This Row],[ChillAve]],0)","v":0},{"$f":"INDEX(TempAdj[AdjustPct],MATCH(MONTH(ChillTempAct[[#This Row],[Date]]),TempAdj[Month],0))","v":1.0758000000000001},{"$f":"ChillTempAct[[#This Row],[ChillHDD]]*(1+ChillTempAct[[#This Row],[ChillAdj]])","v":0},{"$f":"SUMPRODUCT((RankNHDD[Month]=ChillTempAct[[#This Row],[Month]])*(RankNHDD[Rank]=ChillTempAct[[#This Row],[Rank]])*RankNHDD[KIRKNHDD])","v":0},{"$f":"YEAR(ChillTempAct[[#This Row],[Date]])","v":2022},{"$f":"MONTH(ChillTempAct[[#This Row],[Date]])","v":8},{"$f":"IF(ChillTempAct[[#This Row],[Month]]=J734,K734+1,1)","v":4}]
[44791,81,60,{"$f":"AVERAGE(ChillTempAct[[#This Row],[ChillHigh]:[ChillLow]])","v":70.5},{"$f":"IF(ChillTempAct[[#This Row],[ChillAve]]<65,65-ChillTempAct[[#This Row],[ChillAve]],0)","v":0},{"$f":"INDEX(TempAdj[AdjustPct],MATCH(MONTH(ChillTempAct[[#This Row],[Date]]),TempAdj[Month],0))","v":1.0758000000000001},{"$f":"ChillTempAct[[#This Row],[ChillHDD]]*(1+ChillTempAct[[#This Row],[ChillAdj]])","v":0},{"$f":"SUMPRODUCT((RankNHDD[Month]=ChillTempAct[[#This Row],[Month]])*(RankNHDD[Rank]=ChillTempAct[[#This Row],[Rank]])*RankNHDD[KIRKNHDD])","v":0},{"$f":"YEAR(ChillTempAct[[#This Row],[Date]])","v":2022},{"$f":"MONTH(ChillTempAct[[#This Row],[Date]])","v":8},{"$f":"IF(ChillTempAct[[#This Row],[Month]]=J735,K735+1,1)","v":5}]
[44796,82,59,{"$f":"AVERAGE(ChillTempAct[[#This Row],[ChillHigh]:[ChillLow]])","v":70.5},{"$f":"IF(ChillTempAct[[#This Row],[ChillAve]]<65,65-ChillTempAct[[#This Row],[ChillAve]],0)","v":0},{"$f":"INDEX(TempAdj[AdjustPct],MATCH(MONTH(ChillTempAct[[#This Row],[Date]]),TempAdj[Month],0))","v":1.0758000000000001},{"$f":"ChillTempAct[[#This Row],[ChillHDD]]*(1+ChillTempAct[[#This Row],[ChillAdj]])","v":0},{"$f":"SUMPRODUCT((RankNHDD[Month]=ChillTempAct[[#This Row],[Month]])*(RankNHDD[Rank]=ChillTempAct[[#This Row],[Rank]])*RankNHDD[KIRKNHDD])","v":0},{"$f":"YEAR(ChillTempAct[[#This Row],[Date]])","v":2022},{"$f":"MONTH(ChillTempAct[[#This Row],[Date]])","v":8},{"$f":"IF(ChillTempAct[[#This Row],[Month]]=J736,K736+1,1)","v":6}]
[44797,83,58,{"$f":"AVERAGE(ChillTempAct[[#This Row],[ChillHigh]:[ChillLow]])","v":70.5},{"$f":"IF(ChillTempAct[[#This Row],[ChillAve]]<65,65-ChillTempAct[[#This Row],[ChillAve]],0)","v":0},{"$f":"INDEX(TempAdj[AdjustPct],MATCH(MONTH(ChillTempAct[[#This Row],[Date]]),TempAdj[Month],0))","v":1.0758000000000001},{"$f":"ChillTempAct[[#This Row],[ChillHDD]]*(1+ChillTempAct[[#This Row],[ChillAdj]])","v":0},{"$f":"SUMPRODUCT((RankNHDD[Month]=ChillTempAct[[#This Row],[Month]])*(RankNHDD[Rank]=ChillTempAct[[#This Row],[Rank]])*RankNHDD[KIRKNHDD])","v":0},{"$f":"YEAR(ChillTempAct[[#This Row],[Date]])","v":2022},{"$f":"MONTH(ChillTempAct[[#This Row],[Date]])","v":8},{"$f":"IF(ChillTempAct[[#This Row],[Month]]=J737,K737+1,1)","v":7}]
[44794,81,61,{"$f":"AVERAGE(ChillTempAct[[#This Row],[ChillHigh]:[ChillLow]])","v":71},{"$f":"IF(ChillTempAct[[#This Row],[ChillAve]]<65,65-ChillTempAct[[#This Row],[ChillAve]],0)","v":0},{"$f":"INDEX(TempAdj[AdjustPct],MATCH(MONTH(ChillTempAct[[#This Row],[Date]]),TempAdj[Month],0))","v":1.0758000000000001},{"$f":"ChillTempAct[[#This Row],[ChillHDD]]*(1+ChillTempAct[[#This Row],[ChillAdj]])","v":0},{"$f":"SUMPRODUCT((RankNHDD[Month]=ChillTempAct[[#This Row],[Month]])*(RankNHDD[Rank]=ChillTempAct[[#This Row],[Rank]])*RankNHDD[KIRKNHDD])","v":0},{"$f":"YEAR(ChillTempAct[[#This Row],[Date]])","v":2022},{"$f":"MONTH(ChillTempAct[[#This Row],[Date]])","v":8},{"$f":"IF(ChillTempAct[[#This Row],[Month]]=J738,K738+1,1)","v":8}]
[44784,84,59,{"$f":"AVERAGE(ChillTempAct[[#This Row],[ChillHigh]:[ChillLow]])","v":71.5},{"$f":"IF(ChillTempAct[[#This Row],[ChillAve]]<65,65-ChillTempAct[[#This Row],[ChillAve]],0)","v":0},{"$f":"INDEX(TempAdj[AdjustPct],MATCH(MONTH(ChillTempAct[[#This Row],[Date]]),TempAdj[Month],0))","v":1.0758000000000001},{"$f":"ChillTempAct[[#This Row],[ChillHDD]]*(1+ChillTempAct[[#This Row],[ChillAdj]])","v":0},{"$f":"SUMPRODUCT((RankNHDD[Month]=ChillTempAct[[#This Row],[Month]])*(RankNHDD[Rank]=ChillTempAct[[#This Row],[Rank]])*RankNHDD[KIRKNHDD])","v":0},{"$f":"YEAR(ChillTempAct[[#This Row],[Date]])","v":2022},{"$f":"MONTH(ChillTempAct[[#This Row],[Date]])","v":8},{"$f":"IF(ChillTempAct[[#This Row],[Month]]=J739,K739+1,1)","v":9}]
[44792,83,60,{"$f":"AVERAGE(ChillTempAct[[#This Row],[ChillHigh]:[ChillLow]])","v":71.5},{"$f":"IF(ChillTempAct[[#This Row],[ChillAve]]<65,65-ChillTempAct[[#This Row],[ChillAve]],0)","v":0},{"$f":"INDEX(TempAdj[AdjustPct],MATCH(MONTH(ChillTempAct[[#This Row],[Date]]),TempAdj[Month],0))","v":1.0758000000000001},{"$f":"ChillTempAct[[#This Row],[ChillHDD]]*(1+ChillTempAct[[#This Row],[ChillAdj]])","v":0},{"$f":"SUMPRODUCT((RankNHDD[Month]=ChillTempAct[[#This Row],[Month]])*(RankNHDD[Rank]=ChillTempAct[[#This Row],[Rank]])*RankNHDD[KIRKNHDD])","v":0},{"$f":"YEAR(ChillTempAct[[#This Row],[Date]])","v":2022},{"$f":"MONTH(ChillTempAct[[#This Row],[Date]])","v":8},{"$f":"IF(ChillTempAct[[#This Row],[Month]]=J740,K740+1,1)","v":10}]
[44795,82,61,{"$f":"AVERAGE(ChillTempAct[[#This Row],[ChillHigh]:[ChillLow]])","v":71.5},{"$f":"IF(ChillTempAct[[#This Row],[ChillAve]]<65,65-ChillTempAct[[#This Row],[ChillAve]],0)","v":0},{"$f":"INDEX(TempAdj[AdjustPct],MATCH(MONTH(ChillTempAct[[#This Row],[Date]]),TempAdj[Month],0))","v":1.0758000000000001},{"$f":"ChillTempAct[[#This Row],[ChillHDD]]*(1+ChillTempAct[[#This Row],[ChillAdj]])","v":0},{"$f":"SUMPRODUCT((RankNHDD[Month]=ChillTempAct[[#This Row],[Month]])*(RankNHDD[Rank]=ChillTempAct[[#This Row],[Rank]])*RankNHDD[KIRKNHDD])","v":0},{"$f":"YEAR(ChillTempAct[[#This Row],[Date]])","v":2022},{"$f":"MONTH(ChillTempAct[[#This Row],[Date]])","v":8},{"$f":"IF(ChillTempAct[[#This Row],[Month]]=J741,K741+1,1)","v":11}]
[44793,82,65,{"$f":"AVERAGE(ChillTempAct[[#This Row],[ChillHigh]:[ChillLow]])","v":73.5},{"$f":"IF(ChillTempAct[[#This Row],[ChillAve]]<65,65-ChillTempAct[[#This Row],[ChillAve]],0)","v":0},{"$f":"INDEX(TempAdj[AdjustPct],MATCH(MONTH(ChillTempAct[[#This Row],[Date]]),TempAdj[Month],0))","v":1.0758000000000001},{"$f":"ChillTempAct[[#This Row],[ChillHDD]]*(1+ChillTempAct[[#This Row],[ChillAdj]])","v":0},{"$f":"SUMPRODUCT((RankNHDD[Month]=ChillTempAct[[#This Row],[Month]])*(RankNHDD[Rank]=ChillTempAct[[#This Row],[Rank]])*RankNHDD[KIRKNHDD])","v":0},{"$f":"YEAR(ChillTempAct[[#This Row],[Date]])","v":2022},{"$f":"MONTH(ChillTempAct[[#This Row],[Date]])","v":8},{"$f":"IF(ChillTempAct[[#This Row],[Month]]=J742,K742+1,1)","v":12}]
[44785,87,61,{"$f":"AVERAGE(ChillTempAct[[#This Row],[ChillHigh]:[ChillLow]])","v":74},{"$f":"IF(ChillTempAct[[#This Row],[ChillAve]]<65,65-ChillTempAct[[#This Row],[ChillAve]],0)","v":0},{"$f":"INDEX(TempAdj[AdjustPct],MATCH(MONTH(ChillTempAct[[#This Row],[Date]]),TempAdj[Month],0))","v":1.0758000000000001},{"$f":"ChillTempAct[[#This Row],[ChillHDD]]*(1+ChillTempAct[[#This Row],[ChillAdj]])","v":0},{"$f":"SUMPRODUCT((RankNHDD[Month]=ChillTempAct[[#This Row],[Month]])*(RankNHDD[Rank]=ChillTempAct[[#This Row],[Rank]])*RankNHDD[KIRKNHDD])","v":0},{"$f":"YEAR(ChillTempAct[[#This Row],[Date]])","v":2022},{"$f":"MONTH(ChillTempAct[[#This Row],[Date]])","v":8},{"$f":"IF(ChillTempAct[[#This Row],[Month]]=J743,K743+1,1)","v":13}]
[44798,87,62,{"$f":"AVERAGE(ChillTempAct[[#This Row],[ChillHigh]:[ChillLow]])","v":74.5},{"$f":"IF(ChillTempAct[[#This Row],[ChillAve]]<65,65-ChillTempAct[[#This Row],[ChillAve]],0)","v":0},{"$f":"INDEX(TempAdj[AdjustPct],MATCH(MONTH(ChillTempAct[[#This Row],[Date]]),TempAdj[Month],0))","v":1.0758000000000001},{"$f":"ChillTempAct[[#This Row],[ChillHDD]]*(1+ChillTempAct[[#This Row],[ChillAdj]])","v":0},{"$f":"SUMPRODUCT((RankNHDD[Month]=ChillTempAct[[#This Row],[Month]])*(RankNHDD[Rank]=ChillTempAct[[#This Row],[Rank]])*RankNHDD[KIRKNHDD])","v":0},{"$f":"YEAR(ChillTempAct[[#This Row],[Date]])","v":2022},{"$f":"MONTH(ChillTempAct[[#This Row],[Date]])","v":8},{"$f":"IF(ChillTempAct[[#This Row],[Month]]=J744,K744+1,1)","v":14}]
[44788,83,67,{"$f":"AVERAGE(ChillTempAct[[#This Row],[ChillHigh]:[ChillLow]])","v":75},{"$f":"IF(ChillTempAct[[#This Row],[ChillAve]]<65,65-ChillTempAct[[#This Row],[ChillAve]],0)","v":0},{"$f":"INDEX(TempAdj[AdjustPct],MATCH(MONTH(ChillTempAct[[#This Row],[Date]]),TempAdj[Month],0))","v":1.0758000000000001},{"$f":"ChillTempAct[[#This Row],[ChillHDD]]*(1+ChillTempAct[[#This Row],[ChillAdj]])","v":0},{"$f":"SUMPRODUCT((RankNHDD[Month]=ChillTempAct[[#This Row],[Month]])*(RankNHDD[Rank]=ChillTempAct[[#This Row],[Rank]])*RankNHDD[KIRKNHDD])","v":0},{"$f":"YEAR(ChillTempAct[[#This Row],[Date]])","v":2022},{"$f":"MONTH(ChillTempAct[[#This Row],[Date]])","v":8},{"$f":"IF(ChillTempAct[[#This Row],[Month]]=J745,K745+1,1)","v":15}]
[44800,85,65,{"$f":"AVERAGE(ChillTempAct[[#This Row],[ChillHigh]:[ChillLow]])","v":75},{"$f":"IF(ChillTempAct[[#This Row],[ChillAve]]<65,65-ChillTempAct[[#This Row],[ChillAve]],0)","v":0},{"$f":"INDEX(TempAdj[AdjustPct],MATCH(MONTH(ChillTempAct[[#This Row],[Date]]),TempAdj[Month],0))","v":1.0758000000000001},{"$f":"ChillTempAct[[#This Row],[ChillHDD]]*(1+ChillTempAct[[#This Row],[ChillAdj]])","v":0},{"$f":"SUMPRODUCT((RankNHDD[Month]=ChillTempAct[[#This Row],[Month]])*(RankNHDD[Rank]=ChillTempAct[[#This Row],[Rank]])*RankNHDD[KIRKNHDD])","v":0},{"$f":"YEAR(ChillTempAct[[#This Row],[Date]])","v":2022},{"$f":"MONTH(ChillTempAct[[#This Row],[Date]])","v":8},{"$f":"IF(ChillTempAct[[#This Row],[Month]]=J746,K746+1,1)","v":16}]
[44799,87,65,{"$f":"AVERAGE(ChillTempAct[[#This Row],[ChillHigh]:[ChillLow]])","v":76},{"$f":"IF(ChillTempAct[[#This Row],[ChillAve]]<65,65-ChillTempAct[[#This Row],[ChillAve]],0)","v":0},{"$f":"INDEX(TempAdj[AdjustPct],MATCH(MONTH(ChillTempAct[[#This Row],[Date]]),TempAdj[Month],0))","v":1.0758000000000001},{"$f":"ChillTempAct[[#This Row],[ChillHDD]]*(1+ChillTempAct[[#This Row],[ChillAdj]])","v":0},{"$f":"SUMPRODUCT((RankNHDD[Month]=ChillTempAct[[#This Row],[Month]])*(RankNHDD[Rank]=ChillTempAct[[#This Row],[Rank]])*RankNHDD[KIRKNHDD])","v":0},{"$f":"YEAR(ChillTempAct[[#This Row],[Date]])","v":2022},{"$f":"MONTH(ChillTempAct[[#This Row],[Date]])","v":8},{"$f":"IF(ChillTempAct[[#This Row],[Month]]=J747,K747+1,1)","v":17}]
[44803,91,62,{"$f":"AVERAGE(ChillTempAct[[#This Row],[ChillHigh]:[ChillLow]])","v":76.5},{"$f":"IF(ChillTempAct[[#This Row],[ChillAve]]<65,65-ChillTempAct[[#This Row],[ChillAve]],0)","v":0},{"$f":"INDEX(TempAdj[AdjustPct],MATCH(MONTH(ChillTempAct[[#This Row],[Date]]),TempAdj[Month],0))","v":1.0758000000000001},{"$f":"ChillTempAct[[#This Row],[ChillHDD]]*(1+ChillTempAct[[#This Row],[ChillAdj]])","v":0},{"$f":"SUMPRODUCT((RankNHDD[Month]=ChillTempAct[[#This Row],[Month]])*(RankNHDD[Rank]=ChillTempAct[[#This Row],[Rank]])*RankNHDD[KIRKNHDD])","v":0},{"$f":"YEAR(ChillTempAct[[#This Row],[Date]])","v":2022},{"$f":"MONTH(ChillTempAct[[#This Row],[Date]])","v":8},{"$f":"IF(ChillTempAct[[#This Row],[Month]]=J748,K748+1,1)","v":18}]
[44774,85,69,{"$f":"AVERAGE(ChillTempAct[[#This Row],[ChillHigh]:[ChillLow]])","v":77},{"$f":"IF(ChillTempAct[[#This Row],[ChillAve]]<65,65-ChillTempAct[[#This Row],[ChillAve]],0)","v":0},{"$f":"INDEX(TempAdj[AdjustPct],MATCH(MONTH(ChillTempAct[[#This Row],[Date]]),TempAdj[Month],0))","v":1.0758000000000001},{"$f":"ChillTempAct[[#This Row],[ChillHDD]]*(1+ChillTempAct[[#This Row],[ChillAdj]])","v":0},{"$f":"SUMPRODUCT((RankNHDD[Month]=ChillTempAct[[#This Row],[Month]])*(RankNHDD[Rank]=ChillTempAct[[#This Row],[Rank]])*RankNHDD[KIRKNHDD])","v":0},{"$f":"YEAR(ChillTempAct[[#This Row],[Date]])","v":2022},{"$f":"MONTH(ChillTempAct[[#This Row],[Date]])","v":8},{"$f":"IF(ChillTempAct[[#This Row],[Month]]=J749,K749+1,1)","v":19}]
[44777,84,71,{"$f":"AVERAGE(ChillTempAct[[#This Row],[ChillHigh]:[ChillLow]])","v":77.5},{"$f":"IF(ChillTempAct[[#This Row],[ChillAve]]<65,65-ChillTempAct[[#This Row],[ChillAve]],0)","v":0},{"$f":"INDEX(TempAdj[AdjustPct],MATCH(MONTH(ChillTempAct[[#This Row],[Date]]),TempAdj[Month],0))","v":1.0758000000000001},{"$f":"ChillTempAct[[#This Row],[ChillHDD]]*(1+ChillTempAct[[#This Row],[ChillAdj]])","v":0},{"$f":"SUMPRODUCT((RankNHDD[Month]=ChillTempAct[[#This Row],[Month]])*(RankNHDD[Rank]=ChillTempAct[[#This Row],[Rank]])*RankNHDD[KIRKNHDD])","v":0},{"$f":"YEAR(ChillTempAct[[#This Row],[Date]])","v":2022},{"$f":"MONTH(ChillTempAct[[#This Row],[Date]])","v":8},{"$f":"IF(ChillTempAct[[#This Row],[Month]]=J750,K750+1,1)","v":20}]
[44786,87,68,{"$f":"AVERAGE(ChillTempAct[[#This Row],[ChillHigh]:[ChillLow]])","v":77.5},{"$f":"IF(ChillTempAct[[#This Row],[ChillAve]]<65,65-ChillTempAct[[#This Row],[ChillAve]],0)","v":0},{"$f":"INDEX(TempAdj[AdjustPct],MATCH(MONTH(ChillTempAct[[#This Row],[Date]]),TempAdj[Month],0))","v":1.0758000000000001},{"$f":"ChillTempAct[[#This Row],[ChillHDD]]*(1+ChillTempAct[[#This Row],[ChillAdj]])","v":0},{"$f":"SUMPRODUCT((RankNHDD[Month]=ChillTempAct[[#This Row],[Month]])*(RankNHDD[Rank]=ChillTempAct[[#This Row],[Rank]])*RankNHDD[KIRKNHDD])","v":0},{"$f":"YEAR(ChillTempAct[[#This Row],[Date]])","v":2022},{"$f":"MONTH(ChillTempAct[[#This Row],[Date]])","v":8},{"$f":"IF(ChillTempAct[[#This Row],[Month]]=J751,K751+1,1)","v":21}]
[44778,89,67,{"$f":"AVERAGE(ChillTempAct[[#This Row],[ChillHigh]:[ChillLow]])","v":78},{"$f":"IF(ChillTempAct[[#This Row],[ChillAve]]<65,65-ChillTempAct[[#This Row],[ChillAve]],0)","v":0},{"$f":"INDEX(TempAdj[AdjustPct],MATCH(MONTH(ChillTempAct[[#This Row],[Date]]),TempAdj[Month],0))","v":1.0758000000000001},{"$f":"ChillTempAct[[#This Row],[ChillHDD]]*(1+ChillTempAct[[#This Row],[ChillAdj]])","v":0},{"$f":"SUMPRODUCT((RankNHDD[Month]=ChillTempAct[[#This Row],[Month]])*(RankNHDD[Rank]=ChillTempAct[[#This Row],[Rank]])*RankNHDD[KIRKNHDD])","v":0},{"$f":"YEAR(ChillTempAct[[#This Row],[Date]])","v":2022},{"$f":"MONTH(ChillTempAct[[#This Row],[Date]])","v":8},{"$f":"IF(ChillTempAct[[#This Row],[Month]]=J752,K752+1,1)","v":22}]
[44802,87,70,{"$f":"AVERAGE(ChillTempAct[[#This Row],[ChillHigh]:[ChillLow]])","v":78.5},{"$f":"IF(ChillTempAct[[#This Row],[ChillAve]]<65,65-ChillTempAct[[#This Row],[ChillAve]],0)","v":0},{"$f":"INDEX(TempAdj[AdjustPct],MATCH(MONTH(ChillTempAct[[#This Row],[Date]]),TempAdj[Month],0))","v":1.0758000000000001},{"$f":"ChillTempAct[[#This Row],[ChillHDD]]*(1+ChillTempAct[[#This Row],[ChillAdj]])","v":0},{"$f":"SUMPRODUCT((RankNHDD[Month]=ChillTempAct[[#This Row],[Month]])*(RankNHDD[Rank]=ChillTempAct[[#This Row],[Rank]])*RankNHDD[KIRKNHDD])","v":0},{"$f":"YEAR(ChillTempAct[[#This Row],[Date]])","v":2022},{"$f":"MONTH(ChillTempAct[[#This Row],[Date]])","v":8},{"$f":"IF(ChillTempAct[[#This Row],[Month]]=J753,K753+1,1)","v":23}]
[44779,91,67,{"$f":"AVERAGE(ChillTempAct[[#This Row],[ChillHigh]:[ChillLow]])","v":79},{"$f":"IF(ChillTempAct[[#This Row],[ChillAve]]<65,65-ChillTempAct[[#This Row],[ChillAve]],0)","v":0},{"$f":"INDEX(TempAdj[AdjustPct],MATCH(MONTH(ChillTempAct[[#This Row],[Date]]),TempAdj[Month],0))","v":1.0758000000000001},{"$f":"ChillTempAct[[#This Row],[ChillHDD]]*(1+ChillTempAct[[#This Row],[ChillAdj]])","v":0},{"$f":"SUMPRODUCT((RankNHDD[Month]=ChillTempAct[[#This Row],[Month]])*(RankNHDD[Rank]=ChillTempAct[[#This Row],[Rank]])*RankNHDD[KIRKNHDD])","v":0},{"$f":"YEAR(ChillTempAct[[#This Row],[Date]])","v":2022},{"$f":"MONTH(ChillTempAct[[#This Row],[Date]])","v":8},{"$f":"IF(ChillTempAct[[#This Row],[Month]]=J754,K754+1,1)","v":24}]
[44801,90,68,{"$f":"AVERAGE(ChillTempAct[[#This Row],[ChillHigh]:[ChillLow]])","v":79},{"$f":"IF(ChillTempAct[[#This Row],[ChillAve]]<65,65-ChillTempAct[[#This Row],[ChillAve]],0)","v":0},{"$f":"INDEX(TempAdj[AdjustPct],MATCH(MONTH(ChillTempAct[[#This Row],[Date]]),TempAdj[Month],0))","v":1.0758000000000001},{"$f":"ChillTempAct[[#This Row],[ChillHDD]]*(1+ChillTempAct[[#This Row],[ChillAdj]])","v":0},{"$f":"SUMPRODUCT((RankNHDD[Month]=ChillTempAct[[#This Row],[Month]])*(RankNHDD[Rank]=ChillTempAct[[#This Row],[Rank]])*RankNHDD[KIRKNHDD])","v":0},{"$f":"YEAR(ChillTempAct[[#This Row],[Date]])","v":2022},{"$f":"MONTH(ChillTempAct[[#This Row],[Date]])","v":8},{"$f":"IF(ChillTempAct[[#This Row],[Month]]=J755,K755+1,1)","v":25}]
[44787,95,68,{"$f":"AVERAGE(ChillTempAct[[#This Row],[ChillHigh]:[ChillLow]])","v":81.5},{"$f":"IF(ChillTempAct[[#This Row],[ChillAve]]<65,65-ChillTempAct[[#This Row],[ChillAve]],0)","v":0},{"$f":"INDEX(TempAdj[AdjustPct],MATCH(MONTH(ChillTempAct[[#This Row],[Date]]),TempAdj[Month],0))","v":1.0758000000000001},{"$f":"ChillTempAct[[#This Row],[ChillHDD]]*(1+ChillTempAct[[#This Row],[ChillAdj]])","v":0},{"$f":"SUMPRODUCT((RankNHDD[Month]=ChillTempAct[[#This Row],[Month]])*(RankNHDD[Rank]=ChillTempAct[[#This Row],[Rank]])*RankNHDD[KIRKNHDD])","v":0},{"$f":"YEAR(ChillTempAct[[#This Row],[Date]])","v":2022},{"$f":"MONTH(ChillTempAct[[#This Row],[Date]])","v":8},{"$f":"IF(ChillTempAct[[#This Row],[Month]]=J756,K756+1,1)","v":26}]
[44775,94,73,{"$f":"AVERAGE(ChillTempAct[[#This Row],[ChillHigh]:[ChillLow]])","v":83.5},{"$f":"IF(ChillTempAct[[#This Row],[ChillAve]]<65,65-ChillTempAct[[#This Row],[ChillAve]],0)","v":0},{"$f":"INDEX(TempAdj[AdjustPct],MATCH(MONTH(ChillTempAct[[#This Row],[Date]]),TempAdj[Month],0))","v":1.0758000000000001},{"$f":"ChillTempAct[[#This Row],[ChillHDD]]*(1+ChillTempAct[[#This Row],[ChillAdj]])","v":0},{"$f":"SUMPRODUCT((RankNHDD[Month]=ChillTempAct[[#This Row],[Month]])*(RankNHDD[Rank]=ChillTempAct[[#This Row],[Rank]])*RankNHDD[KIRKNHDD])","v":0},{"$f":"YEAR(ChillTempAct[[#This Row],[Date]])","v":2022},{"$f":"MONTH(ChillTempAct[[#This Row],[Date]])","v":8},{"$f":"IF(ChillTempAct[[#This Row],[Month]]=J757,K757+1,1)","v":27}]
[44776,94,74,{"$f":"AVERAGE(ChillTempAct[[#This Row],[ChillHigh]:[ChillLow]])","v":84},{"$f":"IF(ChillTempAct[[#This Row],[ChillAve]]<65,65-ChillTempAct[[#This Row],[ChillAve]],0)","v":0},{"$f":"INDEX(TempAdj[AdjustPct],MATCH(MONTH(ChillTempAct[[#This Row],[Date]]),TempAdj[Month],0))","v":1.0758000000000001},{"$f":"ChillTempAct[[#This Row],[ChillHDD]]*(1+ChillTempAct[[#This Row],[ChillAdj]])","v":0},{"$f":"SUMPRODUCT((RankNHDD[Month]=ChillTempAct[[#This Row],[Month]])*(RankNHDD[Rank]=ChillTempAct[[#This Row],[Rank]])*RankNHDD[KIRKNHDD])","v":0},{"$f":"YEAR(ChillTempAct[[#This Row],[Date]])","v":2022},{"$f":"MONTH(ChillTempAct[[#This Row],[Date]])","v":8},{"$f":"IF(ChillTempAct[[#This Row],[Month]]=J758,K758+1,1)","v":28}]
[44780,93,77,{"$f":"AVERAGE(ChillTempAct[[#This Row],[ChillHigh]:[ChillLow]])","v":85},{"$f":"IF(ChillTempAct[[#This Row],[ChillAve]]<65,65-ChillTempAct[[#This Row],[ChillAve]],0)","v":0},{"$f":"INDEX(TempAdj[AdjustPct],MATCH(MONTH(ChillTempAct[[#This Row],[Date]]),TempAdj[Month],0))","v":1.0758000000000001},{"$f":"ChillTempAct[[#This Row],[ChillHDD]]*(1+ChillTempAct[[#This Row],[ChillAdj]])","v":0},{"$f":"SUMPRODUCT((RankNHDD[Month]=ChillTempAct[[#This Row],[Month]])*(RankNHDD[Rank]=ChillTempAct[[#This Row],[Rank]])*RankNHDD[KIRKNHDD])","v":0},{"$f":"YEAR(ChillTempAct[[#This Row],[Date]])","v":2022},{"$f":"MONTH(ChillTempAct[[#This Row],[Date]])","v":8},{"$f":"IF(ChillTempAct[[#This Row],[Month]]=J759,K759+1,1)","v":29}]
[44781,93,77,{"$f":"AVERAGE(ChillTempAct[[#This Row],[ChillHigh]:[ChillLow]])","v":85},{"$f":"IF(ChillTempAct[[#This Row],[ChillAve]]<65,65-ChillTempAct[[#This Row],[ChillAve]],0)","v":0},{"$f":"INDEX(TempAdj[AdjustPct],MATCH(MONTH(ChillTempAct[[#This Row],[Date]]),TempAdj[Month],0))","v":1.0758000000000001},{"$f":"ChillTempAct[[#This Row],[ChillHDD]]*(1+ChillTempAct[[#This Row],[ChillAdj]])","v":0},{"$f":"SUMPRODUCT((RankNHDD[Month]=ChillTempAct[[#This Row],[Month]])*(RankNHDD[Rank]=ChillTempAct[[#This Row],[Rank]])*RankNHDD[KIRKNHDD])","v":0},{"$f":"YEAR(ChillTempAct[[#This Row],[Date]])","v":2022},{"$f":"MONTH(ChillTempAct[[#This Row],[Date]])","v":8},{"$f":"IF(ChillTempAct[[#This Row],[Month]]=J760,K760+1,1)","v":30}]
[44828,56,47,{"$f":"AVERAGE(ChillTempAct[[#This Row],[ChillHigh]:[ChillLow]])","v":51.5},{"$f":"IF(ChillTempAct[[#This Row],[ChillAve]]<65,65-ChillTempAct[[#This Row],[ChillAve]],0)","v":13.5},{"$f":"INDEX(TempAdj[AdjustPct],MATCH(MONTH(ChillTempAct[[#This Row],[Date]]),TempAdj[Month],0))","v":0.30930000000000002},{"$f":"ChillTempAct[[#This Row],[ChillHDD]]*(1+ChillTempAct[[#This Row],[ChillAdj]])","v":17.675549999999998},{"$f":"SUMPRODUCT((RankNHDD[Month]=ChillTempAct[[#This Row],[Month]])*(RankNHDD[Rank]=ChillTempAct[[#This Row],[Rank]])*RankNHDD[KIRKNHDD])","v":17.450925925925926},{"$f":"YEAR(ChillTempAct[[#This Row],[Date]])","v":2022},{"$f":"MONTH(ChillTempAct[[#This Row],[Date]])","v":9},{"$f":"IF(ChillTempAct[[#This Row],[Month]]=J761,K761+1,1)","v":1}]
[44834,69,40,{"$f":"AVERAGE(ChillTempAct[[#This Row],[ChillHigh]:[ChillLow]])","v":54.5},{"$f":"IF(ChillTempAct[[#This Row],[ChillAve]]<65,65-ChillTempAct[[#This Row],[ChillAve]],0)","v":10.5},{"$f":"INDEX(TempAdj[AdjustPct],MATCH(MONTH(ChillTempAct[[#This Row],[Date]]),TempAdj[Month],0))","v":0.30930000000000002},{"$f":"ChillTempAct[[#This Row],[ChillHDD]]*(1+ChillTempAct[[#This Row],[ChillAdj]])","v":13.747649999999998},{"$f":"SUMPRODUCT((RankNHDD[Month]=ChillTempAct[[#This Row],[Month]])*(RankNHDD[Rank]=ChillTempAct[[#This Row],[Rank]])*RankNHDD[KIRKNHDD])","v":13.436296296296296},{"$f":"YEAR(ChillTempAct[[#This Row],[Date]])","v":2022},{"$f":"MONTH(ChillTempAct[[#This Row],[Date]])","v":9},{"$f":"IF(ChillTempAct[[#This Row],[Month]]=J762,K762+1,1)","v":2}]
[44833,76,41,{"$f":"AVERAGE(ChillTempAct[[#This Row],[ChillHigh]:[ChillLow]])","v":58.5},{"$f":"IF(ChillTempAct[[#This Row],[ChillAve]]<65,65-ChillTempAct[[#This Row],[ChillAve]],0)","v":6.5},{"$f":"INDEX(TempAdj[AdjustPct],MATCH(MONTH(ChillTempAct[[#This Row],[Date]]),TempAdj[Month],0))","v":0.30930000000000002},{"$f":"ChillTempAct[[#This Row],[ChillHDD]]*(1+ChillTempAct[[#This Row],[ChillAdj]])","v":8.5104499999999987},{"$f":"SUMPRODUCT((RankNHDD[Month]=ChillTempAct[[#This Row],[Month]])*(RankNHDD[Rank]=ChillTempAct[[#This Row],[Rank]])*RankNHDD[KIRKNHDD])","v":11.309259259259257},{"$f":"YEAR(ChillTempAct[[#This Row],[Date]])","v":2022},{"$f":"MONTH(ChillTempAct[[#This Row],[Date]])","v":9},{"$f":"IF(ChillTempAct[[#This Row],[Month]]=J763,K763+1,1)","v":3}]
[44832,76,42,{"$f":"AVERAGE(ChillTempAct[[#This Row],[ChillHigh]:[ChillLow]])","v":59},{"$f":"IF(ChillTempAct[[#This Row],[ChillAve]]<65,65-ChillTempAct[[#This Row],[ChillAve]],0)","v":6},{"$f":"INDEX(TempAdj[AdjustPct],MATCH(MONTH(ChillTempAct[[#This Row],[Date]]),TempAdj[Month],0))","v":0.30930000000000002},{"$f":"ChillTempAct[[#This Row],[ChillHDD]]*(1+ChillTempAct[[#This Row],[ChillAdj]])","v":7.8557999999999995},{"$f":"SUMPRODUCT((RankNHDD[Month]=ChillTempAct[[#This Row],[Month]])*(RankNHDD[Rank]=ChillTempAct[[#This Row],[Rank]])*RankNHDD[KIRKNHDD])","v":9.779814814814813},{"$f":"YEAR(ChillTempAct[[#This Row],[Date]])","v":2022},{"$f":"MONTH(ChillTempAct[[#This Row],[Date]])","v":9},{"$f":"IF(ChillTempAct[[#This Row],[Month]]=J764,K764+1,1)","v":4}]
[44827,64,55,{"$f":"AVERAGE(ChillTempAct[[#This Row],[ChillHigh]:[ChillLow]])","v":59.5},{"$f":"IF(ChillTempAct[[#This Row],[ChillAve]]<65,65-ChillTempAct[[#This Row],[ChillAve]],0)","v":5.5},{"$f":"INDEX(TempAdj[AdjustPct],MATCH(MONTH(ChillTempAct[[#This Row],[Date]]),TempAdj[Month],0))","v":0.30930000000000002},{"$f":"ChillTempAct[[#This Row],[ChillHDD]]*(1+ChillTempAct[[#This Row],[ChillAdj]])","v":7.2011499999999993},{"$f":"SUMPRODUCT((RankNHDD[Month]=ChillTempAct[[#This Row],[Month]])*(RankNHDD[Rank]=ChillTempAct[[#This Row],[Rank]])*RankNHDD[KIRKNHDD])","v":8.3977777777777796},{"$f":"YEAR(ChillTempAct[[#This Row],[Date]])","v":2022},{"$f":"MONTH(ChillTempAct[[#This Row],[Date]])","v":9},{"$f":"IF(ChillTempAct[[#This Row],[Month]]=J765,K765+1,1)","v":5}]
[44831,77,44,{"$f":"AVERAGE(ChillTempAct[[#This Row],[ChillHigh]:[ChillLow]])","v":60.5},{"$f":"IF(ChillTempAct[[#This Row],[ChillAve]]<65,65-ChillTempAct[[#This Row],[ChillAve]],0)","v":4.5},{"$f":"INDEX(TempAdj[AdjustPct],MATCH(MONTH(ChillTempAct[[#This Row],[Date]]),TempAdj[Month],0))","v":0.30930000000000002},{"$f":"ChillTempAct[[#This Row],[ChillHDD]]*(1+ChillTempAct[[#This Row],[ChillAdj]])","v":5.8918499999999998},{"$f":"SUMPRODUCT((RankNHDD[Month]=ChillTempAct[[#This Row],[Month]])*(RankNHDD[Rank]=ChillTempAct[[#This Row],[Rank]])*RankNHDD[KIRKNHDD])","v":7.2085185185185194},{"$f":"YEAR(ChillTempAct[[#This Row],[Date]])","v":2022},{"$f":"MONTH(ChillTempAct[[#This Row],[Date]])","v":9},{"$f":"IF(ChillTempAct[[#This Row],[Month]]=J766,K766+1,1)","v":6}]
[44816,74,49,{"$f":"AVERAGE(ChillTempAct[[#This Row],[ChillHigh]:[ChillLow]])","v":61.5},{"$f":"IF(ChillTempAct[[#This Row],[ChillAve]]<65,65-ChillTempAct[[#This Row],[ChillAve]],0)","v":3.5},{"$f":"INDEX(TempAdj[AdjustPct],MATCH(MONTH(ChillTempAct[[#This Row],[Date]]),TempAdj[Month],0))","v":0.30930000000000002},{"$f":"ChillTempAct[[#This Row],[ChillHDD]]*(1+ChillTempAct[[#This Row],[ChillAdj]])","v":4.5825499999999995},{"$f":"SUMPRODUCT((RankNHDD[Month]=ChillTempAct[[#This Row],[Month]])*(RankNHDD[Rank]=ChillTempAct[[#This Row],[Rank]])*RankNHDD[KIRKNHDD])","v":6.1688888888888895},{"$f":"YEAR(ChillTempAct[[#This Row],[Date]])","v":2022},{"$f":"MONTH(ChillTempAct[[#This Row],[Date]])","v":9},{"$f":"IF(ChillTempAct[[#This Row],[Month]]=J767,K767+1,1)","v":7}]
[44830,77,46,{"$f":"AVERAGE(ChillTempAct[[#This Row],[ChillHigh]:[ChillLow]])","v":61.5},{"$f":"IF(ChillTempAct[[#This Row],[ChillAve]]<65,65-ChillTempAct[[#This Row],[ChillAve]],0)","v":3.5},{"$f":"INDEX(TempAdj[AdjustPct],MATCH(MONTH(ChillTempAct[[#This Row],[Date]]),TempAdj[Month],0))","v":0.30930000000000002},{"$f":"ChillTempAct[[#This Row],[ChillHDD]]*(1+ChillTempAct[[#This Row],[ChillAdj]])","v":4.5825499999999995},{"$f":"SUMPRODUCT((RankNHDD[Month]=ChillTempAct[[#This Row],[Month]])*(RankNHDD[Rank]=ChillTempAct[[#This Row],[Rank]])*RankNHDD[KIRKNHDD])","v":5.2650000000000006},{"$f":"YEAR(ChillTempAct[[#This Row],[Date]])","v":2022},{"$f":"MONTH(ChillTempAct[[#This Row],[Date]])","v":9},{"$f":"IF(ChillTempAct[[#This Row],[Month]]=J768,K768+1,1)","v":8}]
[44815,73,54,{"$f":"AVERAGE(ChillTempAct[[#This Row],[ChillHigh]:[ChillLow]])","v":63.5},{"$f":"IF(ChillTempAct[[#This Row],[ChillAve]]<65,65-ChillTempAct[[#This Row],[ChillAve]],0)","v":1.5},{"$f":"INDEX(TempAdj[AdjustPct],MATCH(MONTH(ChillTempAct[[#This Row],[Date]]),TempAdj[Month],0))","v":0.30930000000000002},{"$f":"ChillTempAct[[#This Row],[ChillHDD]]*(1+ChillTempAct[[#This Row],[ChillAdj]])","v":1.9639499999999999},{"$f":"SUMPRODUCT((RankNHDD[Month]=ChillTempAct[[#This Row],[Month]])*(RankNHDD[Rank]=ChillTempAct[[#This Row],[Rank]])*RankNHDD[KIRKNHDD])","v":4.532222222222221},{"$f":"YEAR(ChillTempAct[[#This Row],[Date]])","v":2022},{"$f":"MONTH(ChillTempAct[[#This Row],[Date]])","v":9},{"$f":"IF(ChillTempAct[[#This Row],[Month]]=J769,K769+1,1)","v":9}]
[44817,80,49,{"$f":"AVERAGE(ChillTempAct[[#This Row],[ChillHigh]:[ChillLow]])","v":64.5},{"$f":"IF(ChillTempAct[[#This Row],[ChillAve]]<65,65-ChillTempAct[[#This Row],[ChillAve]],0)","v":0.5},{"$f":"INDEX(TempAdj[AdjustPct],MATCH(MONTH(ChillTempAct[[#This Row],[Date]]),TempAdj[Month],0))","v":0.30930000000000002},{"$f":"ChillTempAct[[#This Row],[ChillHDD]]*(1+ChillTempAct[[#This Row],[ChillAdj]])","v":0.65464999999999995},{"$f":"SUMPRODUCT((RankNHDD[Month]=ChillTempAct[[#This Row],[Month]])*(RankNHDD[Rank]=ChillTempAct[[#This Row],[Rank]])*RankNHDD[KIRKNHDD])","v":3.8581481481481479},{"$f":"YEAR(ChillTempAct[[#This Row],[Date]])","v":2022},{"$f":"MONTH(ChillTempAct[[#This Row],[Date]])","v":9},{"$f":"IF(ChillTempAct[[#This Row],[Month]]=J770,K770+1,1)","v":10}]
[44818,83,50,{"$f":"AVERAGE(ChillTempAct[[#This Row],[ChillHigh]:[ChillLow]])","v":66.5},{"$f":"IF(ChillTempAct[[#This Row],[ChillAve]]<65,65-ChillTempAct[[#This Row],[ChillAve]],0)","v":0},{"$f":"INDEX(TempAdj[AdjustPct],MATCH(MONTH(ChillTempAct[[#This Row],[Date]]),TempAdj[Month],0))","v":0.30930000000000002},{"$f":"ChillTempAct[[#This Row],[ChillHDD]]*(1+ChillTempAct[[#This Row],[ChillAdj]])","v":0},{"$f":"SUMPRODUCT((RankNHDD[Month]=ChillTempAct[[#This Row],[Month]])*(RankNHDD[Rank]=ChillTempAct[[#This Row],[Rank]])*RankNHDD[KIRKNHDD])","v":2.9318518518518517},{"$f":"YEAR(ChillTempAct[[#This Row],[Date]])","v":2022},{"$f":"MONTH(ChillTempAct[[#This Row],[Date]])","v":9},{"$f":"IF(ChillTempAct[[#This Row],[Month]]=J771,K771+1,1)","v":11}]
[44829,86,48,{"$f":"AVERAGE(ChillTempAct[[#This Row],[ChillHigh]:[ChillLow]])","v":67},{"$f":"IF(ChillTempAct[[#This Row],[ChillAve]]<65,65-ChillTempAct[[#This Row],[ChillAve]],0)","v":0},{"$f":"INDEX(TempAdj[AdjustPct],MATCH(MONTH(ChillTempAct[[#This Row],[Date]]),TempAdj[Month],0))","v":0.30930000000000002},{"$f":"ChillTempAct[[#This Row],[ChillHDD]]*(1+ChillTempAct[[#This Row],[ChillAdj]])","v":0},{"$f":"SUMPRODUCT((RankNHDD[Month]=ChillTempAct[[#This Row],[Month]])*(RankNHDD[Rank]=ChillTempAct[[#This Row],[Rank]])*RankNHDD[KIRKNHDD])","v":2.153703703703703},{"$f":"YEAR(ChillTempAct[[#This Row],[Date]])","v":2022},{"$f":"MONTH(ChillTempAct[[#This Row],[Date]])","v":9},{"$f":"IF(ChillTempAct[[#This Row],[Month]]=J772,K772+1,1)","v":12}]
[44826,81,55,{"$f":"AVERAGE(ChillTempAct[[#This Row],[ChillHigh]:[ChillLow]])","v":68},{"$f":"IF(ChillTempAct[[#This Row],[ChillAve]]<65,65-ChillTempAct[[#This Row],[ChillAve]],0)","v":0},{"$f":"INDEX(TempAdj[AdjustPct],MATCH(MONTH(ChillTempAct[[#This Row],[Date]]),TempAdj[Month],0))","v":0.30930000000000002},{"$f":"ChillTempAct[[#This Row],[ChillHDD]]*(1+ChillTempAct[[#This Row],[ChillAdj]])","v":0},{"$f":"SUMPRODUCT((RankNHDD[Month]=ChillTempAct[[#This Row],[Month]])*(RankNHDD[Rank]=ChillTempAct[[#This Row],[Rank]])*RankNHDD[KIRKNHDD])","v":1.3109259259259254},{"$f":"YEAR(ChillTempAct[[#This Row],[Date]])","v":2022},{"$f":"MONTH(ChillTempAct[[#This Row],[Date]])","v":9},{"$f":"IF(ChillTempAct[[#This Row],[Month]]=J773,K773+1,1)","v":13}]
[44821,80,61,{"$f":"AVERAGE(ChillTempAct[[#This Row],[ChillHigh]:[ChillLow]])","v":70.5},{"$f":"IF(ChillTempAct[[#This Row],[ChillAve]]<65,65-ChillTempAct[[#This Row],[ChillAve]],0)","v":0},{"$f":"INDEX(TempAdj[AdjustPct],MATCH(MONTH(ChillTempAct[[#This Row],[Date]]),TempAdj[Month],0))","v":0.30930000000000002},{"$f":"ChillTempAct[[#This Row],[ChillHDD]]*(1+ChillTempAct[[#This Row],[ChillAdj]])","v":0},{"$f":"SUMPRODUCT((RankNHDD[Month]=ChillTempAct[[#This Row],[Month]])*(RankNHDD[Rank]=ChillTempAct[[#This Row],[Rank]])*RankNHDD[KIRKNHDD])","v":0.40222222222222398},{"$f":"YEAR(ChillTempAct[[#This Row],[Date]])","v":2022},{"$f":"MONTH(ChillTempAct[[#This Row],[Date]])","v":9},{"$f":"IF(ChillTempAct[[#This Row],[Month]]=J774,K774+1,1)","v":14}]
[44809,81,61,{"$f":"AVERAGE(ChillTempAct[[#This Row],[ChillHigh]:[ChillLow]])","v":71},{"$f":"IF(ChillTempAct[[#This Row],[ChillAve]]<65,65-ChillTempAct[[#This Row],[ChillAve]],0)","v":0},{"$f":"INDEX(TempAdj[AdjustPct],MATCH(MONTH(ChillTempAct[[#This Row],[Date]]),TempAdj[Month],0))","v":0.30930000000000002},{"$f":"ChillTempAct[[#This Row],[ChillHDD]]*(1+ChillTempAct[[#This Row],[ChillAdj]])","v":0},{"$f":"SUMPRODUCT((RankNHDD[Month]=ChillTempAct[[#This Row],[Month]])*(RankNHDD[Rank]=ChillTempAct[[#This Row],[Rank]])*RankNHDD[KIRKNHDD])","v":0},{"$f":"YEAR(ChillTempAct[[#This Row],[Date]])","v":2022},{"$f":"MONTH(ChillTempAct[[#This Row],[Date]])","v":9},{"$f":"IF(ChillTempAct[[#This Row],[Month]]=J775,K775+1,1)","v":15}]
[44810,80,62,{"$f":"AVERAGE(ChillTempAct[[#This Row],[ChillHigh]:[ChillLow]])","v":71},{"$f":"IF(ChillTempAct[[#This Row],[ChillAve]]<65,65-ChillTempAct[[#This Row],[ChillAve]],0)","v":0},{"$f":"INDEX(TempAdj[AdjustPct],MATCH(MONTH(ChillTempAct[[#This Row],[Date]]),TempAdj[Month],0))","v":0.30930000000000002},{"$f":"ChillTempAct[[#This Row],[ChillHDD]]*(1+ChillTempAct[[#This Row],[ChillAdj]])","v":0},{"$f":"SUMPRODUCT((RankNHDD[Month]=ChillTempAct[[#This Row],[Month]])*(RankNHDD[Rank]=ChillTempAct[[#This Row],[Rank]])*RankNHDD[KIRKNHDD])","v":0},{"$f":"YEAR(ChillTempAct[[#This Row],[Date]])","v":2022},{"$f":"MONTH(ChillTempAct[[#This Row],[Date]])","v":9},{"$f":"IF(ChillTempAct[[#This Row],[Month]]=J776,K776+1,1)","v":16}]
[44812,84,58,{"$f":"AVERAGE(ChillTempAct[[#This Row],[ChillHigh]:[ChillLow]])","v":71},{"$f":"IF(ChillTempAct[[#This Row],[ChillAve]]<65,65-ChillTempAct[[#This Row],[ChillAve]],0)","v":0},{"$f":"INDEX(TempAdj[AdjustPct],MATCH(MONTH(ChillTempAct[[#This Row],[Date]]),TempAdj[Month],0))","v":0.30930000000000002},{"$f":"ChillTempAct[[#This Row],[ChillHDD]]*(1+ChillTempAct[[#This Row],[ChillAdj]])","v":0},{"$f":"SUMPRODUCT((RankNHDD[Month]=ChillTempAct[[#This Row],[Month]])*(RankNHDD[Rank]=ChillTempAct[[#This Row],[Rank]])*RankNHDD[KIRKNHDD])","v":0},{"$f":"YEAR(ChillTempAct[[#This Row],[Date]])","v":2022},{"$f":"MONTH(ChillTempAct[[#This Row],[Date]])","v":9},{"$f":"IF(ChillTempAct[[#This Row],[Month]]=J777,K777+1,1)","v":17}]
[44820,84,58,{"$f":"AVERAGE(ChillTempAct[[#This Row],[ChillHigh]:[ChillLow]])","v":71},{"$f":"IF(ChillTempAct[[#This Row],[ChillAve]]<65,65-ChillTempAct[[#This Row],[ChillAve]],0)","v":0},{"$f":"INDEX(TempAdj[AdjustPct],MATCH(MONTH(ChillTempAct[[#This Row],[Date]]),TempAdj[Month],0))","v":0.30930000000000002},{"$f":"ChillTempAct[[#This Row],[ChillHDD]]*(1+ChillTempAct[[#This Row],[ChillAdj]])","v":0},{"$f":"SUMPRODUCT((RankNHDD[Month]=ChillTempAct[[#This Row],[Month]])*(RankNHDD[Rank]=ChillTempAct[[#This Row],[Rank]])*RankNHDD[KIRKNHDD])","v":0},{"$f":"YEAR(ChillTempAct[[#This Row],[Date]])","v":2022},{"$f":"MONTH(ChillTempAct[[#This Row],[Date]])","v":9},{"$f":"IF(ChillTempAct[[#This Row],[Month]]=J778,K778+1,1)","v":18}]
[44805,86,57,{"$f":"AVERAGE(ChillTempAct[[#This Row],[ChillHigh]:[ChillLow]])","v":71.5},{"$f":"IF(ChillTempAct[[#This Row],[ChillAve]]<65,65-ChillTempAct[[#This Row],[ChillAve]],0)","v":0},{"$f":"INDEX(TempAdj[AdjustPct],MATCH(MONTH(ChillTempAct[[#This Row],[Date]]),TempAdj[Month],0))","v":0.30930000000000002},{"$f":"ChillTempAct[[#This Row],[ChillHDD]]*(1+ChillTempAct[[#This Row],[ChillAdj]])","v":0},{"$f":"SUMPRODUCT((RankNHDD[Month]=ChillTempAct[[#This Row],[Month]])*(RankNHDD[Rank]=ChillTempAct[[#This Row],[Rank]])*RankNHDD[KIRKNHDD])","v":0},{"$f":"YEAR(ChillTempAct[[#This Row],[Date]])","v":2022},{"$f":"MONTH(ChillTempAct[[#This Row],[Date]])","v":9},{"$f":"IF(ChillTempAct[[#This Row],[Month]]=J779,K779+1,1)","v":19}]
[44811,83,60,{"$f":"AVERAGE(ChillTempAct[[#This Row],[ChillHigh]:[ChillLow]])","v":71.5},{"$f":"IF(ChillTempAct[[#This Row],[ChillAve]]<65,65-ChillTempAct[[#This Row],[ChillAve]],0)","v":0},{"$f":"INDEX(TempAdj[AdjustPct],MATCH(MONTH(ChillTempAct[[#This Row],[Date]]),TempAdj[Month],0))","v":0.30930000000000002},{"$f":"ChillTempAct[[#This Row],[ChillHDD]]*(1+ChillTempAct[[#This Row],[ChillAdj]])","v":0},{"$f":"SUMPRODUCT((RankNHDD[Month]=ChillTempAct[[#This Row],[Month]])*(RankNHDD[Rank]=ChillTempAct[[#This Row],[Rank]])*RankNHDD[KIRKNHDD])","v":0},{"$f":"YEAR(ChillTempAct[[#This Row],[Date]])","v":2022},{"$f":"MONTH(ChillTempAct[[#This Row],[Date]])","v":9},{"$f":"IF(ChillTempAct[[#This Row],[Month]]=J780,K780+1,1)","v":20}]
[44813,86,58,{"$f":"AVERAGE(ChillTempAct[[#This Row],[ChillHigh]:[ChillLow]])","v":72},{"$f":"IF(ChillTempAct[[#This Row],[ChillAve]]<65,65-ChillTempAct[[#This Row],[ChillAve]],0)","v":0},{"$f":"INDEX(TempAdj[AdjustPct],MATCH(MONTH(ChillTempAct[[#This Row],[Date]]),TempAdj[Month],0))","v":0.30930000000000002},{"$f":"ChillTempAct[[#This Row],[ChillHDD]]*(1+ChillTempAct[[#This Row],[ChillAdj]])","v":0},{"$f":"SUMPRODUCT((RankNHDD[Month]=ChillTempAct[[#This Row],[Month]])*(RankNHDD[Rank]=ChillTempAct[[#This Row],[Rank]])*RankNHDD[KIRKNHDD])","v":0},{"$f":"YEAR(ChillTempAct[[#This Row],[Date]])","v":2022},{"$f":"MONTH(ChillTempAct[[#This Row],[Date]])","v":9},{"$f":"IF(ChillTempAct[[#This Row],[Month]]=J781,K781+1,1)","v":21}]
[44819,88,56,{"$f":"AVERAGE(ChillTempAct[[#This Row],[ChillHigh]:[ChillLow]])","v":72},{"$f":"IF(ChillTempAct[[#This Row],[ChillAve]]<65,65-ChillTempAct[[#This Row],[ChillAve]],0)","v":0},{"$f":"INDEX(TempAdj[AdjustPct],MATCH(MONTH(ChillTempAct[[#This Row],[Date]]),TempAdj[Month],0))","v":0.30930000000000002},{"$f":"ChillTempAct[[#This Row],[ChillHDD]]*(1+ChillTempAct[[#This Row],[ChillAdj]])","v":0},{"$f":"SUMPRODUCT((RankNHDD[Month]=ChillTempAct[[#This Row],[Month]])*(RankNHDD[Rank]=ChillTempAct[[#This Row],[Rank]])*RankNHDD[KIRKNHDD])","v":0},{"$f":"YEAR(ChillTempAct[[#This Row],[Date]])","v":2022},{"$f":"MONTH(ChillTempAct[[#This Row],[Date]])","v":9},{"$f":"IF(ChillTempAct[[#This Row],[Month]]=J782,K782+1,1)","v":22}]
[44814,87,59,{"$f":"AVERAGE(ChillTempAct[[#This Row],[ChillHigh]:[ChillLow]])","v":73},{"$f":"IF(ChillTempAct[[#This Row],[ChillAve]]<65,65-ChillTempAct[[#This Row],[ChillAve]],0)","v":0},{"$f":"INDEX(TempAdj[AdjustPct],MATCH(MONTH(ChillTempAct[[#This Row],[Date]]),TempAdj[Month],0))","v":0.30930000000000002},{"$f":"ChillTempAct[[#This Row],[ChillHDD]]*(1+ChillTempAct[[#This Row],[ChillAdj]])","v":0},{"$f":"SUMPRODUCT((RankNHDD[Month]=ChillTempAct[[#This Row],[Month]])*(RankNHDD[Rank]=ChillTempAct[[#This Row],[Rank]])*RankNHDD[KIRKNHDD])","v":0},{"$f":"YEAR(ChillTempAct[[#This Row],[Date]])","v":2022},{"$f":"MONTH(ChillTempAct[[#This Row],[Date]])","v":9},{"$f":"IF(ChillTempAct[[#This Row],[Month]]=J783,K783+1,1)","v":23}]
[44808,84,65,{"$f":"AVERAGE(ChillTempAct[[#This Row],[ChillHigh]:[ChillLow]])","v":74.5},{"$f":"IF(ChillTempAct[[#This Row],[ChillAve]]<65,65-ChillTempAct[[#This Row],[ChillAve]],0)","v":0},{"$f":"INDEX(TempAdj[AdjustPct],MATCH(MONTH(ChillTempAct[[#This Row],[Date]]),TempAdj[Month],0))","v":0.30930000000000002},{"$f":"ChillTempAct[[#This Row],[ChillHDD]]*(1+ChillTempAct[[#This Row],[ChillAdj]])","v":0},{"$f":"SUMPRODUCT((RankNHDD[Month]=ChillTempAct[[#This Row],[Month]])*(RankNHDD[Rank]=ChillTempAct[[#This Row],[Rank]])*RankNHDD[KIRKNHDD])","v":0},{"$f":"YEAR(ChillTempAct[[#This Row],[Date]])","v":2022},{"$f":"MONTH(ChillTempAct[[#This Row],[Date]])","v":9},{"$f":"IF(ChillTempAct[[#This Row],[Month]]=J784,K784+1,1)","v":24}]
[44822,83,66,{"$f":"AVERAGE(ChillTempAct[[#This Row],[ChillHigh]:[ChillLow]])","v":74.5},{"$f":"IF(ChillTempAct[[#This Row],[ChillAve]]<65,65-ChillTempAct[[#This Row],[ChillAve]],0)","v":0},{"$f":"INDEX(TempAdj[AdjustPct],MATCH(MONTH(ChillTempAct[[#This Row],[Date]]),TempAdj[Month],0))","v":0.30930000000000002},{"$f":"ChillTempAct[[#This Row],[ChillHDD]]*(1+ChillTempAct[[#This Row],[ChillAdj]])","v":0},{"$f":"SUMPRODUCT((RankNHDD[Month]=ChillTempAct[[#This Row],[Month]])*(RankNHDD[Rank]=ChillTempAct[[#This Row],[Rank]])*RankNHDD[KIRKNHDD])","v":0},{"$f":"YEAR(ChillTempAct[[#This Row],[Date]])","v":2022},{"$f":"MONTH(ChillTempAct[[#This Row],[Date]])","v":9},{"$f":"IF(ChillTempAct[[#This Row],[Month]]=J785,K785+1,1)","v":25}]
[44806,88,63,{"$f":"AVERAGE(ChillTempAct[[#This Row],[ChillHigh]:[ChillLow]])","v":75.5},{"$f":"IF(ChillTempAct[[#This Row],[ChillAve]]<65,65-ChillTempAct[[#This Row],[ChillAve]],0)","v":0},{"$f":"INDEX(TempAdj[AdjustPct],MATCH(MONTH(ChillTempAct[[#This Row],[Date]]),TempAdj[Month],0))","v":0.30930000000000002},{"$f":"ChillTempAct[[#This Row],[ChillHDD]]*(1+ChillTempAct[[#This Row],[ChillAdj]])","v":0},{"$f":"SUMPRODUCT((RankNHDD[Month]=ChillTempAct[[#This Row],[Month]])*(RankNHDD[Rank]=ChillTempAct[[#This Row],[Rank]])*RankNHDD[KIRKNHDD])","v":0},{"$f":"YEAR(ChillTempAct[[#This Row],[Date]])","v":2022},{"$f":"MONTH(ChillTempAct[[#This Row],[Date]])","v":9},{"$f":"IF(ChillTempAct[[#This Row],[Month]]=J786,K786+1,1)","v":26}]
[44807,88,63,{"$f":"AVERAGE(ChillTempAct[[#This Row],[ChillHigh]:[ChillLow]])","v":75.5},{"$f":"IF(ChillTempAct[[#This Row],[ChillAve]]<65,65-ChillTempAct[[#This Row],[ChillAve]],0)","v":0},{"$f":"INDEX(TempAdj[AdjustPct],MATCH(MONTH(ChillTempAct[[#This Row],[Date]]),TempAdj[Month],0))","v":0.30930000000000002},{"$f":"ChillTempAct[[#This Row],[ChillHDD]]*(1+ChillTempAct[[#This Row],[ChillAdj]])","v":0},{"$f":"SUMPRODUCT((RankNHDD[Month]=ChillTempAct[[#This Row],[Month]])*(RankNHDD[Rank]=ChillTempAct[[#This Row],[Rank]])*RankNHDD[KIRKNHDD])","v":0},{"$f":"YEAR(ChillTempAct[[#This Row],[Date]])","v":2022},{"$f":"MONTH(ChillTempAct[[#This Row],[Date]])","v":9},{"$f":"IF(ChillTempAct[[#This Row],[Month]]=J787,K787+1,1)","v":27}]
[44823,89,66,{"$f":"AVERAGE(ChillTempAct[[#This Row],[ChillHigh]:[ChillLow]])","v":77.5},{"$f":"IF(ChillTempAct[[#This Row],[ChillAve]]<65,65-ChillTempAct[[#This Row],[ChillAve]],0)","v":0},{"$f":"INDEX(TempAdj[AdjustPct],MATCH(MONTH(ChillTempAct[[#This Row],[Date]]),TempAdj[Month],0))","v":0.30930000000000002},{"$f":"ChillTempAct[[#This Row],[ChillHDD]]*(1+ChillTempAct[[#This Row],[ChillAdj]])","v":0},{"$f":"SUMPRODUCT((RankNHDD[Month]=ChillTempAct[[#This Row],[Month]])*(RankNHDD[Rank]=ChillTempAct[[#This Row],[Rank]])*RankNHDD[KIRKNHDD])","v":0},{"$f":"YEAR(ChillTempAct[[#This Row],[Date]])","v":2022},{"$f":"MONTH(ChillTempAct[[#This Row],[Date]])","v":9},{"$f":"IF(ChillTempAct[[#This Row],[Month]]=J788,K788+1,1)","v":28}]
[44824,93,67,{"$f":"AVERAGE(ChillTempAct[[#This Row],[ChillHigh]:[ChillLow]])","v":80},{"$f":"IF(ChillTempAct[[#This Row],[ChillAve]]<65,65-ChillTempAct[[#This Row],[ChillAve]],0)","v":0},{"$f":"INDEX(TempAdj[AdjustPct],MATCH(MONTH(ChillTempAct[[#This Row],[Date]]),TempAdj[Month],0))","v":0.30930000000000002},{"$f":"ChillTempAct[[#This Row],[ChillHDD]]*(1+ChillTempAct[[#This Row],[ChillAdj]])","v":0},{"$f":"SUMPRODUCT((RankNHDD[Month]=ChillTempAct[[#This Row],[Month]])*(RankNHDD[Rank]=ChillTempAct[[#This Row],[Rank]])*RankNHDD[KIRKNHDD])","v":0},{"$f":"YEAR(ChillTempAct[[#This Row],[Date]])","v":2022},{"$f":"MONTH(ChillTempAct[[#This Row],[Date]])","v":9},{"$f":"IF(ChillTempAct[[#This Row],[Month]]=J789,K789+1,1)","v":29}]
[44825,97,69,{"$f":"AVERAGE(ChillTempAct[[#This Row],[ChillHigh]:[ChillLow]])","v":83},{"$f":"IF(ChillTempAct[[#This Row],[ChillAve]]<65,65-ChillTempAct[[#This Row],[ChillAve]],0)","v":0},{"$f":"INDEX(TempAdj[AdjustPct],MATCH(MONTH(ChillTempAct[[#This Row],[Date]]),TempAdj[Month],0))","v":0.30930000000000002},{"$f":"ChillTempAct[[#This Row],[ChillHDD]]*(1+ChillTempAct[[#This Row],[ChillAdj]])","v":0},{"$f":"SUMPRODUCT((RankNHDD[Month]=ChillTempAct[[#This Row],[Month]])*(RankNHDD[Rank]=ChillTempAct[[#This Row],[Rank]])*RankNHDD[KIRKNHDD])","v":0},{"$f":"YEAR(ChillTempAct[[#This Row],[Date]])","v":2022},{"$f":"MONTH(ChillTempAct[[#This Row],[Date]])","v":9},{"$f":"IF(ChillTempAct[[#This Row],[Month]]=J790,K790+1,1)","v":30}]
[44853,47,20,{"$f":"AVERAGE(ChillTempAct[[#This Row],[ChillHigh]:[ChillLow]])","v":33.5},{"$f":"IF(ChillTempAct[[#This Row],[ChillAve]]<65,65-ChillTempAct[[#This Row],[ChillAve]],0)","v":31.5},{"$f":"INDEX(TempAdj[AdjustPct],MATCH(MONTH(ChillTempAct[[#This Row],[Date]]),TempAdj[Month],0))","v":0.1114},{"$f":"ChillTempAct[[#This Row],[ChillHDD]]*(1+ChillTempAct[[#This Row],[ChillAdj]])","v":35.009099999999997},{"$f":"SUMPRODUCT((RankNHDD[Month]=ChillTempAct[[#This Row],[Month]])*(RankNHDD[Rank]=ChillTempAct[[#This Row],[Rank]])*RankNHDD[KIRKNHDD])","v":30.566308243727597},{"$f":"YEAR(ChillTempAct[[#This Row],[Date]])","v":2022},{"$f":"MONTH(ChillTempAct[[#This Row],[Date]])","v":10},{"$f":"IF(ChillTempAct[[#This Row],[Month]]=J791,K791+1,1)","v":1}]
[44852,47,22,{"$f":"AVERAGE(ChillTempAct[[#This Row],[ChillHigh]:[ChillLow]])","v":34.5},{"$f":"IF(ChillTempAct[[#This Row],[ChillAve]]<65,65-ChillTempAct[[#This Row],[ChillAve]],0)","v":30.5},{"$f":"INDEX(TempAdj[AdjustPct],MATCH(MONTH(ChillTempAct[[#This Row],[Date]]),TempAdj[Month],0))","v":0.1114},{"$f":"ChillTempAct[[#This Row],[ChillHDD]]*(1+ChillTempAct[[#This Row],[ChillAdj]])","v":33.8977},{"$f":"SUMPRODUCT((RankNHDD[Month]=ChillTempAct[[#This Row],[Month]])*(RankNHDD[Rank]=ChillTempAct[[#This Row],[Rank]])*RankNHDD[KIRKNHDD])","v":26.103745519713264},{"$f":"YEAR(ChillTempAct[[#This Row],[Date]])","v":2022},{"$f":"MONTH(ChillTempAct[[#This Row],[Date]])","v":10},{"$f":"IF(ChillTempAct[[#This Row],[Month]]=J792,K792+1,1)","v":2}]
[44854,53,19,{"$f":"AVERAGE(ChillTempAct[[#This Row],[ChillHigh]:[ChillLow]])","v":36},{"$f":"IF(ChillTempAct[[#This Row],[ChillAve]]<65,65-ChillTempAct[[#This Row],[ChillAve]],0)","v":29},{"$f":"INDEX(TempAdj[AdjustPct],MATCH(MONTH(ChillTempAct[[#This Row],[Date]]),TempAdj[Month],0))","v":0.1114},{"$f":"ChillTempAct[[#This Row],[ChillHDD]]*(1+ChillTempAct[[#This Row],[ChillAdj]])","v":32.230599999999995},{"$f":"SUMPRODUCT((RankNHDD[Month]=ChillTempAct[[#This Row],[Month]])*(RankNHDD[Rank]=ChillTempAct[[#This Row],[Rank]])*RankNHDD[KIRKNHDD])","v":24.451899641577064},{"$f":"YEAR(ChillTempAct[[#This Row],[Date]])","v":2022},{"$f":"MONTH(ChillTempAct[[#This Row],[Date]])","v":10},{"$f":"IF(ChillTempAct[[#This Row],[Month]]=J793,K793+1,1)","v":3}]
[44860,51,36,{"$f":"AVERAGE(ChillTempAct[[#This Row],[ChillHigh]:[ChillLow]])","v":43.5},{"$f":"IF(ChillTempAct[[#This Row],[ChillAve]]<65,65-ChillTempAct[[#This Row],[ChillAve]],0)","v":21.5},{"$f":"INDEX(TempAdj[AdjustPct],MATCH(MONTH(ChillTempAct[[#This Row],[Date]]),TempAdj[Month],0))","v":0.1114},{"$f":"ChillTempAct[[#This Row],[ChillHDD]]*(1+ChillTempAct[[#This Row],[ChillAdj]])","v":23.895099999999999},{"$f":"SUMPRODUCT((RankNHDD[Month]=ChillTempAct[[#This Row],[Month]])*(RankNHDD[Rank]=ChillTempAct[[#This Row],[Rank]])*RankNHDD[KIRKNHDD])","v":23.15010752688173},{"$f":"YEAR(ChillTempAct[[#This Row],[Date]])","v":2022},{"$f":"MONTH(ChillTempAct[[#This Row],[Date]])","v":10},{"$f":"IF(ChillTempAct[[#This Row],[Month]]=J794,K794+1,1)","v":4}]
[44842,58,31,{"$f":"AVERAGE(ChillTempAct[[#This Row],[ChillHigh]:[ChillLow]])","v":44.5},{"$f":"IF(ChillTempAct[[#This Row],[ChillAve]]<65,65-ChillTempAct[[#This Row],[ChillAve]],0)","v":20.5},{"$f":"INDEX(TempAdj[AdjustPct],MATCH(MONTH(ChillTempAct[[#This Row],[Date]]),TempAdj[Month],0))","v":0.1114},{"$f":"ChillTempAct[[#This Row],[ChillHDD]]*(1+ChillTempAct[[#This Row],[ChillAdj]])","v":22.7837},{"$f":"SUMPRODUCT((RankNHDD[Month]=ChillTempAct[[#This Row],[Month]])*(RankNHDD[Rank]=ChillTempAct[[#This Row],[Rank]])*RankNHDD[KIRKNHDD])","v":21.906021505376348},{"$f":"YEAR(ChillTempAct[[#This Row],[Date]])","v":2022},{"$f":"MONTH(ChillTempAct[[#This Row],[Date]])","v":10},{"$f":"IF(ChillTempAct[[#This Row],[Month]]=J795,K795+1,1)","v":5}]
[44848,61,32,{"$f":"AVERAGE(ChillTempAct[[#This Row],[ChillHigh]:[ChillLow]])","v":46.5},{"$f":"IF(ChillTempAct[[#This Row],[ChillAve]]<65,65-ChillTempAct[[#This Row],[ChillAve]],0)","v":18.5},{"$f":"INDEX(TempAdj[AdjustPct],MATCH(MONTH(ChillTempAct[[#This Row],[Date]]),TempAdj[Month],0))","v":0.1114},{"$f":"ChillTempAct[[#This Row],[ChillHDD]]*(1+ChillTempAct[[#This Row],[ChillAdj]])","v":20.5609},{"$f":"SUMPRODUCT((RankNHDD[Month]=ChillTempAct[[#This Row],[Month]])*(RankNHDD[Rank]=ChillTempAct[[#This Row],[Rank]])*RankNHDD[KIRKNHDD])","v":20.623530465949823},{"$f":"YEAR(ChillTempAct[[#This Row],[Date]])","v":2022},{"$f":"MONTH(ChillTempAct[[#This Row],[Date]])","v":10},{"$f":"IF(ChillTempAct[[#This Row],[Month]]=J796,K796+1,1)","v":6}]
[44843,62,32,{"$f":"AVERAGE(ChillTempAct[[#This Row],[ChillHigh]:[ChillLow]])","v":47},{"$f":"IF(ChillTempAct[[#This Row],[ChillAve]]<65,65-ChillTempAct[[#This Row],[ChillAve]],0)","v":18},{"$f":"INDEX(TempAdj[AdjustPct],MATCH(MONTH(ChillTempAct[[#This Row],[Date]]),TempAdj[Month],0))","v":0.1114},{"$f":"ChillTempAct[[#This Row],[ChillHDD]]*(1+ChillTempAct[[#This Row],[ChillAdj]])","v":20.005199999999999},{"$f":"SUMPRODUCT((RankNHDD[Month]=ChillTempAct[[#This Row],[Month]])*(RankNHDD[Rank]=ChillTempAct[[#This Row],[Rank]])*RankNHDD[KIRKNHDD])","v":19.630035842293911},{"$f":"YEAR(ChillTempAct[[#This Row],[Date]])","v":2022},{"$f":"MONTH(ChillTempAct[[#This Row],[Date]])","v":10},{"$f":"IF(ChillTempAct[[#This Row],[Month]]=J797,K797+1,1)","v":7}]
[44851,62,32,{"$f":"AVERAGE(ChillTempAct[[#This Row],[ChillHigh]:[ChillLow]])","v":47},{"$f":"IF(ChillTempAct[[#This Row],[ChillAve]]<65,65-ChillTempAct[[#This Row],[ChillAve]],0)","v":18},{"$f":"INDEX(TempAdj[AdjustPct],MATCH(MONTH(ChillTempAct[[#This Row],[Date]]),TempAdj[Month],0))","v":0.1114},{"$f":"ChillTempAct[[#This Row],[ChillHDD]]*(1+ChillTempAct[[#This Row],[ChillAdj]])","v":20.005199999999999},{"$f":"SUMPRODUCT((RankNHDD[Month]=ChillTempAct[[#This Row],[Month]])*(RankNHDD[Rank]=ChillTempAct[[#This Row],[Rank]])*RankNHDD[KIRKNHDD])","v":18.662240143369175},{"$f":"YEAR(ChillTempAct[[#This Row],[Date]])","v":2022},{"$f":"MONTH(ChillTempAct[[#This Row],[Date]])","v":10},{"$f":"IF(ChillTempAct[[#This Row],[Month]]=J798,K798+1,1)","v":8}]
[44850,66,30,{"$f":"AVERAGE(ChillTempAct[[#This Row],[ChillHigh]:[ChillLow]])","v":48},{"$f":"IF(ChillTempAct[[#This Row],[ChillAve]]<65,65-ChillTempAct[[#This Row],[ChillAve]],0)","v":17},{"$f":"INDEX(TempAdj[AdjustPct],MATCH(MONTH(ChillTempAct[[#This Row],[Date]]),TempAdj[Month],0))","v":0.1114},{"$f":"ChillTempAct[[#This Row],[ChillHDD]]*(1+ChillTempAct[[#This Row],[ChillAdj]])","v":18.893799999999999},{"$f":"SUMPRODUCT((RankNHDD[Month]=ChillTempAct[[#This Row],[Month]])*(RankNHDD[Rank]=ChillTempAct[[#This Row],[Rank]])*RankNHDD[KIRKNHDD])","v":17.582616487455198},{"$f":"YEAR(ChillTempAct[[#This Row],[Date]])","v":2022},{"$f":"MONTH(ChillTempAct[[#This Row],[Date]])","v":10},{"$f":"IF(ChillTempAct[[#This Row],[Month]]=J799,K799+1,1)","v":9}]
[44861,60,36,{"$f":"AVERAGE(ChillTempAct[[#This Row],[ChillHigh]:[ChillLow]])","v":48},{"$f":"IF(ChillTempAct[[#This Row],[ChillAve]]<65,65-ChillTempAct[[#This Row],[ChillAve]],0)","v":17},{"$f":"INDEX(TempAdj[AdjustPct],MATCH(MONTH(ChillTempAct[[#This Row],[Date]]),TempAdj[Month],0))","v":0.1114},{"$f":"ChillTempAct[[#This Row],[ChillHDD]]*(1+ChillTempAct[[#This Row],[ChillAdj]])","v":18.893799999999999},{"$f":"SUMPRODUCT((RankNHDD[Month]=ChillTempAct[[#This Row],[Month]])*(RankNHDD[Rank]=ChillTempAct[[#This Row],[Rank]])*RankNHDD[KIRKNHDD])","v":16.682347670250898},{"$f":"YEAR(ChillTempAct[[#This Row],[Date]])","v":2022},{"$f":"MONTH(ChillTempAct[[#This Row],[Date]])","v":10},{"$f":"IF(ChillTempAct[[#This Row],[Month]]=J800,K800+1,1)","v":10}]
[44863,65,33,{"$f":"AVERAGE(ChillTempAct[[#This Row],[ChillHigh]:[ChillLow]])","v":49},{"$f":"IF(ChillTempAct[[#This Row],[ChillAve]]<65,65-ChillTempAct[[#This Row],[ChillAve]],0)","v":16},{"$f":"INDEX(TempAdj[AdjustPct],MATCH(MONTH(ChillTempAct[[#This Row],[Date]]),TempAdj[Month],0))","v":0.1114},{"$f":"ChillTempAct[[#This Row],[ChillHDD]]*(1+ChillTempAct[[#This Row],[ChillAdj]])","v":17.782399999999999},{"$f":"SUMPRODUCT((RankNHDD[Month]=ChillTempAct[[#This Row],[Month]])*(RankNHDD[Rank]=ChillTempAct[[#This Row],[Rank]])*RankNHDD[KIRKNHDD])","v":15.821451612903227},{"$f":"YEAR(ChillTempAct[[#This Row],[Date]])","v":2022},{"$f":"MONTH(ChillTempAct[[#This Row],[Date]])","v":10},{"$f":"IF(ChillTempAct[[#This Row],[Month]]=J801,K801+1,1)","v":11}]
[44849,69,30,{"$f":"AVERAGE(ChillTempAct[[#This Row],[ChillHigh]:[ChillLow]])","v":49.5},{"$f":"IF(ChillTempAct[[#This Row],[ChillAve]]<65,65-ChillTempAct[[#This Row],[ChillAve]],0)","v":15.5},{"$f":"INDEX(TempAdj[AdjustPct],MATCH(MONTH(ChillTempAct[[#This Row],[Date]]),TempAdj[Month],0))","v":0.1114},{"$f":"ChillTempAct[[#This Row],[ChillHDD]]*(1+ChillTempAct[[#This Row],[ChillAdj]])","v":17.226699999999997},{"$f":"SUMPRODUCT((RankNHDD[Month]=ChillTempAct[[#This Row],[Month]])*(RankNHDD[Rank]=ChillTempAct[[#This Row],[Rank]])*RankNHDD[KIRKNHDD])","v":14.861003584229392},{"$f":"YEAR(ChillTempAct[[#This Row],[Date]])","v":2022},{"$f":"MONTH(ChillTempAct[[#This Row],[Date]])","v":10},{"$f":"IF(ChillTempAct[[#This Row],[Month]]=J802,K802+1,1)","v":12}]
[44862,62,37,{"$f":"AVERAGE(ChillTempAct[[#This Row],[ChillHigh]:[ChillLow]])","v":49.5},{"$f":"IF(ChillTempAct[[#This Row],[ChillAve]]<65,65-ChillTempAct[[#This Row],[ChillAve]],0)","v":15.5},{"$f":"INDEX(TempAdj[AdjustPct],MATCH(MONTH(ChillTempAct[[#This Row],[Date]]),TempAdj[Month],0))","v":0.1114},{"$f":"ChillTempAct[[#This Row],[ChillHDD]]*(1+ChillTempAct[[#This Row],[ChillAdj]])","v":17.226699999999997},{"$f":"SUMPRODUCT((RankNHDD[Month]=ChillTempAct[[#This Row],[Month]])*(RankNHDD[Rank]=ChillTempAct[[#This Row],[Rank]])*RankNHDD[KIRKNHDD])","v":13.884193548387097},{"$f":"YEAR(ChillTempAct[[#This Row],[Date]])","v":2022},{"$f":"MONTH(ChillTempAct[[#This Row],[Date]])","v":10},{"$f":"IF(ChillTempAct[[#This Row],[Month]]=J803,K803+1,1)","v":13}]
[44864,65,34,{"$f":"AVERAGE(ChillTempAct[[#This Row],[ChillHigh]:[ChillLow]])","v":49.5},{"$f":"IF(ChillTempAct[[#This Row],[ChillAve]]<65,65-ChillTempAct[[#This Row],[ChillAve]],0)","v":15.5},{"$f":"INDEX(TempAdj[AdjustPct],MATCH(MONTH(ChillTempAct[[#This Row],[Date]]),TempAdj[Month],0))","v":0.1114},{"$f":"ChillTempAct[[#This Row],[ChillHDD]]*(1+ChillTempAct[[#This Row],[ChillAdj]])","v":17.226699999999997},{"$f":"SUMPRODUCT((RankNHDD[Month]=ChillTempAct[[#This Row],[Month]])*(RankNHDD[Rank]=ChillTempAct[[#This Row],[Rank]])*RankNHDD[KIRKNHDD])","v":12.987240143369178},{"$f":"YEAR(ChillTempAct[[#This Row],[Date]])","v":2022},{"$f":"MONTH(ChillTempAct[[#This Row],[Date]])","v":10},{"$f":"IF(ChillTempAct[[#This Row],[Month]]=J804,K804+1,1)","v":14}]
[44855,75,32,{"$f":"AVERAGE(ChillTempAct[[#This Row],[ChillHigh]:[ChillLow]])","v":53.5},{"$f":"IF(ChillTempAct[[#This Row],[ChillAve]]<65,65-ChillTempAct[[#This Row],[ChillAve]],0)","v":11.5},{"$f":"INDEX(TempAdj[AdjustPct],MATCH(MONTH(ChillTempAct[[#This Row],[Date]]),TempAdj[Month],0))","v":0.1114},{"$f":"ChillTempAct[[#This Row],[ChillHDD]]*(1+ChillTempAct[[#This Row],[ChillAdj]])","v":12.781099999999999},{"$f":"SUMPRODUCT((RankNHDD[Month]=ChillTempAct[[#This Row],[Month]])*(RankNHDD[Rank]=ChillTempAct[[#This Row],[Rank]])*RankNHDD[KIRKNHDD])","v":12.091738351254483},{"$f":"YEAR(ChillTempAct[[#This Row],[Date]])","v":2022},{"$f":"MONTH(ChillTempAct[[#This Row],[Date]])","v":10},{"$f":"IF(ChillTempAct[[#This Row],[Month]]=J805,K805+1,1)","v":15}]
[44865,61,48,{"$f":"AVERAGE(ChillTempAct[[#This Row],[ChillHigh]:[ChillLow]])","v":54.5},{"$f":"IF(ChillTempAct[[#This Row],[ChillAve]]<65,65-ChillTempAct[[#This Row],[ChillAve]],0)","v":10.5},{"$f":"INDEX(TempAdj[AdjustPct],MATCH(MONTH(ChillTempAct[[#This Row],[Date]]),TempAdj[Month],0))","v":0.1114},{"$f":"ChillTempAct[[#This Row],[ChillHDD]]*(1+ChillTempAct[[#This Row],[ChillAdj]])","v":11.669699999999999},{"$f":"SUMPRODUCT((RankNHDD[Month]=ChillTempAct[[#This Row],[Month]])*(RankNHDD[Rank]=ChillTempAct[[#This Row],[Rank]])*RankNHDD[KIRKNHDD])","v":11.306774193548389},{"$f":"YEAR(ChillTempAct[[#This Row],[Date]])","v":2022},{"$f":"MONTH(ChillTempAct[[#This Row],[Date]])","v":10},{"$f":"IF(ChillTempAct[[#This Row],[Month]]=J806,K806+1,1)","v":16}]
[44835,73,40,{"$f":"AVERAGE(ChillTempAct[[#This Row],[ChillHigh]:[ChillLow]])","v":56.5},{"$f":"IF(ChillTempAct[[#This Row],[ChillAve]]<65,65-ChillTempAct[[#This Row],[ChillAve]],0)","v":8.5},{"$f":"INDEX(TempAdj[AdjustPct],MATCH(MONTH(ChillTempAct[[#This Row],[Date]]),TempAdj[Month],0))","v":0.1114},{"$f":"ChillTempAct[[#This Row],[ChillHDD]]*(1+ChillTempAct[[#This Row],[ChillAdj]])","v":9.4468999999999994},{"$f":"SUMPRODUCT((RankNHDD[Month]=ChillTempAct[[#This Row],[Month]])*(RankNHDD[Rank]=ChillTempAct[[#This Row],[Rank]])*RankNHDD[KIRKNHDD])","v":10.560179211469537},{"$f":"YEAR(ChillTempAct[[#This Row],[Date]])","v":2022},{"$f":"MONTH(ChillTempAct[[#This Row],[Date]])","v":10},{"$f":"IF(ChillTempAct[[#This Row],[Month]]=J807,K807+1,1)","v":17}]
[44859,70,44,{"$f":"AVERAGE(ChillTempAct[[#This Row],[ChillHigh]:[ChillLow]])","v":57},{"$f":"IF(ChillTempAct[[#This Row],[ChillAve]]<65,65-ChillTempAct[[#This Row],[ChillAve]],0)","v":8},{"$f":"INDEX(TempAdj[AdjustPct],MATCH(MONTH(ChillTempAct[[#This Row],[Date]]),TempAdj[Month],0))","v":0.1114},{"$f":"ChillTempAct[[#This Row],[ChillHDD]]*(1+ChillTempAct[[#This Row],[ChillAdj]])","v":8.8911999999999995},{"$f":"SUMPRODUCT((RankNHDD[Month]=ChillTempAct[[#This Row],[Month]])*(RankNHDD[Rank]=ChillTempAct[[#This Row],[Rank]])*RankNHDD[KIRKNHDD])","v":9.6870430107526921},{"$f":"YEAR(ChillTempAct[[#This Row],[Date]])","v":2022},{"$f":"MONTH(ChillTempAct[[#This Row],[Date]])","v":10},{"$f":"IF(ChillTempAct[[#This Row],[Month]]=J808,K808+1,1)","v":18}]
[44844,77,38,{"$f":"AVERAGE(ChillTempAct[[#This Row],[ChillHigh]:[ChillLow]])","v":57.5},{"$f":"IF(ChillTempAct[[#This Row],[ChillAve]]<65,65-ChillTempAct[[#This Row],[ChillAve]],0)","v":7.5},{"$f":"INDEX(TempAdj[AdjustPct],MATCH(MONTH(ChillTempAct[[#This Row],[Date]]),TempAdj[Month],0))","v":0.1114},{"$f":"ChillTempAct[[#This Row],[ChillHDD]]*(1+ChillTempAct[[#This Row],[ChillAdj]])","v":8.3354999999999997},{"$f":"SUMPRODUCT((RankNHDD[Month]=ChillTempAct[[#This Row],[Month]])*(RankNHDD[Rank]=ChillTempAct[[#This Row],[Rank]])*RankNHDD[KIRKNHDD])","v":8.9029928315412192},{"$f":"YEAR(ChillTempAct[[#This Row],[Date]])","v":2022},{"$f":"MONTH(ChillTempAct[[#This Row],[Date]])","v":10},{"$f":"IF(ChillTempAct[[#This Row],[Month]]=J809,K809+1,1)","v":19}]
[44847,72,43,{"$f":"AVERAGE(ChillTempAct[[#This Row],[ChillHigh]:[ChillLow]])","v":57.5},{"$f":"IF(ChillTempAct[[#This Row],[ChillAve]]<65,65-ChillTempAct[[#This Row],[ChillAve]],0)","v":7.5},{"$f":"INDEX(TempAdj[AdjustPct],MATCH(MONTH(ChillTempAct[[#This Row],[Date]]),TempAdj[Month],0))","v":0.1114},{"$f":"ChillTempAct[[#This Row],[ChillHDD]]*(1+ChillTempAct[[#This Row],[ChillAdj]])","v":8.3354999999999997},{"$f":"SUMPRODUCT((RankNHDD[Month]=ChillTempAct[[#This Row],[Month]])*(RankNHDD[Rank]=ChillTempAct[[#This Row],[Rank]])*RankNHDD[KIRKNHDD])","v":8.1101612903225835},{"$f":"YEAR(ChillTempAct[[#This Row],[Date]])","v":2022},{"$f":"MONTH(ChillTempAct[[#This Row],[Date]])","v":10},{"$f":"IF(ChillTempAct[[#This Row],[Month]]=J810,K810+1,1)","v":20}]
[44836,76,44,{"$f":"AVERAGE(ChillTempAct[[#This Row],[ChillHigh]:[ChillLow]])","v":60},{"$f":"IF(ChillTempAct[[#This Row],[ChillAve]]<65,65-ChillTempAct[[#This Row],[ChillAve]],0)","v":5},{"$f":"INDEX(TempAdj[AdjustPct],MATCH(MONTH(ChillTempAct[[#This Row],[Date]]),TempAdj[Month],0))","v":0.1114},{"$f":"ChillTempAct[[#This Row],[ChillHDD]]*(1+ChillTempAct[[#This Row],[ChillAdj]])","v":5.5569999999999995},{"$f":"SUMPRODUCT((RankNHDD[Month]=ChillTempAct[[#This Row],[Month]])*(RankNHDD[Rank]=ChillTempAct[[#This Row],[Rank]])*RankNHDD[KIRKNHDD])","v":7.2248387096774218},{"$f":"YEAR(ChillTempAct[[#This Row],[Date]])","v":2022},{"$f":"MONTH(ChillTempAct[[#This Row],[Date]])","v":10},{"$f":"IF(ChillTempAct[[#This Row],[Month]]=J811,K811+1,1)","v":21}]
[44837,77,45,{"$f":"AVERAGE(ChillTempAct[[#This Row],[ChillHigh]:[ChillLow]])","v":61},{"$f":"IF(ChillTempAct[[#This Row],[ChillAve]]<65,65-ChillTempAct[[#This Row],[ChillAve]],0)","v":4},{"$f":"INDEX(TempAdj[AdjustPct],MATCH(MONTH(ChillTempAct[[#This Row],[Date]]),TempAdj[Month],0))","v":0.1114},{"$f":"ChillTempAct[[#This Row],[ChillHDD]]*(1+ChillTempAct[[#This Row],[ChillAdj]])","v":4.4455999999999998},{"$f":"SUMPRODUCT((RankNHDD[Month]=ChillTempAct[[#This Row],[Month]])*(RankNHDD[Rank]=ChillTempAct[[#This Row],[Rank]])*RankNHDD[KIRKNHDD])","v":6.0353942652329762},{"$f":"YEAR(ChillTempAct[[#This Row],[Date]])","v":2022},{"$f":"MONTH(ChillTempAct[[#This Row],[Date]])","v":10},{"$f":"IF(ChillTempAct[[#This Row],[Month]]=J812,K812+1,1)","v":22}]
[44845,81,42,{"$f":"AVERAGE(ChillTempAct[[#This Row],[ChillHigh]:[ChillLow]])","v":61.5},{"$f":"IF(ChillTempAct[[#This Row],[ChillAve]]<65,65-ChillTempAct[[#This Row],[ChillAve]],0)","v":3.5},{"$f":"INDEX(TempAdj[AdjustPct],MATCH(MONTH(ChillTempAct[[#This Row],[Date]]),TempAdj[Month],0))","v":0.1114},{"$f":"ChillTempAct[[#This Row],[ChillHDD]]*(1+ChillTempAct[[#This Row],[ChillAdj]])","v":3.8898999999999999},{"$f":"SUMPRODUCT((RankNHDD[Month]=ChillTempAct[[#This Row],[Month]])*(RankNHDD[Rank]=ChillTempAct[[#This Row],[Rank]])*RankNHDD[KIRKNHDD])","v":5.0546057347670255},{"$f":"YEAR(ChillTempAct[[#This Row],[Date]])","v":2022},{"$f":"MONTH(ChillTempAct[[#This Row],[Date]])","v":10},{"$f":"IF(ChillTempAct[[#This Row],[Month]]=J813,K813+1,1)","v":23}]
[44838,78,46,{"$f":"AVERAGE(ChillTempAct[[#This Row],[ChillHigh]:[ChillLow]])","v":62},{"$f":"IF(ChillTempAct[[#This Row],[ChillAve]]<65,65-ChillTempAct[[#This Row],[ChillAve]],0)","v":3},{"$f":"INDEX(TempAdj[AdjustPct],MATCH(MONTH(ChillTempAct[[#This Row],[Date]]),TempAdj[Month],0))","v":0.1114},{"$f":"ChillTempAct[[#This Row],[ChillHDD]]*(1+ChillTempAct[[#This Row],[ChillAdj]])","v":3.3342000000000001},{"$f":"SUMPRODUCT((RankNHDD[Month]=ChillTempAct[[#This Row],[Month]])*(RankNHDD[Rank]=ChillTempAct[[#This Row],[Rank]])*RankNHDD[KIRKNHDD])","v":3.9418817204301084},{"$f":"YEAR(ChillTempAct[[#This Row],[Date]])","v":2022},{"$f":"MONTH(ChillTempAct[[#This Row],[Date]])","v":10},{"$f":"IF(ChillTempAct[[#This Row],[Month]]=J814,K814+1,1)","v":24}]
[44839,78,46,{"$f":"AVERAGE(ChillTempAct[[#This Row],[ChillHigh]:[ChillLow]])","v":62},{"$f":"IF(ChillTempAct[[#This Row],[ChillAve]]<65,65-ChillTempAct[[#This Row],[ChillAve]],0)","v":3},{"$f":"INDEX(TempAdj[AdjustPct],MATCH(MONTH(ChillTempAct[[#This Row],[Date]]),TempAdj[Month],0))","v":0.1114},{"$f":"ChillTempAct[[#This Row],[ChillHDD]]*(1+ChillTempAct[[#This Row],[ChillAdj]])","v":3.3342000000000001},{"$f":"SUMPRODUCT((RankNHDD[Month]=ChillTempAct[[#This Row],[Month]])*(RankNHDD[Rank]=ChillTempAct[[#This Row],[Rank]])*RankNHDD[KIRKNHDD])","v":2.9795519713261664},{"$f":"YEAR(ChillTempAct[[#This Row],[Date]])","v":2022},{"$f":"MONTH(ChillTempAct[[#This Row],[Date]])","v":10},{"$f":"IF(ChillTempAct[[#This Row],[Month]]=J815,K815+1,1)","v":25}]
[44841,80,45,{"$f":"AVERAGE(ChillTempAct[[#This Row],[ChillHigh]:[ChillLow]])","v":62.5},{"$f":"IF(ChillTempAct[[#This Row],[ChillAve]]<65,65-ChillTempAct[[#This Row],[ChillAve]],0)","v":2.5},{"$f":"INDEX(TempAdj[AdjustPct],MATCH(MONTH(ChillTempAct[[#This Row],[Date]]),TempAdj[Month],0))","v":0.1114},{"$f":"ChillTempAct[[#This Row],[ChillHDD]]*(1+ChillTempAct[[#This Row],[ChillAdj]])","v":2.7784999999999997},{"$f":"SUMPRODUCT((RankNHDD[Month]=ChillTempAct[[#This Row],[Month]])*(RankNHDD[Rank]=ChillTempAct[[#This Row],[Rank]])*RankNHDD[KIRKNHDD])","v":1.7708960573476709},{"$f":"YEAR(ChillTempAct[[#This Row],[Date]])","v":2022},{"$f":"MONTH(ChillTempAct[[#This Row],[Date]])","v":10},{"$f":"IF(ChillTempAct[[#This Row],[Month]]=J816,K816+1,1)","v":26}]
[44840,78,49,{"$f":"AVERAGE(ChillTempAct[[#This Row],[ChillHigh]:[ChillLow]])","v":63.5},{"$f":"IF(ChillTempAct[[#This Row],[ChillAve]]<65,65-ChillTempAct[[#This Row],[ChillAve]],0)","v":1.5},{"$f":"INDEX(TempAdj[AdjustPct],MATCH(MONTH(ChillTempAct[[#This Row],[Date]]),TempAdj[Month],0))","v":0.1114},{"$f":"ChillTempAct[[#This Row],[ChillHDD]]*(1+ChillTempAct[[#This Row],[ChillAdj]])","v":1.6671},{"$f":"SUMPRODUCT((RankNHDD[Month]=ChillTempAct[[#This Row],[Month]])*(RankNHDD[Rank]=ChillTempAct[[#This Row],[Rank]])*RankNHDD[KIRKNHDD])","v":0.6302688172043015},{"$f":"YEAR(ChillTempAct[[#This Row],[Date]])","v":2022},{"$f":"MONTH(ChillTempAct[[#This Row],[Date]])","v":10},{"$f":"IF(ChillTempAct[[#This Row],[Month]]=J817,K817+1,1)","v":27}]
[44856,85,44,{"$f":"AVERAGE(ChillTempAct[[#This Row],[ChillHigh]:[ChillLow]])","v":64.5},{"$f":"IF(ChillTempAct[[#This Row],[ChillAve]]<65,65-ChillTempAct[[#This Row],[ChillAve]],0)","v":0.5},{"$f":"INDEX(TempAdj[AdjustPct],MATCH(MONTH(ChillTempAct[[#This Row],[Date]]),TempAdj[Month],0))","v":0.1114},{"$f":"ChillTempAct[[#This Row],[ChillHDD]]*(1+ChillTempAct[[#This Row],[ChillAdj]])","v":0.55569999999999997},{"$f":"SUMPRODUCT((RankNHDD[Month]=ChillTempAct[[#This Row],[Month]])*(RankNHDD[Rank]=ChillTempAct[[#This Row],[Rank]])*RankNHDD[KIRKNHDD])","v":0},{"$f":"YEAR(ChillTempAct[[#This Row],[Date]])","v":2022},{"$f":"MONTH(ChillTempAct[[#This Row],[Date]])","v":10},{"$f":"IF(ChillTempAct[[#This Row],[Month]]=J818,K818+1,1)","v":28}]
[44857,85,51,{"$f":"AVERAGE(ChillTempAct[[#This Row],[ChillHigh]:[ChillLow]])","v":68},{"$f":"IF(ChillTempAct[[#This Row],[ChillAve]]<65,65-ChillTempAct[[#This Row],[ChillAve]],0)","v":0},{"$f":"INDEX(TempAdj[AdjustPct],MATCH(MONTH(ChillTempAct[[#This Row],[Date]]),TempAdj[Month],0))","v":0.1114},{"$f":"ChillTempAct[[#This Row],[ChillHDD]]*(1+ChillTempAct[[#This Row],[ChillAdj]])","v":0},{"$f":"SUMPRODUCT((RankNHDD[Month]=ChillTempAct[[#This Row],[Month]])*(RankNHDD[Rank]=ChillTempAct[[#This Row],[Rank]])*RankNHDD[KIRKNHDD])","v":0},{"$f":"YEAR(ChillTempAct[[#This Row],[Date]])","v":2022},{"$f":"MONTH(ChillTempAct[[#This Row],[Date]])","v":10},{"$f":"IF(ChillTempAct[[#This Row],[Month]]=J819,K819+1,1)","v":29}]
[44846,79,58,{"$f":"AVERAGE(ChillTempAct[[#This Row],[ChillHigh]:[ChillLow]])","v":68.5},{"$f":"IF(ChillTempAct[[#This Row],[ChillAve]]<65,65-ChillTempAct[[#This Row],[ChillAve]],0)","v":0},{"$f":"INDEX(TempAdj[AdjustPct],MATCH(MONTH(ChillTempAct[[#This Row],[Date]]),TempAdj[Month],0))","v":0.1114},{"$f":"ChillTempAct[[#This Row],[ChillHDD]]*(1+ChillTempAct[[#This Row],[ChillAdj]])","v":0},{"$f":"SUMPRODUCT((RankNHDD[Month]=ChillTempAct[[#This Row],[Month]])*(RankNHDD[Rank]=ChillTempAct[[#This Row],[Rank]])*RankNHDD[KIRKNHDD])","v":0},{"$f":"YEAR(ChillTempAct[[#This Row],[Date]])","v":2022},{"$f":"MONTH(ChillTempAct[[#This Row],[Date]])","v":10},{"$f":"IF(ChillTempAct[[#This Row],[Month]]=J820,K820+1,1)","v":30}]
[44858,86,61,{"$f":"AVERAGE(ChillTempAct[[#This Row],[ChillHigh]:[ChillLow]])","v":73.5},{"$f":"IF(ChillTempAct[[#This Row],[ChillAve]]<65,65-ChillTempAct[[#This Row],[ChillAve]],0)","v":0},{"$f":"INDEX(TempAdj[AdjustPct],MATCH(MONTH(ChillTempAct[[#This Row],[Date]]),TempAdj[Month],0))","v":0.1114},{"$f":"ChillTempAct[[#This Row],[ChillHDD]]*(1+ChillTempAct[[#This Row],[ChillAdj]])","v":0},{"$f":"SUMPRODUCT((RankNHDD[Month]=ChillTempAct[[#This Row],[Month]])*(RankNHDD[Rank]=ChillTempAct[[#This Row],[Rank]])*RankNHDD[KIRKNHDD])","v":0},{"$f":"YEAR(ChillTempAct[[#This Row],[Date]])","v":2022},{"$f":"MONTH(ChillTempAct[[#This Row],[Date]])","v":10},{"$f":"IF(ChillTempAct[[#This Row],[Month]]=J821,K821+1,1)","v":31}]
[44884,25,15,{"$f":"AVERAGE(ChillTempAct[[#This Row],[ChillHigh]:[ChillLow]])","v":20},{"$f":"IF(ChillTempAct[[#This Row],[ChillAve]]<65,65-ChillTempAct[[#This Row],[ChillAve]],0)","v":45},{"$f":"INDEX(TempAdj[AdjustPct],MATCH(MONTH(ChillTempAct[[#This Row],[Date]]),TempAdj[Month],0))","v":4.2599999999999999E-2},{"$f":"ChillTempAct[[#This Row],[ChillHDD]]*(1+ChillTempAct[[#This Row],[ChillAdj]])","v":46.917000000000002},{"$f":"SUMPRODUCT((RankNHDD[Month]=ChillTempAct[[#This Row],[Month]])*(RankNHDD[Rank]=ChillTempAct[[#This Row],[Rank]])*RankNHDD[KIRKNHDD])","v":47.151666666666671},{"$f":"YEAR(ChillTempAct[[#This Row],[Date]])","v":2022},{"$f":"MONTH(ChillTempAct[[#This Row],[Date]])","v":11},{"$f":"IF(ChillTempAct[[#This Row],[Month]]=J822,K822+1,1)","v":1}]
[44882,26,17,{"$f":"AVERAGE(ChillTempAct[[#This Row],[ChillHigh]:[ChillLow]])","v":21.5},{"$f":"IF(ChillTempAct[[#This Row],[ChillAve]]<65,65-ChillTempAct[[#This Row],[ChillAve]],0)","v":43.5},{"$f":"INDEX(TempAdj[AdjustPct],MATCH(MONTH(ChillTempAct[[#This Row],[Date]]),TempAdj[Month],0))","v":4.2599999999999999E-2},{"$f":"ChillTempAct[[#This Row],[ChillHDD]]*(1+ChillTempAct[[#This Row],[ChillAdj]])","v":45.353099999999998},{"$f":"SUMPRODUCT((RankNHDD[Month]=ChillTempAct[[#This Row],[Month]])*(RankNHDD[Rank]=ChillTempAct[[#This Row],[Rank]])*RankNHDD[KIRKNHDD])","v":41.107222222222205},{"$f":"YEAR(ChillTempAct[[#This Row],[Date]])","v":2022},{"$f":"MONTH(ChillTempAct[[#This Row],[Date]])","v":11},{"$f":"IF(ChillTempAct[[#This Row],[Month]]=J823,K823+1,1)","v":2}]
[44878,29,17,{"$f":"AVERAGE(ChillTempAct[[#This Row],[ChillHigh]:[ChillLow]])","v":23},{"$f":"IF(ChillTempAct[[#This Row],[ChillAve]]<65,65-ChillTempAct[[#This Row],[ChillAve]],0)","v":42},{"$f":"INDEX(TempAdj[AdjustPct],MATCH(MONTH(ChillTempAct[[#This Row],[Date]]),TempAdj[Month],0))","v":4.2599999999999999E-2},{"$f":"ChillTempAct[[#This Row],[ChillHDD]]*(1+ChillTempAct[[#This Row],[ChillAdj]])","v":43.789200000000001},{"$f":"SUMPRODUCT((RankNHDD[Month]=ChillTempAct[[#This Row],[Month]])*(RankNHDD[Rank]=ChillTempAct[[#This Row],[Rank]])*RankNHDD[KIRKNHDD])","v":38.468148148148153},{"$f":"YEAR(ChillTempAct[[#This Row],[Date]])","v":2022},{"$f":"MONTH(ChillTempAct[[#This Row],[Date]])","v":11},{"$f":"IF(ChillTempAct[[#This Row],[Month]]=J824,K824+1,1)","v":3}]
[44885,32,15,{"$f":"AVERAGE(ChillTempAct[[#This Row],[ChillHigh]:[ChillLow]])","v":23.5},{"$f":"IF(ChillTempAct[[#This Row],[ChillAve]]<65,65-ChillTempAct[[#This Row],[ChillAve]],0)","v":41.5},{"$f":"INDEX(TempAdj[AdjustPct],MATCH(MONTH(ChillTempAct[[#This Row],[Date]]),TempAdj[Month],0))","v":4.2599999999999999E-2},{"$f":"ChillTempAct[[#This Row],[ChillHDD]]*(1+ChillTempAct[[#This Row],[ChillAdj]])","v":43.267899999999997},{"$f":"SUMPRODUCT((RankNHDD[Month]=ChillTempAct[[#This Row],[Month]])*(RankNHDD[Rank]=ChillTempAct[[#This Row],[Rank]])*RankNHDD[KIRKNHDD])","v":36.311296296296284},{"$f":"YEAR(ChillTempAct[[#This Row],[Date]])","v":2022},{"$f":"MONTH(ChillTempAct[[#This Row],[Date]])","v":11},{"$f":"IF(ChillTempAct[[#This Row],[Month]]=J825,K825+1,1)","v":4}]
[44883,37,15,{"$f":"AVERAGE(ChillTempAct[[#This Row],[ChillHigh]:[ChillLow]])","v":26},{"$f":"IF(ChillTempAct[[#This Row],[ChillAve]]<65,65-ChillTempAct[[#This Row],[ChillAve]],0)","v":39},{"$f":"INDEX(TempAdj[AdjustPct],MATCH(MONTH(ChillTempAct[[#This Row],[Date]]),TempAdj[Month],0))","v":4.2599999999999999E-2},{"$f":"ChillTempAct[[#This Row],[ChillHDD]]*(1+ChillTempAct[[#This Row],[ChillAdj]])","v":40.6614},{"$f":"SUMPRODUCT((RankNHDD[Month]=ChillTempAct[[#This Row],[Month]])*(RankNHDD[Rank]=ChillTempAct[[#This Row],[Rank]])*RankNHDD[KIRKNHDD])","v":34.695555555555543},{"$f":"YEAR(ChillTempAct[[#This Row],[Date]])","v":2022},{"$f":"MONTH(ChillTempAct[[#This Row],[Date]])","v":11},{"$f":"IF(ChillTempAct[[#This Row],[Month]]=J826,K826+1,1)","v":5}]
[44879,37,17,{"$f":"AVERAGE(ChillTempAct[[#This Row],[ChillHigh]:[ChillLow]])","v":27},{"$f":"IF(ChillTempAct[[#This Row],[ChillAve]]<65,65-ChillTempAct[[#This Row],[ChillAve]],0)","v":38},{"$f":"INDEX(TempAdj[AdjustPct],MATCH(MONTH(ChillTempAct[[#This Row],[Date]]),TempAdj[Month],0))","v":4.2599999999999999E-2},{"$f":"ChillTempAct[[#This Row],[ChillHDD]]*(1+ChillTempAct[[#This Row],[ChillAdj]])","v":39.6188},{"$f":"SUMPRODUCT((RankNHDD[Month]=ChillTempAct[[#This Row],[Month]])*(RankNHDD[Rank]=ChillTempAct[[#This Row],[Rank]])*RankNHDD[KIRKNHDD])","v":33.244814814814809},{"$f":"YEAR(ChillTempAct[[#This Row],[Date]])","v":2022},{"$f":"MONTH(ChillTempAct[[#This Row],[Date]])","v":11},{"$f":"IF(ChillTempAct[[#This Row],[Month]]=J827,K827+1,1)","v":6}]
[44881,32,22,{"$f":"AVERAGE(ChillTempAct[[#This Row],[ChillHigh]:[ChillLow]])","v":27},{"$f":"IF(ChillTempAct[[#This Row],[ChillAve]]<65,65-ChillTempAct[[#This Row],[ChillAve]],0)","v":38},{"$f":"INDEX(TempAdj[AdjustPct],MATCH(MONTH(ChillTempAct[[#This Row],[Date]]),TempAdj[Month],0))","v":4.2599999999999999E-2},{"$f":"ChillTempAct[[#This Row],[ChillHDD]]*(1+ChillTempAct[[#This Row],[ChillAdj]])","v":39.6188},{"$f":"SUMPRODUCT((RankNHDD[Month]=ChillTempAct[[#This Row],[Month]])*(RankNHDD[Rank]=ChillTempAct[[#This Row],[Rank]])*RankNHDD[KIRKNHDD])","v":31.984259259259254},{"$f":"YEAR(ChillTempAct[[#This Row],[Date]])","v":2022},{"$f":"MONTH(ChillTempAct[[#This Row],[Date]])","v":11},{"$f":"IF(ChillTempAct[[#This Row],[Month]]=J828,K828+1,1)","v":7}]
[44886,45,20,{"$f":"AVERAGE(ChillTempAct[[#This Row],[ChillHigh]:[ChillLow]])","v":32.5},{"$f":"IF(ChillTempAct[[#This Row],[ChillAve]]<65,65-ChillTempAct[[#This Row],[ChillAve]],0)","v":32.5},{"$f":"INDEX(TempAdj[AdjustPct],MATCH(MONTH(ChillTempAct[[#This Row],[Date]]),TempAdj[Month],0))","v":4.2599999999999999E-2},{"$f":"ChillTempAct[[#This Row],[ChillHDD]]*(1+ChillTempAct[[#This Row],[ChillAdj]])","v":33.884499999999996},{"$f":"SUMPRODUCT((RankNHDD[Month]=ChillTempAct[[#This Row],[Month]])*(RankNHDD[Rank]=ChillTempAct[[#This Row],[Rank]])*RankNHDD[KIRKNHDD])","v":30.960740740740736},{"$f":"YEAR(ChillTempAct[[#This Row],[Date]])","v":2022},{"$f":"MONTH(ChillTempAct[[#This Row],[Date]])","v":11},{"$f":"IF(ChillTempAct[[#This Row],[Month]]=J829,K829+1,1)","v":8}]
[44880,39,28,{"$f":"AVERAGE(ChillTempAct[[#This Row],[ChillHigh]:[ChillLow]])","v":33.5},{"$f":"IF(ChillTempAct[[#This Row],[ChillAve]]<65,65-ChillTempAct[[#This Row],[ChillAve]],0)","v":31.5},{"$f":"INDEX(TempAdj[AdjustPct],MATCH(MONTH(ChillTempAct[[#This Row],[Date]]),TempAdj[Month],0))","v":4.2599999999999999E-2},{"$f":"ChillTempAct[[#This Row],[ChillHDD]]*(1+ChillTempAct[[#This Row],[ChillAdj]])","v":32.841900000000003},{"$f":"SUMPRODUCT((RankNHDD[Month]=ChillTempAct[[#This Row],[Month]])*(RankNHDD[Rank]=ChillTempAct[[#This Row],[Rank]])*RankNHDD[KIRKNHDD])","v":29.911111111111111},{"$f":"YEAR(ChillTempAct[[#This Row],[Date]])","v":2022},{"$f":"MONTH(ChillTempAct[[#This Row],[Date]])","v":11},{"$f":"IF(ChillTempAct[[#This Row],[Month]]=J830,K830+1,1)","v":9}]
[44892,51,25,{"$f":"AVERAGE(ChillTempAct[[#This Row],[ChillHigh]:[ChillLow]])","v":38},{"$f":"IF(ChillTempAct[[#This Row],[ChillAve]]<65,65-ChillTempAct[[#This Row],[ChillAve]],0)","v":27},{"$f":"INDEX(TempAdj[AdjustPct],MATCH(MONTH(ChillTempAct[[#This Row],[Date]]),TempAdj[Month],0))","v":4.2599999999999999E-2},{"$f":"ChillTempAct[[#This Row],[ChillHDD]]*(1+ChillTempAct[[#This Row],[ChillAdj]])","v":28.150199999999998},{"$f":"SUMPRODUCT((RankNHDD[Month]=ChillTempAct[[#This Row],[Month]])*(RankNHDD[Rank]=ChillTempAct[[#This Row],[Rank]])*RankNHDD[KIRKNHDD])","v":28.929259259259258},{"$f":"YEAR(ChillTempAct[[#This Row],[Date]])","v":2022},{"$f":"MONTH(ChillTempAct[[#This Row],[Date]])","v":11},{"$f":"IF(ChillTempAct[[#This Row],[Month]]=J831,K831+1,1)","v":10}]
[44893,51,25,{"$f":"AVERAGE(ChillTempAct[[#This Row],[ChillHigh]:[ChillLow]])","v":38},{"$f":"IF(ChillTempAct[[#This Row],[ChillAve]]<65,65-ChillTempAct[[#This Row],[ChillAve]],0)","v":27},{"$f":"INDEX(TempAdj[AdjustPct],MATCH(MONTH(ChillTempAct[[#This Row],[Date]]),TempAdj[Month],0))","v":4.2599999999999999E-2},{"$f":"ChillTempAct[[#This Row],[ChillHDD]]*(1+ChillTempAct[[#This Row],[ChillAdj]])","v":28.150199999999998},{"$f":"SUMPRODUCT((RankNHDD[Month]=ChillTempAct[[#This Row],[Month]])*(RankNHDD[Rank]=ChillTempAct[[#This Row],[Rank]])*RankNHDD[KIRKNHDD])","v":27.719629629629626},{"$f":"YEAR(ChillTempAct[[#This Row],[Date]])","v":2022},{"$f":"MONTH(ChillTempAct[[#This Row],[Date]])","v":11},{"$f":"IF(ChillTempAct[[#This Row],[Month]]=J832,K832+1,1)","v":11}]
[44887,55,22,{"$f":"AVERAGE(ChillTempAct[[#This Row],[ChillHigh]:[ChillLow]])","v":38.5},{"$f":"IF(ChillTempAct[[#This Row],[ChillAve]]<65,65-ChillTempAct[[#This Row],[ChillAve]],0)","v":26.5},{"$f":"INDEX(TempAdj[AdjustPct],MATCH(MONTH(ChillTempAct[[#This Row],[Date]]),TempAdj[Month],0))","v":4.2599999999999999E-2},{"$f":"ChillTempAct[[#This Row],[ChillHDD]]*(1+ChillTempAct[[#This Row],[ChillAdj]])","v":27.628899999999998},{"$f":"SUMPRODUCT((RankNHDD[Month]=ChillTempAct[[#This Row],[Month]])*(RankNHDD[Rank]=ChillTempAct[[#This Row],[Rank]])*RankNHDD[KIRKNHDD])","v":26.551111111111105},{"$f":"YEAR(ChillTempAct[[#This Row],[Date]])","v":2022},{"$f":"MONTH(ChillTempAct[[#This Row],[Date]])","v":11},{"$f":"IF(ChillTempAct[[#This Row],[Month]]=J833,K833+1,1)","v":12}]
[44894,53,25,{"$f":"AVERAGE(ChillTempAct[[#This Row],[ChillHigh]:[ChillLow]])","v":39},{"$f":"IF(ChillTempAct[[#This Row],[ChillAve]]<65,65-ChillTempAct[[#This Row],[ChillAve]],0)","v":26},{"$f":"INDEX(TempAdj[AdjustPct],MATCH(MONTH(ChillTempAct[[#This Row],[Date]]),TempAdj[Month],0))","v":4.2599999999999999E-2},{"$f":"ChillTempAct[[#This Row],[ChillHDD]]*(1+ChillTempAct[[#This Row],[ChillAdj]])","v":27.107599999999998},{"$f":"SUMPRODUCT((RankNHDD[Month]=ChillTempAct[[#This Row],[Month]])*(RankNHDD[Rank]=ChillTempAct[[#This Row],[Rank]])*RankNHDD[KIRKNHDD])","v":25.420370370370367},{"$f":"YEAR(ChillTempAct[[#This Row],[Date]])","v":2022},{"$f":"MONTH(ChillTempAct[[#This Row],[Date]])","v":11},{"$f":"IF(ChillTempAct[[#This Row],[Month]]=J834,K834+1,1)","v":13}]
[44888,59,22,{"$f":"AVERAGE(ChillTempAct[[#This Row],[ChillHigh]:[ChillLow]])","v":40.5},{"$f":"IF(ChillTempAct[[#This Row],[ChillAve]]<65,65-ChillTempAct[[#This Row],[ChillAve]],0)","v":24.5},{"$f":"INDEX(TempAdj[AdjustPct],MATCH(MONTH(ChillTempAct[[#This Row],[Date]]),TempAdj[Month],0))","v":4.2599999999999999E-2},{"$f":"ChillTempAct[[#This Row],[ChillHDD]]*(1+ChillTempAct[[#This Row],[ChillAdj]])","v":25.543699999999998},{"$f":"SUMPRODUCT((RankNHDD[Month]=ChillTempAct[[#This Row],[Month]])*(RankNHDD[Rank]=ChillTempAct[[#This Row],[Rank]])*RankNHDD[KIRKNHDD])","v":24.463518518518519},{"$f":"YEAR(ChillTempAct[[#This Row],[Date]])","v":2022},{"$f":"MONTH(ChillTempAct[[#This Row],[Date]])","v":11},{"$f":"IF(ChillTempAct[[#This Row],[Month]]=J835,K835+1,1)","v":14}]
[44895,61,20,{"$f":"AVERAGE(ChillTempAct[[#This Row],[ChillHigh]:[ChillLow]])","v":40.5},{"$f":"IF(ChillTempAct[[#This Row],[ChillAve]]<65,65-ChillTempAct[[#This Row],[ChillAve]],0)","v":24.5},{"$f":"INDEX(TempAdj[AdjustPct],MATCH(MONTH(ChillTempAct[[#This Row],[Date]]),TempAdj[Month],0))","v":4.2599999999999999E-2},{"$f":"ChillTempAct[[#This Row],[ChillHDD]]*(1+ChillTempAct[[#This Row],[ChillAdj]])","v":25.543699999999998},{"$f":"SUMPRODUCT((RankNHDD[Month]=ChillTempAct[[#This Row],[Month]])*(RankNHDD[Rank]=ChillTempAct[[#This Row],[Rank]])*RankNHDD[KIRKNHDD])","v":23.609259259259261},{"$f":"YEAR(ChillTempAct[[#This Row],[Date]])","v":2022},{"$f":"MONTH(ChillTempAct[[#This Row],[Date]])","v":11},{"$f":"IF(ChillTempAct[[#This Row],[Month]]=J836,K836+1,1)","v":15}]
[44891,58,24,{"$f":"AVERAGE(ChillTempAct[[#This Row],[ChillHigh]:[ChillLow]])","v":41},{"$f":"IF(ChillTempAct[[#This Row],[ChillAve]]<65,65-ChillTempAct[[#This Row],[ChillAve]],0)","v":24},{"$f":"INDEX(TempAdj[AdjustPct],MATCH(MONTH(ChillTempAct[[#This Row],[Date]]),TempAdj[Month],0))","v":4.2599999999999999E-2},{"$f":"ChillTempAct[[#This Row],[ChillHDD]]*(1+ChillTempAct[[#This Row],[ChillAdj]])","v":25.022399999999998},{"$f":"SUMPRODUCT((RankNHDD[Month]=ChillTempAct[[#This Row],[Month]])*(RankNHDD[Rank]=ChillTempAct[[#This Row],[Rank]])*RankNHDD[KIRKNHDD])","v":22.759814814814813},{"$f":"YEAR(ChillTempAct[[#This Row],[Date]])","v":2022},{"$f":"MONTH(ChillTempAct[[#This Row],[Date]])","v":11},{"$f":"IF(ChillTempAct[[#This Row],[Month]]=J837,K837+1,1)","v":16}]
[44890,58,26,{"$f":"AVERAGE(ChillTempAct[[#This Row],[ChillHigh]:[ChillLow]])","v":42},{"$f":"IF(ChillTempAct[[#This Row],[ChillAve]]<65,65-ChillTempAct[[#This Row],[ChillAve]],0)","v":23},{"$f":"INDEX(TempAdj[AdjustPct],MATCH(MONTH(ChillTempAct[[#This Row],[Date]]),TempAdj[Month],0))","v":4.2599999999999999E-2},{"$f":"ChillTempAct[[#This Row],[ChillHDD]]*(1+ChillTempAct[[#This Row],[ChillAdj]])","v":23.979800000000001},{"$f":"SUMPRODUCT((RankNHDD[Month]=ChillTempAct[[#This Row],[Month]])*(RankNHDD[Rank]=ChillTempAct[[#This Row],[Rank]])*RankNHDD[KIRKNHDD])","v":22.064259259259259},{"$f":"YEAR(ChillTempAct[[#This Row],[Date]])","v":2022},{"$f":"MONTH(ChillTempAct[[#This Row],[Date]])","v":11},{"$f":"IF(ChillTempAct[[#This Row],[Month]]=J838,K838+1,1)","v":17}]
[44889,56,31,{"$f":"AVERAGE(ChillTempAct[[#This Row],[ChillHigh]:[ChillLow]])","v":43.5},{"$f":"IF(ChillTempAct[[#This Row],[ChillAve]]<65,65-ChillTempAct[[#This Row],[ChillAve]],0)","v":21.5},{"$f":"INDEX(TempAdj[AdjustPct],MATCH(MONTH(ChillTempAct[[#This Row],[Date]]),TempAdj[Month],0))","v":4.2599999999999999E-2},{"$f":"ChillTempAct[[#This Row],[ChillHDD]]*(1+ChillTempAct[[#This Row],[ChillAdj]])","v":22.415900000000001},{"$f":"SUMPRODUCT((RankNHDD[Month]=ChillTempAct[[#This Row],[Month]])*(RankNHDD[Rank]=ChillTempAct[[#This Row],[Rank]])*RankNHDD[KIRKNHDD])","v":21.27277777777778},{"$f":"YEAR(ChillTempAct[[#This Row],[Date]])","v":2022},{"$f":"MONTH(ChillTempAct[[#This Row],[Date]])","v":11},{"$f":"IF(ChillTempAct[[#This Row],[Month]]=J839,K839+1,1)","v":18}]
[44871,53,37,{"$f":"AVERAGE(ChillTempAct[[#This Row],[ChillHigh]:[ChillLow]])","v":45},{"$f":"IF(ChillTempAct[[#This Row],[ChillAve]]<65,65-ChillTempAct[[#This Row],[ChillAve]],0)","v":20},{"$f":"INDEX(TempAdj[AdjustPct],MATCH(MONTH(ChillTempAct[[#This Row],[Date]]),TempAdj[Month],0))","v":4.2599999999999999E-2},{"$f":"ChillTempAct[[#This Row],[ChillHDD]]*(1+ChillTempAct[[#This Row],[ChillAdj]])","v":20.852},{"$f":"SUMPRODUCT((RankNHDD[Month]=ChillTempAct[[#This Row],[Month]])*(RankNHDD[Rank]=ChillTempAct[[#This Row],[Rank]])*RankNHDD[KIRKNHDD])","v":20.594444444444441},{"$f":"YEAR(ChillTempAct[[#This Row],[Date]])","v":2022},{"$f":"MONTH(ChillTempAct[[#This Row],[Date]])","v":11},{"$f":"IF(ChillTempAct[[#This Row],[Month]]=J840,K840+1,1)","v":19}]
[44873,57,38,{"$f":"AVERAGE(ChillTempAct[[#This Row],[ChillHigh]:[ChillLow]])","v":47.5},{"$f":"IF(ChillTempAct[[#This Row],[ChillAve]]<65,65-ChillTempAct[[#This Row],[ChillAve]],0)","v":17.5},{"$f":"INDEX(TempAdj[AdjustPct],MATCH(MONTH(ChillTempAct[[#This Row],[Date]]),TempAdj[Month],0))","v":4.2599999999999999E-2},{"$f":"ChillTempAct[[#This Row],[ChillHDD]]*(1+ChillTempAct[[#This Row],[ChillAdj]])","v":18.2455},{"$f":"SUMPRODUCT((RankNHDD[Month]=ChillTempAct[[#This Row],[Month]])*(RankNHDD[Rank]=ChillTempAct[[#This Row],[Rank]])*RankNHDD[KIRKNHDD])","v":19.576666666666664},{"$f":"YEAR(ChillTempAct[[#This Row],[Date]])","v":2022},{"$f":"MONTH(ChillTempAct[[#This Row],[Date]])","v":11},{"$f":"IF(ChillTempAct[[#This Row],[Month]]=J841,K841+1,1)","v":20}]
[44876,74,24,{"$f":"AVERAGE(ChillTempAct[[#This Row],[ChillHigh]:[ChillLow]])","v":49},{"$f":"IF(ChillTempAct[[#This Row],[ChillAve]]<65,65-ChillTempAct[[#This Row],[ChillAve]],0)","v":16},{"$f":"INDEX(TempAdj[AdjustPct],MATCH(MONTH(ChillTempAct[[#This Row],[Date]]),TempAdj[Month],0))","v":4.2599999999999999E-2},{"$f":"ChillTempAct[[#This Row],[ChillHDD]]*(1+ChillTempAct[[#This Row],[ChillAdj]])","v":16.6816},{"$f":"SUMPRODUCT((RankNHDD[Month]=ChillTempAct[[#This Row],[Month]])*(RankNHDD[Rank]=ChillTempAct[[#This Row],[Rank]])*RankNHDD[KIRKNHDD])","v":18.077962962962964},{"$f":"YEAR(ChillTempAct[[#This Row],[Date]])","v":2022},{"$f":"MONTH(ChillTempAct[[#This Row],[Date]])","v":11},{"$f":"IF(ChillTempAct[[#This Row],[Month]]=J842,K842+1,1)","v":21}]
[44877,74,24,{"$f":"AVERAGE(ChillTempAct[[#This Row],[ChillHigh]:[ChillLow]])","v":49},{"$f":"IF(ChillTempAct[[#This Row],[ChillAve]]<65,65-ChillTempAct[[#This Row],[ChillAve]],0)","v":16},{"$f":"INDEX(TempAdj[AdjustPct],MATCH(MONTH(ChillTempAct[[#This Row],[Date]]),TempAdj[Month],0))","v":4.2599999999999999E-2},{"$f":"ChillTempAct[[#This Row],[ChillHDD]]*(1+ChillTempAct[[#This Row],[ChillAdj]])","v":16.6816},{"$f":"SUMPRODUCT((RankNHDD[Month]=ChillTempAct[[#This Row],[Month]])*(RankNHDD[Rank]=ChillTempAct[[#This Row],[Rank]])*RankNHDD[KIRKNHDD])","v":17.13425925925926},{"$f":"YEAR(ChillTempAct[[#This Row],[Date]])","v":2022},{"$f":"MONTH(ChillTempAct[[#This Row],[Date]])","v":11},{"$f":"IF(ChillTempAct[[#This Row],[Month]]=J843,K843+1,1)","v":22}]
[44872,63,38,{"$f":"AVERAGE(ChillTempAct[[#This Row],[ChillHigh]:[ChillLow]])","v":50.5},{"$f":"IF(ChillTempAct[[#This Row],[ChillAve]]<65,65-ChillTempAct[[#This Row],[ChillAve]],0)","v":14.5},{"$f":"INDEX(TempAdj[AdjustPct],MATCH(MONTH(ChillTempAct[[#This Row],[Date]]),TempAdj[Month],0))","v":4.2599999999999999E-2},{"$f":"ChillTempAct[[#This Row],[ChillHDD]]*(1+ChillTempAct[[#This Row],[ChillAdj]])","v":15.117699999999999},{"$f":"SUMPRODUCT((RankNHDD[Month]=ChillTempAct[[#This Row],[Month]])*(RankNHDD[Rank]=ChillTempAct[[#This Row],[Rank]])*RankNHDD[KIRKNHDD])","v":16.063148148148148},{"$f":"YEAR(ChillTempAct[[#This Row],[Date]])","v":2022},{"$f":"MONTH(ChillTempAct[[#This Row],[Date]])","v":11},{"$f":"IF(ChillTempAct[[#This Row],[Month]]=J844,K844+1,1)","v":23}]
[44866,69,36,{"$f":"AVERAGE(ChillTempAct[[#This Row],[ChillHigh]:[ChillLow]])","v":52.5},{"$f":"IF(ChillTempAct[[#This Row],[ChillAve]]<65,65-ChillTempAct[[#This Row],[ChillAve]],0)","v":12.5},{"$f":"INDEX(TempAdj[AdjustPct],MATCH(MONTH(ChillTempAct[[#This Row],[Date]]),TempAdj[Month],0))","v":4.2599999999999999E-2},{"$f":"ChillTempAct[[#This Row],[ChillHDD]]*(1+ChillTempAct[[#This Row],[ChillAdj]])","v":13.032499999999999},{"$f":"SUMPRODUCT((RankNHDD[Month]=ChillTempAct[[#This Row],[Month]])*(RankNHDD[Rank]=ChillTempAct[[#This Row],[Rank]])*RankNHDD[KIRKNHDD])","v":15.076851851851849},{"$f":"YEAR(ChillTempAct[[#This Row],[Date]])","v":2022},{"$f":"MONTH(ChillTempAct[[#This Row],[Date]])","v":11},{"$f":"IF(ChillTempAct[[#This Row],[Month]]=J845,K845+1,1)","v":24}]
[44870,68,40,{"$f":"AVERAGE(ChillTempAct[[#This Row],[ChillHigh]:[ChillLow]])","v":54},{"$f":"IF(ChillTempAct[[#This Row],[ChillAve]]<65,65-ChillTempAct[[#This Row],[ChillAve]],0)","v":11},{"$f":"INDEX(TempAdj[AdjustPct],MATCH(MONTH(ChillTempAct[[#This Row],[Date]]),TempAdj[Month],0))","v":4.2599999999999999E-2},{"$f":"ChillTempAct[[#This Row],[ChillHDD]]*(1+ChillTempAct[[#This Row],[ChillAdj]])","v":11.4686},{"$f":"SUMPRODUCT((RankNHDD[Month]=ChillTempAct[[#This Row],[Month]])*(RankNHDD[Rank]=ChillTempAct[[#This Row],[Rank]])*RankNHDD[KIRKNHDD])","v":13.913333333333332},{"$f":"YEAR(ChillTempAct[[#This Row],[Date]])","v":2022},{"$f":"MONTH(ChillTempAct[[#This Row],[Date]])","v":11},{"$f":"IF(ChillTempAct[[#This Row],[Month]]=J846,K846+1,1)","v":25}]
[44874,65,43,{"$f":"AVERAGE(ChillTempAct[[#This Row],[ChillHigh]:[ChillLow]])","v":54},{"$f":"IF(ChillTempAct[[#This Row],[ChillAve]]<65,65-ChillTempAct[[#This Row],[ChillAve]],0)","v":11},{"$f":"INDEX(TempAdj[AdjustPct],MATCH(MONTH(ChillTempAct[[#This Row],[Date]]),TempAdj[Month],0))","v":4.2599999999999999E-2},{"$f":"ChillTempAct[[#This Row],[ChillHDD]]*(1+ChillTempAct[[#This Row],[ChillAdj]])","v":11.4686},{"$f":"SUMPRODUCT((RankNHDD[Month]=ChillTempAct[[#This Row],[Month]])*(RankNHDD[Rank]=ChillTempAct[[#This Row],[Rank]])*RankNHDD[KIRKNHDD])","v":12.532777777777778},{"$f":"YEAR(ChillTempAct[[#This Row],[Date]])","v":2022},{"$f":"MONTH(ChillTempAct[[#This Row],[Date]])","v":11},{"$f":"IF(ChillTempAct[[#This Row],[Month]]=J847,K847+1,1)","v":26}]
[44867,77,35,{"$f":"AVERAGE(ChillTempAct[[#This Row],[ChillHigh]:[ChillLow]])","v":56},{"$f":"IF(ChillTempAct[[#This Row],[ChillAve]]<65,65-ChillTempAct[[#This Row],[ChillAve]],0)","v":9},{"$f":"INDEX(TempAdj[AdjustPct],MATCH(MONTH(ChillTempAct[[#This Row],[Date]]),TempAdj[Month],0))","v":4.2599999999999999E-2},{"$f":"ChillTempAct[[#This Row],[ChillHDD]]*(1+ChillTempAct[[#This Row],[ChillAdj]])","v":9.3834},{"$f":"SUMPRODUCT((RankNHDD[Month]=ChillTempAct[[#This Row],[Month]])*(RankNHDD[Rank]=ChillTempAct[[#This Row],[Rank]])*RankNHDD[KIRKNHDD])","v":10.467222222222222},{"$f":"YEAR(ChillTempAct[[#This Row],[Date]])","v":2022},{"$f":"MONTH(ChillTempAct[[#This Row],[Date]])","v":11},{"$f":"IF(ChillTempAct[[#This Row],[Month]]=J848,K848+1,1)","v":27}]
[44868,77,35,{"$f":"AVERAGE(ChillTempAct[[#This Row],[ChillHigh]:[ChillLow]])","v":56},{"$f":"IF(ChillTempAct[[#This Row],[ChillAve]]<65,65-ChillTempAct[[#This Row],[ChillAve]],0)","v":9},{"$f":"INDEX(TempAdj[AdjustPct],MATCH(MONTH(ChillTempAct[[#This Row],[Date]]),TempAdj[Month],0))","v":4.2599999999999999E-2},{"$f":"ChillTempAct[[#This Row],[ChillHDD]]*(1+ChillTempAct[[#This Row],[ChillAdj]])","v":9.3834},{"$f":"SUMPRODUCT((RankNHDD[Month]=ChillTempAct[[#This Row],[Month]])*(RankNHDD[Rank]=ChillTempAct[[#This Row],[Rank]])*RankNHDD[KIRKNHDD])","v":7.9072222222222202},{"$f":"YEAR(ChillTempAct[[#This Row],[Date]])","v":2022},{"$f":"MONTH(ChillTempAct[[#This Row],[Date]])","v":11},{"$f":"IF(ChillTempAct[[#This Row],[Month]]=J849,K849+1,1)","v":28}]
[44875,75,43,{"$f":"AVERAGE(ChillTempAct[[#This Row],[ChillHigh]:[ChillLow]])","v":59},{"$f":"IF(ChillTempAct[[#This Row],[ChillAve]]<65,65-ChillTempAct[[#This Row],[ChillAve]],0)","v":6},{"$f":"INDEX(TempAdj[AdjustPct],MATCH(MONTH(ChillTempAct[[#This Row],[Date]]),TempAdj[Month],0))","v":4.2599999999999999E-2},{"$f":"ChillTempAct[[#This Row],[ChillHDD]]*(1+ChillTempAct[[#This Row],[ChillAdj]])","v":6.2555999999999994},{"$f":"SUMPRODUCT((RankNHDD[Month]=ChillTempAct[[#This Row],[Month]])*(RankNHDD[Rank]=ChillTempAct[[#This Row],[Rank]])*RankNHDD[KIRKNHDD])","v":5.3861111111111137},{"$f":"YEAR(ChillTempAct[[#This Row],[Date]])","v":2022},{"$f":"MONTH(ChillTempAct[[#This Row],[Date]])","v":11},{"$f":"IF(ChillTempAct[[#This Row],[Month]]=J850,K850+1,1)","v":29}]
[44869,77,59,{"$f":"AVERAGE(ChillTempAct[[#This Row],[ChillHigh]:[ChillLow]])","v":68},{"$f":"IF(ChillTempAct[[#This Row],[ChillAve]]<65,65-ChillTempAct[[#This Row],[ChillAve]],0)","v":0},{"$f":"INDEX(TempAdj[AdjustPct],MATCH(MONTH(ChillTempAct[[#This Row],[Date]]),TempAdj[Month],0))","v":4.2599999999999999E-2},{"$f":"ChillTempAct[[#This Row],[ChillHDD]]*(1+ChillTempAct[[#This Row],[ChillAdj]])","v":0},{"$f":"SUMPRODUCT((RankNHDD[Month]=ChillTempAct[[#This Row],[Month]])*(RankNHDD[Rank]=ChillTempAct[[#This Row],[Rank]])*RankNHDD[KIRKNHDD])","v":1.7907407407407412},{"$f":"YEAR(ChillTempAct[[#This Row],[Date]])","v":2022},{"$f":"MONTH(ChillTempAct[[#This Row],[Date]])","v":11},{"$f":"IF(ChillTempAct[[#This Row],[Month]]=J851,K851+1,1)","v":30}]
[44918,7,-9,{"$f":"AVERAGE(ChillTempAct[[#This Row],[ChillHigh]:[ChillLow]])","v":-1},{"$f":"IF(ChillTempAct[[#This Row],[ChillAve]]<65,65-ChillTempAct[[#This Row],[ChillAve]],0)","v":66},{"$f":"INDEX(TempAdj[AdjustPct],MATCH(MONTH(ChillTempAct[[#This Row],[Date]]),TempAdj[Month],0))","v":2.8799999999999999E-2},{"$f":"ChillTempAct[[#This Row],[ChillHDD]]*(1+ChillTempAct[[#This Row],[ChillAdj]])","v":67.90079999999999},{"$f":"SUMPRODUCT((RankNHDD[Month]=ChillTempAct[[#This Row],[Month]])*(RankNHDD[Rank]=ChillTempAct[[#This Row],[Rank]])*RankNHDD[KIRKNHDD])","v":64.141129032258078},{"$f":"YEAR(ChillTempAct[[#This Row],[Date]])","v":2022},{"$f":"MONTH(ChillTempAct[[#This Row],[Date]])","v":12},{"$f":"IF(ChillTempAct[[#This Row],[Month]]=J852,K852+1,1)","v":1}]
[44919,5,-7,{"$f":"AVERAGE(ChillTempAct[[#This Row],[ChillHigh]:[ChillLow]])","v":-1},{"$f":"IF(ChillTempAct[[#This Row],[ChillAve]]<65,65-ChillTempAct[[#This Row],[ChillAve]],0)","v":66},{"$f":"INDEX(TempAdj[AdjustPct],MATCH(MONTH(ChillTempAct[[#This Row],[Date]]),TempAdj[Month],0))","v":2.8799999999999999E-2},{"$f":"ChillTempAct[[#This Row],[ChillHDD]]*(1+ChillTempAct[[#This Row],[ChillAdj]])","v":67.90079999999999},{"$f":"SUMPRODUCT((RankNHDD[Month]=ChillTempAct[[#This Row],[Month]])*(RankNHDD[Rank]=ChillTempAct[[#This Row],[Rank]])*RankNHDD[KIRKNHDD])","v":56.413440860215061},{"$f":"YEAR(ChillTempAct[[#This Row],[Date]])","v":2022},{"$f":"MONTH(ChillTempAct[[#This Row],[Date]])","v":12},{"$f":"IF(ChillTempAct[[#This Row],[Month]]=J853,K853+1,1)","v":2}]
[44920,17,1,{"$f":"AVERAGE(ChillTempAct[[#This Row],[ChillHigh]:[ChillLow]])","v":9},{"$f":"IF(ChillTempAct[[#This Row],[ChillAve]]<65,65-ChillTempAct[[#This Row],[ChillAve]],0)","v":56},{"$f":"INDEX(TempAdj[AdjustPct],MATCH(MONTH(ChillTempAct[[#This Row],[Date]]),TempAdj[Month],0))","v":2.8799999999999999E-2},{"$f":"ChillTempAct[[#This Row],[ChillHDD]]*(1+ChillTempAct[[#This Row],[ChillAdj]])","v":57.612799999999993},{"$f":"SUMPRODUCT((RankNHDD[Month]=ChillTempAct[[#This Row],[Month]])*(RankNHDD[Rank]=ChillTempAct[[#This Row],[Rank]])*RankNHDD[KIRKNHDD])","v":53.055698924731203},{"$f":"YEAR(ChillTempAct[[#This Row],[Date]])","v":2022},{"$f":"MONTH(ChillTempAct[[#This Row],[Date]])","v":12},{"$f":"IF(ChillTempAct[[#This Row],[Month]]=J854,K854+1,1)","v":3}]
[44922,20,3,{"$f":"AVERAGE(ChillTempAct[[#This Row],[ChillHigh]:[ChillLow]])","v":11.5},{"$f":"IF(ChillTempAct[[#This Row],[ChillAve]]<65,65-ChillTempAct[[#This Row],[ChillAve]],0)","v":53.5},{"$f":"INDEX(TempAdj[AdjustPct],MATCH(MONTH(ChillTempAct[[#This Row],[Date]]),TempAdj[Month],0))","v":2.8799999999999999E-2},{"$f":"ChillTempAct[[#This Row],[ChillHDD]]*(1+ChillTempAct[[#This Row],[ChillAdj]])","v":55.040799999999997},{"$f":"SUMPRODUCT((RankNHDD[Month]=ChillTempAct[[#This Row],[Month]])*(RankNHDD[Rank]=ChillTempAct[[#This Row],[Rank]])*RankNHDD[KIRKNHDD])","v":50.106075268817207},{"$f":"YEAR(ChillTempAct[[#This Row],[Date]])","v":2022},{"$f":"MONTH(ChillTempAct[[#This Row],[Date]])","v":12},{"$f":"IF(ChillTempAct[[#This Row],[Month]]=J855,K855+1,1)","v":4}]
[44921,28,1,{"$f":"AVERAGE(ChillTempAct[[#This Row],[ChillHigh]:[ChillLow]])","v":14.5},{"$f":"IF(ChillTempAct[[#This Row],[ChillAve]]<65,65-ChillTempAct[[#This Row],[ChillAve]],0)","v":50.5},{"$f":"INDEX(TempAdj[AdjustPct],MATCH(MONTH(ChillTempAct[[#This Row],[Date]]),TempAdj[Month],0))","v":2.8799999999999999E-2},{"$f":"ChillTempAct[[#This Row],[ChillHDD]]*(1+ChillTempAct[[#This Row],[ChillAdj]])","v":51.9544},{"$f":"SUMPRODUCT((RankNHDD[Month]=ChillTempAct[[#This Row],[Month]])*(RankNHDD[Rank]=ChillTempAct[[#This Row],[Rank]])*RankNHDD[KIRKNHDD])","v":47.620430107526893},{"$f":"YEAR(ChillTempAct[[#This Row],[Date]])","v":2022},{"$f":"MONTH(ChillTempAct[[#This Row],[Date]])","v":12},{"$f":"IF(ChillTempAct[[#This Row],[Month]]=J856,K856+1,1)","v":5}]
[44917,30,1,{"$f":"AVERAGE(ChillTempAct[[#This Row],[ChillHigh]:[ChillLow]])","v":15.5},{"$f":"IF(ChillTempAct[[#This Row],[ChillAve]]<65,65-ChillTempAct[[#This Row],[ChillAve]],0)","v":49.5},{"$f":"INDEX(TempAdj[AdjustPct],MATCH(MONTH(ChillTempAct[[#This Row],[Date]]),TempAdj[Month],0))","v":2.8799999999999999E-2},{"$f":"ChillTempAct[[#This Row],[ChillHDD]]*(1+ChillTempAct[[#This Row],[ChillAdj]])","v":50.925599999999996},{"$f":"SUMPRODUCT((RankNHDD[Month]=ChillTempAct[[#This Row],[Month]])*(RankNHDD[Rank]=ChillTempAct[[#This Row],[Rank]])*RankNHDD[KIRKNHDD])","v":45.680143369175624},{"$f":"YEAR(ChillTempAct[[#This Row],[Date]])","v":2022},{"$f":"MONTH(ChillTempAct[[#This Row],[Date]])","v":12},{"$f":"IF(ChillTempAct[[#This Row],[Month]]=J857,K857+1,1)","v":6}]
[44913,27,11,{"$f":"AVERAGE(ChillTempAct[[#This Row],[ChillHigh]:[ChillLow]])","v":19},{"$f":"IF(ChillTempAct[[#This Row],[ChillAve]]<65,65-ChillTempAct[[#This Row],[ChillAve]],0)","v":46},{"$f":"INDEX(TempAdj[AdjustPct],MATCH(MONTH(ChillTempAct[[#This Row],[Date]]),TempAdj[Month],0))","v":2.8799999999999999E-2},{"$f":"ChillTempAct[[#This Row],[ChillHDD]]*(1+ChillTempAct[[#This Row],[ChillAdj]])","v":47.324799999999996},{"$f":"SUMPRODUCT((RankNHDD[Month]=ChillTempAct[[#This Row],[Month]])*(RankNHDD[Rank]=ChillTempAct[[#This Row],[Rank]])*RankNHDD[KIRKNHDD])","v":43.916648745519709},{"$f":"YEAR(ChillTempAct[[#This Row],[Date]])","v":2022},{"$f":"MONTH(ChillTempAct[[#This Row],[Date]])","v":12},{"$f":"IF(ChillTempAct[[#This Row],[Month]]=J858,K858+1,1)","v":7}]
[44914,30,11,{"$f":"AVERAGE(ChillTempAct[[#This Row],[ChillHigh]:[ChillLow]])","v":20.5},{"$f":"IF(ChillTempAct[[#This Row],[ChillAve]]<65,65-ChillTempAct[[#This Row],[ChillAve]],0)","v":44.5},{"$f":"INDEX(TempAdj[AdjustPct],MATCH(MONTH(ChillTempAct[[#This Row],[Date]]),TempAdj[Month],0))","v":2.8799999999999999E-2},{"$f":"ChillTempAct[[#This Row],[ChillHDD]]*(1+ChillTempAct[[#This Row],[ChillAdj]])","v":45.781599999999997},{"$f":"SUMPRODUCT((RankNHDD[Month]=ChillTempAct[[#This Row],[Month]])*(RankNHDD[Rank]=ChillTempAct[[#This Row],[Rank]])*RankNHDD[KIRKNHDD])","v":42.349301075268826},{"$f":"YEAR(ChillTempAct[[#This Row],[Date]])","v":2022},{"$f":"MONTH(ChillTempAct[[#This Row],[Date]])","v":12},{"$f":"IF(ChillTempAct[[#This Row],[Month]]=J859,K859+1,1)","v":8}]
[44916,24,18,{"$f":"AVERAGE(ChillTempAct[[#This Row],[ChillHigh]:[ChillLow]])","v":21},{"$f":"IF(ChillTempAct[[#This Row],[ChillAve]]<65,65-ChillTempAct[[#This Row],[ChillAve]],0)","v":44},{"$f":"INDEX(TempAdj[AdjustPct],MATCH(MONTH(ChillTempAct[[#This Row],[Date]]),TempAdj[Month],0))","v":2.8799999999999999E-2},{"$f":"ChillTempAct[[#This Row],[ChillHDD]]*(1+ChillTempAct[[#This Row],[ChillAdj]])","v":45.267199999999995},{"$f":"SUMPRODUCT((RankNHDD[Month]=ChillTempAct[[#This Row],[Month]])*(RankNHDD[Rank]=ChillTempAct[[#This Row],[Rank]])*RankNHDD[KIRKNHDD])","v":41.072741935483876},{"$f":"YEAR(ChillTempAct[[#This Row],[Date]])","v":2022},{"$f":"MONTH(ChillTempAct[[#This Row],[Date]])","v":12},{"$f":"IF(ChillTempAct[[#This Row],[Month]]=J860,K860+1,1)","v":9}]
[44899,32,15,{"$f":"AVERAGE(ChillTempAct[[#This Row],[ChillHigh]:[ChillLow]])","v":23.5},{"$f":"IF(ChillTempAct[[#This Row],[ChillAve]]<65,65-ChillTempAct[[#This Row],[ChillAve]],0)","v":41.5},{"$f":"INDEX(TempAdj[AdjustPct],MATCH(MONTH(ChillTempAct[[#This Row],[Date]]),TempAdj[Month],0))","v":2.8799999999999999E-2},{"$f":"ChillTempAct[[#This Row],[ChillHDD]]*(1+ChillTempAct[[#This Row],[ChillAdj]])","v":42.6952},{"$f":"SUMPRODUCT((RankNHDD[Month]=ChillTempAct[[#This Row],[Month]])*(RankNHDD[Rank]=ChillTempAct[[#This Row],[Rank]])*RankNHDD[KIRKNHDD])","v":40.174856630824387},{"$f":"YEAR(ChillTempAct[[#This Row],[Date]])","v":2022},{"$f":"MONTH(ChillTempAct[[#This Row],[Date]])","v":12},{"$f":"IF(ChillTempAct[[#This Row],[Month]]=J861,K861+1,1)","v":10}]
[44912,29,18,{"$f":"AVERAGE(ChillTempAct[[#This Row],[ChillHigh]:[ChillLow]])","v":23.5},{"$f":"IF(ChillTempAct[[#This Row],[ChillAve]]<65,65-ChillTempAct[[#This Row],[ChillAve]],0)","v":41.5},{"$f":"INDEX(TempAdj[AdjustPct],MATCH(MONTH(ChillTempAct[[#This Row],[Date]]),TempAdj[Month],0))","v":2.8799999999999999E-2},{"$f":"ChillTempAct[[#This Row],[ChillHDD]]*(1+ChillTempAct[[#This Row],[ChillAdj]])","v":42.6952},{"$f":"SUMPRODUCT((RankNHDD[Month]=ChillTempAct[[#This Row],[Month]])*(RankNHDD[Rank]=ChillTempAct[[#This Row],[Rank]])*RankNHDD[KIRKNHDD])","v":39.343028673835128},{"$f":"YEAR(ChillTempAct[[#This Row],[Date]])","v":2022},{"$f":"MONTH(ChillTempAct[[#This Row],[Date]])","v":12},{"$f":"IF(ChillTempAct[[#This Row],[Month]]=J862,K862+1,1)","v":11}]
[44915,37,11,{"$f":"AVERAGE(ChillTempAct[[#This Row],[ChillHigh]:[ChillLow]])","v":24},{"$f":"IF(ChillTempAct[[#This Row],[ChillAve]]<65,65-ChillTempAct[[#This Row],[ChillAve]],0)","v":41},{"$f":"INDEX(TempAdj[AdjustPct],MATCH(MONTH(ChillTempAct[[#This Row],[Date]]),TempAdj[Month],0))","v":2.8799999999999999E-2},{"$f":"ChillTempAct[[#This Row],[ChillHDD]]*(1+ChillTempAct[[#This Row],[ChillAdj]])","v":42.180799999999998},{"$f":"SUMPRODUCT((RankNHDD[Month]=ChillTempAct[[#This Row],[Month]])*(RankNHDD[Rank]=ChillTempAct[[#This Row],[Rank]])*RankNHDD[KIRKNHDD])","v":38.280358422939067},{"$f":"YEAR(ChillTempAct[[#This Row],[Date]])","v":2022},{"$f":"MONTH(ChillTempAct[[#This Row],[Date]])","v":12},{"$f":"IF(ChillTempAct[[#This Row],[Month]]=J863,K863+1,1)","v":12}]
[44896,33,16,{"$f":"AVERAGE(ChillTempAct[[#This Row],[ChillHigh]:[ChillLow]])","v":24.5},{"$f":"IF(ChillTempAct[[#This Row],[ChillAve]]<65,65-ChillTempAct[[#This Row],[ChillAve]],0)","v":40.5},{"$f":"INDEX(TempAdj[AdjustPct],MATCH(MONTH(ChillTempAct[[#This Row],[Date]]),TempAdj[Month],0))","v":2.8799999999999999E-2},{"$f":"ChillTempAct[[#This Row],[ChillHDD]]*(1+ChillTempAct[[#This Row],[ChillAdj]])","v":41.666399999999996},{"$f":"SUMPRODUCT((RankNHDD[Month]=ChillTempAct[[#This Row],[Month]])*(RankNHDD[Rank]=ChillTempAct[[#This Row],[Rank]])*RankNHDD[KIRKNHDD])","v":37.370770609319003},{"$f":"YEAR(ChillTempAct[[#This Row],[Date]])","v":2022},{"$f":"MONTH(ChillTempAct[[#This Row],[Date]])","v":12},{"$f":"IF(ChillTempAct[[#This Row],[Month]]=J864,K864+1,1)","v":13}]
[44923,38,13,{"$f":"AVERAGE(ChillTempAct[[#This Row],[ChillHigh]:[ChillLow]])","v":25.5},{"$f":"IF(ChillTempAct[[#This Row],[ChillAve]]<65,65-ChillTempAct[[#This Row],[ChillAve]],0)","v":39.5},{"$f":"INDEX(TempAdj[AdjustPct],MATCH(MONTH(ChillTempAct[[#This Row],[Date]]),TempAdj[Month],0))","v":2.8799999999999999E-2},{"$f":"ChillTempAct[[#This Row],[ChillHDD]]*(1+ChillTempAct[[#This Row],[ChillAdj]])","v":40.637599999999999},{"$f":"SUMPRODUCT((RankNHDD[Month]=ChillTempAct[[#This Row],[Month]])*(RankNHDD[Rank]=ChillTempAct[[#This Row],[Rank]])*RankNHDD[KIRKNHDD])","v":36.52629032258065},{"$f":"YEAR(ChillTempAct[[#This Row],[Date]])","v":2022},{"$f":"MONTH(ChillTempAct[[#This Row],[Date]])","v":12},{"$f":"IF(ChillTempAct[[#This Row],[Month]]=J865,K865+1,1)","v":14}]
[44911,31,24,{"$f":"AVERAGE(ChillTempAct[[#This Row],[ChillHigh]:[ChillLow]])","v":27.5},{"$f":"IF(ChillTempAct[[#This Row],[ChillAve]]<65,65-ChillTempAct[[#This Row],[ChillAve]],0)","v":37.5},{"$f":"INDEX(TempAdj[AdjustPct],MATCH(MONTH(ChillTempAct[[#This Row],[Date]]),TempAdj[Month],0))","v":2.8799999999999999E-2},{"$f":"ChillTempAct[[#This Row],[ChillHDD]]*(1+ChillTempAct[[#This Row],[ChillAdj]])","v":38.58},{"$f":"SUMPRODUCT((RankNHDD[Month]=ChillTempAct[[#This Row],[Month]])*(RankNHDD[Rank]=ChillTempAct[[#This Row],[Rank]])*RankNHDD[KIRKNHDD])","v":35.81541218637993},{"$f":"YEAR(ChillTempAct[[#This Row],[Date]])","v":2022},{"$f":"MONTH(ChillTempAct[[#This Row],[Date]])","v":12},{"$f":"IF(ChillTempAct[[#This Row],[Month]]=J866,K866+1,1)","v":15}]
[44900,44,15,{"$f":"AVERAGE(ChillTempAct[[#This Row],[ChillHigh]:[ChillLow]])","v":29.5},{"$f":"IF(ChillTempAct[[#This Row],[ChillAve]]<65,65-ChillTempAct[[#This Row],[ChillAve]],0)","v":35.5},{"$f":"INDEX(TempAdj[AdjustPct],MATCH(MONTH(ChillTempAct[[#This Row],[Date]]),TempAdj[Month],0))","v":2.8799999999999999E-2},{"$f":"ChillTempAct[[#This Row],[ChillHDD]]*(1+ChillTempAct[[#This Row],[ChillAdj]])","v":36.522399999999998},{"$f":"SUMPRODUCT((RankNHDD[Month]=ChillTempAct[[#This Row],[Month]])*(RankNHDD[Rank]=ChillTempAct[[#This Row],[Rank]])*RankNHDD[KIRKNHDD])","v":34.727007168458776},{"$f":"YEAR(ChillTempAct[[#This Row],[Date]])","v":2022},{"$f":"MONTH(ChillTempAct[[#This Row],[Date]])","v":12},{"$f":"IF(ChillTempAct[[#This Row],[Month]]=J867,K867+1,1)","v":16}]
[44897,45,16,{"$f":"AVERAGE(ChillTempAct[[#This Row],[ChillHigh]:[ChillLow]])","v":30.5},{"$f":"IF(ChillTempAct[[#This Row],[ChillAve]]<65,65-ChillTempAct[[#This Row],[ChillAve]],0)","v":34.5},{"$f":"INDEX(TempAdj[AdjustPct],MATCH(MONTH(ChillTempAct[[#This Row],[Date]]),TempAdj[Month],0))","v":2.8799999999999999E-2},{"$f":"ChillTempAct[[#This Row],[ChillHDD]]*(1+ChillTempAct[[#This Row],[ChillAdj]])","v":35.493600000000001},{"$f":"SUMPRODUCT((RankNHDD[Month]=ChillTempAct[[#This Row],[Month]])*(RankNHDD[Rank]=ChillTempAct[[#This Row],[Rank]])*RankNHDD[KIRKNHDD])","v":33.681792114695341},{"$f":"YEAR(ChillTempAct[[#This Row],[Date]])","v":2022},{"$f":"MONTH(ChillTempAct[[#This Row],[Date]])","v":12},{"$f":"IF(ChillTempAct[[#This Row],[Month]]=J868,K868+1,1)","v":17}]
[44926,42,24,{"$f":"AVERAGE(ChillTempAct[[#This Row],[ChillHigh]:[ChillLow]])","v":33},{"$f":"IF(ChillTempAct[[#This Row],[ChillAve]]<65,65-ChillTempAct[[#This Row],[ChillAve]],0)","v":32},{"$f":"INDEX(TempAdj[AdjustPct],MATCH(MONTH(ChillTempAct[[#This Row],[Date]]),TempAdj[Month],0))","v":2.8799999999999999E-2},{"$f":"ChillTempAct[[#This Row],[ChillHDD]]*(1+ChillTempAct[[#This Row],[ChillAdj]])","v":32.921599999999998},{"$f":"SUMPRODUCT((RankNHDD[Month]=ChillTempAct[[#This Row],[Month]])*(RankNHDD[Rank]=ChillTempAct[[#This Row],[Rank]])*RankNHDD[KIRKNHDD])","v":32.824336917562725},{"$f":"YEAR(ChillTempAct[[#This Row],[Date]])","v":2022},{"$f":"MONTH(ChillTempAct[[#This Row],[Date]])","v":12},{"$f":"IF(ChillTempAct[[#This Row],[Month]]=J869,K869+1,1)","v":18}]
[44902,43,24,{"$f":"AVERAGE(ChillTempAct[[#This Row],[ChillHigh]:[ChillLow]])","v":33.5},{"$f":"IF(ChillTempAct[[#This Row],[ChillAve]]<65,65-ChillTempAct[[#This Row],[ChillAve]],0)","v":31.5},{"$f":"INDEX(TempAdj[AdjustPct],MATCH(MONTH(ChillTempAct[[#This Row],[Date]]),TempAdj[Month],0))","v":2.8799999999999999E-2},{"$f":"ChillTempAct[[#This Row],[ChillHDD]]*(1+ChillTempAct[[#This Row],[ChillAdj]])","v":32.407199999999996},{"$f":"SUMPRODUCT((RankNHDD[Month]=ChillTempAct[[#This Row],[Month]])*(RankNHDD[Rank]=ChillTempAct[[#This Row],[Rank]])*RankNHDD[KIRKNHDD])","v":31.934193548387089},{"$f":"YEAR(ChillTempAct[[#This Row],[Date]])","v":2022},{"$f":"MONTH(ChillTempAct[[#This Row],[Date]])","v":12},{"$f":"IF(ChillTempAct[[#This Row],[Month]]=J870,K870+1,1)","v":19}]
[44907,39,28,{"$f":"AVERAGE(ChillTempAct[[#This Row],[ChillHigh]:[ChillLow]])","v":33.5},{"$f":"IF(ChillTempAct[[#This Row],[ChillAve]]<65,65-ChillTempAct[[#This Row],[ChillAve]],0)","v":31.5},{"$f":"INDEX(TempAdj[AdjustPct],MATCH(MONTH(ChillTempAct[[#This Row],[Date]]),TempAdj[Month],0))","v":2.8799999999999999E-2},{"$f":"ChillTempAct[[#This Row],[ChillHDD]]*(1+ChillTempAct[[#This Row],[ChillAdj]])","v":32.407199999999996},{"$f":"SUMPRODUCT((RankNHDD[Month]=ChillTempAct[[#This Row],[Month]])*(RankNHDD[Rank]=ChillTempAct[[#This Row],[Rank]])*RankNHDD[KIRKNHDD])","v":30.966792114695341},{"$f":"YEAR(ChillTempAct[[#This Row],[Date]])","v":2022},{"$f":"MONTH(ChillTempAct[[#This Row],[Date]])","v":12},{"$f":"IF(ChillTempAct[[#This Row],[Month]]=J871,K871+1,1)","v":20}]
[44910,40,29,{"$f":"AVERAGE(ChillTempAct[[#This Row],[ChillHigh]:[ChillLow]])","v":34.5},{"$f":"IF(ChillTempAct[[#This Row],[ChillAve]]<65,65-ChillTempAct[[#This Row],[ChillAve]],0)","v":30.5},{"$f":"INDEX(TempAdj[AdjustPct],MATCH(MONTH(ChillTempAct[[#This Row],[Date]]),TempAdj[Month],0))","v":2.8799999999999999E-2},{"$f":"ChillTempAct[[#This Row],[ChillHDD]]*(1+ChillTempAct[[#This Row],[ChillAdj]])","v":31.378399999999999},{"$f":"SUMPRODUCT((RankNHDD[Month]=ChillTempAct[[#This Row],[Month]])*(RankNHDD[Rank]=ChillTempAct[[#This Row],[Rank]])*RankNHDD[KIRKNHDD])","v":30.176039426523289},{"$f":"YEAR(ChillTempAct[[#This Row],[Date]])","v":2022},{"$f":"MONTH(ChillTempAct[[#This Row],[Date]])","v":12},{"$f":"IF(ChillTempAct[[#This Row],[Month]]=J872,K872+1,1)","v":21}]
[44906,40,30,{"$f":"AVERAGE(ChillTempAct[[#This Row],[ChillHigh]:[ChillLow]])","v":35},{"$f":"IF(ChillTempAct[[#This Row],[ChillAve]]<65,65-ChillTempAct[[#This Row],[ChillAve]],0)","v":30},{"$f":"INDEX(TempAdj[AdjustPct],MATCH(MONTH(ChillTempAct[[#This Row],[Date]]),TempAdj[Month],0))","v":2.8799999999999999E-2},{"$f":"ChillTempAct[[#This Row],[ChillHDD]]*(1+ChillTempAct[[#This Row],[ChillAdj]])","v":30.863999999999997},{"$f":"SUMPRODUCT((RankNHDD[Month]=ChillTempAct[[#This Row],[Month]])*(RankNHDD[Rank]=ChillTempAct[[#This Row],[Rank]])*RankNHDD[KIRKNHDD])","v":29.45564516129032},{"$f":"YEAR(ChillTempAct[[#This Row],[Date]])","v":2022},{"$f":"MONTH(ChillTempAct[[#This Row],[Date]])","v":12},{"$f":"IF(ChillTempAct[[#This Row],[Month]]=J873,K873+1,1)","v":22}]
[44903,47,24,{"$f":"AVERAGE(ChillTempAct[[#This Row],[ChillHigh]:[ChillLow]])","v":35.5},{"$f":"IF(ChillTempAct[[#This Row],[ChillAve]]<65,65-ChillTempAct[[#This Row],[ChillAve]],0)","v":29.5},{"$f":"INDEX(TempAdj[AdjustPct],MATCH(MONTH(ChillTempAct[[#This Row],[Date]]),TempAdj[Month],0))","v":2.8799999999999999E-2},{"$f":"ChillTempAct[[#This Row],[ChillHDD]]*(1+ChillTempAct[[#This Row],[ChillAdj]])","v":30.349599999999999},{"$f":"SUMPRODUCT((RankNHDD[Month]=ChillTempAct[[#This Row],[Month]])*(RankNHDD[Rank]=ChillTempAct[[#This Row],[Rank]])*RankNHDD[KIRKNHDD])","v":28.63349462365591},{"$f":"YEAR(ChillTempAct[[#This Row],[Date]])","v":2022},{"$f":"MONTH(ChillTempAct[[#This Row],[Date]])","v":12},{"$f":"IF(ChillTempAct[[#This Row],[Month]]=J874,K874+1,1)","v":23}]
[44905,37,34,{"$f":"AVERAGE(ChillTempAct[[#This Row],[ChillHigh]:[ChillLow]])","v":35.5},{"$f":"IF(ChillTempAct[[#This Row],[ChillAve]]<65,65-ChillTempAct[[#This Row],[ChillAve]],0)","v":29.5},{"$f":"INDEX(TempAdj[AdjustPct],MATCH(MONTH(ChillTempAct[[#This Row],[Date]]),TempAdj[Month],0))","v":2.8799999999999999E-2},{"$f":"ChillTempAct[[#This Row],[ChillHDD]]*(1+ChillTempAct[[#This Row],[ChillAdj]])","v":30.349599999999999},{"$f":"SUMPRODUCT((RankNHDD[Month]=ChillTempAct[[#This Row],[Month]])*(RankNHDD[Rank]=ChillTempAct[[#This Row],[Rank]])*RankNHDD[KIRKNHDD])","v":27.616182795698922},{"$f":"YEAR(ChillTempAct[[#This Row],[Date]])","v":2022},{"$f":"MONTH(ChillTempAct[[#This Row],[Date]])","v":12},{"$f":"IF(ChillTempAct[[#This Row],[Month]]=J875,K875+1,1)","v":24}]
[44908,40,31,{"$f":"AVERAGE(ChillTempAct[[#This Row],[ChillHigh]:[ChillLow]])","v":35.5},{"$f":"IF(ChillTempAct[[#This Row],[ChillAve]]<65,65-ChillTempAct[[#This Row],[ChillAve]],0)","v":29.5},{"$f":"INDEX(TempAdj[AdjustPct],MATCH(MONTH(ChillTempAct[[#This Row],[Date]]),TempAdj[Month],0))","v":2.8799999999999999E-2},{"$f":"ChillTempAct[[#This Row],[ChillHDD]]*(1+ChillTempAct[[#This Row],[ChillAdj]])","v":30.349599999999999},{"$f":"SUMPRODUCT((RankNHDD[Month]=ChillTempAct[[#This Row],[Month]])*(RankNHDD[Rank]=ChillTempAct[[#This Row],[Rank]])*RankNHDD[KIRKNHDD])","v":26.567401433691753},{"$f":"YEAR(ChillTempAct[[#This Row],[Date]])","v":2022},{"$f":"MONTH(ChillTempAct[[#This Row],[Date]])","v":12},{"$f":"IF(ChillTempAct[[#This Row],[Month]]=J876,K876+1,1)","v":25}]
[44898,58,16,{"$f":"AVERAGE(ChillTempAct[[#This Row],[ChillHigh]:[ChillLow]])","v":37},{"$f":"IF(ChillTempAct[[#This Row],[ChillAve]]<65,65-ChillTempAct[[#This Row],[ChillAve]],0)","v":28},{"$f":"INDEX(TempAdj[AdjustPct],MATCH(MONTH(ChillTempAct[[#This Row],[Date]]),TempAdj[Month],0))","v":2.8799999999999999E-2},{"$f":"ChillTempAct[[#This Row],[ChillHDD]]*(1+ChillTempAct[[#This Row],[ChillAdj]])","v":28.806399999999996},{"$f":"SUMPRODUCT((RankNHDD[Month]=ChillTempAct[[#This Row],[Month]])*(RankNHDD[Rank]=ChillTempAct[[#This Row],[Rank]])*RankNHDD[KIRKNHDD])","v":25.634014336917563},{"$f":"YEAR(ChillTempAct[[#This Row],[Date]])","v":2022},{"$f":"MONTH(ChillTempAct[[#This Row],[Date]])","v":12},{"$f":"IF(ChillTempAct[[#This Row],[Month]]=J877,K877+1,1)","v":26}]
[44901,49,26,{"$f":"AVERAGE(ChillTempAct[[#This Row],[ChillHigh]:[ChillLow]])","v":37.5},{"$f":"IF(ChillTempAct[[#This Row],[ChillAve]]<65,65-ChillTempAct[[#This Row],[ChillAve]],0)","v":27.5},{"$f":"INDEX(TempAdj[AdjustPct],MATCH(MONTH(ChillTempAct[[#This Row],[Date]]),TempAdj[Month],0))","v":2.8799999999999999E-2},{"$f":"ChillTempAct[[#This Row],[ChillHDD]]*(1+ChillTempAct[[#This Row],[ChillAdj]])","v":28.291999999999998},{"$f":"SUMPRODUCT((RankNHDD[Month]=ChillTempAct[[#This Row],[Month]])*(RankNHDD[Rank]=ChillTempAct[[#This Row],[Rank]])*RankNHDD[KIRKNHDD])","v":24.530483870967746},{"$f":"YEAR(ChillTempAct[[#This Row],[Date]])","v":2022},{"$f":"MONTH(ChillTempAct[[#This Row],[Date]])","v":12},{"$f":"IF(ChillTempAct[[#This Row],[Month]]=J878,K878+1,1)","v":27}]
[44909,50,30,{"$f":"AVERAGE(ChillTempAct[[#This Row],[ChillHigh]:[ChillLow]])","v":40},{"$f":"IF(ChillTempAct[[#This Row],[ChillAve]]<65,65-ChillTempAct[[#This Row],[ChillAve]],0)","v":25},{"$f":"INDEX(TempAdj[AdjustPct],MATCH(MONTH(ChillTempAct[[#This Row],[Date]]),TempAdj[Month],0))","v":2.8799999999999999E-2},{"$f":"ChillTempAct[[#This Row],[ChillHDD]]*(1+ChillTempAct[[#This Row],[ChillAdj]])","v":25.72},{"$f":"SUMPRODUCT((RankNHDD[Month]=ChillTempAct[[#This Row],[Month]])*(RankNHDD[Rank]=ChillTempAct[[#This Row],[Rank]])*RankNHDD[KIRKNHDD])","v":23.029551971326168},{"$f":"YEAR(ChillTempAct[[#This Row],[Date]])","v":2022},{"$f":"MONTH(ChillTempAct[[#This Row],[Date]])","v":12},{"$f":"IF(ChillTempAct[[#This Row],[Month]]=J879,K879+1,1)","v":28}]
[44904,47,34,{"$f":"AVERAGE(ChillTempAct[[#This Row],[ChillHigh]:[ChillLow]])","v":40.5},{"$f":"IF(ChillTempAct[[#This Row],[ChillAve]]<65,65-ChillTempAct[[#This Row],[ChillAve]],0)","v":24.5},{"$f":"INDEX(TempAdj[AdjustPct],MATCH(MONTH(ChillTempAct[[#This Row],[Date]]),TempAdj[Month],0))","v":2.8799999999999999E-2},{"$f":"ChillTempAct[[#This Row],[ChillHDD]]*(1+ChillTempAct[[#This Row],[ChillAdj]])","v":25.205599999999997},{"$f":"SUMPRODUCT((RankNHDD[Month]=ChillTempAct[[#This Row],[Month]])*(RankNHDD[Rank]=ChillTempAct[[#This Row],[Rank]])*RankNHDD[KIRKNHDD])","v":20.715035842293908},{"$f":"YEAR(ChillTempAct[[#This Row],[Date]])","v":2022},{"$f":"MONTH(ChillTempAct[[#This Row],[Date]])","v":12},{"$f":"IF(ChillTempAct[[#This Row],[Month]]=J880,K880+1,1)","v":29}]
[44924,55,35,{"$f":"AVERAGE(ChillTempAct[[#This Row],[ChillHigh]:[ChillLow]])","v":45},{"$f":"IF(ChillTempAct[[#This Row],[ChillAve]]<65,65-ChillTempAct[[#This Row],[ChillAve]],0)","v":20},{"$f":"INDEX(TempAdj[AdjustPct],MATCH(MONTH(ChillTempAct[[#This Row],[Date]]),TempAdj[Month],0))","v":2.8799999999999999E-2},{"$f":"ChillTempAct[[#This Row],[ChillHDD]]*(1+ChillTempAct[[#This Row],[ChillAdj]])","v":20.576000000000001},{"$f":"SUMPRODUCT((RankNHDD[Month]=ChillTempAct[[#This Row],[Month]])*(RankNHDD[Rank]=ChillTempAct[[#This Row],[Rank]])*RankNHDD[KIRKNHDD])","v":18.225089605734766},{"$f":"YEAR(ChillTempAct[[#This Row],[Date]])","v":2022},{"$f":"MONTH(ChillTempAct[[#This Row],[Date]])","v":12},{"$f":"IF(ChillTempAct[[#This Row],[Month]]=J881,K881+1,1)","v":30}]
[44925,67,29,{"$f":"AVERAGE(ChillTempAct[[#This Row],[ChillHigh]:[ChillLow]])","v":48},{"$f":"IF(ChillTempAct[[#This Row],[ChillAve]]<65,65-ChillTempAct[[#This Row],[ChillAve]],0)","v":17},{"$f":"INDEX(TempAdj[AdjustPct],MATCH(MONTH(ChillTempAct[[#This Row],[Date]]),TempAdj[Month],0))","v":2.8799999999999999E-2},{"$f":"ChillTempAct[[#This Row],[ChillHDD]]*(1+ChillTempAct[[#This Row],[ChillAdj]])","v":17.489599999999999},{"$f":"SUMPRODUCT((RankNHDD[Month]=ChillTempAct[[#This Row],[Month]])*(RankNHDD[Rank]=ChillTempAct[[#This Row],[Rank]])*RankNHDD[KIRKNHDD])","v":12.179946236559145},{"$f":"YEAR(ChillTempAct[[#This Row],[Date]])","v":2022},{"$f":"MONTH(ChillTempAct[[#This Row],[Date]])","v":12},{"$f":"IF(ChillTempAct[[#This Row],[Month]]=J882,K882+1,1)","v":31}]

{"sheet":"CGITempActuals","index":13,"n_rows":884,"n_cols":15,"rows_kept":884,"cut":false,"hidden":false,"merged":[]}
["Date","CGIHigh","CGILow","CGIAve","CGIHDD","CGINHDD","Year","Month","Rank","Preparer's Notes","Reviewer's Notes",null,"Process for updating table:"]
[44048,80,56,{"$f":"AVERAGE(CGITempAct[[#This Row],[CGIHigh]:[CGILow]]\n)","v":68},{"$f":"IF(CGITempAct[[#This Row],[CGIAve]]<65,(65-CGITempAct[[#This Row],[CGIAve]]),0)","v":0},{"$f":"SUMPRODUCT((RankNHDD[Month]=CGITempAct[[#This Row],[Month]])*(RankNHDD[Rank]=CGITempAct[[#This Row],[Rank]])*RankNHDD[CGINHDD])","v":0.9},{"$f":"YEAR(CGITempAct[[#This Row],[Date]])","v":2020},{"$f":"MONTH(CGITempAct[[#This Row],[Date]])","v":8},{"$f":"IF(CGITempAct[[#This Row],[Month]]=H1,I1+1,1)","v":1},null,null,null,"1)  Enter New Data at end of table"]
[44044,75,62,{"$f":"AVERAGE(CGITempAct[[#This Row],[CGIHigh]:[CGILow]]\n)","v":68.5},{"$f":"IF(CGITempAct[[#This Row],[CGIAve]]<65,(65-CGITempAct[[#This Row],[CGIAve]]),0)","v":0},{"$f":"SUMPRODUCT((RankNHDD[Month]=CGITempAct[[#This Row],[Month]])*(RankNHDD[Rank]=CGITempAct[[#This Row],[Rank]])*RankNHDD[CGINHDD])","v":0},{"$f":"YEAR(CGITempAct[[#This Row],[Date]])","v":2020},{"$f":"MONTH(CGITempAct[[#This Row],[Date]])","v":8},{"$f":"IF(CGITempAct[[#This Row],[Month]]=H2,I2+1,1)","v":2},null,null,null,null,"New Data = Date, CCGHigh, CCGILow"]
[44049,82,55,{"$f":"AVERAGE(CGITempAct[[#This Row],[CGIHigh]:[CGILow]]\n)","v":68.5},{"$f":"IF(CGITempAct[[#This Row],[CGIAve]]<65,(65-CGITempAct[[#This Row],[CGIAve]]),0)","v":0},{"$f":"SUMPRODUCT((RankNHDD[Month]=CGITempAct[[#This Row],[Month]])*(RankNHDD[Rank]=CGITempAct[[#This Row],[Rank]])*RankNHDD[CGINHDD])","v":0},{"$f":"YEAR(CGITempAct[[#This Row],[Date]])","v":2020},{"$f":"MONTH(CGITempAct[[#This Row],[Date]])","v":8},{"$f":"IF(CGITempAct[[#This Row],[Month]]=H3,I3+1,1)","v":3},null,null,null,"2)  Sort by:"]
[44047,79,59,{"$f":"AVERAGE(CGITempAct[[#This Row],[CGIHigh]:[CGILow]]\n)","v":69},{"$f":"IF(CGITempAct[[#This Row],[CGIAve]]<65,(65-CGITempAct[[#This Row],[CGIAve]]),0)","v":0},{"$f":"SUMPRODUCT((RankNHDD[Month]=CGITempAct[[#This Row],[Month]])*(RankNHDD[Rank]=CGITempAct[[#This Row],[Rank]])*RankNHDD[CGINHDD])","v":0},{"$f":"YEAR(CGITempAct[[#This Row],[Date]])","v":2020},{"$f":"MONTH(CGITempAct[[#This Row],[Date]])","v":8},{"$f":"IF(CGITempAct[[#This Row],[Month]]=H4,I4+1,1)","v":4},null,null,null,null,"Year","Smallest to Largest"]
[44062,82,59,{"$f":"AVERAGE(CGITempAct[[#This Row],[CGIHigh]:[CGILow]]\n)","v":70.5},{"$f":"IF(CGITempAct[[#This Row],[CGIAve]]<65,(65-CGITempAct[[#This Row],[CGIAve]]),0)","v":0},{"$f":"SUMPRODUCT((RankNHDD[Month]=CGITempAct[[#This Row],[Month]])*(RankNHDD[Rank]=CGITempAct[[#This Row],[Rank]])*RankNHDD[CGINHDD])","v":0},{"$f":"YEAR(CGITempAct[[#This Row],[Date]])","v":2020},{"$f":"MONTH(CGITempAct[[#This Row],[Date]])","v":8},{"$f":"IF(CGITempAct[[#This Row],[Month]]=H5,I5+1,1)","v":5},null,null,null,null,"Month","Smallest to Largest"]
[44063,85,58,{"$f":"AVERAGE(CGITempAct[[#This Row],[CGIHigh]:[CGILow]]\n)","v":71.5},{"$f":"IF(CGITempAct[[#This Row],[CGIAve]]<65,(65-CGITempAct[[#This Row],[CGIAve]]),0)","v":0},{"$f":"SUMPRODUCT((RankNHDD[Month]=CGITempAct[[#This Row],[Month]])*(RankNHDD[Rank]=CGITempAct[[#This Row],[Rank]])*RankNHDD[CGINHDD])","v":0},{"$f":"YEAR(CGITempAct[[#This Row],[Date]])","v":2020},{"$f":"MONTH(CGITempAct[[#This Row],[Date]])","v":8},{"$f":"IF(CGITempAct[[#This Row],[Month]]=H6,I6+1,1)","v":6},null,null,null,null,"ChillAve","Smallest to Largest"]
[44060,86,59,{"$f":"AVERAGE(CGITempAct[[#This Row],[CGIHigh]:[CGILow]]\n)","v":72.5},{"$f":"IF(CGITempAct[[#This Row],[CGIAve]]<65,(65-CGITempAct[[#This Row],[CGIAve]]),0)","v":0},{"$f":"SUMPRODUCT((RankNHDD[Month]=CGITempAct[[#This Row],[Month]])*(RankNHDD[Rank]=CGITempAct[[#This Row],[Rank]])*RankNHDD[CGINHDD])","v":0},{"$f":"YEAR(CGITempAct[[#This Row],[Date]])","v":2020},{"$f":"MONTH(CGITempAct[[#This Row],[Date]])","v":8},{"$f":"IF(CGITempAct[[#This Row],[Month]]=H7,I7+1,1)","v":7},null,null,null,"3)  Formulas in rest of table will be applied to New Data"]
[44045,84,62,{"$f":"AVERAGE(CGITempAct[[#This Row],[CGIHigh]:[CGILow]]\n)","v":73},{"$f":"IF(CGITempAct[[#This Row],[CGIAve]]<65,(65-CGITempAct[[#This Row],[CGIAve]]),0)","v":0},{"$f":"SUMPRODUCT((RankNHDD[Month]=CGITempAct[[#This Row],[Month]])*(RankNHDD[Rank]=CGITempAct[[#This Row],[Rank]])*RankNHDD[CGINHDD])","v":0},{"$f":"YEAR(CGITempAct[[#This Row],[Date]])","v":2020},{"$f":"MONTH(CGITempAct[[#This Row],[Date]])","v":8},{"$f":"IF(CGITempAct[[#This Row],[Month]]=H8,I8+1,1)","v":8},null,null,null,"4)  Do not overwrite formulas!"]
[44064,86,60,{"$f":"AVERAGE(CGITempAct[[#This Row],[CGIHigh]:[CGILow]]\n)","v":73},{"$f":"IF(CGITempAct[[#This Row],[CGIAve]]<65,(65-CGITempAct[[#This Row],[CGIAve]]),0)","v":0},{"$f":"SUMPRODUCT((RankNHDD[Month]=CGITempAct[[#This Row],[Month]])*(RankNHDD[Rank]=CGITempAct[[#This Row],[Rank]])*RankNHDD[CGINHDD])","v":0},{"$f":"YEAR(CGITempAct[[#This Row],[Date]])","v":2020},{"$f":"MONTH(CGITempAct[[#This Row],[Date]])","v":8},{"$f":"IF(CGITempAct[[#This Row],[Month]]=H9,I9+1,1)","v":9},null,null,null,"5)  Weather Data is from the Cape Girardeau weather station"]
[44073,78,68,{"$f":"AVERAGE(CGITempAct[[#This Row],[CGIHigh]:[CGILow]]\n)","v":73},{"$f":"IF(CGITempAct[[#This Row],[CGIAve]]<65,(65-CGITempAct[[#This Row],[CGIAve]]),0)","v":0},{"$f":"SUMPRODUCT((RankNHDD[Month]=CGITempAct[[#This Row],[Month]])*(RankNHDD[Rank]=CGITempAct[[#This Row],[Rank]])*RankNHDD[CGINHDD])","v":0},{"$f":"YEAR(CGITempAct[[#This Row],[Date]])","v":2020},{"$f":"MONTH(CGITempAct[[#This Row],[Date]])","v":8},{"$f":"IF(CGITempAct[[#This Row],[Month]]=H10,I10+1,1)","v":10},null,null,null,"6)  Station ID Information:"]
[44050,86,61,{"$f":"AVERAGE(CGITempAct[[#This Row],[CGIHigh]:[CGILow]]\n)","v":73.5},{"$f":"IF(CGITempAct[[#This Row],[CGIAve]]<65,(65-CGITempAct[[#This Row],[CGIAve]]),0)","v":0},{"$f":"SUMPRODUCT((RankNHDD[Month]=CGITempAct[[#This Row],[Month]])*(RankNHDD[Rank]=CGITempAct[[#This Row],[Rank]])*RankNHDD[CGINHDD])","v":0},{"$f":"YEAR(CGITempAct[[#This Row],[Date]])","v":2020},{"$f":"MONTH(CGITempAct[[#This Row],[Date]])","v":8},{"$f":"IF(CGITempAct[[#This Row],[Month]]=H11,I11+1,1)","v":11},null,null,null,null,"NWS Cooperative Network ID:  231289"]
[44059,85,63,{"$f":"AVERAGE(CGITempAct[[#This Row],[CGIHigh]:[CGILow]]\n)","v":74},{"$f":"IF(CGITempAct[[#This Row],[CGIAve]]<65,(65-CGITempAct[[#This Row],[CGIAve]]),0)","v":0},{"$f":"SUMPRODUCT((RankNHDD[Month]=CGITempAct[[#This Row],[Month]])*(RankNHDD[Rank]=CGITempAct[[#This Row],[Rank]])*RankNHDD[CGINHDD])","v":0},{"$f":"YEAR(CGITempAct[[#This Row],[Date]])","v":2020},{"$f":"MONTH(CGITempAct[[#This Row],[Date]])","v":8},{"$f":"IF(CGITempAct[[#This Row],[Month]]=H12,I12+1,1)","v":12},null,null,null,null,"WBAN (Weather Bureau Army Navy) ID:  03935"]
[44061,84,64,{"$f":"AVERAGE(CGITempAct[[#This Row],[CGIHigh]:[CGILow]]\n)","v":74},{"$f":"IF(CGITempAct[[#This Row],[CGIAve]]<65,(65-CGITempAct[[#This Row],[CGIAve]]),0)","v":0},{"$f":"SUMPRODUCT((RankNHDD[Month]=CGITempAct[[#This Row],[Month]])*(RankNHDD[Rank]=CGITempAct[[#This Row],[Rank]])*RankNHDD[CGINHDD])","v":0},{"$f":"YEAR(CGITempAct[[#This Row],[Date]])","v":2020},{"$f":"MONTH(CGITempAct[[#This Row],[Date]])","v":8},{"$f":"IF(CGITempAct[[#This Row],[Month]]=H13,I13+1,1)","v":13},null,null,null,null,"Other ID:  USW00003935"]
[44065,88,62,{"$f":"AVERAGE(CGITempAct[[#This Row],[CGIHigh]:[CGILow]]\n)","v":75},{"$f":"IF(CGITempAct[[#This Row],[CGIAve]]<65,(65-CGITempAct[[#This Row],[CGIAve]]),0)","v":0},{"$f":"SUMPRODUCT((RankNHDD[Month]=CGITempAct[[#This Row],[Month]])*(RankNHDD[Rank]=CGITempAct[[#This Row],[Rank]])*RankNHDD[CGINHDD])","v":0},{"$f":"YEAR(CGITempAct[[#This Row],[Date]])","v":2020},{"$f":"MONTH(CGITempAct[[#This Row],[Date]])","v":8},{"$f":"IF(CGITempAct[[#This Row],[Month]]=H14,I14+1,1)","v":14}]
[44046,85,66,{"$f":"AVERAGE(CGITempAct[[#This Row],[CGIHigh]:[CGILow]]\n)","v":75.5},{"$f":"IF(CGITempAct[[#This Row],[CGIAve]]<65,(65-CGITempAct[[#This Row],[CGIAve]]),0)","v":0},{"$f":"SUMPRODUCT((RankNHDD[Month]=CGITempAct[[#This Row],[Month]])*(RankNHDD[Rank]=CGITempAct[[#This Row],[Rank]])*RankNHDD[CGINHDD])","v":0},{"$f":"YEAR(CGITempAct[[#This Row],[Date]])","v":2020},{"$f":"MONTH(CGITempAct[[#This Row],[Date]])","v":8},{"$f":"IF(CGITempAct[[#This Row],[Month]]=H15,I15+1,1)","v":15}]
[44074,86,65,{"$f":"AVERAGE(CGITempAct[[#This Row],[CGIHigh]:[CGILow]]\n)","v":75.5},{"$f":"IF(CGITempAct[[#This Row],[CGIAve]]<65,(65-CGITempAct[[#This Row],[CGIAve]]),0)","v":0},{"$f":"SUMPRODUCT((RankNHDD[Month]=CGITempAct[[#This Row],[Month]])*(RankNHDD[Rank]=CGITempAct[[#This Row],[Rank]])*RankNHDD[CGINHDD])","v":0},{"$f":"YEAR(CGITempAct[[#This Row],[Date]])","v":2020},{"$f":"MONTH(CGITempAct[[#This Row],[Date]])","v":8},{"$f":"IF(CGITempAct[[#This Row],[Month]]=H16,I16+1,1)","v":16}]
[44054,83,69,{"$f":"AVERAGE(CGITempAct[[#This Row],[CGIHigh]:[CGILow]]\n)","v":76},{"$f":"IF(CGITempAct[[#This Row],[CGIAve]]<65,(65-CGITempAct[[#This Row],[CGIAve]]),0)","v":0},{"$f":"SUMPRODUCT((RankNHDD[Month]=CGITempAct[[#This Row],[Month]])*(RankNHDD[Rank]=CGITempAct[[#This Row],[Rank]])*RankNHDD[CGINHDD])","v":0},{"$f":"YEAR(CGITempAct[[#This Row],[Date]])","v":2020},{"$f":"MONTH(CGITempAct[[#This Row],[Date]])","v":8},{"$f":"IF(CGITempAct[[#This Row],[Month]]=H17,I17+1,1)","v":17}]
[44066,90,62,{"$f":"AVERAGE(CGITempAct[[#This Row],[CGIHigh]:[CGILow]]\n)","v":76},{"$f":"IF(CGITempAct[[#This Row],[CGIAve]]<65,(65-CGITempAct[[#This Row],[CGIAve]]),0)","v":0},{"$f":"SUMPRODUCT((RankNHDD[Month]=CGITempAct[[#This Row],[Month]])*(RankNHDD[Rank]=CGITempAct[[#This Row],[Rank]])*RankNHDD[CGINHDD])","v":0},{"$f":"YEAR(CGITempAct[[#This Row],[Date]])","v":2020},{"$f":"MONTH(CGITempAct[[#This Row],[Date]])","v":8},{"$f":"IF(CGITempAct[[#This Row],[Month]]=H18,I18+1,1)","v":18}]
[44051,89,64,{"$f":"AVERAGE(CGITempAct[[#This Row],[CGIHigh]:[CGILow]]\n)","v":76.5},{"$f":"IF(CGITempAct[[#This Row],[CGIAve]]<65,(65-CGITempAct[[#This Row],[CGIAve]]),0)","v":0},{"$f":"SUMPRODUCT((RankNHDD[Month]=CGITempAct[[#This Row],[Month]])*(RankNHDD[Rank]=CGITempAct[[#This Row],[Rank]])*RankNHDD[CGINHDD])","v":0},{"$f":"YEAR(CGITempAct[[#This Row],[Date]])","v":2020},{"$f":"MONTH(CGITempAct[[#This Row],[Date]])","v":8},{"$f":"IF(CGITempAct[[#This Row],[Month]]=H19,I19+1,1)","v":19}]
[44071,82,72,{"$f":"AVERAGE(CGITempAct[[#This Row],[CGIHigh]:[CGILow]]\n)","v":77},{"$f":"IF(CGITempAct[[#This Row],[CGIAve]]<65,(65-CGITempAct[[#This Row],[CGIAve]]),0)","v":0},{"$f":"SUMPRODUCT((RankNHDD[Month]=CGITempAct[[#This Row],[Month]])*(RankNHDD[Rank]=CGITempAct[[#This Row],[Rank]])*RankNHDD[CGINHDD])","v":0},{"$f":"YEAR(CGITempAct[[#This Row],[Date]])","v":2020},{"$f":"MONTH(CGITempAct[[#This Row],[Date]])","v":8},{"$f":"IF(CGITempAct[[#This Row],[Month]]=H20,I20+1,1)","v":20}]
[44057,88,68,{"$f":"AVERAGE(CGITempAct[[#This Row],[CGIHigh]:[CGILow]]\n)","v":78},{"$f":"IF(CGITempAct[[#This Row],[CGIAve]]<65,(65-CGITempAct[[#This Row],[CGIAve]]),0)","v":0},{"$f":"SUMPRODUCT((RankNHDD[Month]=CGITempAct[[#This Row],[Month]])*(RankNHDD[Rank]=CGITempAct[[#This Row],[Rank]])*RankNHDD[CGINHDD])","v":0},{"$f":"YEAR(CGITempAct[[#This Row],[Date]])","v":2020},{"$f":"MONTH(CGITempAct[[#This Row],[Date]])","v":8},{"$f":"IF(CGITempAct[[#This Row],[Month]]=H21,I21+1,1)","v":21}]
[44058,91,65,{"$f":"AVERAGE(CGITempAct[[#This Row],[CGIHigh]:[CGILow]]\n)","v":78},{"$f":"IF(CGITempAct[[#This Row],[CGIAve]]<65,(65-CGITempAct[[#This Row],[CGIAve]]),0)","v":0},{"$f":"SUMPRODUCT((RankNHDD[Month]=CGITempAct[[#This Row],[Month]])*(RankNHDD[Rank]=CGITempAct[[#This Row],[Rank]])*RankNHDD[CGINHDD])","v":0},{"$f":"YEAR(CGITempAct[[#This Row],[Date]])","v":2020},{"$f":"MONTH(CGITempAct[[#This Row],[Date]])","v":8},{"$f":"IF(CGITempAct[[#This Row],[Month]]=H22,I22+1,1)","v":22}]
[44069,87,69,{"$f":"AVERAGE(CGITempAct[[#This Row],[CGIHigh]:[CGILow]]\n)","v":78},{"$f":"IF(CGITempAct[[#This Row],[CGIAve]]<65,(65-CGITempAct[[#This Row],[CGIAve]]),0)","v":0},{"$f":"SUMPRODUCT((RankNHDD[Month]=CGITempAct[[#This Row],[Month]])*(RankNHDD[Rank]=CGITempAct[[#This Row],[Rank]])*RankNHDD[CGINHDD])","v":0},{"$f":"YEAR(CGITempAct[[#This Row],[Date]])","v":2020},{"$f":"MONTH(CGITempAct[[#This Row],[Date]])","v":8},{"$f":"IF(CGITempAct[[#This Row],[Month]]=H23,I23+1,1)","v":23}]
[44068,92,65,{"$f":"AVERAGE(CGITempAct[[#This Row],[CGIHigh]:[CGILow]]\n)","v":78.5},{"$f":"IF(CGITempAct[[#This Row],[CGIAve]]<65,(65-CGITempAct[[#This Row],[CGIAve]]),0)","v":0},{"$f":"SUMPRODUCT((RankNHDD[Month]=CGITempAct[[#This Row],[Month]])*(RankNHDD[Rank]=CGITempAct[[#This Row],[Rank]])*RankNHDD[CGINHDD])","v":0},{"$f":"YEAR(CGITempAct[[#This Row],[Date]])","v":2020},{"$f":"MONTH(CGITempAct[[#This Row],[Date]])","v":8},{"$f":"IF(CGITempAct[[#This Row],[Month]]=H24,I24+1,1)","v":24}]
[44067,92,66,{"$f":"AVERAGE(CGITempAct[[#This Row],[CGIHigh]:[CGILow]]\n)","v":79},{"$f":"IF(CGITempAct[[#This Row],[CGIAve]]<65,(65-CGITempAct[[#This Row],[CGIAve]]),0)","v":0},{"$f":"SUMPRODUCT((RankNHDD[Month]=CGITempAct[[#This Row],[Month]])*(RankNHDD[Rank]=CGITempAct[[#This Row],[Rank]])*RankNHDD[CGINHDD])","v":0},{"$f":"YEAR(CGITempAct[[#This Row],[Date]])","v":2020},{"$f":"MONTH(CGITempAct[[#This Row],[Date]])","v":8},{"$f":"IF(CGITempAct[[#This Row],[Month]]=H25,I25+1,1)","v":25}]
[44072,89,69,{"$f":"AVERAGE(CGITempAct[[#This Row],[CGIHigh]:[CGILow]]\n)","v":79},{"$f":"IF(CGITempAct[[#This Row],[CGIAve]]<65,(65-CGITempAct[[#This Row],[CGIAve]]),0)","v":0},{"$f":"SUMPRODUCT((RankNHDD[Month]=CGITempAct[[#This Row],[Month]])*(RankNHDD[Rank]=CGITempAct[[#This Row],[Rank]])*RankNHDD[CGINHDD])","v":0},{"$f":"YEAR(CGITempAct[[#This Row],[Date]])","v":2020},{"$f":"MONTH(CGITempAct[[#This Row],[Date]])","v":8},{"$f":"IF(CGITempAct[[#This Row],[Month]]=H26,I26+1,1)","v":26}]
[44055,86,73,{"$f":"AVERAGE(CGITempAct[[#This Row],[CGIHigh]:[CGILow]]\n)","v":79.5},{"$f":"IF(CGITempAct[[#This Row],[CGIAve]]<65,(65-CGITempAct[[#This Row],[CGIAve]]),0)","v":0},{"$f":"SUMPRODUCT((RankNHDD[Month]=CGITempAct[[#This Row],[Month]])*(RankNHDD[Rank]=CGITempAct[[#This Row],[Rank]])*RankNHDD[CGINHDD])","v":0},{"$f":"YEAR(CGITempAct[[#This Row],[Date]])","v":2020},{"$f":"MONTH(CGITempAct[[#This Row],[Date]])","v":8},{"$f":"IF(CGITempAct[[#This Row],[Month]]=H27,I27+1,1)","v":27}]
[44056,87,72,{"$f":"AVERAGE(CGITempAct[[#This Row],[CGIHigh]:[CGILow]]\n)","v":79.5},{"$f":"IF(CGITempAct[[#This Row],[CGIAve]]<65,(65-CGITempAct[[#This Row],[CGIAve]]),0)","v":0},{"$f":"SUMPRODUCT((RankNHDD[Month]=CGITempAct[[#This Row],[Month]])*(RankNHDD[Rank]=CGITempAct[[#This Row],[Rank]])*RankNHDD[CGINHDD])","v":0},{"$f":"YEAR(CGITempAct[[#This Row],[Date]])","v":2020},{"$f":"MONTH(CGITempAct[[#This Row],[Date]])","v":8},{"$f":"IF(CGITempAct[[#This Row],[Month]]=H28,I28+1,1)","v":28}]
[44070,86,74,{"$f":"AVERAGE(CGITempAct[[#This Row],[CGIHigh]:[CGILow]]\n)","v":80},{"$f":"IF(CGITempAct[[#This Row],[CGIAve]]<65,(65-CGITempAct[[#This Row],[CGIAve]]),0)","v":0},{"$f":"SUMPRODUCT((RankNHDD[Month]=CGITempAct[[#This Row],[Month]])*(RankNHDD[Rank]=CGITempAct[[#This Row],[Rank]])*RankNHDD[CGINHDD])","v":0},{"$f":"YEAR(CGITempAct[[#This Row],[Date]])","v":2020},{"$f":"MONTH(CGITempAct[[#This Row],[Date]])","v":8},{"$f":"IF(CGITempAct[[#This Row],[Month]]=H29,I29+1,1)","v":29}]
[44053,91,71,{"$f":"AVERAGE(CGITempAct[[#This Row],[CGIHigh]:[CGILow]]\n)","v":81},{"$f":"IF(CGITempAct[[#This Row],[CGIAve]]<65,(65-CGITempAct[[#This Row],[CGIAve]]),0)","v":0},{"$f":"SUMPRODUCT((RankNHDD[Month]=CGITempAct[[#This Row],[Month]])*(RankNHDD[Rank]=CGITempAct[[#This Row],[Rank]])*RankNHDD[CGINHDD])","v":0},{"$f":"YEAR(CGITempAct[[#This Row],[Date]])","v":2020},{"$f":"MONTH(CGITempAct[[#This Row],[Date]])","v":8},{"$f":"IF(CGITempAct[[#This Row],[Month]]=H30,I30+1,1)","v":30}]
[44052,89,74,{"$f":"AVERAGE(CGITempAct[[#This Row],[CGIHigh]:[CGILow]]\n)","v":81.5},{"$f":"IF(CGITempAct[[#This Row],[CGIAve]]<65,(65-CGITempAct[[#This Row],[CGIAve]]),0)","v":0},{"$f":"SUMPRODUCT((RankNHDD[Month]=CGITempAct[[#This Row],[Month]])*(RankNHDD[Rank]=CGITempAct[[#This Row],[Rank]])*RankNHDD[CGINHDD])","v":0},{"$f":"YEAR(CGITempAct[[#This Row],[Date]])","v":2020},{"$f":"MONTH(CGITempAct[[#This Row],[Date]])","v":8},{"$f":"IF(CGITempAct[[#This Row],[Month]]=H31,I31+1,1)","v":31}]
[44103,68,42,{"$f":"AVERAGE(CGITempAct[[#This Row],[CGIHigh]:[CGILow]]\n)","v":55},{"$f":"IF(CGITempAct[[#This Row],[CGIAve]]<65,(65-CGITempAct[[#This Row],[CGIAve]]),0)","v":10},{"$f":"SUMPRODUCT((RankNHDD[Month]=CGITempAct[[#This Row],[Month]])*(RankNHDD[Rank]=CGITempAct[[#This Row],[Rank]])*RankNHDD[CGINHDD])","v":12.6},{"$f":"YEAR(CGITempAct[[#This Row],[Date]])","v":2020},{"$f":"MONTH(CGITempAct[[#This Row],[Date]])","v":9},{"$f":"IF(CGITempAct[[#This Row],[Month]]=H32,I32+1,1)","v":1}]
[44093,73,46,{"$f":"AVERAGE(CGITempAct[[#This Row],[CGIHigh]:[CGILow]]\n)","v":59.5},{"$f":"IF(CGITempAct[[#This Row],[CGIAve]]<65,(65-CGITempAct[[#This Row],[CGIAve]]),0)","v":5.5},{"$f":"SUMPRODUCT((RankNHDD[Month]=CGITempAct[[#This Row],[Month]])*(RankNHDD[Rank]=CGITempAct[[#This Row],[Rank]])*RankNHDD[CGINHDD])","v":8.9},{"$f":"YEAR(CGITempAct[[#This Row],[Date]])","v":2020},{"$f":"MONTH(CGITempAct[[#This Row],[Date]])","v":9},{"$f":"IF(CGITempAct[[#This Row],[Month]]=H33,I33+1,1)","v":2}]
[44102,71,48,{"$f":"AVERAGE(CGITempAct[[#This Row],[CGIHigh]:[CGILow]]\n)","v":59.5},{"$f":"IF(CGITempAct[[#This Row],[CGIAve]]<65,(65-CGITempAct[[#This Row],[CGIAve]]),0)","v":5.5},{"$f":"SUMPRODUCT((RankNHDD[Month]=CGITempAct[[#This Row],[Month]])*(RankNHDD[Rank]=CGITempAct[[#This Row],[Rank]])*RankNHDD[CGINHDD])","v":6.7},{"$f":"YEAR(CGITempAct[[#This Row],[Date]])","v":2020},{"$f":"MONTH(CGITempAct[[#This Row],[Date]])","v":9},{"$f":"IF(CGITempAct[[#This Row],[Month]]=H34,I34+1,1)","v":3}]
[44094,78,43,{"$f":"AVERAGE(CGITempAct[[#This Row],[CGIHigh]:[CGILow]]\n)","v":60.5},{"$f":"IF(CGITempAct[[#This Row],[CGIAve]]<65,(65-CGITempAct[[#This Row],[CGIAve]]),0)","v":4.5},{"$f":"SUMPRODUCT((RankNHDD[Month]=CGITempAct[[#This Row],[Month]])*(RankNHDD[Rank]=CGITempAct[[#This Row],[Rank]])*RankNHDD[CGINHDD])","v":5.2},{"$f":"YEAR(CGITempAct[[#This Row],[Date]])","v":2020},{"$f":"MONTH(CGITempAct[[#This Row],[Date]])","v":9},{"$f":"IF(CGITempAct[[#This Row],[Month]]=H35,I35+1,1)","v":4}]
[44096,71,51,{"$f":"AVERAGE(CGITempAct[[#This Row],[CGIHigh]:[CGILow]]\n)","v":61},{"$f":"IF(CGITempAct[[#This Row],[CGIAve]]<65,(65-CGITempAct[[#This Row],[CGIAve]]),0)","v":4},{"$f":"SUMPRODUCT((RankNHDD[Month]=CGITempAct[[#This Row],[Month]])*(RankNHDD[Rank]=CGITempAct[[#This Row],[Rank]])*RankNHDD[CGINHDD])","v":3.5},{"$f":"YEAR(CGITempAct[[#This Row],[Date]])","v":2020},{"$f":"MONTH(CGITempAct[[#This Row],[Date]])","v":9},{"$f":"IF(CGITempAct[[#This Row],[Month]]=H36,I36+1,1)","v":5}]
[44097,69,55,{"$f":"AVERAGE(CGITempAct[[#This Row],[CGIHigh]:[CGILow]]\n)","v":62},{"$f":"IF(CGITempAct[[#This Row],[CGIAve]]<65,(65-CGITempAct[[#This Row],[CGIAve]]),0)","v":3},{"$f":"SUMPRODUCT((RankNHDD[Month]=CGITempAct[[#This Row],[Month]])*(RankNHDD[Rank]=CGITempAct[[#This Row],[Rank]])*RankNHDD[CGINHDD])","v":2.7},{"$f":"YEAR(CGITempAct[[#This Row],[Date]])","v":2020},{"$f":"MONTH(CGITempAct[[#This Row],[Date]])","v":9},{"$f":"IF(CGITempAct[[#This Row],[Month]]=H37,I37+1,1)","v":6}]
[44098,71,54,{"$f":"AVERAGE(CGITempAct[[#This Row],[CGIHigh]:[CGILow]]\n)","v":62.5},{"$f":"IF(CGITempAct[[#This Row],[CGIAve]]<65,(65-CGITempAct[[#This Row],[CGIAve]]),0)","v":2.5},{"$f":"SUMPRODUCT((RankNHDD[Month]=CGITempAct[[#This Row],[Month]])*(RankNHDD[Rank]=CGITempAct[[#This Row],[Rank]])*RankNHDD[CGINHDD])","v":1.7},{"$f":"YEAR(CGITempAct[[#This Row],[Date]])","v":2020},{"$f":"MONTH(CGITempAct[[#This Row],[Date]])","v":9},{"$f":"IF(CGITempAct[[#This Row],[Month]]=H38,I38+1,1)","v":7}]
[44099,71,55,{"$f":"AVERAGE(CGITempAct[[#This Row],[CGIHigh]:[CGILow]]\n)","v":63},{"$f":"IF(CGITempAct[[#This Row],[CGIAve]]<65,(65-CGITempAct[[#This Row],[CGIAve]]),0)","v":2},{"$f":"SUMPRODUCT((RankNHDD[Month]=CGITempAct[[#This Row],[Month]])*(RankNHDD[Rank]=CGITempAct[[#This Row],[Rank]])*RankNHDD[CGINHDD])","v":0.9},{"$f":"YEAR(CGITempAct[[#This Row],[Date]])","v":2020},{"$f":"MONTH(CGITempAct[[#This Row],[Date]])","v":9},{"$f":"IF(CGITempAct[[#This Row],[Month]]=H39,I39+1,1)","v":8}]
[44104,82,44,{"$f":"AVERAGE(CGITempAct[[#This Row],[CGIHigh]:[CGILow]]\n)","v":63},{"$f":"IF(CGITempAct[[#This Row],[CGIAve]]<65,(65-CGITempAct[[#This Row],[CGIAve]]),0)","v":2},{"$f":"SUMPRODUCT((RankNHDD[Month]=CGITempAct[[#This Row],[Month]])*(RankNHDD[Rank]=CGITempAct[[#This Row],[Rank]])*RankNHDD[CGINHDD])","v":0.2},{"$f":"YEAR(CGITempAct[[#This Row],[Date]])","v":2020},{"$f":"MONTH(CGITempAct[[#This Row],[Date]])","v":9},{"$f":"IF(CGITempAct[[#This Row],[Month]]=H40,I40+1,1)","v":9}]
[44095,78,49,{"$f":"AVERAGE(CGITempAct[[#This Row],[CGIHigh]:[CGILow]]\n)","v":63.5},{"$f":"IF(CGITempAct[[#This Row],[CGIAve]]<65,(65-CGITempAct[[#This Row],[CGIAve]]),0)","v":1.5},{"$f":"SUMPRODUCT((RankNHDD[Month]=CGITempAct[[#This Row],[Month]])*(RankNHDD[Rank]=CGITempAct[[#This Row],[Rank]])*RankNHDD[CGINHDD])","v":0},{"$f":"YEAR(CGITempAct[[#This Row],[Date]])","v":2020},{"$f":"MONTH(CGITempAct[[#This Row],[Date]])","v":9},{"$f":"IF(CGITempAct[[#This Row],[Month]]=H41,I41+1,1)","v":10}]
[44092,75,54,{"$f":"AVERAGE(CGITempAct[[#This Row],[CGIHigh]:[CGILow]]\n)","v":64.5},{"$f":"IF(CGITempAct[[#This Row],[CGIAve]]<65,(65-CGITempAct[[#This Row],[CGIAve]]),0)","v":0.5},{"$f":"SUMPRODUCT((RankNHDD[Month]=CGITempAct[[#This Row],[Month]])*(RankNHDD[Rank]=CGITempAct[[#This Row],[Rank]])*RankNHDD[CGINHDD])","v":0},{"$f":"YEAR(CGITempAct[[#This Row],[Date]])","v":2020},{"$f":"MONTH(CGITempAct[[#This Row],[Date]])","v":9},{"$f":"IF(CGITempAct[[#This Row],[Month]]=H42,I42+1,1)","v":11}]
[44091,84,53,{"$f":"AVERAGE(CGITempAct[[#This Row],[CGIHigh]:[CGILow]]\n)","v":68.5},{"$f":"IF(CGITempAct[[#This Row],[CGIAve]]<65,(65-CGITempAct[[#This Row],[CGIAve]]),0)","v":0},{"$f":"SUMPRODUCT((RankNHDD[Month]=CGITempAct[[#This Row],[Month]])*(RankNHDD[Rank]=CGITempAct[[#This Row],[Rank]])*RankNHDD[CGINHDD])","v":0},{"$f":"YEAR(CGITempAct[[#This Row],[Date]])","v":2020},{"$f":"MONTH(CGITempAct[[#This Row],[Date]])","v":9},{"$f":"IF(CGITempAct[[#This Row],[Month]]=H43,I43+1,1)","v":12}]
[44089,82,56,{"$f":"AVERAGE(CGITempAct[[#This Row],[CGIHigh]:[CGILow]]\n)","v":69},{"$f":"IF(CGITempAct[[#This Row],[CGIAve]]<65,(65-CGITempAct[[#This Row],[CGIAve]]),0)","v":0},{"$f":"SUMPRODUCT((RankNHDD[Month]=CGITempAct[[#This Row],[Month]])*(RankNHDD[Rank]=CGITempAct[[#This Row],[Rank]])*RankNHDD[CGINHDD])","v":0},{"$f":"YEAR(CGITempAct[[#This Row],[Date]])","v":2020},{"$f":"MONTH(CGITempAct[[#This Row],[Date]])","v":9},{"$f":"IF(CGITempAct[[#This Row],[Month]]=H44,I44+1,1)","v":13}]
[44079,84,55,{"$f":"AVERAGE(CGITempAct[[#This Row],[CGIHigh]:[CGILow]]\n)","v":69.5},{"$f":"IF(CGITempAct[[#This Row],[CGIAve]]<65,(65-CGITempAct[[#This Row],[CGIAve]]),0)","v":0},{"$f":"SUMPRODUCT((RankNHDD[Month]=CGITempAct[[#This Row],[Month]])*(RankNHDD[Rank]=CGITempAct[[#This Row],[Rank]])*RankNHDD[CGINHDD])","v":0},{"$f":"YEAR(CGITempAct[[#This Row],[Date]])","v":2020},{"$f":"MONTH(CGITempAct[[#This Row],[Date]])","v":9},{"$f":"IF(CGITempAct[[#This Row],[Month]]=H45,I45+1,1)","v":14}]
[44078,81,59,{"$f":"AVERAGE(CGITempAct[[#This Row],[CGIHigh]:[CGILow]]\n)","v":70},{"$f":"IF(CGITempAct[[#This Row],[CGIAve]]<65,(65-CGITempAct[[#This Row],[CGIAve]]),0)","v":0},{"$f":"SUMPRODUCT((RankNHDD[Month]=CGITempAct[[#This Row],[Month]])*(RankNHDD[Rank]=CGITempAct[[#This Row],[Rank]])*RankNHDD[CGINHDD])","v":0},{"$f":"YEAR(CGITempAct[[#This Row],[Date]])","v":2020},{"$f":"MONTH(CGITempAct[[#This Row],[Date]])","v":9},{"$f":"IF(CGITempAct[[#This Row],[Month]]=H46,I46+1,1)","v":15}]
[44088,83,58,{"$f":"AVERAGE(CGITempAct[[#This Row],[CGIHigh]:[CGILow]]\n)","v":70.5},{"$f":"IF(CGITempAct[[#This Row],[CGIAve]]<65,(65-CGITempAct[[#This Row],[CGIAve]]),0)","v":0},{"$f":"SUMPRODUCT((RankNHDD[Month]=CGITempAct[[#This Row],[Month]])*(RankNHDD[Rank]=CGITempAct[[#This Row],[Rank]])*RankNHDD[CGINHDD])","v":0},{"$f":"YEAR(CGITempAct[[#This Row],[Date]])","v":2020},{"$f":"MONTH(CGITempAct[[#This Row],[Date]])","v":9},{"$f":"IF(CGITempAct[[#This Row],[Month]]=H47,I47+1,1)","v":16}]
[44100,78,63,{"$f":"AVERAGE(CGITempAct[[#This Row],[CGIHigh]:[CGILow]]\n)","v":70.5},{"$f":"IF(CGITempAct[[#This Row],[CGIAve]]<65,(65-CGITempAct[[#This Row],[CGIAve]]),0)","v":0},{"$f":"SUMPRODUCT((RankNHDD[Month]=CGITempAct[[#This Row],[Month]])*(RankNHDD[Rank]=CGITempAct[[#This Row],[Rank]])*RankNHDD[CGINHDD])","v":0},{"$f":"YEAR(CGITempAct[[#This Row],[Date]])","v":2020},{"$f":"MONTH(CGITempAct[[#This Row],[Date]])","v":9},{"$f":"IF(CGITempAct[[#This Row],[Month]]=H48,I48+1,1)","v":17}]
[44075,77,65,{"$f":"AVERAGE(CGITempAct[[#This Row],[CGIHigh]:[CGILow]]\n)","v":71},{"$f":"IF(CGITempAct[[#This Row],[CGIAve]]<65,(65-CGITempAct[[#This Row],[CGIAve]]),0)","v":0},{"$f":"SUMPRODUCT((RankNHDD[Month]=CGITempAct[[#This Row],[Month]])*(RankNHDD[Rank]=CGITempAct[[#This Row],[Rank]])*RankNHDD[CGINHDD])","v":0},{"$f":"YEAR(CGITempAct[[#This Row],[Date]])","v":2020},{"$f":"MONTH(CGITempAct[[#This Row],[Date]])","v":9},{"$f":"IF(CGITempAct[[#This Row],[Month]]=H49,I49+1,1)","v":18}]
[44101,81,61,{"$f":"AVERAGE(CGITempAct[[#This Row],[CGIHigh]:[CGILow]]\n)","v":71},{"$f":"IF(CGITempAct[[#This Row],[CGIAve]]<65,(65-CGITempAct[[#This Row],[CGIAve]]),0)","v":0},{"$f":"SUMPRODUCT((RankNHDD[Month]=CGITempAct[[#This Row],[Month]])*(RankNHDD[Rank]=CGITempAct[[#This Row],[Rank]])*RankNHDD[CGINHDD])","v":0},{"$f":"YEAR(CGITempAct[[#This Row],[Date]])","v":2020},{"$f":"MONTH(CGITempAct[[#This Row],[Date]])","v":9},{"$f":"IF(CGITempAct[[#This Row],[Month]]=H50,I50+1,1)","v":19}]
[44080,86,57,{"$f":"AVERAGE(CGITempAct[[#This Row],[CGIHigh]:[CGILow]]\n)","v":71.5},{"$f":"IF(CGITempAct[[#This Row],[CGIAve]]<65,(65-CGITempAct[[#This Row],[CGIAve]]),0)","v":0},{"$f":"SUMPRODUCT((RankNHDD[Month]=CGITempAct[[#This Row],[Month]])*(RankNHDD[Rank]=CGITempAct[[#This Row],[Rank]])*RankNHDD[CGINHDD])","v":0},{"$f":"YEAR(CGITempAct[[#This Row],[Date]])","v":2020},{"$f":"MONTH(CGITempAct[[#This Row],[Date]])","v":9},{"$f":"IF(CGITempAct[[#This Row],[Month]]=H51,I51+1,1)","v":20}]
[44090,85,60,{"$f":"AVERAGE(CGITempAct[[#This Row],[CGIHigh]:[CGILow]]\n)","v":72.5},{"$f":"IF(CGITempAct[[#This Row],[CGIAve]]<65,(65-CGITempAct[[#This Row],[CGIAve]]),0)","v":0},{"$f":"SUMPRODUCT((RankNHDD[Month]=CGITempAct[[#This Row],[Month]])*(RankNHDD[Rank]=CGITempAct[[#This Row],[Rank]])*RankNHDD[CGINHDD])","v":0},{"$f":"YEAR(CGITempAct[[#This Row],[Date]])","v":2020},{"$f":"MONTH(CGITempAct[[#This Row],[Date]])","v":9},{"$f":"IF(CGITempAct[[#This Row],[Month]]=H52,I52+1,1)","v":21}]
[44087,83,64,{"$f":"AVERAGE(CGITempAct[[#This Row],[CGIHigh]:[CGILow]]\n)","v":73.5},{"$f":"IF(CGITempAct[[#This Row],[CGIAve]]<65,(65-CGITempAct[[#This Row],[CGIAve]]),0)","v":0},{"$f":"SUMPRODUCT((RankNHDD[Month]=CGITempAct[[#This Row],[Month]])*(RankNHDD[Rank]=CGITempAct[[#This Row],[Rank]])*RankNHDD[CGINHDD])","v":0},{"$f":"YEAR(CGITempAct[[#This Row],[Date]])","v":2020},{"$f":"MONTH(CGITempAct[[#This Row],[Date]])","v":9},{"$f":"IF(CGITempAct[[#This Row],[Month]]=H53,I53+1,1)","v":22}]
[44083,89,63,{"$f":"AVERAGE(CGITempAct[[#This Row],[CGIHigh]:[CGILow]]\n)","v":76},{"$f":"IF(CGITempAct[[#This Row],[CGIAve]]<65,(65-CGITempAct[[#This Row],[CGIAve]]),0)","v":0},{"$f":"SUMPRODUCT((RankNHDD[Month]=CGITempAct[[#This Row],[Month]])*(RankNHDD[Rank]=CGITempAct[[#This Row],[Rank]])*RankNHDD[CGINHDD])","v":0},{"$f":"YEAR(CGITempAct[[#This Row],[Date]])","v":2020},{"$f":"MONTH(CGITempAct[[#This Row],[Date]])","v":9},{"$f":"IF(CGITempAct[[#This Row],[Month]]=H54,I54+1,1)","v":23}]
[44084,89,63,{"$f":"AVERAGE(CGITempAct[[#This Row],[CGIHigh]:[CGILow]]\n)","v":76},{"$f":"IF(CGITempAct[[#This Row],[CGIAve]]<65,(65-CGITempAct[[#This Row],[CGIAve]]),0)","v":0},{"$f":"SUMPRODUCT((RankNHDD[Month]=CGITempAct[[#This Row],[Month]])*(RankNHDD[Rank]=CGITempAct[[#This Row],[Rank]])*RankNHDD[CGINHDD])","v":0},{"$f":"YEAR(CGITempAct[[#This Row],[Date]])","v":2020},{"$f":"MONTH(CGITempAct[[#This Row],[Date]])","v":9},{"$f":"IF(CGITempAct[[#This Row],[Month]]=H55,I55+1,1)","v":24}]
[44076,83,70,{"$f":"AVERAGE(CGITempAct[[#This Row],[CGIHigh]:[CGILow]]\n)","v":76.5},{"$f":"IF(CGITempAct[[#This Row],[CGIAve]]<65,(65-CGITempAct[[#This Row],[CGIAve]]),0)","v":0},{"$f":"SUMPRODUCT((RankNHDD[Month]=CGITempAct[[#This Row],[Month]])*(RankNHDD[Rank]=CGITempAct[[#This Row],[Rank]])*RankNHDD[CGINHDD])","v":0},{"$f":"YEAR(CGITempAct[[#This Row],[Date]])","v":2020},{"$f":"MONTH(CGITempAct[[#This Row],[Date]])","v":9},{"$f":"IF(CGITempAct[[#This Row],[Month]]=H56,I56+1,1)","v":25}]
[44085,88,65,{"$f":"AVERAGE(CGITempAct[[#This Row],[CGIHigh]:[CGILow]]\n)","v":76.5},{"$f":"IF(CGITempAct[[#This Row],[CGIAve]]<65,(65-CGITempAct[[#This Row],[CGIAve]]),0)","v":0},{"$f":"SUMPRODUCT((RankNHDD[Month]=CGITempAct[[#This Row],[Month]])*(RankNHDD[Rank]=CGITempAct[[#This Row],[Rank]])*RankNHDD[CGINHDD])","v":0},{"$f":"YEAR(CGITempAct[[#This Row],[Date]])","v":2020},{"$f":"MONTH(CGITempAct[[#This Row],[Date]])","v":9},{"$f":"IF(CGITempAct[[#This Row],[Month]]=H57,I57+1,1)","v":26}]
[44086,87,66,{"$f":"AVERAGE(CGITempAct[[#This Row],[CGIHigh]:[CGILow]]\n)","v":76.5},{"$f":"IF(CGITempAct[[#This Row],[CGIAve]]<65,(65-CGITempAct[[#This Row],[CGIAve]]),0)","v":0},{"$f":"SUMPRODUCT((RankNHDD[Month]=CGITempAct[[#This Row],[Month]])*(RankNHDD[Rank]=CGITempAct[[#This Row],[Rank]])*RankNHDD[CGINHDD])","v":0},{"$f":"YEAR(CGITempAct[[#This Row],[Date]])","v":2020},{"$f":"MONTH(CGITempAct[[#This Row],[Date]])","v":9},{"$f":"IF(CGITempAct[[#This Row],[Month]]=H58,I58+1,1)","v":27}]
[44081,87,67,{"$f":"AVERAGE(CGITempAct[[#This Row],[CGIHigh]:[CGILow]]\n)","v":77},{"$f":"IF(CGITempAct[[#This Row],[CGIAve]]<65,(65-CGITempAct[[#This Row],[CGIAve]]),0)","v":0},{"$f":"SUMPRODUCT((RankNHDD[Month]=CGITempAct[[#This Row],[Month]])*(RankNHDD[Rank]=CGITempAct[[#This Row],[Rank]])*RankNHDD[CGINHDD])","v":0},{"$f":"YEAR(CGITempAct[[#This Row],[Date]])","v":2020},{"$f":"MONTH(CGITempAct[[#This Row],[Date]])","v":9},{"$f":"IF(CGITempAct[[#This Row],[Month]]=H59,I59+1,1)","v":28}]
[44082,87,67,{"$f":"AVERAGE(CGITempAct[[#This Row],[CGIHigh]:[CGILow]]\n)","v":77},{"$f":"IF(CGITempAct[[#This Row],[CGIAve]]<65,(65-CGITempAct[[#This Row],[CGIAve]]),0)","v":0},{"$f":"SUMPRODUCT((RankNHDD[Month]=CGITempAct[[#This Row],[Month]])*(RankNHDD[Rank]=CGITempAct[[#This Row],[Rank]])*RankNHDD[CGINHDD])","v":0},{"$f":"YEAR(CGITempAct[[#This Row],[Date]])","v":2020},{"$f":"MONTH(CGITempAct[[#This Row],[Date]])","v":9},{"$f":"IF(CGITempAct[[#This Row],[Month]]=H60,I60+1,1)","v":29}]
[44077,84,72,{"$f":"AVERAGE(CGITempAct[[#This Row],[CGIHigh]:[CGILow]]\n)","v":78},{"$f":"IF(CGITempAct[[#This Row],[CGIAve]]<65,(65-CGITempAct[[#This Row],[CGIAve]]),0)","v":0},{"$f":"SUMPRODUCT((RankNHDD[Month]=CGITempAct[[#This Row],[Month]])*(RankNHDD[Rank]=CGITempAct[[#This Row],[Rank]])*RankNHDD[CGINHDD])","v":0},{"$f":"YEAR(CGITempAct[[#This Row],[Date]])","v":2020},{"$f":"MONTH(CGITempAct[[#This Row],[Date]])","v":9},{"$f":"IF(CGITempAct[[#This Row],[Month]]=H61,I61+1,1)","v":30}]
[44131,46,42,{"$f":"AVERAGE(CGITempAct[[#This Row],[CGIHigh]:[CGILow]]\n)","v":44},{"$f":"IF(CGITempAct[[#This Row],[CGIAve]]<65,(65-CGITempAct[[#This Row],[CGIAve]]),0)","v":21},{"$f":"SUMPRODUCT((RankNHDD[Month]=CGITempAct[[#This Row],[Month]])*(RankNHDD[Rank]=CGITempAct[[#This Row],[Rank]])*RankNHDD[CGINHDD])","v":24.5},{"$f":"YEAR(CGITempAct[[#This Row],[Date]])","v":2020},{"$f":"MONTH(CGITempAct[[#This Row],[Date]])","v":10},{"$f":"IF(CGITempAct[[#This Row],[Month]]=H62,I62+1,1)","v":1}]
[44134,56,35,{"$f":"AVERAGE(CGITempAct[[#This Row],[CGIHigh]:[CGILow]]\n)","v":45.5},{"$f":"IF(CGITempAct[[#This Row],[CGIAve]]<65,(65-CGITempAct[[#This Row],[CGIAve]]),0)","v":19.5},{"$f":"SUMPRODUCT((RankNHDD[Month]=CGITempAct[[#This Row],[Month]])*(RankNHDD[Rank]=CGITempAct[[#This Row],[Rank]])*RankNHDD[CGINHDD])","v":20.6},{"$f":"YEAR(CGITempAct[[#This Row],[Date]])","v":2020},{"$f":"MONTH(CGITempAct[[#This Row],[Date]])","v":10},{"$f":"IF(CGITempAct[[#This Row],[Month]]=H63,I63+1,1)","v":2}]
[44128,50,45,{"$f":"AVERAGE(CGITempAct[[#This Row],[CGIHigh]:[CGILow]]\n)","v":47.5},{"$f":"IF(CGITempAct[[#This Row],[CGIAve]]<65,(65-CGITempAct[[#This Row],[CGIAve]]),0)","v":17.5},{"$f":"SUMPRODUCT((RankNHDD[Month]=CGITempAct[[#This Row],[Month]])*(RankNHDD[Rank]=CGITempAct[[#This Row],[Rank]])*RankNHDD[CGINHDD])","v":19.3},{"$f":"YEAR(CGITempAct[[#This Row],[Date]])","v":2020},{"$f":"MONTH(CGITempAct[[#This Row],[Date]])","v":10},{"$f":"IF(CGITempAct[[#This Row],[Month]]=H64,I64+1,1)","v":3}]
[44120,65,31,{"$f":"AVERAGE(CGITempAct[[#This Row],[CGIHigh]:[CGILow]]\n)","v":48},{"$f":"IF(CGITempAct[[#This Row],[CGIAve]]<65,(65-CGITempAct[[#This Row],[CGIAve]]),0)","v":17},{"$f":"SUMPRODUCT((RankNHDD[Month]=CGITempAct[[#This Row],[Month]])*(RankNHDD[Rank]=CGITempAct[[#This Row],[Rank]])*RankNHDD[CGINHDD])","v":18},{"$f":"YEAR(CGITempAct[[#This Row],[Date]])","v":2020},{"$f":"MONTH(CGITempAct[[#This Row],[Date]])","v":10},{"$f":"IF(CGITempAct[[#This Row],[Month]]=H65,I65+1,1)","v":4}]
[44130,53,43,{"$f":"AVERAGE(CGITempAct[[#This Row],[CGIHigh]:[CGILow]]\n)","v":48},{"$f":"IF(CGITempAct[[#This Row],[CGIAve]]<65,(65-CGITempAct[[#This Row],[CGIAve]]),0)","v":17},{"$f":"SUMPRODUCT((RankNHDD[Month]=CGITempAct[[#This Row],[Month]])*(RankNHDD[Rank]=CGITempAct[[#This Row],[Rank]])*RankNHDD[CGINHDD])","v":17},{"$f":"YEAR(CGITempAct[[#This Row],[Date]])","v":2020},{"$f":"MONTH(CGITempAct[[#This Row],[Date]])","v":10},{"$f":"IF(CGITempAct[[#This Row],[Month]]=H66,I66+1,1)","v":5}]
[44133,54,42,{"$f":"AVERAGE(CGITempAct[[#This Row],[CGIHigh]:[CGILow]]\n)","v":48},{"$f":"IF(CGITempAct[[#This Row],[CGIAve]]<65,(65-CGITempAct[[#This Row],[CGIAve]]),0)","v":17},{"$f":"SUMPRODUCT((RankNHDD[Month]=CGITempAct[[#This Row],[Month]])*(RankNHDD[Rank]=CGITempAct[[#This Row],[Rank]])*RankNHDD[CGINHDD])","v":16},{"$f":"YEAR(CGITempAct[[#This Row],[Date]])","v":2020},{"$f":"MONTH(CGITempAct[[#This Row],[Date]])","v":10},{"$f":"IF(CGITempAct[[#This Row],[Month]]=H67,I67+1,1)","v":6}]
[44109,68,31,{"$f":"AVERAGE(CGITempAct[[#This Row],[CGIHigh]:[CGILow]]\n)","v":49.5},{"$f":"IF(CGITempAct[[#This Row],[CGIAve]]<65,(65-CGITempAct[[#This Row],[CGIAve]]),0)","v":15.5},{"$f":"SUMPRODUCT((RankNHDD[Month]=CGITempAct[[#This Row],[Month]])*(RankNHDD[Rank]=CGITempAct[[#This Row],[Rank]])*RankNHDD[CGINHDD])","v":15.2},{"$f":"YEAR(CGITempAct[[#This Row],[Date]])","v":2020},{"$f":"MONTH(CGITempAct[[#This Row],[Date]])","v":10},{"$f":"IF(CGITempAct[[#This Row],[Month]]=H68,I68+1,1)","v":7}]
[44132,54,45,{"$f":"AVERAGE(CGITempAct[[#This Row],[CGIHigh]:[CGILow]]\n)","v":49.5},{"$f":"IF(CGITempAct[[#This Row],[CGIAve]]<65,(65-CGITempAct[[#This Row],[CGIAve]]),0)","v":15.5},{"$f":"SUMPRODUCT((RankNHDD[Month]=CGITempAct[[#This Row],[Month]])*(RankNHDD[Rank]=CGITempAct[[#This Row],[Rank]])*RankNHDD[CGINHDD])","v":14},{"$f":"YEAR(CGITempAct[[#This Row],[Date]])","v":2020},{"$f":"MONTH(CGITempAct[[#This Row],[Date]])","v":10},{"$f":"IF(CGITempAct[[#This Row],[Month]]=H69,I69+1,1)","v":8}]
[44135,64,35,{"$f":"AVERAGE(CGITempAct[[#This Row],[CGIHigh]:[CGILow]]\n)","v":49.5},{"$f":"IF(CGITempAct[[#This Row],[CGIAve]]<65,(65-CGITempAct[[#This Row],[CGIAve]]),0)","v":15.5},{"$f":"SUMPRODUCT((RankNHDD[Month]=CGITempAct[[#This Row],[Month]])*(RankNHDD[Rank]=CGITempAct[[#This Row],[Rank]])*RankNHDD[CGINHDD])","v":13},{"$f":"YEAR(CGITempAct[[#This Row],[Date]])","v":2020},{"$f":"MONTH(CGITempAct[[#This Row],[Date]])","v":10},{"$f":"IF(CGITempAct[[#This Row],[Month]]=H70,I70+1,1)","v":9}]
[44108,65,35,{"$f":"AVERAGE(CGITempAct[[#This Row],[CGIHigh]:[CGILow]]\n)","v":50},{"$f":"IF(CGITempAct[[#This Row],[CGIAve]]<65,(65-CGITempAct[[#This Row],[CGIAve]]),0)","v":15},{"$f":"SUMPRODUCT((RankNHDD[Month]=CGITempAct[[#This Row],[Month]])*(RankNHDD[Rank]=CGITempAct[[#This Row],[Rank]])*RankNHDD[CGINHDD])","v":12.2},{"$f":"YEAR(CGITempAct[[#This Row],[Date]])","v":2020},{"$f":"MONTH(CGITempAct[[#This Row],[Date]])","v":10},{"$f":"IF(CGITempAct[[#This Row],[Month]]=H71,I71+1,1)","v":10}]
[44106,65,36,{"$f":"AVERAGE(CGITempAct[[#This Row],[CGIHigh]:[CGILow]]\n)","v":50.5},{"$f":"IF(CGITempAct[[#This Row],[CGIAve]]<65,(65-CGITempAct[[#This Row],[CGIAve]]),0)","v":14.5},{"$f":"SUMPRODUCT((RankNHDD[Month]=CGITempAct[[#This Row],[Month]])*(RankNHDD[Rank]=CGITempAct[[#This Row],[Rank]])*RankNHDD[CGINHDD])","v":11.3},{"$f":"YEAR(CGITempAct[[#This Row],[Date]])","v":2020},{"$f":"MONTH(CGITempAct[[#This Row],[Date]])","v":10},{"$f":"IF(CGITempAct[[#This Row],[Month]]=H72,I72+1,1)","v":11}]
[44123,53,48,{"$f":"AVERAGE(CGITempAct[[#This Row],[CGIHigh]:[CGILow]]\n)","v":50.5},{"$f":"IF(CGITempAct[[#This Row],[CGIAve]]<65,(65-CGITempAct[[#This Row],[CGIAve]]),0)","v":14.5},{"$f":"SUMPRODUCT((RankNHDD[Month]=CGITempAct[[#This Row],[Month]])*(RankNHDD[Rank]=CGITempAct[[#This Row],[Rank]])*RankNHDD[CGINHDD])","v":10.6},{"$f":"YEAR(CGITempAct[[#This Row],[Date]])","v":2020},{"$f":"MONTH(CGITempAct[[#This Row],[Date]])","v":10},{"$f":"IF(CGITempAct[[#This Row],[Month]]=H73,I73+1,1)","v":12}]
[44121,70,34,{"$f":"AVERAGE(CGITempAct[[#This Row],[CGIHigh]:[CGILow]]\n)","v":52},{"$f":"IF(CGITempAct[[#This Row],[CGIAve]]<65,(65-CGITempAct[[#This Row],[CGIAve]]),0)","v":13},{"$f":"SUMPRODUCT((RankNHDD[Month]=CGITempAct[[#This Row],[Month]])*(RankNHDD[Rank]=CGITempAct[[#This Row],[Rank]])*RankNHDD[CGINHDD])","v":9.6999999999999993},{"$f":"YEAR(CGITempAct[[#This Row],[Date]])","v":2020},{"$f":"MONTH(CGITempAct[[#This Row],[Date]])","v":10},{"$f":"IF(CGITempAct[[#This Row],[Month]]=H74,I74+1,1)","v":13}]
[44107,67,38,{"$f":"AVERAGE(CGITempAct[[#This Row],[CGIHigh]:[CGILow]]\n)","v":52.5},{"$f":"IF(CGITempAct[[#This Row],[CGIAve]]<65,(65-CGITempAct[[#This Row],[CGIAve]]),0)","v":12.5},{"$f":"SUMPRODUCT((RankNHDD[Month]=CGITempAct[[#This Row],[Month]])*(RankNHDD[Rank]=CGITempAct[[#This Row],[Rank]])*RankNHDD[CGINHDD])","v":8.9},{"$f":"YEAR(CGITempAct[[#This Row],[Date]])","v":2020},{"$f":"MONTH(CGITempAct[[#This Row],[Date]])","v":10},{"$f":"IF(CGITempAct[[#This Row],[Month]]=H75,I75+1,1)","v":14}]
[44129,56,49,{"$f":"AVERAGE(CGITempAct[[#This Row],[CGIHigh]:[CGILow]]\n)","v":52.5},{"$f":"IF(CGITempAct[[#This Row],[CGIAve]]<65,(65-CGITempAct[[#This Row],[CGIAve]]),0)","v":12.5},{"$f":"SUMPRODUCT((RankNHDD[Month]=CGITempAct[[#This Row],[Month]])*(RankNHDD[Rank]=CGITempAct[[#This Row],[Rank]])*RankNHDD[CGINHDD])","v":8.3000000000000007},{"$f":"YEAR(CGITempAct[[#This Row],[Date]])","v":2020},{"$f":"MONTH(CGITempAct[[#This Row],[Date]])","v":10},{"$f":"IF(CGITempAct[[#This Row],[Month]]=H76,I76+1,1)","v":15}]
[44117,76,36,{"$f":"AVERAGE(CGITempAct[[#This Row],[CGIHigh]:[CGILow]]\n)","v":56},{"$f":"IF(CGITempAct[[#This Row],[CGIAve]]<65,(65-CGITempAct[[#This Row],[CGIAve]]),0)","v":9},{"$f":"SUMPRODUCT((RankNHDD[Month]=CGITempAct[[#This Row],[Month]])*(RankNHDD[Rank]=CGITempAct[[#This Row],[Rank]])*RankNHDD[CGINHDD])","v":7.7},{"$f":"YEAR(CGITempAct[[#This Row],[Date]])","v":2020},{"$f":"MONTH(CGITempAct[[#This Row],[Date]])","v":10},{"$f":"IF(CGITempAct[[#This Row],[Month]]=H77,I77+1,1)","v":16}]
[44119,64,49,{"$f":"AVERAGE(CGITempAct[[#This Row],[CGIHigh]:[CGILow]]\n)","v":56.5},{"$f":"IF(CGITempAct[[#This Row],[CGIAve]]<65,(65-CGITempAct[[#This Row],[CGIAve]]),0)","v":8.5},{"$f":"SUMPRODUCT((RankNHDD[Month]=CGITempAct[[#This Row],[Month]])*(RankNHDD[Rank]=CGITempAct[[#This Row],[Rank]])*RankNHDD[CGINHDD])","v":6.9},{"$f":"YEAR(CGITempAct[[#This Row],[Date]])","v":2020},{"$f":"MONTH(CGITempAct[[#This Row],[Date]])","v":10},{"$f":"IF(CGITempAct[[#This Row],[Month]]=H78,I78+1,1)","v":17}]
[44105,73,41,{"$f":"AVERAGE(CGITempAct[[#This Row],[CGIHigh]:[CGILow]]\n)","v":57},{"$f":"IF(CGITempAct[[#This Row],[CGIAve]]<65,(65-CGITempAct[[#This Row],[CGIAve]]),0)","v":8},{"$f":"SUMPRODUCT((RankNHDD[Month]=CGITempAct[[#This Row],[Month]])*(RankNHDD[Rank]=CGITempAct[[#This Row],[Rank]])*RankNHDD[CGINHDD])","v":5.9},{"$f":"YEAR(CGITempAct[[#This Row],[Date]])","v":2020},{"$f":"MONTH(CGITempAct[[#This Row],[Date]])","v":10},{"$f":"IF(CGITempAct[[#This Row],[Month]]=H79,I79+1,1)","v":18}]
[44110,78,36,{"$f":"AVERAGE(CGITempAct[[#This Row],[CGIHigh]:[CGILow]]\n)","v":57},{"$f":"IF(CGITempAct[[#This Row],[CGIAve]]<65,(65-CGITempAct[[#This Row],[CGIAve]]),0)","v":8},{"$f":"SUMPRODUCT((RankNHDD[Month]=CGITempAct[[#This Row],[Month]])*(RankNHDD[Rank]=CGITempAct[[#This Row],[Rank]])*RankNHDD[CGINHDD])","v":5.0999999999999996},{"$f":"YEAR(CGITempAct[[#This Row],[Date]])","v":2020},{"$f":"MONTH(CGITempAct[[#This Row],[Date]])","v":10},{"$f":"IF(CGITempAct[[#This Row],[Month]]=H80,I80+1,1)","v":19}]
[44124,62,52,{"$f":"AVERAGE(CGITempAct[[#This Row],[CGIHigh]:[CGILow]]\n)","v":57},{"$f":"IF(CGITempAct[[#This Row],[CGIAve]]<65,(65-CGITempAct[[#This Row],[CGIAve]]),0)","v":8},{"$f":"SUMPRODUCT((RankNHDD[Month]=CGITempAct[[#This Row],[Month]])*(RankNHDD[Rank]=CGITempAct[[#This Row],[Rank]])*RankNHDD[CGINHDD])","v":4.3},{"$f":"YEAR(CGITempAct[[#This Row],[Date]])","v":2020},{"$f":"MONTH(CGITempAct[[#This Row],[Date]])","v":10},{"$f":"IF(CGITempAct[[#This Row],[Month]]=H81,I81+1,1)","v":20}]
[44118,82,39,{"$f":"AVERAGE(CGITempAct[[#This Row],[CGIHigh]:[CGILow]]\n)","v":60.5},{"$f":"IF(CGITempAct[[#This Row],[CGIAve]]<65,(65-CGITempAct[[#This Row],[CGIAve]]),0)","v":4.5},{"$f":"SUMPRODUCT((RankNHDD[Month]=CGITempAct[[#This Row],[Month]])*(RankNHDD[Rank]=CGITempAct[[#This Row],[Rank]])*RankNHDD[CGINHDD])","v":3.4},{"$f":"YEAR(CGITempAct[[#This Row],[Date]])","v":2020},{"$f":"MONTH(CGITempAct[[#This Row],[Date]])","v":10},{"$f":"IF(CGITempAct[[#This Row],[Month]]=H82,I82+1,1)","v":21}]
[44116,80,42,{"$f":"AVERAGE(CGITempAct[[#This Row],[CGIHigh]:[CGILow]]\n)","v":61},{"$f":"IF(CGITempAct[[#This Row],[CGIAve]]<65,(65-CGITempAct[[#This Row],[CGIAve]]),0)","v":4},{"$f":"SUMPRODUCT((RankNHDD[Month]=CGITempAct[[#This Row],[Month]])*(RankNHDD[Rank]=CGITempAct[[#This Row],[Rank]])*RankNHDD[CGINHDD])","v":2.5},{"$f":"YEAR(CGITempAct[[#This Row],[Date]])","v":2020},{"$f":"MONTH(CGITempAct[[#This Row],[Date]])","v":10},{"$f":"IF(CGITempAct[[#This Row],[Month]]=H83,I83+1,1)","v":22}]
[44122,69,53,{"$f":"AVERAGE(CGITempAct[[#This Row],[CGIHigh]:[CGILow]]\n)","v":61},{"$f":"IF(CGITempAct[[#This Row],[CGIAve]]<65,(65-CGITempAct[[#This Row],[CGIAve]]),0)","v":4},{"$f":"SUMPRODUCT((RankNHDD[Month]=CGITempAct[[#This Row],[Month]])*(RankNHDD[Rank]=CGITempAct[[#This Row],[Rank]])*RankNHDD[CGINHDD])","v":1.6},{"$f":"YEAR(CGITempAct[[#This Row],[Date]])","v":2020},{"$f":"MONTH(CGITempAct[[#This Row],[Date]])","v":10},{"$f":"IF(CGITempAct[[#This Row],[Month]]=H84,I84+1,1)","v":23}]
[44127,82,46,{"$f":"AVERAGE(CGITempAct[[#This Row],[CGIHigh]:[CGILow]]\n)","v":64},{"$f":"IF(CGITempAct[[#This Row],[CGIAve]]<65,(65-CGITempAct[[#This Row],[CGIAve]]),0)","v":1},{"$f":"SUMPRODUCT((RankNHDD[Month]=CGITempAct[[#This Row],[Month]])*(RankNHDD[Rank]=CGITempAct[[#This Row],[Rank]])*RankNHDD[CGINHDD])","v":0.7},{"$f":"YEAR(CGITempAct[[#This Row],[Date]])","v":2020},{"$f":"MONTH(CGITempAct[[#This Row],[Date]])","v":10},{"$f":"IF(CGITempAct[[#This Row],[Month]]=H85,I85+1,1)","v":24}]
[44112,80,50,{"$f":"AVERAGE(CGITempAct[[#This Row],[CGIHigh]:[CGILow]]\n)","v":65},{"$f":"IF(CGITempAct[[#This Row],[CGIAve]]<65,(65-CGITempAct[[#This Row],[CGIAve]]),0)","v":0},{"$f":"SUMPRODUCT((RankNHDD[Month]=CGITempAct[[#This Row],[Month]])*(RankNHDD[Rank]=CGITempAct[[#This Row],[Rank]])*RankNHDD[CGINHDD])","v":0},{"$f":"YEAR(CGITempAct[[#This Row],[Date]])","v":2020},{"$f":"MONTH(CGITempAct[[#This Row],[Date]])","v":10},{"$f":"IF(CGITempAct[[#This Row],[Month]]=H86,I86+1,1)","v":25}]
[44111,86,45,{"$f":"AVERAGE(CGITempAct[[#This Row],[CGIHigh]:[CGILow]]\n)","v":65.5},{"$f":"IF(CGITempAct[[#This Row],[CGIAve]]<65,(65-CGITempAct[[#This Row],[CGIAve]]),0)","v":0},{"$f":"SUMPRODUCT((RankNHDD[Month]=CGITempAct[[#This Row],[Month]])*(RankNHDD[Rank]=CGITempAct[[#This Row],[Rank]])*RankNHDD[CGINHDD])","v":0},{"$f":"YEAR(CGITempAct[[#This Row],[Date]])","v":2020},{"$f":"MONTH(CGITempAct[[#This Row],[Date]])","v":10},{"$f":"IF(CGITempAct[[#This Row],[Month]]=H87,I87+1,1)","v":26}]
[44113,81,50,{"$f":"AVERAGE(CGITempAct[[#This Row],[CGIHigh]:[CGILow]]\n)","v":65.5},{"$f":"IF(CGITempAct[[#This Row],[CGIAve]]<65,(65-CGITempAct[[#This Row],[CGIAve]]),0)","v":0},{"$f":"SUMPRODUCT((RankNHDD[Month]=CGITempAct[[#This Row],[Month]])*(RankNHDD[Rank]=CGITempAct[[#This Row],[Rank]])*RankNHDD[CGINHDD])","v":0},{"$f":"YEAR(CGITempAct[[#This Row],[Date]])","v":2020},{"$f":"MONTH(CGITempAct[[#This Row],[Date]])","v":10},{"$f":"IF(CGITempAct[[#This Row],[Month]]=H88,I88+1,1)","v":27}]
[44125,82,54,{"$f":"AVERAGE(CGITempAct[[#This Row],[CGIHigh]:[CGILow]]\n)","v":68},{"$f":"IF(CGITempAct[[#This Row],[CGIAve]]<65,(65-CGITempAct[[#This Row],[CGIAve]]),0)","v":0},{"$f":"SUMPRODUCT((RankNHDD[Month]=CGITempAct[[#This Row],[Month]])*(RankNHDD[Rank]=CGITempAct[[#This Row],[Rank]])*RankNHDD[CGINHDD])","v":0},{"$f":"YEAR(CGITempAct[[#This Row],[Date]])","v":2020},{"$f":"MONTH(CGITempAct[[#This Row],[Date]])","v":10},{"$f":"IF(CGITempAct[[#This Row],[Month]]=H89,I89+1,1)","v":28}]
[44114,78,61,{"$f":"AVERAGE(CGITempAct[[#This Row],[CGIHigh]:[CGILow]]\n)","v":69.5},{"$f":"IF(CGITempAct[[#This Row],[CGIAve]]<65,(65-CGITempAct[[#This Row],[CGIAve]]),0)","v":0},{"$f":"SUMPRODUCT((RankNHDD[Month]=CGITempAct[[#This Row],[Month]])*(RankNHDD[Rank]=CGITempAct[[#This Row],[Rank]])*RankNHDD[CGINHDD])","v":0},{"$f":"YEAR(CGITempAct[[#This Row],[Date]])","v":2020},{"$f":"MONTH(CGITempAct[[#This Row],[Date]])","v":10},{"$f":"IF(CGITempAct[[#This Row],[Month]]=H90,I90+1,1)","v":29}]
[44115,84,58,{"$f":"AVERAGE(CGITempAct[[#This Row],[CGIHigh]:[CGILow]]\n)","v":71},{"$f":"IF(CGITempAct[[#This Row],[CGIAve]]<65,(65-CGITempAct[[#This Row],[CGIAve]]),0)","v":0},{"$f":"SUMPRODUCT((RankNHDD[Month]=CGITempAct[[#This Row],[Month]])*(RankNHDD[Rank]=CGITempAct[[#This Row],[Rank]])*RankNHDD[CGINHDD])","v":0},{"$f":"YEAR(CGITempAct[[#This Row],[Date]])","v":2020},{"$f":"MONTH(CGITempAct[[#This Row],[Date]])","v":10},{"$f":"IF(CGITempAct[[#This Row],[Month]]=H91,I91+1,1)","v":30}]
[44126,84,58,{"$f":"AVERAGE(CGITempAct[[#This Row],[CGIHigh]:[CGILow]]\n)","v":71},{"$f":"IF(CGITempAct[[#This Row],[CGIAve]]<65,(65-CGITempAct[[#This Row],[CGIAve]]),0)","v":0},{"$f":"SUMPRODUCT((RankNHDD[Month]=CGITempAct[[#This Row],[Month]])*(RankNHDD[Rank]=CGITempAct[[#This Row],[Rank]])*RankNHDD[CGINHDD])","v":0},{"$f":"YEAR(CGITempAct[[#This Row],[Date]])","v":2020},{"$f":"MONTH(CGITempAct[[#This Row],[Date]])","v":10},{"$f":"IF(CGITempAct[[#This Row],[Month]]=H92,I92+1,1)","v":31}]
[44165,40,26,{"$f":"AVERAGE(CGITempAct[[#This Row],[CGIHigh]:[CGILow]]\n)","v":33},{"$f":"IF(CGITempAct[[#This Row],[CGIAve]]<65,(65-CGITempAct[[#This Row],[CGIAve]]),0)","v":32},{"$f":"SUMPRODUCT((RankNHDD[Month]=CGITempAct[[#This Row],[Month]])*(RankNHDD[Rank]=CGITempAct[[#This Row],[Rank]])*RankNHDD[CGINHDD])","v":37.9},{"$f":"YEAR(CGITempAct[[#This Row],[Date]])","v":2020},{"$f":"MONTH(CGITempAct[[#This Row],[Date]])","v":11},{"$f":"IF(CGITempAct[[#This Row],[Month]]=H93,I93+1,1)","v":1}]
[44164,49,27,{"$f":"AVERAGE(CGITempAct[[#This Row],[CGIHigh]:[CGILow]]\n)","v":38},{"$f":"IF(CGITempAct[[#This Row],[CGIAve]]<65,(65-CGITempAct[[#This Row],[CGIAve]]),0)","v":27},{"$f":"SUMPRODUCT((RankNHDD[Month]=CGITempAct[[#This Row],[Month]])*(RankNHDD[Rank]=CGITempAct[[#This Row],[Rank]])*RankNHDD[CGINHDD])","v":33.200000000000003},{"$f":"YEAR(CGITempAct[[#This Row],[Date]])","v":2020},{"$f":"MONTH(CGITempAct[[#This Row],[Date]])","v":11},{"$f":"IF(CGITempAct[[#This Row],[Month]]=H94,I94+1,1)","v":2}]
[44137,55,24,{"$f":"AVERAGE(CGITempAct[[#This Row],[CGIHigh]:[CGILow]]\n)","v":39.5},{"$f":"IF(CGITempAct[[#This Row],[CGIAve]]<65,(65-CGITempAct[[#This Row],[CGIAve]]),0)","v":25.5},{"$f":"SUMPRODUCT((RankNHDD[Month]=CGITempAct[[#This Row],[Month]])*(RankNHDD[Rank]=CGITempAct[[#This Row],[Rank]])*RankNHDD[CGINHDD])","v":31.1},{"$f":"YEAR(CGITempAct[[#This Row],[Date]])","v":2020},{"$f":"MONTH(CGITempAct[[#This Row],[Date]])","v":11},{"$f":"IF(CGITempAct[[#This Row],[Month]]=H95,I95+1,1)","v":3}]
[44152,53,31,{"$f":"AVERAGE(CGITempAct[[#This Row],[CGIHigh]:[CGILow]]\n)","v":42},{"$f":"IF(CGITempAct[[#This Row],[CGIAve]]<65,(65-CGITempAct[[#This Row],[CGIAve]]),0)","v":23},{"$f":"SUMPRODUCT((RankNHDD[Month]=CGITempAct[[#This Row],[Month]])*(RankNHDD[Rank]=CGITempAct[[#This Row],[Rank]])*RankNHDD[CGINHDD])","v":29.5},{"$f":"YEAR(CGITempAct[[#This Row],[Date]])","v":2020},{"$f":"MONTH(CGITempAct[[#This Row],[Date]])","v":11},{"$f":"IF(CGITempAct[[#This Row],[Month]]=H96,I96+1,1)","v":4}]
[44157,51,33,{"$f":"AVERAGE(CGITempAct[[#This Row],[CGIHigh]:[CGILow]]\n)","v":42},{"$f":"IF(CGITempAct[[#This Row],[CGIAve]]<65,(65-CGITempAct[[#This Row],[CGIAve]]),0)","v":23},{"$f":"SUMPRODUCT((RankNHDD[Month]=CGITempAct[[#This Row],[Month]])*(RankNHDD[Rank]=CGITempAct[[#This Row],[Rank]])*RankNHDD[CGINHDD])","v":28.1},{"$f":"YEAR(CGITempAct[[#This Row],[Date]])","v":2020},{"$f":"MONTH(CGITempAct[[#This Row],[Date]])","v":11},{"$f":"IF(CGITempAct[[#This Row],[Month]]=H97,I97+1,1)","v":5}]
[44158,55,29,{"$f":"AVERAGE(CGITempAct[[#This Row],[CGIHigh]:[CGILow]]\n)","v":42},{"$f":"IF(CGITempAct[[#This Row],[CGIAve]]<65,(65-CGITempAct[[#This Row],[CGIAve]]),0)","v":23},{"$f":"SUMPRODUCT((RankNHDD[Month]=CGITempAct[[#This Row],[Month]])*(RankNHDD[Rank]=CGITempAct[[#This Row],[Rank]])*RankNHDD[CGINHDD])","v":27.1},{"$f":"YEAR(CGITempAct[[#This Row],[Date]])","v":2020},{"$f":"MONTH(CGITempAct[[#This Row],[Date]])","v":11},{"$f":"IF(CGITempAct[[#This Row],[Month]]=H98,I98+1,1)","v":6}]
[44163,54,30,{"$f":"AVERAGE(CGITempAct[[#This Row],[CGIHigh]:[CGILow]]\n)","v":42},{"$f":"IF(CGITempAct[[#This Row],[CGIAve]]<65,(65-CGITempAct[[#This Row],[CGIAve]]),0)","v":23},{"$f":"SUMPRODUCT((RankNHDD[Month]=CGITempAct[[#This Row],[Month]])*(RankNHDD[Rank]=CGITempAct[[#This Row],[Rank]])*RankNHDD[CGINHDD])","v":26.1},{"$f":"YEAR(CGITempAct[[#This Row],[Date]])","v":2020},{"$f":"MONTH(CGITempAct[[#This Row],[Date]])","v":11},{"$f":"IF(CGITempAct[[#This Row],[Month]]=H99,I99+1,1)","v":7}]
[44136,58,28,{"$f":"AVERAGE(CGITempAct[[#This Row],[CGIHigh]:[CGILow]]\n)","v":43},{"$f":"IF(CGITempAct[[#This Row],[CGIAve]]<65,(65-CGITempAct[[#This Row],[CGIAve]]),0)","v":22},{"$f":"SUMPRODUCT((RankNHDD[Month]=CGITempAct[[#This Row],[Month]])*(RankNHDD[Rank]=CGITempAct[[#This Row],[Rank]])*RankNHDD[CGINHDD])","v":24.9},{"$f":"YEAR(CGITempAct[[#This Row],[Date]])","v":2020},{"$f":"MONTH(CGITempAct[[#This Row],[Date]])","v":11},{"$f":"IF(CGITempAct[[#This Row],[Month]]=H100,I100+1,1)","v":8}]
[44161,51,37,{"$f":"AVERAGE(CGITempAct[[#This Row],[CGIHigh]:[CGILow]]\n)","v":44},{"$f":"IF(CGITempAct[[#This Row],[CGIAve]]<65,(65-CGITempAct[[#This Row],[CGIAve]]),0)","v":21},{"$f":"SUMPRODUCT((RankNHDD[Month]=CGITempAct[[#This Row],[Month]])*(RankNHDD[Rank]=CGITempAct[[#This Row],[Rank]])*RankNHDD[CGINHDD])","v":24.1},{"$f":"YEAR(CGITempAct[[#This Row],[Date]])","v":2020},{"$f":"MONTH(CGITempAct[[#This Row],[Date]])","v":11},{"$f":"IF(CGITempAct[[#This Row],[Month]]=H101,I101+1,1)","v":9}]
[44151,62,28,{"$f":"AVERAGE(CGITempAct[[#This Row],[CGIHigh]:[CGILow]]\n)","v":45},{"$f":"IF(CGITempAct[[#This Row],[CGIAve]]<65,(65-CGITempAct[[#This Row],[CGIAve]]),0)","v":20},{"$f":"SUMPRODUCT((RankNHDD[Month]=CGITempAct[[#This Row],[Month]])*(RankNHDD[Rank]=CGITempAct[[#This Row],[Rank]])*RankNHDD[CGINHDD])","v":23.1},{"$f":"YEAR(CGITempAct[[#This Row],[Date]])","v":2020},{"$f":"MONTH(CGITempAct[[#This Row],[Date]])","v":11},{"$f":"IF(CGITempAct[[#This Row],[Month]]=H102,I102+1,1)","v":10}]
[44153,58,32,{"$f":"AVERAGE(CGITempAct[[#This Row],[CGIHigh]:[CGILow]]\n)","v":45},{"$f":"IF(CGITempAct[[#This Row],[CGIAve]]<65,(65-CGITempAct[[#This Row],[CGIAve]]),0)","v":20},{"$f":"SUMPRODUCT((RankNHDD[Month]=CGITempAct[[#This Row],[Month]])*(RankNHDD[Rank]=CGITempAct[[#This Row],[Rank]])*RankNHDD[CGINHDD])","v":22.4},{"$f":"YEAR(CGITempAct[[#This Row],[Date]])","v":2020},{"$f":"MONTH(CGITempAct[[#This Row],[Date]])","v":11},{"$f":"IF(CGITempAct[[#This Row],[Month]]=H103,I103+1,1)","v":11}]
[44148,55,37,{"$f":"AVERAGE(CGITempAct[[#This Row],[CGIHigh]:[CGILow]]\n)","v":46},{"$f":"IF(CGITempAct[[#This Row],[CGIAve]]<65,(65-CGITempAct[[#This Row],[CGIAve]]),0)","v":19},{"$f":"SUMPRODUCT((RankNHDD[Month]=CGITempAct[[#This Row],[Month]])*(RankNHDD[Rank]=CGITempAct[[#This Row],[Rank]])*RankNHDD[CGINHDD])","v":21.7},{"$f":"YEAR(CGITempAct[[#This Row],[Date]])","v":2020},{"$f":"MONTH(CGITempAct[[#This Row],[Date]])","v":11},{"$f":"IF(CGITempAct[[#This Row],[Month]]=H104,I104+1,1)","v":12}]
[44162,59,34,{"$f":"AVERAGE(CGITempAct[[#This Row],[CGIHigh]:[CGILow]]\n)","v":46.5},{"$f":"IF(CGITempAct[[#This Row],[CGIAve]]<65,(65-CGITempAct[[#This Row],[CGIAve]]),0)","v":18.5},{"$f":"SUMPRODUCT((RankNHDD[Month]=CGITempAct[[#This Row],[Month]])*(RankNHDD[Rank]=CGITempAct[[#This Row],[Rank]])*RankNHDD[CGINHDD])","v":20.8},{"$f":"YEAR(CGITempAct[[#This Row],[Date]])","v":2020},{"$f":"MONTH(CGITempAct[[#This Row],[Date]])","v":11},{"$f":"IF(CGITempAct[[#This Row],[Month]]=H105,I105+1,1)","v":13}]
[44146,58,36,{"$f":"AVERAGE(CGITempAct[[#This Row],[CGIHigh]:[CGILow]]\n)","v":47},{"$f":"IF(CGITempAct[[#This Row],[CGIAve]]<65,(65-CGITempAct[[#This Row],[CGIAve]]),0)","v":18},{"$f":"SUMPRODUCT((RankNHDD[Month]=CGITempAct[[#This Row],[Month]])*(RankNHDD[Rank]=CGITempAct[[#This Row],[Rank]])*RankNHDD[CGINHDD])","v":19.8},{"$f":"YEAR(CGITempAct[[#This Row],[Date]])","v":2020},{"$f":"MONTH(CGITempAct[[#This Row],[Date]])","v":11},{"$f":"IF(CGITempAct[[#This Row],[Month]]=H106,I106+1,1)","v":14}]
[44147,63,32,{"$f":"AVERAGE(CGITempAct[[#This Row],[CGIHigh]:[CGILow]]\n)","v":47.5},{"$f":"IF(CGITempAct[[#This Row],[CGIAve]]<65,(65-CGITempAct[[#This Row],[CGIAve]]),0)","v":17.5},{"$f":"SUMPRODUCT((RankNHDD[Month]=CGITempAct[[#This Row],[Month]])*(RankNHDD[Rank]=CGITempAct[[#This Row],[Rank]])*RankNHDD[CGINHDD])","v":18.8},{"$f":"YEAR(CGITempAct[[#This Row],[Date]])","v":2020},{"$f":"MONTH(CGITempAct[[#This Row],[Date]])","v":11},{"$f":"IF(CGITempAct[[#This Row],[Month]]=H107,I107+1,1)","v":15}]
[44159,54,42,{"$f":"AVERAGE(CGITempAct[[#This Row],[CGIHigh]:[CGILow]]\n)","v":48},{"$f":"IF(CGITempAct[[#This Row],[CGIAve]]<65,(65-CGITempAct[[#This Row],[CGIAve]]),0)","v":17},{"$f":"SUMPRODUCT((RankNHDD[Month]=CGITempAct[[#This Row],[Month]])*(RankNHDD[Rank]=CGITempAct[[#This Row],[Rank]])*RankNHDD[CGINHDD])","v":17.899999999999999},{"$f":"YEAR(CGITempAct[[#This Row],[Date]])","v":2020},{"$f":"MONTH(CGITempAct[[#This Row],[Date]])","v":11},{"$f":"IF(CGITempAct[[#This Row],[Month]]=H108,I108+1,1)","v":16}]
[44138,69,33,{"$f":"AVERAGE(CGITempAct[[#This Row],[CGIHigh]:[CGILow]]\n)","v":51},{"$f":"IF(CGITempAct[[#This Row],[CGIAve]]<65,(65-CGITempAct[[#This Row],[CGIAve]]),0)","v":14},{"$f":"SUMPRODUCT((RankNHDD[Month]=CGITempAct[[#This Row],[Month]])*(RankNHDD[Rank]=CGITempAct[[#This Row],[Rank]])*RankNHDD[CGINHDD])","v":17.2},{"$f":"YEAR(CGITempAct[[#This Row],[Date]])","v":2020},{"$f":"MONTH(CGITempAct[[#This Row],[Date]])","v":11},{"$f":"IF(CGITempAct[[#This Row],[Month]]=H109,I109+1,1)","v":17}]
[44150,69,36,{"$f":"AVERAGE(CGITempAct[[#This Row],[CGIHigh]:[CGILow]]\n)","v":52.5},{"$f":"IF(CGITempAct[[#This Row],[CGIAve]]<65,(65-CGITempAct[[#This Row],[CGIAve]]),0)","v":12.5},{"$f":"SUMPRODUCT((RankNHDD[Month]=CGITempAct[[#This Row],[Month]])*(RankNHDD[Rank]=CGITempAct[[#This Row],[Rank]])*RankNHDD[CGINHDD])","v":16.3},{"$f":"YEAR(CGITempAct[[#This Row],[Date]])","v":2020},{"$f":"MONTH(CGITempAct[[#This Row],[Date]])","v":11},{"$f":"IF(CGITempAct[[#This Row],[Month]]=H110,I110+1,1)","v":18}]
[44154,67,39,{"$f":"AVERAGE(CGITempAct[[#This Row],[CGIHigh]:[CGILow]]\n)","v":53},{"$f":"IF(CGITempAct[[#This Row],[CGIAve]]<65,(65-CGITempAct[[#This Row],[CGIAve]]),0)","v":12},{"$f":"SUMPRODUCT((RankNHDD[Month]=CGITempAct[[#This Row],[Month]])*(RankNHDD[Rank]=CGITempAct[[#This Row],[Rank]])*RankNHDD[CGINHDD])","v":15.5},{"$f":"YEAR(CGITempAct[[#This Row],[Date]])","v":2020},{"$f":"MONTH(CGITempAct[[#This Row],[Date]])","v":11},{"$f":"IF(CGITempAct[[#This Row],[Month]]=H111,I111+1,1)","v":19}]
[44149,70,38,{"$f":"AVERAGE(CGITempAct[[#This Row],[CGIHigh]:[CGILow]]\n)","v":54},{"$f":"IF(CGITempAct[[#This Row],[CGIAve]]<65,(65-CGITempAct[[#This Row],[CGIAve]]),0)","v":11},{"$f":"SUMPRODUCT((RankNHDD[Month]=CGITempAct[[#This Row],[Month]])*(RankNHDD[Rank]=CGITempAct[[#This Row],[Rank]])*RankNHDD[CGINHDD])","v":14.7},{"$f":"YEAR(CGITempAct[[#This Row],[Date]])","v":2020},{"$f":"MONTH(CGITempAct[[#This Row],[Date]])","v":11},{"$f":"IF(CGITempAct[[#This Row],[Month]]=H112,I112+1,1)","v":20}]
[44156,57,51,{"$f":"AVERAGE(CGITempAct[[#This Row],[CGIHigh]:[CGILow]]\n)","v":54},{"$f":"IF(CGITempAct[[#This Row],[CGIAve]]<65,(65-CGITempAct[[#This Row],[CGIAve]]),0)","v":11},{"$f":"SUMPRODUCT((RankNHDD[Month]=CGITempAct[[#This Row],[Month]])*(RankNHDD[Rank]=CGITempAct[[#This Row],[Rank]])*RankNHDD[CGINHDD])","v":13.8},{"$f":"YEAR(CGITempAct[[#This Row],[Date]])","v":2020},{"$f":"MONTH(CGITempAct[[#This Row],[Date]])","v":11},{"$f":"IF(CGITempAct[[#This Row],[Month]]=H113,I113+1,1)","v":21}]
[44160,62,48,{"$f":"AVERAGE(CGITempAct[[#This Row],[CGIHigh]:[CGILow]]\n)","v":55},{"$f":"IF(CGITempAct[[#This Row],[CGIAve]]<65,(65-CGITempAct[[#This Row],[CGIAve]]),0)","v":10},{"$f":"SUMPRODUCT((RankNHDD[Month]=CGITempAct[[#This Row],[Month]])*(RankNHDD[Rank]=CGITempAct[[#This Row],[Rank]])*RankNHDD[CGINHDD])","v":12.6},{"$f":"YEAR(CGITempAct[[#This Row],[Date]])","v":2020},{"$f":"MONTH(CGITempAct[[#This Row],[Date]])","v":11},{"$f":"IF(CGITempAct[[#This Row],[Month]]=H114,I114+1,1)","v":22}]
[44141,72,39,{"$f":"AVERAGE(CGITempAct[[#This Row],[CGIHigh]:[CGILow]]\n)","v":55.5},{"$f":"IF(CGITempAct[[#This Row],[CGIAve]]<65,(65-CGITempAct[[#This Row],[CGIAve]]),0)","v":9.5},{"$f":"SUMPRODUCT((RankNHDD[Month]=CGITempAct[[#This Row],[Month]])*(RankNHDD[Rank]=CGITempAct[[#This Row],[Rank]])*RankNHDD[CGINHDD])","v":11.6},{"$f":"YEAR(CGITempAct[[#This Row],[Date]])","v":2020},{"$f":"MONTH(CGITempAct[[#This Row],[Date]])","v":11},{"$f":"IF(CGITempAct[[#This Row],[Month]]=H115,I115+1,1)","v":23}]
[44139,74,40,{"$f":"AVERAGE(CGITempAct[[#This Row],[CGIHigh]:[CGILow]]\n)","v":57},{"$f":"IF(CGITempAct[[#This Row],[CGIAve]]<65,(65-CGITempAct[[#This Row],[CGIAve]]),0)","v":8},{"$f":"SUMPRODUCT((RankNHDD[Month]=CGITempAct[[#This Row],[Month]])*(RankNHDD[Rank]=CGITempAct[[#This Row],[Rank]])*RankNHDD[CGINHDD])","v":10.3},{"$f":"YEAR(CGITempAct[[#This Row],[Date]])","v":2020},{"$f":"MONTH(CGITempAct[[#This Row],[Date]])","v":11},{"$f":"IF(CGITempAct[[#This Row],[Month]]=H116,I116+1,1)","v":24}]
[44140,71,44,{"$f":"AVERAGE(CGITempAct[[#This Row],[CGIHigh]:[CGILow]]\n)","v":57.5},{"$f":"IF(CGITempAct[[#This Row],[CGIAve]]<65,(65-CGITempAct[[#This Row],[CGIAve]]),0)","v":7.5},{"$f":"SUMPRODUCT((RankNHDD[Month]=CGITempAct[[#This Row],[Month]])*(RankNHDD[Rank]=CGITempAct[[#This Row],[Rank]])*RankNHDD[CGINHDD])","v":9},{"$f":"YEAR(CGITempAct[[#This Row],[Date]])","v":2020},{"$f":"MONTH(CGITempAct[[#This Row],[Date]])","v":11},{"$f":"IF(CGITempAct[[#This Row],[Month]]=H117,I117+1,1)","v":25}]
[44142,76,41,{"$f":"AVERAGE(CGITempAct[[#This Row],[CGIHigh]:[CGILow]]\n)","v":58.5},{"$f":"IF(CGITempAct[[#This Row],[CGIAve]]<65,(65-CGITempAct[[#This Row],[CGIAve]]),0)","v":6.5},{"$f":"SUMPRODUCT((RankNHDD[Month]=CGITempAct[[#This Row],[Month]])*(RankNHDD[Rank]=CGITempAct[[#This Row],[Rank]])*RankNHDD[CGINHDD])","v":7.9},{"$f":"YEAR(CGITempAct[[#This Row],[Date]])","v":2020},{"$f":"MONTH(CGITempAct[[#This Row],[Date]])","v":11},{"$f":"IF(CGITempAct[[#This Row],[Month]]=H118,I118+1,1)","v":26}]
[44155,70,49,{"$f":"AVERAGE(CGITempAct[[#This Row],[CGIHigh]:[CGILow]]\n)","v":59.5},{"$f":"IF(CGITempAct[[#This Row],[CGIAve]]<65,(65-CGITempAct[[#This Row],[CGIAve]]),0)","v":5.5},{"$f":"SUMPRODUCT((RankNHDD[Month]=CGITempAct[[#This Row],[Month]])*(RankNHDD[Rank]=CGITempAct[[#This Row],[Rank]])*RankNHDD[CGINHDD])","v":6.2},{"$f":"YEAR(CGITempAct[[#This Row],[Date]])","v":2020},{"$f":"MONTH(CGITempAct[[#This Row],[Date]])","v":11},{"$f":"IF(CGITempAct[[#This Row],[Month]]=H119,I119+1,1)","v":27}]
[44145,80,57,{"$f":"AVERAGE(CGITempAct[[#This Row],[CGIHigh]:[CGILow]]\n)","v":68.5},{"$f":"IF(CGITempAct[[#This Row],[CGIAve]]<65,(65-CGITempAct[[#This Row],[CGIAve]]),0)","v":0},{"$f":"SUMPRODUCT((RankNHDD[Month]=CGITempAct[[#This Row],[Month]])*(RankNHDD[Rank]=CGITempAct[[#This Row],[Rank]])*RankNHDD[CGINHDD])","v":4.2},{"$f":"YEAR(CGITempAct[[#This Row],[Date]])","v":2020},{"$f":"MONTH(CGITempAct[[#This Row],[Date]])","v":11},{"$f":"IF(CGITempAct[[#This Row],[Month]]=H120,I120+1,1)","v":28}]
[44144,77,64,{"$f":"AVERAGE(CGITempAct[[#This Row],[CGIHigh]:[CGILow]]\n)","v":70.5},{"$f":"IF(CGITempAct[[#This Row],[CGIAve]]<65,(65-CGITempAct[[#This Row],[CGIAve]]),0)","v":0},{"$f":"SUMPRODUCT((RankNHDD[Month]=CGITempAct[[#This Row],[Month]])*(RankNHDD[Rank]=CGITempAct[[#This Row],[Rank]])*RankNHDD[CGINHDD])","v":1.9},{"$f":"YEAR(CGITempAct[[#This Row],[Date]])","v":2020},{"$f":"MONTH(CGITempAct[[#This Row],[Date]])","v":11},{"$f":"IF(CGITempAct[[#This Row],[Month]]=H121,I121+1,1)","v":29}]
[44143,80,62,{"$f":"AVERAGE(CGITempAct[[#This Row],[CGIHigh]:[CGILow]]\n)","v":71},{"$f":"IF(CGITempAct[[#This Row],[CGIAve]]<65,(65-CGITempAct[[#This Row],[CGIAve]]),0)","v":0},{"$f":"SUMPRODUCT((RankNHDD[Month]=CGITempAct[[#This Row],[Month]])*(RankNHDD[Rank]=CGITempAct[[#This Row],[Rank]])*RankNHDD[CGINHDD])","v":0.1},{"$f":"YEAR(CGITempAct[[#This Row],[Date]])","v":2020},{"$f":"MONTH(CGITempAct[[#This Row],[Date]])","v":11},{"$f":"IF(CGITempAct[[#This Row],[Month]]=H122,I122+1,1)","v":30}]
[44190,29,14,{"$f":"AVERAGE(CGITempAct[[#This Row],[CGIHigh]:[CGILow]]\n)","v":21.5},{"$f":"IF(CGITempAct[[#This Row],[CGIAve]]<65,(65-CGITempAct[[#This Row],[CGIAve]]),0)","v":43.5},{"$f":"SUMPRODUCT((RankNHDD[Month]=CGITempAct[[#This Row],[Month]])*(RankNHDD[Rank]=CGITempAct[[#This Row],[Rank]])*RankNHDD[CGINHDD])","v":54.3},{"$f":"YEAR(CGITempAct[[#This Row],[Date]])","v":2020},{"$f":"MONTH(CGITempAct[[#This Row],[Date]])","v":12},{"$f":"IF(CGITempAct[[#This Row],[Month]]=H123,I123+1,1)","v":1}]
[44189,35,17,{"$f":"AVERAGE(CGITempAct[[#This Row],[CGIHigh]:[CGILow]]\n)","v":26},{"$f":"IF(CGITempAct[[#This Row],[CGIAve]]<65,(65-CGITempAct[[#This Row],[CGIAve]]),0)","v":39},{"$f":"SUMPRODUCT((RankNHDD[Month]=CGITempAct[[#This Row],[Month]])*(RankNHDD[Rank]=CGITempAct[[#This Row],[Rank]])*RankNHDD[CGINHDD])","v":46.4},{"$f":"YEAR(CGITempAct[[#This Row],[Date]])","v":2020},{"$f":"MONTH(CGITempAct[[#This Row],[Date]])","v":12},{"$f":"IF(CGITempAct[[#This Row],[Month]]=H124,I124+1,1)","v":2}]
[44182,37,20,{"$f":"AVERAGE(CGITempAct[[#This Row],[CGIHigh]:[CGILow]]\n)","v":28.5},{"$f":"IF(CGITempAct[[#This Row],[CGIAve]]<65,(65-CGITempAct[[#This Row],[CGIAve]]),0)","v":36.5},{"$f":"SUMPRODUCT((RankNHDD[Month]=CGITempAct[[#This Row],[Month]])*(RankNHDD[Rank]=CGITempAct[[#This Row],[Rank]])*RankNHDD[CGINHDD])","v":42.8},{"$f":"YEAR(CGITempAct[[#This Row],[Date]])","v":2020},{"$f":"MONTH(CGITempAct[[#This Row],[Date]])","v":12},{"$f":"IF(CGITempAct[[#This Row],[Month]]=H125,I125+1,1)","v":3}]
[44181,37,24,{"$f":"AVERAGE(CGITempAct[[#This Row],[CGIHigh]:[CGILow]]\n)","v":30.5},{"$f":"IF(CGITempAct[[#This Row],[CGIAve]]<65,(65-CGITempAct[[#This Row],[CGIAve]]),0)","v":34.5},{"$f":"SUMPRODUCT((RankNHDD[Month]=CGITempAct[[#This Row],[Month]])*(RankNHDD[Rank]=CGITempAct[[#This Row],[Rank]])*RankNHDD[CGINHDD])","v":40.6},{"$f":"YEAR(CGITempAct[[#This Row],[Date]])","v":2020},{"$f":"MONTH(CGITempAct[[#This Row],[Date]])","v":12},{"$f":"IF(CGITempAct[[#This Row],[Month]]=H126,I126+1,1)","v":4}]
[44180,37,25,{"$f":"AVERAGE(CGITempAct[[#This Row],[CGIHigh]:[CGILow]]\n)","v":31},{"$f":"IF(CGITempAct[[#This Row],[CGIAve]]<65,(65-CGITempAct[[#This Row],[CGIAve]]),0)","v":34},{"$f":"SUMPRODUCT((RankNHDD[Month]=CGITempAct[[#This Row],[Month]])*(RankNHDD[Rank]=CGITempAct[[#This Row],[Rank]])*RankNHDD[CGINHDD])","v":38.5},{"$f":"YEAR(CGITempAct[[#This Row],[Date]])","v":2020},{"$f":"MONTH(CGITempAct[[#This Row],[Date]])","v":12},{"$f":"IF(CGITempAct[[#This Row],[Month]]=H127,I127+1,1)","v":5}]
[44166,42,22,{"$f":"AVERAGE(CGITempAct[[#This Row],[CGIHigh]:[CGILow]]\n)","v":32},{"$f":"IF(CGITempAct[[#This Row],[CGIAve]]<65,(65-CGITempAct[[#This Row],[CGIAve]]),0)","v":33},{"$f":"SUMPRODUCT((RankNHDD[Month]=CGITempAct[[#This Row],[Month]])*(RankNHDD[Rank]=CGITempAct[[#This Row],[Rank]])*RankNHDD[CGINHDD])","v":37},{"$f":"YEAR(CGITempAct[[#This Row],[Date]])","v":2020},{"$f":"MONTH(CGITempAct[[#This Row],[Date]])","v":12},{"$f":"IF(CGITempAct[[#This Row],[Month]]=H128,I128+1,1)","v":6}]
[44191,48,19,{"$f":"AVERAGE(CGITempAct[[#This Row],[CGIHigh]:[CGILow]]\n)","v":33.5},{"$f":"IF(CGITempAct[[#This Row],[CGIAve]]<65,(65-CGITempAct[[#This Row],[CGIAve]]),0)","v":31.5},{"$f":"SUMPRODUCT((RankNHDD[Month]=CGITempAct[[#This Row],[Month]])*(RankNHDD[Rank]=CGITempAct[[#This Row],[Rank]])*RankNHDD[CGINHDD])","v":35.6},{"$f":"YEAR(CGITempAct[[#This Row],[Date]])","v":2020},{"$f":"MONTH(CGITempAct[[#This Row],[Date]])","v":12},{"$f":"IF(CGITempAct[[#This Row],[Month]]=H129,I129+1,1)","v":7}]
[44196,36,31,{"$f":"AVERAGE(CGITempAct[[#This Row],[CGIHigh]:[CGILow]]\n)","v":33.5},{"$f":"IF(CGITempAct[[#This Row],[CGIAve]]<65,(65-CGITempAct[[#This Row],[CGIAve]]),0)","v":31.5},{"$f":"SUMPRODUCT((RankNHDD[Month]=CGITempAct[[#This Row],[Month]])*(RankNHDD[Rank]=CGITempAct[[#This Row],[Rank]])*RankNHDD[CGINHDD])","v":34.4},{"$f":"YEAR(CGITempAct[[#This Row],[Date]])","v":2020},{"$f":"MONTH(CGITempAct[[#This Row],[Date]])","v":12},{"$f":"IF(CGITempAct[[#This Row],[Month]]=H130,I130+1,1)","v":8}]
[44179,42,27,{"$f":"AVERAGE(CGITempAct[[#This Row],[CGIHigh]:[CGILow]]\n)","v":34.5},{"$f":"IF(CGITempAct[[#This Row],[CGIAve]]<65,(65-CGITempAct[[#This Row],[CGIAve]]),0)","v":30.5},{"$f":"SUMPRODUCT((RankNHDD[Month]=CGITempAct[[#This Row],[Month]])*(RankNHDD[Rank]=CGITempAct[[#This Row],[Rank]])*RankNHDD[CGINHDD])","v":33.200000000000003},{"$f":"YEAR(CGITempAct[[#This Row],[Date]])","v":2020},{"$f":"MONTH(CGITempAct[[#This Row],[Date]])","v":12},{"$f":"IF(CGITempAct[[#This Row],[Month]]=H131,I131+1,1)","v":9}]
[44167,50,21,{"$f":"AVERAGE(CGITempAct[[#This Row],[CGIHigh]:[CGILow]]\n)","v":35.5},{"$f":"IF(CGITempAct[[#This Row],[CGIAve]]<65,(65-CGITempAct[[#This Row],[CGIAve]]),0)","v":29.5},{"$f":"SUMPRODUCT((RankNHDD[Month]=CGITempAct[[#This Row],[Month]])*(RankNHDD[Rank]=CGITempAct[[#This Row],[Rank]])*RankNHDD[CGINHDD])","v":32.200000000000003},{"$f":"YEAR(CGITempAct[[#This Row],[Date]])","v":2020},{"$f":"MONTH(CGITempAct[[#This Row],[Date]])","v":12},{"$f":"IF(CGITempAct[[#This Row],[Month]]=H132,I132+1,1)","v":10}]
[44194,44,27,{"$f":"AVERAGE(CGITempAct[[#This Row],[CGIHigh]:[CGILow]]\n)","v":35.5},{"$f":"IF(CGITempAct[[#This Row],[CGIAve]]<65,(65-CGITempAct[[#This Row],[CGIAve]]),0)","v":29.5},{"$f":"SUMPRODUCT((RankNHDD[Month]=CGITempAct[[#This Row],[Month]])*(RankNHDD[Rank]=CGITempAct[[#This Row],[Rank]])*RankNHDD[CGINHDD])","v":31.2},{"$f":"YEAR(CGITempAct[[#This Row],[Date]])","v":2020},{"$f":"MONTH(CGITempAct[[#This Row],[Date]])","v":12},{"$f":"IF(CGITempAct[[#This Row],[Month]]=H133,I133+1,1)","v":11}]
[44172,46,26,{"$f":"AVERAGE(CGITempAct[[#This Row],[CGIHigh]:[CGILow]]\n)","v":36},{"$f":"IF(CGITempAct[[#This Row],[CGIAve]]<65,(65-CGITempAct[[#This Row],[CGIAve]]),0)","v":29},{"$f":"SUMPRODUCT((RankNHDD[Month]=CGITempAct[[#This Row],[Month]])*(RankNHDD[Rank]=CGITempAct[[#This Row],[Rank]])*RankNHDD[CGINHDD])","v":30.5},{"$f":"YEAR(CGITempAct[[#This Row],[Date]])","v":2020},{"$f":"MONTH(CGITempAct[[#This Row],[Date]])","v":12},{"$f":"IF(CGITempAct[[#This Row],[Month]]=H134,I134+1,1)","v":12}]
[44183,46,26,{"$f":"AVERAGE(CGITempAct[[#This Row],[CGIHigh]:[CGILow]]\n)","v":36},{"$f":"IF(CGITempAct[[#This Row],[CGIAve]]<65,(65-CGITempAct[[#This Row],[CGIAve]]),0)","v":29},{"$f":"SUMPRODUCT((RankNHDD[Month]=CGITempAct[[#This Row],[Month]])*(RankNHDD[Rank]=CGITempAct[[#This Row],[Rank]])*RankNHDD[CGINHDD])","v":29.8},{"$f":"YEAR(CGITempAct[[#This Row],[Date]])","v":2020},{"$f":"MONTH(CGITempAct[[#This Row],[Date]])","v":12},{"$f":"IF(CGITempAct[[#This Row],[Month]]=H135,I135+1,1)","v":13}]
[44193,47,26,{"$f":"AVERAGE(CGITempAct[[#This Row],[CGIHigh]:[CGILow]]\n)","v":36.5},{"$f":"IF(CGITempAct[[#This Row],[CGIAve]]<65,(65-CGITempAct[[#This Row],[CGIAve]]),0)","v":28.5},{"$f":"SUMPRODUCT((RankNHDD[Month]=CGITempAct[[#This Row],[Month]])*(RankNHDD[Rank]=CGITempAct[[#This Row],[Rank]])*RankNHDD[CGINHDD])","v":29.1},{"$f":"YEAR(CGITempAct[[#This Row],[Date]])","v":2020},{"$f":"MONTH(CGITempAct[[#This Row],[Date]])","v":12},{"$f":"IF(CGITempAct[[#This Row],[Month]]=H136,I136+1,1)","v":14}]
[44173,51,23,{"$f":"AVERAGE(CGITempAct[[#This Row],[CGIHigh]:[CGILow]]\n)","v":37},{"$f":"IF(CGITempAct[[#This Row],[CGIAve]]<65,(65-CGITempAct[[#This Row],[CGIAve]]),0)","v":28},{"$f":"SUMPRODUCT((RankNHDD[Month]=CGITempAct[[#This Row],[Month]])*(RankNHDD[Rank]=CGITempAct[[#This Row],[Rank]])*RankNHDD[CGINHDD])","v":28.4},{"$f":"YEAR(CGITempAct[[#This Row],[Date]])","v":2020},{"$f":"MONTH(CGITempAct[[#This Row],[Date]])","v":12},{"$f":"IF(CGITempAct[[#This Row],[Month]]=H137,I137+1,1)","v":15}]
[44168,47,31,{"$f":"AVERAGE(CGITempAct[[#This Row],[CGIHigh]:[CGILow]]\n)","v":39},{"$f":"IF(CGITempAct[[#This Row],[CGIAve]]<65,(65-CGITempAct[[#This Row],[CGIAve]]),0)","v":26},{"$f":"SUMPRODUCT((RankNHDD[Month]=CGITempAct[[#This Row],[Month]])*(RankNHDD[Rank]=CGITempAct[[#This Row],[Rank]])*RankNHDD[CGINHDD])","v":27.7},{"$f":"YEAR(CGITempAct[[#This Row],[Date]])","v":2020},{"$f":"MONTH(CGITempAct[[#This Row],[Date]])","v":12},{"$f":"IF(CGITempAct[[#This Row],[Month]]=H138,I138+1,1)","v":16}]
[44171,51,27,{"$f":"AVERAGE(CGITempAct[[#This Row],[CGIHigh]:[CGILow]]\n)","v":39},{"$f":"IF(CGITempAct[[#This Row],[CGIAve]]<65,(65-CGITempAct[[#This Row],[CGIAve]]),0)","v":26},{"$f":"SUMPRODUCT((RankNHDD[Month]=CGITempAct[[#This Row],[Month]])*(RankNHDD[Rank]=CGITempAct[[#This Row],[Rank]])*RankNHDD[CGINHDD])","v":27.1},{"$f":"YEAR(CGITempAct[[#This Row],[Date]])","v":2020},{"$f":"MONTH(CGITempAct[[#This Row],[Date]])","v":12},{"$f":"IF(CGITempAct[[#This Row],[Month]]=H139,I139+1,1)","v":17}]
[44184,43,36,{"$f":"AVERAGE(CGITempAct[[#This Row],[CGIHigh]:[CGILow]]\n)","v":39.5},{"$f":"IF(CGITempAct[[#This Row],[CGIAve]]<65,(65-CGITempAct[[#This Row],[CGIAve]]),0)","v":25.5},{"$f":"SUMPRODUCT((RankNHDD[Month]=CGITempAct[[#This Row],[Month]])*(RankNHDD[Rank]=CGITempAct[[#This Row],[Rank]])*RankNHDD[CGINHDD])","v":26.3},{"$f":"YEAR(CGITempAct[[#This Row],[Date]])","v":2020},{"$f":"MONTH(CGITempAct[[#This Row],[Date]])","v":12},{"$f":"IF(CGITempAct[[#This Row],[Month]]=H140,I140+1,1)","v":18}]
[44169,51,29,{"$f":"AVERAGE(CGITempAct[[#This Row],[CGIHigh]:[CGILow]]\n)","v":40},{"$f":"IF(CGITempAct[[#This Row],[CGIAve]]<65,(65-CGITempAct[[#This Row],[CGIAve]]),0)","v":25},{"$f":"SUMPRODUCT((RankNHDD[Month]=CGITempAct[[#This Row],[Month]])*(RankNHDD[Rank]=CGITempAct[[#This Row],[Rank]])*RankNHDD[CGINHDD])","v":25.6},{"$f":"YEAR(CGITempAct[[#This Row],[Date]])","v":2020},{"$f":"MONTH(CGITempAct[[#This Row],[Date]])","v":12},{"$f":"IF(CGITempAct[[#This Row],[Month]]=H141,I141+1,1)","v":19}]
[44178,43,37,{"$f":"AVERAGE(CGITempAct[[#This Row],[CGIHigh]:[CGILow]]\n)","v":40},{"$f":"IF(CGITempAct[[#This Row],[CGIAve]]<65,(65-CGITempAct[[#This Row],[CGIAve]]),0)","v":25},{"$f":"SUMPRODUCT((RankNHDD[Month]=CGITempAct[[#This Row],[Month]])*(RankNHDD[Rank]=CGITempAct[[#This Row],[Rank]])*RankNHDD[CGINHDD])","v":25},{"$f":"YEAR(CGITempAct[[#This Row],[Date]])","v":2020},{"$f":"MONTH(CGITempAct[[#This Row],[Date]])","v":12},{"$f":"IF(CGITempAct[[#This Row],[Month]]=H142,I142+1,1)","v":20}]
[44170,57,27,{"$f":"AVERAGE(CGITempAct[[#This Row],[CGIHigh]:[CGILow]]\n)","v":42},{"$f":"IF(CGITempAct[[#This Row],[CGIAve]]<65,(65-CGITempAct[[#This Row],[CGIAve]]),0)","v":23},{"$f":"SUMPRODUCT((RankNHDD[Month]=CGITempAct[[#This Row],[Month]])*(RankNHDD[Rank]=CGITempAct[[#This Row],[Rank]])*RankNHDD[CGINHDD])","v":24.2},{"$f":"YEAR(CGITempAct[[#This Row],[Date]])","v":2020},{"$f":"MONTH(CGITempAct[[#This Row],[Date]])","v":12},{"$f":"IF(CGITempAct[[#This Row],[Month]]=H143,I143+1,1)","v":21}]
[44185,48,36,{"$f":"AVERAGE(CGITempAct[[#This Row],[CGIHigh]:[CGILow]]\n)","v":42},{"$f":"IF(CGITempAct[[#This Row],[CGIAve]]<65,(65-CGITempAct[[#This Row],[CGIAve]]),0)","v":23},{"$f":"SUMPRODUCT((RankNHDD[Month]=CGITempAct[[#This Row],[Month]])*(RankNHDD[Rank]=CGITempAct[[#This Row],[Rank]])*RankNHDD[CGINHDD])","v":23.1},{"$f":"YEAR(CGITempAct[[#This Row],[Date]])","v":2020},{"$f":"MONTH(CGITempAct[[#This Row],[Date]])","v":12},{"$f":"IF(CGITempAct[[#This Row],[Month]]=H144,I144+1,1)","v":22}]
[44187,54,30,{"$f":"AVERAGE(CGITempAct[[#This Row],[CGIHigh]:[CGILow]]\n)","v":42},{"$f":"IF(CGITempAct[[#This Row],[CGIAve]]<65,(65-CGITempAct[[#This Row],[CGIAve]]),0)","v":23},{"$f":"SUMPRODUCT((RankNHDD[Month]=CGITempAct[[#This Row],[Month]])*(RankNHDD[Rank]=CGITempAct[[#This Row],[Rank]])*RankNHDD[CGINHDD])","v":22.2},{"$f":"YEAR(CGITempAct[[#This Row],[Date]])","v":2020},{"$f":"MONTH(CGITempAct[[#This Row],[Date]])","v":12},{"$f":"IF(CGITempAct[[#This Row],[Month]]=H145,I145+1,1)","v":23}]
[44195,52,35,{"$f":"AVERAGE(CGITempAct[[#This Row],[CGIHigh]:[CGILow]]\n)","v":43.5},{"$f":"IF(CGITempAct[[#This Row],[CGIAve]]<65,(65-CGITempAct[[#This Row],[CGIAve]]),0)","v":21.5},{"$f":"SUMPRODUCT((RankNHDD[Month]=CGITempAct[[#This Row],[Month]])*(RankNHDD[Rank]=CGITempAct[[#This Row],[Rank]])*RankNHDD[CGINHDD])","v":21.3},{"$f":"YEAR(CGITempAct[[#This Row],[Date]])","v":2020},{"$f":"MONTH(CGITempAct[[#This Row],[Date]])","v":12},{"$f":"IF(CGITempAct[[#This Row],[Month]]=H146,I146+1,1)","v":24}]
[44192,56,33,{"$f":"AVERAGE(CGITempAct[[#This Row],[CGIHigh]:[CGILow]]\n)","v":44.5},{"$f":"IF(CGITempAct[[#This Row],[CGIAve]]<65,(65-CGITempAct[[#This Row],[CGIAve]]),0)","v":20.5},{"$f":"SUMPRODUCT((RankNHDD[Month]=CGITempAct[[#This Row],[Month]])*(RankNHDD[Rank]=CGITempAct[[#This Row],[Rank]])*RankNHDD[CGINHDD])","v":20.3},{"$f":"YEAR(CGITempAct[[#This Row],[Date]])","v":2020},{"$f":"MONTH(CGITempAct[[#This Row],[Date]])","v":12},{"$f":"IF(CGITempAct[[#This Row],[Month]]=H147,I147+1,1)","v":25}]
[44188,57,36,{"$f":"AVERAGE(CGITempAct[[#This Row],[CGIHigh]:[CGILow]]\n)","v":46.5},{"$f":"IF(CGITempAct[[#This Row],[CGIAve]]<65,(65-CGITempAct[[#This Row],[CGIAve]]),0)","v":18.5},{"$f":"SUMPRODUCT((RankNHDD[Month]=CGITempAct[[#This Row],[Month]])*(RankNHDD[Rank]=CGITempAct[[#This Row],[Rank]])*RankNHDD[CGINHDD])","v":19},{"$f":"YEAR(CGITempAct[[#This Row],[Date]])","v":2020},{"$f":"MONTH(CGITempAct[[#This Row],[Date]])","v":12},{"$f":"IF(CGITempAct[[#This Row],[Month]]=H148,I148+1,1)","v":26}]
[44174,64,30,{"$f":"AVERAGE(CGITempAct[[#This Row],[CGIHigh]:[CGILow]]\n)","v":47},{"$f":"IF(CGITempAct[[#This Row],[CGIAve]]<65,(65-CGITempAct[[#This Row],[CGIAve]]),0)","v":18},{"$f":"SUMPRODUCT((RankNHDD[Month]=CGITempAct[[#This Row],[Month]])*(RankNHDD[Rank]=CGITempAct[[#This Row],[Rank]])*RankNHDD[CGINHDD])","v":17.3},{"$f":"YEAR(CGITempAct[[#This Row],[Date]])","v":2020},{"$f":"MONTH(CGITempAct[[#This Row],[Date]])","v":12},{"$f":"IF(CGITempAct[[#This Row],[Month]]=H149,I149+1,1)","v":27}]
[44175,65,32,{"$f":"AVERAGE(CGITempAct[[#This Row],[CGIHigh]:[CGILow]]\n)","v":48.5},{"$f":"IF(CGITempAct[[#This Row],[CGIAve]]<65,(65-CGITempAct[[#This Row],[CGIAve]]),0)","v":16.5},{"$f":"SUMPRODUCT((RankNHDD[Month]=CGITempAct[[#This Row],[Month]])*(RankNHDD[Rank]=CGITempAct[[#This Row],[Rank]])*RankNHDD[CGINHDD])","v":15.7},{"$f":"YEAR(CGITempAct[[#This Row],[Date]])","v":2020},{"$f":"MONTH(CGITempAct[[#This Row],[Date]])","v":12},{"$f":"IF(CGITempAct[[#This Row],[Month]]=H150,I150+1,1)","v":28}]
[44186,63,35,{"$f":"AVERAGE(CGITempAct[[#This Row],[CGIHigh]:[CGILow]]\n)","v":49},{"$f":"IF(CGITempAct[[#This Row],[CGIAve]]<65,(65-CGITempAct[[#This Row],[CGIAve]]),0)","v":16},{"$f":"SUMPRODUCT((RankNHDD[Month]=CGITempAct[[#This Row],[Month]])*(RankNHDD[Rank]=CGITempAct[[#This Row],[Rank]])*RankNHDD[CGINHDD])","v":14},{"$f":"YEAR(CGITempAct[[#This Row],[Date]])","v":2020},{"$f":"MONTH(CGITempAct[[#This Row],[Date]])","v":12},{"$f":"IF(CGITempAct[[#This Row],[Month]]=H151,I151+1,1)","v":29}]
[44177,58,42,{"$f":"AVERAGE(CGITempAct[[#This Row],[CGIHigh]:[CGILow]]\n)","v":50},{"$f":"IF(CGITempAct[[#This Row],[CGIAve]]<65,(65-CGITempAct[[#This Row],[CGIAve]]),0)","v":15},{"$f":"SUMPRODUCT((RankNHDD[Month]=CGITempAct[[#This Row],[Month]])*(RankNHDD[Rank]=CGITempAct[[#This Row],[Rank]])*RankNHDD[CGINHDD])","v":10.8},{"$f":"YEAR(CGITempAct[[#This Row],[Date]])","v":2020},{"$f":"MONTH(CGITempAct[[#This Row],[Date]])","v":12},{"$f":"IF(CGITempAct[[#This Row],[Month]]=H152,I152+1,1)","v":30}]
[44176,63,43,{"$f":"AVERAGE(CGITempAct[[#This Row],[CGIHigh]:[CGILow]]\n)","v":53},{"$f":"IF(CGITempAct[[#This Row],[CGIAve]]<65,(65-CGITempAct[[#This Row],[CGIAve]]),0)","v":12},{"$f":"SUMPRODUCT((RankNHDD[Month]=CGITempAct[[#This Row],[Month]])*(RankNHDD[Rank]=CGITempAct[[#This Row],[Rank]])*RankNHDD[CGINHDD])","v":5.2},{"$f":"YEAR(CGITempAct[[#This Row],[Date]])","v":2020},{"$f":"MONTH(CGITempAct[[#This Row],[Date]])","v":12},{"$f":"IF(CGITempAct[[#This Row],[Month]]=H153,I153+1,1)","v":31}]
[44207,31,21,{"$f":"AVERAGE(CGITempAct[[#This Row],[CGIHigh]:[CGILow]]\n)","v":26},{"$f":"IF(CGITempAct[[#This Row],[CGIAve]]<65,(65-CGITempAct[[#This Row],[CGIAve]]),0)","v":39},{"$f":"SUMPRODUCT((RankNHDD[Month]=CGITempAct[[#This Row],[Month]])*(RankNHDD[Rank]=CGITempAct[[#This Row],[Rank]])*RankNHDD[CGINHDD])","v":55.9},{"$f":"YEAR(CGITempAct[[#This Row],[Date]])","v":2021},{"$f":"MONTH(CGITempAct[[#This Row],[Date]])","v":1},{"$f":"IF(CGITempAct[[#This Row],[Month]]=H154,I154+1,1)","v":1}]
[44224,36,22,{"$f":"AVERAGE(CGITempAct[[#This Row],[CGIHigh]:[CGILow]]\n)","v":29},{"$f":"IF(CGITempAct[[#This Row],[CGIAve]]<65,(65-CGITempAct[[#This Row],[CGIAve]]),0)","v":36},{"$f":"SUMPRODUCT((RankNHDD[Month]=CGITempAct[[#This Row],[Month]])*(RankNHDD[Rank]=CGITempAct[[#This Row],[Rank]])*RankNHDD[CGINHDD])","v":49.5},{"$f":"YEAR(CGITempAct[[#This Row],[Date]])","v":2021},{"$f":"MONTH(CGITempAct[[#This Row],[Date]])","v":1},{"$f":"IF(CGITempAct[[#This Row],[Month]]=H155,I155+1,1)","v":2}]
[44206,32,30,{"$f":"AVERAGE(CGITempAct[[#This Row],[CGIHigh]:[CGILow]]\n)","v":31},{"$f":"IF(CGITempAct[[#This Row],[CGIAve]]<65,(65-CGITempAct[[#This Row],[CGIAve]]),0)","v":34},{"$f":"SUMPRODUCT((RankNHDD[Month]=CGITempAct[[#This Row],[Month]])*(RankNHDD[Rank]=CGITempAct[[#This Row],[Rank]])*RankNHDD[CGINHDD])","v":46.1},{"$f":"YEAR(CGITempAct[[#This Row],[Date]])","v":2021},{"$f":"MONTH(CGITempAct[[#This Row],[Date]])","v":1},{"$f":"IF(CGITempAct[[#This Row],[Month]]=H156,I156+1,1)","v":3}]
[44208,44,18,{"$f":"AVERAGE(CGITempAct[[#This Row],[CGIHigh]:[CGILow]]\n)","v":31},{"$f":"IF(CGITempAct[[#This Row],[CGIAve]]<65,(65-CGITempAct[[#This Row],[CGIAve]]),0)","v":34},{"$f":"SUMPRODUCT((RankNHDD[Month]=CGITempAct[[#This Row],[Month]])*(RankNHDD[Rank]=CGITempAct[[#This Row],[Rank]])*RankNHDD[CGINHDD])","v":44},{"$f":"YEAR(CGITempAct[[#This Row],[Date]])","v":2021},{"$f":"MONTH(CGITempAct[[#This Row],[Date]])","v":1},{"$f":"IF(CGITempAct[[#This Row],[Month]]=H157,I157+1,1)","v":4}]
[44223,36,29,{"$f":"AVERAGE(CGITempAct[[#This Row],[CGIHigh]:[CGILow]]\n)","v":32.5},{"$f":"IF(CGITempAct[[#This Row],[CGIAve]]<65,(65-CGITempAct[[#This Row],[CGIAve]]),0)","v":32.5},{"$f":"SUMPRODUCT((RankNHDD[Month]=CGITempAct[[#This Row],[Month]])*(RankNHDD[Rank]=CGITempAct[[#This Row],[Rank]])*RankNHDD[CGINHDD])","v":42.1},{"$f":"YEAR(CGITempAct[[#This Row],[Date]])","v":2021},{"$f":"MONTH(CGITempAct[[#This Row],[Date]])","v":1},{"$f":"IF(CGITempAct[[#This Row],[Month]]=H158,I158+1,1)","v":5}]
[44219,44,22,{"$f":"AVERAGE(CGITempAct[[#This Row],[CGIHigh]:[CGILow]]\n)","v":33},{"$f":"IF(CGITempAct[[#This Row],[CGIAve]]<65,(65-CGITempAct[[#This Row],[CGIAve]]),0)","v":32},{"$f":"SUMPRODUCT((RankNHDD[Month]=CGITempAct[[#This Row],[Month]])*(RankNHDD[Rank]=CGITempAct[[#This Row],[Rank]])*RankNHDD[CGINHDD])","v":40.4},{"$f":"YEAR(CGITempAct[[#This Row],[Date]])","v":2021},{"$f":"MONTH(CGITempAct[[#This Row],[Date]])","v":1},{"$f":"IF(CGITempAct[[#This Row],[Month]]=H159,I159+1,1)","v":6}]
[44225,43,23,{"$f":"AVERAGE(CGITempAct[[#This Row],[CGIHigh]:[CGILow]]\n)","v":33},{"$f":"IF(CGITempAct[[#This Row],[CGIAve]]<65,(65-CGITempAct[[#This Row],[CGIAve]]),0)","v":32},{"$f":"SUMPRODUCT((RankNHDD[Month]=CGITempAct[[#This Row],[Month]])*(RankNHDD[Rank]=CGITempAct[[#This Row],[Rank]])*RankNHDD[CGINHDD])","v":38.9},{"$f":"YEAR(CGITempAct[[#This Row],[Date]])","v":2021},{"$f":"MONTH(CGITempAct[[#This Row],[Date]])","v":1},{"$f":"IF(CGITempAct[[#This Row],[Month]]=H160,I160+1,1)","v":7}]
[44205,36,32,{"$f":"AVERAGE(CGITempAct[[#This Row],[CGIHigh]:[CGILow]]\n)","v":34},{"$f":"IF(CGITempAct[[#This Row],[CGIAve]]<65,(65-CGITempAct[[#This Row],[CGIAve]]),0)","v":31},{"$f":"SUMPRODUCT((RankNHDD[Month]=CGITempAct[[#This Row],[Month]])*(RankNHDD[Rank]=CGITempAct[[#This Row],[Rank]])*RankNHDD[CGINHDD])","v":37.5},{"$f":"YEAR(CGITempAct[[#This Row],[Date]])","v":2021},{"$f":"MONTH(CGITempAct[[#This Row],[Date]])","v":1},{"$f":"IF(CGITempAct[[#This Row],[Month]]=H161,I161+1,1)","v":8}]
[44199,41,28,{"$f":"AVERAGE(CGITempAct[[#This Row],[CGIHigh]:[CGILow]]\n)","v":34.5},{"$f":"IF(CGITempAct[[#This Row],[CGIAve]]<65,(65-CGITempAct[[#This Row],[CGIAve]]),0)","v":30.5},{"$f":"SUMPRODUCT((RankNHDD[Month]=CGITempAct[[#This Row],[Month]])*(RankNHDD[Rank]=CGITempAct[[#This Row],[Rank]])*RankNHDD[CGINHDD])","v":36.4},{"$f":"YEAR(CGITempAct[[#This Row],[Date]])","v":2021},{"$f":"MONTH(CGITempAct[[#This Row],[Date]])","v":1},{"$f":"IF(CGITempAct[[#This Row],[Month]]=H162,I162+1,1)","v":9}]
[44204,37,33,{"$f":"AVERAGE(CGITempAct[[#This Row],[CGIHigh]:[CGILow]]\n)","v":35},{"$f":"IF(CGITempAct[[#This Row],[CGIAve]]<65,(65-CGITempAct[[#This Row],[CGIAve]]),0)","v":30},{"$f":"SUMPRODUCT((RankNHDD[Month]=CGITempAct[[#This Row],[Month]])*(RankNHDD[Rank]=CGITempAct[[#This Row],[Rank]])*RankNHDD[CGINHDD])","v":35.299999999999997},{"$f":"YEAR(CGITempAct[[#This Row],[Date]])","v":2021},{"$f":"MONTH(CGITempAct[[#This Row],[Date]])","v":1},{"$f":"IF(CGITempAct[[#This Row],[Month]]=H163,I163+1,1)","v":10}]
[44216,46,24,{"$f":"AVERAGE(CGITempAct[[#This Row],[CGIHigh]:[CGILow]]\n)","v":35},{"$f":"IF(CGITempAct[[#This Row],[CGIAve]]<65,(65-CGITempAct[[#This Row],[CGIAve]]),0)","v":30},{"$f":"SUMPRODUCT((RankNHDD[Month]=CGITempAct[[#This Row],[Month]])*(RankNHDD[Rank]=CGITempAct[[#This Row],[Rank]])*RankNHDD[CGINHDD])","v":34.5},{"$f":"YEAR(CGITempAct[[#This Row],[Date]])","v":2021},{"$f":"MONTH(CGITempAct[[#This Row],[Date]])","v":1},{"$f":"IF(CGITempAct[[#This Row],[Month]]=H164,I164+1,1)","v":11}]
[44209,49,22,{"$f":"AVERAGE(CGITempAct[[#This Row],[CGIHigh]:[CGILow]]\n)","v":35.5},{"$f":"IF(CGITempAct[[#This Row],[CGIAve]]<65,(65-CGITempAct[[#This Row],[CGIAve]]),0)","v":29.5},{"$f":"SUMPRODUCT((RankNHDD[Month]=CGITempAct[[#This Row],[Month]])*(RankNHDD[Rank]=CGITempAct[[#This Row],[Rank]])*RankNHDD[CGINHDD])","v":33.700000000000003},{"$f":"YEAR(CGITempAct[[#This Row],[Date]])","v":2021},{"$f":"MONTH(CGITempAct[[#This Row],[Date]])","v":1},{"$f":"IF(CGITempAct[[#This Row],[Month]]=H165,I165+1,1)","v":12}]
[44203,38,34,{"$f":"AVERAGE(CGITempAct[[#This Row],[CGIHigh]:[CGILow]]\n)","v":36},{"$f":"IF(CGITempAct[[#This Row],[CGIAve]]<65,(65-CGITempAct[[#This Row],[CGIAve]]),0)","v":29},{"$f":"SUMPRODUCT((RankNHDD[Month]=CGITempAct[[#This Row],[Month]])*(RankNHDD[Rank]=CGITempAct[[#This Row],[Rank]])*RankNHDD[CGINHDD])","v":33},{"$f":"YEAR(CGITempAct[[#This Row],[Date]])","v":2021},{"$f":"MONTH(CGITempAct[[#This Row],[Date]])","v":1},{"$f":"IF(CGITempAct[[#This Row],[Month]]=H166,I166+1,1)","v":13}]
[44218,45,28,{"$f":"AVERAGE(CGITempAct[[#This Row],[CGIHigh]:[CGILow]]\n)","v":36.5},{"$f":"IF(CGITempAct[[#This Row],[CGIAve]]<65,(65-CGITempAct[[#This Row],[CGIAve]]),0)","v":28.5},{"$f":"SUMPRODUCT((RankNHDD[Month]=CGITempAct[[#This Row],[Month]])*(RankNHDD[Rank]=CGITempAct[[#This Row],[Rank]])*RankNHDD[CGINHDD])","v":32.200000000000003},{"$f":"YEAR(CGITempAct[[#This Row],[Date]])","v":2021},{"$f":"MONTH(CGITempAct[[#This Row],[Date]])","v":1},{"$f":"IF(CGITempAct[[#This Row],[Month]]=H167,I167+1,1)","v":14}]
[44198,39,35,{"$f":"AVERAGE(CGITempAct[[#This Row],[CGIHigh]:[CGILow]]\n)","v":37},{"$f":"IF(CGITempAct[[#This Row],[CGIAve]]<65,(65-CGITempAct[[#This Row],[CGIAve]]),0)","v":28},{"$f":"SUMPRODUCT((RankNHDD[Month]=CGITempAct[[#This Row],[Month]])*(RankNHDD[Rank]=CGITempAct[[#This Row],[Rank]])*RankNHDD[CGINHDD])","v":31.4},{"$f":"YEAR(CGITempAct[[#This Row],[Date]])","v":2021},{"$f":"MONTH(CGITempAct[[#This Row],[Date]])","v":1},{"$f":"IF(CGITempAct[[#This Row],[Month]]=H168,I168+1,1)","v":15}]
[44211,42,32,{"$f":"AVERAGE(CGITempAct[[#This Row],[CGIHigh]:[CGILow]]\n)","v":37},{"$f":"IF(CGITempAct[[#This Row],[CGIAve]]<65,(65-CGITempAct[[#This Row],[CGIAve]]),0)","v":28},{"$f":"SUMPRODUCT((RankNHDD[Month]=CGITempAct[[#This Row],[Month]])*(RankNHDD[Rank]=CGITempAct[[#This Row],[Rank]])*RankNHDD[CGINHDD])","v":30.8},{"$f":"YEAR(CGITempAct[[#This Row],[Date]])","v":2021},{"$f":"MONTH(CGITempAct[[#This Row],[Date]])","v":1},{"$f":"IF(CGITempAct[[#This Row],[Month]]=H169,I169+1,1)","v":16}]
[44212,44,30,{"$f":"AVERAGE(CGITempAct[[#This Row],[CGIHigh]:[CGILow]]\n)","v":37},{"$f":"IF(CGITempAct[[#This Row],[CGIAve]]<65,(65-CGITempAct[[#This Row],[CGIAve]]),0)","v":28},{"$f":"SUMPRODUCT((RankNHDD[Month]=CGITempAct[[#This Row],[Month]])*(RankNHDD[Rank]=CGITempAct[[#This Row],[Rank]])*RankNHDD[CGINHDD])","v":30.1},{"$f":"YEAR(CGITempAct[[#This Row],[Date]])","v":2021},{"$f":"MONTH(CGITempAct[[#This Row],[Date]])","v":1},{"$f":"IF(CGITempAct[[#This Row],[Month]]=H170,I170+1,1)","v":17}]
[44214,49,26,{"$f":"AVERAGE(CGITempAct[[#This Row],[CGIHigh]:[CGILow]]\n)","v":37.5},{"$f":"IF(CGITempAct[[#This Row],[CGIAve]]<65,(65-CGITempAct[[#This Row],[CGIAve]]),0)","v":27.5},{"$f":"SUMPRODUCT((RankNHDD[Month]=CGITempAct[[#This Row],[Month]])*(RankNHDD[Rank]=CGITempAct[[#This Row],[Rank]])*RankNHDD[CGINHDD])","v":29.2},{"$f":"YEAR(CGITempAct[[#This Row],[Date]])","v":2021},{"$f":"MONTH(CGITempAct[[#This Row],[Date]])","v":1},{"$f":"IF(CGITempAct[[#This Row],[Month]]=H171,I171+1,1)","v":18}]
[44200,49,27,{"$f":"AVERAGE(CGITempAct[[#This Row],[CGIHigh]:[CGILow]]\n)","v":38},{"$f":"IF(CGITempAct[[#This Row],[CGIAve]]<65,(65-CGITempAct[[#This Row],[CGIAve]]),0)","v":27},{"$f":"SUMPRODUCT((RankNHDD[Month]=CGITempAct[[#This Row],[Month]])*(RankNHDD[Rank]=CGITempAct[[#This Row],[Rank]])*RankNHDD[CGINHDD])","v":28.5},{"$f":"YEAR(CGITempAct[[#This Row],[Date]])","v":2021},{"$f":"MONTH(CGITempAct[[#This Row],[Date]])","v":1},{"$f":"IF(CGITempAct[[#This Row],[Month]]=H172,I172+1,1)","v":19}]
[44202,49,27,{"$f":"AVERAGE(CGITempAct[[#This Row],[CGIHigh]:[CGILow]]\n)","v":38},{"$f":"IF(CGITempAct[[#This Row],[CGIAve]]<65,(65-CGITempAct[[#This Row],[CGIAve]]),0)","v":27},{"$f":"SUMPRODUCT((RankNHDD[Month]=CGITempAct[[#This Row],[Month]])*(RankNHDD[Rank]=CGITempAct[[#This Row],[Rank]])*RankNHDD[CGINHDD])","v":27.8},{"$f":"YEAR(CGITempAct[[#This Row],[Date]])","v":2021},{"$f":"MONTH(CGITempAct[[#This Row],[Date]])","v":1},{"$f":"IF(CGITempAct[[#This Row],[Month]]=H173,I173+1,1)","v":20}]
[44213,45,32,{"$f":"AVERAGE(CGITempAct[[#This Row],[CGIHigh]:[CGILow]]\n)","v":38.5},{"$f":"IF(CGITempAct[[#This Row],[CGIAve]]<65,(65-CGITempAct[[#This Row],[CGIAve]]),0)","v":26.5},{"$f":"SUMPRODUCT((RankNHDD[Month]=CGITempAct[[#This Row],[Month]])*(RankNHDD[Rank]=CGITempAct[[#This Row],[Rank]])*RankNHDD[CGINHDD])","v":26.8},{"$f":"YEAR(CGITempAct[[#This Row],[Date]])","v":2021},{"$f":"MONTH(CGITempAct[[#This Row],[Date]])","v":1},{"$f":"IF(CGITempAct[[#This Row],[Month]]=H174,I174+1,1)","v":21}]
[44201,51,28,{"$f":"AVERAGE(CGITempAct[[#This Row],[CGIHigh]:[CGILow]]\n)","v":39.5},{"$f":"IF(CGITempAct[[#This Row],[CGIAve]]<65,(65-CGITempAct[[#This Row],[CGIAve]]),0)","v":25.5},{"$f":"SUMPRODUCT((RankNHDD[Month]=CGITempAct[[#This Row],[Month]])*(RankNHDD[Rank]=CGITempAct[[#This Row],[Rank]])*RankNHDD[CGINHDD])","v":26},{"$f":"YEAR(CGITempAct[[#This Row],[Date]])","v":2021},{"$f":"MONTH(CGITempAct[[#This Row],[Date]])","v":1},{"$f":"IF(CGITempAct[[#This Row],[Month]]=H175,I175+1,1)","v":22}]
[44215,49,31,{"$f":"AVERAGE(CGITempAct[[#This Row],[CGIHigh]:[CGILow]]\n)","v":40},{"$f":"IF(CGITempAct[[#This Row],[CGIAve]]<65,(65-CGITempAct[[#This Row],[CGIAve]]),0)","v":25},{"$f":"SUMPRODUCT((RankNHDD[Month]=CGITempAct[[#This Row],[Month]])*(RankNHDD[Rank]=CGITempAct[[#This Row],[Rank]])*RankNHDD[CGINHDD])","v":25.1},{"$f":"YEAR(CGITempAct[[#This Row],[Date]])","v":2021},{"$f":"MONTH(CGITempAct[[#This Row],[Date]])","v":1},{"$f":"IF(CGITempAct[[#This Row],[Month]]=H176,I176+1,1)","v":23}]
[44197,48,33,{"$f":"AVERAGE(CGITempAct[[#This Row],[CGIHigh]:[CGILow]]\n)","v":40.5},{"$f":"IF(CGITempAct[[#This Row],[CGIAve]]<65,(65-CGITempAct[[#This Row],[CGIAve]]),0)","v":24.5},{"$f":"SUMPRODUCT((RankNHDD[Month]=CGITempAct[[#This Row],[Month]])*(RankNHDD[Rank]=CGITempAct[[#This Row],[Rank]])*RankNHDD[CGINHDD])","v":24.2},{"$f":"YEAR(CGITempAct[[#This Row],[Date]])","v":2021},{"$f":"MONTH(CGITempAct[[#This Row],[Date]])","v":1},{"$f":"IF(CGITempAct[[#This Row],[Month]]=H177,I177+1,1)","v":24}]
[44220,44,37,{"$f":"AVERAGE(CGITempAct[[#This Row],[CGIHigh]:[CGILow]]\n)","v":40.5},{"$f":"IF(CGITempAct[[#This Row],[CGIAve]]<65,(65-CGITempAct[[#This Row],[CGIAve]]),0)","v":24.5},{"$f":"SUMPRODUCT((RankNHDD[Month]=CGITempAct[[#This Row],[Month]])*(RankNHDD[Rank]=CGITempAct[[#This Row],[Rank]])*RankNHDD[CGINHDD])","v":23.1},{"$f":"YEAR(CGITempAct[[#This Row],[Date]])","v":2021},{"$f":"MONTH(CGITempAct[[#This Row],[Date]])","v":1},{"$f":"IF(CGITempAct[[#This Row],[Month]]=H178,I178+1,1)","v":25}]
[44217,52,32,{"$f":"AVERAGE(CGITempAct[[#This Row],[CGIHigh]:[CGILow]]\n)","v":42},{"$f":"IF(CGITempAct[[#This Row],[CGIAve]]<65,(65-CGITempAct[[#This Row],[CGIAve]]),0)","v":23},{"$f":"SUMPRODUCT((RankNHDD[Month]=CGITempAct[[#This Row],[Month]])*(RankNHDD[Rank]=CGITempAct[[#This Row],[Rank]])*RankNHDD[CGINHDD])","v":21.9},{"$f":"YEAR(CGITempAct[[#This Row],[Date]])","v":2021},{"$f":"MONTH(CGITempAct[[#This Row],[Date]])","v":1},{"$f":"IF(CGITempAct[[#This Row],[Month]]=H179,I179+1,1)","v":26}]
[44221,45,40,{"$f":"AVERAGE(CGITempAct[[#This Row],[CGIHigh]:[CGILow]]\n)","v":42.5},{"$f":"IF(CGITempAct[[#This Row],[CGIAve]]<65,(65-CGITempAct[[#This Row],[CGIAve]]),0)","v":22.5},{"$f":"SUMPRODUCT((RankNHDD[Month]=CGITempAct[[#This Row],[Month]])*(RankNHDD[Rank]=CGITempAct[[#This Row],[Rank]])*RankNHDD[CGINHDD])","v":20.3},{"$f":"YEAR(CGITempAct[[#This Row],[Date]])","v":2021},{"$f":"MONTH(CGITempAct[[#This Row],[Date]])","v":1},{"$f":"IF(CGITempAct[[#This Row],[Month]]=H180,I180+1,1)","v":27}]
[44222,51,34,{"$f":"AVERAGE(CGITempAct[[#This Row],[CGIHigh]:[CGILow]]\n)","v":42.5},{"$f":"IF(CGITempAct[[#This Row],[CGIAve]]<65,(65-CGITempAct[[#This Row],[CGIAve]]),0)","v":22.5},{"$f":"SUMPRODUCT((RankNHDD[Month]=CGITempAct[[#This Row],[Month]])*(RankNHDD[Rank]=CGITempAct[[#This Row],[Rank]])*RankNHDD[CGINHDD])","v":18.5},{"$f":"YEAR(CGITempAct[[#This Row],[Date]])","v":2021},{"$f":"MONTH(CGITempAct[[#This Row],[Date]])","v":1},{"$f":"IF(CGITempAct[[#This Row],[Month]]=H181,I181+1,1)","v":28}]
[44210,55,34,{"$f":"AVERAGE(CGITempAct[[#This Row],[CGIHigh]:[CGILow]]\n)","v":44.5},{"$f":"IF(CGITempAct[[#This Row],[CGIAve]]<65,(65-CGITempAct[[#This Row],[CGIAve]]),0)","v":20.5},{"$f":"SUMPRODUCT((RankNHDD[Month]=CGITempAct[[#This Row],[Month]])*(RankNHDD[Rank]=CGITempAct[[#This Row],[Rank]])*RankNHDD[CGINHDD])","v":16.2},{"$f":"YEAR(CGITempAct[[#This Row],[Date]])","v":2021},{"$f":"MONTH(CGITempAct[[#This Row],[Date]])","v":1},{"$f":"IF(CGITempAct[[#This Row],[Month]]=H182,I182+1,1)","v":29}]
[44226,54,36,{"$f":"AVERAGE(CGITempAct[[#This Row],[CGIHigh]:[CGILow]]\n)","v":45},{"$f":"IF(CGITempAct[[#This Row],[CGIAve]]<65,(65-CGITempAct[[#This Row],[CGIAve]]),0)","v":20},{"$f":"SUMPRODUCT((RankNHDD[Month]=CGITempAct[[#This Row],[Month]])*(RankNHDD[Rank]=CGITempAct[[#This Row],[Rank]])*RankNHDD[CGINHDD])","v":11.7},{"$f":"YEAR(CGITempAct[[#This Row],[Date]])","v":2021},{"$f":"MONTH(CGITempAct[[#This Row],[Date]])","v":1},{"$f":"IF(CGITempAct[[#This Row],[Month]]=H183,I183+1,1)","v":30}]
[44227,54,36,{"$f":"AVERAGE(CGITempAct[[#This Row],[CGIHigh]:[CGILow]]\n)","v":45},{"$f":"IF(CGITempAct[[#This Row],[CGIAve]]<65,(65-CGITempAct[[#This Row],[CGIAve]]),0)","v":20},{"$f":"SUMPRODUCT((RankNHDD[Month]=CGITempAct[[#This Row],[Month]])*(RankNHDD[Rank]=CGITempAct[[#This Row],[Rank]])*RankNHDD[CGINHDD])","v":5.5},{"$f":"YEAR(CGITempAct[[#This Row],[Date]])","v":2021},{"$f":"MONTH(CGITempAct[[#This Row],[Date]])","v":1},{"$f":"IF(CGITempAct[[#This Row],[Month]]=H184,I184+1,1)","v":31}]
[44243,14,-5,{"$f":"AVERAGE(CGITempAct[[#This Row],[CGIHigh]:[CGILow]]\n)","v":4.5},{"$f":"IF(CGITempAct[[#This Row],[CGIAve]]<65,(65-CGITempAct[[#This Row],[CGIAve]]),0)","v":60.5},{"$f":"SUMPRODUCT((RankNHDD[Month]=CGITempAct[[#This Row],[Month]])*(RankNHDD[Rank]=CGITempAct[[#This Row],[Rank]])*RankNHDD[CGINHDD])","v":53},{"$f":"YEAR(CGITempAct[[#This Row],[Date]])","v":2021},{"$f":"MONTH(CGITempAct[[#This Row],[Date]])","v":2},{"$f":"IF(CGITempAct[[#This Row],[Month]]=H185,I185+1,1)","v":1}]
[44242,9,3,{"$f":"AVERAGE(CGITempAct[[#This Row],[CGIHigh]:[CGILow]]\n)","v":6},{"$f":"IF(CGITempAct[[#This Row],[CGIAve]]<65,(65-CGITempAct[[#This Row],[CGIAve]]),0)","v":59},{"$f":"SUMPRODUCT((RankNHDD[Month]=CGITempAct[[#This Row],[Month]])*(RankNHDD[Rank]=CGITempAct[[#This Row],[Rank]])*RankNHDD[CGINHDD])","v":44.9},{"$f":"YEAR(CGITempAct[[#This Row],[Date]])","v":2021},{"$f":"MONTH(CGITempAct[[#This Row],[Date]])","v":2},{"$f":"IF(CGITempAct[[#This Row],[Month]]=H186,I186+1,1)","v":2}]
[44241,13,4,{"$f":"AVERAGE(CGITempAct[[#This Row],[CGIHigh]:[CGILow]]\n)","v":8.5},{"$f":"IF(CGITempAct[[#This Row],[CGIAve]]<65,(65-CGITempAct[[#This Row],[CGIAve]]),0)","v":56.5},{"$f":"SUMPRODUCT((RankNHDD[Month]=CGITempAct[[#This Row],[Month]])*(RankNHDD[Rank]=CGITempAct[[#This Row],[Rank]])*RankNHDD[CGINHDD])","v":41.3},{"$f":"YEAR(CGITempAct[[#This Row],[Date]])","v":2021},{"$f":"MONTH(CGITempAct[[#This Row],[Date]])","v":2},{"$f":"IF(CGITempAct[[#This Row],[Month]]=H187,I187+1,1)","v":3}]
[44240,15,11,{"$f":"AVERAGE(CGITempAct[[#This Row],[CGIHigh]:[CGILow]]\n)","v":13},{"$f":"IF(CGITempAct[[#This Row],[CGIAve]]<65,(65-CGITempAct[[#This Row],[CGIAve]]),0)","v":52},{"$f":"SUMPRODUCT((RankNHDD[Month]=CGITempAct[[#This Row],[Month]])*(RankNHDD[Rank]=CGITempAct[[#This Row],[Rank]])*RankNHDD[CGINHDD])","v":39.299999999999997},{"$f":"YEAR(CGITempAct[[#This Row],[Date]])","v":2021},{"$f":"MONTH(CGITempAct[[#This Row],[Date]])","v":2},{"$f":"IF(CGITempAct[[#This Row],[Month]]=H188,I188+1,1)","v":4}]
[44244,22,4,{"$f":"AVERAGE(CGITempAct[[#This Row],[CGIHigh]:[CGILow]]\n)","v":13},{"$f":"IF(CGITempAct[[#This Row],[CGIAve]]<65,(65-CGITempAct[[#This Row],[CGIAve]]),0)","v":52},{"$f":"SUMPRODUCT((RankNHDD[Month]=CGITempAct[[#This Row],[Month]])*(RankNHDD[Rank]=CGITempAct[[#This Row],[Rank]])*RankNHDD[CGINHDD])","v":37.5},{"$f":"YEAR(CGITempAct[[#This Row],[Date]])","v":2021},{"$f":"MONTH(CGITempAct[[#This Row],[Date]])","v":2},{"$f":"IF(CGITempAct[[#This Row],[Month]]=H189,I189+1,1)","v":5}]
[44246,29,-3,{"$f":"AVERAGE(CGITempAct[[#This Row],[CGIHigh]:[CGILow]]\n)","v":13},{"$f":"IF(CGITempAct[[#This Row],[CGIAve]]<65,(65-CGITempAct[[#This Row],[CGIAve]]),0)","v":52},{"$f":"SUMPRODUCT((RankNHDD[Month]=CGITempAct[[#This Row],[Month]])*(RankNHDD[Rank]=CGITempAct[[#This Row],[Rank]])*RankNHDD[CGINHDD])","v":35.6},{"$f":"YEAR(CGITempAct[[#This Row],[Date]])","v":2021},{"$f":"MONTH(CGITempAct[[#This Row],[Date]])","v":2},{"$f":"IF(CGITempAct[[#This Row],[Month]]=H190,I190+1,1)","v":6}]
[44245,27,1,{"$f":"AVERAGE(CGITempAct[[#This Row],[CGIHigh]:[CGILow]]\n)","v":14},{"$f":"IF(CGITempAct[[#This Row],[CGIAve]]<65,(65-CGITempAct[[#This Row],[CGIAve]]),0)","v":51},{"$f":"SUMPRODUCT((RankNHDD[Month]=CGITempAct[[#This Row],[Month]])*(RankNHDD[Rank]=CGITempAct[[#This Row],[Rank]])*RankNHDD[CGINHDD])","v":34.299999999999997},{"$f":"YEAR(CGITempAct[[#This Row],[Date]])","v":2021},{"$f":"MONTH(CGITempAct[[#This Row],[Date]])","v":2},{"$f":"IF(CGITempAct[[#This Row],[Month]]=H191,I191+1,1)","v":7}]
[44247,31,0,{"$f":"AVERAGE(CGITempAct[[#This Row],[CGIHigh]:[CGILow]]\n)","v":15.5},{"$f":"IF(CGITempAct[[#This Row],[CGIAve]]<65,(65-CGITempAct[[#This Row],[CGIAve]]),0)","v":49.5},{"$f":"SUMPRODUCT((RankNHDD[Month]=CGITempAct[[#This Row],[Month]])*(RankNHDD[Rank]=CGITempAct[[#This Row],[Rank]])*RankNHDD[CGINHDD])","v":33.1},{"$f":"YEAR(CGITempAct[[#This Row],[Date]])","v":2021},{"$f":"MONTH(CGITempAct[[#This Row],[Date]])","v":2},{"$f":"IF(CGITempAct[[#This Row],[Month]]=H192,I192+1,1)","v":8}]
[44239,24,15,{"$f":"AVERAGE(CGITempAct[[#This Row],[CGIHigh]:[CGILow]]\n)","v":19.5},{"$f":"IF(CGITempAct[[#This Row],[CGIAve]]<65,(65-CGITempAct[[#This Row],[CGIAve]]),0)","v":45.5},{"$f":"SUMPRODUCT((RankNHDD[Month]=CGITempAct[[#This Row],[Month]])*(RankNHDD[Rank]=CGITempAct[[#This Row],[Rank]])*RankNHDD[CGINHDD])","v":32.200000000000003},{"$f":"YEAR(CGITempAct[[#This Row],[Date]])","v":2021},{"$f":"MONTH(CGITempAct[[#This Row],[Date]])","v":2},{"$f":"IF(CGITempAct[[#This Row],[Month]]=H193,I193+1,1)","v":9}]
[44234,28,13,{"$f":"AVERAGE(CGITempAct[[#This Row],[CGIHigh]:[CGILow]]\n)","v":20.5},{"$f":"IF(CGITempAct[[#This Row],[CGIAve]]<65,(65-CGITempAct[[#This Row],[CGIAve]]),0)","v":44.5},{"$f":"SUMPRODUCT((RankNHDD[Month]=CGITempAct[[#This Row],[Month]])*(RankNHDD[Rank]=CGITempAct[[#This Row],[Rank]])*RankNHDD[CGINHDD])","v":31.1},{"$f":"YEAR(CGITempAct[[#This Row],[Date]])","v":2021},{"$f":"MONTH(CGITempAct[[#This Row],[Date]])","v":2},{"$f":"IF(CGITempAct[[#This Row],[Month]]=H194,I194+1,1)","v":10}]
[44238,26,21,{"$f":"AVERAGE(CGITempAct[[#This Row],[CGIHigh]:[CGILow]]\n)","v":23.5},{"$f":"IF(CGITempAct[[#This Row],[CGIAve]]<65,(65-CGITempAct[[#This Row],[CGIAve]]),0)","v":41.5},{"$f":"SUMPRODUCT((RankNHDD[Month]=CGITempAct[[#This Row],[Month]])*(RankNHDD[Rank]=CGITempAct[[#This Row],[Rank]])*RankNHDD[CGINHDD])","v":30},{"$f":"YEAR(CGITempAct[[#This Row],[Date]])","v":2021},{"$f":"MONTH(CGITempAct[[#This Row],[Date]])","v":2},{"$f":"IF(CGITempAct[[#This Row],[Month]]=H195,I195+1,1)","v":11}]
[44237,28,22,{"$f":"AVERAGE(CGITempAct[[#This Row],[CGIHigh]:[CGILow]]\n)","v":25},{"$f":"IF(CGITempAct[[#This Row],[CGIAve]]<65,(65-CGITempAct[[#This Row],[CGIAve]]),0)","v":40},{"$f":"SUMPRODUCT((RankNHDD[Month]=CGITempAct[[#This Row],[Month]])*(RankNHDD[Rank]=CGITempAct[[#This Row],[Rank]])*RankNHDD[CGINHDD])","v":28.9},{"$f":"YEAR(CGITempAct[[#This Row],[Date]])","v":2021},{"$f":"MONTH(CGITempAct[[#This Row],[Date]])","v":2},{"$f":"IF(CGITempAct[[#This Row],[Month]]=H196,I196+1,1)","v":12}]
[44236,30,21,{"$f":"AVERAGE(CGITempAct[[#This Row],[CGIHigh]:[CGILow]]\n)","v":25.5},{"$f":"IF(CGITempAct[[#This Row],[CGIAve]]<65,(65-CGITempAct[[#This Row],[CGIAve]]),0)","v":39.5},{"$f":"SUMPRODUCT((RankNHDD[Month]=CGITempAct[[#This Row],[Month]])*(RankNHDD[Rank]=CGITempAct[[#This Row],[Rank]])*RankNHDD[CGINHDD])","v":28.1},{"$f":"YEAR(CGITempAct[[#This Row],[Date]])","v":2021},{"$f":"MONTH(CGITempAct[[#This Row],[Date]])","v":2},{"$f":"IF(CGITempAct[[#This Row],[Month]]=H197,I197+1,1)","v":13}]
[44235,33,23,{"$f":"AVERAGE(CGITempAct[[#This Row],[CGIHigh]:[CGILow]]\n)","v":28},{"$f":"IF(CGITempAct[[#This Row],[CGIAve]]<65,(65-CGITempAct[[#This Row],[CGIAve]]),0)","v":37},{"$f":"SUMPRODUCT((RankNHDD[Month]=CGITempAct[[#This Row],[Month]])*(RankNHDD[Rank]=CGITempAct[[#This Row],[Rank]])*RankNHDD[CGINHDD])","v":27.2},{"$f":"YEAR(CGITempAct[[#This Row],[Date]])","v":2021},{"$f":"MONTH(CGITempAct[[#This Row],[Date]])","v":2},{"$f":"IF(CGITempAct[[#This Row],[Month]]=H198,I198+1,1)","v":14}]
[44248,47,16,{"$f":"AVERAGE(CGITempAct[[#This Row],[CGIHigh]:[CGILow]]\n)","v":31.5},{"$f":"IF(CGITempAct[[#This Row],[CGIAve]]<65,(65-CGITempAct[[#This Row],[CGIAve]]),0)","v":33.5},{"$f":"SUMPRODUCT((RankNHDD[Month]=CGITempAct[[#This Row],[Month]])*(RankNHDD[Rank]=CGITempAct[[#This Row],[Rank]])*RankNHDD[CGINHDD])","v":26.5},{"$f":"YEAR(CGITempAct[[#This Row],[Date]])","v":2021},{"$f":"MONTH(CGITempAct[[#This Row],[Date]])","v":2},{"$f":"IF(CGITempAct[[#This Row],[Month]]=H199,I199+1,1)","v":15}]
[44230,45,22,{"$f":"AVERAGE(CGITempAct[[#This Row],[CGIHigh]:[CGILow]]\n)","v":33.5},{"$f":"IF(CGITempAct[[#This Row],[CGIAve]]<65,(65-CGITempAct[[#This Row],[CGIAve]]),0)","v":31.5},{"$f":"SUMPRODUCT((RankNHDD[Month]=CGITempAct[[#This Row],[Month]])*(RankNHDD[Rank]=CGITempAct[[#This Row],[Rank]])*RankNHDD[CGINHDD])","v":25.7},{"$f":"YEAR(CGITempAct[[#This Row],[Date]])","v":2021},{"$f":"MONTH(CGITempAct[[#This Row],[Date]])","v":2},{"$f":"IF(CGITempAct[[#This Row],[Month]]=H200,I200+1,1)","v":16}]
[44229,42,26,{"$f":"AVERAGE(CGITempAct[[#This Row],[CGIHigh]:[CGILow]]\n)","v":34},{"$f":"IF(CGITempAct[[#This Row],[CGIAve]]<65,(65-CGITempAct[[#This Row],[CGIAve]]),0)","v":31},{"$f":"SUMPRODUCT((RankNHDD[Month]=CGITempAct[[#This Row],[Month]])*(RankNHDD[Rank]=CGITempAct[[#This Row],[Rank]])*RankNHDD[CGINHDD])","v":24.9},{"$f":"YEAR(CGITempAct[[#This Row],[Date]])","v":2021},{"$f":"MONTH(CGITempAct[[#This Row],[Date]])","v":2},{"$f":"IF(CGITempAct[[#This Row],[Month]]=H201,I201+1,1)","v":17}]
[44233,40,28,{"$f":"AVERAGE(CGITempAct[[#This Row],[CGIHigh]:[CGILow]]\n)","v":34},{"$f":"IF(CGITempAct[[#This Row],[CGIAve]]<65,(65-CGITempAct[[#This Row],[CGIAve]]),0)","v":31},{"$f":"SUMPRODUCT((RankNHDD[Month]=CGITempAct[[#This Row],[Month]])*(RankNHDD[Rank]=CGITempAct[[#This Row],[Rank]])*RankNHDD[CGINHDD])","v":24},{"$f":"YEAR(CGITempAct[[#This Row],[Date]])","v":2021},{"$f":"MONTH(CGITempAct[[#This Row],[Date]])","v":2},{"$f":"IF(CGITempAct[[#This Row],[Month]]=H202,I202+1,1)","v":18}]
[44228,39,33,{"$f":"AVERAGE(CGITempAct[[#This Row],[CGIHigh]:[CGILow]]\n)","v":36},{"$f":"IF(CGITempAct[[#This Row],[CGIAve]]<65,(65-CGITempAct[[#This Row],[CGIAve]]),0)","v":29},{"$f":"SUMPRODUCT((RankNHDD[Month]=CGITempAct[[#This Row],[Month]])*(RankNHDD[Rank]=CGITempAct[[#This Row],[Rank]])*RankNHDD[CGINHDD])","v":23},{"$f":"YEAR(CGITempAct[[#This Row],[Date]])","v":2021},{"$f":"MONTH(CGITempAct[[#This Row],[Date]])","v":2},{"$f":"IF(CGITempAct[[#This Row],[Month]]=H203,I203+1,1)","v":19}]
[44232,48,25,{"$f":"AVERAGE(CGITempAct[[#This Row],[CGIHigh]:[CGILow]]\n)","v":36.5},{"$f":"IF(CGITempAct[[#This Row],[CGIAve]]<65,(65-CGITempAct[[#This Row],[CGIAve]]),0)","v":28.5},{"$f":"SUMPRODUCT((RankNHDD[Month]=CGITempAct[[#This Row],[Month]])*(RankNHDD[Rank]=CGITempAct[[#This Row],[Rank]])*RankNHDD[CGINHDD])","v":21.9},{"$f":"YEAR(CGITempAct[[#This Row],[Date]])","v":2021},{"$f":"MONTH(CGITempAct[[#This Row],[Date]])","v":2},{"$f":"IF(CGITempAct[[#This Row],[Month]]=H204,I204+1,1)","v":20}]
[44231,48,31,{"$f":"AVERAGE(CGITempAct[[#This Row],[CGIHigh]:[CGILow]]\n)","v":39.5},{"$f":"IF(CGITempAct[[#This Row],[CGIAve]]<65,(65-CGITempAct[[#This Row],[CGIAve]]),0)","v":25.5},{"$f":"SUMPRODUCT((RankNHDD[Month]=CGITempAct[[#This Row],[Month]])*(RankNHDD[Rank]=CGITempAct[[#This Row],[Rank]])*RankNHDD[CGINHDD])","v":20.9},{"$f":"YEAR(CGITempAct[[#This Row],[Date]])","v":2021},{"$f":"MONTH(CGITempAct[[#This Row],[Date]])","v":2},{"$f":"IF(CGITempAct[[#This Row],[Month]]=H205,I205+1,1)","v":21}]
[44253,44,35,{"$f":"AVERAGE(CGITempAct[[#This Row],[CGIHigh]:[CGILow]]\n)","v":39.5},{"$f":"IF(CGITempAct[[#This Row],[CGIAve]]<65,(65-CGITempAct[[#This Row],[CGIAve]]),0)","v":25.5},{"$f":"SUMPRODUCT((RankNHDD[Month]=CGITempAct[[#This Row],[Month]])*(RankNHDD[Rank]=CGITempAct[[#This Row],[Rank]])*RankNHDD[CGINHDD])","v":19.7},{"$f":"YEAR(CGITempAct[[#This Row],[Date]])","v":2021},{"$f":"MONTH(CGITempAct[[#This Row],[Date]])","v":2},{"$f":"IF(CGITempAct[[#This Row],[Month]]=H206,I206+1,1)","v":22}]
[44249,50,32,{"$f":"AVERAGE(CGITempAct[[#This Row],[CGIHigh]:[CGILow]]\n)","v":41},{"$f":"IF(CGITempAct[[#This Row],[CGIAve]]<65,(65-CGITempAct[[#This Row],[CGIAve]]),0)","v":24},{"$f":"SUMPRODUCT((RankNHDD[Month]=CGITempAct[[#This Row],[Month]])*(RankNHDD[Rank]=CGITempAct[[#This Row],[Rank]])*RankNHDD[CGINHDD])","v":18.399999999999999},{"$f":"YEAR(CGITempAct[[#This Row],[Date]])","v":2021},{"$f":"MONTH(CGITempAct[[#This Row],[Date]])","v":2},{"$f":"IF(CGITempAct[[#This Row],[Month]]=H207,I207+1,1)","v":23}]
[44252,54,33,{"$f":"AVERAGE(CGITempAct[[#This Row],[CGIHigh]:[CGILow]]\n)","v":43.5},{"$f":"IF(CGITempAct[[#This Row],[CGIAve]]<65,(65-CGITempAct[[#This Row],[CGIAve]]),0)","v":21.5},{"$f":"SUMPRODUCT((RankNHDD[Month]=CGITempAct[[#This Row],[Month]])*(RankNHDD[Rank]=CGITempAct[[#This Row],[Rank]])*RankNHDD[CGINHDD])","v":16.7},{"$f":"YEAR(CGITempAct[[#This Row],[Date]])","v":2021},{"$f":"MONTH(CGITempAct[[#This Row],[Date]])","v":2},{"$f":"IF(CGITempAct[[#This Row],[Month]]=H208,I208+1,1)","v":24}]
[44250,60,32,{"$f":"AVERAGE(CGITempAct[[#This Row],[CGIHigh]:[CGILow]]\n)","v":46},{"$f":"IF(CGITempAct[[#This Row],[CGIAve]]<65,(65-CGITempAct[[#This Row],[CGIAve]]),0)","v":19},{"$f":"SUMPRODUCT((RankNHDD[Month]=CGITempAct[[#This Row],[Month]])*(RankNHDD[Rank]=CGITempAct[[#This Row],[Rank]])*RankNHDD[CGINHDD])","v":15},{"$f":"YEAR(CGITempAct[[#This Row],[Date]])","v":2021},{"$f":"MONTH(CGITempAct[[#This Row],[Date]])","v":2},{"$f":"IF(CGITempAct[[#This Row],[Month]]=H209,I209+1,1)","v":25}]
[44254,56,36,{"$f":"AVERAGE(CGITempAct[[#This Row],[CGIHigh]:[CGILow]]\n)","v":46},{"$f":"IF(CGITempAct[[#This Row],[CGIAve]]<65,(65-CGITempAct[[#This Row],[CGIAve]]),0)","v":19},{"$f":"SUMPRODUCT((RankNHDD[Month]=CGITempAct[[#This Row],[Month]])*(RankNHDD[Rank]=CGITempAct[[#This Row],[Rank]])*RankNHDD[CGINHDD])","v":13.4},{"$f":"YEAR(CGITempAct[[#This Row],[Date]])","v":2021},{"$f":"MONTH(CGITempAct[[#This Row],[Date]])","v":2},{"$f":"IF(CGITempAct[[#This Row],[Month]]=H210,I210+1,1)","v":26}]
[44251,68,42,{"$f":"AVERAGE(CGITempAct[[#This Row],[CGIHigh]:[CGILow]]\n)","v":55},{"$f":"IF(CGITempAct[[#This Row],[CGIAve]]<65,(65-CGITempAct[[#This Row],[CGIAve]]),0)","v":10},{"$f":"SUMPRODUCT((RankNHDD[Month]=CGITempAct[[#This Row],[Month]])*(RankNHDD[Rank]=CGITempAct[[#This Row],[Rank]])*RankNHDD[CGINHDD])","v":11.2},{"$f":"YEAR(CGITempAct[[#This Row],[Date]])","v":2021},{"$f":"MONTH(CGITempAct[[#This Row],[Date]])","v":2},{"$f":"IF(CGITempAct[[#This Row],[Month]]=H211,I211+1,1)","v":27}]
[44255,68,47,{"$f":"AVERAGE(CGITempAct[[#This Row],[CGIHigh]:[CGILow]]\n)","v":57.5},{"$f":"IF(CGITempAct[[#This Row],[CGIAve]]<65,(65-CGITempAct[[#This Row],[CGIAve]]),0)","v":7.5},{"$f":"SUMPRODUCT((RankNHDD[Month]=CGITempAct[[#This Row],[Month]])*(RankNHDD[Rank]=CGITempAct[[#This Row],[Rank]])*RankNHDD[CGINHDD])","v":6.2},{"$f":"YEAR(CGITempAct[[#This Row],[Date]])","v":2021},{"$f":"MONTH(CGITempAct[[#This Row],[Date]])","v":2},{"$f":"IF(CGITempAct[[#This Row],[Month]]=H212,I212+1,1)","v":28}]
[44260,48,32,{"$f":"AVERAGE(CGITempAct[[#This Row],[CGIHigh]:[CGILow]]\n)","v":40},{"$f":"IF(CGITempAct[[#This Row],[CGIAve]]<65,(65-CGITempAct[[#This Row],[CGIAve]]),0)","v":25},{"$f":"SUMPRODUCT((RankNHDD[Month]=CGITempAct[[#This Row],[Month]])*(RankNHDD[Rank]=CGITempAct[[#This Row],[Rank]])*RankNHDD[CGINHDD])","v":41.4},{"$f":"YEAR(CGITempAct[[#This Row],[Date]])","v":2021},{"$f":"MONTH(CGITempAct[[#This Row],[Date]])","v":3},{"$f":"IF(CGITempAct[[#This Row],[Month]]=H213,I213+1,1)","v":1}]
[44256,50,34,{"$f":"AVERAGE(CGITempAct[[#This Row],[CGIHigh]:[CGILow]]\n)","v":42},{"$f":"IF(CGITempAct[[#This Row],[CGIAve]]<65,(65-CGITempAct[[#This Row],[CGIAve]]),0)","v":23},{"$f":"SUMPRODUCT((RankNHDD[Month]=CGITempAct[[#This Row],[Month]])*(RankNHDD[Rank]=CGITempAct[[#This Row],[Rank]])*RankNHDD[CGINHDD])","v":33.799999999999997},{"$f":"YEAR(CGITempAct[[#This Row],[Date]])","v":2021},{"$f":"MONTH(CGITempAct[[#This Row],[Date]])","v":3},{"$f":"IF(CGITempAct[[#This Row],[Month]]=H214,I214+1,1)","v":2}]
[44261,58,27,{"$f":"AVERAGE(CGITempAct[[#This Row],[CGIHigh]:[CGILow]]\n)","v":42.5},{"$f":"IF(CGITempAct[[#This Row],[CGIAve]]<65,(65-CGITempAct[[#This Row],[CGIAve]]),0)","v":22.5},{"$f":"SUMPRODUCT((RankNHDD[Month]=CGITempAct[[#This Row],[Month]])*(RankNHDD[Rank]=CGITempAct[[#This Row],[Rank]])*RankNHDD[CGINHDD])","v":30.9},{"$f":"YEAR(CGITempAct[[#This Row],[Date]])","v":2021},{"$f":"MONTH(CGITempAct[[#This Row],[Date]])","v":3},{"$f":"IF(CGITempAct[[#This Row],[Month]]=H215,I215+1,1)","v":3}]
[44262,62,28,{"$f":"AVERAGE(CGITempAct[[#This Row],[CGIHigh]:[CGILow]]\n)","v":45},{"$f":"IF(CGITempAct[[#This Row],[CGIAve]]<65,(65-CGITempAct[[#This Row],[CGIAve]]),0)","v":20},{"$f":"SUMPRODUCT((RankNHDD[Month]=CGITempAct[[#This Row],[Month]])*(RankNHDD[Rank]=CGITempAct[[#This Row],[Rank]])*RankNHDD[CGINHDD])","v":29.6},{"$f":"YEAR(CGITempAct[[#This Row],[Date]])","v":2021},{"$f":"MONTH(CGITempAct[[#This Row],[Date]])","v":3},{"$f":"IF(CGITempAct[[#This Row],[Month]]=H216,I216+1,1)","v":4}]
[44274,55,38,{"$f":"AVERAGE(CGITempAct[[#This Row],[CGIHigh]:[CGILow]]\n)","v":46.5},{"$f":"IF(CGITempAct[[#This Row],[CGIAve]]<65,(65-CGITempAct[[#This Row],[CGIAve]]),0)","v":18.5},{"$f":"SUMPRODUCT((RankNHDD[Month]=CGITempAct[[#This Row],[Month]])*(RankNHDD[Rank]=CGITempAct[[#This Row],[Rank]])*RankNHDD[CGINHDD])","v":28.6},{"$f":"YEAR(CGITempAct[[#This Row],[Date]])","v":2021},{"$f":"MONTH(CGITempAct[[#This Row],[Date]])","v":3},{"$f":"IF(CGITempAct[[#This Row],[Month]]=H217,I217+1,1)","v":5}]
[44258,65,30,{"$f":"AVERAGE(CGITempAct[[#This Row],[CGIHigh]:[CGILow]]\n)","v":47.5},{"$f":"IF(CGITempAct[[#This Row],[CGIAve]]<65,(65-CGITempAct[[#This Row],[CGIAve]]),0)","v":17.5},{"$f":"SUMPRODUCT((RankNHDD[Month]=CGITempAct[[#This Row],[Month]])*(RankNHDD[Rank]=CGITempAct[[#This Row],[Rank]])*RankNHDD[CGINHDD])","v":27.4},{"$f":"YEAR(CGITempAct[[#This Row],[Date]])","v":2021},{"$f":"MONTH(CGITempAct[[#This Row],[Date]])","v":3},{"$f":"IF(CGITempAct[[#This Row],[Month]]=H218,I218+1,1)","v":6}]
[44263,65,31,{"$f":"AVERAGE(CGITempAct[[#This Row],[CGIHigh]:[CGILow]]\n)","v":48},{"$f":"IF(CGITempAct[[#This Row],[CGIAve]]<65,(65-CGITempAct[[#This Row],[CGIAve]]),0)","v":17},{"$f":"SUMPRODUCT((RankNHDD[Month]=CGITempAct[[#This Row],[Month]])*(RankNHDD[Rank]=CGITempAct[[#This Row],[Rank]])*RankNHDD[CGINHDD])","v":26.3},{"$f":"YEAR(CGITempAct[[#This Row],[Date]])","v":2021},{"$f":"MONTH(CGITempAct[[#This Row],[Date]])","v":3},{"$f":"IF(CGITempAct[[#This Row],[Month]]=H219,I219+1,1)","v":7}]
[44283,60,37,{"$f":"AVERAGE(CGITempAct[[#This Row],[CGIHigh]:[CGILow]]\n)","v":48.5},{"$f":"IF(CGITempAct[[#This Row],[CGIAve]]<65,(65-CGITempAct[[#This Row],[CGIAve]]),0)","v":16.5},{"$f":"SUMPRODUCT((RankNHDD[Month]=CGITempAct[[#This Row],[Month]])*(RankNHDD[Rank]=CGITempAct[[#This Row],[Rank]])*RankNHDD[CGINHDD])","v":25.3},{"$f":"YEAR(CGITempAct[[#This Row],[Date]])","v":2021},{"$f":"MONTH(CGITempAct[[#This Row],[Date]])","v":3},{"$f":"IF(CGITempAct[[#This Row],[Month]]=H220,I220+1,1)","v":8}]
[44284,65,32,{"$f":"AVERAGE(CGITempAct[[#This Row],[CGIHigh]:[CGILow]]\n)","v":48.5},{"$f":"IF(CGITempAct[[#This Row],[CGIAve]]<65,(65-CGITempAct[[#This Row],[CGIAve]]),0)","v":16.5},{"$f":"SUMPRODUCT((RankNHDD[Month]=CGITempAct[[#This Row],[Month]])*(RankNHDD[Rank]=CGITempAct[[#This Row],[Rank]])*RankNHDD[CGINHDD])","v":24.3},{"$f":"YEAR(CGITempAct[[#This Row],[Date]])","v":2021},{"$f":"MONTH(CGITempAct[[#This Row],[Date]])","v":3},{"$f":"IF(CGITempAct[[#This Row],[Month]]=H221,I221+1,1)","v":9}]
[44286,57,40,{"$f":"AVERAGE(CGITempAct[[#This Row],[CGIHigh]:[CGILow]]\n)","v":48.5},{"$f":"IF(CGITempAct[[#This Row],[CGIAve]]<65,(65-CGITempAct[[#This Row],[CGIAve]]),0)","v":16.5},{"$f":"SUMPRODUCT((RankNHDD[Month]=CGITempAct[[#This Row],[Month]])*(RankNHDD[Rank]=CGITempAct[[#This Row],[Rank]])*RankNHDD[CGINHDD])","v":23.5},{"$f":"YEAR(CGITempAct[[#This Row],[Date]])","v":2021},{"$f":"MONTH(CGITempAct[[#This Row],[Date]])","v":3},{"$f":"IF(CGITempAct[[#This Row],[Month]]=H222,I222+1,1)","v":10}]
[44257,69,30,{"$f":"AVERAGE(CGITempAct[[#This Row],[CGIHigh]:[CGILow]]\n)","v":49.5},{"$f":"IF(CGITempAct[[#This Row],[CGIAve]]<65,(65-CGITempAct[[#This Row],[CGIAve]]),0)","v":15.5},{"$f":"SUMPRODUCT((RankNHDD[Month]=CGITempAct[[#This Row],[Month]])*(RankNHDD[Rank]=CGITempAct[[#This Row],[Rank]])*RankNHDD[CGINHDD])","v":22.6},{"$f":"YEAR(CGITempAct[[#This Row],[Date]])","v":2021},{"$f":"MONTH(CGITempAct[[#This Row],[Date]])","v":3},{"$f":"IF(CGITempAct[[#This Row],[Month]]=H223,I223+1,1)","v":11}]
[44275,65,36,{"$f":"AVERAGE(CGITempAct[[#This Row],[CGIHigh]:[CGILow]]\n)","v":50.5},{"$f":"IF(CGITempAct[[#This Row],[CGIAve]]<65,(65-CGITempAct[[#This Row],[CGIAve]]),0)","v":14.5},{"$f":"SUMPRODUCT((RankNHDD[Month]=CGITempAct[[#This Row],[Month]])*(RankNHDD[Rank]=CGITempAct[[#This Row],[Rank]])*RankNHDD[CGINHDD])","v":21.7},{"$f":"YEAR(CGITempAct[[#This Row],[Date]])","v":2021},{"$f":"MONTH(CGITempAct[[#This Row],[Date]])","v":3},{"$f":"IF(CGITempAct[[#This Row],[Month]]=H224,I224+1,1)","v":12}]
[44276,67,34,{"$f":"AVERAGE(CGITempAct[[#This Row],[CGIHigh]:[CGILow]]\n)","v":50.5},{"$f":"IF(CGITempAct[[#This Row],[CGIAve]]<65,(65-CGITempAct[[#This Row],[CGIAve]]),0)","v":14.5},{"$f":"SUMPRODUCT((RankNHDD[Month]=CGITempAct[[#This Row],[Month]])*(RankNHDD[Rank]=CGITempAct[[#This Row],[Rank]])*RankNHDD[CGINHDD])","v":20.8},{"$f":"YEAR(CGITempAct[[#This Row],[Date]])","v":2021},{"$f":"MONTH(CGITempAct[[#This Row],[Date]])","v":3},{"$f":"IF(CGITempAct[[#This Row],[Month]]=H225,I225+1,1)","v":13}]
[44259,70,33,{"$f":"AVERAGE(CGITempAct[[#This Row],[CGIHigh]:[CGILow]]\n)","v":51.5},{"$f":"IF(CGITempAct[[#This Row],[CGIAve]]<65,(65-CGITempAct[[#This Row],[CGIAve]]),0)","v":13.5},{"$f":"SUMPRODUCT((RankNHDD[Month]=CGITempAct[[#This Row],[Month]])*(RankNHDD[Rank]=CGITempAct[[#This Row],[Rank]])*RankNHDD[CGINHDD])","v":20},{"$f":"YEAR(CGITempAct[[#This Row],[Date]])","v":2021},{"$f":"MONTH(CGITempAct[[#This Row],[Date]])","v":3},{"$f":"IF(CGITempAct[[#This Row],[Month]]=H226,I226+1,1)","v":14}]
[44264,69,35,{"$f":"AVERAGE(CGITempAct[[#This Row],[CGIHigh]:[CGILow]]\n)","v":52},{"$f":"IF(CGITempAct[[#This Row],[CGIAve]]<65,(65-CGITempAct[[#This Row],[CGIAve]]),0)","v":13},{"$f":"SUMPRODUCT((RankNHDD[Month]=CGITempAct[[#This Row],[Month]])*(RankNHDD[Rank]=CGITempAct[[#This Row],[Rank]])*RankNHDD[CGINHDD])","v":19},{"$f":"YEAR(CGITempAct[[#This Row],[Date]])","v":2021},{"$f":"MONTH(CGITempAct[[#This Row],[Date]])","v":3},{"$f":"IF(CGITempAct[[#This Row],[Month]]=H227,I227+1,1)","v":15}]
[44273,62,44,{"$f":"AVERAGE(CGITempAct[[#This Row],[CGIHigh]:[CGILow]]\n)","v":53},{"$f":"IF(CGITempAct[[#This Row],[CGIAve]]<65,(65-CGITempAct[[#This Row],[CGIAve]]),0)","v":12},{"$f":"SUMPRODUCT((RankNHDD[Month]=CGITempAct[[#This Row],[Month]])*(RankNHDD[Rank]=CGITempAct[[#This Row],[Rank]])*RankNHDD[CGINHDD])","v":18.100000000000001},{"$f":"YEAR(CGITempAct[[#This Row],[Date]])","v":2021},{"$f":"MONTH(CGITempAct[[#This Row],[Date]])","v":3},{"$f":"IF(CGITempAct[[#This Row],[Month]]=H228,I228+1,1)","v":16}]
[44277,68,39,{"$f":"AVERAGE(CGITempAct[[#This Row],[CGIHigh]:[CGILow]]\n)","v":53.5},{"$f":"IF(CGITempAct[[#This Row],[CGIAve]]<65,(65-CGITempAct[[#This Row],[CGIAve]]),0)","v":11.5},{"$f":"SUMPRODUCT((RankNHDD[Month]=CGITempAct[[#This Row],[Month]])*(RankNHDD[Rank]=CGITempAct[[#This Row],[Rank]])*RankNHDD[CGINHDD])","v":17.2},{"$f":"YEAR(CGITempAct[[#This Row],[Date]])","v":2021},{"$f":"MONTH(CGITempAct[[#This Row],[Date]])","v":3},{"$f":"IF(CGITempAct[[#This Row],[Month]]=H229,I229+1,1)","v":17}]
[44267,59,49,{"$f":"AVERAGE(CGITempAct[[#This Row],[CGIHigh]:[CGILow]]\n)","v":54},{"$f":"IF(CGITempAct[[#This Row],[CGIAve]]<65,(65-CGITempAct[[#This Row],[CGIAve]]),0)","v":11},{"$f":"SUMPRODUCT((RankNHDD[Month]=CGITempAct[[#This Row],[Month]])*(RankNHDD[Rank]=CGITempAct[[#This Row],[Rank]])*RankNHDD[CGINHDD])","v":16.399999999999999},{"$f":"YEAR(CGITempAct[[#This Row],[Date]])","v":2021},{"$f":"MONTH(CGITempAct[[#This Row],[Date]])","v":3},{"$f":"IF(CGITempAct[[#This Row],[Month]]=H230,I230+1,1)","v":18}]
[44269,57,51,{"$f":"AVERAGE(CGITempAct[[#This Row],[CGIHigh]:[CGILow]]\n)","v":54},{"$f":"IF(CGITempAct[[#This Row],[CGIAve]]<65,(65-CGITempAct[[#This Row],[CGIAve]]),0)","v":11},{"$f":"SUMPRODUCT((RankNHDD[Month]=CGITempAct[[#This Row],[Month]])*(RankNHDD[Rank]=CGITempAct[[#This Row],[Rank]])*RankNHDD[CGINHDD])","v":15.4},{"$f":"YEAR(CGITempAct[[#This Row],[Date]])","v":2021},{"$f":"MONTH(CGITempAct[[#This Row],[Date]])","v":3},{"$f":"IF(CGITempAct[[#This Row],[Month]]=H231,I231+1,1)","v":19}]
[44271,67,42,{"$f":"AVERAGE(CGITempAct[[#This Row],[CGIHigh]:[CGILow]]\n)","v":54.5},{"$f":"IF(CGITempAct[[#This Row],[CGIAve]]<65,(65-CGITempAct[[#This Row],[CGIAve]]),0)","v":10.5},{"$f":"SUMPRODUCT((RankNHDD[Month]=CGITempAct[[#This Row],[Month]])*(RankNHDD[Rank]=CGITempAct[[#This Row],[Rank]])*RankNHDD[CGINHDD])","v":14.4},{"$f":"YEAR(CGITempAct[[#This Row],[Date]])","v":2021},{"$f":"MONTH(CGITempAct[[#This Row],[Date]])","v":3},{"$f":"IF(CGITempAct[[#This Row],[Month]]=H232,I232+1,1)","v":20}]
[44281,64,45,{"$f":"AVERAGE(CGITempAct[[#This Row],[CGIHigh]:[CGILow]]\n)","v":54.5},{"$f":"IF(CGITempAct[[#This Row],[CGIAve]]<65,(65-CGITempAct[[#This Row],[CGIAve]]),0)","v":10.5},{"$f":"SUMPRODUCT((RankNHDD[Month]=CGITempAct[[#This Row],[Month]])*(RankNHDD[Rank]=CGITempAct[[#This Row],[Rank]])*RankNHDD[CGINHDD])","v":13.2},{"$f":"YEAR(CGITempAct[[#This Row],[Date]])","v":2021},{"$f":"MONTH(CGITempAct[[#This Row],[Date]])","v":3},{"$f":"IF(CGITempAct[[#This Row],[Month]]=H233,I233+1,1)","v":21}]
[44268,61,49,{"$f":"AVERAGE(CGITempAct[[#This Row],[CGIHigh]:[CGILow]]\n)","v":55},{"$f":"IF(CGITempAct[[#This Row],[CGIAve]]<65,(65-CGITempAct[[#This Row],[CGIAve]]),0)","v":10},{"$f":"SUMPRODUCT((RankNHDD[Month]=CGITempAct[[#This Row],[Month]])*(RankNHDD[Rank]=CGITempAct[[#This Row],[Rank]])*RankNHDD[CGINHDD])","v":12.1},{"$f":"YEAR(CGITempAct[[#This Row],[Date]])","v":2021},{"$f":"MONTH(CGITempAct[[#This Row],[Date]])","v":3},{"$f":"IF(CGITempAct[[#This Row],[Month]]=H234,I234+1,1)","v":22}]
[44270,64,48,{"$f":"AVERAGE(CGITempAct[[#This Row],[CGIHigh]:[CGILow]]\n)","v":56},{"$f":"IF(CGITempAct[[#This Row],[CGIAve]]<65,(65-CGITempAct[[#This Row],[CGIAve]]),0)","v":9},{"$f":"SUMPRODUCT((RankNHDD[Month]=CGITempAct[[#This Row],[Month]])*(RankNHDD[Rank]=CGITempAct[[#This Row],[Rank]])*RankNHDD[CGINHDD])","v":11.2},{"$f":"YEAR(CGITempAct[[#This Row],[Date]])","v":2021},{"$f":"MONTH(CGITempAct[[#This Row],[Date]])","v":3},{"$f":"IF(CGITempAct[[#This Row],[Month]]=H235,I235+1,1)","v":23}]
[44272,62,50,{"$f":"AVERAGE(CGITempAct[[#This Row],[CGIHigh]:[CGILow]]\n)","v":56},{"$f":"IF(CGITempAct[[#This Row],[CGIAve]]<65,(65-CGITempAct[[#This Row],[CGIAve]]),0)","v":9},{"$f":"SUMPRODUCT((RankNHDD[Month]=CGITempAct[[#This Row],[Month]])*(RankNHDD[Rank]=CGITempAct[[#This Row],[Rank]])*RankNHDD[CGINHDD])","v":10.1},{"$f":"YEAR(CGITempAct[[#This Row],[Date]])","v":2021},{"$f":"MONTH(CGITempAct[[#This Row],[Date]])","v":3},{"$f":"IF(CGITempAct[[#This Row],[Month]]=H236,I236+1,1)","v":24}]
[44280,63,50,{"$f":"AVERAGE(CGITempAct[[#This Row],[CGIHigh]:[CGILow]]\n)","v":56.5},{"$f":"IF(CGITempAct[[#This Row],[CGIAve]]<65,(65-CGITempAct[[#This Row],[CGIAve]]),0)","v":8.5},{"$f":"SUMPRODUCT((RankNHDD[Month]=CGITempAct[[#This Row],[Month]])*(RankNHDD[Rank]=CGITempAct[[#This Row],[Rank]])*RankNHDD[CGINHDD])","v":9.1999999999999993},{"$f":"YEAR(CGITempAct[[#This Row],[Date]])","v":2021},{"$f":"MONTH(CGITempAct[[#This Row],[Date]])","v":3},{"$f":"IF(CGITempAct[[#This Row],[Month]]=H237,I237+1,1)","v":25}]
[44285,72,46,{"$f":"AVERAGE(CGITempAct[[#This Row],[CGIHigh]:[CGILow]]\n)","v":59},{"$f":"IF(CGITempAct[[#This Row],[CGIAve]]<65,(65-CGITempAct[[#This Row],[CGIAve]]),0)","v":6},{"$f":"SUMPRODUCT((RankNHDD[Month]=CGITempAct[[#This Row],[Month]])*(RankNHDD[Rank]=CGITempAct[[#This Row],[Rank]])*RankNHDD[CGINHDD])","v":7.8},{"$f":"YEAR(CGITempAct[[#This Row],[Date]])","v":2021},{"$f":"MONTH(CGITempAct[[#This Row],[Date]])","v":3},{"$f":"IF(CGITempAct[[#This Row],[Month]]=H238,I238+1,1)","v":26}]
[44278,65,54,{"$f":"AVERAGE(CGITempAct[[#This Row],[CGIHigh]:[CGILow]]\n)","v":59.5},{"$f":"IF(CGITempAct[[#This Row],[CGIAve]]<65,(65-CGITempAct[[#This Row],[CGIAve]]),0)","v":5.5},{"$f":"SUMPRODUCT((RankNHDD[Month]=CGITempAct[[#This Row],[Month]])*(RankNHDD[Rank]=CGITempAct[[#This Row],[Rank]])*RankNHDD[CGINHDD])","v":6.4},{"$f":"YEAR(CGITempAct[[#This Row],[Date]])","v":2021},{"$f":"MONTH(CGITempAct[[#This Row],[Date]])","v":3},{"$f":"IF(CGITempAct[[#This Row],[Month]]=H239,I239+1,1)","v":27}]
[44279,72,49,{"$f":"AVERAGE(CGITempAct[[#This Row],[CGIHigh]:[CGILow]]\n)","v":60.5},{"$f":"IF(CGITempAct[[#This Row],[CGIAve]]<65,(65-CGITempAct[[#This Row],[CGIAve]]),0)","v":4.5},{"$f":"SUMPRODUCT((RankNHDD[Month]=CGITempAct[[#This Row],[Month]])*(RankNHDD[Rank]=CGITempAct[[#This Row],[Rank]])*RankNHDD[CGINHDD])","v":4.7},{"$f":"YEAR(CGITempAct[[#This Row],[Date]])","v":2021},{"$f":"MONTH(CGITempAct[[#This Row],[Date]])","v":3},{"$f":"IF(CGITempAct[[#This Row],[Month]]=H240,I240+1,1)","v":28}]
[44265,70,52,{"$f":"AVERAGE(CGITempAct[[#This Row],[CGIHigh]:[CGILow]]\n)","v":61},{"$f":"IF(CGITempAct[[#This Row],[CGIAve]]<65,(65-CGITempAct[[#This Row],[CGIAve]]),0)","v":4},{"$f":"SUMPRODUCT((RankNHDD[Month]=CGITempAct[[#This Row],[Month]])*(RankNHDD[Rank]=CGITempAct[[#This Row],[Rank]])*RankNHDD[CGINHDD])","v":2.5},{"$f":"YEAR(CGITempAct[[#This Row],[Date]])","v":2021},{"$f":"MONTH(CGITempAct[[#This Row],[Date]])","v":3},{"$f":"IF(CGITempAct[[#This Row],[Month]]=H241,I241+1,1)","v":29}]
[44282,78,44,{"$f":"AVERAGE(CGITempAct[[#This Row],[CGIHigh]:[CGILow]]\n)","v":61},{"$f":"IF(CGITempAct[[#This Row],[CGIAve]]<65,(65-CGITempAct[[#This Row],[CGIAve]]),0)","v":4},{"$f":"SUMPRODUCT((RankNHDD[Month]=CGITempAct[[#This Row],[Month]])*(RankNHDD[Rank]=CGITempAct[[#This Row],[Rank]])*RankNHDD[CGINHDD])","v":0.2},{"$f":"YEAR(CGITempAct[[#This Row],[Date]])","v":2021},{"$f":"MONTH(CGITempAct[[#This Row],[Date]])","v":3},{"$f":"IF(CGITempAct[[#This Row],[Month]]=H242,I242+1,1)","v":30}]
[44266,71,52,{"$f":"AVERAGE(CGITempAct[[#This Row],[CGIHigh]:[CGILow]]\n)","v":61.5},{"$f":"IF(CGITempAct[[#This Row],[CGIAve]]<65,(65-CGITempAct[[#This Row],[CGIAve]]),0)","v":3.5},{"$f":"SUMPRODUCT((RankNHDD[Month]=CGITempAct[[#This Row],[Month]])*(RankNHDD[Rank]=CGITempAct[[#This Row],[Rank]])*RankNHDD[CGINHDD])","v":0},{"$f":"YEAR(CGITempAct[[#This Row],[Date]])","v":2021},{"$f":"MONTH(CGITempAct[[#This Row],[Date]])","v":3},{"$f":"IF(CGITempAct[[#This Row],[Month]]=H243,I243+1,1)","v":31}]
[44288,53,25,{"$f":"AVERAGE(CGITempAct[[#This Row],[CGIHigh]:[CGILow]]\n)","v":39},{"$f":"IF(CGITempAct[[#This Row],[CGIAve]]<65,(65-CGITempAct[[#This Row],[CGIAve]]),0)","v":26},{"$f":"SUMPRODUCT((RankNHDD[Month]=CGITempAct[[#This Row],[Month]])*(RankNHDD[Rank]=CGITempAct[[#This Row],[Rank]])*RankNHDD[CGINHDD])","v":26.6},{"$f":"YEAR(CGITempAct[[#This Row],[Date]])","v":2021},{"$f":"MONTH(CGITempAct[[#This Row],[Date]])","v":4},{"$f":"IF(CGITempAct[[#This Row],[Month]]=H244,I244+1,1)","v":1}]
[44287,49,31,{"$f":"AVERAGE(CGITempAct[[#This Row],[CGIHigh]:[CGILow]]\n)","v":40},{"$f":"IF(CGITempAct[[#This Row],[CGIAve]]<65,(65-CGITempAct[[#This Row],[CGIAve]]),0)","v":25},{"$f":"SUMPRODUCT((RankNHDD[Month]=CGITempAct[[#This Row],[Month]])*(RankNHDD[Rank]=CGITempAct[[#This Row],[Rank]])*RankNHDD[CGINHDD])","v":22.5},{"$f":"YEAR(CGITempAct[[#This Row],[Date]])","v":2021},{"$f":"MONTH(CGITempAct[[#This Row],[Date]])","v":4},{"$f":"IF(CGITempAct[[#This Row],[Month]]=H245,I245+1,1)","v":2}]
[44307,56,29,{"$f":"AVERAGE(CGITempAct[[#This Row],[CGIHigh]:[CGILow]]\n)","v":42.5},{"$f":"IF(CGITempAct[[#This Row],[CGIAve]]<65,(65-CGITempAct[[#This Row],[CGIAve]]),0)","v":22.5},{"$f":"SUMPRODUCT((RankNHDD[Month]=CGITempAct[[#This Row],[Month]])*(RankNHDD[Rank]=CGITempAct[[#This Row],[Rank]])*RankNHDD[CGINHDD])","v":19.899999999999999},{"$f":"YEAR(CGITempAct[[#This Row],[Date]])","v":2021},{"$f":"MONTH(CGITempAct[[#This Row],[Date]])","v":4},{"$f":"IF(CGITempAct[[#This Row],[Month]]=H246,I246+1,1)","v":3}]
[44308,59,32,{"$f":"AVERAGE(CGITempAct[[#This Row],[CGIHigh]:[CGILow]]\n)","v":45.5},{"$f":"IF(CGITempAct[[#This Row],[CGIAve]]<65,(65-CGITempAct[[#This Row],[CGIAve]]),0)","v":19.5},{"$f":"SUMPRODUCT((RankNHDD[Month]=CGITempAct[[#This Row],[Month]])*(RankNHDD[Rank]=CGITempAct[[#This Row],[Rank]])*RankNHDD[CGINHDD])","v":18.399999999999999},{"$f":"YEAR(CGITempAct[[#This Row],[Date]])","v":2021},{"$f":"MONTH(CGITempAct[[#This Row],[Date]])","v":4},{"$f":"IF(CGITempAct[[#This Row],[Month]]=H247,I247+1,1)","v":4}]
[44306,59,33,{"$f":"AVERAGE(CGITempAct[[#This Row],[CGIHigh]:[CGILow]]\n)","v":46},{"$f":"IF(CGITempAct[[#This Row],[CGIAve]]<65,(65-CGITempAct[[#This Row],[CGIAve]]),0)","v":19},{"$f":"SUMPRODUCT((RankNHDD[Month]=CGITempAct[[#This Row],[Month]])*(RankNHDD[Rank]=CGITempAct[[#This Row],[Rank]])*RankNHDD[CGINHDD])","v":17},{"$f":"YEAR(CGITempAct[[#This Row],[Date]])","v":2021},{"$f":"MONTH(CGITempAct[[#This Row],[Date]])","v":4},{"$f":"IF(CGITempAct[[#This Row],[Month]]=H248,I248+1,1)","v":5}]
[44289,66,30,{"$f":"AVERAGE(CGITempAct[[#This Row],[CGIHigh]:[CGILow]]\n)","v":48},{"$f":"IF(CGITempAct[[#This Row],[CGIAve]]<65,(65-CGITempAct[[#This Row],[CGIAve]]),0)","v":17},{"$f":"SUMPRODUCT((RankNHDD[Month]=CGITempAct[[#This Row],[Month]])*(RankNHDD[Rank]=CGITempAct[[#This Row],[Rank]])*RankNHDD[CGINHDD])","v":15.6},{"$f":"YEAR(CGITempAct[[#This Row],[Date]])","v":2021},{"$f":"MONTH(CGITempAct[[#This Row],[Date]])","v":4},{"$f":"IF(CGITempAct[[#This Row],[Month]]=H249,I249+1,1)","v":6}]
[44302,63,38,{"$f":"AVERAGE(CGITempAct[[#This Row],[CGIHigh]:[CGILow]]\n)","v":50.5},{"$f":"IF(CGITempAct[[#This Row],[CGIAve]]<65,(65-CGITempAct[[#This Row],[CGIAve]]),0)","v":14.5},{"$f":"SUMPRODUCT((RankNHDD[Month]=CGITempAct[[#This Row],[Month]])*(RankNHDD[Rank]=CGITempAct[[#This Row],[Rank]])*RankNHDD[CGINHDD])","v":14.6},{"$f":"YEAR(CGITempAct[[#This Row],[Date]])","v":2021},{"$f":"MONTH(CGITempAct[[#This Row],[Date]])","v":4},{"$f":"IF(CGITempAct[[#This Row],[Month]]=H250,I250+1,1)","v":7}]
[44301,62,41,{"$f":"AVERAGE(CGITempAct[[#This Row],[CGIHigh]:[CGILow]]\n)","v":51.5},{"$f":"IF(CGITempAct[[#This Row],[CGIAve]]<65,(65-CGITempAct[[#This Row],[CGIAve]]),0)","v":13.5},{"$f":"SUMPRODUCT((RankNHDD[Month]=CGITempAct[[#This Row],[Month]])*(RankNHDD[Rank]=CGITempAct[[#This Row],[Rank]])*RankNHDD[CGINHDD])","v":13.8},{"$f":"YEAR(CGITempAct[[#This Row],[Date]])","v":2021},{"$f":"MONTH(CGITempAct[[#This Row],[Date]])","v":4},{"$f":"IF(CGITempAct[[#This Row],[Month]]=H251,I251+1,1)","v":8}]
[44304,65,38,{"$f":"AVERAGE(CGITempAct[[#This Row],[CGIHigh]:[CGILow]]\n)","v":51.5},{"$f":"IF(CGITempAct[[#This Row],[CGIAve]]<65,(65-CGITempAct[[#This Row],[CGIAve]]),0)","v":13.5},{"$f":"SUMPRODUCT((RankNHDD[Month]=CGITempAct[[#This Row],[Month]])*(RankNHDD[Rank]=CGITempAct[[#This Row],[Rank]])*RankNHDD[CGINHDD])","v":12.8},{"$f":"YEAR(CGITempAct[[#This Row],[Date]])","v":2021},{"$f":"MONTH(CGITempAct[[#This Row],[Date]])","v":4},{"$f":"IF(CGITempAct[[#This Row],[Month]]=H252,I252+1,1)","v":9}]
[44303,60,45,{"$f":"AVERAGE(CGITempAct[[#This Row],[CGIHigh]:[CGILow]]\n)","v":52.5},{"$f":"IF(CGITempAct[[#This Row],[CGIAve]]<65,(65-CGITempAct[[#This Row],[CGIAve]]),0)","v":12.5},{"$f":"SUMPRODUCT((RankNHDD[Month]=CGITempAct[[#This Row],[Month]])*(RankNHDD[Rank]=CGITempAct[[#This Row],[Rank]])*RankNHDD[CGINHDD])","v":12},{"$f":"YEAR(CGITempAct[[#This Row],[Date]])","v":2021},{"$f":"MONTH(CGITempAct[[#This Row],[Date]])","v":4},{"$f":"IF(CGITempAct[[#This Row],[Month]]=H253,I253+1,1)","v":10}]
[44310,59,48,{"$f":"AVERAGE(CGITempAct[[#This Row],[CGIHigh]:[CGILow]]\n)","v":53.5},{"$f":"IF(CGITempAct[[#This Row],[CGIAve]]<65,(65-CGITempAct[[#This Row],[CGIAve]]),0)","v":11.5},{"$f":"SUMPRODUCT((RankNHDD[Month]=CGITempAct[[#This Row],[Month]])*(RankNHDD[Rank]=CGITempAct[[#This Row],[Rank]])*RankNHDD[CGINHDD])","v":11.3},{"$f":"YEAR(CGITempAct[[#This Row],[Date]])","v":2021},{"$f":"MONTH(CGITempAct[[#This Row],[Date]])","v":4},{"$f":"IF(CGITempAct[[#This Row],[Month]]=H254,I254+1,1)","v":11}]
[44305,70,38,{"$f":"AVERAGE(CGITempAct[[#This Row],[CGIHigh]:[CGILow]]\n)","v":54},{"$f":"IF(CGITempAct[[#This Row],[CGIAve]]<65,(65-CGITempAct[[#This Row],[CGIAve]]),0)","v":11},{"$f":"SUMPRODUCT((RankNHDD[Month]=CGITempAct[[#This Row],[Month]])*(RankNHDD[Rank]=CGITempAct[[#This Row],[Rank]])*RankNHDD[CGINHDD])","v":10.5},{"$f":"YEAR(CGITempAct[[#This Row],[Date]])","v":2021},{"$f":"MONTH(CGITempAct[[#This Row],[Date]])","v":4},{"$f":"IF(CGITempAct[[#This Row],[Month]]=H255,I255+1,1)","v":12}]
[44290,75,36,{"$f":"AVERAGE(CGITempAct[[#This Row],[CGIHigh]:[CGILow]]\n)","v":55.5},{"$f":"IF(CGITempAct[[#This Row],[CGIAve]]<65,(65-CGITempAct[[#This Row],[CGIAve]]),0)","v":9.5},{"$f":"SUMPRODUCT((RankNHDD[Month]=CGITempAct[[#This Row],[Month]])*(RankNHDD[Rank]=CGITempAct[[#This Row],[Rank]])*RankNHDD[CGINHDD])","v":9.6999999999999993},{"$f":"YEAR(CGITempAct[[#This Row],[Date]])","v":2021},{"$f":"MONTH(CGITempAct[[#This Row],[Date]])","v":4},{"$f":"IF(CGITempAct[[#This Row],[Month]]=H256,I256+1,1)","v":13}]
[44311,70,41,{"$f":"AVERAGE(CGITempAct[[#This Row],[CGIHigh]:[CGILow]]\n)","v":55.5},{"$f":"IF(CGITempAct[[#This Row],[CGIAve]]<65,(65-CGITempAct[[#This Row],[CGIAve]]),0)","v":9.5},{"$f":"SUMPRODUCT((RankNHDD[Month]=CGITempAct[[#This Row],[Month]])*(RankNHDD[Rank]=CGITempAct[[#This Row],[Rank]])*RankNHDD[CGINHDD])","v":8.8000000000000007},{"$f":"YEAR(CGITempAct[[#This Row],[Date]])","v":2021},{"$f":"MONTH(CGITempAct[[#This Row],[Date]])","v":4},{"$f":"IF(CGITempAct[[#This Row],[Month]]=H257,I257+1,1)","v":14}]
[44309,66,47,{"$f":"AVERAGE(CGITempAct[[#This Row],[CGIHigh]:[CGILow]]\n)","v":56.5},{"$f":"IF(CGITempAct[[#This Row],[CGIAve]]<65,(65-CGITempAct[[#This Row],[CGIAve]]),0)","v":8.5},{"$f":"SUMPRODUCT((RankNHDD[Month]=CGITempAct[[#This Row],[Month]])*(RankNHDD[Rank]=CGITempAct[[#This Row],[Rank]])*RankNHDD[CGINHDD])","v":7.9},{"$f":"YEAR(CGITempAct[[#This Row],[Date]])","v":2021},{"$f":"MONTH(CGITempAct[[#This Row],[Date]])","v":4},{"$f":"IF(CGITempAct[[#This Row],[Month]]=H258,I258+1,1)","v":15}]
[44294,63,51,{"$f":"AVERAGE(CGITempAct[[#This Row],[CGIHigh]:[CGILow]]\n)","v":57},{"$f":"IF(CGITempAct[[#This Row],[CGIAve]]<65,(65-CGITempAct[[#This Row],[CGIAve]]),0)","v":8},{"$f":"SUMPRODUCT((RankNHDD[Month]=CGITempAct[[#This Row],[Month]])*(RankNHDD[Rank]=CGITempAct[[#This Row],[Rank]])*RankNHDD[CGINHDD])","v":7.2},{"$f":"YEAR(CGITempAct[[#This Row],[Date]])","v":2021},{"$f":"MONTH(CGITempAct[[#This Row],[Date]])","v":4},{"$f":"IF(CGITempAct[[#This Row],[Month]]=H259,I259+1,1)","v":16}]
[44300,68,48,{"$f":"AVERAGE(CGITempAct[[#This Row],[CGIHigh]:[CGILow]]\n)","v":58},{"$f":"IF(CGITempAct[[#This Row],[CGIAve]]<65,(65-CGITempAct[[#This Row],[CGIAve]]),0)","v":7},{"$f":"SUMPRODUCT((RankNHDD[Month]=CGITempAct[[#This Row],[Month]])*(RankNHDD[Rank]=CGITempAct[[#This Row],[Rank]])*RankNHDD[CGINHDD])","v":6.4},{"$f":"YEAR(CGITempAct[[#This Row],[Date]])","v":2021},{"$f":"MONTH(CGITempAct[[#This Row],[Date]])","v":4},{"$f":"IF(CGITempAct[[#This Row],[Month]]=H260,I260+1,1)","v":17}]
[44298,76,43,{"$f":"AVERAGE(CGITempAct[[#This Row],[CGIHigh]:[CGILow]]\n)","v":59.5},{"$f":"IF(CGITempAct[[#This Row],[CGIAve]]<65,(65-CGITempAct[[#This Row],[CGIAve]]),0)","v":5.5},{"$f":"SUMPRODUCT((RankNHDD[Month]=CGITempAct[[#This Row],[Month]])*(RankNHDD[Rank]=CGITempAct[[#This Row],[Rank]])*RankNHDD[CGINHDD])","v":5.5},{"$f":"YEAR(CGITempAct[[#This Row],[Date]])","v":2021},{"$f":"MONTH(CGITempAct[[#This Row],[Date]])","v":4},{"$f":"IF(CGITempAct[[#This Row],[Month]]=H261,I261+1,1)","v":18}]
[44291,78,42,{"$f":"AVERAGE(CGITempAct[[#This Row],[CGIHigh]:[CGILow]]\n)","v":60},{"$f":"IF(CGITempAct[[#This Row],[CGIAve]]<65,(65-CGITempAct[[#This Row],[CGIAve]]),0)","v":5},{"$f":"SUMPRODUCT((RankNHDD[Month]=CGITempAct[[#This Row],[Month]])*(RankNHDD[Rank]=CGITempAct[[#This Row],[Rank]])*RankNHDD[CGINHDD])","v":4.5},{"$f":"YEAR(CGITempAct[[#This Row],[Date]])","v":2021},{"$f":"MONTH(CGITempAct[[#This Row],[Date]])","v":4},{"$f":"IF(CGITempAct[[#This Row],[Month]]=H262,I262+1,1)","v":19}]
[44296,70,52,{"$f":"AVERAGE(CGITempAct[[#This Row],[CGIHigh]:[CGILow]]\n)","v":61},{"$f":"IF(CGITempAct[[#This Row],[CGIAve]]<65,(65-CGITempAct[[#This Row],[CGIAve]]),0)","v":4},{"$f":"SUMPRODUCT((RankNHDD[Month]=CGITempAct[[#This Row],[Month]])*(RankNHDD[Rank]=CGITempAct[[#This Row],[Rank]])*RankNHDD[CGINHDD])","v":3.6},{"$f":"YEAR(CGITempAct[[#This Row],[Date]])","v":2021},{"$f":"MONTH(CGITempAct[[#This Row],[Date]])","v":4},{"$f":"IF(CGITempAct[[#This Row],[Month]]=H263,I263+1,1)","v":20}]
[44297,76,47,{"$f":"AVERAGE(CGITempAct[[#This Row],[CGIHigh]:[CGILow]]\n)","v":61.5},{"$f":"IF(CGITempAct[[#This Row],[CGIAve]]<65,(65-CGITempAct[[#This Row],[CGIAve]]),0)","v":3.5},{"$f":"SUMPRODUCT((RankNHDD[Month]=CGITempAct[[#This Row],[Month]])*(RankNHDD[Rank]=CGITempAct[[#This Row],[Rank]])*RankNHDD[CGINHDD])","v":2.8},{"$f":"YEAR(CGITempAct[[#This Row],[Date]])","v":2021},{"$f":"MONTH(CGITempAct[[#This Row],[Date]])","v":4},{"$f":"IF(CGITempAct[[#This Row],[Month]]=H264,I264+1,1)","v":21}]
[44312,76,47,{"$f":"AVERAGE(CGITempAct[[#This Row],[CGIHigh]:[CGILow]]\n)","v":61.5},{"$f":"IF(CGITempAct[[#This Row],[CGIAve]]<65,(65-CGITempAct[[#This Row],[CGIAve]]),0)","v":3.5},{"$f":"SUMPRODUCT((RankNHDD[Month]=CGITempAct[[#This Row],[Month]])*(RankNHDD[Rank]=CGITempAct[[#This Row],[Rank]])*RankNHDD[CGINHDD])","v":1.7},{"$f":"YEAR(CGITempAct[[#This Row],[Date]])","v":2021},{"$f":"MONTH(CGITempAct[[#This Row],[Date]])","v":4},{"$f":"IF(CGITempAct[[#This Row],[Month]]=H265,I265+1,1)","v":22}]
[44299,69,55,{"$f":"AVERAGE(CGITempAct[[#This Row],[CGIHigh]:[CGILow]]\n)","v":62},{"$f":"IF(CGITempAct[[#This Row],[CGIAve]]<65,(65-CGITempAct[[#This Row],[CGIAve]]),0)","v":3},{"$f":"SUMPRODUCT((RankNHDD[Month]=CGITempAct[[#This Row],[Month]])*(RankNHDD[Rank]=CGITempAct[[#This Row],[Rank]])*RankNHDD[CGINHDD])","v":0.8},{"$f":"YEAR(CGITempAct[[#This Row],[Date]])","v":2021},{"$f":"MONTH(CGITempAct[[#This Row],[Date]])","v":4},{"$f":"IF(CGITempAct[[#This Row],[Month]]=H266,I266+1,1)","v":23}]
[44315,73,55,{"$f":"AVERAGE(CGITempAct[[#This Row],[CGIHigh]:[CGILow]]\n)","v":64},{"$f":"IF(CGITempAct[[#This Row],[CGIAve]]<65,(65-CGITempAct[[#This Row],[CGIAve]]),0)","v":1},{"$f":"SUMPRODUCT((RankNHDD[Month]=CGITempAct[[#This Row],[Month]])*(RankNHDD[Rank]=CGITempAct[[#This Row],[Rank]])*RankNHDD[CGINHDD])","v":0.1},{"$f":"YEAR(CGITempAct[[#This Row],[Date]])","v":2021},{"$f":"MONTH(CGITempAct[[#This Row],[Date]])","v":4},{"$f":"IF(CGITempAct[[#This Row],[Month]]=H267,I267+1,1)","v":24}]
[44316,80,50,{"$f":"AVERAGE(CGITempAct[[#This Row],[CGIHigh]:[CGILow]]\n)","v":65},{"$f":"IF(CGITempAct[[#This Row],[CGIAve]]<65,(65-CGITempAct[[#This Row],[CGIAve]]),0)","v":0},{"$f":"SUMPRODUCT((RankNHDD[Month]=CGITempAct[[#This Row],[Month]])*(RankNHDD[Rank]=CGITempAct[[#This Row],[Rank]])*RankNHDD[CGINHDD])","v":0},{"$f":"YEAR(CGITempAct[[#This Row],[Date]])","v":2021},{"$f":"MONTH(CGITempAct[[#This Row],[Date]])","v":4},{"$f":"IF(CGITempAct[[#This Row],[Month]]=H268,I268+1,1)","v":25}]
[44292,81,53,{"$f":"AVERAGE(CGITempAct[[#This Row],[CGIHigh]:[CGILow]]\n)","v":67},{"$f":"IF(CGITempAct[[#This Row],[CGIAve]]<65,(65-CGITempAct[[#This Row],[CGIAve]]),0)","v":0},{"$f":"SUMPRODUCT((RankNHDD[Month]=CGITempAct[[#This Row],[Month]])*(RankNHDD[Rank]=CGITempAct[[#This Row],[Rank]])*RankNHDD[CGINHDD])","v":0},{"$f":"YEAR(CGITempAct[[#This Row],[Date]])","v":2021},{"$f":"MONTH(CGITempAct[[#This Row],[Date]])","v":4},{"$f":"IF(CGITempAct[[#This Row],[Month]]=H269,I269+1,1)","v":26}]
[44293,78,56,{"$f":"AVERAGE(CGITempAct[[#This Row],[CGIHigh]:[CGILow]]\n)","v":67},{"$f":"IF(CGITempAct[[#This Row],[CGIAve]]<65,(65-CGITempAct[[#This Row],[CGIAve]]),0)","v":0},{"$f":"SUMPRODUCT((RankNHDD[Month]=CGITempAct[[#This Row],[Month]])*(RankNHDD[Rank]=CGITempAct[[#This Row],[Rank]])*RankNHDD[CGINHDD])","v":0},{"$f":"YEAR(CGITempAct[[#This Row],[Date]])","v":2021},{"$f":"MONTH(CGITempAct[[#This Row],[Date]])","v":4},{"$f":"IF(CGITempAct[[#This Row],[Month]]=H270,I270+1,1)","v":27}]
[44295,82,53,{"$f":"AVERAGE(CGITempAct[[#This Row],[CGIHigh]:[CGILow]]\n)","v":67.5},{"$f":"IF(CGITempAct[[#This Row],[CGIAve]]<65,(65-CGITempAct[[#This Row],[CGIAve]]),0)","v":0},{"$f":"SUMPRODUCT((RankNHDD[Month]=CGITempAct[[#This Row],[Month]])*(RankNHDD[Rank]=CGITempAct[[#This Row],[Rank]])*RankNHDD[CGINHDD])","v":0},{"$f":"YEAR(CGITempAct[[#This Row],[Date]])","v":2021},{"$f":"MONTH(CGITempAct[[#This Row],[Date]])","v":4},{"$f":"IF(CGITempAct[[#This Row],[Month]]=H271,I271+1,1)","v":28}]
[44314,75,66,{"$f":"AVERAGE(CGITempAct[[#This Row],[CGIHigh]:[CGILow]]\n)","v":70.5},{"$f":"IF(CGITempAct[[#This Row],[CGIAve]]<65,(65-CGITempAct[[#This Row],[CGIAve]]),0)","v":0},{"$f":"SUMPRODUCT((RankNHDD[Month]=CGITempAct[[#This Row],[Month]])*(RankNHDD[Rank]=CGITempAct[[#This Row],[Rank]])*RankNHDD[CGINHDD])","v":0},{"$f":"YEAR(CGITempAct[[#This Row],[Date]])","v":2021},{"$f":"MONTH(CGITempAct[[#This Row],[Date]])","v":4},{"$f":"IF(CGITempAct[[#This Row],[Month]]=H272,I272+1,1)","v":29}]
[44313,81,63,{"$f":"AVERAGE(CGITempAct[[#This Row],[CGIHigh]:[CGILow]]\n)","v":72},{"$f":"IF(CGITempAct[[#This Row],[CGIAve]]<65,(65-CGITempAct[[#This Row],[CGIAve]]),0)","v":0},{"$f":"SUMPRODUCT((RankNHDD[Month]=CGITempAct[[#This Row],[Month]])*(RankNHDD[Rank]=CGITempAct[[#This Row],[Rank]])*RankNHDD[CGINHDD])","v":0},{"$f":"YEAR(CGITempAct[[#This Row],[Date]])","v":2021},{"$f":"MONTH(CGITempAct[[#This Row],[Date]])","v":4},{"$f":"IF(CGITempAct[[#This Row],[Month]]=H273,I273+1,1)","v":30}]
[44326,62,46,{"$f":"AVERAGE(CGITempAct[[#This Row],[CGIHigh]:[CGILow]]\n)","v":54},{"$f":"IF(CGITempAct[[#This Row],[CGIAve]]<65,(65-CGITempAct[[#This Row],[CGIAve]]),0)","v":11},{"$f":"SUMPRODUCT((RankNHDD[Month]=CGITempAct[[#This Row],[Month]])*(RankNHDD[Rank]=CGITempAct[[#This Row],[Rank]])*RankNHDD[CGINHDD])","v":14.2},{"$f":"YEAR(CGITempAct[[#This Row],[Date]])","v":2021},{"$f":"MONTH(CGITempAct[[#This Row],[Date]])","v":5},{"$f":"IF(CGITempAct[[#This Row],[Month]]=H274,I274+1,1)","v":1}]
[44327,68,41,{"$f":"AVERAGE(CGITempAct[[#This Row],[CGIHigh]:[CGILow]]\n)","v":54.5},{"$f":"IF(CGITempAct[[#This Row],[CGIAve]]<65,(65-CGITempAct[[#This Row],[CGIAve]]),0)","v":10.5},{"$f":"SUMPRODUCT((RankNHDD[Month]=CGITempAct[[#This Row],[Month]])*(RankNHDD[Rank]=CGITempAct[[#This Row],[Rank]])*RankNHDD[CGINHDD])","v":10.9},{"$f":"YEAR(CGITempAct[[#This Row],[Date]])","v":2021},{"$f":"MONTH(CGITempAct[[#This Row],[Date]])","v":5},{"$f":"IF(CGITempAct[[#This Row],[Month]]=H275,I275+1,1)","v":2}]
[44345,60,49,{"$f":"AVERAGE(CGITempAct[[#This Row],[CGIHigh]:[CGILow]]\n)","v":54.5},{"$f":"IF(CGITempAct[[#This Row],[CGIAve]]<65,(65-CGITempAct[[#This Row],[CGIAve]]),0)","v":10.5},{"$f":"SUMPRODUCT((RankNHDD[Month]=CGITempAct[[#This Row],[Month]])*(RankNHDD[Rank]=CGITempAct[[#This Row],[Rank]])*RankNHDD[CGINHDD])","v":9},{"$f":"YEAR(CGITempAct[[#This Row],[Date]])","v":2021},{"$f":"MONTH(CGITempAct[[#This Row],[Date]])","v":5},{"$f":"IF(CGITempAct[[#This Row],[Month]]=H276,I276+1,1)","v":3}]
[44329,70,40,{"$f":"AVERAGE(CGITempAct[[#This Row],[CGIHigh]:[CGILow]]\n)","v":55},{"$f":"IF(CGITempAct[[#This Row],[CGIAve]]<65,(65-CGITempAct[[#This Row],[CGIAve]]),0)","v":10},{"$f":"SUMPRODUCT((RankNHDD[Month]=CGITempAct[[#This Row],[Month]])*(RankNHDD[Rank]=CGITempAct[[#This Row],[Rank]])*RankNHDD[CGINHDD])","v":7.5},{"$f":"YEAR(CGITempAct[[#This Row],[Date]])","v":2021},{"$f":"MONTH(CGITempAct[[#This Row],[Date]])","v":5},{"$f":"IF(CGITempAct[[#This Row],[Month]]=H277,I277+1,1)","v":4}]
[44328,67,45,{"$f":"AVERAGE(CGITempAct[[#This Row],[CGIHigh]:[CGILow]]\n)","v":56},{"$f":"IF(CGITempAct[[#This Row],[CGIAve]]<65,(65-CGITempAct[[#This Row],[CGIAve]]),0)","v":9},{"$f":"SUMPRODUCT((RankNHDD[Month]=CGITempAct[[#This Row],[Month]])*(RankNHDD[Rank]=CGITempAct[[#This Row],[Rank]])*RankNHDD[CGINHDD])","v":6.5},{"$f":"YEAR(CGITempAct[[#This Row],[Date]])","v":2021},{"$f":"MONTH(CGITempAct[[#This Row],[Date]])","v":5},{"$f":"IF(CGITempAct[[#This Row],[Month]]=H278,I278+1,1)","v":5}]
[44330,73,39,{"$f":"AVERAGE(CGITempAct[[#This Row],[CGIHigh]:[CGILow]]\n)","v":56},{"$f":"IF(CGITempAct[[#This Row],[CGIAve]]<65,(65-CGITempAct[[#This Row],[CGIAve]]),0)","v":9},{"$f":"SUMPRODUCT((RankNHDD[Month]=CGITempAct[[#This Row],[Month]])*(RankNHDD[Rank]=CGITempAct[[#This Row],[Rank]])*RankNHDD[CGINHDD])","v":5.5},{"$f":"YEAR(CGITempAct[[#This Row],[Date]])","v":2021},{"$f":"MONTH(CGITempAct[[#This Row],[Date]])","v":5},{"$f":"IF(CGITempAct[[#This Row],[Month]]=H279,I279+1,1)","v":6}]
[44323,72,41,{"$f":"AVERAGE(CGITempAct[[#This Row],[CGIHigh]:[CGILow]]\n)","v":56.5},{"$f":"IF(CGITempAct[[#This Row],[CGIAve]]<65,(65-CGITempAct[[#This Row],[CGIAve]]),0)","v":8.5},{"$f":"SUMPRODUCT((RankNHDD[Month]=CGITempAct[[#This Row],[Month]])*(RankNHDD[Rank]=CGITempAct[[#This Row],[Rank]])*RankNHDD[CGINHDD])","v":4.5},{"$f":"YEAR(CGITempAct[[#This Row],[Date]])","v":2021},{"$f":"MONTH(CGITempAct[[#This Row],[Date]])","v":5},{"$f":"IF(CGITempAct[[#This Row],[Month]]=H280,I280+1,1)","v":7}]
[44322,69,47,{"$f":"AVERAGE(CGITempAct[[#This Row],[CGIHigh]:[CGILow]]\n)","v":58},{"$f":"IF(CGITempAct[[#This Row],[CGIAve]]<65,(65-CGITempAct[[#This Row],[CGIAve]]),0)","v":7},{"$f":"SUMPRODUCT((RankNHDD[Month]=CGITempAct[[#This Row],[Month]])*(RankNHDD[Rank]=CGITempAct[[#This Row],[Rank]])*RankNHDD[CGINHDD])","v":3.8},{"$f":"YEAR(CGITempAct[[#This Row],[Date]])","v":2021},{"$f":"MONTH(CGITempAct[[#This Row],[Date]])","v":5},{"$f":"IF(CGITempAct[[#This Row],[Month]]=H281,I281+1,1)","v":8}]
[44331,71,45,{"$f":"AVERAGE(CGITempAct[[#This Row],[CGIHigh]:[CGILow]]\n)","v":58},{"$f":"IF(CGITempAct[[#This Row],[CGIAve]]<65,(65-CGITempAct[[#This Row],[CGIAve]]),0)","v":7},{"$f":"SUMPRODUCT((RankNHDD[Month]=CGITempAct[[#This Row],[Month]])*(RankNHDD[Rank]=CGITempAct[[#This Row],[Rank]])*RankNHDD[CGINHDD])","v":2.9},{"$f":"YEAR(CGITempAct[[#This Row],[Date]])","v":2021},{"$f":"MONTH(CGITempAct[[#This Row],[Date]])","v":5},{"$f":"IF(CGITempAct[[#This Row],[Month]]=H282,I282+1,1)","v":9}]
[44321,69,49,{"$f":"AVERAGE(CGITempAct[[#This Row],[CGIHigh]:[CGILow]]\n)","v":59},{"$f":"IF(CGITempAct[[#This Row],[CGIAve]]<65,(65-CGITempAct[[#This Row],[CGIAve]]),0)","v":6},{"$f":"SUMPRODUCT((RankNHDD[Month]=CGITempAct[[#This Row],[Month]])*(RankNHDD[Rank]=CGITempAct[[#This Row],[Rank]])*RankNHDD[CGINHDD])","v":2.1},{"$f":"YEAR(CGITempAct[[#This Row],[Date]])","v":2021},{"$f":"MONTH(CGITempAct[[#This Row],[Date]])","v":5},{"$f":"IF(CGITempAct[[#This Row],[Month]]=H283,I283+1,1)","v":10}]
[44346,73,45,{"$f":"AVERAGE(CGITempAct[[#This Row],[CGIHigh]:[CGILow]]\n)","v":59},{"$f":"IF(CGITempAct[[#This Row],[CGIAve]]<65,(65-CGITempAct[[#This Row],[CGIAve]]),0)","v":6},{"$f":"SUMPRODUCT((RankNHDD[Month]=CGITempAct[[#This Row],[Month]])*(RankNHDD[Rank]=CGITempAct[[#This Row],[Rank]])*RankNHDD[CGINHDD])","v":1.3},{"$f":"YEAR(CGITempAct[[#This Row],[Date]])","v":2021},{"$f":"MONTH(CGITempAct[[#This Row],[Date]])","v":5},{"$f":"IF(CGITempAct[[#This Row],[Month]]=H284,I284+1,1)","v":11}]
[44325,70,50,{"$f":"AVERAGE(CGITempAct[[#This Row],[CGIHigh]:[CGILow]]\n)","v":60},{"$f":"IF(CGITempAct[[#This Row],[CGIAve]]<65,(65-CGITempAct[[#This Row],[CGIAve]]),0)","v":5},{"$f":"SUMPRODUCT((RankNHDD[Month]=CGITempAct[[#This Row],[Month]])*(RankNHDD[Rank]=CGITempAct[[#This Row],[Rank]])*RankNHDD[CGINHDD])","v":0.6},{"$f":"YEAR(CGITempAct[[#This Row],[Date]])","v":2021},{"$f":"MONTH(CGITempAct[[#This Row],[Date]])","v":5},{"$f":"IF(CGITempAct[[#This Row],[Month]]=H285,I285+1,1)","v":12}]
[44324,66,55,{"$f":"AVERAGE(CGITempAct[[#This Row],[CGIHigh]:[CGILow]]\n)","v":60.5},{"$f":"IF(CGITempAct[[#This Row],[CGIAve]]<65,(65-CGITempAct[[#This Row],[CGIAve]]),0)","v":4.5},{"$f":"SUMPRODUCT((RankNHDD[Month]=CGITempAct[[#This Row],[Month]])*(RankNHDD[Rank]=CGITempAct[[#This Row],[Rank]])*RankNHDD[CGINHDD])","v":0},{"$f":"YEAR(CGITempAct[[#This Row],[Date]])","v":2021},{"$f":"MONTH(CGITempAct[[#This Row],[Date]])","v":5},{"$f":"IF(CGITempAct[[#This Row],[Month]]=H286,I286+1,1)","v":13}]
[44347,77,47,{"$f":"AVERAGE(CGITempAct[[#This Row],[CGIHigh]:[CGILow]]\n)","v":62},{"$f":"IF(CGITempAct[[#This Row],[CGIAve]]<65,(65-CGITempAct[[#This Row],[CGIAve]]),0)","v":3},{"$f":"SUMPRODUCT((RankNHDD[Month]=CGITempAct[[#This Row],[Month]])*(RankNHDD[Rank]=CGITempAct[[#This Row],[Rank]])*RankNHDD[CGINHDD])","v":0},{"$f":"YEAR(CGITempAct[[#This Row],[Date]])","v":2021},{"$f":"MONTH(CGITempAct[[#This Row],[Date]])","v":5},{"$f":"IF(CGITempAct[[#This Row],[Month]]=H287,I287+1,1)","v":14}]
[44320,71,55,{"$f":"AVERAGE(CGITempAct[[#This Row],[CGIHigh]:[CGILow]]\n)","v":63},{"$f":"IF(CGITempAct[[#This Row],[CGIAve]]<65,(65-CGITempAct[[#This Row],[CGIAve]]),0)","v":2},{"$f":"SUMPRODUCT((RankNHDD[Month]=CGITempAct[[#This Row],[Month]])*(RankNHDD[Rank]=CGITempAct[[#This Row],[Rank]])*RankNHDD[CGINHDD])","v":0},{"$f":"YEAR(CGITempAct[[#This Row],[Date]])","v":2021},{"$f":"MONTH(CGITempAct[[#This Row],[Date]])","v":5},{"$f":"IF(CGITempAct[[#This Row],[Month]]=H288,I288+1,1)","v":15}]
[44318,69,59,{"$f":"AVERAGE(CGITempAct[[#This Row],[CGIHigh]:[CGILow]]\n)","v":64},{"$f":"IF(CGITempAct[[#This Row],[CGIAve]]<65,(65-CGITempAct[[#This Row],[CGIAve]]),0)","v":1},{"$f":"SUMPRODUCT((RankNHDD[Month]=CGITempAct[[#This Row],[Month]])*(RankNHDD[Rank]=CGITempAct[[#This Row],[Rank]])*RankNHDD[CGINHDD])","v":0},{"$f":"YEAR(CGITempAct[[#This Row],[Date]])","v":2021},{"$f":"MONTH(CGITempAct[[#This Row],[Date]])","v":5},{"$f":"IF(CGITempAct[[#This Row],[Month]]=H289,I289+1,1)","v":16}]
[44317,79,52,{"$f":"AVERAGE(CGITempAct[[#This Row],[CGIHigh]:[CGILow]]\n)","v":65.5},{"$f":"IF(CGITempAct[[#This Row],[CGIAve]]<65,(65-CGITempAct[[#This Row],[CGIAve]]),0)","v":0},{"$f":"SUMPRODUCT((RankNHDD[Month]=CGITempAct[[#This Row],[Month]])*(RankNHDD[Rank]=CGITempAct[[#This Row],[Rank]])*RankNHDD[CGINHDD])","v":0},{"$f":"YEAR(CGITempAct[[#This Row],[Date]])","v":2021},{"$f":"MONTH(CGITempAct[[#This Row],[Date]])","v":5},{"$f":"IF(CGITempAct[[#This Row],[Month]]=H290,I290+1,1)","v":17}]
[44344,78,53,{"$f":"AVERAGE(CGITempAct[[#This Row],[CGIHigh]:[CGILow]]\n)","v":65.5},{"$f":"IF(CGITempAct[[#This Row],[CGIAve]]<65,(65-CGITempAct[[#This Row],[CGIAve]]),0)","v":0},{"$f":"SUMPRODUCT((RankNHDD[Month]=CGITempAct[[#This Row],[Month]])*(RankNHDD[Rank]=CGITempAct[[#This Row],[Rank]])*RankNHDD[CGINHDD])","v":0},{"$f":"YEAR(CGITempAct[[#This Row],[Date]])","v":2021},{"$f":"MONTH(CGITempAct[[#This Row],[Date]])","v":5},{"$f":"IF(CGITempAct[[#This Row],[Month]]=H291,I291+1,1)","v":18}]
[44333,72,64,{"$f":"AVERAGE(CGITempAct[[#This Row],[CGIHigh]:[CGILow]]\n)","v":68},{"$f":"IF(CGITempAct[[#This Row],[CGIAve]]<65,(65-CGITempAct[[#This Row],[CGIAve]]),0)","v":0},{"$f":"SUMPRODUCT((RankNHDD[Month]=CGITempAct[[#This Row],[Month]])*(RankNHDD[Rank]=CGITempAct[[#This Row],[Rank]])*RankNHDD[CGINHDD])","v":0},{"$f":"YEAR(CGITempAct[[#This Row],[Date]])","v":2021},{"$f":"MONTH(CGITempAct[[#This Row],[Date]])","v":5},{"$f":"IF(CGITempAct[[#This Row],[Month]]=H292,I292+1,1)","v":19}]
[44332,81,56,{"$f":"AVERAGE(CGITempAct[[#This Row],[CGIHigh]:[CGILow]]\n)","v":68.5},{"$f":"IF(CGITempAct[[#This Row],[CGIAve]]<65,(65-CGITempAct[[#This Row],[CGIAve]]),0)","v":0},{"$f":"SUMPRODUCT((RankNHDD[Month]=CGITempAct[[#This Row],[Month]])*(RankNHDD[Rank]=CGITempAct[[#This Row],[Rank]])*RankNHDD[CGINHDD])","v":0},{"$f":"YEAR(CGITempAct[[#This Row],[Date]])","v":2021},{"$f":"MONTH(CGITempAct[[#This Row],[Date]])","v":5},{"$f":"IF(CGITempAct[[#This Row],[Month]]=H293,I293+1,1)","v":20}]
[44334,75,64,{"$f":"AVERAGE(CGITempAct[[#This Row],[CGIHigh]:[CGILow]]\n)","v":69.5},{"$f":"IF(CGITempAct[[#This Row],[CGIAve]]<65,(65-CGITempAct[[#This Row],[CGIAve]]),0)","v":0},{"$f":"SUMPRODUCT((RankNHDD[Month]=CGITempAct[[#This Row],[Month]])*(RankNHDD[Rank]=CGITempAct[[#This Row],[Rank]])*RankNHDD[CGINHDD])","v":0},{"$f":"YEAR(CGITempAct[[#This Row],[Date]])","v":2021},{"$f":"MONTH(CGITempAct[[#This Row],[Date]])","v":5},{"$f":"IF(CGITempAct[[#This Row],[Month]]=H294,I294+1,1)","v":21}]
[44319,80,63,{"$f":"AVERAGE(CGITempAct[[#This Row],[CGIHigh]:[CGILow]]\n)","v":71.5},{"$f":"IF(CGITempAct[[#This Row],[CGIAve]]<65,(65-CGITempAct[[#This Row],[CGIAve]]),0)","v":0},{"$f":"SUMPRODUCT((RankNHDD[Month]=CGITempAct[[#This Row],[Month]])*(RankNHDD[Rank]=CGITempAct[[#This Row],[Rank]])*RankNHDD[CGINHDD])","v":0},{"$f":"YEAR(CGITempAct[[#This Row],[Date]])","v":2021},{"$f":"MONTH(CGITempAct[[#This Row],[Date]])","v":5},{"$f":"IF(CGITempAct[[#This Row],[Month]]=H295,I295+1,1)","v":22}]
[44335,80,66,{"$f":"AVERAGE(CGITempAct[[#This Row],[CGIHigh]:[CGILow]]\n)","v":73},{"$f":"IF(CGITempAct[[#This Row],[CGIAve]]<65,(65-CGITempAct[[#This Row],[CGIAve]]),0)","v":0},{"$f":"SUMPRODUCT((RankNHDD[Month]=CGITempAct[[#This Row],[Month]])*(RankNHDD[Rank]=CGITempAct[[#This Row],[Rank]])*RankNHDD[CGINHDD])","v":0},{"$f":"YEAR(CGITempAct[[#This Row],[Date]])","v":2021},{"$f":"MONTH(CGITempAct[[#This Row],[Date]])","v":5},{"$f":"IF(CGITempAct[[#This Row],[Month]]=H296,I296+1,1)","v":23}]
[44338,88,60,{"$f":"AVERAGE(CGITempAct[[#This Row],[CGIHigh]:[CGILow]]\n)","v":74},{"$f":"IF(CGITempAct[[#This Row],[CGIAve]]<65,(65-CGITempAct[[#This Row],[CGIAve]]),0)","v":0},{"$f":"SUMPRODUCT((RankNHDD[Month]=CGITempAct[[#This Row],[Month]])*(RankNHDD[Rank]=CGITempAct[[#This Row],[Rank]])*RankNHDD[CGINHDD])","v":0},{"$f":"YEAR(CGITempAct[[#This Row],[Date]])","v":2021},{"$f":"MONTH(CGITempAct[[#This Row],[Date]])","v":5},{"$f":"IF(CGITempAct[[#This Row],[Month]]=H297,I297+1,1)","v":24}]
[44339,88,60,{"$f":"AVERAGE(CGITempAct[[#This Row],[CGIHigh]:[CGILow]]\n)","v":74},{"$f":"IF(CGITempAct[[#This Row],[CGIAve]]<65,(65-CGITempAct[[#This Row],[CGIAve]]),0)","v":0},{"$f":"SUMPRODUCT((RankNHDD[Month]=CGITempAct[[#This Row],[Month]])*(RankNHDD[Rank]=CGITempAct[[#This Row],[Rank]])*RankNHDD[CGINHDD])","v":0},{"$f":"YEAR(CGITempAct[[#This Row],[Date]])","v":2021},{"$f":"MONTH(CGITempAct[[#This Row],[Date]])","v":5},{"$f":"IF(CGITempAct[[#This Row],[Month]]=H298,I298+1,1)","v":25}]
[44337,85,65,{"$f":"AVERAGE(CGITempAct[[#This Row],[CGIHigh]:[CGILow]]\n)","v":75},{"$f":"IF(CGITempAct[[#This Row],[CGIAve]]<65,(65-CGITempAct[[#This Row],[CGIAve]]),0)","v":0},{"$f":"SUMPRODUCT((RankNHDD[Month]=CGITempAct[[#This Row],[Month]])*(RankNHDD[Rank]=CGITempAct[[#This Row],[Rank]])*RankNHDD[CGINHDD])","v":0},{"$f":"YEAR(CGITempAct[[#This Row],[Date]])","v":2021},{"$f":"MONTH(CGITempAct[[#This Row],[Date]])","v":5},{"$f":"IF(CGITempAct[[#This Row],[Month]]=H299,I299+1,1)","v":26}]
[44340,89,61,{"$f":"AVERAGE(CGITempAct[[#This Row],[CGIHigh]:[CGILow]]\n)","v":75},{"$f":"IF(CGITempAct[[#This Row],[CGIAve]]<65,(65-CGITempAct[[#This Row],[CGIAve]]),0)","v":0},{"$f":"SUMPRODUCT((RankNHDD[Month]=CGITempAct[[#This Row],[Month]])*(RankNHDD[Rank]=CGITempAct[[#This Row],[Rank]])*RankNHDD[CGINHDD])","v":0},{"$f":"YEAR(CGITempAct[[#This Row],[Date]])","v":2021},{"$f":"MONTH(CGITempAct[[#This Row],[Date]])","v":5},{"$f":"IF(CGITempAct[[#This Row],[Month]]=H300,I300+1,1)","v":27}]
[44343,85,65,{"$f":"AVERAGE(CGITempAct[[#This Row],[CGIHigh]:[CGILow]]\n)","v":75},{"$f":"IF(CGITempAct[[#This Row],[CGIAve]]<65,(65-CGITempAct[[#This Row],[CGIAve]]),0)","v":0},{"$f":"SUMPRODUCT((RankNHDD[Month]=CGITempAct[[#This Row],[Month]])*(RankNHDD[Rank]=CGITempAct[[#This Row],[Rank]])*RankNHDD[CGINHDD])","v":0},{"$f":"YEAR(CGITempAct[[#This Row],[Date]])","v":2021},{"$f":"MONTH(CGITempAct[[#This Row],[Date]])","v":5},{"$f":"IF(CGITempAct[[#This Row],[Month]]=H301,I301+1,1)","v":28}]
[44336,85,66,{"$f":"AVERAGE(CGITempAct[[#This Row],[CGIHigh]:[CGILow]]\n)","v":75.5},{"$f":"IF(CGITempAct[[#This Row],[CGIAve]]<65,(65-CGITempAct[[#This Row],[CGIAve]]),0)","v":0},{"$f":"SUMPRODUCT((RankNHDD[Month]=CGITempAct[[#This Row],[Month]])*(RankNHDD[Rank]=CGITempAct[[#This Row],[Rank]])*RankNHDD[CGINHDD])","v":0},{"$f":"YEAR(CGITempAct[[#This Row],[Date]])","v":2021},{"$f":"MONTH(CGITempAct[[#This Row],[Date]])","v":5},{"$f":"IF(CGITempAct[[#This Row],[Month]]=H302,I302+1,1)","v":29}]
[44342,84,69,{"$f":"AVERAGE(CGITempAct[[#This Row],[CGIHigh]:[CGILow]]\n)","v":76.5},{"$f":"IF(CGITempAct[[#This Row],[CGIAve]]<65,(65-CGITempAct[[#This Row],[CGIAve]]),0)","v":0},{"$f":"SUMPRODUCT((RankNHDD[Month]=CGITempAct[[#This Row],[Month]])*(RankNHDD[Rank]=CGITempAct[[#This Row],[Rank]])*RankNHDD[CGINHDD])","v":0},{"$f":"YEAR(CGITempAct[[#This Row],[Date]])","v":2021},{"$f":"MONTH(CGITempAct[[#This Row],[Date]])","v":5},{"$f":"IF(CGITempAct[[#This Row],[Month]]=H303,I303+1,1)","v":30}]
[44341,91,66,{"$f":"AVERAGE(CGITempAct[[#This Row],[CGIHigh]:[CGILow]]\n)","v":78.5},{"$f":"IF(CGITempAct[[#This Row],[CGIAve]]<65,(65-CGITempAct[[#This Row],[CGIAve]]),0)","v":0},{"$f":"SUMPRODUCT((RankNHDD[Month]=CGITempAct[[#This Row],[Month]])*(RankNHDD[Rank]=CGITempAct[[#This Row],[Rank]])*RankNHDD[CGINHDD])","v":0},{"$f":"YEAR(CGITempAct[[#This Row],[Date]])","v":2021},{"$f":"MONTH(CGITempAct[[#This Row],[Date]])","v":5},{"$f":"IF(CGITempAct[[#This Row],[Month]]=H304,I304+1,1)","v":31}]
[44348,67,60,{"$f":"AVERAGE(CGITempAct[[#This Row],[CGIHigh]:[CGILow]]\n)","v":63.5},{"$f":"IF(CGITempAct[[#This Row],[CGIAve]]<65,(65-CGITempAct[[#This Row],[CGIAve]]),0)","v":1.5},{"$f":"SUMPRODUCT((RankNHDD[Month]=CGITempAct[[#This Row],[Month]])*(RankNHDD[Rank]=CGITempAct[[#This Row],[Rank]])*RankNHDD[CGINHDD])","v":3.5},{"$f":"YEAR(CGITempAct[[#This Row],[Date]])","v":2021},{"$f":"MONTH(CGITempAct[[#This Row],[Date]])","v":6},{"$f":"IF(CGITempAct[[#This Row],[Month]]=H305,I305+1,1)","v":1}]
[44369,80,53,{"$f":"AVERAGE(CGITempAct[[#This Row],[CGIHigh]:[CGILow]]\n)","v":66.5},{"$f":"IF(CGITempAct[[#This Row],[CGIAve]]<65,(65-CGITempAct[[#This Row],[CGIAve]]),0)","v":0},{"$f":"SUMPRODUCT((RankNHDD[Month]=CGITempAct[[#This Row],[Month]])*(RankNHDD[Rank]=CGITempAct[[#This Row],[Rank]])*RankNHDD[CGINHDD])","v":0.1},{"$f":"YEAR(CGITempAct[[#This Row],[Date]])","v":2021},{"$f":"MONTH(CGITempAct[[#This Row],[Date]])","v":6},{"$f":"IF(CGITempAct[[#This Row],[Month]]=H306,I306+1,1)","v":2}]
[44349,74,63,{"$f":"AVERAGE(CGITempAct[[#This Row],[CGIHigh]:[CGILow]]\n)","v":68.5},{"$f":"IF(CGITempAct[[#This Row],[CGIAve]]<65,(65-CGITempAct[[#This Row],[CGIAve]]),0)","v":0},{"$f":"SUMPRODUCT((RankNHDD[Month]=CGITempAct[[#This Row],[Month]])*(RankNHDD[Rank]=CGITempAct[[#This Row],[Rank]])*RankNHDD[CGINHDD])","v":0},{"$f":"YEAR(CGITempAct[[#This Row],[Date]])","v":2021},{"$f":"MONTH(CGITempAct[[#This Row],[Date]])","v":6},{"$f":"IF(CGITempAct[[#This Row],[Month]]=H307,I307+1,1)","v":3}]
[44370,84,55,{"$f":"AVERAGE(CGITempAct[[#This Row],[CGIHigh]:[CGILow]]\n)","v":69.5},{"$f":"IF(CGITempAct[[#This Row],[CGIAve]]<65,(65-CGITempAct[[#This Row],[CGIAve]]),0)","v":0},{"$f":"SUMPRODUCT((RankNHDD[Month]=CGITempAct[[#This Row],[Month]])*(RankNHDD[Rank]=CGITempAct[[#This Row],[Rank]])*RankNHDD[CGINHDD])","v":0},{"$f":"YEAR(CGITempAct[[#This Row],[Date]])","v":2021},{"$f":"MONTH(CGITempAct[[#This Row],[Date]])","v":6},{"$f":"IF(CGITempAct[[#This Row],[Month]]=H308,I308+1,1)","v":4}]
[44350,81,60,{"$f":"AVERAGE(CGITempAct[[#This Row],[CGIHigh]:[CGILow]]\n)","v":70.5},{"$f":"IF(CGITempAct[[#This Row],[CGIAve]]<65,(65-CGITempAct[[#This Row],[CGIAve]]),0)","v":0},{"$f":"SUMPRODUCT((RankNHDD[Month]=CGITempAct[[#This Row],[Month]])*(RankNHDD[Rank]=CGITempAct[[#This Row],[Rank]])*RankNHDD[CGINHDD])","v":0},{"$f":"YEAR(CGITempAct[[#This Row],[Date]])","v":2021},{"$f":"MONTH(CGITempAct[[#This Row],[Date]])","v":6},{"$f":"IF(CGITempAct[[#This Row],[Month]]=H309,I309+1,1)","v":5}]
[44368,83,58,{"$f":"AVERAGE(CGITempAct[[#This Row],[CGIHigh]:[CGILow]]\n)","v":70.5},{"$f":"IF(CGITempAct[[#This Row],[CGIAve]]<65,(65-CGITempAct[[#This Row],[CGIAve]]),0)","v":0},{"$f":"SUMPRODUCT((RankNHDD[Month]=CGITempAct[[#This Row],[Month]])*(RankNHDD[Rank]=CGITempAct[[#This Row],[Rank]])*RankNHDD[CGINHDD])","v":0},{"$f":"YEAR(CGITempAct[[#This Row],[Date]])","v":2021},{"$f":"MONTH(CGITempAct[[#This Row],[Date]])","v":6},{"$f":"IF(CGITempAct[[#This Row],[Month]]=H310,I310+1,1)","v":6}]
[44351,84,58,{"$f":"AVERAGE(CGITempAct[[#This Row],[CGIHigh]:[CGILow]]\n)","v":71},{"$f":"IF(CGITempAct[[#This Row],[CGIAve]]<65,(65-CGITempAct[[#This Row],[CGIAve]]),0)","v":0},{"$f":"SUMPRODUCT((RankNHDD[Month]=CGITempAct[[#This Row],[Month]])*(RankNHDD[Rank]=CGITempAct[[#This Row],[Rank]])*RankNHDD[CGINHDD])","v":0},{"$f":"YEAR(CGITempAct[[#This Row],[Date]])","v":2021},{"$f":"MONTH(CGITempAct[[#This Row],[Date]])","v":6},{"$f":"IF(CGITempAct[[#This Row],[Month]]=H311,I311+1,1)","v":7}]
[44352,87,60,{"$f":"AVERAGE(CGITempAct[[#This Row],[CGIHigh]:[CGILow]]\n)","v":73.5},{"$f":"IF(CGITempAct[[#This Row],[CGIAve]]<65,(65-CGITempAct[[#This Row],[CGIAve]]),0)","v":0},{"$f":"SUMPRODUCT((RankNHDD[Month]=CGITempAct[[#This Row],[Month]])*(RankNHDD[Rank]=CGITempAct[[#This Row],[Rank]])*RankNHDD[CGINHDD])","v":0},{"$f":"YEAR(CGITempAct[[#This Row],[Date]])","v":2021},{"$f":"MONTH(CGITempAct[[#This Row],[Date]])","v":6},{"$f":"IF(CGITempAct[[#This Row],[Month]]=H312,I312+1,1)","v":8}]
[44355,78,70,{"$f":"AVERAGE(CGITempAct[[#This Row],[CGIHigh]:[CGILow]]\n)","v":74},{"$f":"IF(CGITempAct[[#This Row],[CGIAve]]<65,(65-CGITempAct[[#This Row],[CGIAve]]),0)","v":0},{"$f":"SUMPRODUCT((RankNHDD[Month]=CGITempAct[[#This Row],[Month]])*(RankNHDD[Rank]=CGITempAct[[#This Row],[Rank]])*RankNHDD[CGINHDD])","v":0},{"$f":"YEAR(CGITempAct[[#This Row],[Date]])","v":2021},{"$f":"MONTH(CGITempAct[[#This Row],[Date]])","v":6},{"$f":"IF(CGITempAct[[#This Row],[Month]]=H313,I313+1,1)","v":9}]
[44354,80,70,{"$f":"AVERAGE(CGITempAct[[#This Row],[CGIHigh]:[CGILow]]\n)","v":75},{"$f":"IF(CGITempAct[[#This Row],[CGIAve]]<65,(65-CGITempAct[[#This Row],[CGIAve]]),0)","v":0},{"$f":"SUMPRODUCT((RankNHDD[Month]=CGITempAct[[#This Row],[Month]])*(RankNHDD[Rank]=CGITempAct[[#This Row],[Rank]])*RankNHDD[CGINHDD])","v":0},{"$f":"YEAR(CGITempAct[[#This Row],[Date]])","v":2021},{"$f":"MONTH(CGITempAct[[#This Row],[Date]])","v":6},{"$f":"IF(CGITempAct[[#This Row],[Month]]=H314,I314+1,1)","v":10}]
[44353,83,70,{"$f":"AVERAGE(CGITempAct[[#This Row],[CGIHigh]:[CGILow]]\n)","v":76.5},{"$f":"IF(CGITempAct[[#This Row],[CGIAve]]<65,(65-CGITempAct[[#This Row],[CGIAve]]),0)","v":0},{"$f":"SUMPRODUCT((RankNHDD[Month]=CGITempAct[[#This Row],[Month]])*(RankNHDD[Rank]=CGITempAct[[#This Row],[Rank]])*RankNHDD[CGINHDD])","v":0},{"$f":"YEAR(CGITempAct[[#This Row],[Date]])","v":2021},{"$f":"MONTH(CGITempAct[[#This Row],[Date]])","v":6},{"$f":"IF(CGITempAct[[#This Row],[Month]]=H315,I315+1,1)","v":11}]
[44362,89,64,{"$f":"AVERAGE(CGITempAct[[#This Row],[CGIHigh]:[CGILow]]\n)","v":76.5},{"$f":"IF(CGITempAct[[#This Row],[CGIAve]]<65,(65-CGITempAct[[#This Row],[CGIAve]]),0)","v":0},{"$f":"SUMPRODUCT((RankNHDD[Month]=CGITempAct[[#This Row],[Month]])*(RankNHDD[Rank]=CGITempAct[[#This Row],[Rank]])*RankNHDD[CGINHDD])","v":0},{"$f":"YEAR(CGITempAct[[#This Row],[Date]])","v":2021},{"$f":"MONTH(CGITempAct[[#This Row],[Date]])","v":6},{"$f":"IF(CGITempAct[[#This Row],[Month]]=H316,I316+1,1)","v":12}]
[44371,87,68,{"$f":"AVERAGE(CGITempAct[[#This Row],[CGIHigh]:[CGILow]]\n)","v":77.5},{"$f":"IF(CGITempAct[[#This Row],[CGIAve]]<65,(65-CGITempAct[[#This Row],[CGIAve]]),0)","v":0},{"$f":"SUMPRODUCT((RankNHDD[Month]=CGITempAct[[#This Row],[Month]])*(RankNHDD[Rank]=CGITempAct[[#This Row],[Rank]])*RankNHDD[CGINHDD])","v":0},{"$f":"YEAR(CGITempAct[[#This Row],[Date]])","v":2021},{"$f":"MONTH(CGITempAct[[#This Row],[Date]])","v":6},{"$f":"IF(CGITempAct[[#This Row],[Month]]=H317,I317+1,1)","v":13}]
[44363,92,64,{"$f":"AVERAGE(CGITempAct[[#This Row],[CGIHigh]:[CGILow]]\n)","v":78},{"$f":"IF(CGITempAct[[#This Row],[CGIAve]]<65,(65-CGITempAct[[#This Row],[CGIAve]]),0)","v":0},{"$f":"SUMPRODUCT((RankNHDD[Month]=CGITempAct[[#This Row],[Month]])*(RankNHDD[Rank]=CGITempAct[[#This Row],[Rank]])*RankNHDD[CGINHDD])","v":0},{"$f":"YEAR(CGITempAct[[#This Row],[Date]])","v":2021},{"$f":"MONTH(CGITempAct[[#This Row],[Date]])","v":6},{"$f":"IF(CGITempAct[[#This Row],[Month]]=H318,I318+1,1)","v":14}]
[44356,85,72,{"$f":"AVERAGE(CGITempAct[[#This Row],[CGIHigh]:[CGILow]]\n)","v":78.5},{"$f":"IF(CGITempAct[[#This Row],[CGIAve]]<65,(65-CGITempAct[[#This Row],[CGIAve]]),0)","v":0},{"$f":"SUMPRODUCT((RankNHDD[Month]=CGITempAct[[#This Row],[Month]])*(RankNHDD[Rank]=CGITempAct[[#This Row],[Rank]])*RankNHDD[CGINHDD])","v":0},{"$f":"YEAR(CGITempAct[[#This Row],[Date]])","v":2021},{"$f":"MONTH(CGITempAct[[#This Row],[Date]])","v":6},{"$f":"IF(CGITempAct[[#This Row],[Month]]=H319,I319+1,1)","v":15}]
[44364,93,65,{"$f":"AVERAGE(CGITempAct[[#This Row],[CGIHigh]:[CGILow]]\n)","v":79},{"$f":"IF(CGITempAct[[#This Row],[CGIAve]]<65,(65-CGITempAct[[#This Row],[CGIAve]]),0)","v":0},{"$f":"SUMPRODUCT((RankNHDD[Month]=CGITempAct[[#This Row],[Month]])*(RankNHDD[Rank]=CGITempAct[[#This Row],[Rank]])*RankNHDD[CGINHDD])","v":0},{"$f":"YEAR(CGITempAct[[#This Row],[Date]])","v":2021},{"$f":"MONTH(CGITempAct[[#This Row],[Date]])","v":6},{"$f":"IF(CGITempAct[[#This Row],[Month]]=H320,I320+1,1)","v":16}]
[44361,95,64,{"$f":"AVERAGE(CGITempAct[[#This Row],[CGIHigh]:[CGILow]]\n)","v":79.5},{"$f":"IF(CGITempAct[[#This Row],[CGIAve]]<65,(65-CGITempAct[[#This Row],[CGIAve]]),0)","v":0},{"$f":"SUMPRODUCT((RankNHDD[Month]=CGITempAct[[#This Row],[Month]])*(RankNHDD[Rank]=CGITempAct[[#This Row],[Rank]])*RankNHDD[CGINHDD])","v":0},{"$f":"YEAR(CGITempAct[[#This Row],[Date]])","v":2021},{"$f":"MONTH(CGITempAct[[#This Row],[Date]])","v":6},{"$f":"IF(CGITempAct[[#This Row],[Month]]=H321,I321+1,1)","v":17}]
[44366,91,69,{"$f":"AVERAGE(CGITempAct[[#This Row],[CGIHigh]:[CGILow]]\n)","v":80},{"$f":"IF(CGITempAct[[#This Row],[CGIAve]]<65,(65-CGITempAct[[#This Row],[CGIAve]]),0)","v":0},{"$f":"SUMPRODUCT((RankNHDD[Month]=CGITempAct[[#This Row],[Month]])*(RankNHDD[Rank]=CGITempAct[[#This Row],[Rank]])*RankNHDD[CGINHDD])","v":0},{"$f":"YEAR(CGITempAct[[#This Row],[Date]])","v":2021},{"$f":"MONTH(CGITempAct[[#This Row],[Date]])","v":6},{"$f":"IF(CGITempAct[[#This Row],[Month]]=H322,I322+1,1)","v":18}]
[44357,89,72,{"$f":"AVERAGE(CGITempAct[[#This Row],[CGIHigh]:[CGILow]]\n)","v":80.5},{"$f":"IF(CGITempAct[[#This Row],[CGIAve]]<65,(65-CGITempAct[[#This Row],[CGIAve]]),0)","v":0},{"$f":"SUMPRODUCT((RankNHDD[Month]=CGITempAct[[#This Row],[Month]])*(RankNHDD[Rank]=CGITempAct[[#This Row],[Rank]])*RankNHDD[CGINHDD])","v":0},{"$f":"YEAR(CGITempAct[[#This Row],[Date]])","v":2021},{"$f":"MONTH(CGITempAct[[#This Row],[Date]])","v":6},{"$f":"IF(CGITempAct[[#This Row],[Month]]=H323,I323+1,1)","v":19}]
[44360,93,68,{"$f":"AVERAGE(CGITempAct[[#This Row],[CGIHigh]:[CGILow]]\n)","v":80.5},{"$f":"IF(CGITempAct[[#This Row],[CGIAve]]<65,(65-CGITempAct[[#This Row],[CGIAve]]),0)","v":0},{"$f":"SUMPRODUCT((RankNHDD[Month]=CGITempAct[[#This Row],[Month]])*(RankNHDD[Rank]=CGITempAct[[#This Row],[Rank]])*RankNHDD[CGINHDD])","v":0},{"$f":"YEAR(CGITempAct[[#This Row],[Date]])","v":2021},{"$f":"MONTH(CGITempAct[[#This Row],[Date]])","v":6},{"$f":"IF(CGITempAct[[#This Row],[Month]]=H324,I324+1,1)","v":20}]
[44358,93,70,{"$f":"AVERAGE(CGITempAct[[#This Row],[CGIHigh]:[CGILow]]\n)","v":81.5},{"$f":"IF(CGITempAct[[#This Row],[CGIAve]]<65,(65-CGITempAct[[#This Row],[CGIAve]]),0)","v":0},{"$f":"SUMPRODUCT((RankNHDD[Month]=CGITempAct[[#This Row],[Month]])*(RankNHDD[Rank]=CGITempAct[[#This Row],[Rank]])*RankNHDD[CGINHDD])","v":0},{"$f":"YEAR(CGITempAct[[#This Row],[Date]])","v":2021},{"$f":"MONTH(CGITempAct[[#This Row],[Date]])","v":6},{"$f":"IF(CGITempAct[[#This Row],[Month]]=H325,I325+1,1)","v":21}]
[44377,93,70,{"$f":"AVERAGE(CGITempAct[[#This Row],[CGIHigh]:[CGILow]]\n)","v":81.5},{"$f":"IF(CGITempAct[[#This Row],[CGIAve]]<65,(65-CGITempAct[[#This Row],[CGIAve]]),0)","v":0},{"$f":"SUMPRODUCT((RankNHDD[Month]=CGITempAct[[#This Row],[Month]])*(RankNHDD[Rank]=CGITempAct[[#This Row],[Rank]])*RankNHDD[CGINHDD])","v":0},{"$f":"YEAR(CGITempAct[[#This Row],[Date]])","v":2021},{"$f":"MONTH(CGITempAct[[#This Row],[Date]])","v":6},{"$f":"IF(CGITempAct[[#This Row],[Month]]=H326,I326+1,1)","v":22}]
[44375,92,72,{"$f":"AVERAGE(CGITempAct[[#This Row],[CGIHigh]:[CGILow]]\n)","v":82},{"$f":"IF(CGITempAct[[#This Row],[CGIAve]]<65,(65-CGITempAct[[#This Row],[CGIAve]]),0)","v":0},{"$f":"SUMPRODUCT((RankNHDD[Month]=CGITempAct[[#This Row],[Month]])*(RankNHDD[Rank]=CGITempAct[[#This Row],[Rank]])*RankNHDD[CGINHDD])","v":0},{"$f":"YEAR(CGITempAct[[#This Row],[Date]])","v":2021},{"$f":"MONTH(CGITempAct[[#This Row],[Date]])","v":6},{"$f":"IF(CGITempAct[[#This Row],[Month]]=H327,I327+1,1)","v":23}]
[44373,89,76,{"$f":"AVERAGE(CGITempAct[[#This Row],[CGIHigh]:[CGILow]]\n)","v":82.5},{"$f":"IF(CGITempAct[[#This Row],[CGIAve]]<65,(65-CGITempAct[[#This Row],[CGIAve]]),0)","v":0},{"$f":"SUMPRODUCT((RankNHDD[Month]=CGITempAct[[#This Row],[Month]])*(RankNHDD[Rank]=CGITempAct[[#This Row],[Rank]])*RankNHDD[CGINHDD])","v":0},{"$f":"YEAR(CGITempAct[[#This Row],[Date]])","v":2021},{"$f":"MONTH(CGITempAct[[#This Row],[Date]])","v":6},{"$f":"IF(CGITempAct[[#This Row],[Month]]=H328,I328+1,1)","v":24}]
[44367,93,73,{"$f":"AVERAGE(CGITempAct[[#This Row],[CGIHigh]:[CGILow]]\n)","v":83},{"$f":"IF(CGITempAct[[#This Row],[CGIAve]]<65,(65-CGITempAct[[#This Row],[CGIAve]]),0)","v":0},{"$f":"SUMPRODUCT((RankNHDD[Month]=CGITempAct[[#This Row],[Month]])*(RankNHDD[Rank]=CGITempAct[[#This Row],[Rank]])*RankNHDD[CGINHDD])","v":0},{"$f":"YEAR(CGITempAct[[#This Row],[Date]])","v":2021},{"$f":"MONTH(CGITempAct[[#This Row],[Date]])","v":6},{"$f":"IF(CGITempAct[[#This Row],[Month]]=H329,I329+1,1)","v":25}]
[44374,91,75,{"$f":"AVERAGE(CGITempAct[[#This Row],[CGIHigh]:[CGILow]]\n)","v":83},{"$f":"IF(CGITempAct[[#This Row],[CGIAve]]<65,(65-CGITempAct[[#This Row],[CGIAve]]),0)","v":0},{"$f":"SUMPRODUCT((RankNHDD[Month]=CGITempAct[[#This Row],[Month]])*(RankNHDD[Rank]=CGITempAct[[#This Row],[Rank]])*RankNHDD[CGINHDD])","v":0},{"$f":"YEAR(CGITempAct[[#This Row],[Date]])","v":2021},{"$f":"MONTH(CGITempAct[[#This Row],[Date]])","v":6},{"$f":"IF(CGITempAct[[#This Row],[Month]]=H330,I330+1,1)","v":26}]
[44376,94,72,{"$f":"AVERAGE(CGITempAct[[#This Row],[CGIHigh]:[CGILow]]\n)","v":83},{"$f":"IF(CGITempAct[[#This Row],[CGIAve]]<65,(65-CGITempAct[[#This Row],[CGIAve]]),0)","v":0},{"$f":"SUMPRODUCT((RankNHDD[Month]=CGITempAct[[#This Row],[Month]])*(RankNHDD[Rank]=CGITempAct[[#This Row],[Rank]])*RankNHDD[CGINHDD])","v":0},{"$f":"YEAR(CGITempAct[[#This Row],[Date]])","v":2021},{"$f":"MONTH(CGITempAct[[#This Row],[Date]])","v":6},{"$f":"IF(CGITempAct[[#This Row],[Month]]=H331,I331+1,1)","v":27}]
[44359,96,71,{"$f":"AVERAGE(CGITempAct[[#This Row],[CGIHigh]:[CGILow]]\n)","v":83.5},{"$f":"IF(CGITempAct[[#This Row],[CGIAve]]<65,(65-CGITempAct[[#This Row],[CGIAve]]),0)","v":0},{"$f":"SUMPRODUCT((RankNHDD[Month]=CGITempAct[[#This Row],[Month]])*(RankNHDD[Rank]=CGITempAct[[#This Row],[Rank]])*RankNHDD[CGINHDD])","v":0},{"$f":"YEAR(CGITempAct[[#This Row],[Date]])","v":2021},{"$f":"MONTH(CGITempAct[[#This Row],[Date]])","v":6},{"$f":"IF(CGITempAct[[#This Row],[Month]]=H332,I332+1,1)","v":28}]
[44365,94,75,{"$f":"AVERAGE(CGITempAct[[#This Row],[CGIHigh]:[CGILow]]\n)","v":84.5},{"$f":"IF(CGITempAct[[#This Row],[CGIAve]]<65,(65-CGITempAct[[#This Row],[CGIAve]]),0)","v":0},{"$f":"SUMPRODUCT((RankNHDD[Month]=CGITempAct[[#This Row],[Month]])*(RankNHDD[Rank]=CGITempAct[[#This Row],[Rank]])*RankNHDD[CGINHDD])","v":0},{"$f":"YEAR(CGITempAct[[#This Row],[Date]])","v":2021},{"$f":"MONTH(CGITempAct[[#This Row],[Date]])","v":6},{"$f":"IF(CGITempAct[[#This Row],[Month]]=H333,I333+1,1)","v":29}]
[44372,91,80,{"$f":"AVERAGE(CGITempAct[[#This Row],[CGIHigh]:[CGILow]]\n)","v":85.5},{"$f":"IF(CGITempAct[[#This Row],[CGIAve]]<65,(65-CGITempAct[[#This Row],[CGIAve]]),0)","v":0},{"$f":"SUMPRODUCT((RankNHDD[Month]=CGITempAct[[#This Row],[Month]])*(RankNHDD[Rank]=CGITempAct[[#This Row],[Rank]])*RankNHDD[CGINHDD])","v":0},{"$f":"YEAR(CGITempAct[[#This Row],[Date]])","v":2021},{"$f":"MONTH(CGITempAct[[#This Row],[Date]])","v":6},{"$f":"IF(CGITempAct[[#This Row],[Month]]=H334,I334+1,1)","v":30}]
[44380,83,56,{"$f":"AVERAGE(CGITempAct[[#This Row],[CGIHigh]:[CGILow]]\n)","v":69.5},{"$f":"IF(CGITempAct[[#This Row],[CGIAve]]<65,(65-CGITempAct[[#This Row],[CGIAve]]),0)","v":0},{"$f":"SUMPRODUCT((RankNHDD[Month]=CGITempAct[[#This Row],[Month]])*(RankNHDD[Rank]=CGITempAct[[#This Row],[Rank]])*RankNHDD[CGINHDD])","v":0.1},{"$f":"YEAR(CGITempAct[[#This Row],[Date]])","v":2021},{"$f":"MONTH(CGITempAct[[#This Row],[Date]])","v":7},{"$f":"IF(CGITempAct[[#This Row],[Month]]=H335,I335+1,1)","v":1}]
[44379,83,62,{"$f":"AVERAGE(CGITempAct[[#This Row],[CGIHigh]:[CGILow]]\n)","v":72.5},{"$f":"IF(CGITempAct[[#This Row],[CGIAve]]<65,(65-CGITempAct[[#This Row],[CGIAve]]),0)","v":0},{"$f":"SUMPRODUCT((RankNHDD[Month]=CGITempAct[[#This Row],[Month]])*(RankNHDD[Rank]=CGITempAct[[#This Row],[Rank]])*RankNHDD[CGINHDD])","v":0},{"$f":"YEAR(CGITempAct[[#This Row],[Date]])","v":2021},{"$f":"MONTH(CGITempAct[[#This Row],[Date]])","v":7},{"$f":"IF(CGITempAct[[#This Row],[Month]]=H336,I336+1,1)","v":2}]
[44381,86,59,{"$f":"AVERAGE(CGITempAct[[#This Row],[CGIHigh]:[CGILow]]\n)","v":72.5},{"$f":"IF(CGITempAct[[#This Row],[CGIAve]]<65,(65-CGITempAct[[#This Row],[CGIAve]]),0)","v":0},{"$f":"SUMPRODUCT((RankNHDD[Month]=CGITempAct[[#This Row],[Month]])*(RankNHDD[Rank]=CGITempAct[[#This Row],[Rank]])*RankNHDD[CGINHDD])","v":0},{"$f":"YEAR(CGITempAct[[#This Row],[Date]])","v":2021},{"$f":"MONTH(CGITempAct[[#This Row],[Date]])","v":7},{"$f":"IF(CGITempAct[[#This Row],[Month]]=H337,I337+1,1)","v":3}]
[44388,81,67,{"$f":"AVERAGE(CGITempAct[[#This Row],[CGIHigh]:[CGILow]]\n)","v":74},{"$f":"IF(CGITempAct[[#This Row],[CGIAve]]<65,(65-CGITempAct[[#This Row],[CGIAve]]),0)","v":0},{"$f":"SUMPRODUCT((RankNHDD[Month]=CGITempAct[[#This Row],[Month]])*(RankNHDD[Rank]=CGITempAct[[#This Row],[Rank]])*RankNHDD[CGINHDD])","v":0},{"$f":"YEAR(CGITempAct[[#This Row],[Date]])","v":2021},{"$f":"MONTH(CGITempAct[[#This Row],[Date]])","v":7},{"$f":"IF(CGITempAct[[#This Row],[Month]]=H338,I338+1,1)","v":4}]
[44395,80,70,{"$f":"AVERAGE(CGITempAct[[#This Row],[CGIHigh]:[CGILow]]\n)","v":75},{"$f":"IF(CGITempAct[[#This Row],[CGIAve]]<65,(65-CGITempAct[[#This Row],[CGIAve]]),0)","v":0},{"$f":"SUMPRODUCT((RankNHDD[Month]=CGITempAct[[#This Row],[Month]])*(RankNHDD[Rank]=CGITempAct[[#This Row],[Rank]])*RankNHDD[CGINHDD])","v":0},{"$f":"YEAR(CGITempAct[[#This Row],[Date]])","v":2021},{"$f":"MONTH(CGITempAct[[#This Row],[Date]])","v":7},{"$f":"IF(CGITempAct[[#This Row],[Month]]=H339,I339+1,1)","v":5}]
[44382,89,62,{"$f":"AVERAGE(CGITempAct[[#This Row],[CGIHigh]:[CGILow]]\n)","v":75.5},{"$f":"IF(CGITempAct[[#This Row],[CGIAve]]<65,(65-CGITempAct[[#This Row],[CGIAve]]),0)","v":0},{"$f":"SUMPRODUCT((RankNHDD[Month]=CGITempAct[[#This Row],[Month]])*(RankNHDD[Rank]=CGITempAct[[#This Row],[Rank]])*RankNHDD[CGINHDD])","v":0},{"$f":"YEAR(CGITempAct[[#This Row],[Date]])","v":2021},{"$f":"MONTH(CGITempAct[[#This Row],[Date]])","v":7},{"$f":"IF(CGITempAct[[#This Row],[Month]]=H340,I340+1,1)","v":6}]
[44389,83,69,{"$f":"AVERAGE(CGITempAct[[#This Row],[CGIHigh]:[CGILow]]\n)","v":76},{"$f":"IF(CGITempAct[[#This Row],[CGIAve]]<65,(65-CGITempAct[[#This Row],[CGIAve]]),0)","v":0},{"$f":"SUMPRODUCT((RankNHDD[Month]=CGITempAct[[#This Row],[Month]])*(RankNHDD[Rank]=CGITempAct[[#This Row],[Rank]])*RankNHDD[CGINHDD])","v":0},{"$f":"YEAR(CGITempAct[[#This Row],[Date]])","v":2021},{"$f":"MONTH(CGITempAct[[#This Row],[Date]])","v":7},{"$f":"IF(CGITempAct[[#This Row],[Month]]=H341,I341+1,1)","v":7}]
[44390,85,68,{"$f":"AVERAGE(CGITempAct[[#This Row],[CGIHigh]:[CGILow]]\n)","v":76.5},{"$f":"IF(CGITempAct[[#This Row],[CGIAve]]<65,(65-CGITempAct[[#This Row],[CGIAve]]),0)","v":0},{"$f":"SUMPRODUCT((RankNHDD[Month]=CGITempAct[[#This Row],[Month]])*(RankNHDD[Rank]=CGITempAct[[#This Row],[Rank]])*RankNHDD[CGINHDD])","v":0},{"$f":"YEAR(CGITempAct[[#This Row],[Date]])","v":2021},{"$f":"MONTH(CGITempAct[[#This Row],[Date]])","v":7},{"$f":"IF(CGITempAct[[#This Row],[Month]]=H342,I342+1,1)","v":8}]
[44397,86,67,{"$f":"AVERAGE(CGITempAct[[#This Row],[CGIHigh]:[CGILow]]\n)","v":76.5},{"$f":"IF(CGITempAct[[#This Row],[CGIAve]]<65,(65-CGITempAct[[#This Row],[CGIAve]]),0)","v":0},{"$f":"SUMPRODUCT((RankNHDD[Month]=CGITempAct[[#This Row],[Month]])*(RankNHDD[Rank]=CGITempAct[[#This Row],[Rank]])*RankNHDD[CGINHDD])","v":0},{"$f":"YEAR(CGITempAct[[#This Row],[Date]])","v":2021},{"$f":"MONTH(CGITempAct[[#This Row],[Date]])","v":7},{"$f":"IF(CGITempAct[[#This Row],[Month]]=H343,I343+1,1)","v":9}]
[44398,88,65,{"$f":"AVERAGE(CGITempAct[[#This Row],[CGIHigh]:[CGILow]]\n)","v":76.5},{"$f":"IF(CGITempAct[[#This Row],[CGIAve]]<65,(65-CGITempAct[[#This Row],[CGIAve]]),0)","v":0},{"$f":"SUMPRODUCT((RankNHDD[Month]=CGITempAct[[#This Row],[Month]])*(RankNHDD[Rank]=CGITempAct[[#This Row],[Rank]])*RankNHDD[CGINHDD])","v":0},{"$f":"YEAR(CGITempAct[[#This Row],[Date]])","v":2021},{"$f":"MONTH(CGITempAct[[#This Row],[Date]])","v":7},{"$f":"IF(CGITempAct[[#This Row],[Month]]=H344,I344+1,1)","v":10}]
[44387,85,69,{"$f":"AVERAGE(CGITempAct[[#This Row],[CGIHigh]:[CGILow]]\n)","v":77},{"$f":"IF(CGITempAct[[#This Row],[CGIAve]]<65,(65-CGITempAct[[#This Row],[CGIAve]]),0)","v":0},{"$f":"SUMPRODUCT((RankNHDD[Month]=CGITempAct[[#This Row],[Month]])*(RankNHDD[Rank]=CGITempAct[[#This Row],[Rank]])*RankNHDD[CGINHDD])","v":0},{"$f":"YEAR(CGITempAct[[#This Row],[Date]])","v":2021},{"$f":"MONTH(CGITempAct[[#This Row],[Date]])","v":7},{"$f":"IF(CGITempAct[[#This Row],[Month]]=H345,I345+1,1)","v":11}]
[44396,85,70,{"$f":"AVERAGE(CGITempAct[[#This Row],[CGIHigh]:[CGILow]]\n)","v":77.5},{"$f":"IF(CGITempAct[[#This Row],[CGIAve]]<65,(65-CGITempAct[[#This Row],[CGIAve]]),0)","v":0},{"$f":"SUMPRODUCT((RankNHDD[Month]=CGITempAct[[#This Row],[Month]])*(RankNHDD[Rank]=CGITempAct[[#This Row],[Rank]])*RankNHDD[CGINHDD])","v":0},{"$f":"YEAR(CGITempAct[[#This Row],[Date]])","v":2021},{"$f":"MONTH(CGITempAct[[#This Row],[Date]])","v":7},{"$f":"IF(CGITempAct[[#This Row],[Month]]=H346,I346+1,1)","v":12}]
[44378,84,72,{"$f":"AVERAGE(CGITempAct[[#This Row],[CGIHigh]:[CGILow]]\n)","v":78},{"$f":"IF(CGITempAct[[#This Row],[CGIAve]]<65,(65-CGITempAct[[#This Row],[CGIAve]]),0)","v":0},{"$f":"SUMPRODUCT((RankNHDD[Month]=CGITempAct[[#This Row],[Month]])*(RankNHDD[Rank]=CGITempAct[[#This Row],[Rank]])*RankNHDD[CGINHDD])","v":0},{"$f":"YEAR(CGITempAct[[#This Row],[Date]])","v":2021},{"$f":"MONTH(CGITempAct[[#This Row],[Date]])","v":7},{"$f":"IF(CGITempAct[[#This Row],[Month]]=H347,I347+1,1)","v":13}]
[44391,88,68,{"$f":"AVERAGE(CGITempAct[[#This Row],[CGIHigh]:[CGILow]]\n)","v":78},{"$f":"IF(CGITempAct[[#This Row],[CGIAve]]<65,(65-CGITempAct[[#This Row],[CGIAve]]),0)","v":0},{"$f":"SUMPRODUCT((RankNHDD[Month]=CGITempAct[[#This Row],[Month]])*(RankNHDD[Rank]=CGITempAct[[#This Row],[Rank]])*RankNHDD[CGINHDD])","v":0},{"$f":"YEAR(CGITempAct[[#This Row],[Date]])","v":2021},{"$f":"MONTH(CGITempAct[[#This Row],[Date]])","v":7},{"$f":"IF(CGITempAct[[#This Row],[Month]]=H348,I348+1,1)","v":14}]
[44399,89,67,{"$f":"AVERAGE(CGITempAct[[#This Row],[CGIHigh]:[CGILow]]\n)","v":78},{"$f":"IF(CGITempAct[[#This Row],[CGIAve]]<65,(65-CGITempAct[[#This Row],[CGIAve]]),0)","v":0},{"$f":"SUMPRODUCT((RankNHDD[Month]=CGITempAct[[#This Row],[Month]])*(RankNHDD[Rank]=CGITempAct[[#This Row],[Rank]])*RankNHDD[CGINHDD])","v":0},{"$f":"YEAR(CGITempAct[[#This Row],[Date]])","v":2021},{"$f":"MONTH(CGITempAct[[#This Row],[Date]])","v":7},{"$f":"IF(CGITempAct[[#This Row],[Month]]=H349,I349+1,1)","v":15}]
[44393,85,72,{"$f":"AVERAGE(CGITempAct[[#This Row],[CGIHigh]:[CGILow]]\n)","v":78.5},{"$f":"IF(CGITempAct[[#This Row],[CGIAve]]<65,(65-CGITempAct[[#This Row],[CGIAve]]),0)","v":0},{"$f":"SUMPRODUCT((RankNHDD[Month]=CGITempAct[[#This Row],[Month]])*(RankNHDD[Rank]=CGITempAct[[#This Row],[Rank]])*RankNHDD[CGINHDD])","v":0},{"$f":"YEAR(CGITempAct[[#This Row],[Date]])","v":2021},{"$f":"MONTH(CGITempAct[[#This Row],[Date]])","v":7},{"$f":"IF(CGITempAct[[#This Row],[Month]]=H350,I350+1,1)","v":16}]
[44383,91,67,{"$f":"AVERAGE(CGITempAct[[#This Row],[CGIHigh]:[CGILow]]\n)","v":79},{"$f":"IF(CGITempAct[[#This Row],[CGIAve]]<65,(65-CGITempAct[[#This Row],[CGIAve]]),0)","v":0},{"$f":"SUMPRODUCT((RankNHDD[Month]=CGITempAct[[#This Row],[Month]])*(RankNHDD[Rank]=CGITempAct[[#This Row],[Rank]])*RankNHDD[CGINHDD])","v":0},{"$f":"YEAR(CGITempAct[[#This Row],[Date]])","v":2021},{"$f":"MONTH(CGITempAct[[#This Row],[Date]])","v":7},{"$f":"IF(CGITempAct[[#This Row],[Month]]=H351,I351+1,1)","v":17}]
[44384,89,69,{"$f":"AVERAGE(CGITempAct[[#This Row],[CGIHigh]:[CGILow]]\n)","v":79},{"$f":"IF(CGITempAct[[#This Row],[CGIAve]]<65,(65-CGITempAct[[#This Row],[CGIAve]]),0)","v":0},{"$f":"SUMPRODUCT((RankNHDD[Month]=CGITempAct[[#This Row],[Month]])*(RankNHDD[Rank]=CGITempAct[[#This Row],[Rank]])*RankNHDD[CGINHDD])","v":0},{"$f":"YEAR(CGITempAct[[#This Row],[Date]])","v":2021},{"$f":"MONTH(CGITempAct[[#This Row],[Date]])","v":7},{"$f":"IF(CGITempAct[[#This Row],[Month]]=H352,I352+1,1)","v":18}]
[44400,89,69,{"$f":"AVERAGE(CGITempAct[[#This Row],[CGIHigh]:[CGILow]]\n)","v":79},{"$f":"IF(CGITempAct[[#This Row],[CGIAve]]<65,(65-CGITempAct[[#This Row],[CGIAve]]),0)","v":0},{"$f":"SUMPRODUCT((RankNHDD[Month]=CGITempAct[[#This Row],[Month]])*(RankNHDD[Rank]=CGITempAct[[#This Row],[Rank]])*RankNHDD[CGINHDD])","v":0},{"$f":"YEAR(CGITempAct[[#This Row],[Date]])","v":2021},{"$f":"MONTH(CGITempAct[[#This Row],[Date]])","v":7},{"$f":"IF(CGITempAct[[#This Row],[Month]]=H353,I353+1,1)","v":19}]
[44408,87,71,{"$f":"AVERAGE(CGITempAct[[#This Row],[CGIHigh]:[CGILow]]\n)","v":79},{"$f":"IF(CGITempAct[[#This Row],[CGIAve]]<65,(65-CGITempAct[[#This Row],[CGIAve]]),0)","v":0},{"$f":"SUMPRODUCT((RankNHDD[Month]=CGITempAct[[#This Row],[Month]])*(RankNHDD[Rank]=CGITempAct[[#This Row],[Rank]])*RankNHDD[CGINHDD])","v":0},{"$f":"YEAR(CGITempAct[[#This Row],[Date]])","v":2021},{"$f":"MONTH(CGITempAct[[#This Row],[Date]])","v":7},{"$f":"IF(CGITempAct[[#This Row],[Month]]=H354,I354+1,1)","v":20}]
[44404,92,68,{"$f":"AVERAGE(CGITempAct[[#This Row],[CGIHigh]:[CGILow]]\n)","v":80},{"$f":"IF(CGITempAct[[#This Row],[CGIAve]]<65,(65-CGITempAct[[#This Row],[CGIAve]]),0)","v":0},{"$f":"SUMPRODUCT((RankNHDD[Month]=CGITempAct[[#This Row],[Month]])*(RankNHDD[Rank]=CGITempAct[[#This Row],[Rank]])*RankNHDD[CGINHDD])","v":0},{"$f":"YEAR(CGITempAct[[#This Row],[Date]])","v":2021},{"$f":"MONTH(CGITempAct[[#This Row],[Date]])","v":7},{"$f":"IF(CGITempAct[[#This Row],[Month]]=H355,I355+1,1)","v":21}]
[44405,92,68,{"$f":"AVERAGE(CGITempAct[[#This Row],[CGIHigh]:[CGILow]]\n)","v":80},{"$f":"IF(CGITempAct[[#This Row],[CGIAve]]<65,(65-CGITempAct[[#This Row],[CGIAve]]),0)","v":0},{"$f":"SUMPRODUCT((RankNHDD[Month]=CGITempAct[[#This Row],[Month]])*(RankNHDD[Rank]=CGITempAct[[#This Row],[Rank]])*RankNHDD[CGINHDD])","v":0},{"$f":"YEAR(CGITempAct[[#This Row],[Date]])","v":2021},{"$f":"MONTH(CGITempAct[[#This Row],[Date]])","v":7},{"$f":"IF(CGITempAct[[#This Row],[Month]]=H356,I356+1,1)","v":22}]
[44394,88,73,{"$f":"AVERAGE(CGITempAct[[#This Row],[CGIHigh]:[CGILow]]\n)","v":80.5},{"$f":"IF(CGITempAct[[#This Row],[CGIAve]]<65,(65-CGITempAct[[#This Row],[CGIAve]]),0)","v":0},{"$f":"SUMPRODUCT((RankNHDD[Month]=CGITempAct[[#This Row],[Month]])*(RankNHDD[Rank]=CGITempAct[[#This Row],[Rank]])*RankNHDD[CGINHDD])","v":0},{"$f":"YEAR(CGITempAct[[#This Row],[Date]])","v":2021},{"$f":"MONTH(CGITempAct[[#This Row],[Date]])","v":7},{"$f":"IF(CGITempAct[[#This Row],[Month]]=H357,I357+1,1)","v":23}]
[44385,90,72,{"$f":"AVERAGE(CGITempAct[[#This Row],[CGIHigh]:[CGILow]]\n)","v":81},{"$f":"IF(CGITempAct[[#This Row],[CGIAve]]<65,(65-CGITempAct[[#This Row],[CGIAve]]),0)","v":0},{"$f":"SUMPRODUCT((RankNHDD[Month]=CGITempAct[[#This Row],[Month]])*(RankNHDD[Rank]=CGITempAct[[#This Row],[Rank]])*RankNHDD[CGINHDD])","v":0},{"$f":"YEAR(CGITempAct[[#This Row],[Date]])","v":2021},{"$f":"MONTH(CGITempAct[[#This Row],[Date]])","v":7},{"$f":"IF(CGITempAct[[#This Row],[Month]]=H358,I358+1,1)","v":24}]
[44386,91,71,{"$f":"AVERAGE(CGITempAct[[#This Row],[CGIHigh]:[CGILow]]\n)","v":81},{"$f":"IF(CGITempAct[[#This Row],[CGIAve]]<65,(65-CGITempAct[[#This Row],[CGIAve]]),0)","v":0},{"$f":"SUMPRODUCT((RankNHDD[Month]=CGITempAct[[#This Row],[Month]])*(RankNHDD[Rank]=CGITempAct[[#This Row],[Rank]])*RankNHDD[CGINHDD])","v":0},{"$f":"YEAR(CGITempAct[[#This Row],[Date]])","v":2021},{"$f":"MONTH(CGITempAct[[#This Row],[Date]])","v":7},{"$f":"IF(CGITempAct[[#This Row],[Month]]=H359,I359+1,1)","v":25}]
[44392,90,73,{"$f":"AVERAGE(CGITempAct[[#This Row],[CGIHigh]:[CGILow]]\n)","v":81.5},{"$f":"IF(CGITempAct[[#This Row],[CGIAve]]<65,(65-CGITempAct[[#This Row],[CGIAve]]),0)","v":0},{"$f":"SUMPRODUCT((RankNHDD[Month]=CGITempAct[[#This Row],[Month]])*(RankNHDD[Rank]=CGITempAct[[#This Row],[Rank]])*RankNHDD[CGINHDD])","v":0},{"$f":"YEAR(CGITempAct[[#This Row],[Date]])","v":2021},{"$f":"MONTH(CGITempAct[[#This Row],[Date]])","v":7},{"$f":"IF(CGITempAct[[#This Row],[Month]]=H360,I360+1,1)","v":26}]
[44403,93,71,{"$f":"AVERAGE(CGITempAct[[#This Row],[CGIHigh]:[CGILow]]\n)","v":82},{"$f":"IF(CGITempAct[[#This Row],[CGIAve]]<65,(65-CGITempAct[[#This Row],[CGIAve]]),0)","v":0},{"$f":"SUMPRODUCT((RankNHDD[Month]=CGITempAct[[#This Row],[Month]])*(RankNHDD[Rank]=CGITempAct[[#This Row],[Rank]])*RankNHDD[CGINHDD])","v":0},{"$f":"YEAR(CGITempAct[[#This Row],[Date]])","v":2021},{"$f":"MONTH(CGITempAct[[#This Row],[Date]])","v":7},{"$f":"IF(CGITempAct[[#This Row],[Month]]=H361,I361+1,1)","v":27}]
[44407,90,75,{"$f":"AVERAGE(CGITempAct[[#This Row],[CGIHigh]:[CGILow]]\n)","v":82.5},{"$f":"IF(CGITempAct[[#This Row],[CGIAve]]<65,(65-CGITempAct[[#This Row],[CGIAve]]),0)","v":0},{"$f":"SUMPRODUCT((RankNHDD[Month]=CGITempAct[[#This Row],[Month]])*(RankNHDD[Rank]=CGITempAct[[#This Row],[Rank]])*RankNHDD[CGINHDD])","v":0},{"$f":"YEAR(CGITempAct[[#This Row],[Date]])","v":2021},{"$f":"MONTH(CGITempAct[[#This Row],[Date]])","v":7},{"$f":"IF(CGITempAct[[#This Row],[Month]]=H362,I362+1,1)","v":28}]
[44401,93,73,{"$f":"AVERAGE(CGITempAct[[#This Row],[CGIHigh]:[CGILow]]\n)","v":83},{"$f":"IF(CGITempAct[[#This Row],[CGIAve]]<65,(65-CGITempAct[[#This Row],[CGIAve]]),0)","v":0},{"$f":"SUMPRODUCT((RankNHDD[Month]=CGITempAct[[#This Row],[Month]])*(RankNHDD[Rank]=CGITempAct[[#This Row],[Rank]])*RankNHDD[CGINHDD])","v":0},{"$f":"YEAR(CGITempAct[[#This Row],[Date]])","v":2021},{"$f":"MONTH(CGITempAct[[#This Row],[Date]])","v":7},{"$f":"IF(CGITempAct[[#This Row],[Month]]=H363,I363+1,1)","v":29}]
[44406,95,72,{"$f":"AVERAGE(CGITempAct[[#This Row],[CGIHigh]:[CGILow]]\n)","v":83.5},{"$f":"IF(CGITempAct[[#This Row],[CGIAve]]<65,(65-CGITempAct[[#This Row],[CGIAve]]),0)","v":0},{"$f":"SUMPRODUCT((RankNHDD[Month]=CGITempAct[[#This Row],[Month]])*(RankNHDD[Rank]=CGITempAct[[#This Row],[Rank]])*RankNHDD[CGINHDD])","v":0},{"$f":"YEAR(CGITempAct[[#This Row],[Date]])","v":2021},{"$f":"MONTH(CGITempAct[[#This Row],[Date]])","v":7},{"$f":"IF(CGITempAct[[#This Row],[Month]]=H364,I364+1,1)","v":30}]
[44402,95,74,{"$f":"AVERAGE(CGITempAct[[#This Row],[CGIHigh]:[CGILow]]\n)","v":84.5},{"$f":"IF(CGITempAct[[#This Row],[CGIAve]]<65,(65-CGITempAct[[#This Row],[CGIAve]]),0)","v":0},{"$f":"SUMPRODUCT((RankNHDD[Month]=CGITempAct[[#This Row],[Month]])*(RankNHDD[Rank]=CGITempAct[[#This Row],[Rank]])*RankNHDD[CGINHDD])","v":0},{"$f":"YEAR(CGITempAct[[#This Row],[Date]])","v":2021},{"$f":"MONTH(CGITempAct[[#This Row],[Date]])","v":7},{"$f":"IF(CGITempAct[[#This Row],[Month]]=H365,I365+1,1)","v":31}]
[44413,85,56,{"$f":"AVERAGE(CGITempAct[[#This Row],[CGIHigh]:[CGILow]]\n)","v":70.5},{"$f":"IF(CGITempAct[[#This Row],[CGIAve]]<65,(65-CGITempAct[[#This Row],[CGIAve]]),0)","v":0},{"$f":"SUMPRODUCT((RankNHDD[Month]=CGITempAct[[#This Row],[Month]])*(RankNHDD[Rank]=CGITempAct[[#This Row],[Rank]])*RankNHDD[CGINHDD])","v":0.9},{"$f":"YEAR(CGITempAct[[#This Row],[Date]])","v":2021},{"$f":"MONTH(CGITempAct[[#This Row],[Date]])","v":8},{"$f":"IF(CGITempAct[[#This Row],[Month]]=H366,I366+1,1)","v":1}]
[44411,84,59,{"$f":"AVERAGE(CGITempAct[[#This Row],[CGIHigh]:[CGILow]]\n)","v":71.5},{"$f":"IF(CGITempAct[[#This Row],[CGIAve]]<65,(65-CGITempAct[[#This Row],[CGIAve]]),0)","v":0},{"$f":"SUMPRODUCT((RankNHDD[Month]=CGITempAct[[#This Row],[Month]])*(RankNHDD[Rank]=CGITempAct[[#This Row],[Rank]])*RankNHDD[CGINHDD])","v":0},{"$f":"YEAR(CGITempAct[[#This Row],[Date]])","v":2021},{"$f":"MONTH(CGITempAct[[#This Row],[Date]])","v":8},{"$f":"IF(CGITempAct[[#This Row],[Month]]=H367,I367+1,1)","v":2}]
[44412,85,58,{"$f":"AVERAGE(CGITempAct[[#This Row],[CGIHigh]:[CGILow]]\n)","v":71.5},{"$f":"IF(CGITempAct[[#This Row],[CGIAve]]<65,(65-CGITempAct[[#This Row],[CGIAve]]),0)","v":0},{"$f":"SUMPRODUCT((RankNHDD[Month]=CGITempAct[[#This Row],[Month]])*(RankNHDD[Rank]=CGITempAct[[#This Row],[Rank]])*RankNHDD[CGINHDD])","v":0},{"$f":"YEAR(CGITempAct[[#This Row],[Date]])","v":2021},{"$f":"MONTH(CGITempAct[[#This Row],[Date]])","v":8},{"$f":"IF(CGITempAct[[#This Row],[Month]]=H368,I368+1,1)","v":3}]
[44426,79,67,{"$f":"AVERAGE(CGITempAct[[#This Row],[CGIHigh]:[CGILow]]\n)","v":73},{"$f":"IF(CGITempAct[[#This Row],[CGIAve]]<65,(65-CGITempAct[[#This Row],[CGIAve]]),0)","v":0},{"$f":"SUMPRODUCT((RankNHDD[Month]=CGITempAct[[#This Row],[Month]])*(RankNHDD[Rank]=CGITempAct[[#This Row],[Rank]])*RankNHDD[CGINHDD])","v":0},{"$f":"YEAR(CGITempAct[[#This Row],[Date]])","v":2021},{"$f":"MONTH(CGITempAct[[#This Row],[Date]])","v":8},{"$f":"IF(CGITempAct[[#This Row],[Month]]=H369,I369+1,1)","v":4}]
[44410,84,63,{"$f":"AVERAGE(CGITempAct[[#This Row],[CGIHigh]:[CGILow]]\n)","v":73.5},{"$f":"IF(CGITempAct[[#This Row],[CGIAve]]<65,(65-CGITempAct[[#This Row],[CGIAve]]),0)","v":0},{"$f":"SUMPRODUCT((RankNHDD[Month]=CGITempAct[[#This Row],[Month]])*(RankNHDD[Rank]=CGITempAct[[#This Row],[Rank]])*RankNHDD[CGINHDD])","v":0},{"$f":"YEAR(CGITempAct[[#This Row],[Date]])","v":2021},{"$f":"MONTH(CGITempAct[[#This Row],[Date]])","v":8},{"$f":"IF(CGITempAct[[#This Row],[Month]]=H370,I370+1,1)","v":5}]
[44414,86,61,{"$f":"AVERAGE(CGITempAct[[#This Row],[CGIHigh]:[CGILow]]\n)","v":73.5},{"$f":"IF(CGITempAct[[#This Row],[CGIAve]]<65,(65-CGITempAct[[#This Row],[CGIAve]]),0)","v":0},{"$f":"SUMPRODUCT((RankNHDD[Month]=CGITempAct[[#This Row],[Month]])*(RankNHDD[Rank]=CGITempAct[[#This Row],[Rank]])*RankNHDD[CGINHDD])","v":0},{"$f":"YEAR(CGITempAct[[#This Row],[Date]])","v":2021},{"$f":"MONTH(CGITempAct[[#This Row],[Date]])","v":8},{"$f":"IF(CGITempAct[[#This Row],[Month]]=H371,I371+1,1)","v":6}]
[44423,85,64,{"$f":"AVERAGE(CGITempAct[[#This Row],[CGIHigh]:[CGILow]]\n)","v":74.5},{"$f":"IF(CGITempAct[[#This Row],[CGIAve]]<65,(65-CGITempAct[[#This Row],[CGIAve]]),0)","v":0},{"$f":"SUMPRODUCT((RankNHDD[Month]=CGITempAct[[#This Row],[Month]])*(RankNHDD[Rank]=CGITempAct[[#This Row],[Rank]])*RankNHDD[CGINHDD])","v":0},{"$f":"YEAR(CGITempAct[[#This Row],[Date]])","v":2021},{"$f":"MONTH(CGITempAct[[#This Row],[Date]])","v":8},{"$f":"IF(CGITempAct[[#This Row],[Month]]=H372,I372+1,1)","v":7}]
[44424,87,65,{"$f":"AVERAGE(CGITempAct[[#This Row],[CGIHigh]:[CGILow]]\n)","v":76},{"$f":"IF(CGITempAct[[#This Row],[CGIAve]]<65,(65-CGITempAct[[#This Row],[CGIAve]]),0)","v":0},{"$f":"SUMPRODUCT((RankNHDD[Month]=CGITempAct[[#This Row],[Month]])*(RankNHDD[Rank]=CGITempAct[[#This Row],[Rank]])*RankNHDD[CGINHDD])","v":0},{"$f":"YEAR(CGITempAct[[#This Row],[Date]])","v":2021},{"$f":"MONTH(CGITempAct[[#This Row],[Date]])","v":8},{"$f":"IF(CGITempAct[[#This Row],[Month]]=H373,I373+1,1)","v":8}]
[44425,89,63,{"$f":"AVERAGE(CGITempAct[[#This Row],[CGIHigh]:[CGILow]]\n)","v":76},{"$f":"IF(CGITempAct[[#This Row],[CGIAve]]<65,(65-CGITempAct[[#This Row],[CGIAve]]),0)","v":0},{"$f":"SUMPRODUCT((RankNHDD[Month]=CGITempAct[[#This Row],[Month]])*(RankNHDD[Rank]=CGITempAct[[#This Row],[Rank]])*RankNHDD[CGINHDD])","v":0},{"$f":"YEAR(CGITempAct[[#This Row],[Date]])","v":2021},{"$f":"MONTH(CGITempAct[[#This Row],[Date]])","v":8},{"$f":"IF(CGITempAct[[#This Row],[Month]]=H374,I374+1,1)","v":9}]
[44415,88,65,{"$f":"AVERAGE(CGITempAct[[#This Row],[CGIHigh]:[CGILow]]\n)","v":76.5},{"$f":"IF(CGITempAct[[#This Row],[CGIAve]]<65,(65-CGITempAct[[#This Row],[CGIAve]]),0)","v":0},{"$f":"SUMPRODUCT((RankNHDD[Month]=CGITempAct[[#This Row],[Month]])*(RankNHDD[Rank]=CGITempAct[[#This Row],[Rank]])*RankNHDD[CGINHDD])","v":0},{"$f":"YEAR(CGITempAct[[#This Row],[Date]])","v":2021},{"$f":"MONTH(CGITempAct[[#This Row],[Date]])","v":8},{"$f":"IF(CGITempAct[[#This Row],[Month]]=H375,I375+1,1)","v":10}]
[44421,82,71,{"$f":"AVERAGE(CGITempAct[[#This Row],[CGIHigh]:[CGILow]]\n)","v":76.5},{"$f":"IF(CGITempAct[[#This Row],[CGIAve]]<65,(65-CGITempAct[[#This Row],[CGIAve]]),0)","v":0},{"$f":"SUMPRODUCT((RankNHDD[Month]=CGITempAct[[#This Row],[Month]])*(RankNHDD[Rank]=CGITempAct[[#This Row],[Rank]])*RankNHDD[CGINHDD])","v":0},{"$f":"YEAR(CGITempAct[[#This Row],[Date]])","v":2021},{"$f":"MONTH(CGITempAct[[#This Row],[Date]])","v":8},{"$f":"IF(CGITempAct[[#This Row],[Month]]=H376,I376+1,1)","v":11}]
[44428,82,71,{"$f":"AVERAGE(CGITempAct[[#This Row],[CGIHigh]:[CGILow]]\n)","v":76.5},{"$f":"IF(CGITempAct[[#This Row],[CGIAve]]<65,(65-CGITempAct[[#This Row],[CGIAve]]),0)","v":0},{"$f":"SUMPRODUCT((RankNHDD[Month]=CGITempAct[[#This Row],[Month]])*(RankNHDD[Rank]=CGITempAct[[#This Row],[Rank]])*RankNHDD[CGINHDD])","v":0},{"$f":"YEAR(CGITempAct[[#This Row],[Date]])","v":2021},{"$f":"MONTH(CGITempAct[[#This Row],[Date]])","v":8},{"$f":"IF(CGITempAct[[#This Row],[Month]]=H377,I377+1,1)","v":12}]
[44422,88,66,{"$f":"AVERAGE(CGITempAct[[#This Row],[CGIHigh]:[CGILow]]\n)","v":77},{"$f":"IF(CGITempAct[[#This Row],[CGIAve]]<65,(65-CGITempAct[[#This Row],[CGIAve]]),0)","v":0},{"$f":"SUMPRODUCT((RankNHDD[Month]=CGITempAct[[#This Row],[Month]])*(RankNHDD[Rank]=CGITempAct[[#This Row],[Rank]])*RankNHDD[CGINHDD])","v":0},{"$f":"YEAR(CGITempAct[[#This Row],[Date]])","v":2021},{"$f":"MONTH(CGITempAct[[#This Row],[Date]])","v":8},{"$f":"IF(CGITempAct[[#This Row],[Month]]=H378,I378+1,1)","v":13}]
[44409,86,69,{"$f":"AVERAGE(CGITempAct[[#This Row],[CGIHigh]:[CGILow]]\n)","v":77.5},{"$f":"IF(CGITempAct[[#This Row],[CGIAve]]<65,(65-CGITempAct[[#This Row],[CGIAve]]),0)","v":0},{"$f":"SUMPRODUCT((RankNHDD[Month]=CGITempAct[[#This Row],[Month]])*(RankNHDD[Rank]=CGITempAct[[#This Row],[Rank]])*RankNHDD[CGINHDD])","v":0},{"$f":"YEAR(CGITempAct[[#This Row],[Date]])","v":2021},{"$f":"MONTH(CGITempAct[[#This Row],[Date]])","v":8},{"$f":"IF(CGITempAct[[#This Row],[Month]]=H379,I379+1,1)","v":14}]
[44439,86,70,{"$f":"AVERAGE(CGITempAct[[#This Row],[CGIHigh]:[CGILow]]\n)","v":78},{"$f":"IF(CGITempAct[[#This Row],[CGIAve]]<65,(65-CGITempAct[[#This Row],[CGIAve]]),0)","v":0},{"$f":"SUMPRODUCT((RankNHDD[Month]=CGITempAct[[#This Row],[Month]])*(RankNHDD[Rank]=CGITempAct[[#This Row],[Rank]])*RankNHDD[CGINHDD])","v":0},{"$f":"YEAR(CGITempAct[[#This Row],[Date]])","v":2021},{"$f":"MONTH(CGITempAct[[#This Row],[Date]])","v":8},{"$f":"IF(CGITempAct[[#This Row],[Month]]=H380,I380+1,1)","v":15}]
[44427,88,69,{"$f":"AVERAGE(CGITempAct[[#This Row],[CGIHigh]:[CGILow]]\n)","v":78.5},{"$f":"IF(CGITempAct[[#This Row],[CGIAve]]<65,(65-CGITempAct[[#This Row],[CGIAve]]),0)","v":0},{"$f":"SUMPRODUCT((RankNHDD[Month]=CGITempAct[[#This Row],[Month]])*(RankNHDD[Rank]=CGITempAct[[#This Row],[Rank]])*RankNHDD[CGINHDD])","v":0},{"$f":"YEAR(CGITempAct[[#This Row],[Date]])","v":2021},{"$f":"MONTH(CGITempAct[[#This Row],[Date]])","v":8},{"$f":"IF(CGITempAct[[#This Row],[Month]]=H381,I381+1,1)","v":16}]
[44416,89,69,{"$f":"AVERAGE(CGITempAct[[#This Row],[CGIHigh]:[CGILow]]\n)","v":79},{"$f":"IF(CGITempAct[[#This Row],[CGIAve]]<65,(65-CGITempAct[[#This Row],[CGIAve]]),0)","v":0},{"$f":"SUMPRODUCT((RankNHDD[Month]=CGITempAct[[#This Row],[Month]])*(RankNHDD[Rank]=CGITempAct[[#This Row],[Rank]])*RankNHDD[CGINHDD])","v":0},{"$f":"YEAR(CGITempAct[[#This Row],[Date]])","v":2021},{"$f":"MONTH(CGITempAct[[#This Row],[Date]])","v":8},{"$f":"IF(CGITempAct[[#This Row],[Month]]=H382,I382+1,1)","v":17}]
[44438,87,71,{"$f":"AVERAGE(CGITempAct[[#This Row],[CGIHigh]:[CGILow]]\n)","v":79},{"$f":"IF(CGITempAct[[#This Row],[CGIAve]]<65,(65-CGITempAct[[#This Row],[CGIAve]]),0)","v":0},{"$f":"SUMPRODUCT((RankNHDD[Month]=CGITempAct[[#This Row],[Month]])*(RankNHDD[Rank]=CGITempAct[[#This Row],[Rank]])*RankNHDD[CGINHDD])","v":0},{"$f":"YEAR(CGITempAct[[#This Row],[Date]])","v":2021},{"$f":"MONTH(CGITempAct[[#This Row],[Date]])","v":8},{"$f":"IF(CGITempAct[[#This Row],[Month]]=H383,I383+1,1)","v":18}]
[44431,92,68,{"$f":"AVERAGE(CGITempAct[[#This Row],[CGIHigh]:[CGILow]]\n)","v":80},{"$f":"IF(CGITempAct[[#This Row],[CGIAve]]<65,(65-CGITempAct[[#This Row],[CGIAve]]),0)","v":0},{"$f":"SUMPRODUCT((RankNHDD[Month]=CGITempAct[[#This Row],[Month]])*(RankNHDD[Rank]=CGITempAct[[#This Row],[Rank]])*RankNHDD[CGINHDD])","v":0},{"$f":"YEAR(CGITempAct[[#This Row],[Date]])","v":2021},{"$f":"MONTH(CGITempAct[[#This Row],[Date]])","v":8},{"$f":"IF(CGITempAct[[#This Row],[Month]]=H384,I384+1,1)","v":19}]
[44417,91,70,{"$f":"AVERAGE(CGITempAct[[#This Row],[CGIHigh]:[CGILow]]\n)","v":80.5},{"$f":"IF(CGITempAct[[#This Row],[CGIAve]]<65,(65-CGITempAct[[#This Row],[CGIAve]]),0)","v":0},{"$f":"SUMPRODUCT((RankNHDD[Month]=CGITempAct[[#This Row],[Month]])*(RankNHDD[Rank]=CGITempAct[[#This Row],[Rank]])*RankNHDD[CGINHDD])","v":0},{"$f":"YEAR(CGITempAct[[#This Row],[Date]])","v":2021},{"$f":"MONTH(CGITempAct[[#This Row],[Date]])","v":8},{"$f":"IF(CGITempAct[[#This Row],[Month]]=H385,I385+1,1)","v":20}]
[44430,92,69,{"$f":"AVERAGE(CGITempAct[[#This Row],[CGIHigh]:[CGILow]]\n)","v":80.5},{"$f":"IF(CGITempAct[[#This Row],[CGIAve]]<65,(65-CGITempAct[[#This Row],[CGIAve]]),0)","v":0},{"$f":"SUMPRODUCT((RankNHDD[Month]=CGITempAct[[#This Row],[Month]])*(RankNHDD[Rank]=CGITempAct[[#This Row],[Rank]])*RankNHDD[CGINHDD])","v":0},{"$f":"YEAR(CGITempAct[[#This Row],[Date]])","v":2021},{"$f":"MONTH(CGITempAct[[#This Row],[Date]])","v":8},{"$f":"IF(CGITempAct[[#This Row],[Month]]=H386,I386+1,1)","v":21}]
[44429,90,72,{"$f":"AVERAGE(CGITempAct[[#This Row],[CGIHigh]:[CGILow]]\n)","v":81},{"$f":"IF(CGITempAct[[#This Row],[CGIAve]]<65,(65-CGITempAct[[#This Row],[CGIAve]]),0)","v":0},{"$f":"SUMPRODUCT((RankNHDD[Month]=CGITempAct[[#This Row],[Month]])*(RankNHDD[Rank]=CGITempAct[[#This Row],[Rank]])*RankNHDD[CGINHDD])","v":0},{"$f":"YEAR(CGITempAct[[#This Row],[Date]])","v":2021},{"$f":"MONTH(CGITempAct[[#This Row],[Date]])","v":8},{"$f":"IF(CGITempAct[[#This Row],[Month]]=H387,I387+1,1)","v":22}]
[44436,91,71,{"$f":"AVERAGE(CGITempAct[[#This Row],[CGIHigh]:[CGILow]]\n)","v":81},{"$f":"IF(CGITempAct[[#This Row],[CGIAve]]<65,(65-CGITempAct[[#This Row],[CGIAve]]),0)","v":0},{"$f":"SUMPRODUCT((RankNHDD[Month]=CGITempAct[[#This Row],[Month]])*(RankNHDD[Rank]=CGITempAct[[#This Row],[Rank]])*RankNHDD[CGINHDD])","v":0},{"$f":"YEAR(CGITempAct[[#This Row],[Date]])","v":2021},{"$f":"MONTH(CGITempAct[[#This Row],[Date]])","v":8},{"$f":"IF(CGITempAct[[#This Row],[Month]]=H388,I388+1,1)","v":23}]
[44420,92,71,{"$f":"AVERAGE(CGITempAct[[#This Row],[CGIHigh]:[CGILow]]\n)","v":81.5},{"$f":"IF(CGITempAct[[#This Row],[CGIAve]]<65,(65-CGITempAct[[#This Row],[CGIAve]]),0)","v":0},{"$f":"SUMPRODUCT((RankNHDD[Month]=CGITempAct[[#This Row],[Month]])*(RankNHDD[Rank]=CGITempAct[[#This Row],[Rank]])*RankNHDD[CGINHDD])","v":0},{"$f":"YEAR(CGITempAct[[#This Row],[Date]])","v":2021},{"$f":"MONTH(CGITempAct[[#This Row],[Date]])","v":8},{"$f":"IF(CGITempAct[[#This Row],[Month]]=H389,I389+1,1)","v":24}]
[44432,93,71,{"$f":"AVERAGE(CGITempAct[[#This Row],[CGIHigh]:[CGILow]]\n)","v":82},{"$f":"IF(CGITempAct[[#This Row],[CGIAve]]<65,(65-CGITempAct[[#This Row],[CGIAve]]),0)","v":0},{"$f":"SUMPRODUCT((RankNHDD[Month]=CGITempAct[[#This Row],[Month]])*(RankNHDD[Rank]=CGITempAct[[#This Row],[Rank]])*RankNHDD[CGINHDD])","v":0},{"$f":"YEAR(CGITempAct[[#This Row],[Date]])","v":2021},{"$f":"MONTH(CGITempAct[[#This Row],[Date]])","v":8},{"$f":"IF(CGITempAct[[#This Row],[Month]]=H390,I390+1,1)","v":25}]
[44433,93,71,{"$f":"AVERAGE(CGITempAct[[#This Row],[CGIHigh]:[CGILow]]\n)","v":82},{"$f":"IF(CGITempAct[[#This Row],[CGIAve]]<65,(65-CGITempAct[[#This Row],[CGIAve]]),0)","v":0},{"$f":"SUMPRODUCT((RankNHDD[Month]=CGITempAct[[#This Row],[Month]])*(RankNHDD[Rank]=CGITempAct[[#This Row],[Rank]])*RankNHDD[CGINHDD])","v":0},{"$f":"YEAR(CGITempAct[[#This Row],[Date]])","v":2021},{"$f":"MONTH(CGITempAct[[#This Row],[Date]])","v":8},{"$f":"IF(CGITempAct[[#This Row],[Month]]=H391,I391+1,1)","v":26}]
[44434,94,70,{"$f":"AVERAGE(CGITempAct[[#This Row],[CGIHigh]:[CGILow]]\n)","v":82},{"$f":"IF(CGITempAct[[#This Row],[CGIAve]]<65,(65-CGITempAct[[#This Row],[CGIAve]]),0)","v":0},{"$f":"SUMPRODUCT((RankNHDD[Month]=CGITempAct[[#This Row],[Month]])*(RankNHDD[Rank]=CGITempAct[[#This Row],[Rank]])*RankNHDD[CGINHDD])","v":0},{"$f":"YEAR(CGITempAct[[#This Row],[Date]])","v":2021},{"$f":"MONTH(CGITempAct[[#This Row],[Date]])","v":8},{"$f":"IF(CGITempAct[[#This Row],[Month]]=H392,I392+1,1)","v":27}]
[44435,91,73,{"$f":"AVERAGE(CGITempAct[[#This Row],[CGIHigh]:[CGILow]]\n)","v":82},{"$f":"IF(CGITempAct[[#This Row],[CGIAve]]<65,(65-CGITempAct[[#This Row],[CGIAve]]),0)","v":0},{"$f":"SUMPRODUCT((RankNHDD[Month]=CGITempAct[[#This Row],[Month]])*(RankNHDD[Rank]=CGITempAct[[#This Row],[Rank]])*RankNHDD[CGINHDD])","v":0},{"$f":"YEAR(CGITempAct[[#This Row],[Date]])","v":2021},{"$f":"MONTH(CGITempAct[[#This Row],[Date]])","v":8},{"$f":"IF(CGITempAct[[#This Row],[Month]]=H393,I393+1,1)","v":28}]
[44437,92,73,{"$f":"AVERAGE(CGITempAct[[#This Row],[CGIHigh]:[CGILow]]\n)","v":82.5},{"$f":"IF(CGITempAct[[#This Row],[CGIAve]]<65,(65-CGITempAct[[#This Row],[CGIAve]]),0)","v":0},{"$f":"SUMPRODUCT((RankNHDD[Month]=CGITempAct[[#This Row],[Month]])*(RankNHDD[Rank]=CGITempAct[[#This Row],[Rank]])*RankNHDD[CGINHDD])","v":0},{"$f":"YEAR(CGITempAct[[#This Row],[Date]])","v":2021},{"$f":"MONTH(CGITempAct[[#This Row],[Date]])","v":8},{"$f":"IF(CGITempAct[[#This Row],[Month]]=H394,I394+1,1)","v":29}]
[44419,92,74,{"$f":"AVERAGE(CGITempAct[[#This Row],[CGIHigh]:[CGILow]]\n)","v":83},{"$f":"IF(CGITempAct[[#This Row],[CGIAve]]<65,(65-CGITempAct[[#This Row],[CGIAve]]),0)","v":0},{"$f":"SUMPRODUCT((RankNHDD[Month]=CGITempAct[[#This Row],[Month]])*(RankNHDD[Rank]=CGITempAct[[#This Row],[Rank]])*RankNHDD[CGINHDD])","v":0},{"$f":"YEAR(CGITempAct[[#This Row],[Date]])","v":2021},{"$f":"MONTH(CGITempAct[[#This Row],[Date]])","v":8},{"$f":"IF(CGITempAct[[#This Row],[Month]]=H395,I395+1,1)","v":30}]
[44418,92,77,{"$f":"AVERAGE(CGITempAct[[#This Row],[CGIHigh]:[CGILow]]\n)","v":84.5},{"$f":"IF(CGITempAct[[#This Row],[CGIAve]]<65,(65-CGITempAct[[#This Row],[CGIAve]]),0)","v":0},{"$f":"SUMPRODUCT((RankNHDD[Month]=CGITempAct[[#This Row],[Month]])*(RankNHDD[Rank]=CGITempAct[[#This Row],[Rank]])*RankNHDD[CGINHDD])","v":0},{"$f":"YEAR(CGITempAct[[#This Row],[Date]])","v":2021},{"$f":"MONTH(CGITempAct[[#This Row],[Date]])","v":8},{"$f":"IF(CGITempAct[[#This Row],[Month]]=H396,I396+1,1)","v":31}]
[44462,75,42,{"$f":"AVERAGE(CGITempAct[[#This Row],[CGIHigh]:[CGILow]]\n)","v":58.5},{"$f":"IF(CGITempAct[[#This Row],[CGIAve]]<65,(65-CGITempAct[[#This Row],[CGIAve]]),0)","v":6.5},{"$f":"SUMPRODUCT((RankNHDD[Month]=CGITempAct[[#This Row],[Month]])*(RankNHDD[Rank]=CGITempAct[[#This Row],[Rank]])*RankNHDD[CGINHDD])","v":12.6},{"$f":"YEAR(CGITempAct[[#This Row],[Date]])","v":2021},{"$f":"MONTH(CGITempAct[[#This Row],[Date]])","v":9},{"$f":"IF(CGITempAct[[#This Row],[Month]]=H397,I397+1,1)","v":1}]
[44461,74,48,{"$f":"AVERAGE(CGITempAct[[#This Row],[CGIHigh]:[CGILow]]\n)","v":61},{"$f":"IF(CGITempAct[[#This Row],[CGIAve]]<65,(65-CGITempAct[[#This Row],[CGIAve]]),0)","v":4},{"$f":"SUMPRODUCT((RankNHDD[Month]=CGITempAct[[#This Row],[Month]])*(RankNHDD[Rank]=CGITempAct[[#This Row],[Rank]])*RankNHDD[CGINHDD])","v":8.9},{"$f":"YEAR(CGITempAct[[#This Row],[Date]])","v":2021},{"$f":"MONTH(CGITempAct[[#This Row],[Date]])","v":9},{"$f":"IF(CGITempAct[[#This Row],[Month]]=H398,I398+1,1)","v":2}]
[44464,77,47,{"$f":"AVERAGE(CGITempAct[[#This Row],[CGIHigh]:[CGILow]]\n)","v":62},{"$f":"IF(CGITempAct[[#This Row],[CGIAve]]<65,(65-CGITempAct[[#This Row],[CGIAve]]),0)","v":3},{"$f":"SUMPRODUCT((RankNHDD[Month]=CGITempAct[[#This Row],[Month]])*(RankNHDD[Rank]=CGITempAct[[#This Row],[Rank]])*RankNHDD[CGINHDD])","v":6.7},{"$f":"YEAR(CGITempAct[[#This Row],[Date]])","v":2021},{"$f":"MONTH(CGITempAct[[#This Row],[Date]])","v":9},{"$f":"IF(CGITempAct[[#This Row],[Month]]=H399,I399+1,1)","v":3}]
[44463,81,45,{"$f":"AVERAGE(CGITempAct[[#This Row],[CGIHigh]:[CGILow]]\n)","v":63},{"$f":"IF(CGITempAct[[#This Row],[CGIAve]]<65,(65-CGITempAct[[#This Row],[CGIAve]]),0)","v":2},{"$f":"SUMPRODUCT((RankNHDD[Month]=CGITempAct[[#This Row],[Month]])*(RankNHDD[Rank]=CGITempAct[[#This Row],[Rank]])*RankNHDD[CGINHDD])","v":5.2},{"$f":"YEAR(CGITempAct[[#This Row],[Date]])","v":2021},{"$f":"MONTH(CGITempAct[[#This Row],[Date]])","v":9},{"$f":"IF(CGITempAct[[#This Row],[Month]]=H400,I400+1,1)","v":4}]
[44465,84,44,{"$f":"AVERAGE(CGITempAct[[#This Row],[CGIHigh]:[CGILow]]\n)","v":64},{"$f":"IF(CGITempAct[[#This Row],[CGIAve]]<65,(65-CGITempAct[[#This Row],[CGIAve]]),0)","v":1},{"$f":"SUMPRODUCT((RankNHDD[Month]=CGITempAct[[#This Row],[Month]])*(RankNHDD[Rank]=CGITempAct[[#This Row],[Rank]])*RankNHDD[CGINHDD])","v":3.5},{"$f":"YEAR(CGITempAct[[#This Row],[Date]])","v":2021},{"$f":"MONTH(CGITempAct[[#This Row],[Date]])","v":9},{"$f":"IF(CGITempAct[[#This Row],[Month]]=H401,I401+1,1)","v":5}]
[44448,83,53,{"$f":"AVERAGE(CGITempAct[[#This Row],[CGIHigh]:[CGILow]]\n)","v":68},{"$f":"IF(CGITempAct[[#This Row],[CGIAve]]<65,(65-CGITempAct[[#This Row],[CGIAve]]),0)","v":0},{"$f":"SUMPRODUCT((RankNHDD[Month]=CGITempAct[[#This Row],[Month]])*(RankNHDD[Rank]=CGITempAct[[#This Row],[Rank]])*RankNHDD[CGINHDD])","v":2.7},{"$f":"YEAR(CGITempAct[[#This Row],[Date]])","v":2021},{"$f":"MONTH(CGITempAct[[#This Row],[Date]])","v":9},{"$f":"IF(CGITempAct[[#This Row],[Month]]=H402,I402+1,1)","v":6}]
[44449,84,53,{"$f":"AVERAGE(CGITempAct[[#This Row],[CGIHigh]:[CGILow]]\n)","v":68.5},{"$f":"IF(CGITempAct[[#This Row],[CGIAve]]<65,(65-CGITempAct[[#This Row],[CGIAve]]),0)","v":0},{"$f":"SUMPRODUCT((RankNHDD[Month]=CGITempAct[[#This Row],[Month]])*(RankNHDD[Rank]=CGITempAct[[#This Row],[Rank]])*RankNHDD[CGINHDD])","v":1.7},{"$f":"YEAR(CGITempAct[[#This Row],[Date]])","v":2021},{"$f":"MONTH(CGITempAct[[#This Row],[Date]])","v":9},{"$f":"IF(CGITempAct[[#This Row],[Month]]=H403,I403+1,1)","v":7}]
[44460,78,61,{"$f":"AVERAGE(CGITempAct[[#This Row],[CGIHigh]:[CGILow]]\n)","v":69.5},{"$f":"IF(CGITempAct[[#This Row],[CGIAve]]<65,(65-CGITempAct[[#This Row],[CGIAve]]),0)","v":0},{"$f":"SUMPRODUCT((RankNHDD[Month]=CGITempAct[[#This Row],[Month]])*(RankNHDD[Rank]=CGITempAct[[#This Row],[Rank]])*RankNHDD[CGINHDD])","v":0.9},{"$f":"YEAR(CGITempAct[[#This Row],[Date]])","v":2021},{"$f":"MONTH(CGITempAct[[#This Row],[Date]])","v":9},{"$f":"IF(CGITempAct[[#This Row],[Month]]=H404,I404+1,1)","v":8}]
[44444,82,58,{"$f":"AVERAGE(CGITempAct[[#This Row],[CGIHigh]:[CGILow]]\n)","v":70},{"$f":"IF(CGITempAct[[#This Row],[CGIAve]]<65,(65-CGITempAct[[#This Row],[CGIAve]]),0)","v":0},{"$f":"SUMPRODUCT((RankNHDD[Month]=CGITempAct[[#This Row],[Month]])*(RankNHDD[Rank]=CGITempAct[[#This Row],[Rank]])*RankNHDD[CGINHDD])","v":0.2},{"$f":"YEAR(CGITempAct[[#This Row],[Date]])","v":2021},{"$f":"MONTH(CGITempAct[[#This Row],[Date]])","v":9},{"$f":"IF(CGITempAct[[#This Row],[Month]]=H405,I405+1,1)","v":9}]
[44442,84,57,{"$f":"AVERAGE(CGITempAct[[#This Row],[CGIHigh]:[CGILow]]\n)","v":70.5},{"$f":"IF(CGITempAct[[#This Row],[CGIAve]]<65,(65-CGITempAct[[#This Row],[CGIAve]]),0)","v":0},{"$f":"SUMPRODUCT((RankNHDD[Month]=CGITempAct[[#This Row],[Month]])*(RankNHDD[Rank]=CGITempAct[[#This Row],[Rank]])*RankNHDD[CGINHDD])","v":0},{"$f":"YEAR(CGITempAct[[#This Row],[Date]])","v":2021},{"$f":"MONTH(CGITempAct[[#This Row],[Date]])","v":9},{"$f":"IF(CGITempAct[[#This Row],[Month]]=H406,I406+1,1)","v":10}]
[44441,84,58,{"$f":"AVERAGE(CGITempAct[[#This Row],[CGIHigh]:[CGILow]]\n)","v":71},{"$f":"IF(CGITempAct[[#This Row],[CGIAve]]<65,(65-CGITempAct[[#This Row],[CGIAve]]),0)","v":0},{"$f":"SUMPRODUCT((RankNHDD[Month]=CGITempAct[[#This Row],[Month]])*(RankNHDD[Rank]=CGITempAct[[#This Row],[Rank]])*RankNHDD[CGINHDD])","v":0},{"$f":"YEAR(CGITempAct[[#This Row],[Date]])","v":2021},{"$f":"MONTH(CGITempAct[[#This Row],[Date]])","v":9},{"$f":"IF(CGITempAct[[#This Row],[Month]]=H407,I407+1,1)","v":11}]
[44445,87,55,{"$f":"AVERAGE(CGITempAct[[#This Row],[CGIHigh]:[CGILow]]\n)","v":71},{"$f":"IF(CGITempAct[[#This Row],[CGIAve]]<65,(65-CGITempAct[[#This Row],[CGIAve]]),0)","v":0},{"$f":"SUMPRODUCT((RankNHDD[Month]=CGITempAct[[#This Row],[Month]])*(RankNHDD[Rank]=CGITempAct[[#This Row],[Rank]])*RankNHDD[CGINHDD])","v":0},{"$f":"YEAR(CGITempAct[[#This Row],[Date]])","v":2021},{"$f":"MONTH(CGITempAct[[#This Row],[Date]])","v":9},{"$f":"IF(CGITempAct[[#This Row],[Month]]=H408,I408+1,1)","v":12}]
[44447,85,58,{"$f":"AVERAGE(CGITempAct[[#This Row],[CGIHigh]:[CGILow]]\n)","v":71.5},{"$f":"IF(CGITempAct[[#This Row],[CGIAve]]<65,(65-CGITempAct[[#This Row],[CGIAve]]),0)","v":0},{"$f":"SUMPRODUCT((RankNHDD[Month]=CGITempAct[[#This Row],[Month]])*(RankNHDD[Rank]=CGITempAct[[#This Row],[Rank]])*RankNHDD[CGINHDD])","v":0},{"$f":"YEAR(CGITempAct[[#This Row],[Date]])","v":2021},{"$f":"MONTH(CGITempAct[[#This Row],[Date]])","v":9},{"$f":"IF(CGITempAct[[#This Row],[Month]]=H409,I409+1,1)","v":13}]
[44446,87,57,{"$f":"AVERAGE(CGITempAct[[#This Row],[CGIHigh]:[CGILow]]\n)","v":72},{"$f":"IF(CGITempAct[[#This Row],[CGIAve]]<65,(65-CGITempAct[[#This Row],[CGIAve]]),0)","v":0},{"$f":"SUMPRODUCT((RankNHDD[Month]=CGITempAct[[#This Row],[Month]])*(RankNHDD[Rank]=CGITempAct[[#This Row],[Rank]])*RankNHDD[CGINHDD])","v":0},{"$f":"YEAR(CGITempAct[[#This Row],[Date]])","v":2021},{"$f":"MONTH(CGITempAct[[#This Row],[Date]])","v":9},{"$f":"IF(CGITempAct[[#This Row],[Month]]=H410,I410+1,1)","v":14}]
[44456,80,64,{"$f":"AVERAGE(CGITempAct[[#This Row],[CGIHigh]:[CGILow]]\n)","v":72},{"$f":"IF(CGITempAct[[#This Row],[CGIAve]]<65,(65-CGITempAct[[#This Row],[CGIAve]]),0)","v":0},{"$f":"SUMPRODUCT((RankNHDD[Month]=CGITempAct[[#This Row],[Month]])*(RankNHDD[Rank]=CGITempAct[[#This Row],[Rank]])*RankNHDD[CGINHDD])","v":0},{"$f":"YEAR(CGITempAct[[#This Row],[Date]])","v":2021},{"$f":"MONTH(CGITempAct[[#This Row],[Date]])","v":9},{"$f":"IF(CGITempAct[[#This Row],[Month]]=H411,I411+1,1)","v":15}]
[44455,85,60,{"$f":"AVERAGE(CGITempAct[[#This Row],[CGIHigh]:[CGILow]]\n)","v":72.5},{"$f":"IF(CGITempAct[[#This Row],[CGIAve]]<65,(65-CGITempAct[[#This Row],[CGIAve]]),0)","v":0},{"$f":"SUMPRODUCT((RankNHDD[Month]=CGITempAct[[#This Row],[Month]])*(RankNHDD[Rank]=CGITempAct[[#This Row],[Rank]])*RankNHDD[CGINHDD])","v":0},{"$f":"YEAR(CGITempAct[[#This Row],[Date]])","v":2021},{"$f":"MONTH(CGITempAct[[#This Row],[Date]])","v":9},{"$f":"IF(CGITempAct[[#This Row],[Month]]=H412,I412+1,1)","v":16}]
[44467,89,56,{"$f":"AVERAGE(CGITempAct[[#This Row],[CGIHigh]:[CGILow]]\n)","v":72.5},{"$f":"IF(CGITempAct[[#This Row],[CGIAve]]<65,(65-CGITempAct[[#This Row],[CGIAve]]),0)","v":0},{"$f":"SUMPRODUCT((RankNHDD[Month]=CGITempAct[[#This Row],[Month]])*(RankNHDD[Rank]=CGITempAct[[#This Row],[Rank]])*RankNHDD[CGINHDD])","v":0},{"$f":"YEAR(CGITempAct[[#This Row],[Date]])","v":2021},{"$f":"MONTH(CGITempAct[[#This Row],[Date]])","v":9},{"$f":"IF(CGITempAct[[#This Row],[Month]]=H413,I413+1,1)","v":17}]
[44458,80,66,{"$f":"AVERAGE(CGITempAct[[#This Row],[CGIHigh]:[CGILow]]\n)","v":73},{"$f":"IF(CGITempAct[[#This Row],[CGIAve]]<65,(65-CGITempAct[[#This Row],[CGIAve]]),0)","v":0},{"$f":"SUMPRODUCT((RankNHDD[Month]=CGITempAct[[#This Row],[Month]])*(RankNHDD[Rank]=CGITempAct[[#This Row],[Rank]])*RankNHDD[CGINHDD])","v":0},{"$f":"YEAR(CGITempAct[[#This Row],[Date]])","v":2021},{"$f":"MONTH(CGITempAct[[#This Row],[Date]])","v":9},{"$f":"IF(CGITempAct[[#This Row],[Month]]=H414,I414+1,1)","v":18}]
[44454,85,63,{"$f":"AVERAGE(CGITempAct[[#This Row],[CGIHigh]:[CGILow]]\n)","v":74},{"$f":"IF(CGITempAct[[#This Row],[CGIAve]]<65,(65-CGITempAct[[#This Row],[CGIAve]]),0)","v":0},{"$f":"SUMPRODUCT((RankNHDD[Month]=CGITempAct[[#This Row],[Month]])*(RankNHDD[Rank]=CGITempAct[[#This Row],[Rank]])*RankNHDD[CGINHDD])","v":0},{"$f":"YEAR(CGITempAct[[#This Row],[Date]])","v":2021},{"$f":"MONTH(CGITempAct[[#This Row],[Date]])","v":9},{"$f":"IF(CGITempAct[[#This Row],[Month]]=H415,I415+1,1)","v":19}]
[44468,88,60,{"$f":"AVERAGE(CGITempAct[[#This Row],[CGIHigh]:[CGILow]]\n)","v":74},{"$f":"IF(CGITempAct[[#This Row],[CGIAve]]<65,(65-CGITempAct[[#This Row],[CGIAve]]),0)","v":0},{"$f":"SUMPRODUCT((RankNHDD[Month]=CGITempAct[[#This Row],[Month]])*(RankNHDD[Rank]=CGITempAct[[#This Row],[Rank]])*RankNHDD[CGINHDD])","v":0},{"$f":"YEAR(CGITempAct[[#This Row],[Date]])","v":2021},{"$f":"MONTH(CGITempAct[[#This Row],[Date]])","v":9},{"$f":"IF(CGITempAct[[#This Row],[Month]]=H416,I416+1,1)","v":20}]
[44469,82,66,{"$f":"AVERAGE(CGITempAct[[#This Row],[CGIHigh]:[CGILow]]\n)","v":74},{"$f":"IF(CGITempAct[[#This Row],[CGIAve]]<65,(65-CGITempAct[[#This Row],[CGIAve]]),0)","v":0},{"$f":"SUMPRODUCT((RankNHDD[Month]=CGITempAct[[#This Row],[Month]])*(RankNHDD[Rank]=CGITempAct[[#This Row],[Rank]])*RankNHDD[CGINHDD])","v":0},{"$f":"YEAR(CGITempAct[[#This Row],[Date]])","v":2021},{"$f":"MONTH(CGITempAct[[#This Row],[Date]])","v":9},{"$f":"IF(CGITempAct[[#This Row],[Month]]=H417,I417+1,1)","v":21}]
[44443,86,64,{"$f":"AVERAGE(CGITempAct[[#This Row],[CGIHigh]:[CGILow]]\n)","v":75},{"$f":"IF(CGITempAct[[#This Row],[CGIAve]]<65,(65-CGITempAct[[#This Row],[CGIAve]]),0)","v":0},{"$f":"SUMPRODUCT((RankNHDD[Month]=CGITempAct[[#This Row],[Month]])*(RankNHDD[Rank]=CGITempAct[[#This Row],[Rank]])*RankNHDD[CGINHDD])","v":0},{"$f":"YEAR(CGITempAct[[#This Row],[Date]])","v":2021},{"$f":"MONTH(CGITempAct[[#This Row],[Date]])","v":9},{"$f":"IF(CGITempAct[[#This Row],[Month]]=H418,I418+1,1)","v":22}]
[44450,86,64,{"$f":"AVERAGE(CGITempAct[[#This Row],[CGIHigh]:[CGILow]]\n)","v":75},{"$f":"IF(CGITempAct[[#This Row],[CGIAve]]<65,(65-CGITempAct[[#This Row],[CGIAve]]),0)","v":0},{"$f":"SUMPRODUCT((RankNHDD[Month]=CGITempAct[[#This Row],[Month]])*(RankNHDD[Rank]=CGITempAct[[#This Row],[Rank]])*RankNHDD[CGINHDD])","v":0},{"$f":"YEAR(CGITempAct[[#This Row],[Date]])","v":2021},{"$f":"MONTH(CGITempAct[[#This Row],[Date]])","v":9},{"$f":"IF(CGITempAct[[#This Row],[Month]]=H419,I419+1,1)","v":23}]
[44451,86,64,{"$f":"AVERAGE(CGITempAct[[#This Row],[CGIHigh]:[CGILow]]\n)","v":75},{"$f":"IF(CGITempAct[[#This Row],[CGIAve]]<65,(65-CGITempAct[[#This Row],[CGIAve]]),0)","v":0},{"$f":"SUMPRODUCT((RankNHDD[Month]=CGITempAct[[#This Row],[Month]])*(RankNHDD[Rank]=CGITempAct[[#This Row],[Rank]])*RankNHDD[CGINHDD])","v":0},{"$f":"YEAR(CGITempAct[[#This Row],[Date]])","v":2021},{"$f":"MONTH(CGITempAct[[#This Row],[Date]])","v":9},{"$f":"IF(CGITempAct[[#This Row],[Month]]=H420,I420+1,1)","v":24}]
[44466,90,61,{"$f":"AVERAGE(CGITempAct[[#This Row],[CGIHigh]:[CGILow]]\n)","v":75.5},{"$f":"IF(CGITempAct[[#This Row],[CGIAve]]<65,(65-CGITempAct[[#This Row],[CGIAve]]),0)","v":0},{"$f":"SUMPRODUCT((RankNHDD[Month]=CGITempAct[[#This Row],[Month]])*(RankNHDD[Rank]=CGITempAct[[#This Row],[Rank]])*RankNHDD[CGINHDD])","v":0},{"$f":"YEAR(CGITempAct[[#This Row],[Date]])","v":2021},{"$f":"MONTH(CGITempAct[[#This Row],[Date]])","v":9},{"$f":"IF(CGITempAct[[#This Row],[Month]]=H421,I421+1,1)","v":25}]
[44440,86,66,{"$f":"AVERAGE(CGITempAct[[#This Row],[CGIHigh]:[CGILow]]\n)","v":76},{"$f":"IF(CGITempAct[[#This Row],[CGIAve]]<65,(65-CGITempAct[[#This Row],[CGIAve]]),0)","v":0},{"$f":"SUMPRODUCT((RankNHDD[Month]=CGITempAct[[#This Row],[Month]])*(RankNHDD[Rank]=CGITempAct[[#This Row],[Rank]])*RankNHDD[CGINHDD])","v":0},{"$f":"YEAR(CGITempAct[[#This Row],[Date]])","v":2021},{"$f":"MONTH(CGITempAct[[#This Row],[Date]])","v":9},{"$f":"IF(CGITempAct[[#This Row],[Month]]=H422,I422+1,1)","v":26}]
[44452,90,64,{"$f":"AVERAGE(CGITempAct[[#This Row],[CGIHigh]:[CGILow]]\n)","v":77},{"$f":"IF(CGITempAct[[#This Row],[CGIAve]]<65,(65-CGITempAct[[#This Row],[CGIAve]]),0)","v":0},{"$f":"SUMPRODUCT((RankNHDD[Month]=CGITempAct[[#This Row],[Month]])*(RankNHDD[Rank]=CGITempAct[[#This Row],[Rank]])*RankNHDD[CGINHDD])","v":0},{"$f":"YEAR(CGITempAct[[#This Row],[Date]])","v":2021},{"$f":"MONTH(CGITempAct[[#This Row],[Date]])","v":9},{"$f":"IF(CGITempAct[[#This Row],[Month]]=H423,I423+1,1)","v":27}]
[44457,88,67,{"$f":"AVERAGE(CGITempAct[[#This Row],[CGIHigh]:[CGILow]]\n)","v":77.5},{"$f":"IF(CGITempAct[[#This Row],[CGIAve]]<65,(65-CGITempAct[[#This Row],[CGIAve]]),0)","v":0},{"$f":"SUMPRODUCT((RankNHDD[Month]=CGITempAct[[#This Row],[Month]])*(RankNHDD[Rank]=CGITempAct[[#This Row],[Rank]])*RankNHDD[CGINHDD])","v":0},{"$f":"YEAR(CGITempAct[[#This Row],[Date]])","v":2021},{"$f":"MONTH(CGITempAct[[#This Row],[Date]])","v":9},{"$f":"IF(CGITempAct[[#This Row],[Month]]=H424,I424+1,1)","v":28}]
[44459,87,72,{"$f":"AVERAGE(CGITempAct[[#This Row],[CGIHigh]:[CGILow]]\n)","v":79.5},{"$f":"IF(CGITempAct[[#This Row],[CGIAve]]<65,(65-CGITempAct[[#This Row],[CGIAve]]),0)","v":0},{"$f":"SUMPRODUCT((RankNHDD[Month]=CGITempAct[[#This Row],[Month]])*(RankNHDD[Rank]=CGITempAct[[#This Row],[Rank]])*RankNHDD[CGINHDD])","v":0},{"$f":"YEAR(CGITempAct[[#This Row],[Date]])","v":2021},{"$f":"MONTH(CGITempAct[[#This Row],[Date]])","v":9},{"$f":"IF(CGITempAct[[#This Row],[Month]]=H425,I425+1,1)","v":29}]
[44453,91,72,{"$f":"AVERAGE(CGITempAct[[#This Row],[CGIHigh]:[CGILow]]\n)","v":81.5},{"$f":"IF(CGITempAct[[#This Row],[CGIAve]]<65,(65-CGITempAct[[#This Row],[CGIAve]]),0)","v":0},{"$f":"SUMPRODUCT((RankNHDD[Month]=CGITempAct[[#This Row],[Month]])*(RankNHDD[Rank]=CGITempAct[[#This Row],[Rank]])*RankNHDD[CGINHDD])","v":0},{"$f":"YEAR(CGITempAct[[#This Row],[Date]])","v":2021},{"$f":"MONTH(CGITempAct[[#This Row],[Date]])","v":9},{"$f":"IF(CGITempAct[[#This Row],[Month]]=H426,I426+1,1)","v":30}]
[44499,60,44,{"$f":"AVERAGE(CGITempAct[[#This Row],[CGIHigh]:[CGILow]]\n)","v":52},{"$f":"IF(CGITempAct[[#This Row],[CGIAve]]<65,(65-CGITempAct[[#This Row],[CGIAve]]),0)","v":13},{"$f":"SUMPRODUCT((RankNHDD[Month]=CGITempAct[[#This Row],[Month]])*(RankNHDD[Rank]=CGITempAct[[#This Row],[Rank]])*RankNHDD[CGINHDD])","v":24.5},{"$f":"YEAR(CGITempAct[[#This Row],[Date]])","v":2021},{"$f":"MONTH(CGITempAct[[#This Row],[Date]])","v":10},{"$f":"IF(CGITempAct[[#This Row],[Month]]=H427,I427+1,1)","v":1}]
[44495,65,40,{"$f":"AVERAGE(CGITempAct[[#This Row],[CGIHigh]:[CGILow]]\n)","v":52.5},{"$f":"IF(CGITempAct[[#This Row],[CGIAve]]<65,(65-CGITempAct[[#This Row],[CGIAve]]),0)","v":12.5},{"$f":"SUMPRODUCT((RankNHDD[Month]=CGITempAct[[#This Row],[Month]])*(RankNHDD[Rank]=CGITempAct[[#This Row],[Rank]])*RankNHDD[CGINHDD])","v":20.6},{"$f":"YEAR(CGITempAct[[#This Row],[Date]])","v":2021},{"$f":"MONTH(CGITempAct[[#This Row],[Date]])","v":10},{"$f":"IF(CGITempAct[[#This Row],[Month]]=H428,I428+1,1)","v":2}]
[44500,67,39,{"$f":"AVERAGE(CGITempAct[[#This Row],[CGIHigh]:[CGILow]]\n)","v":53},{"$f":"IF(CGITempAct[[#This Row],[CGIAve]]<65,(65-CGITempAct[[#This Row],[CGIAve]]),0)","v":12},{"$f":"SUMPRODUCT((RankNHDD[Month]=CGITempAct[[#This Row],[Month]])*(RankNHDD[Rank]=CGITempAct[[#This Row],[Rank]])*RankNHDD[CGINHDD])","v":19.3},{"$f":"YEAR(CGITempAct[[#This Row],[Date]])","v":2021},{"$f":"MONTH(CGITempAct[[#This Row],[Date]])","v":10},{"$f":"IF(CGITempAct[[#This Row],[Month]]=H429,I429+1,1)","v":3}]
[44486,71,36,{"$f":"AVERAGE(CGITempAct[[#This Row],[CGIHigh]:[CGILow]]\n)","v":53.5},{"$f":"IF(CGITempAct[[#This Row],[CGIAve]]<65,(65-CGITempAct[[#This Row],[CGIAve]]),0)","v":11.5},{"$f":"SUMPRODUCT((RankNHDD[Month]=CGITempAct[[#This Row],[Month]])*(RankNHDD[Rank]=CGITempAct[[#This Row],[Rank]])*RankNHDD[CGINHDD])","v":18},{"$f":"YEAR(CGITempAct[[#This Row],[Date]])","v":2021},{"$f":"MONTH(CGITempAct[[#This Row],[Date]])","v":10},{"$f":"IF(CGITempAct[[#This Row],[Month]]=H430,I430+1,1)","v":4}]
[44492,61,46,{"$f":"AVERAGE(CGITempAct[[#This Row],[CGIHigh]:[CGILow]]\n)","v":53.5},{"$f":"IF(CGITempAct[[#This Row],[CGIAve]]<65,(65-CGITempAct[[#This Row],[CGIAve]]),0)","v":11.5},{"$f":"SUMPRODUCT((RankNHDD[Month]=CGITempAct[[#This Row],[Month]])*(RankNHDD[Rank]=CGITempAct[[#This Row],[Rank]])*RankNHDD[CGINHDD])","v":17},{"$f":"YEAR(CGITempAct[[#This Row],[Date]])","v":2021},{"$f":"MONTH(CGITempAct[[#This Row],[Date]])","v":10},{"$f":"IF(CGITempAct[[#This Row],[Month]]=H431,I431+1,1)","v":5}]
[44485,68,41,{"$f":"AVERAGE(CGITempAct[[#This Row],[CGIHigh]:[CGILow]]\n)","v":54.5},{"$f":"IF(CGITempAct[[#This Row],[CGIAve]]<65,(65-CGITempAct[[#This Row],[CGIAve]]),0)","v":10.5},{"$f":"SUMPRODUCT((RankNHDD[Month]=CGITempAct[[#This Row],[Month]])*(RankNHDD[Rank]=CGITempAct[[#This Row],[Rank]])*RankNHDD[CGINHDD])","v":16},{"$f":"YEAR(CGITempAct[[#This Row],[Date]])","v":2021},{"$f":"MONTH(CGITempAct[[#This Row],[Date]])","v":10},{"$f":"IF(CGITempAct[[#This Row],[Month]]=H432,I432+1,1)","v":6}]
[44487,72,37,{"$f":"AVERAGE(CGITempAct[[#This Row],[CGIHigh]:[CGILow]]\n)","v":54.5},{"$f":"IF(CGITempAct[[#This Row],[CGIAve]]<65,(65-CGITempAct[[#This Row],[CGIAve]]),0)","v":10.5},{"$f":"SUMPRODUCT((RankNHDD[Month]=CGITempAct[[#This Row],[Month]])*(RankNHDD[Rank]=CGITempAct[[#This Row],[Rank]])*RankNHDD[CGINHDD])","v":15.2},{"$f":"YEAR(CGITempAct[[#This Row],[Date]])","v":2021},{"$f":"MONTH(CGITempAct[[#This Row],[Date]])","v":10},{"$f":"IF(CGITempAct[[#This Row],[Month]]=H433,I433+1,1)","v":7}]
[44491,68,41,{"$f":"AVERAGE(CGITempAct[[#This Row],[CGIHigh]:[CGILow]]\n)","v":54.5},{"$f":"IF(CGITempAct[[#This Row],[CGIAve]]<65,(65-CGITempAct[[#This Row],[CGIAve]]),0)","v":10.5},{"$f":"SUMPRODUCT((RankNHDD[Month]=CGITempAct[[#This Row],[Month]])*(RankNHDD[Rank]=CGITempAct[[#This Row],[Rank]])*RankNHDD[CGINHDD])","v":14},{"$f":"YEAR(CGITempAct[[#This Row],[Date]])","v":2021},{"$f":"MONTH(CGITempAct[[#This Row],[Date]])","v":10},{"$f":"IF(CGITempAct[[#This Row],[Month]]=H434,I434+1,1)","v":8}]
[44498,59,52,{"$f":"AVERAGE(CGITempAct[[#This Row],[CGIHigh]:[CGILow]]\n)","v":55.5},{"$f":"IF(CGITempAct[[#This Row],[CGIAve]]<65,(65-CGITempAct[[#This Row],[CGIAve]]),0)","v":9.5},{"$f":"SUMPRODUCT((RankNHDD[Month]=CGITempAct[[#This Row],[Month]])*(RankNHDD[Rank]=CGITempAct[[#This Row],[Rank]])*RankNHDD[CGINHDD])","v":13},{"$f":"YEAR(CGITempAct[[#This Row],[Date]])","v":2021},{"$f":"MONTH(CGITempAct[[#This Row],[Date]])","v":10},{"$f":"IF(CGITempAct[[#This Row],[Month]]=H435,I435+1,1)","v":9}]
[44488,73,39,{"$f":"AVERAGE(CGITempAct[[#This Row],[CGIHigh]:[CGILow]]\n)","v":56},{"$f":"IF(CGITempAct[[#This Row],[CGIAve]]<65,(65-CGITempAct[[#This Row],[CGIAve]]),0)","v":9},{"$f":"SUMPRODUCT((RankNHDD[Month]=CGITempAct[[#This Row],[Month]])*(RankNHDD[Rank]=CGITempAct[[#This Row],[Rank]])*RankNHDD[CGINHDD])","v":12.2},{"$f":"YEAR(CGITempAct[[#This Row],[Date]])","v":2021},{"$f":"MONTH(CGITempAct[[#This Row],[Date]])","v":10},{"$f":"IF(CGITempAct[[#This Row],[Month]]=H436,I436+1,1)","v":10}]
[44494,63,51,{"$f":"AVERAGE(CGITempAct[[#This Row],[CGIHigh]:[CGILow]]\n)","v":57},{"$f":"IF(CGITempAct[[#This Row],[CGIAve]]<65,(65-CGITempAct[[#This Row],[CGIAve]]),0)","v":8},{"$f":"SUMPRODUCT((RankNHDD[Month]=CGITempAct[[#This Row],[Month]])*(RankNHDD[Rank]=CGITempAct[[#This Row],[Rank]])*RankNHDD[CGINHDD])","v":11.3},{"$f":"YEAR(CGITempAct[[#This Row],[Date]])","v":2021},{"$f":"MONTH(CGITempAct[[#This Row],[Date]])","v":10},{"$f":"IF(CGITempAct[[#This Row],[Month]]=H437,I437+1,1)","v":11}]
[44496,70,46,{"$f":"AVERAGE(CGITempAct[[#This Row],[CGIHigh]:[CGILow]]\n)","v":58},{"$f":"IF(CGITempAct[[#This Row],[CGIAve]]<65,(65-CGITempAct[[#This Row],[CGIAve]]),0)","v":7},{"$f":"SUMPRODUCT((RankNHDD[Month]=CGITempAct[[#This Row],[Month]])*(RankNHDD[Rank]=CGITempAct[[#This Row],[Rank]])*RankNHDD[CGINHDD])","v":10.6},{"$f":"YEAR(CGITempAct[[#This Row],[Date]])","v":2021},{"$f":"MONTH(CGITempAct[[#This Row],[Date]])","v":10},{"$f":"IF(CGITempAct[[#This Row],[Month]]=H438,I438+1,1)","v":12}]
[44497,65,53,{"$f":"AVERAGE(CGITempAct[[#This Row],[CGIHigh]:[CGILow]]\n)","v":59},{"$f":"IF(CGITempAct[[#This Row],[CGIAve]]<65,(65-CGITempAct[[#This Row],[CGIAve]]),0)","v":6},{"$f":"SUMPRODUCT((RankNHDD[Month]=CGITempAct[[#This Row],[Month]])*(RankNHDD[Rank]=CGITempAct[[#This Row],[Rank]])*RankNHDD[CGINHDD])","v":9.6999999999999993},{"$f":"YEAR(CGITempAct[[#This Row],[Date]])","v":2021},{"$f":"MONTH(CGITempAct[[#This Row],[Date]])","v":10},{"$f":"IF(CGITempAct[[#This Row],[Month]]=H439,I439+1,1)","v":13}]
[44490,69,53,{"$f":"AVERAGE(CGITempAct[[#This Row],[CGIHigh]:[CGILow]]\n)","v":61},{"$f":"IF(CGITempAct[[#This Row],[CGIAve]]<65,(65-CGITempAct[[#This Row],[CGIAve]]),0)","v":4},{"$f":"SUMPRODUCT((RankNHDD[Month]=CGITempAct[[#This Row],[Month]])*(RankNHDD[Rank]=CGITempAct[[#This Row],[Rank]])*RankNHDD[CGINHDD])","v":8.9},{"$f":"YEAR(CGITempAct[[#This Row],[Date]])","v":2021},{"$f":"MONTH(CGITempAct[[#This Row],[Date]])","v":10},{"$f":"IF(CGITempAct[[#This Row],[Month]]=H440,I440+1,1)","v":14}]
[44489,78,46,{"$f":"AVERAGE(CGITempAct[[#This Row],[CGIHigh]:[CGILow]]\n)","v":62},{"$f":"IF(CGITempAct[[#This Row],[CGIAve]]<65,(65-CGITempAct[[#This Row],[CGIAve]]),0)","v":3},{"$f":"SUMPRODUCT((RankNHDD[Month]=CGITempAct[[#This Row],[Month]])*(RankNHDD[Rank]=CGITempAct[[#This Row],[Rank]])*RankNHDD[CGINHDD])","v":8.3000000000000007},{"$f":"YEAR(CGITempAct[[#This Row],[Date]])","v":2021},{"$f":"MONTH(CGITempAct[[#This Row],[Date]])","v":10},{"$f":"IF(CGITempAct[[#This Row],[Month]]=H441,I441+1,1)","v":15}]
[44484,76,51,{"$f":"AVERAGE(CGITempAct[[#This Row],[CGIHigh]:[CGILow]]\n)","v":63.5},{"$f":"IF(CGITempAct[[#This Row],[CGIAve]]<65,(65-CGITempAct[[#This Row],[CGIAve]]),0)","v":1.5},{"$f":"SUMPRODUCT((RankNHDD[Month]=CGITempAct[[#This Row],[Month]])*(RankNHDD[Rank]=CGITempAct[[#This Row],[Rank]])*RankNHDD[CGINHDD])","v":7.7},{"$f":"YEAR(CGITempAct[[#This Row],[Date]])","v":2021},{"$f":"MONTH(CGITempAct[[#This Row],[Date]])","v":10},{"$f":"IF(CGITempAct[[#This Row],[Month]]=H442,I442+1,1)","v":16}]
[44481,80,53,{"$f":"AVERAGE(CGITempAct[[#This Row],[CGIHigh]:[CGILow]]\n)","v":66.5},{"$f":"IF(CGITempAct[[#This Row],[CGIAve]]<65,(65-CGITempAct[[#This Row],[CGIAve]]),0)","v":0},{"$f":"SUMPRODUCT((RankNHDD[Month]=CGITempAct[[#This Row],[Month]])*(RankNHDD[Rank]=CGITempAct[[#This Row],[Rank]])*RankNHDD[CGINHDD])","v":6.9},{"$f":"YEAR(CGITempAct[[#This Row],[Date]])","v":2021},{"$f":"MONTH(CGITempAct[[#This Row],[Date]])","v":10},{"$f":"IF(CGITempAct[[#This Row],[Month]]=H443,I443+1,1)","v":17}]
[44474,81,53,{"$f":"AVERAGE(CGITempAct[[#This Row],[CGIHigh]:[CGILow]]\n)","v":67},{"$f":"IF(CGITempAct[[#This Row],[CGIAve]]<65,(65-CGITempAct[[#This Row],[CGIAve]]),0)","v":0},{"$f":"SUMPRODUCT((RankNHDD[Month]=CGITempAct[[#This Row],[Month]])*(RankNHDD[Rank]=CGITempAct[[#This Row],[Rank]])*RankNHDD[CGINHDD])","v":5.9},{"$f":"YEAR(CGITempAct[[#This Row],[Date]])","v":2021},{"$f":"MONTH(CGITempAct[[#This Row],[Date]])","v":10},{"$f":"IF(CGITempAct[[#This Row],[Month]]=H444,I444+1,1)","v":18}]
[44473,83,56,{"$f":"AVERAGE(CGITempAct[[#This Row],[CGIHigh]:[CGILow]]\n)","v":69.5},{"$f":"IF(CGITempAct[[#This Row],[CGIAve]]<65,(65-CGITempAct[[#This Row],[CGIAve]]),0)","v":0},{"$f":"SUMPRODUCT((RankNHDD[Month]=CGITempAct[[#This Row],[Month]])*(RankNHDD[Rank]=CGITempAct[[#This Row],[Rank]])*RankNHDD[CGINHDD])","v":5.0999999999999996},{"$f":"YEAR(CGITempAct[[#This Row],[Date]])","v":2021},{"$f":"MONTH(CGITempAct[[#This Row],[Date]])","v":10},{"$f":"IF(CGITempAct[[#This Row],[Month]]=H445,I445+1,1)","v":19}]
[44476,79,60,{"$f":"AVERAGE(CGITempAct[[#This Row],[CGIHigh]:[CGILow]]\n)","v":69.5},{"$f":"IF(CGITempAct[[#This Row],[CGIAve]]<65,(65-CGITempAct[[#This Row],[CGIAve]]),0)","v":0},{"$f":"SUMPRODUCT((RankNHDD[Month]=CGITempAct[[#This Row],[Month]])*(RankNHDD[Rank]=CGITempAct[[#This Row],[Rank]])*RankNHDD[CGINHDD])","v":4.3},{"$f":"YEAR(CGITempAct[[#This Row],[Date]])","v":2021},{"$f":"MONTH(CGITempAct[[#This Row],[Date]])","v":10},{"$f":"IF(CGITempAct[[#This Row],[Month]]=H446,I446+1,1)","v":20}]
[44493,81,58,{"$f":"AVERAGE(CGITempAct[[#This Row],[CGIHigh]:[CGILow]]\n)","v":69.5},{"$f":"IF(CGITempAct[[#This Row],[CGIAve]]<65,(65-CGITempAct[[#This Row],[CGIAve]]),0)","v":0},{"$f":"SUMPRODUCT((RankNHDD[Month]=CGITempAct[[#This Row],[Month]])*(RankNHDD[Rank]=CGITempAct[[#This Row],[Rank]])*RankNHDD[CGINHDD])","v":3.4},{"$f":"YEAR(CGITempAct[[#This Row],[Date]])","v":2021},{"$f":"MONTH(CGITempAct[[#This Row],[Date]])","v":10},{"$f":"IF(CGITempAct[[#This Row],[Month]]=H447,I447+1,1)","v":21}]
[44475,79,61,{"$f":"AVERAGE(CGITempAct[[#This Row],[CGIHigh]:[CGILow]]\n)","v":70},{"$f":"IF(CGITempAct[[#This Row],[CGIAve]]<65,(65-CGITempAct[[#This Row],[CGIAve]]),0)","v":0},{"$f":"SUMPRODUCT((RankNHDD[Month]=CGITempAct[[#This Row],[Month]])*(RankNHDD[Rank]=CGITempAct[[#This Row],[Rank]])*RankNHDD[CGINHDD])","v":2.5},{"$f":"YEAR(CGITempAct[[#This Row],[Date]])","v":2021},{"$f":"MONTH(CGITempAct[[#This Row],[Date]])","v":10},{"$f":"IF(CGITempAct[[#This Row],[Month]]=H448,I448+1,1)","v":22}]
[44480,83,59,{"$f":"AVERAGE(CGITempAct[[#This Row],[CGIHigh]:[CGILow]]\n)","v":71},{"$f":"IF(CGITempAct[[#This Row],[CGIAve]]<65,(65-CGITempAct[[#This Row],[CGIAve]]),0)","v":0},{"$f":"SUMPRODUCT((RankNHDD[Month]=CGITempAct[[#This Row],[Month]])*(RankNHDD[Rank]=CGITempAct[[#This Row],[Rank]])*RankNHDD[CGINHDD])","v":1.6},{"$f":"YEAR(CGITempAct[[#This Row],[Date]])","v":2021},{"$f":"MONTH(CGITempAct[[#This Row],[Date]])","v":10},{"$f":"IF(CGITempAct[[#This Row],[Month]]=H449,I449+1,1)","v":23}]
[44471,74,69,{"$f":"AVERAGE(CGITempAct[[#This Row],[CGIHigh]:[CGILow]]\n)","v":71.5},{"$f":"IF(CGITempAct[[#This Row],[CGIAve]]<65,(65-CGITempAct[[#This Row],[CGIAve]]),0)","v":0},{"$f":"SUMPRODUCT((RankNHDD[Month]=CGITempAct[[#This Row],[Month]])*(RankNHDD[Rank]=CGITempAct[[#This Row],[Rank]])*RankNHDD[CGINHDD])","v":0.7},{"$f":"YEAR(CGITempAct[[#This Row],[Date]])","v":2021},{"$f":"MONTH(CGITempAct[[#This Row],[Date]])","v":10},{"$f":"IF(CGITempAct[[#This Row],[Month]]=H450,I450+1,1)","v":24}]
[44472,81,62,{"$f":"AVERAGE(CGITempAct[[#This Row],[CGIHigh]:[CGILow]]\n)","v":71.5},{"$f":"IF(CGITempAct[[#This Row],[CGIAve]]<65,(65-CGITempAct[[#This Row],[CGIAve]]),0)","v":0},{"$f":"SUMPRODUCT((RankNHDD[Month]=CGITempAct[[#This Row],[Month]])*(RankNHDD[Rank]=CGITempAct[[#This Row],[Rank]])*RankNHDD[CGINHDD])","v":0},{"$f":"YEAR(CGITempAct[[#This Row],[Date]])","v":2021},{"$f":"MONTH(CGITempAct[[#This Row],[Date]])","v":10},{"$f":"IF(CGITempAct[[#This Row],[Month]]=H451,I451+1,1)","v":25}]
[44477,85,58,{"$f":"AVERAGE(CGITempAct[[#This Row],[CGIHigh]:[CGILow]]\n)","v":71.5},{"$f":"IF(CGITempAct[[#This Row],[CGIAve]]<65,(65-CGITempAct[[#This Row],[CGIAve]]),0)","v":0},{"$f":"SUMPRODUCT((RankNHDD[Month]=CGITempAct[[#This Row],[Month]])*(RankNHDD[Rank]=CGITempAct[[#This Row],[Rank]])*RankNHDD[CGINHDD])","v":0},{"$f":"YEAR(CGITempAct[[#This Row],[Date]])","v":2021},{"$f":"MONTH(CGITempAct[[#This Row],[Date]])","v":10},{"$f":"IF(CGITempAct[[#This Row],[Month]]=H452,I452+1,1)","v":26}]
[44470,81,67,{"$f":"AVERAGE(CGITempAct[[#This Row],[CGIHigh]:[CGILow]]\n)","v":74},{"$f":"IF(CGITempAct[[#This Row],[CGIAve]]<65,(65-CGITempAct[[#This Row],[CGIAve]]),0)","v":0},{"$f":"SUMPRODUCT((RankNHDD[Month]=CGITempAct[[#This Row],[Month]])*(RankNHDD[Rank]=CGITempAct[[#This Row],[Rank]])*RankNHDD[CGINHDD])","v":0},{"$f":"YEAR(CGITempAct[[#This Row],[Date]])","v":2021},{"$f":"MONTH(CGITempAct[[#This Row],[Date]])","v":10},{"$f":"IF(CGITempAct[[#This Row],[Month]]=H453,I453+1,1)","v":27}]
[44482,85,63,{"$f":"AVERAGE(CGITempAct[[#This Row],[CGIHigh]:[CGILow]]\n)","v":74},{"$f":"IF(CGITempAct[[#This Row],[CGIAve]]<65,(65-CGITempAct[[#This Row],[CGIAve]]),0)","v":0},{"$f":"SUMPRODUCT((RankNHDD[Month]=CGITempAct[[#This Row],[Month]])*(RankNHDD[Rank]=CGITempAct[[#This Row],[Rank]])*RankNHDD[CGINHDD])","v":0},{"$f":"YEAR(CGITempAct[[#This Row],[Date]])","v":2021},{"$f":"MONTH(CGITempAct[[#This Row],[Date]])","v":10},{"$f":"IF(CGITempAct[[#This Row],[Month]]=H454,I454+1,1)","v":28}]
[44478,87,66,{"$f":"AVERAGE(CGITempAct[[#This Row],[CGIHigh]:[CGILow]]\n)","v":76.5},{"$f":"IF(CGITempAct[[#This Row],[CGIAve]]<65,(65-CGITempAct[[#This Row],[CGIAve]]),0)","v":0},{"$f":"SUMPRODUCT((RankNHDD[Month]=CGITempAct[[#This Row],[Month]])*(RankNHDD[Rank]=CGITempAct[[#This Row],[Rank]])*RankNHDD[CGINHDD])","v":0},{"$f":"YEAR(CGITempAct[[#This Row],[Date]])","v":2021},{"$f":"MONTH(CGITempAct[[#This Row],[Date]])","v":10},{"$f":"IF(CGITempAct[[#This Row],[Month]]=H455,I455+1,1)","v":29}]
[44479,88,67,{"$f":"AVERAGE(CGITempAct[[#This Row],[CGIHigh]:[CGILow]]\n)","v":77.5},{"$f":"IF(CGITempAct[[#This Row],[CGIAve]]<65,(65-CGITempAct[[#This Row],[CGIAve]]),0)","v":0},{"$f":"SUMPRODUCT((RankNHDD[Month]=CGITempAct[[#This Row],[Month]])*(RankNHDD[Rank]=CGITempAct[[#This Row],[Rank]])*RankNHDD[CGINHDD])","v":0},{"$f":"YEAR(CGITempAct[[#This Row],[Date]])","v":2021},{"$f":"MONTH(CGITempAct[[#This Row],[Date]])","v":10},{"$f":"IF(CGITempAct[[#This Row],[Month]]=H456,I456+1,1)","v":30}]
[44483,86,70,{"$f":"AVERAGE(CGITempAct[[#This Row],[CGIHigh]:[CGILow]]\n)","v":78},{"$f":"IF(CGITempAct[[#This Row],[CGIAve]]<65,(65-CGITempAct[[#This Row],[CGIAve]]),0)","v":0},{"$f":"SUMPRODUCT((RankNHDD[Month]=CGITempAct[[#This Row],[Month]])*(RankNHDD[Rank]=CGITempAct[[#This Row],[Rank]])*RankNHDD[CGINHDD])","v":0},{"$f":"YEAR(CGITempAct[[#This Row],[Date]])","v":2021},{"$f":"MONTH(CGITempAct[[#This Row],[Date]])","v":10},{"$f":"IF(CGITempAct[[#This Row],[Month]]=H457,I457+1,1)","v":31}]
[44526,40,24,{"$f":"AVERAGE(CGITempAct[[#This Row],[CGIHigh]:[CGILow]]\n)","v":32},{"$f":"IF(CGITempAct[[#This Row],[CGIAve]]<65,(65-CGITempAct[[#This Row],[CGIAve]]),0)","v":33},{"$f":"SUMPRODUCT((RankNHDD[Month]=CGITempAct[[#This Row],[Month]])*(RankNHDD[Rank]=CGITempAct[[#This Row],[Rank]])*RankNHDD[CGINHDD])","v":37.9},{"$f":"YEAR(CGITempAct[[#This Row],[Date]])","v":2021},{"$f":"MONTH(CGITempAct[[#This Row],[Date]])","v":11},{"$f":"IF(CGITempAct[[#This Row],[Month]]=H458,I458+1,1)","v":1}]
[44522,46,27,{"$f":"AVERAGE(CGITempAct[[#This Row],[CGIHigh]:[CGILow]]\n)","v":36.5},{"$f":"IF(CGITempAct[[#This Row],[CGIAve]]<65,(65-CGITempAct[[#This Row],[CGIAve]]),0)","v":28.5},{"$f":"SUMPRODUCT((RankNHDD[Month]=CGITempAct[[#This Row],[Month]])*(RankNHDD[Rank]=CGITempAct[[#This Row],[Rank]])*RankNHDD[CGINHDD])","v":33.200000000000003},{"$f":"YEAR(CGITempAct[[#This Row],[Date]])","v":2021},{"$f":"MONTH(CGITempAct[[#This Row],[Date]])","v":11},{"$f":"IF(CGITempAct[[#This Row],[Month]]=H459,I459+1,1)","v":2}]
[44523,49,24,{"$f":"AVERAGE(CGITempAct[[#This Row],[CGIHigh]:[CGILow]]\n)","v":36.5},{"$f":"IF(CGITempAct[[#This Row],[CGIAve]]<65,(65-CGITempAct[[#This Row],[CGIAve]]),0)","v":28.5},{"$f":"SUMPRODUCT((RankNHDD[Month]=CGITempAct[[#This Row],[Month]])*(RankNHDD[Rank]=CGITempAct[[#This Row],[Rank]])*RankNHDD[CGINHDD])","v":31.1},{"$f":"YEAR(CGITempAct[[#This Row],[Date]])","v":2021},{"$f":"MONTH(CGITempAct[[#This Row],[Date]])","v":11},{"$f":"IF(CGITempAct[[#This Row],[Month]]=H460,I460+1,1)","v":3}]
[44513,46,29,{"$f":"AVERAGE(CGITempAct[[#This Row],[CGIHigh]:[CGILow]]\n)","v":37.5},{"$f":"IF(CGITempAct[[#This Row],[CGIAve]]<65,(65-CGITempAct[[#This Row],[CGIAve]]),0)","v":27.5},{"$f":"SUMPRODUCT((RankNHDD[Month]=CGITempAct[[#This Row],[Month]])*(RankNHDD[Rank]=CGITempAct[[#This Row],[Rank]])*RankNHDD[CGINHDD])","v":29.5},{"$f":"YEAR(CGITempAct[[#This Row],[Date]])","v":2021},{"$f":"MONTH(CGITempAct[[#This Row],[Date]])","v":11},{"$f":"IF(CGITempAct[[#This Row],[Month]]=H461,I461+1,1)","v":4}]
[44519,48,27,{"$f":"AVERAGE(CGITempAct[[#This Row],[CGIHigh]:[CGILow]]\n)","v":37.5},{"$f":"IF(CGITempAct[[#This Row],[CGIAve]]<65,(65-CGITempAct[[#This Row],[CGIAve]]),0)","v":27.5},{"$f":"SUMPRODUCT((RankNHDD[Month]=CGITempAct[[#This Row],[Month]])*(RankNHDD[Rank]=CGITempAct[[#This Row],[Rank]])*RankNHDD[CGINHDD])","v":28.1},{"$f":"YEAR(CGITempAct[[#This Row],[Date]])","v":2021},{"$f":"MONTH(CGITempAct[[#This Row],[Date]])","v":11},{"$f":"IF(CGITempAct[[#This Row],[Month]]=H462,I462+1,1)","v":5}]
[44529,51,24,{"$f":"AVERAGE(CGITempAct[[#This Row],[CGIHigh]:[CGILow]]\n)","v":37.5},{"$f":"IF(CGITempAct[[#This Row],[CGIAve]]<65,(65-CGITempAct[[#This Row],[CGIAve]]),0)","v":27.5},{"$f":"SUMPRODUCT((RankNHDD[Month]=CGITempAct[[#This Row],[Month]])*(RankNHDD[Rank]=CGITempAct[[#This Row],[Rank]])*RankNHDD[CGINHDD])","v":27.1},{"$f":"YEAR(CGITempAct[[#This Row],[Date]])","v":2021},{"$f":"MONTH(CGITempAct[[#This Row],[Date]])","v":11},{"$f":"IF(CGITempAct[[#This Row],[Month]]=H463,I463+1,1)","v":6}]
[44504,54,26,{"$f":"AVERAGE(CGITempAct[[#This Row],[CGIHigh]:[CGILow]]\n)","v":40},{"$f":"IF(CGITempAct[[#This Row],[CGIAve]]<65,(65-CGITempAct[[#This Row],[CGIAve]]),0)","v":25},{"$f":"SUMPRODUCT((RankNHDD[Month]=CGITempAct[[#This Row],[Month]])*(RankNHDD[Rank]=CGITempAct[[#This Row],[Rank]])*RankNHDD[CGINHDD])","v":26.1},{"$f":"YEAR(CGITempAct[[#This Row],[Date]])","v":2021},{"$f":"MONTH(CGITempAct[[#This Row],[Date]])","v":11},{"$f":"IF(CGITempAct[[#This Row],[Month]]=H464,I464+1,1)","v":7}]
[44503,53,30,{"$f":"AVERAGE(CGITempAct[[#This Row],[CGIHigh]:[CGILow]]\n)","v":41.5},{"$f":"IF(CGITempAct[[#This Row],[CGIAve]]<65,(65-CGITempAct[[#This Row],[CGIAve]]),0)","v":23.5},{"$f":"SUMPRODUCT((RankNHDD[Month]=CGITempAct[[#This Row],[Month]])*(RankNHDD[Rank]=CGITempAct[[#This Row],[Rank]])*RankNHDD[CGINHDD])","v":24.9},{"$f":"YEAR(CGITempAct[[#This Row],[Date]])","v":2021},{"$f":"MONTH(CGITempAct[[#This Row],[Date]])","v":11},{"$f":"IF(CGITempAct[[#This Row],[Month]]=H465,I465+1,1)","v":8}]
[44525,55,29,{"$f":"AVERAGE(CGITempAct[[#This Row],[CGIHigh]:[CGILow]]\n)","v":42},{"$f":"IF(CGITempAct[[#This Row],[CGIAve]]<65,(65-CGITempAct[[#This Row],[CGIAve]]),0)","v":23},{"$f":"SUMPRODUCT((RankNHDD[Month]=CGITempAct[[#This Row],[Month]])*(RankNHDD[Rank]=CGITempAct[[#This Row],[Rank]])*RankNHDD[CGINHDD])","v":24.1},{"$f":"YEAR(CGITempAct[[#This Row],[Date]])","v":2021},{"$f":"MONTH(CGITempAct[[#This Row],[Date]])","v":11},{"$f":"IF(CGITempAct[[#This Row],[Month]]=H466,I466+1,1)","v":9}]
[44505,58,27,{"$f":"AVERAGE(CGITempAct[[#This Row],[CGIHigh]:[CGILow]]\n)","v":42.5},{"$f":"IF(CGITempAct[[#This Row],[CGIAve]]<65,(65-CGITempAct[[#This Row],[CGIAve]]),0)","v":22.5},{"$f":"SUMPRODUCT((RankNHDD[Month]=CGITempAct[[#This Row],[Month]])*(RankNHDD[Rank]=CGITempAct[[#This Row],[Rank]])*RankNHDD[CGINHDD])","v":23.1},{"$f":"YEAR(CGITempAct[[#This Row],[Date]])","v":2021},{"$f":"MONTH(CGITempAct[[#This Row],[Date]])","v":11},{"$f":"IF(CGITempAct[[#This Row],[Month]]=H467,I467+1,1)","v":10}]
[44518,53,32,{"$f":"AVERAGE(CGITempAct[[#This Row],[CGIHigh]:[CGILow]]\n)","v":42.5},{"$f":"IF(CGITempAct[[#This Row],[CGIAve]]<65,(65-CGITempAct[[#This Row],[CGIAve]]),0)","v":22.5},{"$f":"SUMPRODUCT((RankNHDD[Month]=CGITempAct[[#This Row],[Month]])*(RankNHDD[Rank]=CGITempAct[[#This Row],[Rank]])*RankNHDD[CGINHDD])","v":22.4},{"$f":"YEAR(CGITempAct[[#This Row],[Date]])","v":2021},{"$f":"MONTH(CGITempAct[[#This Row],[Date]])","v":11},{"$f":"IF(CGITempAct[[#This Row],[Month]]=H468,I468+1,1)","v":11}]
[44528,56,29,{"$f":"AVERAGE(CGITempAct[[#This Row],[CGIHigh]:[CGILow]]\n)","v":42.5},{"$f":"IF(CGITempAct[[#This Row],[CGIAve]]<65,(65-CGITempAct[[#This Row],[CGIAve]]),0)","v":22.5},{"$f":"SUMPRODUCT((RankNHDD[Month]=CGITempAct[[#This Row],[Month]])*(RankNHDD[Rank]=CGITempAct[[#This Row],[Rank]])*RankNHDD[CGINHDD])","v":21.7},{"$f":"YEAR(CGITempAct[[#This Row],[Date]])","v":2021},{"$f":"MONTH(CGITempAct[[#This Row],[Date]])","v":11},{"$f":"IF(CGITempAct[[#This Row],[Month]]=H469,I469+1,1)","v":12}]
[44527,56,30,{"$f":"AVERAGE(CGITempAct[[#This Row],[CGIHigh]:[CGILow]]\n)","v":43},{"$f":"IF(CGITempAct[[#This Row],[CGIAve]]<65,(65-CGITempAct[[#This Row],[CGIAve]]),0)","v":22},{"$f":"SUMPRODUCT((RankNHDD[Month]=CGITempAct[[#This Row],[Month]])*(RankNHDD[Rank]=CGITempAct[[#This Row],[Rank]])*RankNHDD[CGINHDD])","v":20.8},{"$f":"YEAR(CGITempAct[[#This Row],[Date]])","v":2021},{"$f":"MONTH(CGITempAct[[#This Row],[Date]])","v":11},{"$f":"IF(CGITempAct[[#This Row],[Month]]=H470,I470+1,1)","v":13}]
[44506,61,26,{"$f":"AVERAGE(CGITempAct[[#This Row],[CGIHigh]:[CGILow]]\n)","v":43.5},{"$f":"IF(CGITempAct[[#This Row],[CGIAve]]<65,(65-CGITempAct[[#This Row],[CGIAve]]),0)","v":21.5},{"$f":"SUMPRODUCT((RankNHDD[Month]=CGITempAct[[#This Row],[Month]])*(RankNHDD[Rank]=CGITempAct[[#This Row],[Rank]])*RankNHDD[CGINHDD])","v":19.8},{"$f":"YEAR(CGITempAct[[#This Row],[Date]])","v":2021},{"$f":"MONTH(CGITempAct[[#This Row],[Date]])","v":11},{"$f":"IF(CGITempAct[[#This Row],[Month]]=H471,I471+1,1)","v":14}]
[44515,58,32,{"$f":"AVERAGE(CGITempAct[[#This Row],[CGIHigh]:[CGILow]]\n)","v":45},{"$f":"IF(CGITempAct[[#This Row],[CGIAve]]<65,(65-CGITempAct[[#This Row],[CGIAve]]),0)","v":20},{"$f":"SUMPRODUCT((RankNHDD[Month]=CGITempAct[[#This Row],[Month]])*(RankNHDD[Rank]=CGITempAct[[#This Row],[Rank]])*RankNHDD[CGINHDD])","v":18.8},{"$f":"YEAR(CGITempAct[[#This Row],[Date]])","v":2021},{"$f":"MONTH(CGITempAct[[#This Row],[Date]])","v":11},{"$f":"IF(CGITempAct[[#This Row],[Month]]=H472,I472+1,1)","v":15}]
[44501,56,35,{"$f":"AVERAGE(CGITempAct[[#This Row],[CGIHigh]:[CGILow]]\n)","v":45.5},{"$f":"IF(CGITempAct[[#This Row],[CGIAve]]<65,(65-CGITempAct[[#This Row],[CGIAve]]),0)","v":19.5},{"$f":"SUMPRODUCT((RankNHDD[Month]=CGITempAct[[#This Row],[Month]])*(RankNHDD[Rank]=CGITempAct[[#This Row],[Rank]])*RankNHDD[CGINHDD])","v":17.899999999999999},{"$f":"YEAR(CGITempAct[[#This Row],[Date]])","v":2021},{"$f":"MONTH(CGITempAct[[#This Row],[Date]])","v":11},{"$f":"IF(CGITempAct[[#This Row],[Month]]=H473,I473+1,1)","v":16}]
[44520,55,37,{"$f":"AVERAGE(CGITempAct[[#This Row],[CGIHigh]:[CGILow]]\n)","v":46},{"$f":"IF(CGITempAct[[#This Row],[CGIAve]]<65,(65-CGITempAct[[#This Row],[CGIAve]]),0)","v":19},{"$f":"SUMPRODUCT((RankNHDD[Month]=CGITempAct[[#This Row],[Month]])*(RankNHDD[Rank]=CGITempAct[[#This Row],[Rank]])*RankNHDD[CGINHDD])","v":17.2},{"$f":"YEAR(CGITempAct[[#This Row],[Date]])","v":2021},{"$f":"MONTH(CGITempAct[[#This Row],[Date]])","v":11},{"$f":"IF(CGITempAct[[#This Row],[Month]]=H474,I474+1,1)","v":17}]
[44502,54,39,{"$f":"AVERAGE(CGITempAct[[#This Row],[CGIHigh]:[CGILow]]\n)","v":46.5},{"$f":"IF(CGITempAct[[#This Row],[CGIAve]]<65,(65-CGITempAct[[#This Row],[CGIAve]]),0)","v":18.5},{"$f":"SUMPRODUCT((RankNHDD[Month]=CGITempAct[[#This Row],[Month]])*(RankNHDD[Rank]=CGITempAct[[#This Row],[Rank]])*RankNHDD[CGINHDD])","v":16.3},{"$f":"YEAR(CGITempAct[[#This Row],[Date]])","v":2021},{"$f":"MONTH(CGITempAct[[#This Row],[Date]])","v":11},{"$f":"IF(CGITempAct[[#This Row],[Month]]=H475,I475+1,1)","v":18}]
[44512,56,37,{"$f":"AVERAGE(CGITempAct[[#This Row],[CGIHigh]:[CGILow]]\n)","v":46.5},{"$f":"IF(CGITempAct[[#This Row],[CGIAve]]<65,(65-CGITempAct[[#This Row],[CGIAve]]),0)","v":18.5},{"$f":"SUMPRODUCT((RankNHDD[Month]=CGITempAct[[#This Row],[Month]])*(RankNHDD[Rank]=CGITempAct[[#This Row],[Rank]])*RankNHDD[CGINHDD])","v":15.5},{"$f":"YEAR(CGITempAct[[#This Row],[Date]])","v":2021},{"$f":"MONTH(CGITempAct[[#This Row],[Date]])","v":11},{"$f":"IF(CGITempAct[[#This Row],[Month]]=H476,I476+1,1)","v":19}]
[44521,56,37,{"$f":"AVERAGE(CGITempAct[[#This Row],[CGIHigh]:[CGILow]]\n)","v":46.5},{"$f":"IF(CGITempAct[[#This Row],[CGIAve]]<65,(65-CGITempAct[[#This Row],[CGIAve]]),0)","v":18.5},{"$f":"SUMPRODUCT((RankNHDD[Month]=CGITempAct[[#This Row],[Month]])*(RankNHDD[Rank]=CGITempAct[[#This Row],[Rank]])*RankNHDD[CGINHDD])","v":14.7},{"$f":"YEAR(CGITempAct[[#This Row],[Date]])","v":2021},{"$f":"MONTH(CGITempAct[[#This Row],[Date]])","v":11},{"$f":"IF(CGITempAct[[#This Row],[Month]]=H477,I477+1,1)","v":20}]
[44514,60,34,{"$f":"AVERAGE(CGITempAct[[#This Row],[CGIHigh]:[CGILow]]\n)","v":47},{"$f":"IF(CGITempAct[[#This Row],[CGIAve]]<65,(65-CGITempAct[[#This Row],[CGIAve]]),0)","v":18},{"$f":"SUMPRODUCT((RankNHDD[Month]=CGITempAct[[#This Row],[Month]])*(RankNHDD[Rank]=CGITempAct[[#This Row],[Rank]])*RankNHDD[CGINHDD])","v":13.8},{"$f":"YEAR(CGITempAct[[#This Row],[Date]])","v":2021},{"$f":"MONTH(CGITempAct[[#This Row],[Date]])","v":11},{"$f":"IF(CGITempAct[[#This Row],[Month]]=H478,I478+1,1)","v":21}]
[44530,63,31,{"$f":"AVERAGE(CGITempAct[[#This Row],[CGIHigh]:[CGILow]]\n)","v":47},{"$f":"IF(CGITempAct[[#This Row],[CGIAve]]<65,(65-CGITempAct[[#This Row],[CGIAve]]),0)","v":18},{"$f":"SUMPRODUCT((RankNHDD[Month]=CGITempAct[[#This Row],[Month]])*(RankNHDD[Rank]=CGITempAct[[#This Row],[Rank]])*RankNHDD[CGINHDD])","v":12.6},{"$f":"YEAR(CGITempAct[[#This Row],[Date]])","v":2021},{"$f":"MONTH(CGITempAct[[#This Row],[Date]])","v":11},{"$f":"IF(CGITempAct[[#This Row],[Month]]=H479,I479+1,1)","v":22}]
[44507,65,30,{"$f":"AVERAGE(CGITempAct[[#This Row],[CGIHigh]:[CGILow]]\n)","v":47.5},{"$f":"IF(CGITempAct[[#This Row],[CGIAve]]<65,(65-CGITempAct[[#This Row],[CGIAve]]),0)","v":17.5},{"$f":"SUMPRODUCT((RankNHDD[Month]=CGITempAct[[#This Row],[Month]])*(RankNHDD[Rank]=CGITempAct[[#This Row],[Rank]])*RankNHDD[CGINHDD])","v":11.6},{"$f":"YEAR(CGITempAct[[#This Row],[Date]])","v":2021},{"$f":"MONTH(CGITempAct[[#This Row],[Date]])","v":11},{"$f":"IF(CGITempAct[[#This Row],[Month]]=H480,I480+1,1)","v":23}]
[44524,62,37,{"$f":"AVERAGE(CGITempAct[[#This Row],[CGIHigh]:[CGILow]]\n)","v":49.5},{"$f":"IF(CGITempAct[[#This Row],[CGIAve]]<65,(65-CGITempAct[[#This Row],[CGIAve]]),0)","v":15.5},{"$f":"SUMPRODUCT((RankNHDD[Month]=CGITempAct[[#This Row],[Month]])*(RankNHDD[Rank]=CGITempAct[[#This Row],[Rank]])*RankNHDD[CGINHDD])","v":10.3},{"$f":"YEAR(CGITempAct[[#This Row],[Date]])","v":2021},{"$f":"MONTH(CGITempAct[[#This Row],[Date]])","v":11},{"$f":"IF(CGITempAct[[#This Row],[Month]]=H481,I481+1,1)","v":24}]
[44516,66,36,{"$f":"AVERAGE(CGITempAct[[#This Row],[CGIHigh]:[CGILow]]\n)","v":51},{"$f":"IF(CGITempAct[[#This Row],[CGIAve]]<65,(65-CGITempAct[[#This Row],[CGIAve]]),0)","v":14},{"$f":"SUMPRODUCT((RankNHDD[Month]=CGITempAct[[#This Row],[Month]])*(RankNHDD[Rank]=CGITempAct[[#This Row],[Rank]])*RankNHDD[CGINHDD])","v":9},{"$f":"YEAR(CGITempAct[[#This Row],[Date]])","v":2021},{"$f":"MONTH(CGITempAct[[#This Row],[Date]])","v":11},{"$f":"IF(CGITempAct[[#This Row],[Month]]=H482,I482+1,1)","v":25}]
[44509,66,39,{"$f":"AVERAGE(CGITempAct[[#This Row],[CGIHigh]:[CGILow]]\n)","v":52.5},{"$f":"IF(CGITempAct[[#This Row],[CGIAve]]<65,(65-CGITempAct[[#This Row],[CGIAve]]),0)","v":12.5},{"$f":"SUMPRODUCT((RankNHDD[Month]=CGITempAct[[#This Row],[Month]])*(RankNHDD[Rank]=CGITempAct[[#This Row],[Rank]])*RankNHDD[CGINHDD])","v":7.9},{"$f":"YEAR(CGITempAct[[#This Row],[Date]])","v":2021},{"$f":"MONTH(CGITempAct[[#This Row],[Date]])","v":11},{"$f":"IF(CGITempAct[[#This Row],[Month]]=H483,I483+1,1)","v":26}]
[44508,71,35,{"$f":"AVERAGE(CGITempAct[[#This Row],[CGIHigh]:[CGILow]]\n)","v":53},{"$f":"IF(CGITempAct[[#This Row],[CGIAve]]<65,(65-CGITempAct[[#This Row],[CGIAve]]),0)","v":12},{"$f":"SUMPRODUCT((RankNHDD[Month]=CGITempAct[[#This Row],[Month]])*(RankNHDD[Rank]=CGITempAct[[#This Row],[Rank]])*RankNHDD[CGINHDD])","v":6.2},{"$f":"YEAR(CGITempAct[[#This Row],[Date]])","v":2021},{"$f":"MONTH(CGITempAct[[#This Row],[Date]])","v":11},{"$f":"IF(CGITempAct[[#This Row],[Month]]=H484,I484+1,1)","v":27}]
[44511,63,43,{"$f":"AVERAGE(CGITempAct[[#This Row],[CGIHigh]:[CGILow]]\n)","v":53},{"$f":"IF(CGITempAct[[#This Row],[CGIAve]]<65,(65-CGITempAct[[#This Row],[CGIAve]]),0)","v":12},{"$f":"SUMPRODUCT((RankNHDD[Month]=CGITempAct[[#This Row],[Month]])*(RankNHDD[Rank]=CGITempAct[[#This Row],[Rank]])*RankNHDD[CGINHDD])","v":4.2},{"$f":"YEAR(CGITempAct[[#This Row],[Date]])","v":2021},{"$f":"MONTH(CGITempAct[[#This Row],[Date]])","v":11},{"$f":"IF(CGITempAct[[#This Row],[Month]]=H485,I485+1,1)","v":28}]
[44517,68,45,{"$f":"AVERAGE(CGITempAct[[#This Row],[CGIHigh]:[CGILow]]\n)","v":56.5},{"$f":"IF(CGITempAct[[#This Row],[CGIAve]]<65,(65-CGITempAct[[#This Row],[CGIAve]]),0)","v":8.5},{"$f":"SUMPRODUCT((RankNHDD[Month]=CGITempAct[[#This Row],[Month]])*(RankNHDD[Rank]=CGITempAct[[#This Row],[Rank]])*RankNHDD[CGINHDD])","v":1.9},{"$f":"YEAR(CGITempAct[[#This Row],[Date]])","v":2021},{"$f":"MONTH(CGITempAct[[#This Row],[Date]])","v":11},{"$f":"IF(CGITempAct[[#This Row],[Month]]=H486,I486+1,1)","v":29}]
[44510,69,46,{"$f":"AVERAGE(CGITempAct[[#This Row],[CGIHigh]:[CGILow]]\n)","v":57.5},{"$f":"IF(CGITempAct[[#This Row],[CGIAve]]<65,(65-CGITempAct[[#This Row],[CGIAve]]),0)","v":7.5},{"$f":"SUMPRODUCT((RankNHDD[Month]=CGITempAct[[#This Row],[Month]])*(RankNHDD[Rank]=CGITempAct[[#This Row],[Rank]])*RankNHDD[CGINHDD])","v":0.1},{"$f":"YEAR(CGITempAct[[#This Row],[Date]])","v":2021},{"$f":"MONTH(CGITempAct[[#This Row],[Date]])","v":11},{"$f":"IF(CGITempAct[[#This Row],[Month]]=H487,I487+1,1)","v":30}]
[44537,38,28,{"$f":"AVERAGE(CGITempAct[[#This Row],[CGIHigh]:[CGILow]]\n)","v":33},{"$f":"IF(CGITempAct[[#This Row],[CGIAve]]<65,(65-CGITempAct[[#This Row],[CGIAve]]),0)","v":32},{"$f":"SUMPRODUCT((RankNHDD[Month]=CGITempAct[[#This Row],[Month]])*(RankNHDD[Rank]=CGITempAct[[#This Row],[Rank]])*RankNHDD[CGINHDD])","v":54.3},{"$f":"YEAR(CGITempAct[[#This Row],[Date]])","v":2021},{"$f":"MONTH(CGITempAct[[#This Row],[Date]])","v":12},{"$f":"IF(CGITempAct[[#This Row],[Month]]=H488,I488+1,1)","v":1}]
[44550,45,25,{"$f":"AVERAGE(CGITempAct[[#This Row],[CGIHigh]:[CGILow]]\n)","v":35},{"$f":"IF(CGITempAct[[#This Row],[CGIAve]]<65,(65-CGITempAct[[#This Row],[CGIAve]]),0)","v":30},{"$f":"SUMPRODUCT((RankNHDD[Month]=CGITempAct[[#This Row],[Month]])*(RankNHDD[Rank]=CGITempAct[[#This Row],[Rank]])*RankNHDD[CGINHDD])","v":46.4},{"$f":"YEAR(CGITempAct[[#This Row],[Date]])","v":2021},{"$f":"MONTH(CGITempAct[[#This Row],[Date]])","v":12},{"$f":"IF(CGITempAct[[#This Row],[Month]]=H489,I489+1,1)","v":2}]
[44549,44,28,{"$f":"AVERAGE(CGITempAct[[#This Row],[CGIHigh]:[CGILow]]\n)","v":36},{"$f":"IF(CGITempAct[[#This Row],[CGIAve]]<65,(65-CGITempAct[[#This Row],[CGIAve]]),0)","v":29},{"$f":"SUMPRODUCT((RankNHDD[Month]=CGITempAct[[#This Row],[Month]])*(RankNHDD[Rank]=CGITempAct[[#This Row],[Rank]])*RankNHDD[CGINHDD])","v":42.8},{"$f":"YEAR(CGITempAct[[#This Row],[Date]])","v":2021},{"$f":"MONTH(CGITempAct[[#This Row],[Date]])","v":12},{"$f":"IF(CGITempAct[[#This Row],[Month]]=H490,I490+1,1)","v":3}]
[44552,46,27,{"$f":"AVERAGE(CGITempAct[[#This Row],[CGIHigh]:[CGILow]]\n)","v":36.5},{"$f":"IF(CGITempAct[[#This Row],[CGIAve]]<65,(65-CGITempAct[[#This Row],[CGIAve]]),0)","v":28.5},{"$f":"SUMPRODUCT((RankNHDD[Month]=CGITempAct[[#This Row],[Month]])*(RankNHDD[Rank]=CGITempAct[[#This Row],[Rank]])*RankNHDD[CGINHDD])","v":40.6},{"$f":"YEAR(CGITempAct[[#This Row],[Date]])","v":2021},{"$f":"MONTH(CGITempAct[[#This Row],[Date]])","v":12},{"$f":"IF(CGITempAct[[#This Row],[Month]]=H491,I491+1,1)","v":4}]
[44542,50,25,{"$f":"AVERAGE(CGITempAct[[#This Row],[CGIHigh]:[CGILow]]\n)","v":37.5},{"$f":"IF(CGITempAct[[#This Row],[CGIAve]]<65,(65-CGITempAct[[#This Row],[CGIAve]]),0)","v":27.5},{"$f":"SUMPRODUCT((RankNHDD[Month]=CGITempAct[[#This Row],[Month]])*(RankNHDD[Rank]=CGITempAct[[#This Row],[Rank]])*RankNHDD[CGINHDD])","v":38.5},{"$f":"YEAR(CGITempAct[[#This Row],[Date]])","v":2021},{"$f":"MONTH(CGITempAct[[#This Row],[Date]])","v":12},{"$f":"IF(CGITempAct[[#This Row],[Month]]=H492,I492+1,1)","v":5}]
[44551,51,26,{"$f":"AVERAGE(CGITempAct[[#This Row],[CGIHigh]:[CGILow]]\n)","v":38.5},{"$f":"IF(CGITempAct[[#This Row],[CGIAve]]<65,(65-CGITempAct[[#This Row],[CGIAve]]),0)","v":26.5},{"$f":"SUMPRODUCT((RankNHDD[Month]=CGITempAct[[#This Row],[Month]])*(RankNHDD[Rank]=CGITempAct[[#This Row],[Rank]])*RankNHDD[CGINHDD])","v":37},{"$f":"YEAR(CGITempAct[[#This Row],[Date]])","v":2021},{"$f":"MONTH(CGITempAct[[#This Row],[Date]])","v":12},{"$f":"IF(CGITempAct[[#This Row],[Month]]=H493,I493+1,1)","v":6}]
[44538,51,27,{"$f":"AVERAGE(CGITempAct[[#This Row],[CGIHigh]:[CGILow]]\n)","v":39},{"$f":"IF(CGITempAct[[#This Row],[CGIAve]]<65,(65-CGITempAct[[#This Row],[CGIAve]]),0)","v":26},{"$f":"SUMPRODUCT((RankNHDD[Month]=CGITempAct[[#This Row],[Month]])*(RankNHDD[Rank]=CGITempAct[[#This Row],[Rank]])*RankNHDD[CGINHDD])","v":35.6},{"$f":"YEAR(CGITempAct[[#This Row],[Date]])","v":2021},{"$f":"MONTH(CGITempAct[[#This Row],[Date]])","v":12},{"$f":"IF(CGITempAct[[#This Row],[Month]]=H494,I494+1,1)","v":7}]
[44543,54,28,{"$f":"AVERAGE(CGITempAct[[#This Row],[CGIHigh]:[CGILow]]\n)","v":41},{"$f":"IF(CGITempAct[[#This Row],[CGIAve]]<65,(65-CGITempAct[[#This Row],[CGIAve]]),0)","v":24},{"$f":"SUMPRODUCT((RankNHDD[Month]=CGITempAct[[#This Row],[Month]])*(RankNHDD[Rank]=CGITempAct[[#This Row],[Rank]])*RankNHDD[CGINHDD])","v":34.4},{"$f":"YEAR(CGITempAct[[#This Row],[Date]])","v":2021},{"$f":"MONTH(CGITempAct[[#This Row],[Date]])","v":12},{"$f":"IF(CGITempAct[[#This Row],[Month]]=H495,I495+1,1)","v":8}]
[44553,56,27,{"$f":"AVERAGE(CGITempAct[[#This Row],[CGIHigh]:[CGILow]]\n)","v":41.5},{"$f":"IF(CGITempAct[[#This Row],[CGIAve]]<65,(65-CGITempAct[[#This Row],[CGIAve]]),0)","v":23.5},{"$f":"SUMPRODUCT((RankNHDD[Month]=CGITempAct[[#This Row],[Month]])*(RankNHDD[Rank]=CGITempAct[[#This Row],[Rank]])*RankNHDD[CGINHDD])","v":33.200000000000003},{"$f":"YEAR(CGITempAct[[#This Row],[Date]])","v":2021},{"$f":"MONTH(CGITempAct[[#This Row],[Date]])","v":12},{"$f":"IF(CGITempAct[[#This Row],[Month]]=H496,I496+1,1)","v":9}]
[44536,60,30,{"$f":"AVERAGE(CGITempAct[[#This Row],[CGIHigh]:[CGILow]]\n)","v":45},{"$f":"IF(CGITempAct[[#This Row],[CGIAve]]<65,(65-CGITempAct[[#This Row],[CGIAve]]),0)","v":20},{"$f":"SUMPRODUCT((RankNHDD[Month]=CGITempAct[[#This Row],[Month]])*(RankNHDD[Rank]=CGITempAct[[#This Row],[Rank]])*RankNHDD[CGINHDD])","v":32.200000000000003},{"$f":"YEAR(CGITempAct[[#This Row],[Date]])","v":2021},{"$f":"MONTH(CGITempAct[[#This Row],[Date]])","v":12},{"$f":"IF(CGITempAct[[#This Row],[Month]]=H497,I497+1,1)","v":10}]
[44548,58,34,{"$f":"AVERAGE(CGITempAct[[#This Row],[CGIHigh]:[CGILow]]\n)","v":46},{"$f":"IF(CGITempAct[[#This Row],[CGIAve]]<65,(65-CGITempAct[[#This Row],[CGIAve]]),0)","v":19},{"$f":"SUMPRODUCT((RankNHDD[Month]=CGITempAct[[#This Row],[Month]])*(RankNHDD[Rank]=CGITempAct[[#This Row],[Rank]])*RankNHDD[CGINHDD])","v":31.2},{"$f":"YEAR(CGITempAct[[#This Row],[Date]])","v":2021},{"$f":"MONTH(CGITempAct[[#This Row],[Date]])","v":12},{"$f":"IF(CGITempAct[[#This Row],[Month]]=H498,I498+1,1)","v":11}]
[44539,57,37,{"$f":"AVERAGE(CGITempAct[[#This Row],[CGIHigh]:[CGILow]]\n)","v":47},{"$f":"IF(CGITempAct[[#This Row],[CGIAve]]<65,(65-CGITempAct[[#This Row],[CGIAve]]),0)","v":18},{"$f":"SUMPRODUCT((RankNHDD[Month]=CGITempAct[[#This Row],[Month]])*(RankNHDD[Rank]=CGITempAct[[#This Row],[Rank]])*RankNHDD[CGINHDD])","v":30.5},{"$f":"YEAR(CGITempAct[[#This Row],[Date]])","v":2021},{"$f":"MONTH(CGITempAct[[#This Row],[Date]])","v":12},{"$f":"IF(CGITempAct[[#This Row],[Month]]=H499,I499+1,1)","v":12}]
[44547,52,42,{"$f":"AVERAGE(CGITempAct[[#This Row],[CGIHigh]:[CGILow]]\n)","v":47},{"$f":"IF(CGITempAct[[#This Row],[CGIAve]]<65,(65-CGITempAct[[#This Row],[CGIAve]]),0)","v":18},{"$f":"SUMPRODUCT((RankNHDD[Month]=CGITempAct[[#This Row],[Month]])*(RankNHDD[Rank]=CGITempAct[[#This Row],[Rank]])*RankNHDD[CGINHDD])","v":29.8},{"$f":"YEAR(CGITempAct[[#This Row],[Date]])","v":2021},{"$f":"MONTH(CGITempAct[[#This Row],[Date]])","v":12},{"$f":"IF(CGITempAct[[#This Row],[Month]]=H500,I500+1,1)","v":13}]
[44531,59,37,{"$f":"AVERAGE(CGITempAct[[#This Row],[CGIHigh]:[CGILow]]\n)","v":48},{"$f":"IF(CGITempAct[[#This Row],[CGIAve]]<65,(65-CGITempAct[[#This Row],[CGIAve]]),0)","v":17},{"$f":"SUMPRODUCT((RankNHDD[Month]=CGITempAct[[#This Row],[Month]])*(RankNHDD[Rank]=CGITempAct[[#This Row],[Rank]])*RankNHDD[CGINHDD])","v":29.1},{"$f":"YEAR(CGITempAct[[#This Row],[Date]])","v":2021},{"$f":"MONTH(CGITempAct[[#This Row],[Date]])","v":12},{"$f":"IF(CGITempAct[[#This Row],[Month]]=H501,I501+1,1)","v":14}]
[44559,55,41,{"$f":"AVERAGE(CGITempAct[[#This Row],[CGIHigh]:[CGILow]]\n)","v":48},{"$f":"IF(CGITempAct[[#This Row],[CGIAve]]<65,(65-CGITempAct[[#This Row],[CGIAve]]),0)","v":17},{"$f":"SUMPRODUCT((RankNHDD[Month]=CGITempAct[[#This Row],[Month]])*(RankNHDD[Rank]=CGITempAct[[#This Row],[Rank]])*RankNHDD[CGINHDD])","v":28.4},{"$f":"YEAR(CGITempAct[[#This Row],[Date]])","v":2021},{"$f":"MONTH(CGITempAct[[#This Row],[Date]])","v":12},{"$f":"IF(CGITempAct[[#This Row],[Month]]=H502,I502+1,1)","v":15}]
[44541,69,29,{"$f":"AVERAGE(CGITempAct[[#This Row],[CGIHigh]:[CGILow]]\n)","v":49},{"$f":"IF(CGITempAct[[#This Row],[CGIAve]]<65,(65-CGITempAct[[#This Row],[CGIAve]]),0)","v":16},{"$f":"SUMPRODUCT((RankNHDD[Month]=CGITempAct[[#This Row],[Month]])*(RankNHDD[Rank]=CGITempAct[[#This Row],[Rank]])*RankNHDD[CGINHDD])","v":27.7},{"$f":"YEAR(CGITempAct[[#This Row],[Date]])","v":2021},{"$f":"MONTH(CGITempAct[[#This Row],[Date]])","v":12},{"$f":"IF(CGITempAct[[#This Row],[Month]]=H503,I503+1,1)","v":16}]
[44560,54,45,{"$f":"AVERAGE(CGITempAct[[#This Row],[CGIHigh]:[CGILow]]\n)","v":49.5},{"$f":"IF(CGITempAct[[#This Row],[CGIAve]]<65,(65-CGITempAct[[#This Row],[CGIAve]]),0)","v":15.5},{"$f":"SUMPRODUCT((RankNHDD[Month]=CGITempAct[[#This Row],[Month]])*(RankNHDD[Rank]=CGITempAct[[#This Row],[Rank]])*RankNHDD[CGINHDD])","v":27.1},{"$f":"YEAR(CGITempAct[[#This Row],[Date]])","v":2021},{"$f":"MONTH(CGITempAct[[#This Row],[Date]])","v":12},{"$f":"IF(CGITempAct[[#This Row],[Month]]=H504,I504+1,1)","v":17}]
[44544,66,35,{"$f":"AVERAGE(CGITempAct[[#This Row],[CGIHigh]:[CGILow]]\n)","v":50.5},{"$f":"IF(CGITempAct[[#This Row],[CGIAve]]<65,(65-CGITempAct[[#This Row],[CGIAve]]),0)","v":14.5},{"$f":"SUMPRODUCT((RankNHDD[Month]=CGITempAct[[#This Row],[Month]])*(RankNHDD[Rank]=CGITempAct[[#This Row],[Rank]])*RankNHDD[CGINHDD])","v":26.3},{"$f":"YEAR(CGITempAct[[#This Row],[Date]])","v":2021},{"$f":"MONTH(CGITempAct[[#This Row],[Date]])","v":12},{"$f":"IF(CGITempAct[[#This Row],[Month]]=H505,I505+1,1)","v":18}]
[44534,61,43,{"$f":"AVERAGE(CGITempAct[[#This Row],[CGIHigh]:[CGILow]]\n)","v":52},{"$f":"IF(CGITempAct[[#This Row],[CGIAve]]<65,(65-CGITempAct[[#This Row],[CGIAve]]),0)","v":13},{"$f":"SUMPRODUCT((RankNHDD[Month]=CGITempAct[[#This Row],[Month]])*(RankNHDD[Rank]=CGITempAct[[#This Row],[Rank]])*RankNHDD[CGINHDD])","v":25.6},{"$f":"YEAR(CGITempAct[[#This Row],[Date]])","v":2021},{"$f":"MONTH(CGITempAct[[#This Row],[Date]])","v":12},{"$f":"IF(CGITempAct[[#This Row],[Month]]=H506,I506+1,1)","v":19}]
[44556,68,38,{"$f":"AVERAGE(CGITempAct[[#This Row],[CGIHigh]:[CGILow]]\n)","v":53},{"$f":"IF(CGITempAct[[#This Row],[CGIAve]]<65,(65-CGITempAct[[#This Row],[CGIAve]]),0)","v":12},{"$f":"SUMPRODUCT((RankNHDD[Month]=CGITempAct[[#This Row],[Month]])*(RankNHDD[Rank]=CGITempAct[[#This Row],[Rank]])*RankNHDD[CGINHDD])","v":25},{"$f":"YEAR(CGITempAct[[#This Row],[Date]])","v":2021},{"$f":"MONTH(CGITempAct[[#This Row],[Date]])","v":12},{"$f":"IF(CGITempAct[[#This Row],[Month]]=H507,I507+1,1)","v":20}]
[44532,72,35,{"$f":"AVERAGE(CGITempAct[[#This Row],[CGIHigh]:[CGILow]]\n)","v":53.5},{"$f":"IF(CGITempAct[[#This Row],[CGIAve]]<65,(65-CGITempAct[[#This Row],[CGIAve]]),0)","v":11.5},{"$f":"SUMPRODUCT((RankNHDD[Month]=CGITempAct[[#This Row],[Month]])*(RankNHDD[Rank]=CGITempAct[[#This Row],[Rank]])*RankNHDD[CGINHDD])","v":24.2},{"$f":"YEAR(CGITempAct[[#This Row],[Date]])","v":2021},{"$f":"MONTH(CGITempAct[[#This Row],[Date]])","v":12},{"$f":"IF(CGITempAct[[#This Row],[Month]]=H508,I508+1,1)","v":21}]
[44546,65,42,{"$f":"AVERAGE(CGITempAct[[#This Row],[CGIHigh]:[CGILow]]\n)","v":53.5},{"$f":"IF(CGITempAct[[#This Row],[CGIAve]]<65,(65-CGITempAct[[#This Row],[CGIAve]]),0)","v":11.5},{"$f":"SUMPRODUCT((RankNHDD[Month]=CGITempAct[[#This Row],[Month]])*(RankNHDD[Rank]=CGITempAct[[#This Row],[Rank]])*RankNHDD[CGINHDD])","v":23.1},{"$f":"YEAR(CGITempAct[[#This Row],[Date]])","v":2021},{"$f":"MONTH(CGITempAct[[#This Row],[Date]])","v":12},{"$f":"IF(CGITempAct[[#This Row],[Month]]=H509,I509+1,1)","v":22}]
[44533,72,36,{"$f":"AVERAGE(CGITempAct[[#This Row],[CGIHigh]:[CGILow]]\n)","v":54},{"$f":"IF(CGITempAct[[#This Row],[CGIAve]]<65,(65-CGITempAct[[#This Row],[CGIAve]]),0)","v":11},{"$f":"SUMPRODUCT((RankNHDD[Month]=CGITempAct[[#This Row],[Month]])*(RankNHDD[Rank]=CGITempAct[[#This Row],[Rank]])*RankNHDD[CGINHDD])","v":22.2},{"$f":"YEAR(CGITempAct[[#This Row],[Date]])","v":2021},{"$f":"MONTH(CGITempAct[[#This Row],[Date]])","v":12},{"$f":"IF(CGITempAct[[#This Row],[Month]]=H510,I510+1,1)","v":23}]
[44535,67,44,{"$f":"AVERAGE(CGITempAct[[#This Row],[CGIHigh]:[CGILow]]\n)","v":55.5},{"$f":"IF(CGITempAct[[#This Row],[CGIAve]]<65,(65-CGITempAct[[#This Row],[CGIAve]]),0)","v":9.5},{"$f":"SUMPRODUCT((RankNHDD[Month]=CGITempAct[[#This Row],[Month]])*(RankNHDD[Rank]=CGITempAct[[#This Row],[Rank]])*RankNHDD[CGINHDD])","v":21.3},{"$f":"YEAR(CGITempAct[[#This Row],[Date]])","v":2021},{"$f":"MONTH(CGITempAct[[#This Row],[Date]])","v":12},{"$f":"IF(CGITempAct[[#This Row],[Month]]=H511,I511+1,1)","v":24}]
[44561,66,51,{"$f":"AVERAGE(CGITempAct[[#This Row],[CGIHigh]:[CGILow]]\n)","v":58.5},{"$f":"IF(CGITempAct[[#This Row],[CGIAve]]<65,(65-CGITempAct[[#This Row],[CGIAve]]),0)","v":6.5},{"$f":"SUMPRODUCT((RankNHDD[Month]=CGITempAct[[#This Row],[Month]])*(RankNHDD[Rank]=CGITempAct[[#This Row],[Rank]])*RankNHDD[CGINHDD])","v":20.3},{"$f":"YEAR(CGITempAct[[#This Row],[Date]])","v":2021},{"$f":"MONTH(CGITempAct[[#This Row],[Date]])","v":12},{"$f":"IF(CGITempAct[[#This Row],[Month]]=H512,I512+1,1)","v":25}]
[44554,65,54,{"$f":"AVERAGE(CGITempAct[[#This Row],[CGIHigh]:[CGILow]]\n)","v":59.5},{"$f":"IF(CGITempAct[[#This Row],[CGIAve]]<65,(65-CGITempAct[[#This Row],[CGIAve]]),0)","v":5.5},{"$f":"SUMPRODUCT((RankNHDD[Month]=CGITempAct[[#This Row],[Month]])*(RankNHDD[Rank]=CGITempAct[[#This Row],[Rank]])*RankNHDD[CGINHDD])","v":19},{"$f":"YEAR(CGITempAct[[#This Row],[Date]])","v":2021},{"$f":"MONTH(CGITempAct[[#This Row],[Date]])","v":12},{"$f":"IF(CGITempAct[[#This Row],[Month]]=H513,I513+1,1)","v":26}]
[44558,68,51,{"$f":"AVERAGE(CGITempAct[[#This Row],[CGIHigh]:[CGILow]]\n)","v":59.5},{"$f":"IF(CGITempAct[[#This Row],[CGIAve]]<65,(65-CGITempAct[[#This Row],[CGIAve]]),0)","v":5.5},{"$f":"SUMPRODUCT((RankNHDD[Month]=CGITempAct[[#This Row],[Month]])*(RankNHDD[Rank]=CGITempAct[[#This Row],[Rank]])*RankNHDD[CGINHDD])","v":17.3},{"$f":"YEAR(CGITempAct[[#This Row],[Date]])","v":2021},{"$f":"MONTH(CGITempAct[[#This Row],[Date]])","v":12},{"$f":"IF(CGITempAct[[#This Row],[Month]]=H514,I514+1,1)","v":27}]
[44555,74,47,{"$f":"AVERAGE(CGITempAct[[#This Row],[CGIHigh]:[CGILow]]\n)","v":60.5},{"$f":"IF(CGITempAct[[#This Row],[CGIAve]]<65,(65-CGITempAct[[#This Row],[CGIAve]]),0)","v":4.5},{"$f":"SUMPRODUCT((RankNHDD[Month]=CGITempAct[[#This Row],[Month]])*(RankNHDD[Rank]=CGITempAct[[#This Row],[Rank]])*RankNHDD[CGINHDD])","v":15.7},{"$f":"YEAR(CGITempAct[[#This Row],[Date]])","v":2021},{"$f":"MONTH(CGITempAct[[#This Row],[Date]])","v":12},{"$f":"IF(CGITempAct[[#This Row],[Month]]=H515,I515+1,1)","v":28}]
[44545,64,60,{"$f":"AVERAGE(CGITempAct[[#This Row],[CGIHigh]:[CGILow]]\n)","v":62},{"$f":"IF(CGITempAct[[#This Row],[CGIAve]]<65,(65-CGITempAct[[#This Row],[CGIAve]]),0)","v":3},{"$f":"SUMPRODUCT((RankNHDD[Month]=CGITempAct[[#This Row],[Month]])*(RankNHDD[Rank]=CGITempAct[[#This Row],[Rank]])*RankNHDD[CGINHDD])","v":14},{"$f":"YEAR(CGITempAct[[#This Row],[Date]])","v":2021},{"$f":"MONTH(CGITempAct[[#This Row],[Date]])","v":12},{"$f":"IF(CGITempAct[[#This Row],[Month]]=H516,I516+1,1)","v":29}]
[44557,73,52,{"$f":"AVERAGE(CGITempAct[[#This Row],[CGIHigh]:[CGILow]]\n)","v":62.5},{"$f":"IF(CGITempAct[[#This Row],[CGIAve]]<65,(65-CGITempAct[[#This Row],[CGIAve]]),0)","v":2.5},{"$f":"SUMPRODUCT((RankNHDD[Month]=CGITempAct[[#This Row],[Month]])*(RankNHDD[Rank]=CGITempAct[[#This Row],[Rank]])*RankNHDD[CGINHDD])","v":10.8},{"$f":"YEAR(CGITempAct[[#This Row],[Date]])","v":2021},{"$f":"MONTH(CGITempAct[[#This Row],[Date]])","v":12},{"$f":"IF(CGITempAct[[#This Row],[Month]]=H517,I517+1,1)","v":30}]
[44540,73,56,{"$f":"AVERAGE(CGITempAct[[#This Row],[CGIHigh]:[CGILow]]\n)","v":64.5},{"$f":"IF(CGITempAct[[#This Row],[CGIAve]]<65,(65-CGITempAct[[#This Row],[CGIAve]]),0)","v":0.5},{"$f":"SUMPRODUCT((RankNHDD[Month]=CGITempAct[[#This Row],[Month]])*(RankNHDD[Rank]=CGITempAct[[#This Row],[Rank]])*RankNHDD[CGINHDD])","v":5.2},{"$f":"YEAR(CGITempAct[[#This Row],[Date]])","v":2021},{"$f":"MONTH(CGITempAct[[#This Row],[Date]])","v":12},{"$f":"IF(CGITempAct[[#This Row],[Month]]=H518,I518+1,1)","v":31}]
[44568,22,9,{"$f":"AVERAGE(CGITempAct[[#This Row],[CGIHigh]:[CGILow]]\n)","v":15.5},{"$f":"IF(CGITempAct[[#This Row],[CGIAve]]<65,(65-CGITempAct[[#This Row],[CGIAve]]),0)","v":49.5},{"$f":"SUMPRODUCT((RankNHDD[Month]=CGITempAct[[#This Row],[Month]])*(RankNHDD[Rank]=CGITempAct[[#This Row],[Rank]])*RankNHDD[CGINHDD])","v":55.9},{"$f":"YEAR(CGITempAct[[#This Row],[Date]])","v":2022},{"$f":"MONTH(CGITempAct[[#This Row],[Date]])","v":1},{"$f":"IF(CGITempAct[[#This Row],[Month]]=H519,I519+1,1)","v":1}]
[44581,25,13,{"$f":"AVERAGE(CGITempAct[[#This Row],[CGIHigh]:[CGILow]]\n)","v":19},{"$f":"IF(CGITempAct[[#This Row],[CGIAve]]<65,(65-CGITempAct[[#This Row],[CGIAve]]),0)","v":46},{"$f":"SUMPRODUCT((RankNHDD[Month]=CGITempAct[[#This Row],[Month]])*(RankNHDD[Rank]=CGITempAct[[#This Row],[Rank]])*RankNHDD[CGINHDD])","v":49.5},{"$f":"YEAR(CGITempAct[[#This Row],[Date]])","v":2022},{"$f":"MONTH(CGITempAct[[#This Row],[Date]])","v":1},{"$f":"IF(CGITempAct[[#This Row],[Month]]=H520,I520+1,1)","v":2}]
[44582,29,11,{"$f":"AVERAGE(CGITempAct[[#This Row],[CGIHigh]:[CGILow]]\n)","v":20},{"$f":"IF(CGITempAct[[#This Row],[CGIAve]]<65,(65-CGITempAct[[#This Row],[CGIAve]]),0)","v":45},{"$f":"SUMPRODUCT((RankNHDD[Month]=CGITempAct[[#This Row],[Month]])*(RankNHDD[Rank]=CGITempAct[[#This Row],[Rank]])*RankNHDD[CGINHDD])","v":46.1},{"$f":"YEAR(CGITempAct[[#This Row],[Date]])","v":2022},{"$f":"MONTH(CGITempAct[[#This Row],[Date]])","v":1},{"$f":"IF(CGITempAct[[#This Row],[Month]]=H521,I521+1,1)","v":3}]
[44587,29,12,{"$f":"AVERAGE(CGITempAct[[#This Row],[CGIHigh]:[CGILow]]\n)","v":20.5},{"$f":"IF(CGITempAct[[#This Row],[CGIAve]]<65,(65-CGITempAct[[#This Row],[CGIAve]]),0)","v":44.5},{"$f":"SUMPRODUCT((RankNHDD[Month]=CGITempAct[[#This Row],[Month]])*(RankNHDD[Rank]=CGITempAct[[#This Row],[Rank]])*RankNHDD[CGINHDD])","v":44},{"$f":"YEAR(CGITempAct[[#This Row],[Date]])","v":2022},{"$f":"MONTH(CGITempAct[[#This Row],[Date]])","v":1},{"$f":"IF(CGITempAct[[#This Row],[Month]]=H522,I522+1,1)","v":4}]
[44567,30,14,{"$f":"AVERAGE(CGITempAct[[#This Row],[CGIHigh]:[CGILow]]\n)","v":22},{"$f":"IF(CGITempAct[[#This Row],[CGIAve]]<65,(65-CGITempAct[[#This Row],[CGIAve]]),0)","v":43},{"$f":"SUMPRODUCT((RankNHDD[Month]=CGITempAct[[#This Row],[Month]])*(RankNHDD[Rank]=CGITempAct[[#This Row],[Rank]])*RankNHDD[CGINHDD])","v":42.1},{"$f":"YEAR(CGITempAct[[#This Row],[Date]])","v":2022},{"$f":"MONTH(CGITempAct[[#This Row],[Date]])","v":1},{"$f":"IF(CGITempAct[[#This Row],[Month]]=H523,I523+1,1)","v":5}]
[44590,36,9,{"$f":"AVERAGE(CGITempAct[[#This Row],[CGIHigh]:[CGILow]]\n)","v":22.5},{"$f":"IF(CGITempAct[[#This Row],[CGIAve]]<65,(65-CGITempAct[[#This Row],[CGIAve]]),0)","v":42.5},{"$f":"SUMPRODUCT((RankNHDD[Month]=CGITempAct[[#This Row],[Month]])*(RankNHDD[Rank]=CGITempAct[[#This Row],[Rank]])*RankNHDD[CGINHDD])","v":40.4},{"$f":"YEAR(CGITempAct[[#This Row],[Date]])","v":2022},{"$f":"MONTH(CGITempAct[[#This Row],[Date]])","v":1},{"$f":"IF(CGITempAct[[#This Row],[Month]]=H524,I524+1,1)","v":6}]
[44583,38,11,{"$f":"AVERAGE(CGITempAct[[#This Row],[CGIHigh]:[CGILow]]\n)","v":24.5},{"$f":"IF(CGITempAct[[#This Row],[CGIAve]]<65,(65-CGITempAct[[#This Row],[CGIAve]]),0)","v":40.5},{"$f":"SUMPRODUCT((RankNHDD[Month]=CGITempAct[[#This Row],[Month]])*(RankNHDD[Rank]=CGITempAct[[#This Row],[Rank]])*RankNHDD[CGINHDD])","v":38.9},{"$f":"YEAR(CGITempAct[[#This Row],[Date]])","v":2022},{"$f":"MONTH(CGITempAct[[#This Row],[Date]])","v":1},{"$f":"IF(CGITempAct[[#This Row],[Month]]=H525,I525+1,1)","v":7}]
[44564,33,20,{"$f":"AVERAGE(CGITempAct[[#This Row],[CGIHigh]:[CGILow]]\n)","v":26.5},{"$f":"IF(CGITempAct[[#This Row],[CGIAve]]<65,(65-CGITempAct[[#This Row],[CGIAve]]),0)","v":38.5},{"$f":"SUMPRODUCT((RankNHDD[Month]=CGITempAct[[#This Row],[Month]])*(RankNHDD[Rank]=CGITempAct[[#This Row],[Rank]])*RankNHDD[CGINHDD])","v":37.5},{"$f":"YEAR(CGITempAct[[#This Row],[Date]])","v":2022},{"$f":"MONTH(CGITempAct[[#This Row],[Date]])","v":1},{"$f":"IF(CGITempAct[[#This Row],[Month]]=H526,I526+1,1)","v":8}]
[44589,38,16,{"$f":"AVERAGE(CGITempAct[[#This Row],[CGIHigh]:[CGILow]]\n)","v":27},{"$f":"IF(CGITempAct[[#This Row],[CGIAve]]<65,(65-CGITempAct[[#This Row],[CGIAve]]),0)","v":38},{"$f":"SUMPRODUCT((RankNHDD[Month]=CGITempAct[[#This Row],[Month]])*(RankNHDD[Rank]=CGITempAct[[#This Row],[Rank]])*RankNHDD[CGINHDD])","v":36.4},{"$f":"YEAR(CGITempAct[[#This Row],[Date]])","v":2022},{"$f":"MONTH(CGITempAct[[#This Row],[Date]])","v":1},{"$f":"IF(CGITempAct[[#This Row],[Month]]=H527,I527+1,1)","v":9}]
[44586,36,20,{"$f":"AVERAGE(CGITempAct[[#This Row],[CGIHigh]:[CGILow]]\n)","v":28},{"$f":"IF(CGITempAct[[#This Row],[CGIAve]]<65,(65-CGITempAct[[#This Row],[CGIAve]]),0)","v":37},{"$f":"SUMPRODUCT((RankNHDD[Month]=CGITempAct[[#This Row],[Month]])*(RankNHDD[Rank]=CGITempAct[[#This Row],[Rank]])*RankNHDD[CGINHDD])","v":35.299999999999997},{"$f":"YEAR(CGITempAct[[#This Row],[Date]])","v":2022},{"$f":"MONTH(CGITempAct[[#This Row],[Date]])","v":1},{"$f":"IF(CGITempAct[[#This Row],[Month]]=H528,I528+1,1)","v":10}]
[44588,38,19,{"$f":"AVERAGE(CGITempAct[[#This Row],[CGIHigh]:[CGILow]]\n)","v":28.5},{"$f":"IF(CGITempAct[[#This Row],[CGIAve]]<65,(65-CGITempAct[[#This Row],[CGIAve]]),0)","v":36.5},{"$f":"SUMPRODUCT((RankNHDD[Month]=CGITempAct[[#This Row],[Month]])*(RankNHDD[Rank]=CGITempAct[[#This Row],[Rank]])*RankNHDD[CGINHDD])","v":34.5},{"$f":"YEAR(CGITempAct[[#This Row],[Date]])","v":2022},{"$f":"MONTH(CGITempAct[[#This Row],[Date]])","v":1},{"$f":"IF(CGITempAct[[#This Row],[Month]]=H529,I529+1,1)","v":11}]
[44565,36,24,{"$f":"AVERAGE(CGITempAct[[#This Row],[CGIHigh]:[CGILow]]\n)","v":30},{"$f":"IF(CGITempAct[[#This Row],[CGIAve]]<65,(65-CGITempAct[[#This Row],[CGIAve]]),0)","v":35},{"$f":"SUMPRODUCT((RankNHDD[Month]=CGITempAct[[#This Row],[Month]])*(RankNHDD[Rank]=CGITempAct[[#This Row],[Rank]])*RankNHDD[CGINHDD])","v":33.700000000000003},{"$f":"YEAR(CGITempAct[[#This Row],[Date]])","v":2022},{"$f":"MONTH(CGITempAct[[#This Row],[Date]])","v":1},{"$f":"IF(CGITempAct[[#This Row],[Month]]=H530,I530+1,1)","v":12}]
[44563,37,25,{"$f":"AVERAGE(CGITempAct[[#This Row],[CGIHigh]:[CGILow]]\n)","v":31},{"$f":"IF(CGITempAct[[#This Row],[CGIAve]]<65,(65-CGITempAct[[#This Row],[CGIAve]]),0)","v":34},{"$f":"SUMPRODUCT((RankNHDD[Month]=CGITempAct[[#This Row],[Month]])*(RankNHDD[Rank]=CGITempAct[[#This Row],[Rank]])*RankNHDD[CGINHDD])","v":33},{"$f":"YEAR(CGITempAct[[#This Row],[Date]])","v":2022},{"$f":"MONTH(CGITempAct[[#This Row],[Date]])","v":1},{"$f":"IF(CGITempAct[[#This Row],[Month]]=H531,I531+1,1)","v":13}]
[44569,46,16,{"$f":"AVERAGE(CGITempAct[[#This Row],[CGIHigh]:[CGILow]]\n)","v":31},{"$f":"IF(CGITempAct[[#This Row],[CGIAve]]<65,(65-CGITempAct[[#This Row],[CGIAve]]),0)","v":34},{"$f":"SUMPRODUCT((RankNHDD[Month]=CGITempAct[[#This Row],[Month]])*(RankNHDD[Rank]=CGITempAct[[#This Row],[Rank]])*RankNHDD[CGINHDD])","v":32.200000000000003},{"$f":"YEAR(CGITempAct[[#This Row],[Date]])","v":2022},{"$f":"MONTH(CGITempAct[[#This Row],[Date]])","v":1},{"$f":"IF(CGITempAct[[#This Row],[Month]]=H532,I532+1,1)","v":14}]
[44571,42,20,{"$f":"AVERAGE(CGITempAct[[#This Row],[CGIHigh]:[CGILow]]\n)","v":31},{"$f":"IF(CGITempAct[[#This Row],[CGIAve]]<65,(65-CGITempAct[[#This Row],[CGIAve]]),0)","v":34},{"$f":"SUMPRODUCT((RankNHDD[Month]=CGITempAct[[#This Row],[Month]])*(RankNHDD[Rank]=CGITempAct[[#This Row],[Rank]])*RankNHDD[CGINHDD])","v":31.4},{"$f":"YEAR(CGITempAct[[#This Row],[Date]])","v":2022},{"$f":"MONTH(CGITempAct[[#This Row],[Date]])","v":1},{"$f":"IF(CGITempAct[[#This Row],[Month]]=H533,I533+1,1)","v":15}]
[44577,38,26,{"$f":"AVERAGE(CGITempAct[[#This Row],[CGIHigh]:[CGILow]]\n)","v":32},{"$f":"IF(CGITempAct[[#This Row],[CGIAve]]<65,(65-CGITempAct[[#This Row],[CGIAve]]),0)","v":33},{"$f":"SUMPRODUCT((RankNHDD[Month]=CGITempAct[[#This Row],[Month]])*(RankNHDD[Rank]=CGITempAct[[#This Row],[Rank]])*RankNHDD[CGINHDD])","v":30.8},{"$f":"YEAR(CGITempAct[[#This Row],[Date]])","v":2022},{"$f":"MONTH(CGITempAct[[#This Row],[Date]])","v":1},{"$f":"IF(CGITempAct[[#This Row],[Month]]=H534,I534+1,1)","v":16}]
[44572,43,22,{"$f":"AVERAGE(CGITempAct[[#This Row],[CGIHigh]:[CGILow]]\n)","v":32.5},{"$f":"IF(CGITempAct[[#This Row],[CGIAve]]<65,(65-CGITempAct[[#This Row],[CGIAve]]),0)","v":32.5},{"$f":"SUMPRODUCT((RankNHDD[Month]=CGITempAct[[#This Row],[Month]])*(RankNHDD[Rank]=CGITempAct[[#This Row],[Rank]])*RankNHDD[CGINHDD])","v":30.1},{"$f":"YEAR(CGITempAct[[#This Row],[Date]])","v":2022},{"$f":"MONTH(CGITempAct[[#This Row],[Date]])","v":1},{"$f":"IF(CGITempAct[[#This Row],[Month]]=H535,I535+1,1)","v":17}]
[44580,47,21,{"$f":"AVERAGE(CGITempAct[[#This Row],[CGIHigh]:[CGILow]]\n)","v":34},{"$f":"IF(CGITempAct[[#This Row],[CGIAve]]<65,(65-CGITempAct[[#This Row],[CGIAve]]),0)","v":31},{"$f":"SUMPRODUCT((RankNHDD[Month]=CGITempAct[[#This Row],[Month]])*(RankNHDD[Rank]=CGITempAct[[#This Row],[Rank]])*RankNHDD[CGINHDD])","v":29.2},{"$f":"YEAR(CGITempAct[[#This Row],[Date]])","v":2022},{"$f":"MONTH(CGITempAct[[#This Row],[Date]])","v":1},{"$f":"IF(CGITempAct[[#This Row],[Month]]=H536,I536+1,1)","v":18}]
[44591,50,20,{"$f":"AVERAGE(CGITempAct[[#This Row],[CGIHigh]:[CGILow]]\n)","v":35},{"$f":"IF(CGITempAct[[#This Row],[CGIAve]]<65,(65-CGITempAct[[#This Row],[CGIAve]]),0)","v":30},{"$f":"SUMPRODUCT((RankNHDD[Month]=CGITempAct[[#This Row],[Month]])*(RankNHDD[Rank]=CGITempAct[[#This Row],[Rank]])*RankNHDD[CGINHDD])","v":28.5},{"$f":"YEAR(CGITempAct[[#This Row],[Date]])","v":2022},{"$f":"MONTH(CGITempAct[[#This Row],[Date]])","v":1},{"$f":"IF(CGITempAct[[#This Row],[Month]]=H537,I537+1,1)","v":19}]
[44576,40,32,{"$f":"AVERAGE(CGITempAct[[#This Row],[CGIHigh]:[CGILow]]\n)","v":36},{"$f":"IF(CGITempAct[[#This Row],[CGIAve]]<65,(65-CGITempAct[[#This Row],[CGIAve]]),0)","v":29},{"$f":"SUMPRODUCT((RankNHDD[Month]=CGITempAct[[#This Row],[Month]])*(RankNHDD[Rank]=CGITempAct[[#This Row],[Rank]])*RankNHDD[CGINHDD])","v":27.8},{"$f":"YEAR(CGITempAct[[#This Row],[Date]])","v":2022},{"$f":"MONTH(CGITempAct[[#This Row],[Date]])","v":1},{"$f":"IF(CGITempAct[[#This Row],[Month]]=H538,I538+1,1)","v":20}]
[44578,46,27,{"$f":"AVERAGE(CGITempAct[[#This Row],[CGIHigh]:[CGILow]]\n)","v":36.5},{"$f":"IF(CGITempAct[[#This Row],[CGIAve]]<65,(65-CGITempAct[[#This Row],[CGIAve]]),0)","v":28.5},{"$f":"SUMPRODUCT((RankNHDD[Month]=CGITempAct[[#This Row],[Month]])*(RankNHDD[Rank]=CGITempAct[[#This Row],[Rank]])*RankNHDD[CGINHDD])","v":26.8},{"$f":"YEAR(CGITempAct[[#This Row],[Date]])","v":2022},{"$f":"MONTH(CGITempAct[[#This Row],[Date]])","v":1},{"$f":"IF(CGITempAct[[#This Row],[Month]]=H539,I539+1,1)","v":21}]
[44570,49,25,{"$f":"AVERAGE(CGITempAct[[#This Row],[CGIHigh]:[CGILow]]\n)","v":37},{"$f":"IF(CGITempAct[[#This Row],[CGIAve]]<65,(65-CGITempAct[[#This Row],[CGIAve]]),0)","v":28},{"$f":"SUMPRODUCT((RankNHDD[Month]=CGITempAct[[#This Row],[Month]])*(RankNHDD[Rank]=CGITempAct[[#This Row],[Rank]])*RankNHDD[CGINHDD])","v":26},{"$f":"YEAR(CGITempAct[[#This Row],[Date]])","v":2022},{"$f":"MONTH(CGITempAct[[#This Row],[Date]])","v":1},{"$f":"IF(CGITempAct[[#This Row],[Month]]=H540,I540+1,1)","v":22}]
[44575,47,28,{"$f":"AVERAGE(CGITempAct[[#This Row],[CGIHigh]:[CGILow]]\n)","v":37.5},{"$f":"IF(CGITempAct[[#This Row],[CGIAve]]<65,(65-CGITempAct[[#This Row],[CGIAve]]),0)","v":27.5},{"$f":"SUMPRODUCT((RankNHDD[Month]=CGITempAct[[#This Row],[Month]])*(RankNHDD[Rank]=CGITempAct[[#This Row],[Rank]])*RankNHDD[CGINHDD])","v":25.1},{"$f":"YEAR(CGITempAct[[#This Row],[Date]])","v":2022},{"$f":"MONTH(CGITempAct[[#This Row],[Date]])","v":1},{"$f":"IF(CGITempAct[[#This Row],[Month]]=H541,I541+1,1)","v":23}]
[44584,51,24,{"$f":"AVERAGE(CGITempAct[[#This Row],[CGIHigh]:[CGILow]]\n)","v":37.5},{"$f":"IF(CGITempAct[[#This Row],[CGIAve]]<65,(65-CGITempAct[[#This Row],[CGIAve]]),0)","v":27.5},{"$f":"SUMPRODUCT((RankNHDD[Month]=CGITempAct[[#This Row],[Month]])*(RankNHDD[Rank]=CGITempAct[[#This Row],[Rank]])*RankNHDD[CGINHDD])","v":24.2},{"$f":"YEAR(CGITempAct[[#This Row],[Date]])","v":2022},{"$f":"MONTH(CGITempAct[[#This Row],[Date]])","v":1},{"$f":"IF(CGITempAct[[#This Row],[Month]]=H542,I542+1,1)","v":24}]
[44566,47,29,{"$f":"AVERAGE(CGITempAct[[#This Row],[CGIHigh]:[CGILow]]\n)","v":38},{"$f":"IF(CGITempAct[[#This Row],[CGIAve]]<65,(65-CGITempAct[[#This Row],[CGIAve]]),0)","v":27},{"$f":"SUMPRODUCT((RankNHDD[Month]=CGITempAct[[#This Row],[Month]])*(RankNHDD[Rank]=CGITempAct[[#This Row],[Rank]])*RankNHDD[CGINHDD])","v":23.1},{"$f":"YEAR(CGITempAct[[#This Row],[Date]])","v":2022},{"$f":"MONTH(CGITempAct[[#This Row],[Date]])","v":1},{"$f":"IF(CGITempAct[[#This Row],[Month]]=H543,I543+1,1)","v":25}]
[44592,53,23,{"$f":"AVERAGE(CGITempAct[[#This Row],[CGIHigh]:[CGILow]]\n)","v":38},{"$f":"IF(CGITempAct[[#This Row],[CGIAve]]<65,(65-CGITempAct[[#This Row],[CGIAve]]),0)","v":27},{"$f":"SUMPRODUCT((RankNHDD[Month]=CGITempAct[[#This Row],[Month]])*(RankNHDD[Rank]=CGITempAct[[#This Row],[Rank]])*RankNHDD[CGINHDD])","v":21.9},{"$f":"YEAR(CGITempAct[[#This Row],[Date]])","v":2022},{"$f":"MONTH(CGITempAct[[#This Row],[Date]])","v":1},{"$f":"IF(CGITempAct[[#This Row],[Month]]=H544,I544+1,1)","v":26}]
[44579,54,24,{"$f":"AVERAGE(CGITempAct[[#This Row],[CGIHigh]:[CGILow]]\n)","v":39},{"$f":"IF(CGITempAct[[#This Row],[CGIAve]]<65,(65-CGITempAct[[#This Row],[CGIAve]]),0)","v":26},{"$f":"SUMPRODUCT((RankNHDD[Month]=CGITempAct[[#This Row],[Month]])*(RankNHDD[Rank]=CGITempAct[[#This Row],[Rank]])*RankNHDD[CGINHDD])","v":20.3},{"$f":"YEAR(CGITempAct[[#This Row],[Date]])","v":2022},{"$f":"MONTH(CGITempAct[[#This Row],[Date]])","v":1},{"$f":"IF(CGITempAct[[#This Row],[Month]]=H545,I545+1,1)","v":27}]
[44585,52,26,{"$f":"AVERAGE(CGITempAct[[#This Row],[CGIHigh]:[CGILow]]\n)","v":39},{"$f":"IF(CGITempAct[[#This Row],[CGIAve]]<65,(65-CGITempAct[[#This Row],[CGIAve]]),0)","v":26},{"$f":"SUMPRODUCT((RankNHDD[Month]=CGITempAct[[#This Row],[Month]])*(RankNHDD[Rank]=CGITempAct[[#This Row],[Rank]])*RankNHDD[CGINHDD])","v":18.5},{"$f":"YEAR(CGITempAct[[#This Row],[Date]])","v":2022},{"$f":"MONTH(CGITempAct[[#This Row],[Date]])","v":1},{"$f":"IF(CGITempAct[[#This Row],[Month]]=H546,I546+1,1)","v":28}]
[44573,53,28,{"$f":"AVERAGE(CGITempAct[[#This Row],[CGIHigh]:[CGILow]]\n)","v":40.5},{"$f":"IF(CGITempAct[[#This Row],[CGIAve]]<65,(65-CGITempAct[[#This Row],[CGIAve]]),0)","v":24.5},{"$f":"SUMPRODUCT((RankNHDD[Month]=CGITempAct[[#This Row],[Month]])*(RankNHDD[Rank]=CGITempAct[[#This Row],[Rank]])*RankNHDD[CGINHDD])","v":16.2},{"$f":"YEAR(CGITempAct[[#This Row],[Date]])","v":2022},{"$f":"MONTH(CGITempAct[[#This Row],[Date]])","v":1},{"$f":"IF(CGITempAct[[#This Row],[Month]]=H547,I547+1,1)","v":29}]
[44574,57,30,{"$f":"AVERAGE(CGITempAct[[#This Row],[CGIHigh]:[CGILow]]\n)","v":43.5},{"$f":"IF(CGITempAct[[#This Row],[CGIAve]]<65,(65-CGITempAct[[#This Row],[CGIAve]]),0)","v":21.5},{"$f":"SUMPRODUCT((RankNHDD[Month]=CGITempAct[[#This Row],[Month]])*(RankNHDD[Rank]=CGITempAct[[#This Row],[Rank]])*RankNHDD[CGINHDD])","v":11.7},{"$f":"YEAR(CGITempAct[[#This Row],[Date]])","v":2022},{"$f":"MONTH(CGITempAct[[#This Row],[Date]])","v":1},{"$f":"IF(CGITempAct[[#This Row],[Month]]=H548,I548+1,1)","v":30}]
[44562,63,37,{"$f":"AVERAGE(CGITempAct[[#This Row],[CGIHigh]:[CGILow]]\n)","v":50},{"$f":"IF(CGITempAct[[#This Row],[CGIAve]]<65,(65-CGITempAct[[#This Row],[CGIAve]]),0)","v":15},{"$f":"SUMPRODUCT((RankNHDD[Month]=CGITempAct[[#This Row],[Month]])*(RankNHDD[Rank]=CGITempAct[[#This Row],[Rank]])*RankNHDD[CGINHDD])","v":5.5},{"$f":"YEAR(CGITempAct[[#This Row],[Date]])","v":2022},{"$f":"MONTH(CGITempAct[[#This Row],[Date]])","v":1},{"$f":"IF(CGITempAct[[#This Row],[Month]]=H549,I549+1,1)","v":31}]
[44595,26,21,{"$f":"AVERAGE(CGITempAct[[#This Row],[CGIHigh]:[CGILow]]\n)","v":23.5},{"$f":"IF(CGITempAct[[#This Row],[CGIAve]]<65,(65-CGITempAct[[#This Row],[CGIAve]]),0)","v":41.5},{"$f":"SUMPRODUCT((RankNHDD[Month]=CGITempAct[[#This Row],[Month]])*(RankNHDD[Rank]=CGITempAct[[#This Row],[Rank]])*RankNHDD[CGINHDD])","v":53},{"$f":"YEAR(CGITempAct[[#This Row],[Date]])","v":2022},{"$f":"MONTH(CGITempAct[[#This Row],[Date]])","v":2},{"$f":"IF(CGITempAct[[#This Row],[Month]]=H550,I550+1,1)","v":1}]
[44596,30,17,{"$f":"AVERAGE(CGITempAct[[#This Row],[CGIHigh]:[CGILow]]\n)","v":23.5},{"$f":"IF(CGITempAct[[#This Row],[CGIAve]]<65,(65-CGITempAct[[#This Row],[CGIAve]]),0)","v":41.5},{"$f":"SUMPRODUCT((RankNHDD[Month]=CGITempAct[[#This Row],[Month]])*(RankNHDD[Rank]=CGITempAct[[#This Row],[Rank]])*RankNHDD[CGINHDD])","v":44.9},{"$f":"YEAR(CGITempAct[[#This Row],[Date]])","v":2022},{"$f":"MONTH(CGITempAct[[#This Row],[Date]])","v":2},{"$f":"IF(CGITempAct[[#This Row],[Month]]=H551,I551+1,1)","v":2}]
[44597,30,17,{"$f":"AVERAGE(CGITempAct[[#This Row],[CGIHigh]:[CGILow]]\n)","v":23.5},{"$f":"IF(CGITempAct[[#This Row],[CGIAve]]<65,(65-CGITempAct[[#This Row],[CGIAve]]),0)","v":41.5},{"$f":"SUMPRODUCT((RankNHDD[Month]=CGITempAct[[#This Row],[Month]])*(RankNHDD[Rank]=CGITempAct[[#This Row],[Rank]])*RankNHDD[CGINHDD])","v":41.3},{"$f":"YEAR(CGITempAct[[#This Row],[Date]])","v":2022},{"$f":"MONTH(CGITempAct[[#This Row],[Date]])","v":2},{"$f":"IF(CGITempAct[[#This Row],[Month]]=H552,I552+1,1)","v":3}]
[44605,40,16,{"$f":"AVERAGE(CGITempAct[[#This Row],[CGIHigh]:[CGILow]]\n)","v":28},{"$f":"IF(CGITempAct[[#This Row],[CGIAve]]<65,(65-CGITempAct[[#This Row],[CGIAve]]),0)","v":37},{"$f":"SUMPRODUCT((RankNHDD[Month]=CGITempAct[[#This Row],[Month]])*(RankNHDD[Rank]=CGITempAct[[#This Row],[Rank]])*RankNHDD[CGINHDD])","v":39.299999999999997},{"$f":"YEAR(CGITempAct[[#This Row],[Date]])","v":2022},{"$f":"MONTH(CGITempAct[[#This Row],[Date]])","v":2},{"$f":"IF(CGITempAct[[#This Row],[Month]]=H553,I553+1,1)","v":4}]
[44598,40,17,{"$f":"AVERAGE(CGITempAct[[#This Row],[CGIHigh]:[CGILow]]\n)","v":28.5},{"$f":"IF(CGITempAct[[#This Row],[CGIAve]]<65,(65-CGITempAct[[#This Row],[CGIAve]]),0)","v":36.5},{"$f":"SUMPRODUCT((RankNHDD[Month]=CGITempAct[[#This Row],[Month]])*(RankNHDD[Rank]=CGITempAct[[#This Row],[Rank]])*RankNHDD[CGINHDD])","v":37.5},{"$f":"YEAR(CGITempAct[[#This Row],[Date]])","v":2022},{"$f":"MONTH(CGITempAct[[#This Row],[Date]])","v":2},{"$f":"IF(CGITempAct[[#This Row],[Month]]=H554,I554+1,1)","v":5}]
[44610,38,19,{"$f":"AVERAGE(CGITempAct[[#This Row],[CGIHigh]:[CGILow]]\n)","v":28.5},{"$f":"IF(CGITempAct[[#This Row],[CGIAve]]<65,(65-CGITempAct[[#This Row],[CGIAve]]),0)","v":36.5},{"$f":"SUMPRODUCT((RankNHDD[Month]=CGITempAct[[#This Row],[Month]])*(RankNHDD[Rank]=CGITempAct[[#This Row],[Rank]])*RankNHDD[CGINHDD])","v":35.6},{"$f":"YEAR(CGITempAct[[#This Row],[Date]])","v":2022},{"$f":"MONTH(CGITempAct[[#This Row],[Date]])","v":2},{"$f":"IF(CGITempAct[[#This Row],[Month]]=H555,I555+1,1)","v":6}]
[44617,32,25,{"$f":"AVERAGE(CGITempAct[[#This Row],[CGIHigh]:[CGILow]]\n)","v":28.5},{"$f":"IF(CGITempAct[[#This Row],[CGIAve]]<65,(65-CGITempAct[[#This Row],[CGIAve]]),0)","v":36.5},{"$f":"SUMPRODUCT((RankNHDD[Month]=CGITempAct[[#This Row],[Month]])*(RankNHDD[Rank]=CGITempAct[[#This Row],[Rank]])*RankNHDD[CGINHDD])","v":34.299999999999997},{"$f":"YEAR(CGITempAct[[#This Row],[Date]])","v":2022},{"$f":"MONTH(CGITempAct[[#This Row],[Date]])","v":2},{"$f":"IF(CGITempAct[[#This Row],[Month]]=H556,I556+1,1)","v":7}]
[44615,33,25,{"$f":"AVERAGE(CGITempAct[[#This Row],[CGIHigh]:[CGILow]]\n)","v":29},{"$f":"IF(CGITempAct[[#This Row],[CGIAve]]<65,(65-CGITempAct[[#This Row],[CGIAve]]),0)","v":36},{"$f":"SUMPRODUCT((RankNHDD[Month]=CGITempAct[[#This Row],[Month]])*(RankNHDD[Rank]=CGITempAct[[#This Row],[Rank]])*RankNHDD[CGINHDD])","v":33.1},{"$f":"YEAR(CGITempAct[[#This Row],[Date]])","v":2022},{"$f":"MONTH(CGITempAct[[#This Row],[Date]])","v":2},{"$f":"IF(CGITempAct[[#This Row],[Month]]=H557,I557+1,1)","v":8}]
[44616,33,25,{"$f":"AVERAGE(CGITempAct[[#This Row],[CGIHigh]:[CGILow]]\n)","v":29},{"$f":"IF(CGITempAct[[#This Row],[CGIAve]]<65,(65-CGITempAct[[#This Row],[CGIAve]]),0)","v":36},{"$f":"SUMPRODUCT((RankNHDD[Month]=CGITempAct[[#This Row],[Month]])*(RankNHDD[Rank]=CGITempAct[[#This Row],[Rank]])*RankNHDD[CGINHDD])","v":32.200000000000003},{"$f":"YEAR(CGITempAct[[#This Row],[Date]])","v":2022},{"$f":"MONTH(CGITempAct[[#This Row],[Date]])","v":2},{"$f":"IF(CGITempAct[[#This Row],[Month]]=H558,I558+1,1)","v":9}]
[44604,42,19,{"$f":"AVERAGE(CGITempAct[[#This Row],[CGIHigh]:[CGILow]]\n)","v":30.5},{"$f":"IF(CGITempAct[[#This Row],[CGIAve]]<65,(65-CGITempAct[[#This Row],[CGIAve]]),0)","v":34.5},{"$f":"SUMPRODUCT((RankNHDD[Month]=CGITempAct[[#This Row],[Month]])*(RankNHDD[Rank]=CGITempAct[[#This Row],[Rank]])*RankNHDD[CGINHDD])","v":31.1},{"$f":"YEAR(CGITempAct[[#This Row],[Date]])","v":2022},{"$f":"MONTH(CGITempAct[[#This Row],[Date]])","v":2},{"$f":"IF(CGITempAct[[#This Row],[Month]]=H559,I559+1,1)","v":10}]
[44618,37,25,{"$f":"AVERAGE(CGITempAct[[#This Row],[CGIHigh]:[CGILow]]\n)","v":31},{"$f":"IF(CGITempAct[[#This Row],[CGIAve]]<65,(65-CGITempAct[[#This Row],[CGIAve]]),0)","v":34},{"$f":"SUMPRODUCT((RankNHDD[Month]=CGITempAct[[#This Row],[Month]])*(RankNHDD[Rank]=CGITempAct[[#This Row],[Rank]])*RankNHDD[CGINHDD])","v":30},{"$f":"YEAR(CGITempAct[[#This Row],[Date]])","v":2022},{"$f":"MONTH(CGITempAct[[#This Row],[Date]])","v":2},{"$f":"IF(CGITempAct[[#This Row],[Month]]=H560,I560+1,1)","v":11}]
[44606,46,20,{"$f":"AVERAGE(CGITempAct[[#This Row],[CGIHigh]:[CGILow]]\n)","v":33},{"$f":"IF(CGITempAct[[#This Row],[CGIAve]]<65,(65-CGITempAct[[#This Row],[CGIAve]]),0)","v":32},{"$f":"SUMPRODUCT((RankNHDD[Month]=CGITempAct[[#This Row],[Month]])*(RankNHDD[Rank]=CGITempAct[[#This Row],[Rank]])*RankNHDD[CGINHDD])","v":28.9},{"$f":"YEAR(CGITempAct[[#This Row],[Date]])","v":2022},{"$f":"MONTH(CGITempAct[[#This Row],[Date]])","v":2},{"$f":"IF(CGITempAct[[#This Row],[Month]]=H561,I561+1,1)","v":12}]
[44599,44,23,{"$f":"AVERAGE(CGITempAct[[#This Row],[CGIHigh]:[CGILow]]\n)","v":33.5},{"$f":"IF(CGITempAct[[#This Row],[CGIAve]]<65,(65-CGITempAct[[#This Row],[CGIAve]]),0)","v":31.5},{"$f":"SUMPRODUCT((RankNHDD[Month]=CGITempAct[[#This Row],[Month]])*(RankNHDD[Rank]=CGITempAct[[#This Row],[Rank]])*RankNHDD[CGINHDD])","v":28.1},{"$f":"YEAR(CGITempAct[[#This Row],[Date]])","v":2022},{"$f":"MONTH(CGITempAct[[#This Row],[Date]])","v":2},{"$f":"IF(CGITempAct[[#This Row],[Month]]=H562,I562+1,1)","v":13}]
[44611,42,29,{"$f":"AVERAGE(CGITempAct[[#This Row],[CGIHigh]:[CGILow]]\n)","v":35.5},{"$f":"IF(CGITempAct[[#This Row],[CGIAve]]<65,(65-CGITempAct[[#This Row],[CGIAve]]),0)","v":29.5},{"$f":"SUMPRODUCT((RankNHDD[Month]=CGITempAct[[#This Row],[Month]])*(RankNHDD[Rank]=CGITempAct[[#This Row],[Rank]])*RankNHDD[CGINHDD])","v":27.2},{"$f":"YEAR(CGITempAct[[#This Row],[Date]])","v":2022},{"$f":"MONTH(CGITempAct[[#This Row],[Date]])","v":2},{"$f":"IF(CGITempAct[[#This Row],[Month]]=H563,I563+1,1)","v":14}]
[44600,49,25,{"$f":"AVERAGE(CGITempAct[[#This Row],[CGIHigh]:[CGILow]]\n)","v":37},{"$f":"IF(CGITempAct[[#This Row],[CGIAve]]<65,(65-CGITempAct[[#This Row],[CGIAve]]),0)","v":28},{"$f":"SUMPRODUCT((RankNHDD[Month]=CGITempAct[[#This Row],[Month]])*(RankNHDD[Rank]=CGITempAct[[#This Row],[Rank]])*RankNHDD[CGINHDD])","v":26.5},{"$f":"YEAR(CGITempAct[[#This Row],[Date]])","v":2022},{"$f":"MONTH(CGITempAct[[#This Row],[Date]])","v":2},{"$f":"IF(CGITempAct[[#This Row],[Month]]=H564,I564+1,1)","v":15}]
[44594,52,25,{"$f":"AVERAGE(CGITempAct[[#This Row],[CGIHigh]:[CGILow]]\n)","v":38.5},{"$f":"IF(CGITempAct[[#This Row],[CGIAve]]<65,(65-CGITempAct[[#This Row],[CGIAve]]),0)","v":26.5},{"$f":"SUMPRODUCT((RankNHDD[Month]=CGITempAct[[#This Row],[Month]])*(RankNHDD[Rank]=CGITempAct[[#This Row],[Rank]])*RankNHDD[CGINHDD])","v":25.7},{"$f":"YEAR(CGITempAct[[#This Row],[Date]])","v":2022},{"$f":"MONTH(CGITempAct[[#This Row],[Date]])","v":2},{"$f":"IF(CGITempAct[[#This Row],[Month]]=H565,I565+1,1)","v":16}]
[44619,50,27,{"$f":"AVERAGE(CGITempAct[[#This Row],[CGIHigh]:[CGILow]]\n)","v":38.5},{"$f":"IF(CGITempAct[[#This Row],[CGIAve]]<65,(65-CGITempAct[[#This Row],[CGIAve]]),0)","v":26.5},{"$f":"SUMPRODUCT((RankNHDD[Month]=CGITempAct[[#This Row],[Month]])*(RankNHDD[Rank]=CGITempAct[[#This Row],[Rank]])*RankNHDD[CGINHDD])","v":24.9},{"$f":"YEAR(CGITempAct[[#This Row],[Date]])","v":2022},{"$f":"MONTH(CGITempAct[[#This Row],[Date]])","v":2},{"$f":"IF(CGITempAct[[#This Row],[Month]]=H566,I566+1,1)","v":17}]
[44602,54,26,{"$f":"AVERAGE(CGITempAct[[#This Row],[CGIHigh]:[CGILow]]\n)","v":40},{"$f":"IF(CGITempAct[[#This Row],[CGIAve]]<65,(65-CGITempAct[[#This Row],[CGIAve]]),0)","v":25},{"$f":"SUMPRODUCT((RankNHDD[Month]=CGITempAct[[#This Row],[Month]])*(RankNHDD[Rank]=CGITempAct[[#This Row],[Rank]])*RankNHDD[CGINHDD])","v":24},{"$f":"YEAR(CGITempAct[[#This Row],[Date]])","v":2022},{"$f":"MONTH(CGITempAct[[#This Row],[Date]])","v":2},{"$f":"IF(CGITempAct[[#This Row],[Month]]=H567,I567+1,1)","v":18}]
[44620,58,25,{"$f":"AVERAGE(CGITempAct[[#This Row],[CGIHigh]:[CGILow]]\n)","v":41.5},{"$f":"IF(CGITempAct[[#This Row],[CGIAve]]<65,(65-CGITempAct[[#This Row],[CGIAve]]),0)","v":23.5},{"$f":"SUMPRODUCT((RankNHDD[Month]=CGITempAct[[#This Row],[Month]])*(RankNHDD[Rank]=CGITempAct[[#This Row],[Rank]])*RankNHDD[CGINHDD])","v":23},{"$f":"YEAR(CGITempAct[[#This Row],[Date]])","v":2022},{"$f":"MONTH(CGITempAct[[#This Row],[Date]])","v":2},{"$f":"IF(CGITempAct[[#This Row],[Month]]=H568,I568+1,1)","v":19}]
[44601,58,29,{"$f":"AVERAGE(CGITempAct[[#This Row],[CGIHigh]:[CGILow]]\n)","v":43.5},{"$f":"IF(CGITempAct[[#This Row],[CGIAve]]<65,(65-CGITempAct[[#This Row],[CGIAve]]),0)","v":21.5},{"$f":"SUMPRODUCT((RankNHDD[Month]=CGITempAct[[#This Row],[Month]])*(RankNHDD[Rank]=CGITempAct[[#This Row],[Rank]])*RankNHDD[CGINHDD])","v":21.9},{"$f":"YEAR(CGITempAct[[#This Row],[Date]])","v":2022},{"$f":"MONTH(CGITempAct[[#This Row],[Date]])","v":2},{"$f":"IF(CGITempAct[[#This Row],[Month]]=H569,I569+1,1)","v":20}]
[44607,63,26,{"$f":"AVERAGE(CGITempAct[[#This Row],[CGIHigh]:[CGILow]]\n)","v":44.5},{"$f":"IF(CGITempAct[[#This Row],[CGIAve]]<65,(65-CGITempAct[[#This Row],[CGIAve]]),0)","v":20.5},{"$f":"SUMPRODUCT((RankNHDD[Month]=CGITempAct[[#This Row],[Month]])*(RankNHDD[Rank]=CGITempAct[[#This Row],[Rank]])*RankNHDD[CGINHDD])","v":20.9},{"$f":"YEAR(CGITempAct[[#This Row],[Date]])","v":2022},{"$f":"MONTH(CGITempAct[[#This Row],[Date]])","v":2},{"$f":"IF(CGITempAct[[#This Row],[Month]]=H570,I570+1,1)","v":21}]
[44612,60,29,{"$f":"AVERAGE(CGITempAct[[#This Row],[CGIHigh]:[CGILow]]\n)","v":44.5},{"$f":"IF(CGITempAct[[#This Row],[CGIAve]]<65,(65-CGITempAct[[#This Row],[CGIAve]]),0)","v":20.5},{"$f":"SUMPRODUCT((RankNHDD[Month]=CGITempAct[[#This Row],[Month]])*(RankNHDD[Rank]=CGITempAct[[#This Row],[Rank]])*RankNHDD[CGINHDD])","v":19.7},{"$f":"YEAR(CGITempAct[[#This Row],[Date]])","v":2022},{"$f":"MONTH(CGITempAct[[#This Row],[Date]])","v":2},{"$f":"IF(CGITempAct[[#This Row],[Month]]=H571,I571+1,1)","v":22}]
[44609,65,26,{"$f":"AVERAGE(CGITempAct[[#This Row],[CGIHigh]:[CGILow]]\n)","v":45.5},{"$f":"IF(CGITempAct[[#This Row],[CGIAve]]<65,(65-CGITempAct[[#This Row],[CGIAve]]),0)","v":19.5},{"$f":"SUMPRODUCT((RankNHDD[Month]=CGITempAct[[#This Row],[Month]])*(RankNHDD[Rank]=CGITempAct[[#This Row],[Rank]])*RankNHDD[CGINHDD])","v":18.399999999999999},{"$f":"YEAR(CGITempAct[[#This Row],[Date]])","v":2022},{"$f":"MONTH(CGITempAct[[#This Row],[Date]])","v":2},{"$f":"IF(CGITempAct[[#This Row],[Month]]=H572,I572+1,1)","v":23}]
[44603,57,37,{"$f":"AVERAGE(CGITempAct[[#This Row],[CGIHigh]:[CGILow]]\n)","v":47},{"$f":"IF(CGITempAct[[#This Row],[CGIAve]]<65,(65-CGITempAct[[#This Row],[CGIAve]]),0)","v":18},{"$f":"SUMPRODUCT((RankNHDD[Month]=CGITempAct[[#This Row],[Month]])*(RankNHDD[Rank]=CGITempAct[[#This Row],[Rank]])*RankNHDD[CGINHDD])","v":16.7},{"$f":"YEAR(CGITempAct[[#This Row],[Date]])","v":2022},{"$f":"MONTH(CGITempAct[[#This Row],[Date]])","v":2},{"$f":"IF(CGITempAct[[#This Row],[Month]]=H573,I573+1,1)","v":24}]
[44593,64,33,{"$f":"AVERAGE(CGITempAct[[#This Row],[CGIHigh]:[CGILow]]\n)","v":48.5},{"$f":"IF(CGITempAct[[#This Row],[CGIAve]]<65,(65-CGITempAct[[#This Row],[CGIAve]]),0)","v":16.5},{"$f":"SUMPRODUCT((RankNHDD[Month]=CGITempAct[[#This Row],[Month]])*(RankNHDD[Rank]=CGITempAct[[#This Row],[Rank]])*RankNHDD[CGINHDD])","v":15},{"$f":"YEAR(CGITempAct[[#This Row],[Date]])","v":2022},{"$f":"MONTH(CGITempAct[[#This Row],[Date]])","v":2},{"$f":"IF(CGITempAct[[#This Row],[Month]]=H574,I574+1,1)","v":25}]
[44614,66,33,{"$f":"AVERAGE(CGITempAct[[#This Row],[CGIHigh]:[CGILow]]\n)","v":49.5},{"$f":"IF(CGITempAct[[#This Row],[CGIAve]]<65,(65-CGITempAct[[#This Row],[CGIAve]]),0)","v":15.5},{"$f":"SUMPRODUCT((RankNHDD[Month]=CGITempAct[[#This Row],[Month]])*(RankNHDD[Rank]=CGITempAct[[#This Row],[Rank]])*RankNHDD[CGINHDD])","v":13.4},{"$f":"YEAR(CGITempAct[[#This Row],[Date]])","v":2022},{"$f":"MONTH(CGITempAct[[#This Row],[Date]])","v":2},{"$f":"IF(CGITempAct[[#This Row],[Month]]=H575,I575+1,1)","v":26}]
[44613,61,42,{"$f":"AVERAGE(CGITempAct[[#This Row],[CGIHigh]:[CGILow]]\n)","v":51.5},{"$f":"IF(CGITempAct[[#This Row],[CGIAve]]<65,(65-CGITempAct[[#This Row],[CGIAve]]),0)","v":13.5},{"$f":"SUMPRODUCT((RankNHDD[Month]=CGITempAct[[#This Row],[Month]])*(RankNHDD[Rank]=CGITempAct[[#This Row],[Rank]])*RankNHDD[CGINHDD])","v":11.2},{"$f":"YEAR(CGITempAct[[#This Row],[Date]])","v":2022},{"$f":"MONTH(CGITempAct[[#This Row],[Date]])","v":2},{"$f":"IF(CGITempAct[[#This Row],[Month]]=H576,I576+1,1)","v":27}]
[44608,66,50,{"$f":"AVERAGE(CGITempAct[[#This Row],[CGIHigh]:[CGILow]]\n)","v":58},{"$f":"IF(CGITempAct[[#This Row],[CGIAve]]<65,(65-CGITempAct[[#This Row],[CGIAve]]),0)","v":7},{"$f":"SUMPRODUCT((RankNHDD[Month]=CGITempAct[[#This Row],[Month]])*(RankNHDD[Rank]=CGITempAct[[#This Row],[Rank]])*RankNHDD[CGINHDD])","v":6.2},{"$f":"YEAR(CGITempAct[[#This Row],[Date]])","v":2022},{"$f":"MONTH(CGITempAct[[#This Row],[Date]])","v":2},{"$f":"IF(CGITempAct[[#This Row],[Month]]=H577,I577+1,1)","v":28}]
[44632,35,19,{"$f":"AVERAGE(CGITempAct[[#This Row],[CGIHigh]:[CGILow]]\n)","v":27},{"$f":"IF(CGITempAct[[#This Row],[CGIAve]]<65,(65-CGITempAct[[#This Row],[CGIAve]]),0)","v":38},{"$f":"SUMPRODUCT((RankNHDD[Month]=CGITempAct[[#This Row],[Month]])*(RankNHDD[Rank]=CGITempAct[[#This Row],[Rank]])*RankNHDD[CGINHDD])","v":41.4},{"$f":"YEAR(CGITempAct[[#This Row],[Date]])","v":2022},{"$f":"MONTH(CGITempAct[[#This Row],[Date]])","v":3},{"$f":"IF(CGITempAct[[#This Row],[Month]]=H578,I578+1,1)","v":1}]
[44631,41,28,{"$f":"AVERAGE(CGITempAct[[#This Row],[CGIHigh]:[CGILow]]\n)","v":34.5},{"$f":"IF(CGITempAct[[#This Row],[CGIAve]]<65,(65-CGITempAct[[#This Row],[CGIAve]]),0)","v":30.5},{"$f":"SUMPRODUCT((RankNHDD[Month]=CGITempAct[[#This Row],[Month]])*(RankNHDD[Rank]=CGITempAct[[#This Row],[Rank]])*RankNHDD[CGINHDD])","v":33.799999999999997},{"$f":"YEAR(CGITempAct[[#This Row],[Date]])","v":2022},{"$f":"MONTH(CGITempAct[[#This Row],[Date]])","v":3},{"$f":"IF(CGITempAct[[#This Row],[Month]]=H579,I579+1,1)","v":2}]
[44628,43,35,{"$f":"AVERAGE(CGITempAct[[#This Row],[CGIHigh]:[CGILow]]\n)","v":39},{"$f":"IF(CGITempAct[[#This Row],[CGIAve]]<65,(65-CGITempAct[[#This Row],[CGIAve]]),0)","v":26},{"$f":"SUMPRODUCT((RankNHDD[Month]=CGITempAct[[#This Row],[Month]])*(RankNHDD[Rank]=CGITempAct[[#This Row],[Rank]])*RankNHDD[CGINHDD])","v":30.9},{"$f":"YEAR(CGITempAct[[#This Row],[Date]])","v":2022},{"$f":"MONTH(CGITempAct[[#This Row],[Date]])","v":3},{"$f":"IF(CGITempAct[[#This Row],[Month]]=H580,I580+1,1)","v":3}]
[44647,50,36,{"$f":"AVERAGE(CGITempAct[[#This Row],[CGIHigh]:[CGILow]]\n)","v":43},{"$f":"IF(CGITempAct[[#This Row],[CGIAve]]<65,(65-CGITempAct[[#This Row],[CGIAve]]),0)","v":22},{"$f":"SUMPRODUCT((RankNHDD[Month]=CGITempAct[[#This Row],[Month]])*(RankNHDD[Rank]=CGITempAct[[#This Row],[Rank]])*RankNHDD[CGINHDD])","v":29.6},{"$f":"YEAR(CGITempAct[[#This Row],[Date]])","v":2022},{"$f":"MONTH(CGITempAct[[#This Row],[Date]])","v":3},{"$f":"IF(CGITempAct[[#This Row],[Month]]=H581,I581+1,1)","v":4}]
[44629,54,33,{"$f":"AVERAGE(CGITempAct[[#This Row],[CGIHigh]:[CGILow]]\n)","v":43.5},{"$f":"IF(CGITempAct[[#This Row],[CGIAve]]<65,(65-CGITempAct[[#This Row],[CGIAve]]),0)","v":21.5},{"$f":"SUMPRODUCT((RankNHDD[Month]=CGITempAct[[#This Row],[Month]])*(RankNHDD[Rank]=CGITempAct[[#This Row],[Rank]])*RankNHDD[CGINHDD])","v":28.6},{"$f":"YEAR(CGITempAct[[#This Row],[Date]])","v":2022},{"$f":"MONTH(CGITempAct[[#This Row],[Date]])","v":3},{"$f":"IF(CGITempAct[[#This Row],[Month]]=H582,I582+1,1)","v":5}]
[44651,47,40,{"$f":"AVERAGE(CGITempAct[[#This Row],[CGIHigh]:[CGILow]]\n)","v":43.5},{"$f":"IF(CGITempAct[[#This Row],[CGIAve]]<65,(65-CGITempAct[[#This Row],[CGIAve]]),0)","v":21.5},{"$f":"SUMPRODUCT((RankNHDD[Month]=CGITempAct[[#This Row],[Month]])*(RankNHDD[Rank]=CGITempAct[[#This Row],[Rank]])*RankNHDD[CGINHDD])","v":27.4},{"$f":"YEAR(CGITempAct[[#This Row],[Date]])","v":2022},{"$f":"MONTH(CGITempAct[[#This Row],[Date]])","v":3},{"$f":"IF(CGITempAct[[#This Row],[Month]]=H583,I583+1,1)","v":6}]
[44630,57,32,{"$f":"AVERAGE(CGITempAct[[#This Row],[CGIHigh]:[CGILow]]\n)","v":44.5},{"$f":"IF(CGITempAct[[#This Row],[CGIAve]]<65,(65-CGITempAct[[#This Row],[CGIAve]]),0)","v":20.5},{"$f":"SUMPRODUCT((RankNHDD[Month]=CGITempAct[[#This Row],[Month]])*(RankNHDD[Rank]=CGITempAct[[#This Row],[Rank]])*RankNHDD[CGINHDD])","v":26.3},{"$f":"YEAR(CGITempAct[[#This Row],[Date]])","v":2022},{"$f":"MONTH(CGITempAct[[#This Row],[Date]])","v":3},{"$f":"IF(CGITempAct[[#This Row],[Month]]=H584,I584+1,1)","v":7}]
[44633,59,30,{"$f":"AVERAGE(CGITempAct[[#This Row],[CGIHigh]:[CGILow]]\n)","v":44.5},{"$f":"IF(CGITempAct[[#This Row],[CGIAve]]<65,(65-CGITempAct[[#This Row],[CGIAve]]),0)","v":20.5},{"$f":"SUMPRODUCT((RankNHDD[Month]=CGITempAct[[#This Row],[Month]])*(RankNHDD[Rank]=CGITempAct[[#This Row],[Rank]])*RankNHDD[CGINHDD])","v":25.3},{"$f":"YEAR(CGITempAct[[#This Row],[Date]])","v":2022},{"$f":"MONTH(CGITempAct[[#This Row],[Date]])","v":3},{"$f":"IF(CGITempAct[[#This Row],[Month]]=H585,I585+1,1)","v":8}]
[44644,50,39,{"$f":"AVERAGE(CGITempAct[[#This Row],[CGIHigh]:[CGILow]]\n)","v":44.5},{"$f":"IF(CGITempAct[[#This Row],[CGIAve]]<65,(65-CGITempAct[[#This Row],[CGIAve]]),0)","v":20.5},{"$f":"SUMPRODUCT((RankNHDD[Month]=CGITempAct[[#This Row],[Month]])*(RankNHDD[Rank]=CGITempAct[[#This Row],[Rank]])*RankNHDD[CGINHDD])","v":24.3},{"$f":"YEAR(CGITempAct[[#This Row],[Date]])","v":2022},{"$f":"MONTH(CGITempAct[[#This Row],[Date]])","v":3},{"$f":"IF(CGITempAct[[#This Row],[Month]]=H586,I586+1,1)","v":9}]
[44645,62,34,{"$f":"AVERAGE(CGITempAct[[#This Row],[CGIHigh]:[CGILow]]\n)","v":48},{"$f":"IF(CGITempAct[[#This Row],[CGIAve]]<65,(65-CGITempAct[[#This Row],[CGIAve]]),0)","v":17},{"$f":"SUMPRODUCT((RankNHDD[Month]=CGITempAct[[#This Row],[Month]])*(RankNHDD[Rank]=CGITempAct[[#This Row],[Rank]])*RankNHDD[CGINHDD])","v":23.5},{"$f":"YEAR(CGITempAct[[#This Row],[Date]])","v":2022},{"$f":"MONTH(CGITempAct[[#This Row],[Date]])","v":3},{"$f":"IF(CGITempAct[[#This Row],[Month]]=H587,I587+1,1)","v":10}]
[44648,58,38,{"$f":"AVERAGE(CGITempAct[[#This Row],[CGIHigh]:[CGILow]]\n)","v":48},{"$f":"IF(CGITempAct[[#This Row],[CGIAve]]<65,(65-CGITempAct[[#This Row],[CGIAve]]),0)","v":17},{"$f":"SUMPRODUCT((RankNHDD[Month]=CGITempAct[[#This Row],[Month]])*(RankNHDD[Rank]=CGITempAct[[#This Row],[Rank]])*RankNHDD[CGINHDD])","v":22.6},{"$f":"YEAR(CGITempAct[[#This Row],[Date]])","v":2022},{"$f":"MONTH(CGITempAct[[#This Row],[Date]])","v":3},{"$f":"IF(CGITempAct[[#This Row],[Month]]=H588,I588+1,1)","v":11}]
[44634,64,34,{"$f":"AVERAGE(CGITempAct[[#This Row],[CGIHigh]:[CGILow]]\n)","v":49},{"$f":"IF(CGITempAct[[#This Row],[CGIAve]]<65,(65-CGITempAct[[#This Row],[CGIAve]]),0)","v":16},{"$f":"SUMPRODUCT((RankNHDD[Month]=CGITempAct[[#This Row],[Month]])*(RankNHDD[Rank]=CGITempAct[[#This Row],[Rank]])*RankNHDD[CGINHDD])","v":21.7},{"$f":"YEAR(CGITempAct[[#This Row],[Date]])","v":2022},{"$f":"MONTH(CGITempAct[[#This Row],[Date]])","v":3},{"$f":"IF(CGITempAct[[#This Row],[Month]]=H589,I589+1,1)","v":12}]
[44639,60,38,{"$f":"AVERAGE(CGITempAct[[#This Row],[CGIHigh]:[CGILow]]\n)","v":49},{"$f":"IF(CGITempAct[[#This Row],[CGIAve]]<65,(65-CGITempAct[[#This Row],[CGIAve]]),0)","v":16},{"$f":"SUMPRODUCT((RankNHDD[Month]=CGITempAct[[#This Row],[Month]])*(RankNHDD[Rank]=CGITempAct[[#This Row],[Rank]])*RankNHDD[CGINHDD])","v":20.8},{"$f":"YEAR(CGITempAct[[#This Row],[Date]])","v":2022},{"$f":"MONTH(CGITempAct[[#This Row],[Date]])","v":3},{"$f":"IF(CGITempAct[[#This Row],[Month]]=H590,I590+1,1)","v":13}]
[44646,61,37,{"$f":"AVERAGE(CGITempAct[[#This Row],[CGIHigh]:[CGILow]]\n)","v":49},{"$f":"IF(CGITempAct[[#This Row],[CGIAve]]<65,(65-CGITempAct[[#This Row],[CGIAve]]),0)","v":16},{"$f":"SUMPRODUCT((RankNHDD[Month]=CGITempAct[[#This Row],[Month]])*(RankNHDD[Rank]=CGITempAct[[#This Row],[Rank]])*RankNHDD[CGINHDD])","v":20},{"$f":"YEAR(CGITempAct[[#This Row],[Date]])","v":2022},{"$f":"MONTH(CGITempAct[[#This Row],[Date]])","v":3},{"$f":"IF(CGITempAct[[#This Row],[Month]]=H591,I591+1,1)","v":14}]
[44640,69,31,{"$f":"AVERAGE(CGITempAct[[#This Row],[CGIHigh]:[CGILow]]\n)","v":50},{"$f":"IF(CGITempAct[[#This Row],[CGIAve]]<65,(65-CGITempAct[[#This Row],[CGIAve]]),0)","v":15},{"$f":"SUMPRODUCT((RankNHDD[Month]=CGITempAct[[#This Row],[Month]])*(RankNHDD[Rank]=CGITempAct[[#This Row],[Rank]])*RankNHDD[CGINHDD])","v":19},{"$f":"YEAR(CGITempAct[[#This Row],[Date]])","v":2022},{"$f":"MONTH(CGITempAct[[#This Row],[Date]])","v":3},{"$f":"IF(CGITempAct[[#This Row],[Month]]=H592,I592+1,1)","v":15}]
[44621,71,30,{"$f":"AVERAGE(CGITempAct[[#This Row],[CGIHigh]:[CGILow]]\n)","v":50.5},{"$f":"IF(CGITempAct[[#This Row],[CGIAve]]<65,(65-CGITempAct[[#This Row],[CGIAve]]),0)","v":14.5},{"$f":"SUMPRODUCT((RankNHDD[Month]=CGITempAct[[#This Row],[Month]])*(RankNHDD[Rank]=CGITempAct[[#This Row],[Rank]])*RankNHDD[CGINHDD])","v":18.100000000000001},{"$f":"YEAR(CGITempAct[[#This Row],[Date]])","v":2022},{"$f":"MONTH(CGITempAct[[#This Row],[Date]])","v":3},{"$f":"IF(CGITempAct[[#This Row],[Month]]=H593,I593+1,1)","v":16}]
[44643,56,45,{"$f":"AVERAGE(CGITempAct[[#This Row],[CGIHigh]:[CGILow]]\n)","v":50.5},{"$f":"IF(CGITempAct[[#This Row],[CGIAve]]<65,(65-CGITempAct[[#This Row],[CGIAve]]),0)","v":14.5},{"$f":"SUMPRODUCT((RankNHDD[Month]=CGITempAct[[#This Row],[Month]])*(RankNHDD[Rank]=CGITempAct[[#This Row],[Rank]])*RankNHDD[CGINHDD])","v":17.2},{"$f":"YEAR(CGITempAct[[#This Row],[Date]])","v":2022},{"$f":"MONTH(CGITempAct[[#This Row],[Date]])","v":3},{"$f":"IF(CGITempAct[[#This Row],[Month]]=H594,I594+1,1)","v":17}]
[44623,66,38,{"$f":"AVERAGE(CGITempAct[[#This Row],[CGIHigh]:[CGILow]]\n)","v":52},{"$f":"IF(CGITempAct[[#This Row],[CGIAve]]<65,(65-CGITempAct[[#This Row],[CGIAve]]),0)","v":13},{"$f":"SUMPRODUCT((RankNHDD[Month]=CGITempAct[[#This Row],[Month]])*(RankNHDD[Rank]=CGITempAct[[#This Row],[Rank]])*RankNHDD[CGINHDD])","v":16.399999999999999},{"$f":"YEAR(CGITempAct[[#This Row],[Date]])","v":2022},{"$f":"MONTH(CGITempAct[[#This Row],[Date]])","v":3},{"$f":"IF(CGITempAct[[#This Row],[Month]]=H595,I595+1,1)","v":18}]
[44624,68,36,{"$f":"AVERAGE(CGITempAct[[#This Row],[CGIHigh]:[CGILow]]\n)","v":52},{"$f":"IF(CGITempAct[[#This Row],[CGIAve]]<65,(65-CGITempAct[[#This Row],[CGIAve]]),0)","v":13},{"$f":"SUMPRODUCT((RankNHDD[Month]=CGITempAct[[#This Row],[Month]])*(RankNHDD[Rank]=CGITempAct[[#This Row],[Rank]])*RankNHDD[CGINHDD])","v":15.4},{"$f":"YEAR(CGITempAct[[#This Row],[Date]])","v":2022},{"$f":"MONTH(CGITempAct[[#This Row],[Date]])","v":3},{"$f":"IF(CGITempAct[[#This Row],[Month]]=H596,I596+1,1)","v":19}]
[44642,55,52,{"$f":"AVERAGE(CGITempAct[[#This Row],[CGIHigh]:[CGILow]]\n)","v":53.5},{"$f":"IF(CGITempAct[[#This Row],[CGIAve]]<65,(65-CGITempAct[[#This Row],[CGIAve]]),0)","v":11.5},{"$f":"SUMPRODUCT((RankNHDD[Month]=CGITempAct[[#This Row],[Month]])*(RankNHDD[Rank]=CGITempAct[[#This Row],[Rank]])*RankNHDD[CGINHDD])","v":14.4},{"$f":"YEAR(CGITempAct[[#This Row],[Date]])","v":2022},{"$f":"MONTH(CGITempAct[[#This Row],[Date]])","v":3},{"$f":"IF(CGITempAct[[#This Row],[Month]]=H597,I597+1,1)","v":20}]
[44627,70,38,{"$f":"AVERAGE(CGITempAct[[#This Row],[CGIHigh]:[CGILow]]\n)","v":54},{"$f":"IF(CGITempAct[[#This Row],[CGIAve]]<65,(65-CGITempAct[[#This Row],[CGIAve]]),0)","v":11},{"$f":"SUMPRODUCT((RankNHDD[Month]=CGITempAct[[#This Row],[Month]])*(RankNHDD[Rank]=CGITempAct[[#This Row],[Rank]])*RankNHDD[CGINHDD])","v":13.2},{"$f":"YEAR(CGITempAct[[#This Row],[Date]])","v":2022},{"$f":"MONTH(CGITempAct[[#This Row],[Date]])","v":3},{"$f":"IF(CGITempAct[[#This Row],[Month]]=H598,I598+1,1)","v":21}]
[44636,71,38,{"$f":"AVERAGE(CGITempAct[[#This Row],[CGIHigh]:[CGILow]]\n)","v":54.5},{"$f":"IF(CGITempAct[[#This Row],[CGIAve]]<65,(65-CGITempAct[[#This Row],[CGIAve]]),0)","v":10.5},{"$f":"SUMPRODUCT((RankNHDD[Month]=CGITempAct[[#This Row],[Month]])*(RankNHDD[Rank]=CGITempAct[[#This Row],[Rank]])*RankNHDD[CGINHDD])","v":12.1},{"$f":"YEAR(CGITempAct[[#This Row],[Date]])","v":2022},{"$f":"MONTH(CGITempAct[[#This Row],[Date]])","v":3},{"$f":"IF(CGITempAct[[#This Row],[Month]]=H599,I599+1,1)","v":22}]
[44638,63,48,{"$f":"AVERAGE(CGITempAct[[#This Row],[CGIHigh]:[CGILow]]\n)","v":55.5},{"$f":"IF(CGITempAct[[#This Row],[CGIAve]]<65,(65-CGITempAct[[#This Row],[CGIAve]]),0)","v":9.5},{"$f":"SUMPRODUCT((RankNHDD[Month]=CGITempAct[[#This Row],[Month]])*(RankNHDD[Rank]=CGITempAct[[#This Row],[Rank]])*RankNHDD[CGINHDD])","v":11.2},{"$f":"YEAR(CGITempAct[[#This Row],[Date]])","v":2022},{"$f":"MONTH(CGITempAct[[#This Row],[Date]])","v":3},{"$f":"IF(CGITempAct[[#This Row],[Month]]=H600,I600+1,1)","v":23}]
[44622,77,35,{"$f":"AVERAGE(CGITempAct[[#This Row],[CGIHigh]:[CGILow]]\n)","v":56},{"$f":"IF(CGITempAct[[#This Row],[CGIAve]]<65,(65-CGITempAct[[#This Row],[CGIAve]]),0)","v":9},{"$f":"SUMPRODUCT((RankNHDD[Month]=CGITempAct[[#This Row],[Month]])*(RankNHDD[Rank]=CGITempAct[[#This Row],[Rank]])*RankNHDD[CGINHDD])","v":10.1},{"$f":"YEAR(CGITempAct[[#This Row],[Date]])","v":2022},{"$f":"MONTH(CGITempAct[[#This Row],[Date]])","v":3},{"$f":"IF(CGITempAct[[#This Row],[Month]]=H601,I601+1,1)","v":24}]
[44635,69,43,{"$f":"AVERAGE(CGITempAct[[#This Row],[CGIHigh]:[CGILow]]\n)","v":56},{"$f":"IF(CGITempAct[[#This Row],[CGIAve]]<65,(65-CGITempAct[[#This Row],[CGIAve]]),0)","v":9},{"$f":"SUMPRODUCT((RankNHDD[Month]=CGITempAct[[#This Row],[Month]])*(RankNHDD[Rank]=CGITempAct[[#This Row],[Rank]])*RankNHDD[CGINHDD])","v":9.1999999999999993},{"$f":"YEAR(CGITempAct[[#This Row],[Date]])","v":2022},{"$f":"MONTH(CGITempAct[[#This Row],[Date]])","v":3},{"$f":"IF(CGITempAct[[#This Row],[Month]]=H602,I602+1,1)","v":25}]
[44637,73,40,{"$f":"AVERAGE(CGITempAct[[#This Row],[CGIHigh]:[CGILow]]\n)","v":56.5},{"$f":"IF(CGITempAct[[#This Row],[CGIAve]]<65,(65-CGITempAct[[#This Row],[CGIAve]]),0)","v":8.5},{"$f":"SUMPRODUCT((RankNHDD[Month]=CGITempAct[[#This Row],[Month]])*(RankNHDD[Rank]=CGITempAct[[#This Row],[Rank]])*RankNHDD[CGINHDD])","v":7.8},{"$f":"YEAR(CGITempAct[[#This Row],[Date]])","v":2022},{"$f":"MONTH(CGITempAct[[#This Row],[Date]])","v":3},{"$f":"IF(CGITempAct[[#This Row],[Month]]=H603,I603+1,1)","v":26}]
[44641,71,46,{"$f":"AVERAGE(CGITempAct[[#This Row],[CGIHigh]:[CGILow]]\n)","v":58.5},{"$f":"IF(CGITempAct[[#This Row],[CGIAve]]<65,(65-CGITempAct[[#This Row],[CGIAve]]),0)","v":6.5},{"$f":"SUMPRODUCT((RankNHDD[Month]=CGITempAct[[#This Row],[Month]])*(RankNHDD[Rank]=CGITempAct[[#This Row],[Rank]])*RankNHDD[CGINHDD])","v":6.4},{"$f":"YEAR(CGITempAct[[#This Row],[Date]])","v":2022},{"$f":"MONTH(CGITempAct[[#This Row],[Date]])","v":3},{"$f":"IF(CGITempAct[[#This Row],[Month]]=H604,I604+1,1)","v":27}]
[44650,71,47,{"$f":"AVERAGE(CGITempAct[[#This Row],[CGIHigh]:[CGILow]]\n)","v":59},{"$f":"IF(CGITempAct[[#This Row],[CGIAve]]<65,(65-CGITempAct[[#This Row],[CGIAve]]),0)","v":6},{"$f":"SUMPRODUCT((RankNHDD[Month]=CGITempAct[[#This Row],[Month]])*(RankNHDD[Rank]=CGITempAct[[#This Row],[Rank]])*RankNHDD[CGINHDD])","v":4.7},{"$f":"YEAR(CGITempAct[[#This Row],[Date]])","v":2022},{"$f":"MONTH(CGITempAct[[#This Row],[Date]])","v":3},{"$f":"IF(CGITempAct[[#This Row],[Month]]=H605,I605+1,1)","v":28}]
[44649,74,45,{"$f":"AVERAGE(CGITempAct[[#This Row],[CGIHigh]:[CGILow]]\n)","v":59.5},{"$f":"IF(CGITempAct[[#This Row],[CGIAve]]<65,(65-CGITempAct[[#This Row],[CGIAve]]),0)","v":5.5},{"$f":"SUMPRODUCT((RankNHDD[Month]=CGITempAct[[#This Row],[Month]])*(RankNHDD[Rank]=CGITempAct[[#This Row],[Rank]])*RankNHDD[CGINHDD])","v":2.5},{"$f":"YEAR(CGITempAct[[#This Row],[Date]])","v":2022},{"$f":"MONTH(CGITempAct[[#This Row],[Date]])","v":3},{"$f":"IF(CGITempAct[[#This Row],[Month]]=H606,I606+1,1)","v":29}]
[44625,71,49,{"$f":"AVERAGE(CGITempAct[[#This Row],[CGIHigh]:[CGILow]]\n)","v":60},{"$f":"IF(CGITempAct[[#This Row],[CGIAve]]<65,(65-CGITempAct[[#This Row],[CGIAve]]),0)","v":5},{"$f":"SUMPRODUCT((RankNHDD[Month]=CGITempAct[[#This Row],[Month]])*(RankNHDD[Rank]=CGITempAct[[#This Row],[Rank]])*RankNHDD[CGINHDD])","v":0.2},{"$f":"YEAR(CGITempAct[[#This Row],[Date]])","v":2022},{"$f":"MONTH(CGITempAct[[#This Row],[Date]])","v":3},{"$f":"IF(CGITempAct[[#This Row],[Month]]=H607,I607+1,1)","v":30}]
[44626,70,53,{"$f":"AVERAGE(CGITempAct[[#This Row],[CGIHigh]:[CGILow]]\n)","v":61.5},{"$f":"IF(CGITempAct[[#This Row],[CGIAve]]<65,(65-CGITempAct[[#This Row],[CGIAve]]),0)","v":3.5},{"$f":"SUMPRODUCT((RankNHDD[Month]=CGITempAct[[#This Row],[Month]])*(RankNHDD[Rank]=CGITempAct[[#This Row],[Rank]])*RankNHDD[CGINHDD])","v":0},{"$f":"YEAR(CGITempAct[[#This Row],[Date]])","v":2022},{"$f":"MONTH(CGITempAct[[#This Row],[Date]])","v":3},{"$f":"IF(CGITempAct[[#This Row],[Month]]=H608,I608+1,1)","v":31}]
[44659,45,39,{"$f":"AVERAGE(CGITempAct[[#This Row],[CGIHigh]:[CGILow]]\n)","v":42},{"$f":"IF(CGITempAct[[#This Row],[CGIAve]]<65,(65-CGITempAct[[#This Row],[CGIAve]]),0)","v":23},{"$f":"SUMPRODUCT((RankNHDD[Month]=CGITempAct[[#This Row],[Month]])*(RankNHDD[Rank]=CGITempAct[[#This Row],[Rank]])*RankNHDD[CGINHDD])","v":26.6},{"$f":"YEAR(CGITempAct[[#This Row],[Date]])","v":2022},{"$f":"MONTH(CGITempAct[[#This Row],[Date]])","v":4},{"$f":"IF(CGITempAct[[#This Row],[Month]]=H609,I609+1,1)","v":1}]
[44652,54,32,{"$f":"AVERAGE(CGITempAct[[#This Row],[CGIHigh]:[CGILow]]\n)","v":43},{"$f":"IF(CGITempAct[[#This Row],[CGIAve]]<65,(65-CGITempAct[[#This Row],[CGIAve]]),0)","v":22},{"$f":"SUMPRODUCT((RankNHDD[Month]=CGITempAct[[#This Row],[Month]])*(RankNHDD[Rank]=CGITempAct[[#This Row],[Rank]])*RankNHDD[CGINHDD])","v":22.5},{"$f":"YEAR(CGITempAct[[#This Row],[Date]])","v":2022},{"$f":"MONTH(CGITempAct[[#This Row],[Date]])","v":4},{"$f":"IF(CGITempAct[[#This Row],[Month]]=H610,I610+1,1)","v":2}]
[44670,58,32,{"$f":"AVERAGE(CGITempAct[[#This Row],[CGIHigh]:[CGILow]]\n)","v":45},{"$f":"IF(CGITempAct[[#This Row],[CGIAve]]<65,(65-CGITempAct[[#This Row],[CGIAve]]),0)","v":20},{"$f":"SUMPRODUCT((RankNHDD[Month]=CGITempAct[[#This Row],[Month]])*(RankNHDD[Rank]=CGITempAct[[#This Row],[Rank]])*RankNHDD[CGINHDD])","v":19.899999999999999},{"$f":"YEAR(CGITempAct[[#This Row],[Date]])","v":2022},{"$f":"MONTH(CGITempAct[[#This Row],[Date]])","v":4},{"$f":"IF(CGITempAct[[#This Row],[Month]]=H611,I611+1,1)","v":3}]
[44668,51,43,{"$f":"AVERAGE(CGITempAct[[#This Row],[CGIHigh]:[CGILow]]\n)","v":47},{"$f":"IF(CGITempAct[[#This Row],[CGIAve]]<65,(65-CGITempAct[[#This Row],[CGIAve]]),0)","v":18},{"$f":"SUMPRODUCT((RankNHDD[Month]=CGITempAct[[#This Row],[Month]])*(RankNHDD[Rank]=CGITempAct[[#This Row],[Rank]])*RankNHDD[CGINHDD])","v":18.399999999999999},{"$f":"YEAR(CGITempAct[[#This Row],[Date]])","v":2022},{"$f":"MONTH(CGITempAct[[#This Row],[Date]])","v":4},{"$f":"IF(CGITempAct[[#This Row],[Month]]=H612,I612+1,1)","v":4}]
[44658,58,39,{"$f":"AVERAGE(CGITempAct[[#This Row],[CGIHigh]:[CGILow]]\n)","v":48.5},{"$f":"IF(CGITempAct[[#This Row],[CGIAve]]<65,(65-CGITempAct[[#This Row],[CGIAve]]),0)","v":16.5},{"$f":"SUMPRODUCT((RankNHDD[Month]=CGITempAct[[#This Row],[Month]])*(RankNHDD[Rank]=CGITempAct[[#This Row],[Rank]])*RankNHDD[CGINHDD])","v":17},{"$f":"YEAR(CGITempAct[[#This Row],[Date]])","v":2022},{"$f":"MONTH(CGITempAct[[#This Row],[Date]])","v":4},{"$f":"IF(CGITempAct[[#This Row],[Month]]=H613,I613+1,1)","v":5}]
[44660,64,33,{"$f":"AVERAGE(CGITempAct[[#This Row],[CGIHigh]:[CGILow]]\n)","v":48.5},{"$f":"IF(CGITempAct[[#This Row],[CGIAve]]<65,(65-CGITempAct[[#This Row],[CGIAve]]),0)","v":16.5},{"$f":"SUMPRODUCT((RankNHDD[Month]=CGITempAct[[#This Row],[Month]])*(RankNHDD[Rank]=CGITempAct[[#This Row],[Rank]])*RankNHDD[CGINHDD])","v":15.6},{"$f":"YEAR(CGITempAct[[#This Row],[Date]])","v":2022},{"$f":"MONTH(CGITempAct[[#This Row],[Date]])","v":4},{"$f":"IF(CGITempAct[[#This Row],[Month]]=H614,I614+1,1)","v":6}]
[44654,64,34,{"$f":"AVERAGE(CGITempAct[[#This Row],[CGIHigh]:[CGILow]]\n)","v":49},{"$f":"IF(CGITempAct[[#This Row],[CGIAve]]<65,(65-CGITempAct[[#This Row],[CGIAve]]),0)","v":16},{"$f":"SUMPRODUCT((RankNHDD[Month]=CGITempAct[[#This Row],[Month]])*(RankNHDD[Rank]=CGITempAct[[#This Row],[Rank]])*RankNHDD[CGINHDD])","v":14.6},{"$f":"YEAR(CGITempAct[[#This Row],[Date]])","v":2022},{"$f":"MONTH(CGITempAct[[#This Row],[Date]])","v":4},{"$f":"IF(CGITempAct[[#This Row],[Month]]=H615,I615+1,1)","v":7}]
[44665,63,35,{"$f":"AVERAGE(CGITempAct[[#This Row],[CGIHigh]:[CGILow]]\n)","v":49},{"$f":"IF(CGITempAct[[#This Row],[CGIAve]]<65,(65-CGITempAct[[#This Row],[CGIAve]]),0)","v":16},{"$f":"SUMPRODUCT((RankNHDD[Month]=CGITempAct[[#This Row],[Month]])*(RankNHDD[Rank]=CGITempAct[[#This Row],[Rank]])*RankNHDD[CGINHDD])","v":13.8},{"$f":"YEAR(CGITempAct[[#This Row],[Date]])","v":2022},{"$f":"MONTH(CGITempAct[[#This Row],[Date]])","v":4},{"$f":"IF(CGITempAct[[#This Row],[Month]]=H616,I616+1,1)","v":8}]
[44669,59,40,{"$f":"AVERAGE(CGITempAct[[#This Row],[CGIHigh]:[CGILow]]\n)","v":49.5},{"$f":"IF(CGITempAct[[#This Row],[CGIAve]]<65,(65-CGITempAct[[#This Row],[CGIAve]]),0)","v":15.5},{"$f":"SUMPRODUCT((RankNHDD[Month]=CGITempAct[[#This Row],[Month]])*(RankNHDD[Rank]=CGITempAct[[#This Row],[Rank]])*RankNHDD[CGINHDD])","v":12.8},{"$f":"YEAR(CGITempAct[[#This Row],[Date]])","v":2022},{"$f":"MONTH(CGITempAct[[#This Row],[Date]])","v":4},{"$f":"IF(CGITempAct[[#This Row],[Month]]=H617,I617+1,1)","v":9}]
[44666,59,41,{"$f":"AVERAGE(CGITempAct[[#This Row],[CGIHigh]:[CGILow]]\n)","v":50},{"$f":"IF(CGITempAct[[#This Row],[CGIAve]]<65,(65-CGITempAct[[#This Row],[CGIAve]]),0)","v":15},{"$f":"SUMPRODUCT((RankNHDD[Month]=CGITempAct[[#This Row],[Month]])*(RankNHDD[Rank]=CGITempAct[[#This Row],[Rank]])*RankNHDD[CGINHDD])","v":12},{"$f":"YEAR(CGITempAct[[#This Row],[Date]])","v":2022},{"$f":"MONTH(CGITempAct[[#This Row],[Date]])","v":4},{"$f":"IF(CGITempAct[[#This Row],[Month]]=H618,I618+1,1)","v":10}]
[44653,68,35,{"$f":"AVERAGE(CGITempAct[[#This Row],[CGIHigh]:[CGILow]]\n)","v":51.5},{"$f":"IF(CGITempAct[[#This Row],[CGIAve]]<65,(65-CGITempAct[[#This Row],[CGIAve]]),0)","v":13.5},{"$f":"SUMPRODUCT((RankNHDD[Month]=CGITempAct[[#This Row],[Month]])*(RankNHDD[Rank]=CGITempAct[[#This Row],[Rank]])*RankNHDD[CGINHDD])","v":11.3},{"$f":"YEAR(CGITempAct[[#This Row],[Date]])","v":2022},{"$f":"MONTH(CGITempAct[[#This Row],[Date]])","v":4},{"$f":"IF(CGITempAct[[#This Row],[Month]]=H619,I619+1,1)","v":11}]
[44671,59,44,{"$f":"AVERAGE(CGITempAct[[#This Row],[CGIHigh]:[CGILow]]\n)","v":51.5},{"$f":"IF(CGITempAct[[#This Row],[CGIAve]]<65,(65-CGITempAct[[#This Row],[CGIAve]]),0)","v":13.5},{"$f":"SUMPRODUCT((RankNHDD[Month]=CGITempAct[[#This Row],[Month]])*(RankNHDD[Rank]=CGITempAct[[#This Row],[Rank]])*RankNHDD[CGINHDD])","v":10.5},{"$f":"YEAR(CGITempAct[[#This Row],[Date]])","v":2022},{"$f":"MONTH(CGITempAct[[#This Row],[Date]])","v":4},{"$f":"IF(CGITempAct[[#This Row],[Month]]=H620,I620+1,1)","v":12}]
[44655,58,47,{"$f":"AVERAGE(CGITempAct[[#This Row],[CGIHigh]:[CGILow]]\n)","v":52.5},{"$f":"IF(CGITempAct[[#This Row],[CGIAve]]<65,(65-CGITempAct[[#This Row],[CGIAve]]),0)","v":12.5},{"$f":"SUMPRODUCT((RankNHDD[Month]=CGITempAct[[#This Row],[Month]])*(RankNHDD[Rank]=CGITempAct[[#This Row],[Rank]])*RankNHDD[CGINHDD])","v":9.6999999999999993},{"$f":"YEAR(CGITempAct[[#This Row],[Date]])","v":2022},{"$f":"MONTH(CGITempAct[[#This Row],[Date]])","v":4},{"$f":"IF(CGITempAct[[#This Row],[Month]]=H621,I621+1,1)","v":13}]
[44677,63,42,{"$f":"AVERAGE(CGITempAct[[#This Row],[CGIHigh]:[CGILow]]\n)","v":52.5},{"$f":"IF(CGITempAct[[#This Row],[CGIAve]]<65,(65-CGITempAct[[#This Row],[CGIAve]]),0)","v":12.5},{"$f":"SUMPRODUCT((RankNHDD[Month]=CGITempAct[[#This Row],[Month]])*(RankNHDD[Rank]=CGITempAct[[#This Row],[Rank]])*RankNHDD[CGINHDD])","v":8.8000000000000007},{"$f":"YEAR(CGITempAct[[#This Row],[Date]])","v":2022},{"$f":"MONTH(CGITempAct[[#This Row],[Date]])","v":4},{"$f":"IF(CGITempAct[[#This Row],[Month]]=H622,I622+1,1)","v":14}]
[44678,69,38,{"$f":"AVERAGE(CGITempAct[[#This Row],[CGIHigh]:[CGILow]]\n)","v":53.5},{"$f":"IF(CGITempAct[[#This Row],[CGIAve]]<65,(65-CGITempAct[[#This Row],[CGIAve]]),0)","v":11.5},{"$f":"SUMPRODUCT((RankNHDD[Month]=CGITempAct[[#This Row],[Month]])*(RankNHDD[Rank]=CGITempAct[[#This Row],[Rank]])*RankNHDD[CGINHDD])","v":7.9},{"$f":"YEAR(CGITempAct[[#This Row],[Date]])","v":2022},{"$f":"MONTH(CGITempAct[[#This Row],[Date]])","v":4},{"$f":"IF(CGITempAct[[#This Row],[Month]]=H623,I623+1,1)","v":15}]
[44667,63,45,{"$f":"AVERAGE(CGITempAct[[#This Row],[CGIHigh]:[CGILow]]\n)","v":54},{"$f":"IF(CGITempAct[[#This Row],[CGIAve]]<65,(65-CGITempAct[[#This Row],[CGIAve]]),0)","v":11},{"$f":"SUMPRODUCT((RankNHDD[Month]=CGITempAct[[#This Row],[Month]])*(RankNHDD[Rank]=CGITempAct[[#This Row],[Rank]])*RankNHDD[CGINHDD])","v":7.2},{"$f":"YEAR(CGITempAct[[#This Row],[Date]])","v":2022},{"$f":"MONTH(CGITempAct[[#This Row],[Date]])","v":4},{"$f":"IF(CGITempAct[[#This Row],[Month]]=H624,I624+1,1)","v":16}]
[44657,67,46,{"$f":"AVERAGE(CGITempAct[[#This Row],[CGIHigh]:[CGILow]]\n)","v":56.5},{"$f":"IF(CGITempAct[[#This Row],[CGIAve]]<65,(65-CGITempAct[[#This Row],[CGIAve]]),0)","v":8.5},{"$f":"SUMPRODUCT((RankNHDD[Month]=CGITempAct[[#This Row],[Month]])*(RankNHDD[Rank]=CGITempAct[[#This Row],[Rank]])*RankNHDD[CGINHDD])","v":6.4},{"$f":"YEAR(CGITempAct[[#This Row],[Date]])","v":2022},{"$f":"MONTH(CGITempAct[[#This Row],[Date]])","v":4},{"$f":"IF(CGITempAct[[#This Row],[Month]]=H625,I625+1,1)","v":17}]
[44661,77,39,{"$f":"AVERAGE(CGITempAct[[#This Row],[CGIHigh]:[CGILow]]\n)","v":58},{"$f":"IF(CGITempAct[[#This Row],[CGIAve]]<65,(65-CGITempAct[[#This Row],[CGIAve]]),0)","v":7},{"$f":"SUMPRODUCT((RankNHDD[Month]=CGITempAct[[#This Row],[Month]])*(RankNHDD[Rank]=CGITempAct[[#This Row],[Rank]])*RankNHDD[CGINHDD])","v":5.5},{"$f":"YEAR(CGITempAct[[#This Row],[Date]])","v":2022},{"$f":"MONTH(CGITempAct[[#This Row],[Date]])","v":4},{"$f":"IF(CGITempAct[[#This Row],[Month]]=H626,I626+1,1)","v":18}]
[44679,72,44,{"$f":"AVERAGE(CGITempAct[[#This Row],[CGIHigh]:[CGILow]]\n)","v":58},{"$f":"IF(CGITempAct[[#This Row],[CGIAve]]<65,(65-CGITempAct[[#This Row],[CGIAve]]),0)","v":7},{"$f":"SUMPRODUCT((RankNHDD[Month]=CGITempAct[[#This Row],[Month]])*(RankNHDD[Rank]=CGITempAct[[#This Row],[Rank]])*RankNHDD[CGINHDD])","v":4.5},{"$f":"YEAR(CGITempAct[[#This Row],[Date]])","v":2022},{"$f":"MONTH(CGITempAct[[#This Row],[Date]])","v":4},{"$f":"IF(CGITempAct[[#This Row],[Month]]=H627,I627+1,1)","v":19}]
[44676,69,50,{"$f":"AVERAGE(CGITempAct[[#This Row],[CGIHigh]:[CGILow]]\n)","v":59.5},{"$f":"IF(CGITempAct[[#This Row],[CGIAve]]<65,(65-CGITempAct[[#This Row],[CGIAve]]),0)","v":5.5},{"$f":"SUMPRODUCT((RankNHDD[Month]=CGITempAct[[#This Row],[Month]])*(RankNHDD[Rank]=CGITempAct[[#This Row],[Rank]])*RankNHDD[CGINHDD])","v":3.6},{"$f":"YEAR(CGITempAct[[#This Row],[Date]])","v":2022},{"$f":"MONTH(CGITempAct[[#This Row],[Date]])","v":4},{"$f":"IF(CGITempAct[[#This Row],[Month]]=H628,I628+1,1)","v":20}]
[44664,73,47,{"$f":"AVERAGE(CGITempAct[[#This Row],[CGIHigh]:[CGILow]]\n)","v":60},{"$f":"IF(CGITempAct[[#This Row],[CGIAve]]<65,(65-CGITempAct[[#This Row],[CGIAve]]),0)","v":5},{"$f":"SUMPRODUCT((RankNHDD[Month]=CGITempAct[[#This Row],[Month]])*(RankNHDD[Rank]=CGITempAct[[#This Row],[Rank]])*RankNHDD[CGINHDD])","v":2.8},{"$f":"YEAR(CGITempAct[[#This Row],[Date]])","v":2022},{"$f":"MONTH(CGITempAct[[#This Row],[Date]])","v":4},{"$f":"IF(CGITempAct[[#This Row],[Month]]=H629,I629+1,1)","v":21}]
[44656,69,52,{"$f":"AVERAGE(CGITempAct[[#This Row],[CGIHigh]:[CGILow]]\n)","v":60.5},{"$f":"IF(CGITempAct[[#This Row],[CGIAve]]<65,(65-CGITempAct[[#This Row],[CGIAve]]),0)","v":4.5},{"$f":"SUMPRODUCT((RankNHDD[Month]=CGITempAct[[#This Row],[Month]])*(RankNHDD[Rank]=CGITempAct[[#This Row],[Rank]])*RankNHDD[CGINHDD])","v":1.7},{"$f":"YEAR(CGITempAct[[#This Row],[Date]])","v":2022},{"$f":"MONTH(CGITempAct[[#This Row],[Date]])","v":4},{"$f":"IF(CGITempAct[[#This Row],[Month]]=H630,I630+1,1)","v":22}]
[44672,72,55,{"$f":"AVERAGE(CGITempAct[[#This Row],[CGIHigh]:[CGILow]]\n)","v":63.5},{"$f":"IF(CGITempAct[[#This Row],[CGIAve]]<65,(65-CGITempAct[[#This Row],[CGIAve]]),0)","v":1.5},{"$f":"SUMPRODUCT((RankNHDD[Month]=CGITempAct[[#This Row],[Month]])*(RankNHDD[Rank]=CGITempAct[[#This Row],[Rank]])*RankNHDD[CGINHDD])","v":0.8},{"$f":"YEAR(CGITempAct[[#This Row],[Date]])","v":2022},{"$f":"MONTH(CGITempAct[[#This Row],[Date]])","v":4},{"$f":"IF(CGITempAct[[#This Row],[Month]]=H631,I631+1,1)","v":23}]
[44662,71,59,{"$f":"AVERAGE(CGITempAct[[#This Row],[CGIHigh]:[CGILow]]\n)","v":65},{"$f":"IF(CGITempAct[[#This Row],[CGIAve]]<65,(65-CGITempAct[[#This Row],[CGIAve]]),0)","v":0},{"$f":"SUMPRODUCT((RankNHDD[Month]=CGITempAct[[#This Row],[Month]])*(RankNHDD[Rank]=CGITempAct[[#This Row],[Rank]])*RankNHDD[CGINHDD])","v":0.1},{"$f":"YEAR(CGITempAct[[#This Row],[Date]])","v":2022},{"$f":"MONTH(CGITempAct[[#This Row],[Date]])","v":4},{"$f":"IF(CGITempAct[[#This Row],[Month]]=H632,I632+1,1)","v":24}]
[44681,75,59,{"$f":"AVERAGE(CGITempAct[[#This Row],[CGIHigh]:[CGILow]]\n)","v":67},{"$f":"IF(CGITempAct[[#This Row],[CGIAve]]<65,(65-CGITempAct[[#This Row],[CGIAve]]),0)","v":0},{"$f":"SUMPRODUCT((RankNHDD[Month]=CGITempAct[[#This Row],[Month]])*(RankNHDD[Rank]=CGITempAct[[#This Row],[Rank]])*RankNHDD[CGINHDD])","v":0},{"$f":"YEAR(CGITempAct[[#This Row],[Date]])","v":2022},{"$f":"MONTH(CGITempAct[[#This Row],[Date]])","v":4},{"$f":"IF(CGITempAct[[#This Row],[Month]]=H633,I633+1,1)","v":25}]
[44663,79,59,{"$f":"AVERAGE(CGITempAct[[#This Row],[CGIHigh]:[CGILow]]\n)","v":69},{"$f":"IF(CGITempAct[[#This Row],[CGIAve]]<65,(65-CGITempAct[[#This Row],[CGIAve]]),0)","v":0},{"$f":"SUMPRODUCT((RankNHDD[Month]=CGITempAct[[#This Row],[Month]])*(RankNHDD[Rank]=CGITempAct[[#This Row],[Rank]])*RankNHDD[CGINHDD])","v":0},{"$f":"YEAR(CGITempAct[[#This Row],[Date]])","v":2022},{"$f":"MONTH(CGITempAct[[#This Row],[Date]])","v":4},{"$f":"IF(CGITempAct[[#This Row],[Month]]=H634,I634+1,1)","v":26}]
[44680,80,58,{"$f":"AVERAGE(CGITempAct[[#This Row],[CGIHigh]:[CGILow]]\n)","v":69},{"$f":"IF(CGITempAct[[#This Row],[CGIAve]]<65,(65-CGITempAct[[#This Row],[CGIAve]]),0)","v":0},{"$f":"SUMPRODUCT((RankNHDD[Month]=CGITempAct[[#This Row],[Month]])*(RankNHDD[Rank]=CGITempAct[[#This Row],[Rank]])*RankNHDD[CGINHDD])","v":0},{"$f":"YEAR(CGITempAct[[#This Row],[Date]])","v":2022},{"$f":"MONTH(CGITempAct[[#This Row],[Date]])","v":4},{"$f":"IF(CGITempAct[[#This Row],[Month]]=H635,I635+1,1)","v":27}]
[44673,80,63,{"$f":"AVERAGE(CGITempAct[[#This Row],[CGIHigh]:[CGILow]]\n)","v":71.5},{"$f":"IF(CGITempAct[[#This Row],[CGIAve]]<65,(65-CGITempAct[[#This Row],[CGIAve]]),0)","v":0},{"$f":"SUMPRODUCT((RankNHDD[Month]=CGITempAct[[#This Row],[Month]])*(RankNHDD[Rank]=CGITempAct[[#This Row],[Rank]])*RankNHDD[CGINHDD])","v":0},{"$f":"YEAR(CGITempAct[[#This Row],[Date]])","v":2022},{"$f":"MONTH(CGITempAct[[#This Row],[Date]])","v":4},{"$f":"IF(CGITempAct[[#This Row],[Month]]=H636,I636+1,1)","v":28}]
[44674,80,65,{"$f":"AVERAGE(CGITempAct[[#This Row],[CGIHigh]:[CGILow]]\n)","v":72.5},{"$f":"IF(CGITempAct[[#This Row],[CGIAve]]<65,(65-CGITempAct[[#This Row],[CGIAve]]),0)","v":0},{"$f":"SUMPRODUCT((RankNHDD[Month]=CGITempAct[[#This Row],[Month]])*(RankNHDD[Rank]=CGITempAct[[#This Row],[Rank]])*RankNHDD[CGINHDD])","v":0},{"$f":"YEAR(CGITempAct[[#This Row],[Date]])","v":2022},{"$f":"MONTH(CGITempAct[[#This Row],[Date]])","v":4},{"$f":"IF(CGITempAct[[#This Row],[Month]]=H637,I637+1,1)","v":29}]
[44675,80,67,{"$f":"AVERAGE(CGITempAct[[#This Row],[CGIHigh]:[CGILow]]\n)","v":73.5},{"$f":"IF(CGITempAct[[#This Row],[CGIAve]]<65,(65-CGITempAct[[#This Row],[CGIAve]]),0)","v":0},{"$f":"SUMPRODUCT((RankNHDD[Month]=CGITempAct[[#This Row],[Month]])*(RankNHDD[Rank]=CGITempAct[[#This Row],[Rank]])*RankNHDD[CGINHDD])","v":0},{"$f":"YEAR(CGITempAct[[#This Row],[Date]])","v":2022},{"$f":"MONTH(CGITempAct[[#This Row],[Date]])","v":4},{"$f":"IF(CGITempAct[[#This Row],[Month]]=H638,I638+1,1)","v":30}]
[44685,62,52,{"$f":"AVERAGE(CGITempAct[[#This Row],[CGIHigh]:[CGILow]]\n)","v":57},{"$f":"IF(CGITempAct[[#This Row],[CGIAve]]<65,(65-CGITempAct[[#This Row],[CGIAve]]),0)","v":8},{"$f":"SUMPRODUCT((RankNHDD[Month]=CGITempAct[[#This Row],[Month]])*(RankNHDD[Rank]=CGITempAct[[#This Row],[Rank]])*RankNHDD[CGINHDD])","v":14.2},{"$f":"YEAR(CGITempAct[[#This Row],[Date]])","v":2022},{"$f":"MONTH(CGITempAct[[#This Row],[Date]])","v":5},{"$f":"IF(CGITempAct[[#This Row],[Month]]=H639,I639+1,1)","v":1}]
[44683,71,47,{"$f":"AVERAGE(CGITempAct[[#This Row],[CGIHigh]:[CGILow]]\n)","v":59},{"$f":"IF(CGITempAct[[#This Row],[CGIAve]]<65,(65-CGITempAct[[#This Row],[CGIAve]]),0)","v":6},{"$f":"SUMPRODUCT((RankNHDD[Month]=CGITempAct[[#This Row],[Month]])*(RankNHDD[Rank]=CGITempAct[[#This Row],[Rank]])*RankNHDD[CGINHDD])","v":10.9},{"$f":"YEAR(CGITempAct[[#This Row],[Date]])","v":2022},{"$f":"MONTH(CGITempAct[[#This Row],[Date]])","v":5},{"$f":"IF(CGITempAct[[#This Row],[Month]]=H640,I640+1,1)","v":2}]
[44687,64,56,{"$f":"AVERAGE(CGITempAct[[#This Row],[CGIHigh]:[CGILow]]\n)","v":60},{"$f":"IF(CGITempAct[[#This Row],[CGIAve]]<65,(65-CGITempAct[[#This Row],[CGIAve]]),0)","v":5},{"$f":"SUMPRODUCT((RankNHDD[Month]=CGITempAct[[#This Row],[Month]])*(RankNHDD[Rank]=CGITempAct[[#This Row],[Rank]])*RankNHDD[CGINHDD])","v":9},{"$f":"YEAR(CGITempAct[[#This Row],[Date]])","v":2022},{"$f":"MONTH(CGITempAct[[#This Row],[Date]])","v":5},{"$f":"IF(CGITempAct[[#This Row],[Month]]=H641,I641+1,1)","v":3}]
[44708,66,55,{"$f":"AVERAGE(CGITempAct[[#This Row],[CGIHigh]:[CGILow]]\n)","v":60.5},{"$f":"IF(CGITempAct[[#This Row],[CGIAve]]<65,(65-CGITempAct[[#This Row],[CGIAve]]),0)","v":4.5},{"$f":"SUMPRODUCT((RankNHDD[Month]=CGITempAct[[#This Row],[Month]])*(RankNHDD[Rank]=CGITempAct[[#This Row],[Rank]])*RankNHDD[CGINHDD])","v":7.5},{"$f":"YEAR(CGITempAct[[#This Row],[Date]])","v":2022},{"$f":"MONTH(CGITempAct[[#This Row],[Date]])","v":5},{"$f":"IF(CGITempAct[[#This Row],[Month]]=H642,I642+1,1)","v":4}]
[44686,67,56,{"$f":"AVERAGE(CGITempAct[[#This Row],[CGIHigh]:[CGILow]]\n)","v":61.5},{"$f":"IF(CGITempAct[[#This Row],[CGIAve]]<65,(65-CGITempAct[[#This Row],[CGIAve]]),0)","v":3.5},{"$f":"SUMPRODUCT((RankNHDD[Month]=CGITempAct[[#This Row],[Month]])*(RankNHDD[Rank]=CGITempAct[[#This Row],[Rank]])*RankNHDD[CGINHDD])","v":6.5},{"$f":"YEAR(CGITempAct[[#This Row],[Date]])","v":2022},{"$f":"MONTH(CGITempAct[[#This Row],[Date]])","v":5},{"$f":"IF(CGITempAct[[#This Row],[Month]]=H643,I643+1,1)","v":5}]
[44703,66,57,{"$f":"AVERAGE(CGITempAct[[#This Row],[CGIHigh]:[CGILow]]\n)","v":61.5},{"$f":"IF(CGITempAct[[#This Row],[CGIAve]]<65,(65-CGITempAct[[#This Row],[CGIAve]]),0)","v":3.5},{"$f":"SUMPRODUCT((RankNHDD[Month]=CGITempAct[[#This Row],[Month]])*(RankNHDD[Rank]=CGITempAct[[#This Row],[Rank]])*RankNHDD[CGINHDD])","v":5.5},{"$f":"YEAR(CGITempAct[[#This Row],[Date]])","v":2022},{"$f":"MONTH(CGITempAct[[#This Row],[Date]])","v":5},{"$f":"IF(CGITempAct[[#This Row],[Month]]=H644,I644+1,1)","v":6}]
[44689,75,49,{"$f":"AVERAGE(CGITempAct[[#This Row],[CGIHigh]:[CGILow]]\n)","v":62},{"$f":"IF(CGITempAct[[#This Row],[CGIAve]]<65,(65-CGITempAct[[#This Row],[CGIAve]]),0)","v":3},{"$f":"SUMPRODUCT((RankNHDD[Month]=CGITempAct[[#This Row],[Month]])*(RankNHDD[Rank]=CGITempAct[[#This Row],[Rank]])*RankNHDD[CGINHDD])","v":4.5},{"$f":"YEAR(CGITempAct[[#This Row],[Date]])","v":2022},{"$f":"MONTH(CGITempAct[[#This Row],[Date]])","v":5},{"$f":"IF(CGITempAct[[#This Row],[Month]]=H645,I645+1,1)","v":7}]
[44688,73,52,{"$f":"AVERAGE(CGITempAct[[#This Row],[CGIHigh]:[CGILow]]\n)","v":62.5},{"$f":"IF(CGITempAct[[#This Row],[CGIAve]]<65,(65-CGITempAct[[#This Row],[CGIAve]]),0)","v":2.5},{"$f":"SUMPRODUCT((RankNHDD[Month]=CGITempAct[[#This Row],[Month]])*(RankNHDD[Rank]=CGITempAct[[#This Row],[Rank]])*RankNHDD[CGINHDD])","v":3.8},{"$f":"YEAR(CGITempAct[[#This Row],[Date]])","v":2022},{"$f":"MONTH(CGITempAct[[#This Row],[Date]])","v":5},{"$f":"IF(CGITempAct[[#This Row],[Month]]=H646,I646+1,1)","v":8}]
[44704,71,54,{"$f":"AVERAGE(CGITempAct[[#This Row],[CGIHigh]:[CGILow]]\n)","v":62.5},{"$f":"IF(CGITempAct[[#This Row],[CGIAve]]<65,(65-CGITempAct[[#This Row],[CGIAve]]),0)","v":2.5},{"$f":"SUMPRODUCT((RankNHDD[Month]=CGITempAct[[#This Row],[Month]])*(RankNHDD[Rank]=CGITempAct[[#This Row],[Rank]])*RankNHDD[CGINHDD])","v":2.9},{"$f":"YEAR(CGITempAct[[#This Row],[Date]])","v":2022},{"$f":"MONTH(CGITempAct[[#This Row],[Date]])","v":5},{"$f":"IF(CGITempAct[[#This Row],[Month]]=H647,I647+1,1)","v":9}]
[44705,73,53,{"$f":"AVERAGE(CGITempAct[[#This Row],[CGIHigh]:[CGILow]]\n)","v":63},{"$f":"IF(CGITempAct[[#This Row],[CGIAve]]<65,(65-CGITempAct[[#This Row],[CGIAve]]),0)","v":2},{"$f":"SUMPRODUCT((RankNHDD[Month]=CGITempAct[[#This Row],[Month]])*(RankNHDD[Rank]=CGITempAct[[#This Row],[Rank]])*RankNHDD[CGINHDD])","v":2.1},{"$f":"YEAR(CGITempAct[[#This Row],[Date]])","v":2022},{"$f":"MONTH(CGITempAct[[#This Row],[Date]])","v":5},{"$f":"IF(CGITempAct[[#This Row],[Month]]=H648,I648+1,1)","v":10}]
[44682,77,50,{"$f":"AVERAGE(CGITempAct[[#This Row],[CGIHigh]:[CGILow]]\n)","v":63.5},{"$f":"IF(CGITempAct[[#This Row],[CGIAve]]<65,(65-CGITempAct[[#This Row],[CGIAve]]),0)","v":1.5},{"$f":"SUMPRODUCT((RankNHDD[Month]=CGITempAct[[#This Row],[Month]])*(RankNHDD[Rank]=CGITempAct[[#This Row],[Rank]])*RankNHDD[CGINHDD])","v":1.3},{"$f":"YEAR(CGITempAct[[#This Row],[Date]])","v":2022},{"$f":"MONTH(CGITempAct[[#This Row],[Date]])","v":5},{"$f":"IF(CGITempAct[[#This Row],[Month]]=H649,I649+1,1)","v":11}]
[44709,78,49,{"$f":"AVERAGE(CGITempAct[[#This Row],[CGIHigh]:[CGILow]]\n)","v":63.5},{"$f":"IF(CGITempAct[[#This Row],[CGIAve]]<65,(65-CGITempAct[[#This Row],[CGIAve]]),0)","v":1.5},{"$f":"SUMPRODUCT((RankNHDD[Month]=CGITempAct[[#This Row],[Month]])*(RankNHDD[Rank]=CGITempAct[[#This Row],[Rank]])*RankNHDD[CGINHDD])","v":0.6},{"$f":"YEAR(CGITempAct[[#This Row],[Date]])","v":2022},{"$f":"MONTH(CGITempAct[[#This Row],[Date]])","v":5},{"$f":"IF(CGITempAct[[#This Row],[Month]]=H650,I650+1,1)","v":12}]
[44707,73,59,{"$f":"AVERAGE(CGITempAct[[#This Row],[CGIHigh]:[CGILow]]\n)","v":66},{"$f":"IF(CGITempAct[[#This Row],[CGIAve]]<65,(65-CGITempAct[[#This Row],[CGIAve]]),0)","v":0},{"$f":"SUMPRODUCT((RankNHDD[Month]=CGITempAct[[#This Row],[Month]])*(RankNHDD[Rank]=CGITempAct[[#This Row],[Rank]])*RankNHDD[CGINHDD])","v":0},{"$f":"YEAR(CGITempAct[[#This Row],[Date]])","v":2022},{"$f":"MONTH(CGITempAct[[#This Row],[Date]])","v":5},{"$f":"IF(CGITempAct[[#This Row],[Month]]=H651,I651+1,1)","v":13}]
[44684,77,56,{"$f":"AVERAGE(CGITempAct[[#This Row],[CGIHigh]:[CGILow]]\n)","v":66.5},{"$f":"IF(CGITempAct[[#This Row],[CGIAve]]<65,(65-CGITempAct[[#This Row],[CGIAve]]),0)","v":0},{"$f":"SUMPRODUCT((RankNHDD[Month]=CGITempAct[[#This Row],[Month]])*(RankNHDD[Rank]=CGITempAct[[#This Row],[Rank]])*RankNHDD[CGINHDD])","v":0},{"$f":"YEAR(CGITempAct[[#This Row],[Date]])","v":2022},{"$f":"MONTH(CGITempAct[[#This Row],[Date]])","v":5},{"$f":"IF(CGITempAct[[#This Row],[Month]]=H652,I652+1,1)","v":14}]
[44698,86,53,{"$f":"AVERAGE(CGITempAct[[#This Row],[CGIHigh]:[CGILow]]\n)","v":69.5},{"$f":"IF(CGITempAct[[#This Row],[CGIAve]]<65,(65-CGITempAct[[#This Row],[CGIAve]]),0)","v":0},{"$f":"SUMPRODUCT((RankNHDD[Month]=CGITempAct[[#This Row],[Month]])*(RankNHDD[Rank]=CGITempAct[[#This Row],[Rank]])*RankNHDD[CGINHDD])","v":0},{"$f":"YEAR(CGITempAct[[#This Row],[Date]])","v":2022},{"$f":"MONTH(CGITempAct[[#This Row],[Date]])","v":5},{"$f":"IF(CGITempAct[[#This Row],[Month]]=H653,I653+1,1)","v":15}]
[44697,83,57,{"$f":"AVERAGE(CGITempAct[[#This Row],[CGIHigh]:[CGILow]]\n)","v":70},{"$f":"IF(CGITempAct[[#This Row],[CGIAve]]<65,(65-CGITempAct[[#This Row],[CGIAve]]),0)","v":0},{"$f":"SUMPRODUCT((RankNHDD[Month]=CGITempAct[[#This Row],[Month]])*(RankNHDD[Rank]=CGITempAct[[#This Row],[Rank]])*RankNHDD[CGINHDD])","v":0},{"$f":"YEAR(CGITempAct[[#This Row],[Date]])","v":2022},{"$f":"MONTH(CGITempAct[[#This Row],[Date]])","v":5},{"$f":"IF(CGITempAct[[#This Row],[Month]]=H654,I654+1,1)","v":16}]
[44702,84,60,{"$f":"AVERAGE(CGITempAct[[#This Row],[CGIHigh]:[CGILow]]\n)","v":72},{"$f":"IF(CGITempAct[[#This Row],[CGIAve]]<65,(65-CGITempAct[[#This Row],[CGIAve]]),0)","v":0},{"$f":"SUMPRODUCT((RankNHDD[Month]=CGITempAct[[#This Row],[Month]])*(RankNHDD[Rank]=CGITempAct[[#This Row],[Rank]])*RankNHDD[CGINHDD])","v":0},{"$f":"YEAR(CGITempAct[[#This Row],[Date]])","v":2022},{"$f":"MONTH(CGITempAct[[#This Row],[Date]])","v":5},{"$f":"IF(CGITempAct[[#This Row],[Month]]=H655,I655+1,1)","v":17}]
[44710,85,61,{"$f":"AVERAGE(CGITempAct[[#This Row],[CGIHigh]:[CGILow]]\n)","v":73},{"$f":"IF(CGITempAct[[#This Row],[CGIAve]]<65,(65-CGITempAct[[#This Row],[CGIAve]]),0)","v":0},{"$f":"SUMPRODUCT((RankNHDD[Month]=CGITempAct[[#This Row],[Month]])*(RankNHDD[Rank]=CGITempAct[[#This Row],[Rank]])*RankNHDD[CGINHDD])","v":0},{"$f":"YEAR(CGITempAct[[#This Row],[Date]])","v":2022},{"$f":"MONTH(CGITempAct[[#This Row],[Date]])","v":5},{"$f":"IF(CGITempAct[[#This Row],[Month]]=H656,I656+1,1)","v":18}]
[44699,87,60,{"$f":"AVERAGE(CGITempAct[[#This Row],[CGIHigh]:[CGILow]]\n)","v":73.5},{"$f":"IF(CGITempAct[[#This Row],[CGIAve]]<65,(65-CGITempAct[[#This Row],[CGIAve]]),0)","v":0},{"$f":"SUMPRODUCT((RankNHDD[Month]=CGITempAct[[#This Row],[Month]])*(RankNHDD[Rank]=CGITempAct[[#This Row],[Rank]])*RankNHDD[CGINHDD])","v":0},{"$f":"YEAR(CGITempAct[[#This Row],[Date]])","v":2022},{"$f":"MONTH(CGITempAct[[#This Row],[Date]])","v":5},{"$f":"IF(CGITempAct[[#This Row],[Month]]=H657,I657+1,1)","v":19}]
[44690,82,66,{"$f":"AVERAGE(CGITempAct[[#This Row],[CGIHigh]:[CGILow]]\n)","v":74},{"$f":"IF(CGITempAct[[#This Row],[CGIAve]]<65,(65-CGITempAct[[#This Row],[CGIAve]]),0)","v":0},{"$f":"SUMPRODUCT((RankNHDD[Month]=CGITempAct[[#This Row],[Month]])*(RankNHDD[Rank]=CGITempAct[[#This Row],[Rank]])*RankNHDD[CGINHDD])","v":0},{"$f":"YEAR(CGITempAct[[#This Row],[Date]])","v":2022},{"$f":"MONTH(CGITempAct[[#This Row],[Date]])","v":5},{"$f":"IF(CGITempAct[[#This Row],[Month]]=H658,I658+1,1)","v":20}]
[44696,87,61,{"$f":"AVERAGE(CGITempAct[[#This Row],[CGIHigh]:[CGILow]]\n)","v":74},{"$f":"IF(CGITempAct[[#This Row],[CGIAve]]<65,(65-CGITempAct[[#This Row],[CGIAve]]),0)","v":0},{"$f":"SUMPRODUCT((RankNHDD[Month]=CGITempAct[[#This Row],[Month]])*(RankNHDD[Rank]=CGITempAct[[#This Row],[Rank]])*RankNHDD[CGINHDD])","v":0},{"$f":"YEAR(CGITempAct[[#This Row],[Date]])","v":2022},{"$f":"MONTH(CGITempAct[[#This Row],[Date]])","v":5},{"$f":"IF(CGITempAct[[#This Row],[Month]]=H659,I659+1,1)","v":21}]
[44706,83,65,{"$f":"AVERAGE(CGITempAct[[#This Row],[CGIHigh]:[CGILow]]\n)","v":74},{"$f":"IF(CGITempAct[[#This Row],[CGIAve]]<65,(65-CGITempAct[[#This Row],[CGIAve]]),0)","v":0},{"$f":"SUMPRODUCT((RankNHDD[Month]=CGITempAct[[#This Row],[Month]])*(RankNHDD[Rank]=CGITempAct[[#This Row],[Rank]])*RankNHDD[CGINHDD])","v":0},{"$f":"YEAR(CGITempAct[[#This Row],[Date]])","v":2022},{"$f":"MONTH(CGITempAct[[#This Row],[Date]])","v":5},{"$f":"IF(CGITempAct[[#This Row],[Month]]=H660,I660+1,1)","v":22}]
[44700,87,64,{"$f":"AVERAGE(CGITempAct[[#This Row],[CGIHigh]:[CGILow]]\n)","v":75.5},{"$f":"IF(CGITempAct[[#This Row],[CGIAve]]<65,(65-CGITempAct[[#This Row],[CGIAve]]),0)","v":0},{"$f":"SUMPRODUCT((RankNHDD[Month]=CGITempAct[[#This Row],[Month]])*(RankNHDD[Rank]=CGITempAct[[#This Row],[Rank]])*RankNHDD[CGINHDD])","v":0},{"$f":"YEAR(CGITempAct[[#This Row],[Date]])","v":2022},{"$f":"MONTH(CGITempAct[[#This Row],[Date]])","v":5},{"$f":"IF(CGITempAct[[#This Row],[Month]]=H661,I661+1,1)","v":23}]
[44694,89,65,{"$f":"AVERAGE(CGITempAct[[#This Row],[CGIHigh]:[CGILow]]\n)","v":77},{"$f":"IF(CGITempAct[[#This Row],[CGIAve]]<65,(65-CGITempAct[[#This Row],[CGIAve]]),0)","v":0},{"$f":"SUMPRODUCT((RankNHDD[Month]=CGITempAct[[#This Row],[Month]])*(RankNHDD[Rank]=CGITempAct[[#This Row],[Rank]])*RankNHDD[CGINHDD])","v":0},{"$f":"YEAR(CGITempAct[[#This Row],[Date]])","v":2022},{"$f":"MONTH(CGITempAct[[#This Row],[Date]])","v":5},{"$f":"IF(CGITempAct[[#This Row],[Month]]=H662,I662+1,1)","v":24}]
[44695,89,65,{"$f":"AVERAGE(CGITempAct[[#This Row],[CGIHigh]:[CGILow]]\n)","v":77},{"$f":"IF(CGITempAct[[#This Row],[CGIAve]]<65,(65-CGITempAct[[#This Row],[CGIAve]]),0)","v":0},{"$f":"SUMPRODUCT((RankNHDD[Month]=CGITempAct[[#This Row],[Month]])*(RankNHDD[Rank]=CGITempAct[[#This Row],[Rank]])*RankNHDD[CGINHDD])","v":0},{"$f":"YEAR(CGITempAct[[#This Row],[Date]])","v":2022},{"$f":"MONTH(CGITempAct[[#This Row],[Date]])","v":5},{"$f":"IF(CGITempAct[[#This Row],[Month]]=H663,I663+1,1)","v":25}]
[44691,89,68,{"$f":"AVERAGE(CGITempAct[[#This Row],[CGIHigh]:[CGILow]]\n)","v":78.5},{"$f":"IF(CGITempAct[[#This Row],[CGIAve]]<65,(65-CGITempAct[[#This Row],[CGIAve]]),0)","v":0},{"$f":"SUMPRODUCT((RankNHDD[Month]=CGITempAct[[#This Row],[Month]])*(RankNHDD[Rank]=CGITempAct[[#This Row],[Rank]])*RankNHDD[CGINHDD])","v":0},{"$f":"YEAR(CGITempAct[[#This Row],[Date]])","v":2022},{"$f":"MONTH(CGITempAct[[#This Row],[Date]])","v":5},{"$f":"IF(CGITempAct[[#This Row],[Month]]=H664,I664+1,1)","v":26}]
[44711,89,68,{"$f":"AVERAGE(CGITempAct[[#This Row],[CGIHigh]:[CGILow]]\n)","v":78.5},{"$f":"IF(CGITempAct[[#This Row],[CGIAve]]<65,(65-CGITempAct[[#This Row],[CGIAve]]),0)","v":0},{"$f":"SUMPRODUCT((RankNHDD[Month]=CGITempAct[[#This Row],[Month]])*(RankNHDD[Rank]=CGITempAct[[#This Row],[Rank]])*RankNHDD[CGINHDD])","v":0},{"$f":"YEAR(CGITempAct[[#This Row],[Date]])","v":2022},{"$f":"MONTH(CGITempAct[[#This Row],[Date]])","v":5},{"$f":"IF(CGITempAct[[#This Row],[Month]]=H665,I665+1,1)","v":27}]
[44693,93,68,{"$f":"AVERAGE(CGITempAct[[#This Row],[CGIHigh]:[CGILow]]\n)","v":80.5},{"$f":"IF(CGITempAct[[#This Row],[CGIAve]]<65,(65-CGITempAct[[#This Row],[CGIAve]]),0)","v":0},{"$f":"SUMPRODUCT((RankNHDD[Month]=CGITempAct[[#This Row],[Month]])*(RankNHDD[Rank]=CGITempAct[[#This Row],[Rank]])*RankNHDD[CGINHDD])","v":0},{"$f":"YEAR(CGITempAct[[#This Row],[Date]])","v":2022},{"$f":"MONTH(CGITempAct[[#This Row],[Date]])","v":5},{"$f":"IF(CGITempAct[[#This Row],[Month]]=H666,I666+1,1)","v":28}]
[44712,92,70,{"$f":"AVERAGE(CGITempAct[[#This Row],[CGIHigh]:[CGILow]]\n)","v":81},{"$f":"IF(CGITempAct[[#This Row],[CGIAve]]<65,(65-CGITempAct[[#This Row],[CGIAve]]),0)","v":0},{"$f":"SUMPRODUCT((RankNHDD[Month]=CGITempAct[[#This Row],[Month]])*(RankNHDD[Rank]=CGITempAct[[#This Row],[Rank]])*RankNHDD[CGINHDD])","v":0},{"$f":"YEAR(CGITempAct[[#This Row],[Date]])","v":2022},{"$f":"MONTH(CGITempAct[[#This Row],[Date]])","v":5},{"$f":"IF(CGITempAct[[#This Row],[Month]]=H667,I667+1,1)","v":29}]
[44692,92,72,{"$f":"AVERAGE(CGITempAct[[#This Row],[CGIHigh]:[CGILow]]\n)","v":82},{"$f":"IF(CGITempAct[[#This Row],[CGIAve]]<65,(65-CGITempAct[[#This Row],[CGIAve]]),0)","v":0},{"$f":"SUMPRODUCT((RankNHDD[Month]=CGITempAct[[#This Row],[Month]])*(RankNHDD[Rank]=CGITempAct[[#This Row],[Rank]])*RankNHDD[CGINHDD])","v":0},{"$f":"YEAR(CGITempAct[[#This Row],[Date]])","v":2022},{"$f":"MONTH(CGITempAct[[#This Row],[Date]])","v":5},{"$f":"IF(CGITempAct[[#This Row],[Month]]=H668,I668+1,1)","v":30}]
[44701,91,74,{"$f":"AVERAGE(CGITempAct[[#This Row],[CGIHigh]:[CGILow]]\n)","v":82.5},{"$f":"IF(CGITempAct[[#This Row],[CGIAve]]<65,(65-CGITempAct[[#This Row],[CGIAve]]),0)","v":0},{"$f":"SUMPRODUCT((RankNHDD[Month]=CGITempAct[[#This Row],[Month]])*(RankNHDD[Rank]=CGITempAct[[#This Row],[Rank]])*RankNHDD[CGINHDD])","v":0},{"$f":"YEAR(CGITempAct[[#This Row],[Date]])","v":2022},{"$f":"MONTH(CGITempAct[[#This Row],[Date]])","v":5},{"$f":"IF(CGITempAct[[#This Row],[Month]]=H669,I669+1,1)","v":31}]
[44715,83,54,{"$f":"AVERAGE(CGITempAct[[#This Row],[CGIHigh]:[CGILow]]\n)","v":68.5},{"$f":"IF(CGITempAct[[#This Row],[CGIAve]]<65,(65-CGITempAct[[#This Row],[CGIAve]]),0)","v":0},{"$f":"SUMPRODUCT((RankNHDD[Month]=CGITempAct[[#This Row],[Month]])*(RankNHDD[Rank]=CGITempAct[[#This Row],[Rank]])*RankNHDD[CGINHDD])","v":3.5},{"$f":"YEAR(CGITempAct[[#This Row],[Date]])","v":2022},{"$f":"MONTH(CGITempAct[[#This Row],[Date]])","v":6},{"$f":"IF(CGITempAct[[#This Row],[Month]]=H670,I670+1,1)","v":1}]
[44740,82,57,{"$f":"AVERAGE(CGITempAct[[#This Row],[CGIHigh]:[CGILow]]\n)","v":69.5},{"$f":"IF(CGITempAct[[#This Row],[CGIAve]]<65,(65-CGITempAct[[#This Row],[CGIAve]]),0)","v":0},{"$f":"SUMPRODUCT((RankNHDD[Month]=CGITempAct[[#This Row],[Month]])*(RankNHDD[Rank]=CGITempAct[[#This Row],[Rank]])*RankNHDD[CGINHDD])","v":0.1},{"$f":"YEAR(CGITempAct[[#This Row],[Date]])","v":2022},{"$f":"MONTH(CGITempAct[[#This Row],[Date]])","v":6},{"$f":"IF(CGITempAct[[#This Row],[Month]]=H671,I671+1,1)","v":2}]
[44741,88,51,{"$f":"AVERAGE(CGITempAct[[#This Row],[CGIHigh]:[CGILow]]\n)","v":69.5},{"$f":"IF(CGITempAct[[#This Row],[CGIAve]]<65,(65-CGITempAct[[#This Row],[CGIAve]]),0)","v":0},{"$f":"SUMPRODUCT((RankNHDD[Month]=CGITempAct[[#This Row],[Month]])*(RankNHDD[Rank]=CGITempAct[[#This Row],[Rank]])*RankNHDD[CGINHDD])","v":0},{"$f":"YEAR(CGITempAct[[#This Row],[Date]])","v":2022},{"$f":"MONTH(CGITempAct[[#This Row],[Date]])","v":6},{"$f":"IF(CGITempAct[[#This Row],[Month]]=H672,I672+1,1)","v":3}]
[44714,80,60,{"$f":"AVERAGE(CGITempAct[[#This Row],[CGIHigh]:[CGILow]]\n)","v":70},{"$f":"IF(CGITempAct[[#This Row],[CGIAve]]<65,(65-CGITempAct[[#This Row],[CGIAve]]),0)","v":0},{"$f":"SUMPRODUCT((RankNHDD[Month]=CGITempAct[[#This Row],[Month]])*(RankNHDD[Rank]=CGITempAct[[#This Row],[Rank]])*RankNHDD[CGINHDD])","v":0},{"$f":"YEAR(CGITempAct[[#This Row],[Date]])","v":2022},{"$f":"MONTH(CGITempAct[[#This Row],[Date]])","v":6},{"$f":"IF(CGITempAct[[#This Row],[Month]]=H673,I673+1,1)","v":4}]
[44716,86,54,{"$f":"AVERAGE(CGITempAct[[#This Row],[CGIHigh]:[CGILow]]\n)","v":70},{"$f":"IF(CGITempAct[[#This Row],[CGIAve]]<65,(65-CGITempAct[[#This Row],[CGIAve]]),0)","v":0},{"$f":"SUMPRODUCT((RankNHDD[Month]=CGITempAct[[#This Row],[Month]])*(RankNHDD[Rank]=CGITempAct[[#This Row],[Rank]])*RankNHDD[CGINHDD])","v":0},{"$f":"YEAR(CGITempAct[[#This Row],[Date]])","v":2022},{"$f":"MONTH(CGITempAct[[#This Row],[Date]])","v":6},{"$f":"IF(CGITempAct[[#This Row],[Month]]=H674,I674+1,1)","v":5}]
[44731,86,55,{"$f":"AVERAGE(CGITempAct[[#This Row],[CGIHigh]:[CGILow]]\n)","v":70.5},{"$f":"IF(CGITempAct[[#This Row],[CGIAve]]<65,(65-CGITempAct[[#This Row],[CGIAve]]),0)","v":0},{"$f":"SUMPRODUCT((RankNHDD[Month]=CGITempAct[[#This Row],[Month]])*(RankNHDD[Rank]=CGITempAct[[#This Row],[Rank]])*RankNHDD[CGINHDD])","v":0},{"$f":"YEAR(CGITempAct[[#This Row],[Date]])","v":2022},{"$f":"MONTH(CGITempAct[[#This Row],[Date]])","v":6},{"$f":"IF(CGITempAct[[#This Row],[Month]]=H675,I675+1,1)","v":6}]
[44739,84,58,{"$f":"AVERAGE(CGITempAct[[#This Row],[CGIHigh]:[CGILow]]\n)","v":71},{"$f":"IF(CGITempAct[[#This Row],[CGIAve]]<65,(65-CGITempAct[[#This Row],[CGIAve]]),0)","v":0},{"$f":"SUMPRODUCT((RankNHDD[Month]=CGITempAct[[#This Row],[Month]])*(RankNHDD[Rank]=CGITempAct[[#This Row],[Rank]])*RankNHDD[CGINHDD])","v":0},{"$f":"YEAR(CGITempAct[[#This Row],[Date]])","v":2022},{"$f":"MONTH(CGITempAct[[#This Row],[Date]])","v":6},{"$f":"IF(CGITempAct[[#This Row],[Month]]=H676,I676+1,1)","v":7}]
[44721,84,61,{"$f":"AVERAGE(CGITempAct[[#This Row],[CGIHigh]:[CGILow]]\n)","v":72.5},{"$f":"IF(CGITempAct[[#This Row],[CGIAve]]<65,(65-CGITempAct[[#This Row],[CGIAve]]),0)","v":0},{"$f":"SUMPRODUCT((RankNHDD[Month]=CGITempAct[[#This Row],[Month]])*(RankNHDD[Rank]=CGITempAct[[#This Row],[Rank]])*RankNHDD[CGINHDD])","v":0},{"$f":"YEAR(CGITempAct[[#This Row],[Date]])","v":2022},{"$f":"MONTH(CGITempAct[[#This Row],[Date]])","v":6},{"$f":"IF(CGITempAct[[#This Row],[Month]]=H677,I677+1,1)","v":8}]
[44722,84,62,{"$f":"AVERAGE(CGITempAct[[#This Row],[CGIHigh]:[CGILow]]\n)","v":73},{"$f":"IF(CGITempAct[[#This Row],[CGIAve]]<65,(65-CGITempAct[[#This Row],[CGIAve]]),0)","v":0},{"$f":"SUMPRODUCT((RankNHDD[Month]=CGITempAct[[#This Row],[Month]])*(RankNHDD[Rank]=CGITempAct[[#This Row],[Rank]])*RankNHDD[CGINHDD])","v":0},{"$f":"YEAR(CGITempAct[[#This Row],[Date]])","v":2022},{"$f":"MONTH(CGITempAct[[#This Row],[Date]])","v":6},{"$f":"IF(CGITempAct[[#This Row],[Month]]=H678,I678+1,1)","v":9}]
[44718,78,69,{"$f":"AVERAGE(CGITempAct[[#This Row],[CGIHigh]:[CGILow]]\n)","v":73.5},{"$f":"IF(CGITempAct[[#This Row],[CGIAve]]<65,(65-CGITempAct[[#This Row],[CGIAve]]),0)","v":0},{"$f":"SUMPRODUCT((RankNHDD[Month]=CGITempAct[[#This Row],[Month]])*(RankNHDD[Rank]=CGITempAct[[#This Row],[Rank]])*RankNHDD[CGINHDD])","v":0},{"$f":"YEAR(CGITempAct[[#This Row],[Date]])","v":2022},{"$f":"MONTH(CGITempAct[[#This Row],[Date]])","v":6},{"$f":"IF(CGITempAct[[#This Row],[Month]]=H679,I679+1,1)","v":10}]
[44738,83,64,{"$f":"AVERAGE(CGITempAct[[#This Row],[CGIHigh]:[CGILow]]\n)","v":73.5},{"$f":"IF(CGITempAct[[#This Row],[CGIAve]]<65,(65-CGITempAct[[#This Row],[CGIAve]]),0)","v":0},{"$f":"SUMPRODUCT((RankNHDD[Month]=CGITempAct[[#This Row],[Month]])*(RankNHDD[Rank]=CGITempAct[[#This Row],[Rank]])*RankNHDD[CGINHDD])","v":0},{"$f":"YEAR(CGITempAct[[#This Row],[Date]])","v":2022},{"$f":"MONTH(CGITempAct[[#This Row],[Date]])","v":6},{"$f":"IF(CGITempAct[[#This Row],[Month]]=H680,I680+1,1)","v":11}]
[44717,87,61,{"$f":"AVERAGE(CGITempAct[[#This Row],[CGIHigh]:[CGILow]]\n)","v":74},{"$f":"IF(CGITempAct[[#This Row],[CGIAve]]<65,(65-CGITempAct[[#This Row],[CGIAve]]),0)","v":0},{"$f":"SUMPRODUCT((RankNHDD[Month]=CGITempAct[[#This Row],[Month]])*(RankNHDD[Rank]=CGITempAct[[#This Row],[Rank]])*RankNHDD[CGINHDD])","v":0},{"$f":"YEAR(CGITempAct[[#This Row],[Date]])","v":2022},{"$f":"MONTH(CGITempAct[[#This Row],[Date]])","v":6},{"$f":"IF(CGITempAct[[#This Row],[Month]]=H681,I681+1,1)","v":12}]
[44730,88,60,{"$f":"AVERAGE(CGITempAct[[#This Row],[CGIHigh]:[CGILow]]\n)","v":74},{"$f":"IF(CGITempAct[[#This Row],[CGIAve]]<65,(65-CGITempAct[[#This Row],[CGIAve]]),0)","v":0},{"$f":"SUMPRODUCT((RankNHDD[Month]=CGITempAct[[#This Row],[Month]])*(RankNHDD[Rank]=CGITempAct[[#This Row],[Rank]])*RankNHDD[CGINHDD])","v":0},{"$f":"YEAR(CGITempAct[[#This Row],[Date]])","v":2022},{"$f":"MONTH(CGITempAct[[#This Row],[Date]])","v":6},{"$f":"IF(CGITempAct[[#This Row],[Month]]=H682,I682+1,1)","v":13}]
[44720,85,66,{"$f":"AVERAGE(CGITempAct[[#This Row],[CGIHigh]:[CGILow]]\n)","v":75.5},{"$f":"IF(CGITempAct[[#This Row],[CGIAve]]<65,(65-CGITempAct[[#This Row],[CGIAve]]),0)","v":0},{"$f":"SUMPRODUCT((RankNHDD[Month]=CGITempAct[[#This Row],[Month]])*(RankNHDD[Rank]=CGITempAct[[#This Row],[Rank]])*RankNHDD[CGINHDD])","v":0},{"$f":"YEAR(CGITempAct[[#This Row],[Date]])","v":2022},{"$f":"MONTH(CGITempAct[[#This Row],[Date]])","v":6},{"$f":"IF(CGITempAct[[#This Row],[Month]]=H683,I683+1,1)","v":14}]
[44732,94,57,{"$f":"AVERAGE(CGITempAct[[#This Row],[CGIHigh]:[CGILow]]\n)","v":75.5},{"$f":"IF(CGITempAct[[#This Row],[CGIAve]]<65,(65-CGITempAct[[#This Row],[CGIAve]]),0)","v":0},{"$f":"SUMPRODUCT((RankNHDD[Month]=CGITempAct[[#This Row],[Month]])*(RankNHDD[Rank]=CGITempAct[[#This Row],[Rank]])*RankNHDD[CGINHDD])","v":0},{"$f":"YEAR(CGITempAct[[#This Row],[Date]])","v":2022},{"$f":"MONTH(CGITempAct[[#This Row],[Date]])","v":6},{"$f":"IF(CGITempAct[[#This Row],[Month]]=H684,I684+1,1)","v":15}]
[44742,94,58,{"$f":"AVERAGE(CGITempAct[[#This Row],[CGIHigh]:[CGILow]]\n)","v":76},{"$f":"IF(CGITempAct[[#This Row],[CGIAve]]<65,(65-CGITempAct[[#This Row],[CGIAve]]),0)","v":0},{"$f":"SUMPRODUCT((RankNHDD[Month]=CGITempAct[[#This Row],[Month]])*(RankNHDD[Rank]=CGITempAct[[#This Row],[Rank]])*RankNHDD[CGINHDD])","v":0},{"$f":"YEAR(CGITempAct[[#This Row],[Date]])","v":2022},{"$f":"MONTH(CGITempAct[[#This Row],[Date]])","v":6},{"$f":"IF(CGITempAct[[#This Row],[Month]]=H685,I685+1,1)","v":16}]
[44719,84,69,{"$f":"AVERAGE(CGITempAct[[#This Row],[CGIHigh]:[CGILow]]\n)","v":76.5},{"$f":"IF(CGITempAct[[#This Row],[CGIAve]]<65,(65-CGITempAct[[#This Row],[CGIAve]]),0)","v":0},{"$f":"SUMPRODUCT((RankNHDD[Month]=CGITempAct[[#This Row],[Month]])*(RankNHDD[Rank]=CGITempAct[[#This Row],[Rank]])*RankNHDD[CGINHDD])","v":0},{"$f":"YEAR(CGITempAct[[#This Row],[Date]])","v":2022},{"$f":"MONTH(CGITempAct[[#This Row],[Date]])","v":6},{"$f":"IF(CGITempAct[[#This Row],[Month]]=H686,I686+1,1)","v":17}]
[44723,88,68,{"$f":"AVERAGE(CGITempAct[[#This Row],[CGIHigh]:[CGILow]]\n)","v":78},{"$f":"IF(CGITempAct[[#This Row],[CGIAve]]<65,(65-CGITempAct[[#This Row],[CGIAve]]),0)","v":0},{"$f":"SUMPRODUCT((RankNHDD[Month]=CGITempAct[[#This Row],[Month]])*(RankNHDD[Rank]=CGITempAct[[#This Row],[Rank]])*RankNHDD[CGINHDD])","v":0},{"$f":"YEAR(CGITempAct[[#This Row],[Date]])","v":2022},{"$f":"MONTH(CGITempAct[[#This Row],[Date]])","v":6},{"$f":"IF(CGITempAct[[#This Row],[Month]]=H687,I687+1,1)","v":18}]
[44736,92,64,{"$f":"AVERAGE(CGITempAct[[#This Row],[CGIHigh]:[CGILow]]\n)","v":78},{"$f":"IF(CGITempAct[[#This Row],[CGIAve]]<65,(65-CGITempAct[[#This Row],[CGIAve]]),0)","v":0},{"$f":"SUMPRODUCT((RankNHDD[Month]=CGITempAct[[#This Row],[Month]])*(RankNHDD[Rank]=CGITempAct[[#This Row],[Rank]])*RankNHDD[CGINHDD])","v":0},{"$f":"YEAR(CGITempAct[[#This Row],[Date]])","v":2022},{"$f":"MONTH(CGITempAct[[#This Row],[Date]])","v":6},{"$f":"IF(CGITempAct[[#This Row],[Month]]=H688,I688+1,1)","v":19}]
[44733,96,61,{"$f":"AVERAGE(CGITempAct[[#This Row],[CGIHigh]:[CGILow]]\n)","v":78.5},{"$f":"IF(CGITempAct[[#This Row],[CGIAve]]<65,(65-CGITempAct[[#This Row],[CGIAve]]),0)","v":0},{"$f":"SUMPRODUCT((RankNHDD[Month]=CGITempAct[[#This Row],[Month]])*(RankNHDD[Rank]=CGITempAct[[#This Row],[Rank]])*RankNHDD[CGINHDD])","v":0},{"$f":"YEAR(CGITempAct[[#This Row],[Date]])","v":2022},{"$f":"MONTH(CGITempAct[[#This Row],[Date]])","v":6},{"$f":"IF(CGITempAct[[#This Row],[Month]]=H689,I689+1,1)","v":20}]
[44713,89,69,{"$f":"AVERAGE(CGITempAct[[#This Row],[CGIHigh]:[CGILow]]\n)","v":79},{"$f":"IF(CGITempAct[[#This Row],[CGIAve]]<65,(65-CGITempAct[[#This Row],[CGIAve]]),0)","v":0},{"$f":"SUMPRODUCT((RankNHDD[Month]=CGITempAct[[#This Row],[Month]])*(RankNHDD[Rank]=CGITempAct[[#This Row],[Rank]])*RankNHDD[CGINHDD])","v":0},{"$f":"YEAR(CGITempAct[[#This Row],[Date]])","v":2022},{"$f":"MONTH(CGITempAct[[#This Row],[Date]])","v":6},{"$f":"IF(CGITempAct[[#This Row],[Month]]=H690,I690+1,1)","v":21}]
[44735,92,68,{"$f":"AVERAGE(CGITempAct[[#This Row],[CGIHigh]:[CGILow]]\n)","v":80},{"$f":"IF(CGITempAct[[#This Row],[CGIAve]]<65,(65-CGITempAct[[#This Row],[CGIAve]]),0)","v":0},{"$f":"SUMPRODUCT((RankNHDD[Month]=CGITempAct[[#This Row],[Month]])*(RankNHDD[Rank]=CGITempAct[[#This Row],[Rank]])*RankNHDD[CGINHDD])","v":0},{"$f":"YEAR(CGITempAct[[#This Row],[Date]])","v":2022},{"$f":"MONTH(CGITempAct[[#This Row],[Date]])","v":6},{"$f":"IF(CGITempAct[[#This Row],[Month]]=H691,I691+1,1)","v":22}]
[44729,91,71,{"$f":"AVERAGE(CGITempAct[[#This Row],[CGIHigh]:[CGILow]]\n)","v":81},{"$f":"IF(CGITempAct[[#This Row],[CGIAve]]<65,(65-CGITempAct[[#This Row],[CGIAve]]),0)","v":0},{"$f":"SUMPRODUCT((RankNHDD[Month]=CGITempAct[[#This Row],[Month]])*(RankNHDD[Rank]=CGITempAct[[#This Row],[Rank]])*RankNHDD[CGINHDD])","v":0},{"$f":"YEAR(CGITempAct[[#This Row],[Date]])","v":2022},{"$f":"MONTH(CGITempAct[[#This Row],[Date]])","v":6},{"$f":"IF(CGITempAct[[#This Row],[Month]]=H692,I692+1,1)","v":23}]
[44737,96,66,{"$f":"AVERAGE(CGITempAct[[#This Row],[CGIHigh]:[CGILow]]\n)","v":81},{"$f":"IF(CGITempAct[[#This Row],[CGIAve]]<65,(65-CGITempAct[[#This Row],[CGIAve]]),0)","v":0},{"$f":"SUMPRODUCT((RankNHDD[Month]=CGITempAct[[#This Row],[Month]])*(RankNHDD[Rank]=CGITempAct[[#This Row],[Rank]])*RankNHDD[CGINHDD])","v":0},{"$f":"YEAR(CGITempAct[[#This Row],[Date]])","v":2022},{"$f":"MONTH(CGITempAct[[#This Row],[Date]])","v":6},{"$f":"IF(CGITempAct[[#This Row],[Month]]=H693,I693+1,1)","v":24}]
[44734,97,68,{"$f":"AVERAGE(CGITempAct[[#This Row],[CGIHigh]:[CGILow]]\n)","v":82.5},{"$f":"IF(CGITempAct[[#This Row],[CGIAve]]<65,(65-CGITempAct[[#This Row],[CGIAve]]),0)","v":0},{"$f":"SUMPRODUCT((RankNHDD[Month]=CGITempAct[[#This Row],[Month]])*(RankNHDD[Rank]=CGITempAct[[#This Row],[Rank]])*RankNHDD[CGINHDD])","v":0},{"$f":"YEAR(CGITempAct[[#This Row],[Date]])","v":2022},{"$f":"MONTH(CGITempAct[[#This Row],[Date]])","v":6},{"$f":"IF(CGITempAct[[#This Row],[Month]]=H694,I694+1,1)","v":25}]
[44724,96,73,{"$f":"AVERAGE(CGITempAct[[#This Row],[CGIHigh]:[CGILow]]\n)","v":84.5},{"$f":"IF(CGITempAct[[#This Row],[CGIAve]]<65,(65-CGITempAct[[#This Row],[CGIAve]]),0)","v":0},{"$f":"SUMPRODUCT((RankNHDD[Month]=CGITempAct[[#This Row],[Month]])*(RankNHDD[Rank]=CGITempAct[[#This Row],[Rank]])*RankNHDD[CGINHDD])","v":0},{"$f":"YEAR(CGITempAct[[#This Row],[Date]])","v":2022},{"$f":"MONTH(CGITempAct[[#This Row],[Date]])","v":6},{"$f":"IF(CGITempAct[[#This Row],[Month]]=H695,I695+1,1)","v":26}]
[44727,99,73,{"$f":"AVERAGE(CGITempAct[[#This Row],[CGIHigh]:[CGILow]]\n)","v":86},{"$f":"IF(CGITempAct[[#This Row],[CGIAve]]<65,(65-CGITempAct[[#This Row],[CGIAve]]),0)","v":0},{"$f":"SUMPRODUCT((RankNHDD[Month]=CGITempAct[[#This Row],[Month]])*(RankNHDD[Rank]=CGITempAct[[#This Row],[Rank]])*RankNHDD[CGINHDD])","v":0},{"$f":"YEAR(CGITempAct[[#This Row],[Date]])","v":2022},{"$f":"MONTH(CGITempAct[[#This Row],[Date]])","v":6},{"$f":"IF(CGITempAct[[#This Row],[Month]]=H696,I696+1,1)","v":27}]
[44728,98,74,{"$f":"AVERAGE(CGITempAct[[#This Row],[CGIHigh]:[CGILow]]\n)","v":86},{"$f":"IF(CGITempAct[[#This Row],[CGIAve]]<65,(65-CGITempAct[[#This Row],[CGIAve]]),0)","v":0},{"$f":"SUMPRODUCT((RankNHDD[Month]=CGITempAct[[#This Row],[Month]])*(RankNHDD[Rank]=CGITempAct[[#This Row],[Rank]])*RankNHDD[CGINHDD])","v":0},{"$f":"YEAR(CGITempAct[[#This Row],[Date]])","v":2022},{"$f":"MONTH(CGITempAct[[#This Row],[Date]])","v":6},{"$f":"IF(CGITempAct[[#This Row],[Month]]=H697,I697+1,1)","v":28}]
[44726,99,79,{"$f":"AVERAGE(CGITempAct[[#This Row],[CGIHigh]:[CGILow]]\n)","v":89},{"$f":"IF(CGITempAct[[#This Row],[CGIAve]]<65,(65-CGITempAct[[#This Row],[CGIAve]]),0)","v":0},{"$f":"SUMPRODUCT((RankNHDD[Month]=CGITempAct[[#This Row],[Month]])*(RankNHDD[Rank]=CGITempAct[[#This Row],[Rank]])*RankNHDD[CGINHDD])","v":0},{"$f":"YEAR(CGITempAct[[#This Row],[Date]])","v":2022},{"$f":"MONTH(CGITempAct[[#This Row],[Date]])","v":6},{"$f":"IF(CGITempAct[[#This Row],[Month]]=H698,I698+1,1)","v":29}]
[44725,100,81,{"$f":"AVERAGE(CGITempAct[[#This Row],[CGIHigh]:[CGILow]]\n)","v":90.5},{"$f":"IF(CGITempAct[[#This Row],[CGIAve]]<65,(65-CGITempAct[[#This Row],[CGIAve]]),0)","v":0},{"$f":"SUMPRODUCT((RankNHDD[Month]=CGITempAct[[#This Row],[Month]])*(RankNHDD[Rank]=CGITempAct[[#This Row],[Rank]])*RankNHDD[CGINHDD])","v":0},{"$f":"YEAR(CGITempAct[[#This Row],[Date]])","v":2022},{"$f":"MONTH(CGITempAct[[#This Row],[Date]])","v":6},{"$f":"IF(CGITempAct[[#This Row],[Month]]=H699,I699+1,1)","v":30}]
[44772,80,68,{"$f":"AVERAGE(CGITempAct[[#This Row],[CGIHigh]:[CGILow]]\n)","v":74},{"$f":"IF(CGITempAct[[#This Row],[CGIAve]]<65,(65-CGITempAct[[#This Row],[CGIAve]]),0)","v":0},{"$f":"SUMPRODUCT((RankNHDD[Month]=CGITempAct[[#This Row],[Month]])*(RankNHDD[Rank]=CGITempAct[[#This Row],[Rank]])*RankNHDD[CGINHDD])","v":0.1},{"$f":"YEAR(CGITempAct[[#This Row],[Date]])","v":2022},{"$f":"MONTH(CGITempAct[[#This Row],[Date]])","v":7},{"$f":"IF(CGITempAct[[#This Row],[Month]]=H700,I700+1,1)","v":1}]
[44773,82,69,{"$f":"AVERAGE(CGITempAct[[#This Row],[CGIHigh]:[CGILow]]\n)","v":75.5},{"$f":"IF(CGITempAct[[#This Row],[CGIAve]]<65,(65-CGITempAct[[#This Row],[CGIAve]]),0)","v":0},{"$f":"SUMPRODUCT((RankNHDD[Month]=CGITempAct[[#This Row],[Month]])*(RankNHDD[Rank]=CGITempAct[[#This Row],[Rank]])*RankNHDD[CGINHDD])","v":0},{"$f":"YEAR(CGITempAct[[#This Row],[Date]])","v":2022},{"$f":"MONTH(CGITempAct[[#This Row],[Date]])","v":7},{"$f":"IF(CGITempAct[[#This Row],[Month]]=H701,I701+1,1)","v":2}]
[44753,93,61,{"$f":"AVERAGE(CGITempAct[[#This Row],[CGIHigh]:[CGILow]]\n)","v":77},{"$f":"IF(CGITempAct[[#This Row],[CGIAve]]<65,(65-CGITempAct[[#This Row],[CGIAve]]),0)","v":0},{"$f":"SUMPRODUCT((RankNHDD[Month]=CGITempAct[[#This Row],[Month]])*(RankNHDD[Rank]=CGITempAct[[#This Row],[Rank]])*RankNHDD[CGINHDD])","v":0},{"$f":"YEAR(CGITempAct[[#This Row],[Date]])","v":2022},{"$f":"MONTH(CGITempAct[[#This Row],[Date]])","v":7},{"$f":"IF(CGITempAct[[#This Row],[Month]]=H702,I702+1,1)","v":3}]
[44755,92,62,{"$f":"AVERAGE(CGITempAct[[#This Row],[CGIHigh]:[CGILow]]\n)","v":77},{"$f":"IF(CGITempAct[[#This Row],[CGIAve]]<65,(65-CGITempAct[[#This Row],[CGIAve]]),0)","v":0},{"$f":"SUMPRODUCT((RankNHDD[Month]=CGITempAct[[#This Row],[Month]])*(RankNHDD[Rank]=CGITempAct[[#This Row],[Rank]])*RankNHDD[CGINHDD])","v":0},{"$f":"YEAR(CGITempAct[[#This Row],[Date]])","v":2022},{"$f":"MONTH(CGITempAct[[#This Row],[Date]])","v":7},{"$f":"IF(CGITempAct[[#This Row],[Month]]=H703,I703+1,1)","v":4}]
[44759,84,70,{"$f":"AVERAGE(CGITempAct[[#This Row],[CGIHigh]:[CGILow]]\n)","v":77},{"$f":"IF(CGITempAct[[#This Row],[CGIAve]]<65,(65-CGITempAct[[#This Row],[CGIAve]]),0)","v":0},{"$f":"SUMPRODUCT((RankNHDD[Month]=CGITempAct[[#This Row],[Month]])*(RankNHDD[Rank]=CGITempAct[[#This Row],[Rank]])*RankNHDD[CGINHDD])","v":0},{"$f":"YEAR(CGITempAct[[#This Row],[Date]])","v":2022},{"$f":"MONTH(CGITempAct[[#This Row],[Date]])","v":7},{"$f":"IF(CGITempAct[[#This Row],[Month]]=H704,I704+1,1)","v":5}]
[44771,87,67,{"$f":"AVERAGE(CGITempAct[[#This Row],[CGIHigh]:[CGILow]]\n)","v":77},{"$f":"IF(CGITempAct[[#This Row],[CGIAve]]<65,(65-CGITempAct[[#This Row],[CGIAve]]),0)","v":0},{"$f":"SUMPRODUCT((RankNHDD[Month]=CGITempAct[[#This Row],[Month]])*(RankNHDD[Rank]=CGITempAct[[#This Row],[Rank]])*RankNHDD[CGINHDD])","v":0},{"$f":"YEAR(CGITempAct[[#This Row],[Date]])","v":2022},{"$f":"MONTH(CGITempAct[[#This Row],[Date]])","v":7},{"$f":"IF(CGITempAct[[#This Row],[Month]]=H705,I705+1,1)","v":6}]
[44752,90,65,{"$f":"AVERAGE(CGITempAct[[#This Row],[CGIHigh]:[CGILow]]\n)","v":77.5},{"$f":"IF(CGITempAct[[#This Row],[CGIAve]]<65,(65-CGITempAct[[#This Row],[CGIAve]]),0)","v":0},{"$f":"SUMPRODUCT((RankNHDD[Month]=CGITempAct[[#This Row],[Month]])*(RankNHDD[Rank]=CGITempAct[[#This Row],[Rank]])*RankNHDD[CGINHDD])","v":0},{"$f":"YEAR(CGITempAct[[#This Row],[Date]])","v":2022},{"$f":"MONTH(CGITempAct[[#This Row],[Date]])","v":7},{"$f":"IF(CGITempAct[[#This Row],[Month]]=H706,I706+1,1)","v":7}]
[44756,95,61,{"$f":"AVERAGE(CGITempAct[[#This Row],[CGIHigh]:[CGILow]]\n)","v":78},{"$f":"IF(CGITempAct[[#This Row],[CGIAve]]<65,(65-CGITempAct[[#This Row],[CGIAve]]),0)","v":0},{"$f":"SUMPRODUCT((RankNHDD[Month]=CGITempAct[[#This Row],[Month]])*(RankNHDD[Rank]=CGITempAct[[#This Row],[Rank]])*RankNHDD[CGINHDD])","v":0},{"$f":"YEAR(CGITempAct[[#This Row],[Date]])","v":2022},{"$f":"MONTH(CGITempAct[[#This Row],[Date]])","v":7},{"$f":"IF(CGITempAct[[#This Row],[Month]]=H707,I707+1,1)","v":8}]
[44754,91,66,{"$f":"AVERAGE(CGITempAct[[#This Row],[CGIHigh]:[CGILow]]\n)","v":78.5},{"$f":"IF(CGITempAct[[#This Row],[CGIAve]]<65,(65-CGITempAct[[#This Row],[CGIAve]]),0)","v":0},{"$f":"SUMPRODUCT((RankNHDD[Month]=CGITempAct[[#This Row],[Month]])*(RankNHDD[Rank]=CGITempAct[[#This Row],[Rank]])*RankNHDD[CGINHDD])","v":0},{"$f":"YEAR(CGITempAct[[#This Row],[Date]])","v":2022},{"$f":"MONTH(CGITempAct[[#This Row],[Date]])","v":7},{"$f":"IF(CGITempAct[[#This Row],[Month]]=H708,I708+1,1)","v":9}]
[44761,91,67,{"$f":"AVERAGE(CGITempAct[[#This Row],[CGIHigh]:[CGILow]]\n)","v":79},{"$f":"IF(CGITempAct[[#This Row],[CGIAve]]<65,(65-CGITempAct[[#This Row],[CGIAve]]),0)","v":0},{"$f":"SUMPRODUCT((RankNHDD[Month]=CGITempAct[[#This Row],[Month]])*(RankNHDD[Rank]=CGITempAct[[#This Row],[Rank]])*RankNHDD[CGINHDD])","v":0},{"$f":"YEAR(CGITempAct[[#This Row],[Date]])","v":2022},{"$f":"MONTH(CGITempAct[[#This Row],[Date]])","v":7},{"$f":"IF(CGITempAct[[#This Row],[Month]]=H709,I709+1,1)","v":10}]
[44770,88,70,{"$f":"AVERAGE(CGITempAct[[#This Row],[CGIHigh]:[CGILow]]\n)","v":79},{"$f":"IF(CGITempAct[[#This Row],[CGIAve]]<65,(65-CGITempAct[[#This Row],[CGIAve]]),0)","v":0},{"$f":"SUMPRODUCT((RankNHDD[Month]=CGITempAct[[#This Row],[Month]])*(RankNHDD[Rank]=CGITempAct[[#This Row],[Rank]])*RankNHDD[CGINHDD])","v":0},{"$f":"YEAR(CGITempAct[[#This Row],[Date]])","v":2022},{"$f":"MONTH(CGITempAct[[#This Row],[Date]])","v":7},{"$f":"IF(CGITempAct[[#This Row],[Month]]=H710,I710+1,1)","v":11}]
[44757,94,65,{"$f":"AVERAGE(CGITempAct[[#This Row],[CGIHigh]:[CGILow]]\n)","v":79.5},{"$f":"IF(CGITempAct[[#This Row],[CGIAve]]<65,(65-CGITempAct[[#This Row],[CGIAve]]),0)","v":0},{"$f":"SUMPRODUCT((RankNHDD[Month]=CGITempAct[[#This Row],[Month]])*(RankNHDD[Rank]=CGITempAct[[#This Row],[Rank]])*RankNHDD[CGINHDD])","v":0},{"$f":"YEAR(CGITempAct[[#This Row],[Date]])","v":2022},{"$f":"MONTH(CGITempAct[[#This Row],[Date]])","v":7},{"$f":"IF(CGITempAct[[#This Row],[Month]]=H711,I711+1,1)","v":12}]
[44760,90,69,{"$f":"AVERAGE(CGITempAct[[#This Row],[CGIHigh]:[CGILow]]\n)","v":79.5},{"$f":"IF(CGITempAct[[#This Row],[CGIAve]]<65,(65-CGITempAct[[#This Row],[CGIAve]]),0)","v":0},{"$f":"SUMPRODUCT((RankNHDD[Month]=CGITempAct[[#This Row],[Month]])*(RankNHDD[Rank]=CGITempAct[[#This Row],[Rank]])*RankNHDD[CGINHDD])","v":0},{"$f":"YEAR(CGITempAct[[#This Row],[Date]])","v":2022},{"$f":"MONTH(CGITempAct[[#This Row],[Date]])","v":7},{"$f":"IF(CGITempAct[[#This Row],[Month]]=H712,I712+1,1)","v":13}]
[44767,85,75,{"$f":"AVERAGE(CGITempAct[[#This Row],[CGIHigh]:[CGILow]]\n)","v":80},{"$f":"IF(CGITempAct[[#This Row],[CGIAve]]<65,(65-CGITempAct[[#This Row],[CGIAve]]),0)","v":0},{"$f":"SUMPRODUCT((RankNHDD[Month]=CGITempAct[[#This Row],[Month]])*(RankNHDD[Rank]=CGITempAct[[#This Row],[Rank]])*RankNHDD[CGINHDD])","v":0},{"$f":"YEAR(CGITempAct[[#This Row],[Date]])","v":2022},{"$f":"MONTH(CGITempAct[[#This Row],[Date]])","v":7},{"$f":"IF(CGITempAct[[#This Row],[Month]]=H713,I713+1,1)","v":14}]
[44763,95,67,{"$f":"AVERAGE(CGITempAct[[#This Row],[CGIHigh]:[CGILow]]\n)","v":81},{"$f":"IF(CGITempAct[[#This Row],[CGIAve]]<65,(65-CGITempAct[[#This Row],[CGIAve]]),0)","v":0},{"$f":"SUMPRODUCT((RankNHDD[Month]=CGITempAct[[#This Row],[Month]])*(RankNHDD[Rank]=CGITempAct[[#This Row],[Rank]])*RankNHDD[CGINHDD])","v":0},{"$f":"YEAR(CGITempAct[[#This Row],[Date]])","v":2022},{"$f":"MONTH(CGITempAct[[#This Row],[Date]])","v":7},{"$f":"IF(CGITempAct[[#This Row],[Month]]=H714,I714+1,1)","v":15}]
[44751,91,72,{"$f":"AVERAGE(CGITempAct[[#This Row],[CGIHigh]:[CGILow]]\n)","v":81.5},{"$f":"IF(CGITempAct[[#This Row],[CGIAve]]<65,(65-CGITempAct[[#This Row],[CGIAve]]),0)","v":0},{"$f":"SUMPRODUCT((RankNHDD[Month]=CGITempAct[[#This Row],[Month]])*(RankNHDD[Rank]=CGITempAct[[#This Row],[Rank]])*RankNHDD[CGINHDD])","v":0},{"$f":"YEAR(CGITempAct[[#This Row],[Date]])","v":2022},{"$f":"MONTH(CGITempAct[[#This Row],[Date]])","v":7},{"$f":"IF(CGITempAct[[#This Row],[Month]]=H715,I715+1,1)","v":16}]
[44764,96,68,{"$f":"AVERAGE(CGITempAct[[#This Row],[CGIHigh]:[CGILow]]\n)","v":82},{"$f":"IF(CGITempAct[[#This Row],[CGIAve]]<65,(65-CGITempAct[[#This Row],[CGIAve]]),0)","v":0},{"$f":"SUMPRODUCT((RankNHDD[Month]=CGITempAct[[#This Row],[Month]])*(RankNHDD[Rank]=CGITempAct[[#This Row],[Rank]])*RankNHDD[CGINHDD])","v":0},{"$f":"YEAR(CGITempAct[[#This Row],[Date]])","v":2022},{"$f":"MONTH(CGITempAct[[#This Row],[Date]])","v":7},{"$f":"IF(CGITempAct[[#This Row],[Month]]=H716,I716+1,1)","v":17}]
[44768,90,74,{"$f":"AVERAGE(CGITempAct[[#This Row],[CGIHigh]:[CGILow]]\n)","v":82},{"$f":"IF(CGITempAct[[#This Row],[CGIAve]]<65,(65-CGITempAct[[#This Row],[CGIAve]]),0)","v":0},{"$f":"SUMPRODUCT((RankNHDD[Month]=CGITempAct[[#This Row],[Month]])*(RankNHDD[Rank]=CGITempAct[[#This Row],[Rank]])*RankNHDD[CGINHDD])","v":0},{"$f":"YEAR(CGITempAct[[#This Row],[Date]])","v":2022},{"$f":"MONTH(CGITempAct[[#This Row],[Date]])","v":7},{"$f":"IF(CGITempAct[[#This Row],[Month]]=H717,I717+1,1)","v":18}]
[44744,93,72,{"$f":"AVERAGE(CGITempAct[[#This Row],[CGIHigh]:[CGILow]]\n)","v":82.5},{"$f":"IF(CGITempAct[[#This Row],[CGIAve]]<65,(65-CGITempAct[[#This Row],[CGIAve]]),0)","v":0},{"$f":"SUMPRODUCT((RankNHDD[Month]=CGITempAct[[#This Row],[Month]])*(RankNHDD[Rank]=CGITempAct[[#This Row],[Rank]])*RankNHDD[CGINHDD])","v":0},{"$f":"YEAR(CGITempAct[[#This Row],[Date]])","v":2022},{"$f":"MONTH(CGITempAct[[#This Row],[Date]])","v":7},{"$f":"IF(CGITempAct[[#This Row],[Month]]=H718,I718+1,1)","v":19}]
[44765,95,70,{"$f":"AVERAGE(CGITempAct[[#This Row],[CGIHigh]:[CGILow]]\n)","v":82.5},{"$f":"IF(CGITempAct[[#This Row],[CGIAve]]<65,(65-CGITempAct[[#This Row],[CGIAve]]),0)","v":0},{"$f":"SUMPRODUCT((RankNHDD[Month]=CGITempAct[[#This Row],[Month]])*(RankNHDD[Rank]=CGITempAct[[#This Row],[Rank]])*RankNHDD[CGINHDD])","v":0},{"$f":"YEAR(CGITempAct[[#This Row],[Date]])","v":2022},{"$f":"MONTH(CGITempAct[[#This Row],[Date]])","v":7},{"$f":"IF(CGITempAct[[#This Row],[Month]]=H719,I719+1,1)","v":20}]
[44745,92,74,{"$f":"AVERAGE(CGITempAct[[#This Row],[CGIHigh]:[CGILow]]\n)","v":83},{"$f":"IF(CGITempAct[[#This Row],[CGIAve]]<65,(65-CGITempAct[[#This Row],[CGIAve]]),0)","v":0},{"$f":"SUMPRODUCT((RankNHDD[Month]=CGITempAct[[#This Row],[Month]])*(RankNHDD[Rank]=CGITempAct[[#This Row],[Rank]])*RankNHDD[CGINHDD])","v":0},{"$f":"YEAR(CGITempAct[[#This Row],[Date]])","v":2022},{"$f":"MONTH(CGITempAct[[#This Row],[Date]])","v":7},{"$f":"IF(CGITempAct[[#This Row],[Month]]=H720,I720+1,1)","v":21}]
[44746,94,72,{"$f":"AVERAGE(CGITempAct[[#This Row],[CGIHigh]:[CGILow]]\n)","v":83},{"$f":"IF(CGITempAct[[#This Row],[CGIAve]]<65,(65-CGITempAct[[#This Row],[CGIAve]]),0)","v":0},{"$f":"SUMPRODUCT((RankNHDD[Month]=CGITempAct[[#This Row],[Month]])*(RankNHDD[Rank]=CGITempAct[[#This Row],[Rank]])*RankNHDD[CGINHDD])","v":0},{"$f":"YEAR(CGITempAct[[#This Row],[Date]])","v":2022},{"$f":"MONTH(CGITempAct[[#This Row],[Date]])","v":7},{"$f":"IF(CGITempAct[[#This Row],[Month]]=H721,I721+1,1)","v":22}]
[44758,97,70,{"$f":"AVERAGE(CGITempAct[[#This Row],[CGIHigh]:[CGILow]]\n)","v":83.5},{"$f":"IF(CGITempAct[[#This Row],[CGIAve]]<65,(65-CGITempAct[[#This Row],[CGIAve]]),0)","v":0},{"$f":"SUMPRODUCT((RankNHDD[Month]=CGITempAct[[#This Row],[Month]])*(RankNHDD[Rank]=CGITempAct[[#This Row],[Rank]])*RankNHDD[CGINHDD])","v":0},{"$f":"YEAR(CGITempAct[[#This Row],[Date]])","v":2022},{"$f":"MONTH(CGITempAct[[#This Row],[Date]])","v":7},{"$f":"IF(CGITempAct[[#This Row],[Month]]=H722,I722+1,1)","v":23}]
[44743,94,74,{"$f":"AVERAGE(CGITempAct[[#This Row],[CGIHigh]:[CGILow]]\n)","v":84},{"$f":"IF(CGITempAct[[#This Row],[CGIAve]]<65,(65-CGITempAct[[#This Row],[CGIAve]]),0)","v":0},{"$f":"SUMPRODUCT((RankNHDD[Month]=CGITempAct[[#This Row],[Month]])*(RankNHDD[Rank]=CGITempAct[[#This Row],[Rank]])*RankNHDD[CGINHDD])","v":0},{"$f":"YEAR(CGITempAct[[#This Row],[Date]])","v":2022},{"$f":"MONTH(CGITempAct[[#This Row],[Date]])","v":7},{"$f":"IF(CGITempAct[[#This Row],[Month]]=H723,I723+1,1)","v":24}]
[44769,93,75,{"$f":"AVERAGE(CGITempAct[[#This Row],[CGIHigh]:[CGILow]]\n)","v":84},{"$f":"IF(CGITempAct[[#This Row],[CGIAve]]<65,(65-CGITempAct[[#This Row],[CGIAve]]),0)","v":0},{"$f":"SUMPRODUCT((RankNHDD[Month]=CGITempAct[[#This Row],[Month]])*(RankNHDD[Rank]=CGITempAct[[#This Row],[Rank]])*RankNHDD[CGINHDD])","v":0},{"$f":"YEAR(CGITempAct[[#This Row],[Date]])","v":2022},{"$f":"MONTH(CGITempAct[[#This Row],[Date]])","v":7},{"$f":"IF(CGITempAct[[#This Row],[Month]]=H724,I724+1,1)","v":25}]
[44766,97,75,{"$f":"AVERAGE(CGITempAct[[#This Row],[CGIHigh]:[CGILow]]\n)","v":86},{"$f":"IF(CGITempAct[[#This Row],[CGIAve]]<65,(65-CGITempAct[[#This Row],[CGIAve]]),0)","v":0},{"$f":"SUMPRODUCT((RankNHDD[Month]=CGITempAct[[#This Row],[Month]])*(RankNHDD[Rank]=CGITempAct[[#This Row],[Rank]])*RankNHDD[CGINHDD])","v":0},{"$f":"YEAR(CGITempAct[[#This Row],[Date]])","v":2022},{"$f":"MONTH(CGITempAct[[#This Row],[Date]])","v":7},{"$f":"IF(CGITempAct[[#This Row],[Month]]=H725,I725+1,1)","v":26}]
[44750,95,78,{"$f":"AVERAGE(CGITempAct[[#This Row],[CGIHigh]:[CGILow]]\n)","v":86.5},{"$f":"IF(CGITempAct[[#This Row],[CGIAve]]<65,(65-CGITempAct[[#This Row],[CGIAve]]),0)","v":0},{"$f":"SUMPRODUCT((RankNHDD[Month]=CGITempAct[[#This Row],[Month]])*(RankNHDD[Rank]=CGITempAct[[#This Row],[Rank]])*RankNHDD[CGINHDD])","v":0},{"$f":"YEAR(CGITempAct[[#This Row],[Date]])","v":2022},{"$f":"MONTH(CGITempAct[[#This Row],[Date]])","v":7},{"$f":"IF(CGITempAct[[#This Row],[Month]]=H726,I726+1,1)","v":27}]
[44749,99,75,{"$f":"AVERAGE(CGITempAct[[#This Row],[CGIHigh]:[CGILow]]\n)","v":87},{"$f":"IF(CGITempAct[[#This Row],[CGIAve]]<65,(65-CGITempAct[[#This Row],[CGIAve]]),0)","v":0},{"$f":"SUMPRODUCT((RankNHDD[Month]=CGITempAct[[#This Row],[Month]])*(RankNHDD[Rank]=CGITempAct[[#This Row],[Rank]])*RankNHDD[CGINHDD])","v":0},{"$f":"YEAR(CGITempAct[[#This Row],[Date]])","v":2022},{"$f":"MONTH(CGITempAct[[#This Row],[Date]])","v":7},{"$f":"IF(CGITempAct[[#This Row],[Month]]=H727,I727+1,1)","v":28}]
[44747,100,76,{"$f":"AVERAGE(CGITempAct[[#This Row],[CGIHigh]:[CGILow]]\n)","v":88},{"$f":"IF(CGITempAct[[#This Row],[CGIAve]]<65,(65-CGITempAct[[#This Row],[CGIAve]]),0)","v":0},{"$f":"SUMPRODUCT((RankNHDD[Month]=CGITempAct[[#This Row],[Month]])*(RankNHDD[Rank]=CGITempAct[[#This Row],[Rank]])*RankNHDD[CGINHDD])","v":0},{"$f":"YEAR(CGITempAct[[#This Row],[Date]])","v":2022},{"$f":"MONTH(CGITempAct[[#This Row],[Date]])","v":7},{"$f":"IF(CGITempAct[[#This Row],[Month]]=H728,I728+1,1)","v":29}]
[44762,98,79,{"$f":"AVERAGE(CGITempAct[[#This Row],[CGIHigh]:[CGILow]]\n)","v":88.5},{"$f":"IF(CGITempAct[[#This Row],[CGIAve]]<65,(65-CGITempAct[[#This Row],[CGIAve]]),0)","v":0},{"$f":"SUMPRODUCT((RankNHDD[Month]=CGITempAct[[#This Row],[Month]])*(RankNHDD[Rank]=CGITempAct[[#This Row],[Rank]])*RankNHDD[CGINHDD])","v":0},{"$f":"YEAR(CGITempAct[[#This Row],[Date]])","v":2022},{"$f":"MONTH(CGITempAct[[#This Row],[Date]])","v":7},{"$f":"IF(CGITempAct[[#This Row],[Month]]=H729,I729+1,1)","v":30}]
[44748,100,78,{"$f":"AVERAGE(CGITempAct[[#This Row],[CGIHigh]:[CGILow]]\n)","v":89},{"$f":"IF(CGITempAct[[#This Row],[CGIAve]]<65,(65-CGITempAct[[#This Row],[CGIAve]]),0)","v":0},{"$f":"SUMPRODUCT((RankNHDD[Month]=CGITempAct[[#This Row],[Month]])*(RankNHDD[Rank]=CGITempAct[[#This Row],[Rank]])*RankNHDD[CGINHDD])","v":0},{"$f":"YEAR(CGITempAct[[#This Row],[Date]])","v":2022},{"$f":"MONTH(CGITempAct[[#This Row],[Date]])","v":7},{"$f":"IF(CGITempAct[[#This Row],[Month]]=H730,I730+1,1)","v":31}]
[44789,74,64,{"$f":"AVERAGE(CGITempAct[[#This Row],[CGIHigh]:[CGILow]]\n)","v":69},{"$f":"IF(CGITempAct[[#This Row],[CGIAve]]<65,(65-CGITempAct[[#This Row],[CGIAve]]),0)","v":0},{"$f":"SUMPRODUCT((RankNHDD[Month]=CGITempAct[[#This Row],[Month]])*(RankNHDD[Rank]=CGITempAct[[#This Row],[Rank]])*RankNHDD[CGINHDD])","v":0.9},{"$f":"YEAR(CGITempAct[[#This Row],[Date]])","v":2022},{"$f":"MONTH(CGITempAct[[#This Row],[Date]])","v":8},{"$f":"IF(CGITempAct[[#This Row],[Month]]=H731,I731+1,1)","v":1}]
[44786,86,57,{"$f":"AVERAGE(CGITempAct[[#This Row],[CGIHigh]:[CGILow]]\n)","v":71.5},{"$f":"IF(CGITempAct[[#This Row],[CGIAve]]<65,(65-CGITempAct[[#This Row],[CGIAve]]),0)","v":0},{"$f":"SUMPRODUCT((RankNHDD[Month]=CGITempAct[[#This Row],[Month]])*(RankNHDD[Rank]=CGITempAct[[#This Row],[Rank]])*RankNHDD[CGINHDD])","v":0},{"$f":"YEAR(CGITempAct[[#This Row],[Date]])","v":2022},{"$f":"MONTH(CGITempAct[[#This Row],[Date]])","v":8},{"$f":"IF(CGITempAct[[#This Row],[Month]]=H732,I732+1,1)","v":2}]
[44804,88,56,{"$f":"AVERAGE(CGITempAct[[#This Row],[CGIHigh]:[CGILow]]\n)","v":72},{"$f":"IF(CGITempAct[[#This Row],[CGIAve]]<65,(65-CGITempAct[[#This Row],[CGIAve]]),0)","v":0},{"$f":"SUMPRODUCT((RankNHDD[Month]=CGITempAct[[#This Row],[Month]])*(RankNHDD[Rank]=CGITempAct[[#This Row],[Rank]])*RankNHDD[CGINHDD])","v":0},{"$f":"YEAR(CGITempAct[[#This Row],[Date]])","v":2022},{"$f":"MONTH(CGITempAct[[#This Row],[Date]])","v":8},{"$f":"IF(CGITempAct[[#This Row],[Month]]=H733,I733+1,1)","v":3}]
[44791,87,58,{"$f":"AVERAGE(CGITempAct[[#This Row],[CGIHigh]:[CGILow]]\n)","v":72.5},{"$f":"IF(CGITempAct[[#This Row],[CGIAve]]<65,(65-CGITempAct[[#This Row],[CGIAve]]),0)","v":0},{"$f":"SUMPRODUCT((RankNHDD[Month]=CGITempAct[[#This Row],[Month]])*(RankNHDD[Rank]=CGITempAct[[#This Row],[Rank]])*RankNHDD[CGINHDD])","v":0},{"$f":"YEAR(CGITempAct[[#This Row],[Date]])","v":2022},{"$f":"MONTH(CGITempAct[[#This Row],[Date]])","v":8},{"$f":"IF(CGITempAct[[#This Row],[Month]]=H734,I734+1,1)","v":4}]
[44792,87,59,{"$f":"AVERAGE(CGITempAct[[#This Row],[CGIHigh]:[CGILow]]\n)","v":73},{"$f":"IF(CGITempAct[[#This Row],[CGIAve]]<65,(65-CGITempAct[[#This Row],[CGIAve]]),0)","v":0},{"$f":"SUMPRODUCT((RankNHDD[Month]=CGITempAct[[#This Row],[Month]])*(RankNHDD[Rank]=CGITempAct[[#This Row],[Rank]])*RankNHDD[CGINHDD])","v":0},{"$f":"YEAR(CGITempAct[[#This Row],[Date]])","v":2022},{"$f":"MONTH(CGITempAct[[#This Row],[Date]])","v":8},{"$f":"IF(CGITempAct[[#This Row],[Month]]=H735,I735+1,1)","v":5}]
[44793,88,58,{"$f":"AVERAGE(CGITempAct[[#This Row],[CGIHigh]:[CGILow]]\n)","v":73},{"$f":"IF(CGITempAct[[#This Row],[CGIAve]]<65,(65-CGITempAct[[#This Row],[CGIAve]]),0)","v":0},{"$f":"SUMPRODUCT((RankNHDD[Month]=CGITempAct[[#This Row],[Month]])*(RankNHDD[Rank]=CGITempAct[[#This Row],[Rank]])*RankNHDD[CGINHDD])","v":0},{"$f":"YEAR(CGITempAct[[#This Row],[Date]])","v":2022},{"$f":"MONTH(CGITempAct[[#This Row],[Date]])","v":8},{"$f":"IF(CGITempAct[[#This Row],[Month]]=H736,I736+1,1)","v":6}]
[44784,87,60,{"$f":"AVERAGE(CGITempAct[[#This Row],[CGIHigh]:[CGILow]]\n)","v":73.5},{"$f":"IF(CGITempAct[[#This Row],[CGIAve]]<65,(65-CGITempAct[[#This Row],[CGIAve]]),0)","v":0},{"$f":"SUMPRODUCT((RankNHDD[Month]=CGITempAct[[#This Row],[Month]])*(RankNHDD[Rank]=CGITempAct[[#This Row],[Rank]])*RankNHDD[CGINHDD])","v":0},{"$f":"YEAR(CGITempAct[[#This Row],[Date]])","v":2022},{"$f":"MONTH(CGITempAct[[#This Row],[Date]])","v":8},{"$f":"IF(CGITempAct[[#This Row],[Month]]=H737,I737+1,1)","v":7}]
[44785,86,61,{"$f":"AVERAGE(CGITempAct[[#This Row],[CGIHigh]:[CGILow]]\n)","v":73.5},{"$f":"IF(CGITempAct[[#This Row],[CGIAve]]<65,(65-CGITempAct[[#This Row],[CGIAve]]),0)","v":0},{"$f":"SUMPRODUCT((RankNHDD[Month]=CGITempAct[[#This Row],[Month]])*(RankNHDD[Rank]=CGITempAct[[#This Row],[Rank]])*RankNHDD[CGINHDD])","v":0},{"$f":"YEAR(CGITempAct[[#This Row],[Date]])","v":2022},{"$f":"MONTH(CGITempAct[[#This Row],[Date]])","v":8},{"$f":"IF(CGITempAct[[#This Row],[Month]]=H738,I738+1,1)","v":8}]
[44790,86,61,{"$f":"AVERAGE(CGITempAct[[#This Row],[CGIHigh]:[CGILow]]\n)","v":73.5},{"$f":"IF(CGITempAct[[#This Row],[CGIAve]]<65,(65-CGITempAct[[#This Row],[CGIAve]]),0)","v":0},{"$f":"SUMPRODUCT((RankNHDD[Month]=CGITempAct[[#This Row],[Month]])*(RankNHDD[Rank]=CGITempAct[[#This Row],[Rank]])*RankNHDD[CGINHDD])","v":0},{"$f":"YEAR(CGITempAct[[#This Row],[Date]])","v":2022},{"$f":"MONTH(CGITempAct[[#This Row],[Date]])","v":8},{"$f":"IF(CGITempAct[[#This Row],[Month]]=H739,I739+1,1)","v":9}]
[44797,89,58,{"$f":"AVERAGE(CGITempAct[[#This Row],[CGIHigh]:[CGILow]]\n)","v":73.5},{"$f":"IF(CGITempAct[[#This Row],[CGIAve]]<65,(65-CGITempAct[[#This Row],[CGIAve]]),0)","v":0},{"$f":"SUMPRODUCT((RankNHDD[Month]=CGITempAct[[#This Row],[Month]])*(RankNHDD[Rank]=CGITempAct[[#This Row],[Rank]])*RankNHDD[CGINHDD])","v":0},{"$f":"YEAR(CGITempAct[[#This Row],[Date]])","v":2022},{"$f":"MONTH(CGITempAct[[#This Row],[Date]])","v":8},{"$f":"IF(CGITempAct[[#This Row],[Month]]=H740,I740+1,1)","v":10}]
[44796,88,60,{"$f":"AVERAGE(CGITempAct[[#This Row],[CGIHigh]:[CGILow]]\n)","v":74},{"$f":"IF(CGITempAct[[#This Row],[CGIAve]]<65,(65-CGITempAct[[#This Row],[CGIAve]]),0)","v":0},{"$f":"SUMPRODUCT((RankNHDD[Month]=CGITempAct[[#This Row],[Month]])*(RankNHDD[Rank]=CGITempAct[[#This Row],[Rank]])*RankNHDD[CGINHDD])","v":0},{"$f":"YEAR(CGITempAct[[#This Row],[Date]])","v":2022},{"$f":"MONTH(CGITempAct[[#This Row],[Date]])","v":8},{"$f":"IF(CGITempAct[[#This Row],[Month]]=H741,I741+1,1)","v":11}]
[44795,88,61,{"$f":"AVERAGE(CGITempAct[[#This Row],[CGIHigh]:[CGILow]]\n)","v":74.5},{"$f":"IF(CGITempAct[[#This Row],[CGIAve]]<65,(65-CGITempAct[[#This Row],[CGIAve]]),0)","v":0},{"$f":"SUMPRODUCT((RankNHDD[Month]=CGITempAct[[#This Row],[Month]])*(RankNHDD[Rank]=CGITempAct[[#This Row],[Rank]])*RankNHDD[CGINHDD])","v":0},{"$f":"YEAR(CGITempAct[[#This Row],[Date]])","v":2022},{"$f":"MONTH(CGITempAct[[#This Row],[Date]])","v":8},{"$f":"IF(CGITempAct[[#This Row],[Month]]=H742,I742+1,1)","v":12}]
[44783,87,63,{"$f":"AVERAGE(CGITempAct[[#This Row],[CGIHigh]:[CGILow]]\n)","v":75},{"$f":"IF(CGITempAct[[#This Row],[CGIAve]]<65,(65-CGITempAct[[#This Row],[CGIAve]]),0)","v":0},{"$f":"SUMPRODUCT((RankNHDD[Month]=CGITempAct[[#This Row],[Month]])*(RankNHDD[Rank]=CGITempAct[[#This Row],[Rank]])*RankNHDD[CGINHDD])","v":0},{"$f":"YEAR(CGITempAct[[#This Row],[Date]])","v":2022},{"$f":"MONTH(CGITempAct[[#This Row],[Date]])","v":8},{"$f":"IF(CGITempAct[[#This Row],[Month]]=H743,I743+1,1)","v":13}]
[44787,86,65,{"$f":"AVERAGE(CGITempAct[[#This Row],[CGIHigh]:[CGILow]]\n)","v":75.5},{"$f":"IF(CGITempAct[[#This Row],[CGIAve]]<65,(65-CGITempAct[[#This Row],[CGIAve]]),0)","v":0},{"$f":"SUMPRODUCT((RankNHDD[Month]=CGITempAct[[#This Row],[Month]])*(RankNHDD[Rank]=CGITempAct[[#This Row],[Rank]])*RankNHDD[CGINHDD])","v":0},{"$f":"YEAR(CGITempAct[[#This Row],[Date]])","v":2022},{"$f":"MONTH(CGITempAct[[#This Row],[Date]])","v":8},{"$f":"IF(CGITempAct[[#This Row],[Month]]=H744,I744+1,1)","v":14}]
[44788,86,66,{"$f":"AVERAGE(CGITempAct[[#This Row],[CGIHigh]:[CGILow]]\n)","v":76},{"$f":"IF(CGITempAct[[#This Row],[CGIAve]]<65,(65-CGITempAct[[#This Row],[CGIAve]]),0)","v":0},{"$f":"SUMPRODUCT((RankNHDD[Month]=CGITempAct[[#This Row],[Month]])*(RankNHDD[Rank]=CGITempAct[[#This Row],[Rank]])*RankNHDD[CGINHDD])","v":0},{"$f":"YEAR(CGITempAct[[#This Row],[Date]])","v":2022},{"$f":"MONTH(CGITempAct[[#This Row],[Date]])","v":8},{"$f":"IF(CGITempAct[[#This Row],[Month]]=H745,I745+1,1)","v":15}]
[44794,88,65,{"$f":"AVERAGE(CGITempAct[[#This Row],[CGIHigh]:[CGILow]]\n)","v":76.5},{"$f":"IF(CGITempAct[[#This Row],[CGIAve]]<65,(65-CGITempAct[[#This Row],[CGIAve]]),0)","v":0},{"$f":"SUMPRODUCT((RankNHDD[Month]=CGITempAct[[#This Row],[Month]])*(RankNHDD[Rank]=CGITempAct[[#This Row],[Rank]])*RankNHDD[CGINHDD])","v":0},{"$f":"YEAR(CGITempAct[[#This Row],[Date]])","v":2022},{"$f":"MONTH(CGITempAct[[#This Row],[Date]])","v":8},{"$f":"IF(CGITempAct[[#This Row],[Month]]=H746,I746+1,1)","v":16}]
[44777,81,73,{"$f":"AVERAGE(CGITempAct[[#This Row],[CGIHigh]:[CGILow]]\n)","v":77},{"$f":"IF(CGITempAct[[#This Row],[CGIAve]]<65,(65-CGITempAct[[#This Row],[CGIAve]]),0)","v":0},{"$f":"SUMPRODUCT((RankNHDD[Month]=CGITempAct[[#This Row],[Month]])*(RankNHDD[Rank]=CGITempAct[[#This Row],[Rank]])*RankNHDD[CGINHDD])","v":0},{"$f":"YEAR(CGITempAct[[#This Row],[Date]])","v":2022},{"$f":"MONTH(CGITempAct[[#This Row],[Date]])","v":8},{"$f":"IF(CGITempAct[[#This Row],[Month]]=H747,I747+1,1)","v":17}]
[44803,91,63,{"$f":"AVERAGE(CGITempAct[[#This Row],[CGIHigh]:[CGILow]]\n)","v":77},{"$f":"IF(CGITempAct[[#This Row],[CGIAve]]<65,(65-CGITempAct[[#This Row],[CGIAve]]),0)","v":0},{"$f":"SUMPRODUCT((RankNHDD[Month]=CGITempAct[[#This Row],[Month]])*(RankNHDD[Rank]=CGITempAct[[#This Row],[Rank]])*RankNHDD[CGINHDD])","v":0},{"$f":"YEAR(CGITempAct[[#This Row],[Date]])","v":2022},{"$f":"MONTH(CGITempAct[[#This Row],[Date]])","v":8},{"$f":"IF(CGITempAct[[#This Row],[Month]]=H748,I748+1,1)","v":18}]
[44798,92,63,{"$f":"AVERAGE(CGITempAct[[#This Row],[CGIHigh]:[CGILow]]\n)","v":77.5},{"$f":"IF(CGITempAct[[#This Row],[CGIAve]]<65,(65-CGITempAct[[#This Row],[CGIAve]]),0)","v":0},{"$f":"SUMPRODUCT((RankNHDD[Month]=CGITempAct[[#This Row],[Month]])*(RankNHDD[Rank]=CGITempAct[[#This Row],[Rank]])*RankNHDD[CGINHDD])","v":0},{"$f":"YEAR(CGITempAct[[#This Row],[Date]])","v":2022},{"$f":"MONTH(CGITempAct[[#This Row],[Date]])","v":8},{"$f":"IF(CGITempAct[[#This Row],[Month]]=H749,I749+1,1)","v":19}]
[44800,93,63,{"$f":"AVERAGE(CGITempAct[[#This Row],[CGIHigh]:[CGILow]]\n)","v":78},{"$f":"IF(CGITempAct[[#This Row],[CGIAve]]<65,(65-CGITempAct[[#This Row],[CGIAve]]),0)","v":0},{"$f":"SUMPRODUCT((RankNHDD[Month]=CGITempAct[[#This Row],[Month]])*(RankNHDD[Rank]=CGITempAct[[#This Row],[Rank]])*RankNHDD[CGINHDD])","v":0},{"$f":"YEAR(CGITempAct[[#This Row],[Date]])","v":2022},{"$f":"MONTH(CGITempAct[[#This Row],[Date]])","v":8},{"$f":"IF(CGITempAct[[#This Row],[Month]]=H750,I750+1,1)","v":20}]
[44799,93,64,{"$f":"AVERAGE(CGITempAct[[#This Row],[CGIHigh]:[CGILow]]\n)","v":78.5},{"$f":"IF(CGITempAct[[#This Row],[CGIAve]]<65,(65-CGITempAct[[#This Row],[CGIAve]]),0)","v":0},{"$f":"SUMPRODUCT((RankNHDD[Month]=CGITempAct[[#This Row],[Month]])*(RankNHDD[Rank]=CGITempAct[[#This Row],[Rank]])*RankNHDD[CGINHDD])","v":0},{"$f":"YEAR(CGITempAct[[#This Row],[Date]])","v":2022},{"$f":"MONTH(CGITempAct[[#This Row],[Date]])","v":8},{"$f":"IF(CGITempAct[[#This Row],[Month]]=H751,I751+1,1)","v":21}]
[44782,88,71,{"$f":"AVERAGE(CGITempAct[[#This Row],[CGIHigh]:[CGILow]]\n)","v":79.5},{"$f":"IF(CGITempAct[[#This Row],[CGIAve]]<65,(65-CGITempAct[[#This Row],[CGIAve]]),0)","v":0},{"$f":"SUMPRODUCT((RankNHDD[Month]=CGITempAct[[#This Row],[Month]])*(RankNHDD[Rank]=CGITempAct[[#This Row],[Rank]])*RankNHDD[CGINHDD])","v":0},{"$f":"YEAR(CGITempAct[[#This Row],[Date]])","v":2022},{"$f":"MONTH(CGITempAct[[#This Row],[Date]])","v":8},{"$f":"IF(CGITempAct[[#This Row],[Month]]=H752,I752+1,1)","v":22}]
[44801,91,68,{"$f":"AVERAGE(CGITempAct[[#This Row],[CGIHigh]:[CGILow]]\n)","v":79.5},{"$f":"IF(CGITempAct[[#This Row],[CGIAve]]<65,(65-CGITempAct[[#This Row],[CGIAve]]),0)","v":0},{"$f":"SUMPRODUCT((RankNHDD[Month]=CGITempAct[[#This Row],[Month]])*(RankNHDD[Rank]=CGITempAct[[#This Row],[Rank]])*RankNHDD[CGINHDD])","v":0},{"$f":"YEAR(CGITempAct[[#This Row],[Date]])","v":2022},{"$f":"MONTH(CGITempAct[[#This Row],[Date]])","v":8},{"$f":"IF(CGITempAct[[#This Row],[Month]]=H753,I753+1,1)","v":23}]
[44778,89,71,{"$f":"AVERAGE(CGITempAct[[#This Row],[CGIHigh]:[CGILow]]\n)","v":80},{"$f":"IF(CGITempAct[[#This Row],[CGIAve]]<65,(65-CGITempAct[[#This Row],[CGIAve]]),0)","v":0},{"$f":"SUMPRODUCT((RankNHDD[Month]=CGITempAct[[#This Row],[Month]])*(RankNHDD[Rank]=CGITempAct[[#This Row],[Rank]])*RankNHDD[CGINHDD])","v":0},{"$f":"YEAR(CGITempAct[[#This Row],[Date]])","v":2022},{"$f":"MONTH(CGITempAct[[#This Row],[Date]])","v":8},{"$f":"IF(CGITempAct[[#This Row],[Month]]=H754,I754+1,1)","v":24}]
[44775,91,72,{"$f":"AVERAGE(CGITempAct[[#This Row],[CGIHigh]:[CGILow]]\n)","v":81.5},{"$f":"IF(CGITempAct[[#This Row],[CGIAve]]<65,(65-CGITempAct[[#This Row],[CGIAve]]),0)","v":0},{"$f":"SUMPRODUCT((RankNHDD[Month]=CGITempAct[[#This Row],[Month]])*(RankNHDD[Rank]=CGITempAct[[#This Row],[Rank]])*RankNHDD[CGINHDD])","v":0},{"$f":"YEAR(CGITempAct[[#This Row],[Date]])","v":2022},{"$f":"MONTH(CGITempAct[[#This Row],[Date]])","v":8},{"$f":"IF(CGITempAct[[#This Row],[Month]]=H755,I755+1,1)","v":25}]
[44779,91,73,{"$f":"AVERAGE(CGITempAct[[#This Row],[CGIHigh]:[CGILow]]\n)","v":82},{"$f":"IF(CGITempAct[[#This Row],[CGIAve]]<65,(65-CGITempAct[[#This Row],[CGIAve]]),0)","v":0},{"$f":"SUMPRODUCT((RankNHDD[Month]=CGITempAct[[#This Row],[Month]])*(RankNHDD[Rank]=CGITempAct[[#This Row],[Rank]])*RankNHDD[CGINHDD])","v":0},{"$f":"YEAR(CGITempAct[[#This Row],[Date]])","v":2022},{"$f":"MONTH(CGITempAct[[#This Row],[Date]])","v":8},{"$f":"IF(CGITempAct[[#This Row],[Month]]=H756,I756+1,1)","v":26}]
[44802,92,72,{"$f":"AVERAGE(CGITempAct[[#This Row],[CGIHigh]:[CGILow]]\n)","v":82},{"$f":"IF(CGITempAct[[#This Row],[CGIAve]]<65,(65-CGITempAct[[#This Row],[CGIAve]]),0)","v":0},{"$f":"SUMPRODUCT((RankNHDD[Month]=CGITempAct[[#This Row],[Month]])*(RankNHDD[Rank]=CGITempAct[[#This Row],[Rank]])*RankNHDD[CGINHDD])","v":0},{"$f":"YEAR(CGITempAct[[#This Row],[Date]])","v":2022},{"$f":"MONTH(CGITempAct[[#This Row],[Date]])","v":8},{"$f":"IF(CGITempAct[[#This Row],[Month]]=H757,I757+1,1)","v":27}]
[44780,92,73,{"$f":"AVERAGE(CGITempAct[[#This Row],[CGIHigh]:[CGILow]]\n)","v":82.5},{"$f":"IF(CGITempAct[[#This Row],[CGIAve]]<65,(65-CGITempAct[[#This Row],[CGIAve]]),0)","v":0},{"$f":"SUMPRODUCT((RankNHDD[Month]=CGITempAct[[#This Row],[Month]])*(RankNHDD[Rank]=CGITempAct[[#This Row],[Rank]])*RankNHDD[CGINHDD])","v":0},{"$f":"YEAR(CGITempAct[[#This Row],[Date]])","v":2022},{"$f":"MONTH(CGITempAct[[#This Row],[Date]])","v":8},{"$f":"IF(CGITempAct[[#This Row],[Month]]=H758,I758+1,1)","v":28}]
[44781,92,73,{"$f":"AVERAGE(CGITempAct[[#This Row],[CGIHigh]:[CGILow]]\n)","v":82.5},{"$f":"IF(CGITempAct[[#This Row],[CGIAve]]<65,(65-CGITempAct[[#This Row],[CGIAve]]),0)","v":0},{"$f":"SUMPRODUCT((RankNHDD[Month]=CGITempAct[[#This Row],[Month]])*(RankNHDD[Rank]=CGITempAct[[#This Row],[Rank]])*RankNHDD[CGINHDD])","v":0},{"$f":"YEAR(CGITempAct[[#This Row],[Date]])","v":2022},{"$f":"MONTH(CGITempAct[[#This Row],[Date]])","v":8},{"$f":"IF(CGITempAct[[#This Row],[Month]]=H759,I759+1,1)","v":29}]
[44776,93,73,{"$f":"AVERAGE(CGITempAct[[#This Row],[CGIHigh]:[CGILow]]\n)","v":83},{"$f":"IF(CGITempAct[[#This Row],[CGIAve]]<65,(65-CGITempAct[[#This Row],[CGIAve]]),0)","v":0},{"$f":"SUMPRODUCT((RankNHDD[Month]=CGITempAct[[#This Row],[Month]])*(RankNHDD[Rank]=CGITempAct[[#This Row],[Rank]])*RankNHDD[CGINHDD])","v":0},{"$f":"YEAR(CGITempAct[[#This Row],[Date]])","v":2022},{"$f":"MONTH(CGITempAct[[#This Row],[Date]])","v":8},{"$f":"IF(CGITempAct[[#This Row],[Month]]=H760,I760+1,1)","v":30}]
[44774,92,76,{"$f":"AVERAGE(CGITempAct[[#This Row],[CGIHigh]:[CGILow]]\n)","v":84},{"$f":"IF(CGITempAct[[#This Row],[CGIAve]]<65,(65-CGITempAct[[#This Row],[CGIAve]]),0)","v":0},{"$f":"SUMPRODUCT((RankNHDD[Month]=CGITempAct[[#This Row],[Month]])*(RankNHDD[Rank]=CGITempAct[[#This Row],[Rank]])*RankNHDD[CGINHDD])","v":0},{"$f":"YEAR(CGITempAct[[#This Row],[Date]])","v":2022},{"$f":"MONTH(CGITempAct[[#This Row],[Date]])","v":8},{"$f":"IF(CGITempAct[[#This Row],[Month]]=H761,I761+1,1)","v":31}]
[44832,71,39,{"$f":"AVERAGE(CGITempAct[[#This Row],[CGIHigh]:[CGILow]]\n)","v":55},{"$f":"IF(CGITempAct[[#This Row],[CGIAve]]<65,(65-CGITempAct[[#This Row],[CGIAve]]),0)","v":10},{"$f":"SUMPRODUCT((RankNHDD[Month]=CGITempAct[[#This Row],[Month]])*(RankNHDD[Rank]=CGITempAct[[#This Row],[Rank]])*RankNHDD[CGINHDD])","v":12.6},{"$f":"YEAR(CGITempAct[[#This Row],[Date]])","v":2022},{"$f":"MONTH(CGITempAct[[#This Row],[Date]])","v":9},{"$f":"IF(CGITempAct[[#This Row],[Month]]=H762,I762+1,1)","v":1}]
[44833,73,38,{"$f":"AVERAGE(CGITempAct[[#This Row],[CGIHigh]:[CGILow]]\n)","v":55.5},{"$f":"IF(CGITempAct[[#This Row],[CGIAve]]<65,(65-CGITempAct[[#This Row],[CGIAve]]),0)","v":9.5},{"$f":"SUMPRODUCT((RankNHDD[Month]=CGITempAct[[#This Row],[Month]])*(RankNHDD[Rank]=CGITempAct[[#This Row],[Rank]])*RankNHDD[CGINHDD])","v":8.9},{"$f":"YEAR(CGITempAct[[#This Row],[Date]])","v":2022},{"$f":"MONTH(CGITempAct[[#This Row],[Date]])","v":9},{"$f":"IF(CGITempAct[[#This Row],[Month]]=H763,I763+1,1)","v":2}]
[44834,76,36,{"$f":"AVERAGE(CGITempAct[[#This Row],[CGIHigh]:[CGILow]]\n)","v":56},{"$f":"IF(CGITempAct[[#This Row],[CGIAve]]<65,(65-CGITempAct[[#This Row],[CGIAve]]),0)","v":9},{"$f":"SUMPRODUCT((RankNHDD[Month]=CGITempAct[[#This Row],[Month]])*(RankNHDD[Rank]=CGITempAct[[#This Row],[Rank]])*RankNHDD[CGINHDD])","v":6.7},{"$f":"YEAR(CGITempAct[[#This Row],[Date]])","v":2022},{"$f":"MONTH(CGITempAct[[#This Row],[Date]])","v":9},{"$f":"IF(CGITempAct[[#This Row],[Month]]=H764,I764+1,1)","v":3}]
[44831,79,38,{"$f":"AVERAGE(CGITempAct[[#This Row],[CGIHigh]:[CGILow]]\n)","v":58.5},{"$f":"IF(CGITempAct[[#This Row],[CGIAve]]<65,(65-CGITempAct[[#This Row],[CGIAve]]),0)","v":6.5},{"$f":"SUMPRODUCT((RankNHDD[Month]=CGITempAct[[#This Row],[Month]])*(RankNHDD[Rank]=CGITempAct[[#This Row],[Rank]])*RankNHDD[CGINHDD])","v":5.2},{"$f":"YEAR(CGITempAct[[#This Row],[Date]])","v":2022},{"$f":"MONTH(CGITempAct[[#This Row],[Date]])","v":9},{"$f":"IF(CGITempAct[[#This Row],[Month]]=H765,I765+1,1)","v":4}]
[44830,77,42,{"$f":"AVERAGE(CGITempAct[[#This Row],[CGIHigh]:[CGILow]]\n)","v":59.5},{"$f":"IF(CGITempAct[[#This Row],[CGIAve]]<65,(65-CGITempAct[[#This Row],[CGIAve]]),0)","v":5.5},{"$f":"SUMPRODUCT((RankNHDD[Month]=CGITempAct[[#This Row],[Month]])*(RankNHDD[Rank]=CGITempAct[[#This Row],[Rank]])*RankNHDD[CGINHDD])","v":3.5},{"$f":"YEAR(CGITempAct[[#This Row],[Date]])","v":2022},{"$f":"MONTH(CGITempAct[[#This Row],[Date]])","v":9},{"$f":"IF(CGITempAct[[#This Row],[Month]]=H766,I766+1,1)","v":5}]
[44826,75,53,{"$f":"AVERAGE(CGITempAct[[#This Row],[CGIHigh]:[CGILow]]\n)","v":64},{"$f":"IF(CGITempAct[[#This Row],[CGIAve]]<65,(65-CGITempAct[[#This Row],[CGIAve]]),0)","v":1},{"$f":"SUMPRODUCT((RankNHDD[Month]=CGITempAct[[#This Row],[Month]])*(RankNHDD[Rank]=CGITempAct[[#This Row],[Rank]])*RankNHDD[CGINHDD])","v":2.7},{"$f":"YEAR(CGITempAct[[#This Row],[Date]])","v":2022},{"$f":"MONTH(CGITempAct[[#This Row],[Date]])","v":9},{"$f":"IF(CGITempAct[[#This Row],[Month]]=H767,I767+1,1)","v":6}]
[44816,83,46,{"$f":"AVERAGE(CGITempAct[[#This Row],[CGIHigh]:[CGILow]]\n)","v":64.5},{"$f":"IF(CGITempAct[[#This Row],[CGIAve]]<65,(65-CGITempAct[[#This Row],[CGIAve]]),0)","v":0.5},{"$f":"SUMPRODUCT((RankNHDD[Month]=CGITempAct[[#This Row],[Month]])*(RankNHDD[Rank]=CGITempAct[[#This Row],[Rank]])*RankNHDD[CGINHDD])","v":1.7},{"$f":"YEAR(CGITempAct[[#This Row],[Date]])","v":2022},{"$f":"MONTH(CGITempAct[[#This Row],[Date]])","v":9},{"$f":"IF(CGITempAct[[#This Row],[Month]]=H768,I768+1,1)","v":7}]
[44827,77,52,{"$f":"AVERAGE(CGITempAct[[#This Row],[CGIHigh]:[CGILow]]\n)","v":64.5},{"$f":"IF(CGITempAct[[#This Row],[CGIAve]]<65,(65-CGITempAct[[#This Row],[CGIAve]]),0)","v":0.5},{"$f":"SUMPRODUCT((RankNHDD[Month]=CGITempAct[[#This Row],[Month]])*(RankNHDD[Rank]=CGITempAct[[#This Row],[Rank]])*RankNHDD[CGINHDD])","v":0.9},{"$f":"YEAR(CGITempAct[[#This Row],[Date]])","v":2022},{"$f":"MONTH(CGITempAct[[#This Row],[Date]])","v":9},{"$f":"IF(CGITempAct[[#This Row],[Month]]=H769,I769+1,1)","v":8}]
[44815,80,52,{"$f":"AVERAGE(CGITempAct[[#This Row],[CGIHigh]:[CGILow]]\n)","v":66},{"$f":"IF(CGITempAct[[#This Row],[CGIAve]]<65,(65-CGITempAct[[#This Row],[CGIAve]]),0)","v":0},{"$f":"SUMPRODUCT((RankNHDD[Month]=CGITempAct[[#This Row],[Month]])*(RankNHDD[Rank]=CGITempAct[[#This Row],[Rank]])*RankNHDD[CGINHDD])","v":0.2},{"$f":"YEAR(CGITempAct[[#This Row],[Date]])","v":2022},{"$f":"MONTH(CGITempAct[[#This Row],[Date]])","v":9},{"$f":"IF(CGITempAct[[#This Row],[Month]]=H770,I770+1,1)","v":9}]
[44818,86,48,{"$f":"AVERAGE(CGITempAct[[#This Row],[CGIHigh]:[CGILow]]\n)","v":67},{"$f":"IF(CGITempAct[[#This Row],[CGIAve]]<65,(65-CGITempAct[[#This Row],[CGIAve]]),0)","v":0},{"$f":"SUMPRODUCT((RankNHDD[Month]=CGITempAct[[#This Row],[Month]])*(RankNHDD[Rank]=CGITempAct[[#This Row],[Rank]])*RankNHDD[CGINHDD])","v":0},{"$f":"YEAR(CGITempAct[[#This Row],[Date]])","v":2022},{"$f":"MONTH(CGITempAct[[#This Row],[Date]])","v":9},{"$f":"IF(CGITempAct[[#This Row],[Month]]=H771,I771+1,1)","v":10}]
[44817,86,49,{"$f":"AVERAGE(CGITempAct[[#This Row],[CGIHigh]:[CGILow]]\n)","v":67.5},{"$f":"IF(CGITempAct[[#This Row],[CGIAve]]<65,(65-CGITempAct[[#This Row],[CGIAve]]),0)","v":0},{"$f":"SUMPRODUCT((RankNHDD[Month]=CGITempAct[[#This Row],[Month]])*(RankNHDD[Rank]=CGITempAct[[#This Row],[Rank]])*RankNHDD[CGINHDD])","v":0},{"$f":"YEAR(CGITempAct[[#This Row],[Date]])","v":2022},{"$f":"MONTH(CGITempAct[[#This Row],[Date]])","v":9},{"$f":"IF(CGITempAct[[#This Row],[Month]]=H772,I772+1,1)","v":11}]
[44829,84,51,{"$f":"AVERAGE(CGITempAct[[#This Row],[CGIHigh]:[CGILow]]\n)","v":67.5},{"$f":"IF(CGITempAct[[#This Row],[CGIAve]]<65,(65-CGITempAct[[#This Row],[CGIAve]]),0)","v":0},{"$f":"SUMPRODUCT((RankNHDD[Month]=CGITempAct[[#This Row],[Month]])*(RankNHDD[Rank]=CGITempAct[[#This Row],[Rank]])*RankNHDD[CGINHDD])","v":0},{"$f":"YEAR(CGITempAct[[#This Row],[Date]])","v":2022},{"$f":"MONTH(CGITempAct[[#This Row],[Date]])","v":9},{"$f":"IF(CGITempAct[[#This Row],[Month]]=H773,I773+1,1)","v":12}]
[44813,86,53,{"$f":"AVERAGE(CGITempAct[[#This Row],[CGIHigh]:[CGILow]]\n)","v":69.5},{"$f":"IF(CGITempAct[[#This Row],[CGIAve]]<65,(65-CGITempAct[[#This Row],[CGIAve]]),0)","v":0},{"$f":"SUMPRODUCT((RankNHDD[Month]=CGITempAct[[#This Row],[Month]])*(RankNHDD[Rank]=CGITempAct[[#This Row],[Rank]])*RankNHDD[CGINHDD])","v":0},{"$f":"YEAR(CGITempAct[[#This Row],[Date]])","v":2022},{"$f":"MONTH(CGITempAct[[#This Row],[Date]])","v":9},{"$f":"IF(CGITempAct[[#This Row],[Month]]=H774,I774+1,1)","v":13}]
[44819,87,52,{"$f":"AVERAGE(CGITempAct[[#This Row],[CGIHigh]:[CGILow]]\n)","v":69.5},{"$f":"IF(CGITempAct[[#This Row],[CGIAve]]<65,(65-CGITempAct[[#This Row],[CGIAve]]),0)","v":0},{"$f":"SUMPRODUCT((RankNHDD[Month]=CGITempAct[[#This Row],[Month]])*(RankNHDD[Rank]=CGITempAct[[#This Row],[Rank]])*RankNHDD[CGINHDD])","v":0},{"$f":"YEAR(CGITempAct[[#This Row],[Date]])","v":2022},{"$f":"MONTH(CGITempAct[[#This Row],[Date]])","v":9},{"$f":"IF(CGITempAct[[#This Row],[Month]]=H775,I775+1,1)","v":14}]
[44805,86,56,{"$f":"AVERAGE(CGITempAct[[#This Row],[CGIHigh]:[CGILow]]\n)","v":71},{"$f":"IF(CGITempAct[[#This Row],[CGIAve]]<65,(65-CGITempAct[[#This Row],[CGIAve]]),0)","v":0},{"$f":"SUMPRODUCT((RankNHDD[Month]=CGITempAct[[#This Row],[Month]])*(RankNHDD[Rank]=CGITempAct[[#This Row],[Rank]])*RankNHDD[CGINHDD])","v":0},{"$f":"YEAR(CGITempAct[[#This Row],[Date]])","v":2022},{"$f":"MONTH(CGITempAct[[#This Row],[Date]])","v":9},{"$f":"IF(CGITempAct[[#This Row],[Month]]=H776,I776+1,1)","v":15}]
[44806,82,60,{"$f":"AVERAGE(CGITempAct[[#This Row],[CGIHigh]:[CGILow]]\n)","v":71},{"$f":"IF(CGITempAct[[#This Row],[CGIAve]]<65,(65-CGITempAct[[#This Row],[CGIAve]]),0)","v":0},{"$f":"SUMPRODUCT((RankNHDD[Month]=CGITempAct[[#This Row],[Month]])*(RankNHDD[Rank]=CGITempAct[[#This Row],[Rank]])*RankNHDD[CGINHDD])","v":0},{"$f":"YEAR(CGITempAct[[#This Row],[Date]])","v":2022},{"$f":"MONTH(CGITempAct[[#This Row],[Date]])","v":9},{"$f":"IF(CGITempAct[[#This Row],[Month]]=H777,I777+1,1)","v":16}]
[44812,85,58,{"$f":"AVERAGE(CGITempAct[[#This Row],[CGIHigh]:[CGILow]]\n)","v":71.5},{"$f":"IF(CGITempAct[[#This Row],[CGIAve]]<65,(65-CGITempAct[[#This Row],[CGIAve]]),0)","v":0},{"$f":"SUMPRODUCT((RankNHDD[Month]=CGITempAct[[#This Row],[Month]])*(RankNHDD[Rank]=CGITempAct[[#This Row],[Rank]])*RankNHDD[CGINHDD])","v":0},{"$f":"YEAR(CGITempAct[[#This Row],[Date]])","v":2022},{"$f":"MONTH(CGITempAct[[#This Row],[Date]])","v":9},{"$f":"IF(CGITempAct[[#This Row],[Month]]=H778,I778+1,1)","v":17}]
[44820,88,55,{"$f":"AVERAGE(CGITempAct[[#This Row],[CGIHigh]:[CGILow]]\n)","v":71.5},{"$f":"IF(CGITempAct[[#This Row],[CGIAve]]<65,(65-CGITempAct[[#This Row],[CGIAve]]),0)","v":0},{"$f":"SUMPRODUCT((RankNHDD[Month]=CGITempAct[[#This Row],[Month]])*(RankNHDD[Rank]=CGITempAct[[#This Row],[Rank]])*RankNHDD[CGINHDD])","v":0},{"$f":"YEAR(CGITempAct[[#This Row],[Date]])","v":2022},{"$f":"MONTH(CGITempAct[[#This Row],[Date]])","v":9},{"$f":"IF(CGITempAct[[#This Row],[Month]]=H779,I779+1,1)","v":18}]
[44821,87,59,{"$f":"AVERAGE(CGITempAct[[#This Row],[CGIHigh]:[CGILow]]\n)","v":73},{"$f":"IF(CGITempAct[[#This Row],[CGIAve]]<65,(65-CGITempAct[[#This Row],[CGIAve]]),0)","v":0},{"$f":"SUMPRODUCT((RankNHDD[Month]=CGITempAct[[#This Row],[Month]])*(RankNHDD[Rank]=CGITempAct[[#This Row],[Rank]])*RankNHDD[CGINHDD])","v":0},{"$f":"YEAR(CGITempAct[[#This Row],[Date]])","v":2022},{"$f":"MONTH(CGITempAct[[#This Row],[Date]])","v":9},{"$f":"IF(CGITempAct[[#This Row],[Month]]=H780,I780+1,1)","v":19}]
[44811,86,63,{"$f":"AVERAGE(CGITempAct[[#This Row],[CGIHigh]:[CGILow]]\n)","v":74.5},{"$f":"IF(CGITempAct[[#This Row],[CGIAve]]<65,(65-CGITempAct[[#This Row],[CGIAve]]),0)","v":0},{"$f":"SUMPRODUCT((RankNHDD[Month]=CGITempAct[[#This Row],[Month]])*(RankNHDD[Rank]=CGITempAct[[#This Row],[Rank]])*RankNHDD[CGINHDD])","v":0},{"$f":"YEAR(CGITempAct[[#This Row],[Date]])","v":2022},{"$f":"MONTH(CGITempAct[[#This Row],[Date]])","v":9},{"$f":"IF(CGITempAct[[#This Row],[Month]]=H781,I781+1,1)","v":20}]
[44807,80,70,{"$f":"AVERAGE(CGITempAct[[#This Row],[CGIHigh]:[CGILow]]\n)","v":75},{"$f":"IF(CGITempAct[[#This Row],[CGIAve]]<65,(65-CGITempAct[[#This Row],[CGIAve]]),0)","v":0},{"$f":"SUMPRODUCT((RankNHDD[Month]=CGITempAct[[#This Row],[Month]])*(RankNHDD[Rank]=CGITempAct[[#This Row],[Rank]])*RankNHDD[CGINHDD])","v":0},{"$f":"YEAR(CGITempAct[[#This Row],[Date]])","v":2022},{"$f":"MONTH(CGITempAct[[#This Row],[Date]])","v":9},{"$f":"IF(CGITempAct[[#This Row],[Month]]=H782,I782+1,1)","v":21}]
[44828,91,59,{"$f":"AVERAGE(CGITempAct[[#This Row],[CGIHigh]:[CGILow]]\n)","v":75},{"$f":"IF(CGITempAct[[#This Row],[CGIAve]]<65,(65-CGITempAct[[#This Row],[CGIAve]]),0)","v":0},{"$f":"SUMPRODUCT((RankNHDD[Month]=CGITempAct[[#This Row],[Month]])*(RankNHDD[Rank]=CGITempAct[[#This Row],[Rank]])*RankNHDD[CGINHDD])","v":0},{"$f":"YEAR(CGITempAct[[#This Row],[Date]])","v":2022},{"$f":"MONTH(CGITempAct[[#This Row],[Date]])","v":9},{"$f":"IF(CGITempAct[[#This Row],[Month]]=H783,I783+1,1)","v":22}]
[44808,84,67,{"$f":"AVERAGE(CGITempAct[[#This Row],[CGIHigh]:[CGILow]]\n)","v":75.5},{"$f":"IF(CGITempAct[[#This Row],[CGIAve]]<65,(65-CGITempAct[[#This Row],[CGIAve]]),0)","v":0},{"$f":"SUMPRODUCT((RankNHDD[Month]=CGITempAct[[#This Row],[Month]])*(RankNHDD[Rank]=CGITempAct[[#This Row],[Rank]])*RankNHDD[CGINHDD])","v":0},{"$f":"YEAR(CGITempAct[[#This Row],[Date]])","v":2022},{"$f":"MONTH(CGITempAct[[#This Row],[Date]])","v":9},{"$f":"IF(CGITempAct[[#This Row],[Month]]=H784,I784+1,1)","v":23}]
[44814,86,66,{"$f":"AVERAGE(CGITempAct[[#This Row],[CGIHigh]:[CGILow]]\n)","v":76},{"$f":"IF(CGITempAct[[#This Row],[CGIAve]]<65,(65-CGITempAct[[#This Row],[CGIAve]]),0)","v":0},{"$f":"SUMPRODUCT((RankNHDD[Month]=CGITempAct[[#This Row],[Month]])*(RankNHDD[Rank]=CGITempAct[[#This Row],[Rank]])*RankNHDD[CGINHDD])","v":0},{"$f":"YEAR(CGITempAct[[#This Row],[Date]])","v":2022},{"$f":"MONTH(CGITempAct[[#This Row],[Date]])","v":9},{"$f":"IF(CGITempAct[[#This Row],[Month]]=H785,I785+1,1)","v":24}]
[44810,86,67,{"$f":"AVERAGE(CGITempAct[[#This Row],[CGIHigh]:[CGILow]]\n)","v":76.5},{"$f":"IF(CGITempAct[[#This Row],[CGIAve]]<65,(65-CGITempAct[[#This Row],[CGIAve]]),0)","v":0},{"$f":"SUMPRODUCT((RankNHDD[Month]=CGITempAct[[#This Row],[Month]])*(RankNHDD[Rank]=CGITempAct[[#This Row],[Rank]])*RankNHDD[CGINHDD])","v":0},{"$f":"YEAR(CGITempAct[[#This Row],[Date]])","v":2022},{"$f":"MONTH(CGITempAct[[#This Row],[Date]])","v":9},{"$f":"IF(CGITempAct[[#This Row],[Month]]=H786,I786+1,1)","v":25}]
[44822,91,62,{"$f":"AVERAGE(CGITempAct[[#This Row],[CGIHigh]:[CGILow]]\n)","v":76.5},{"$f":"IF(CGITempAct[[#This Row],[CGIAve]]<65,(65-CGITempAct[[#This Row],[CGIAve]]),0)","v":0},{"$f":"SUMPRODUCT((RankNHDD[Month]=CGITempAct[[#This Row],[Month]])*(RankNHDD[Rank]=CGITempAct[[#This Row],[Rank]])*RankNHDD[CGINHDD])","v":0},{"$f":"YEAR(CGITempAct[[#This Row],[Date]])","v":2022},{"$f":"MONTH(CGITempAct[[#This Row],[Date]])","v":9},{"$f":"IF(CGITempAct[[#This Row],[Month]]=H787,I787+1,1)","v":26}]
[44809,87,68,{"$f":"AVERAGE(CGITempAct[[#This Row],[CGIHigh]:[CGILow]]\n)","v":77.5},{"$f":"IF(CGITempAct[[#This Row],[CGIAve]]<65,(65-CGITempAct[[#This Row],[CGIAve]]),0)","v":0},{"$f":"SUMPRODUCT((RankNHDD[Month]=CGITempAct[[#This Row],[Month]])*(RankNHDD[Rank]=CGITempAct[[#This Row],[Rank]])*RankNHDD[CGINHDD])","v":0},{"$f":"YEAR(CGITempAct[[#This Row],[Date]])","v":2022},{"$f":"MONTH(CGITempAct[[#This Row],[Date]])","v":9},{"$f":"IF(CGITempAct[[#This Row],[Month]]=H788,I788+1,1)","v":27}]
[44823,96,66,{"$f":"AVERAGE(CGITempAct[[#This Row],[CGIHigh]:[CGILow]]\n)","v":81},{"$f":"IF(CGITempAct[[#This Row],[CGIAve]]<65,(65-CGITempAct[[#This Row],[CGIAve]]),0)","v":0},{"$f":"SUMPRODUCT((RankNHDD[Month]=CGITempAct[[#This Row],[Month]])*(RankNHDD[Rank]=CGITempAct[[#This Row],[Rank]])*RankNHDD[CGINHDD])","v":0},{"$f":"YEAR(CGITempAct[[#This Row],[Date]])","v":2022},{"$f":"MONTH(CGITempAct[[#This Row],[Date]])","v":9},{"$f":"IF(CGITempAct[[#This Row],[Month]]=H789,I789+1,1)","v":28}]
[44825,100,63,{"$f":"AVERAGE(CGITempAct[[#This Row],[CGIHigh]:[CGILow]]\n)","v":81.5},{"$f":"IF(CGITempAct[[#This Row],[CGIAve]]<65,(65-CGITempAct[[#This Row],[CGIAve]]),0)","v":0},{"$f":"SUMPRODUCT((RankNHDD[Month]=CGITempAct[[#This Row],[Month]])*(RankNHDD[Rank]=CGITempAct[[#This Row],[Rank]])*RankNHDD[CGINHDD])","v":0},{"$f":"YEAR(CGITempAct[[#This Row],[Date]])","v":2022},{"$f":"MONTH(CGITempAct[[#This Row],[Date]])","v":9},{"$f":"IF(CGITempAct[[#This Row],[Month]]=H790,I790+1,1)","v":29}]
[44824,100,65,{"$f":"AVERAGE(CGITempAct[[#This Row],[CGIHigh]:[CGILow]]\n)","v":82.5},{"$f":"IF(CGITempAct[[#This Row],[CGIAve]]<65,(65-CGITempAct[[#This Row],[CGIAve]]),0)","v":0},{"$f":"SUMPRODUCT((RankNHDD[Month]=CGITempAct[[#This Row],[Month]])*(RankNHDD[Rank]=CGITempAct[[#This Row],[Rank]])*RankNHDD[CGINHDD])","v":0},{"$f":"YEAR(CGITempAct[[#This Row],[Date]])","v":2022},{"$f":"MONTH(CGITempAct[[#This Row],[Date]])","v":9},{"$f":"IF(CGITempAct[[#This Row],[Month]]=H791,I791+1,1)","v":30}]
[44852,55,25,{"$f":"AVERAGE(CGITempAct[[#This Row],[CGIHigh]:[CGILow]]\n)","v":40},{"$f":"IF(CGITempAct[[#This Row],[CGIAve]]<65,(65-CGITempAct[[#This Row],[CGIAve]]),0)","v":25},{"$f":"SUMPRODUCT((RankNHDD[Month]=CGITempAct[[#This Row],[Month]])*(RankNHDD[Rank]=CGITempAct[[#This Row],[Rank]])*RankNHDD[CGINHDD])","v":24.5},{"$f":"YEAR(CGITempAct[[#This Row],[Date]])","v":2022},{"$f":"MONTH(CGITempAct[[#This Row],[Date]])","v":10},{"$f":"IF(CGITempAct[[#This Row],[Month]]=H792,I792+1,1)","v":1}]
[44853,59,24,{"$f":"AVERAGE(CGITempAct[[#This Row],[CGIHigh]:[CGILow]]\n)","v":41.5},{"$f":"IF(CGITempAct[[#This Row],[CGIAve]]<65,(65-CGITempAct[[#This Row],[CGIAve]]),0)","v":23.5},{"$f":"SUMPRODUCT((RankNHDD[Month]=CGITempAct[[#This Row],[Month]])*(RankNHDD[Rank]=CGITempAct[[#This Row],[Rank]])*RankNHDD[CGINHDD])","v":20.6},{"$f":"YEAR(CGITempAct[[#This Row],[Date]])","v":2022},{"$f":"MONTH(CGITempAct[[#This Row],[Date]])","v":10},{"$f":"IF(CGITempAct[[#This Row],[Month]]=H793,I793+1,1)","v":2}]
[44851,55,29,{"$f":"AVERAGE(CGITempAct[[#This Row],[CGIHigh]:[CGILow]]\n)","v":42},{"$f":"IF(CGITempAct[[#This Row],[CGIAve]]<65,(65-CGITempAct[[#This Row],[CGIAve]]),0)","v":23},{"$f":"SUMPRODUCT((RankNHDD[Month]=CGITempAct[[#This Row],[Month]])*(RankNHDD[Rank]=CGITempAct[[#This Row],[Rank]])*RankNHDD[CGINHDD])","v":19.3},{"$f":"YEAR(CGITempAct[[#This Row],[Date]])","v":2022},{"$f":"MONTH(CGITempAct[[#This Row],[Date]])","v":10},{"$f":"IF(CGITempAct[[#This Row],[Month]]=H794,I794+1,1)","v":3}]
[44854,70,22,{"$f":"AVERAGE(CGITempAct[[#This Row],[CGIHigh]:[CGILow]]\n)","v":46},{"$f":"IF(CGITempAct[[#This Row],[CGIAve]]<65,(65-CGITempAct[[#This Row],[CGIAve]]),0)","v":19},{"$f":"SUMPRODUCT((RankNHDD[Month]=CGITempAct[[#This Row],[Month]])*(RankNHDD[Rank]=CGITempAct[[#This Row],[Rank]])*RankNHDD[CGINHDD])","v":18},{"$f":"YEAR(CGITempAct[[#This Row],[Date]])","v":2022},{"$f":"MONTH(CGITempAct[[#This Row],[Date]])","v":10},{"$f":"IF(CGITempAct[[#This Row],[Month]]=H795,I795+1,1)","v":4}]
[44861,68,30,{"$f":"AVERAGE(CGITempAct[[#This Row],[CGIHigh]:[CGILow]]\n)","v":49},{"$f":"IF(CGITempAct[[#This Row],[CGIAve]]<65,(65-CGITempAct[[#This Row],[CGIAve]]),0)","v":16},{"$f":"SUMPRODUCT((RankNHDD[Month]=CGITempAct[[#This Row],[Month]])*(RankNHDD[Rank]=CGITempAct[[#This Row],[Rank]])*RankNHDD[CGINHDD])","v":17},{"$f":"YEAR(CGITempAct[[#This Row],[Date]])","v":2022},{"$f":"MONTH(CGITempAct[[#This Row],[Date]])","v":10},{"$f":"IF(CGITempAct[[#This Row],[Month]]=H796,I796+1,1)","v":5}]
[44842,66,34,{"$f":"AVERAGE(CGITempAct[[#This Row],[CGIHigh]:[CGILow]]\n)","v":50},{"$f":"IF(CGITempAct[[#This Row],[CGIAve]]<65,(65-CGITempAct[[#This Row],[CGIAve]]),0)","v":15},{"$f":"SUMPRODUCT((RankNHDD[Month]=CGITempAct[[#This Row],[Month]])*(RankNHDD[Rank]=CGITempAct[[#This Row],[Rank]])*RankNHDD[CGINHDD])","v":16},{"$f":"YEAR(CGITempAct[[#This Row],[Date]])","v":2022},{"$f":"MONTH(CGITempAct[[#This Row],[Date]])","v":10},{"$f":"IF(CGITempAct[[#This Row],[Month]]=H797,I797+1,1)","v":6}]
[44862,70,33,{"$f":"AVERAGE(CGITempAct[[#This Row],[CGIHigh]:[CGILow]]\n)","v":51.5},{"$f":"IF(CGITempAct[[#This Row],[CGIAve]]<65,(65-CGITempAct[[#This Row],[CGIAve]]),0)","v":13.5},{"$f":"SUMPRODUCT((RankNHDD[Month]=CGITempAct[[#This Row],[Month]])*(RankNHDD[Rank]=CGITempAct[[#This Row],[Rank]])*RankNHDD[CGINHDD])","v":15.2},{"$f":"YEAR(CGITempAct[[#This Row],[Date]])","v":2022},{"$f":"MONTH(CGITempAct[[#This Row],[Date]])","v":10},{"$f":"IF(CGITempAct[[#This Row],[Month]]=H798,I798+1,1)","v":7}]
[44843,74,31,{"$f":"AVERAGE(CGITempAct[[#This Row],[CGIHigh]:[CGILow]]\n)","v":52.5},{"$f":"IF(CGITempAct[[#This Row],[CGIAve]]<65,(65-CGITempAct[[#This Row],[CGIAve]]),0)","v":12.5},{"$f":"SUMPRODUCT((RankNHDD[Month]=CGITempAct[[#This Row],[Month]])*(RankNHDD[Rank]=CGITempAct[[#This Row],[Rank]])*RankNHDD[CGINHDD])","v":14},{"$f":"YEAR(CGITempAct[[#This Row],[Date]])","v":2022},{"$f":"MONTH(CGITempAct[[#This Row],[Date]])","v":10},{"$f":"IF(CGITempAct[[#This Row],[Month]]=H799,I799+1,1)","v":8}]
[44860,65,40,{"$f":"AVERAGE(CGITempAct[[#This Row],[CGIHigh]:[CGILow]]\n)","v":52.5},{"$f":"IF(CGITempAct[[#This Row],[CGIAve]]<65,(65-CGITempAct[[#This Row],[CGIAve]]),0)","v":12.5},{"$f":"SUMPRODUCT((RankNHDD[Month]=CGITempAct[[#This Row],[Month]])*(RankNHDD[Rank]=CGITempAct[[#This Row],[Rank]])*RankNHDD[CGINHDD])","v":13},{"$f":"YEAR(CGITempAct[[#This Row],[Date]])","v":2022},{"$f":"MONTH(CGITempAct[[#This Row],[Date]])","v":10},{"$f":"IF(CGITempAct[[#This Row],[Month]]=H800,I800+1,1)","v":9}]
[44847,72,36,{"$f":"AVERAGE(CGITempAct[[#This Row],[CGIHigh]:[CGILow]]\n)","v":54},{"$f":"IF(CGITempAct[[#This Row],[CGIAve]]<65,(65-CGITempAct[[#This Row],[CGIAve]]),0)","v":11},{"$f":"SUMPRODUCT((RankNHDD[Month]=CGITempAct[[#This Row],[Month]])*(RankNHDD[Rank]=CGITempAct[[#This Row],[Rank]])*RankNHDD[CGINHDD])","v":12.2},{"$f":"YEAR(CGITempAct[[#This Row],[Date]])","v":2022},{"$f":"MONTH(CGITempAct[[#This Row],[Date]])","v":10},{"$f":"IF(CGITempAct[[#This Row],[Month]]=H801,I801+1,1)","v":10}]
[44848,78,30,{"$f":"AVERAGE(CGITempAct[[#This Row],[CGIHigh]:[CGILow]]\n)","v":54},{"$f":"IF(CGITempAct[[#This Row],[CGIAve]]<65,(65-CGITempAct[[#This Row],[CGIAve]]),0)","v":11},{"$f":"SUMPRODUCT((RankNHDD[Month]=CGITempAct[[#This Row],[Month]])*(RankNHDD[Rank]=CGITempAct[[#This Row],[Rank]])*RankNHDD[CGINHDD])","v":11.3},{"$f":"YEAR(CGITempAct[[#This Row],[Date]])","v":2022},{"$f":"MONTH(CGITempAct[[#This Row],[Date]])","v":10},{"$f":"IF(CGITempAct[[#This Row],[Month]]=H802,I802+1,1)","v":11}]
[44838,79,35,{"$f":"AVERAGE(CGITempAct[[#This Row],[CGIHigh]:[CGILow]]\n)","v":57},{"$f":"IF(CGITempAct[[#This Row],[CGIAve]]<65,(65-CGITempAct[[#This Row],[CGIAve]]),0)","v":8},{"$f":"SUMPRODUCT((RankNHDD[Month]=CGITempAct[[#This Row],[Month]])*(RankNHDD[Rank]=CGITempAct[[#This Row],[Rank]])*RankNHDD[CGINHDD])","v":10.6},{"$f":"YEAR(CGITempAct[[#This Row],[Date]])","v":2022},{"$f":"MONTH(CGITempAct[[#This Row],[Date]])","v":10},{"$f":"IF(CGITempAct[[#This Row],[Month]]=H803,I803+1,1)","v":12}]
[44839,80,34,{"$f":"AVERAGE(CGITempAct[[#This Row],[CGIHigh]:[CGILow]]\n)","v":57},{"$f":"IF(CGITempAct[[#This Row],[CGIAve]]<65,(65-CGITempAct[[#This Row],[CGIAve]]),0)","v":8},{"$f":"SUMPRODUCT((RankNHDD[Month]=CGITempAct[[#This Row],[Month]])*(RankNHDD[Rank]=CGITempAct[[#This Row],[Rank]])*RankNHDD[CGINHDD])","v":9.6999999999999993},{"$f":"YEAR(CGITempAct[[#This Row],[Date]])","v":2022},{"$f":"MONTH(CGITempAct[[#This Row],[Date]])","v":10},{"$f":"IF(CGITempAct[[#This Row],[Month]]=H804,I804+1,1)","v":13}]
[44835,78,38,{"$f":"AVERAGE(CGITempAct[[#This Row],[CGIHigh]:[CGILow]]\n)","v":58},{"$f":"IF(CGITempAct[[#This Row],[CGIAve]]<65,(65-CGITempAct[[#This Row],[CGIAve]]),0)","v":7},{"$f":"SUMPRODUCT((RankNHDD[Month]=CGITempAct[[#This Row],[Month]])*(RankNHDD[Rank]=CGITempAct[[#This Row],[Rank]])*RankNHDD[CGINHDD])","v":8.9},{"$f":"YEAR(CGITempAct[[#This Row],[Date]])","v":2022},{"$f":"MONTH(CGITempAct[[#This Row],[Date]])","v":10},{"$f":"IF(CGITempAct[[#This Row],[Month]]=H805,I805+1,1)","v":14}]
[44850,73,43,{"$f":"AVERAGE(CGITempAct[[#This Row],[CGIHigh]:[CGILow]]\n)","v":58},{"$f":"IF(CGITempAct[[#This Row],[CGIAve]]<65,(65-CGITempAct[[#This Row],[CGIAve]]),0)","v":7},{"$f":"SUMPRODUCT((RankNHDD[Month]=CGITempAct[[#This Row],[Month]])*(RankNHDD[Rank]=CGITempAct[[#This Row],[Rank]])*RankNHDD[CGINHDD])","v":8.3000000000000007},{"$f":"YEAR(CGITempAct[[#This Row],[Date]])","v":2022},{"$f":"MONTH(CGITempAct[[#This Row],[Date]])","v":10},{"$f":"IF(CGITempAct[[#This Row],[Month]]=H806,I806+1,1)","v":15}]
[44865,67,49,{"$f":"AVERAGE(CGITempAct[[#This Row],[CGIHigh]:[CGILow]]\n)","v":58},{"$f":"IF(CGITempAct[[#This Row],[CGIAve]]<65,(65-CGITempAct[[#This Row],[CGIAve]]),0)","v":7},{"$f":"SUMPRODUCT((RankNHDD[Month]=CGITempAct[[#This Row],[Month]])*(RankNHDD[Rank]=CGITempAct[[#This Row],[Rank]])*RankNHDD[CGINHDD])","v":7.7},{"$f":"YEAR(CGITempAct[[#This Row],[Date]])","v":2022},{"$f":"MONTH(CGITempAct[[#This Row],[Date]])","v":10},{"$f":"IF(CGITempAct[[#This Row],[Month]]=H807,I807+1,1)","v":16}]
[44837,77,41,{"$f":"AVERAGE(CGITempAct[[#This Row],[CGIHigh]:[CGILow]]\n)","v":59},{"$f":"IF(CGITempAct[[#This Row],[CGIAve]]<65,(65-CGITempAct[[#This Row],[CGIAve]]),0)","v":6},{"$f":"SUMPRODUCT((RankNHDD[Month]=CGITempAct[[#This Row],[Month]])*(RankNHDD[Rank]=CGITempAct[[#This Row],[Rank]])*RankNHDD[CGINHDD])","v":6.9},{"$f":"YEAR(CGITempAct[[#This Row],[Date]])","v":2022},{"$f":"MONTH(CGITempAct[[#This Row],[Date]])","v":10},{"$f":"IF(CGITempAct[[#This Row],[Month]]=H808,I808+1,1)","v":17}]
[44859,72,46,{"$f":"AVERAGE(CGITempAct[[#This Row],[CGIHigh]:[CGILow]]\n)","v":59},{"$f":"IF(CGITempAct[[#This Row],[CGIAve]]<65,(65-CGITempAct[[#This Row],[CGIAve]]),0)","v":6},{"$f":"SUMPRODUCT((RankNHDD[Month]=CGITempAct[[#This Row],[Month]])*(RankNHDD[Rank]=CGITempAct[[#This Row],[Rank]])*RankNHDD[CGINHDD])","v":5.9},{"$f":"YEAR(CGITempAct[[#This Row],[Date]])","v":2022},{"$f":"MONTH(CGITempAct[[#This Row],[Date]])","v":10},{"$f":"IF(CGITempAct[[#This Row],[Month]]=H809,I809+1,1)","v":18}]
[44863,76,42,{"$f":"AVERAGE(CGITempAct[[#This Row],[CGIHigh]:[CGILow]]\n)","v":59},{"$f":"IF(CGITempAct[[#This Row],[CGIAve]]<65,(65-CGITempAct[[#This Row],[CGIAve]]),0)","v":6},{"$f":"SUMPRODUCT((RankNHDD[Month]=CGITempAct[[#This Row],[Month]])*(RankNHDD[Rank]=CGITempAct[[#This Row],[Rank]])*RankNHDD[CGINHDD])","v":5.0999999999999996},{"$f":"YEAR(CGITempAct[[#This Row],[Date]])","v":2022},{"$f":"MONTH(CGITempAct[[#This Row],[Date]])","v":10},{"$f":"IF(CGITempAct[[#This Row],[Month]]=H810,I810+1,1)","v":19}]
[44855,79,41,{"$f":"AVERAGE(CGITempAct[[#This Row],[CGIHigh]:[CGILow]]\n)","v":60},{"$f":"IF(CGITempAct[[#This Row],[CGIAve]]<65,(65-CGITempAct[[#This Row],[CGIAve]]),0)","v":5},{"$f":"SUMPRODUCT((RankNHDD[Month]=CGITempAct[[#This Row],[Month]])*(RankNHDD[Rank]=CGITempAct[[#This Row],[Rank]])*RankNHDD[CGINHDD])","v":4.3},{"$f":"YEAR(CGITempAct[[#This Row],[Date]])","v":2022},{"$f":"MONTH(CGITempAct[[#This Row],[Date]])","v":10},{"$f":"IF(CGITempAct[[#This Row],[Month]]=H811,I811+1,1)","v":20}]
[44841,72,49,{"$f":"AVERAGE(CGITempAct[[#This Row],[CGIHigh]:[CGILow]]\n)","v":60.5},{"$f":"IF(CGITempAct[[#This Row],[CGIAve]]<65,(65-CGITempAct[[#This Row],[CGIAve]]),0)","v":4.5},{"$f":"SUMPRODUCT((RankNHDD[Month]=CGITempAct[[#This Row],[Month]])*(RankNHDD[Rank]=CGITempAct[[#This Row],[Rank]])*RankNHDD[CGINHDD])","v":3.4},{"$f":"YEAR(CGITempAct[[#This Row],[Date]])","v":2022},{"$f":"MONTH(CGITempAct[[#This Row],[Date]])","v":10},{"$f":"IF(CGITempAct[[#This Row],[Month]]=H812,I812+1,1)","v":21}]
[44849,72,49,{"$f":"AVERAGE(CGITempAct[[#This Row],[CGIHigh]:[CGILow]]\n)","v":60.5},{"$f":"IF(CGITempAct[[#This Row],[CGIAve]]<65,(65-CGITempAct[[#This Row],[CGIAve]]),0)","v":4.5},{"$f":"SUMPRODUCT((RankNHDD[Month]=CGITempAct[[#This Row],[Month]])*(RankNHDD[Rank]=CGITempAct[[#This Row],[Rank]])*RankNHDD[CGINHDD])","v":2.5},{"$f":"YEAR(CGITempAct[[#This Row],[Date]])","v":2022},{"$f":"MONTH(CGITempAct[[#This Row],[Date]])","v":10},{"$f":"IF(CGITempAct[[#This Row],[Month]]=H813,I813+1,1)","v":22}]
[44844,82,41,{"$f":"AVERAGE(CGITempAct[[#This Row],[CGIHigh]:[CGILow]]\n)","v":61.5},{"$f":"IF(CGITempAct[[#This Row],[CGIAve]]<65,(65-CGITempAct[[#This Row],[CGIAve]]),0)","v":3.5},{"$f":"SUMPRODUCT((RankNHDD[Month]=CGITempAct[[#This Row],[Month]])*(RankNHDD[Rank]=CGITempAct[[#This Row],[Rank]])*RankNHDD[CGINHDD])","v":1.6},{"$f":"YEAR(CGITempAct[[#This Row],[Date]])","v":2022},{"$f":"MONTH(CGITempAct[[#This Row],[Date]])","v":10},{"$f":"IF(CGITempAct[[#This Row],[Month]]=H814,I814+1,1)","v":23}]
[44846,74,49,{"$f":"AVERAGE(CGITempAct[[#This Row],[CGIHigh]:[CGILow]]\n)","v":61.5},{"$f":"IF(CGITempAct[[#This Row],[CGIAve]]<65,(65-CGITempAct[[#This Row],[CGIAve]]),0)","v":3.5},{"$f":"SUMPRODUCT((RankNHDD[Month]=CGITempAct[[#This Row],[Month]])*(RankNHDD[Rank]=CGITempAct[[#This Row],[Rank]])*RankNHDD[CGINHDD])","v":0.7},{"$f":"YEAR(CGITempAct[[#This Row],[Date]])","v":2022},{"$f":"MONTH(CGITempAct[[#This Row],[Date]])","v":10},{"$f":"IF(CGITempAct[[#This Row],[Month]]=H815,I815+1,1)","v":24}]
[44836,82,42,{"$f":"AVERAGE(CGITempAct[[#This Row],[CGIHigh]:[CGILow]]\n)","v":62},{"$f":"IF(CGITempAct[[#This Row],[CGIAve]]<65,(65-CGITempAct[[#This Row],[CGIAve]]),0)","v":3},{"$f":"SUMPRODUCT((RankNHDD[Month]=CGITempAct[[#This Row],[Month]])*(RankNHDD[Rank]=CGITempAct[[#This Row],[Rank]])*RankNHDD[CGINHDD])","v":0},{"$f":"YEAR(CGITempAct[[#This Row],[Date]])","v":2022},{"$f":"MONTH(CGITempAct[[#This Row],[Date]])","v":10},{"$f":"IF(CGITempAct[[#This Row],[Month]]=H816,I816+1,1)","v":25}]
[44840,83,47,{"$f":"AVERAGE(CGITempAct[[#This Row],[CGIHigh]:[CGILow]]\n)","v":65},{"$f":"IF(CGITempAct[[#This Row],[CGIAve]]<65,(65-CGITempAct[[#This Row],[CGIAve]]),0)","v":0},{"$f":"SUMPRODUCT((RankNHDD[Month]=CGITempAct[[#This Row],[Month]])*(RankNHDD[Rank]=CGITempAct[[#This Row],[Rank]])*RankNHDD[CGINHDD])","v":0},{"$f":"YEAR(CGITempAct[[#This Row],[Date]])","v":2022},{"$f":"MONTH(CGITempAct[[#This Row],[Date]])","v":10},{"$f":"IF(CGITempAct[[#This Row],[Month]]=H817,I817+1,1)","v":26}]
[44864,73,57,{"$f":"AVERAGE(CGITempAct[[#This Row],[CGIHigh]:[CGILow]]\n)","v":65},{"$f":"IF(CGITempAct[[#This Row],[CGIAve]]<65,(65-CGITempAct[[#This Row],[CGIAve]]),0)","v":0},{"$f":"SUMPRODUCT((RankNHDD[Month]=CGITempAct[[#This Row],[Month]])*(RankNHDD[Rank]=CGITempAct[[#This Row],[Rank]])*RankNHDD[CGINHDD])","v":0},{"$f":"YEAR(CGITempAct[[#This Row],[Date]])","v":2022},{"$f":"MONTH(CGITempAct[[#This Row],[Date]])","v":10},{"$f":"IF(CGITempAct[[#This Row],[Month]]=H818,I818+1,1)","v":27}]
[44856,78,59,{"$f":"AVERAGE(CGITempAct[[#This Row],[CGIHigh]:[CGILow]]\n)","v":68.5},{"$f":"IF(CGITempAct[[#This Row],[CGIAve]]<65,(65-CGITempAct[[#This Row],[CGIAve]]),0)","v":0},{"$f":"SUMPRODUCT((RankNHDD[Month]=CGITempAct[[#This Row],[Month]])*(RankNHDD[Rank]=CGITempAct[[#This Row],[Rank]])*RankNHDD[CGINHDD])","v":0},{"$f":"YEAR(CGITempAct[[#This Row],[Date]])","v":2022},{"$f":"MONTH(CGITempAct[[#This Row],[Date]])","v":10},{"$f":"IF(CGITempAct[[#This Row],[Month]]=H819,I819+1,1)","v":28}]
[44845,83,57,{"$f":"AVERAGE(CGITempAct[[#This Row],[CGIHigh]:[CGILow]]\n)","v":70},{"$f":"IF(CGITempAct[[#This Row],[CGIAve]]<65,(65-CGITempAct[[#This Row],[CGIAve]]),0)","v":0},{"$f":"SUMPRODUCT((RankNHDD[Month]=CGITempAct[[#This Row],[Month]])*(RankNHDD[Rank]=CGITempAct[[#This Row],[Rank]])*RankNHDD[CGINHDD])","v":0},{"$f":"YEAR(CGITempAct[[#This Row],[Date]])","v":2022},{"$f":"MONTH(CGITempAct[[#This Row],[Date]])","v":10},{"$f":"IF(CGITempAct[[#This Row],[Month]]=H820,I820+1,1)","v":29}]
[44858,80,63,{"$f":"AVERAGE(CGITempAct[[#This Row],[CGIHigh]:[CGILow]]\n)","v":71.5},{"$f":"IF(CGITempAct[[#This Row],[CGIAve]]<65,(65-CGITempAct[[#This Row],[CGIAve]]),0)","v":0},{"$f":"SUMPRODUCT((RankNHDD[Month]=CGITempAct[[#This Row],[Month]])*(RankNHDD[Rank]=CGITempAct[[#This Row],[Rank]])*RankNHDD[CGINHDD])","v":0},{"$f":"YEAR(CGITempAct[[#This Row],[Date]])","v":2022},{"$f":"MONTH(CGITempAct[[#This Row],[Date]])","v":10},{"$f":"IF(CGITempAct[[#This Row],[Month]]=H821,I821+1,1)","v":30}]
[44857,82,64,{"$f":"AVERAGE(CGITempAct[[#This Row],[CGIHigh]:[CGILow]]\n)","v":73},{"$f":"IF(CGITempAct[[#This Row],[CGIAve]]<65,(65-CGITempAct[[#This Row],[CGIAve]]),0)","v":0},{"$f":"SUMPRODUCT((RankNHDD[Month]=CGITempAct[[#This Row],[Month]])*(RankNHDD[Rank]=CGITempAct[[#This Row],[Rank]])*RankNHDD[CGINHDD])","v":0},{"$f":"YEAR(CGITempAct[[#This Row],[Date]])","v":2022},{"$f":"MONTH(CGITempAct[[#This Row],[Date]])","v":10},{"$f":"IF(CGITempAct[[#This Row],[Month]]=H822,I822+1,1)","v":31}]
[44884,43,13,{"$f":"AVERAGE(CGITempAct[[#This Row],[CGIHigh]:[CGILow]]\n)","v":28},{"$f":"IF(CGITempAct[[#This Row],[CGIAve]]<65,(65-CGITempAct[[#This Row],[CGIAve]]),0)","v":37},{"$f":"SUMPRODUCT((RankNHDD[Month]=CGITempAct[[#This Row],[Month]])*(RankNHDD[Rank]=CGITempAct[[#This Row],[Rank]])*RankNHDD[CGINHDD])","v":37.9},{"$f":"YEAR(CGITempAct[[#This Row],[Date]])","v":2022},{"$f":"MONTH(CGITempAct[[#This Row],[Date]])","v":11},{"$f":"IF(CGITempAct[[#This Row],[Month]]=H823,I823+1,1)","v":1}]
[44885,41,15,{"$f":"AVERAGE(CGITempAct[[#This Row],[CGIHigh]:[CGILow]]\n)","v":28},{"$f":"IF(CGITempAct[[#This Row],[CGIAve]]<65,(65-CGITempAct[[#This Row],[CGIAve]]),0)","v":37},{"$f":"SUMPRODUCT((RankNHDD[Month]=CGITempAct[[#This Row],[Month]])*(RankNHDD[Rank]=CGITempAct[[#This Row],[Rank]])*RankNHDD[CGINHDD])","v":33.200000000000003},{"$f":"YEAR(CGITempAct[[#This Row],[Date]])","v":2022},{"$f":"MONTH(CGITempAct[[#This Row],[Date]])","v":11},{"$f":"IF(CGITempAct[[#This Row],[Month]]=H824,I824+1,1)","v":2}]
[44883,40,21,{"$f":"AVERAGE(CGITempAct[[#This Row],[CGIHigh]:[CGILow]]\n)","v":30.5},{"$f":"IF(CGITempAct[[#This Row],[CGIAve]]<65,(65-CGITempAct[[#This Row],[CGIAve]]),0)","v":34.5},{"$f":"SUMPRODUCT((RankNHDD[Month]=CGITempAct[[#This Row],[Month]])*(RankNHDD[Rank]=CGITempAct[[#This Row],[Rank]])*RankNHDD[CGINHDD])","v":31.1},{"$f":"YEAR(CGITempAct[[#This Row],[Date]])","v":2022},{"$f":"MONTH(CGITempAct[[#This Row],[Date]])","v":11},{"$f":"IF(CGITempAct[[#This Row],[Month]]=H825,I825+1,1)","v":3}]
[44882,43,20,{"$f":"AVERAGE(CGITempAct[[#This Row],[CGIHigh]:[CGILow]]\n)","v":31.5},{"$f":"IF(CGITempAct[[#This Row],[CGIAve]]<65,(65-CGITempAct[[#This Row],[CGIAve]]),0)","v":33.5},{"$f":"SUMPRODUCT((RankNHDD[Month]=CGITempAct[[#This Row],[Month]])*(RankNHDD[Rank]=CGITempAct[[#This Row],[Rank]])*RankNHDD[CGINHDD])","v":29.5},{"$f":"YEAR(CGITempAct[[#This Row],[Date]])","v":2022},{"$f":"MONTH(CGITempAct[[#This Row],[Date]])","v":11},{"$f":"IF(CGITempAct[[#This Row],[Month]]=H826,I826+1,1)","v":4}]
[44878,43,22,{"$f":"AVERAGE(CGITempAct[[#This Row],[CGIHigh]:[CGILow]]\n)","v":32.5},{"$f":"IF(CGITempAct[[#This Row],[CGIAve]]<65,(65-CGITempAct[[#This Row],[CGIAve]]),0)","v":32.5},{"$f":"SUMPRODUCT((RankNHDD[Month]=CGITempAct[[#This Row],[Month]])*(RankNHDD[Rank]=CGITempAct[[#This Row],[Rank]])*RankNHDD[CGINHDD])","v":28.1},{"$f":"YEAR(CGITempAct[[#This Row],[Date]])","v":2022},{"$f":"MONTH(CGITempAct[[#This Row],[Date]])","v":11},{"$f":"IF(CGITempAct[[#This Row],[Month]]=H827,I827+1,1)","v":5}]
[44881,42,23,{"$f":"AVERAGE(CGITempAct[[#This Row],[CGIHigh]:[CGILow]]\n)","v":32.5},{"$f":"IF(CGITempAct[[#This Row],[CGIAve]]<65,(65-CGITempAct[[#This Row],[CGIAve]]),0)","v":32.5},{"$f":"SUMPRODUCT((RankNHDD[Month]=CGITempAct[[#This Row],[Month]])*(RankNHDD[Rank]=CGITempAct[[#This Row],[Rank]])*RankNHDD[CGINHDD])","v":27.1},{"$f":"YEAR(CGITempAct[[#This Row],[Date]])","v":2022},{"$f":"MONTH(CGITempAct[[#This Row],[Date]])","v":11},{"$f":"IF(CGITempAct[[#This Row],[Month]]=H828,I828+1,1)","v":6}]
[44877,36,30,{"$f":"AVERAGE(CGITempAct[[#This Row],[CGIHigh]:[CGILow]]\n)","v":33},{"$f":"IF(CGITempAct[[#This Row],[CGIAve]]<65,(65-CGITempAct[[#This Row],[CGIAve]]),0)","v":32},{"$f":"SUMPRODUCT((RankNHDD[Month]=CGITempAct[[#This Row],[Month]])*(RankNHDD[Rank]=CGITempAct[[#This Row],[Rank]])*RankNHDD[CGINHDD])","v":26.1},{"$f":"YEAR(CGITempAct[[#This Row],[Date]])","v":2022},{"$f":"MONTH(CGITempAct[[#This Row],[Date]])","v":11},{"$f":"IF(CGITempAct[[#This Row],[Month]]=H829,I829+1,1)","v":7}]
[44879,47,20,{"$f":"AVERAGE(CGITempAct[[#This Row],[CGIHigh]:[CGILow]]\n)","v":33.5},{"$f":"IF(CGITempAct[[#This Row],[CGIAve]]<65,(65-CGITempAct[[#This Row],[CGIAve]]),0)","v":31.5},{"$f":"SUMPRODUCT((RankNHDD[Month]=CGITempAct[[#This Row],[Month]])*(RankNHDD[Rank]=CGITempAct[[#This Row],[Rank]])*RankNHDD[CGINHDD])","v":24.9},{"$f":"YEAR(CGITempAct[[#This Row],[Date]])","v":2022},{"$f":"MONTH(CGITempAct[[#This Row],[Date]])","v":11},{"$f":"IF(CGITempAct[[#This Row],[Month]]=H830,I830+1,1)","v":8}]
[44886,51,16,{"$f":"AVERAGE(CGITempAct[[#This Row],[CGIHigh]:[CGILow]]\n)","v":33.5},{"$f":"IF(CGITempAct[[#This Row],[CGIAve]]<65,(65-CGITempAct[[#This Row],[CGIAve]]),0)","v":31.5},{"$f":"SUMPRODUCT((RankNHDD[Month]=CGITempAct[[#This Row],[Month]])*(RankNHDD[Rank]=CGITempAct[[#This Row],[Rank]])*RankNHDD[CGINHDD])","v":24.1},{"$f":"YEAR(CGITempAct[[#This Row],[Date]])","v":2022},{"$f":"MONTH(CGITempAct[[#This Row],[Date]])","v":11},{"$f":"IF(CGITempAct[[#This Row],[Month]]=H831,I831+1,1)","v":9}]
[44895,45,25,{"$f":"AVERAGE(CGITempAct[[#This Row],[CGIHigh]:[CGILow]]\n)","v":35},{"$f":"IF(CGITempAct[[#This Row],[CGIAve]]<65,(65-CGITempAct[[#This Row],[CGIAve]]),0)","v":30},{"$f":"SUMPRODUCT((RankNHDD[Month]=CGITempAct[[#This Row],[Month]])*(RankNHDD[Rank]=CGITempAct[[#This Row],[Rank]])*RankNHDD[CGINHDD])","v":23.1},{"$f":"YEAR(CGITempAct[[#This Row],[Date]])","v":2022},{"$f":"MONTH(CGITempAct[[#This Row],[Date]])","v":11},{"$f":"IF(CGITempAct[[#This Row],[Month]]=H832,I832+1,1)","v":10}]
[44880,45,35,{"$f":"AVERAGE(CGITempAct[[#This Row],[CGIHigh]:[CGILow]]\n)","v":40},{"$f":"IF(CGITempAct[[#This Row],[CGIAve]]<65,(65-CGITempAct[[#This Row],[CGIAve]]),0)","v":25},{"$f":"SUMPRODUCT((RankNHDD[Month]=CGITempAct[[#This Row],[Month]])*(RankNHDD[Rank]=CGITempAct[[#This Row],[Rank]])*RankNHDD[CGINHDD])","v":22.4},{"$f":"YEAR(CGITempAct[[#This Row],[Date]])","v":2022},{"$f":"MONTH(CGITempAct[[#This Row],[Date]])","v":11},{"$f":"IF(CGITempAct[[#This Row],[Month]]=H833,I833+1,1)","v":11}]
[44887,59,22,{"$f":"AVERAGE(CGITempAct[[#This Row],[CGIHigh]:[CGILow]]\n)","v":40.5},{"$f":"IF(CGITempAct[[#This Row],[CGIAve]]<65,(65-CGITempAct[[#This Row],[CGIAve]]),0)","v":24.5},{"$f":"SUMPRODUCT((RankNHDD[Month]=CGITempAct[[#This Row],[Month]])*(RankNHDD[Rank]=CGITempAct[[#This Row],[Rank]])*RankNHDD[CGINHDD])","v":21.7},{"$f":"YEAR(CGITempAct[[#This Row],[Date]])","v":2022},{"$f":"MONTH(CGITempAct[[#This Row],[Date]])","v":11},{"$f":"IF(CGITempAct[[#This Row],[Month]]=H834,I834+1,1)","v":12}]
[44890,54,31,{"$f":"AVERAGE(CGITempAct[[#This Row],[CGIHigh]:[CGILow]]\n)","v":42.5},{"$f":"IF(CGITempAct[[#This Row],[CGIAve]]<65,(65-CGITempAct[[#This Row],[CGIAve]]),0)","v":22.5},{"$f":"SUMPRODUCT((RankNHDD[Month]=CGITempAct[[#This Row],[Month]])*(RankNHDD[Rank]=CGITempAct[[#This Row],[Rank]])*RankNHDD[CGINHDD])","v":20.8},{"$f":"YEAR(CGITempAct[[#This Row],[Date]])","v":2022},{"$f":"MONTH(CGITempAct[[#This Row],[Date]])","v":11},{"$f":"IF(CGITempAct[[#This Row],[Month]]=H835,I835+1,1)","v":13}]
[44891,56,30,{"$f":"AVERAGE(CGITempAct[[#This Row],[CGIHigh]:[CGILow]]\n)","v":43},{"$f":"IF(CGITempAct[[#This Row],[CGIAve]]<65,(65-CGITempAct[[#This Row],[CGIAve]]),0)","v":22},{"$f":"SUMPRODUCT((RankNHDD[Month]=CGITempAct[[#This Row],[Month]])*(RankNHDD[Rank]=CGITempAct[[#This Row],[Rank]])*RankNHDD[CGINHDD])","v":19.8},{"$f":"YEAR(CGITempAct[[#This Row],[Date]])","v":2022},{"$f":"MONTH(CGITempAct[[#This Row],[Date]])","v":11},{"$f":"IF(CGITempAct[[#This Row],[Month]]=H836,I836+1,1)","v":14}]
[44888,62,25,{"$f":"AVERAGE(CGITempAct[[#This Row],[CGIHigh]:[CGILow]]\n)","v":43.5},{"$f":"IF(CGITempAct[[#This Row],[CGIAve]]<65,(65-CGITempAct[[#This Row],[CGIAve]]),0)","v":21.5},{"$f":"SUMPRODUCT((RankNHDD[Month]=CGITempAct[[#This Row],[Month]])*(RankNHDD[Rank]=CGITempAct[[#This Row],[Rank]])*RankNHDD[CGINHDD])","v":18.8},{"$f":"YEAR(CGITempAct[[#This Row],[Date]])","v":2022},{"$f":"MONTH(CGITempAct[[#This Row],[Date]])","v":11},{"$f":"IF(CGITempAct[[#This Row],[Month]]=H837,I837+1,1)","v":15}]
[44893,50,37,{"$f":"AVERAGE(CGITempAct[[#This Row],[CGIHigh]:[CGILow]]\n)","v":43.5},{"$f":"IF(CGITempAct[[#This Row],[CGIAve]]<65,(65-CGITempAct[[#This Row],[CGIAve]]),0)","v":21.5},{"$f":"SUMPRODUCT((RankNHDD[Month]=CGITempAct[[#This Row],[Month]])*(RankNHDD[Rank]=CGITempAct[[#This Row],[Rank]])*RankNHDD[CGINHDD])","v":17.899999999999999},{"$f":"YEAR(CGITempAct[[#This Row],[Date]])","v":2022},{"$f":"MONTH(CGITempAct[[#This Row],[Date]])","v":11},{"$f":"IF(CGITempAct[[#This Row],[Month]]=H838,I838+1,1)","v":16}]
[44876,55,36,{"$f":"AVERAGE(CGITempAct[[#This Row],[CGIHigh]:[CGILow]]\n)","v":45.5},{"$f":"IF(CGITempAct[[#This Row],[CGIAve]]<65,(65-CGITempAct[[#This Row],[CGIAve]]),0)","v":19.5},{"$f":"SUMPRODUCT((RankNHDD[Month]=CGITempAct[[#This Row],[Month]])*(RankNHDD[Rank]=CGITempAct[[#This Row],[Rank]])*RankNHDD[CGINHDD])","v":17.2},{"$f":"YEAR(CGITempAct[[#This Row],[Date]])","v":2022},{"$f":"MONTH(CGITempAct[[#This Row],[Date]])","v":11},{"$f":"IF(CGITempAct[[#This Row],[Month]]=H839,I839+1,1)","v":17}]
[44889,51,41,{"$f":"AVERAGE(CGITempAct[[#This Row],[CGIHigh]:[CGILow]]\n)","v":46},{"$f":"IF(CGITempAct[[#This Row],[CGIAve]]<65,(65-CGITempAct[[#This Row],[CGIAve]]),0)","v":19},{"$f":"SUMPRODUCT((RankNHDD[Month]=CGITempAct[[#This Row],[Month]])*(RankNHDD[Rank]=CGITempAct[[#This Row],[Rank]])*RankNHDD[CGINHDD])","v":16.3},{"$f":"YEAR(CGITempAct[[#This Row],[Date]])","v":2022},{"$f":"MONTH(CGITempAct[[#This Row],[Date]])","v":11},{"$f":"IF(CGITempAct[[#This Row],[Month]]=H840,I840+1,1)","v":18}]
[44892,62,38,{"$f":"AVERAGE(CGITempAct[[#This Row],[CGIHigh]:[CGILow]]\n)","v":50},{"$f":"IF(CGITempAct[[#This Row],[CGIAve]]<65,(65-CGITempAct[[#This Row],[CGIAve]]),0)","v":15},{"$f":"SUMPRODUCT((RankNHDD[Month]=CGITempAct[[#This Row],[Month]])*(RankNHDD[Rank]=CGITempAct[[#This Row],[Rank]])*RankNHDD[CGINHDD])","v":15.5},{"$f":"YEAR(CGITempAct[[#This Row],[Date]])","v":2022},{"$f":"MONTH(CGITempAct[[#This Row],[Date]])","v":11},{"$f":"IF(CGITempAct[[#This Row],[Month]]=H841,I841+1,1)","v":19}]
[44894,63,43,{"$f":"AVERAGE(CGITempAct[[#This Row],[CGIHigh]:[CGILow]]\n)","v":53},{"$f":"IF(CGITempAct[[#This Row],[CGIAve]]<65,(65-CGITempAct[[#This Row],[CGIAve]]),0)","v":12},{"$f":"SUMPRODUCT((RankNHDD[Month]=CGITempAct[[#This Row],[Month]])*(RankNHDD[Rank]=CGITempAct[[#This Row],[Rank]])*RankNHDD[CGINHDD])","v":14.7},{"$f":"YEAR(CGITempAct[[#This Row],[Date]])","v":2022},{"$f":"MONTH(CGITempAct[[#This Row],[Date]])","v":11},{"$f":"IF(CGITempAct[[#This Row],[Month]]=H842,I842+1,1)","v":20}]
[44872,65,44,{"$f":"AVERAGE(CGITempAct[[#This Row],[CGIHigh]:[CGILow]]\n)","v":54.5},{"$f":"IF(CGITempAct[[#This Row],[CGIAve]]<65,(65-CGITempAct[[#This Row],[CGIAve]]),0)","v":10.5},{"$f":"SUMPRODUCT((RankNHDD[Month]=CGITempAct[[#This Row],[Month]])*(RankNHDD[Rank]=CGITempAct[[#This Row],[Rank]])*RankNHDD[CGINHDD])","v":13.8},{"$f":"YEAR(CGITempAct[[#This Row],[Date]])","v":2022},{"$f":"MONTH(CGITempAct[[#This Row],[Date]])","v":11},{"$f":"IF(CGITempAct[[#This Row],[Month]]=H843,I843+1,1)","v":21}]
[44871,71,44,{"$f":"AVERAGE(CGITempAct[[#This Row],[CGIHigh]:[CGILow]]\n)","v":57.5},{"$f":"IF(CGITempAct[[#This Row],[CGIAve]]<65,(65-CGITempAct[[#This Row],[CGIAve]]),0)","v":7.5},{"$f":"SUMPRODUCT((RankNHDD[Month]=CGITempAct[[#This Row],[Month]])*(RankNHDD[Rank]=CGITempAct[[#This Row],[Rank]])*RankNHDD[CGINHDD])","v":12.6},{"$f":"YEAR(CGITempAct[[#This Row],[Date]])","v":2022},{"$f":"MONTH(CGITempAct[[#This Row],[Date]])","v":11},{"$f":"IF(CGITempAct[[#This Row],[Month]]=H844,I844+1,1)","v":22}]
[44873,65,51,{"$f":"AVERAGE(CGITempAct[[#This Row],[CGIHigh]:[CGILow]]\n)","v":58},{"$f":"IF(CGITempAct[[#This Row],[CGIAve]]<65,(65-CGITempAct[[#This Row],[CGIAve]]),0)","v":7},{"$f":"SUMPRODUCT((RankNHDD[Month]=CGITempAct[[#This Row],[Month]])*(RankNHDD[Rank]=CGITempAct[[#This Row],[Rank]])*RankNHDD[CGINHDD])","v":11.6},{"$f":"YEAR(CGITempAct[[#This Row],[Date]])","v":2022},{"$f":"MONTH(CGITempAct[[#This Row],[Date]])","v":11},{"$f":"IF(CGITempAct[[#This Row],[Month]]=H845,I845+1,1)","v":23}]
[44875,72,44,{"$f":"AVERAGE(CGITempAct[[#This Row],[CGIHigh]:[CGILow]]\n)","v":58},{"$f":"IF(CGITempAct[[#This Row],[CGIAve]]<65,(65-CGITempAct[[#This Row],[CGIAve]]),0)","v":7},{"$f":"SUMPRODUCT((RankNHDD[Month]=CGITempAct[[#This Row],[Month]])*(RankNHDD[Rank]=CGITempAct[[#This Row],[Rank]])*RankNHDD[CGINHDD])","v":10.3},{"$f":"YEAR(CGITempAct[[#This Row],[Date]])","v":2022},{"$f":"MONTH(CGITempAct[[#This Row],[Date]])","v":11},{"$f":"IF(CGITempAct[[#This Row],[Month]]=H846,I846+1,1)","v":24}]
[44866,76,43,{"$f":"AVERAGE(CGITempAct[[#This Row],[CGIHigh]:[CGILow]]\n)","v":59.5},{"$f":"IF(CGITempAct[[#This Row],[CGIAve]]<65,(65-CGITempAct[[#This Row],[CGIAve]]),0)","v":5.5},{"$f":"SUMPRODUCT((RankNHDD[Month]=CGITempAct[[#This Row],[Month]])*(RankNHDD[Rank]=CGITempAct[[#This Row],[Rank]])*RankNHDD[CGINHDD])","v":9},{"$f":"YEAR(CGITempAct[[#This Row],[Date]])","v":2022},{"$f":"MONTH(CGITempAct[[#This Row],[Date]])","v":11},{"$f":"IF(CGITempAct[[#This Row],[Month]]=H847,I847+1,1)","v":25}]
[44870,71,48,{"$f":"AVERAGE(CGITempAct[[#This Row],[CGIHigh]:[CGILow]]\n)","v":59.5},{"$f":"IF(CGITempAct[[#This Row],[CGIAve]]<65,(65-CGITempAct[[#This Row],[CGIAve]]),0)","v":5.5},{"$f":"SUMPRODUCT((RankNHDD[Month]=CGITempAct[[#This Row],[Month]])*(RankNHDD[Rank]=CGITempAct[[#This Row],[Rank]])*RankNHDD[CGINHDD])","v":7.9},{"$f":"YEAR(CGITempAct[[#This Row],[Date]])","v":2022},{"$f":"MONTH(CGITempAct[[#This Row],[Date]])","v":11},{"$f":"IF(CGITempAct[[#This Row],[Month]]=H848,I848+1,1)","v":26}]
[44867,76,47,{"$f":"AVERAGE(CGITempAct[[#This Row],[CGIHigh]:[CGILow]]\n)","v":61.5},{"$f":"IF(CGITempAct[[#This Row],[CGIAve]]<65,(65-CGITempAct[[#This Row],[CGIAve]]),0)","v":3.5},{"$f":"SUMPRODUCT((RankNHDD[Month]=CGITempAct[[#This Row],[Month]])*(RankNHDD[Rank]=CGITempAct[[#This Row],[Rank]])*RankNHDD[CGINHDD])","v":6.2},{"$f":"YEAR(CGITempAct[[#This Row],[Date]])","v":2022},{"$f":"MONTH(CGITempAct[[#This Row],[Date]])","v":11},{"$f":"IF(CGITempAct[[#This Row],[Month]]=H849,I849+1,1)","v":27}]
[44868,78,45,{"$f":"AVERAGE(CGITempAct[[#This Row],[CGIHigh]:[CGILow]]\n)","v":61.5},{"$f":"IF(CGITempAct[[#This Row],[CGIAve]]<65,(65-CGITempAct[[#This Row],[CGIAve]]),0)","v":3.5},{"$f":"SUMPRODUCT((RankNHDD[Month]=CGITempAct[[#This Row],[Month]])*(RankNHDD[Rank]=CGITempAct[[#This Row],[Rank]])*RankNHDD[CGINHDD])","v":4.2},{"$f":"YEAR(CGITempAct[[#This Row],[Date]])","v":2022},{"$f":"MONTH(CGITempAct[[#This Row],[Date]])","v":11},{"$f":"IF(CGITempAct[[#This Row],[Month]]=H850,I850+1,1)","v":28}]
[44874,79,48,{"$f":"AVERAGE(CGITempAct[[#This Row],[CGIHigh]:[CGILow]]\n)","v":63.5},{"$f":"IF(CGITempAct[[#This Row],[CGIAve]]<65,(65-CGITempAct[[#This Row],[CGIAve]]),0)","v":1.5},{"$f":"SUMPRODUCT((RankNHDD[Month]=CGITempAct[[#This Row],[Month]])*(RankNHDD[Rank]=CGITempAct[[#This Row],[Rank]])*RankNHDD[CGINHDD])","v":1.9},{"$f":"YEAR(CGITempAct[[#This Row],[Date]])","v":2022},{"$f":"MONTH(CGITempAct[[#This Row],[Date]])","v":11},{"$f":"IF(CGITempAct[[#This Row],[Month]]=H851,I851+1,1)","v":29}]
[44869,81,61,{"$f":"AVERAGE(CGITempAct[[#This Row],[CGIHigh]:[CGILow]]\n)","v":71},{"$f":"IF(CGITempAct[[#This Row],[CGIAve]]<65,(65-CGITempAct[[#This Row],[CGIAve]]),0)","v":0},{"$f":"SUMPRODUCT((RankNHDD[Month]=CGITempAct[[#This Row],[Month]])*(RankNHDD[Rank]=CGITempAct[[#This Row],[Rank]])*RankNHDD[CGINHDD])","v":0.1},{"$f":"YEAR(CGITempAct[[#This Row],[Date]])","v":2022},{"$f":"MONTH(CGITempAct[[#This Row],[Date]])","v":11},{"$f":"IF(CGITempAct[[#This Row],[Month]]=H852,I852+1,1)","v":30}]
[44918,9,-5,{"$f":"AVERAGE(CGITempAct[[#This Row],[CGIHigh]:[CGILow]]\n)","v":2},{"$f":"IF(CGITempAct[[#This Row],[CGIAve]]<65,(65-CGITempAct[[#This Row],[CGIAve]]),0)","v":63},{"$f":"SUMPRODUCT((RankNHDD[Month]=CGITempAct[[#This Row],[Month]])*(RankNHDD[Rank]=CGITempAct[[#This Row],[Rank]])*RankNHDD[CGINHDD])","v":54.3},{"$f":"YEAR(CGITempAct[[#This Row],[Date]])","v":2022},{"$f":"MONTH(CGITempAct[[#This Row],[Date]])","v":12},{"$f":"IF(CGITempAct[[#This Row],[Month]]=H853,I853+1,1)","v":1}]
[44920,26,3,{"$f":"AVERAGE(CGITempAct[[#This Row],[CGIHigh]:[CGILow]]\n)","v":14.5},{"$f":"IF(CGITempAct[[#This Row],[CGIAve]]<65,(65-CGITempAct[[#This Row],[CGIAve]]),0)","v":50.5},{"$f":"SUMPRODUCT((RankNHDD[Month]=CGITempAct[[#This Row],[Month]])*(RankNHDD[Rank]=CGITempAct[[#This Row],[Rank]])*RankNHDD[CGINHDD])","v":46.4},{"$f":"YEAR(CGITempAct[[#This Row],[Date]])","v":2022},{"$f":"MONTH(CGITempAct[[#This Row],[Date]])","v":12},{"$f":"IF(CGITempAct[[#This Row],[Month]]=H854,I854+1,1)","v":2}]
[44919,28,6,{"$f":"AVERAGE(CGITempAct[[#This Row],[CGIHigh]:[CGILow]]\n)","v":17},{"$f":"IF(CGITempAct[[#This Row],[CGIAve]]<65,(65-CGITempAct[[#This Row],[CGIAve]]),0)","v":48},{"$f":"SUMPRODUCT((RankNHDD[Month]=CGITempAct[[#This Row],[Month]])*(RankNHDD[Rank]=CGITempAct[[#This Row],[Rank]])*RankNHDD[CGINHDD])","v":42.8},{"$f":"YEAR(CGITempAct[[#This Row],[Date]])","v":2022},{"$f":"MONTH(CGITempAct[[#This Row],[Date]])","v":12},{"$f":"IF(CGITempAct[[#This Row],[Month]]=H855,I855+1,1)","v":3}]
[44917,45,-3,{"$f":"AVERAGE(CGITempAct[[#This Row],[CGIHigh]:[CGILow]]\n)","v":21},{"$f":"IF(CGITempAct[[#This Row],[CGIAve]]<65,(65-CGITempAct[[#This Row],[CGIAve]]),0)","v":44},{"$f":"SUMPRODUCT((RankNHDD[Month]=CGITempAct[[#This Row],[Month]])*(RankNHDD[Rank]=CGITempAct[[#This Row],[Rank]])*RankNHDD[CGINHDD])","v":40.6},{"$f":"YEAR(CGITempAct[[#This Row],[Date]])","v":2022},{"$f":"MONTH(CGITempAct[[#This Row],[Date]])","v":12},{"$f":"IF(CGITempAct[[#This Row],[Month]]=H856,I856+1,1)","v":4}]
[44922,29,20,{"$f":"AVERAGE(CGITempAct[[#This Row],[CGIHigh]:[CGILow]]\n)","v":24.5},{"$f":"IF(CGITempAct[[#This Row],[CGIAve]]<65,(65-CGITempAct[[#This Row],[CGIAve]]),0)","v":40.5},{"$f":"SUMPRODUCT((RankNHDD[Month]=CGITempAct[[#This Row],[Month]])*(RankNHDD[Rank]=CGITempAct[[#This Row],[Rank]])*RankNHDD[CGINHDD])","v":38.5},{"$f":"YEAR(CGITempAct[[#This Row],[Date]])","v":2022},{"$f":"MONTH(CGITempAct[[#This Row],[Date]])","v":12},{"$f":"IF(CGITempAct[[#This Row],[Month]]=H857,I857+1,1)","v":5}]
[44913,37,20,{"$f":"AVERAGE(CGITempAct[[#This Row],[CGIHigh]:[CGILow]]\n)","v":28.5},{"$f":"IF(CGITempAct[[#This Row],[CGIAve]]<65,(65-CGITempAct[[#This Row],[CGIAve]]),0)","v":36.5},{"$f":"SUMPRODUCT((RankNHDD[Month]=CGITempAct[[#This Row],[Month]])*(RankNHDD[Rank]=CGITempAct[[#This Row],[Rank]])*RankNHDD[CGINHDD])","v":37},{"$f":"YEAR(CGITempAct[[#This Row],[Date]])","v":2022},{"$f":"MONTH(CGITempAct[[#This Row],[Date]])","v":12},{"$f":"IF(CGITempAct[[#This Row],[Month]]=H858,I858+1,1)","v":6}]
[44921,36,25,{"$f":"AVERAGE(CGITempAct[[#This Row],[CGIHigh]:[CGILow]]\n)","v":30.5},{"$f":"IF(CGITempAct[[#This Row],[CGIAve]]<65,(65-CGITempAct[[#This Row],[CGIAve]]),0)","v":34.5},{"$f":"SUMPRODUCT((RankNHDD[Month]=CGITempAct[[#This Row],[Month]])*(RankNHDD[Rank]=CGITempAct[[#This Row],[Rank]])*RankNHDD[CGINHDD])","v":35.6},{"$f":"YEAR(CGITempAct[[#This Row],[Date]])","v":2022},{"$f":"MONTH(CGITempAct[[#This Row],[Date]])","v":12},{"$f":"IF(CGITempAct[[#This Row],[Month]]=H859,I859+1,1)","v":7}]
[44914,40,23,{"$f":"AVERAGE(CGITempAct[[#This Row],[CGIHigh]:[CGILow]]\n)","v":31.5},{"$f":"IF(CGITempAct[[#This Row],[CGIAve]]<65,(65-CGITempAct[[#This Row],[CGIAve]]),0)","v":33.5},{"$f":"SUMPRODUCT((RankNHDD[Month]=CGITempAct[[#This Row],[Month]])*(RankNHDD[Rank]=CGITempAct[[#This Row],[Rank]])*RankNHDD[CGINHDD])","v":34.4},{"$f":"YEAR(CGITempAct[[#This Row],[Date]])","v":2022},{"$f":"MONTH(CGITempAct[[#This Row],[Date]])","v":12},{"$f":"IF(CGITempAct[[#This Row],[Month]]=H860,I860+1,1)","v":8}]
[44912,36,28,{"$f":"AVERAGE(CGITempAct[[#This Row],[CGIHigh]:[CGILow]]\n)","v":32},{"$f":"IF(CGITempAct[[#This Row],[CGIAve]]<65,(65-CGITempAct[[#This Row],[CGIAve]]),0)","v":33},{"$f":"SUMPRODUCT((RankNHDD[Month]=CGITempAct[[#This Row],[Month]])*(RankNHDD[Rank]=CGITempAct[[#This Row],[Rank]])*RankNHDD[CGINHDD])","v":33.200000000000003},{"$f":"YEAR(CGITempAct[[#This Row],[Date]])","v":2022},{"$f":"MONTH(CGITempAct[[#This Row],[Date]])","v":12},{"$f":"IF(CGITempAct[[#This Row],[Month]]=H861,I861+1,1)","v":9}]
[44896,44,22,{"$f":"AVERAGE(CGITempAct[[#This Row],[CGIHigh]:[CGILow]]\n)","v":33},{"$f":"IF(CGITempAct[[#This Row],[CGIAve]]<65,(65-CGITempAct[[#This Row],[CGIAve]]),0)","v":32},{"$f":"SUMPRODUCT((RankNHDD[Month]=CGITempAct[[#This Row],[Month]])*(RankNHDD[Rank]=CGITempAct[[#This Row],[Rank]])*RankNHDD[CGINHDD])","v":32.200000000000003},{"$f":"YEAR(CGITempAct[[#This Row],[Date]])","v":2022},{"$f":"MONTH(CGITempAct[[#This Row],[Date]])","v":12},{"$f":"IF(CGITempAct[[#This Row],[Month]]=H862,I862+1,1)","v":10}]
[44899,41,27,{"$f":"AVERAGE(CGITempAct[[#This Row],[CGIHigh]:[CGILow]]\n)","v":34},{"$f":"IF(CGITempAct[[#This Row],[CGIAve]]<65,(65-CGITempAct[[#This Row],[CGIAve]]),0)","v":31},{"$f":"SUMPRODUCT((RankNHDD[Month]=CGITempAct[[#This Row],[Month]])*(RankNHDD[Rank]=CGITempAct[[#This Row],[Rank]])*RankNHDD[CGINHDD])","v":31.2},{"$f":"YEAR(CGITempAct[[#This Row],[Date]])","v":2022},{"$f":"MONTH(CGITempAct[[#This Row],[Date]])","v":12},{"$f":"IF(CGITempAct[[#This Row],[Month]]=H863,I863+1,1)","v":11}]
[44923,52,19,{"$f":"AVERAGE(CGITempAct[[#This Row],[CGIHigh]:[CGILow]]\n)","v":35.5},{"$f":"IF(CGITempAct[[#This Row],[CGIAve]]<65,(65-CGITempAct[[#This Row],[CGIAve]]),0)","v":29.5},{"$f":"SUMPRODUCT((RankNHDD[Month]=CGITempAct[[#This Row],[Month]])*(RankNHDD[Rank]=CGITempAct[[#This Row],[Rank]])*RankNHDD[CGINHDD])","v":30.5},{"$f":"YEAR(CGITempAct[[#This Row],[Date]])","v":2022},{"$f":"MONTH(CGITempAct[[#This Row],[Date]])","v":12},{"$f":"IF(CGITempAct[[#This Row],[Month]]=H864,I864+1,1)","v":12}]
[44916,48,25,{"$f":"AVERAGE(CGITempAct[[#This Row],[CGIHigh]:[CGILow]]\n)","v":36.5},{"$f":"IF(CGITempAct[[#This Row],[CGIAve]]<65,(65-CGITempAct[[#This Row],[CGIAve]]),0)","v":28.5},{"$f":"SUMPRODUCT((RankNHDD[Month]=CGITempAct[[#This Row],[Month]])*(RankNHDD[Rank]=CGITempAct[[#This Row],[Rank]])*RankNHDD[CGINHDD])","v":29.8},{"$f":"YEAR(CGITempAct[[#This Row],[Date]])","v":2022},{"$f":"MONTH(CGITempAct[[#This Row],[Date]])","v":12},{"$f":"IF(CGITempAct[[#This Row],[Month]]=H865,I865+1,1)","v":13}]
[44911,44,30,{"$f":"AVERAGE(CGITempAct[[#This Row],[CGIHigh]:[CGILow]]\n)","v":37},{"$f":"IF(CGITempAct[[#This Row],[CGIAve]]<65,(65-CGITempAct[[#This Row],[CGIAve]]),0)","v":28},{"$f":"SUMPRODUCT((RankNHDD[Month]=CGITempAct[[#This Row],[Month]])*(RankNHDD[Rank]=CGITempAct[[#This Row],[Rank]])*RankNHDD[CGINHDD])","v":29.1},{"$f":"YEAR(CGITempAct[[#This Row],[Date]])","v":2022},{"$f":"MONTH(CGITempAct[[#This Row],[Date]])","v":12},{"$f":"IF(CGITempAct[[#This Row],[Month]]=H866,I866+1,1)","v":14}]
[44915,48,28,{"$f":"AVERAGE(CGITempAct[[#This Row],[CGIHigh]:[CGILow]]\n)","v":38},{"$f":"IF(CGITempAct[[#This Row],[CGIAve]]<65,(65-CGITempAct[[#This Row],[CGIAve]]),0)","v":27},{"$f":"SUMPRODUCT((RankNHDD[Month]=CGITempAct[[#This Row],[Month]])*(RankNHDD[Rank]=CGITempAct[[#This Row],[Rank]])*RankNHDD[CGINHDD])","v":28.4},{"$f":"YEAR(CGITempAct[[#This Row],[Date]])","v":2022},{"$f":"MONTH(CGITempAct[[#This Row],[Date]])","v":12},{"$f":"IF(CGITempAct[[#This Row],[Month]]=H867,I867+1,1)","v":15}]
[44910,44,34,{"$f":"AVERAGE(CGITempAct[[#This Row],[CGIHigh]:[CGILow]]\n)","v":39},{"$f":"IF(CGITempAct[[#This Row],[CGIAve]]<65,(65-CGITempAct[[#This Row],[CGIAve]]),0)","v":26},{"$f":"SUMPRODUCT((RankNHDD[Month]=CGITempAct[[#This Row],[Month]])*(RankNHDD[Rank]=CGITempAct[[#This Row],[Rank]])*RankNHDD[CGINHDD])","v":27.7},{"$f":"YEAR(CGITempAct[[#This Row],[Date]])","v":2022},{"$f":"MONTH(CGITempAct[[#This Row],[Date]])","v":12},{"$f":"IF(CGITempAct[[#This Row],[Month]]=H868,I868+1,1)","v":16}]
[44900,47,33,{"$f":"AVERAGE(CGITempAct[[#This Row],[CGIHigh]:[CGILow]]\n)","v":40},{"$f":"IF(CGITempAct[[#This Row],[CGIAve]]<65,(65-CGITempAct[[#This Row],[CGIAve]]),0)","v":25},{"$f":"SUMPRODUCT((RankNHDD[Month]=CGITempAct[[#This Row],[Month]])*(RankNHDD[Rank]=CGITempAct[[#This Row],[Rank]])*RankNHDD[CGINHDD])","v":27.1},{"$f":"YEAR(CGITempAct[[#This Row],[Date]])","v":2022},{"$f":"MONTH(CGITempAct[[#This Row],[Date]])","v":12},{"$f":"IF(CGITempAct[[#This Row],[Month]]=H869,I869+1,1)","v":17}]
[44898,56,28,{"$f":"AVERAGE(CGITempAct[[#This Row],[CGIHigh]:[CGILow]]\n)","v":42},{"$f":"IF(CGITempAct[[#This Row],[CGIAve]]<65,(65-CGITempAct[[#This Row],[CGIAve]]),0)","v":23},{"$f":"SUMPRODUCT((RankNHDD[Month]=CGITempAct[[#This Row],[Month]])*(RankNHDD[Rank]=CGITempAct[[#This Row],[Rank]])*RankNHDD[CGINHDD])","v":26.3},{"$f":"YEAR(CGITempAct[[#This Row],[Date]])","v":2022},{"$f":"MONTH(CGITempAct[[#This Row],[Date]])","v":12},{"$f":"IF(CGITempAct[[#This Row],[Month]]=H870,I870+1,1)","v":18}]
[44905,48,36,{"$f":"AVERAGE(CGITempAct[[#This Row],[CGIHigh]:[CGILow]]\n)","v":42},{"$f":"IF(CGITempAct[[#This Row],[CGIAve]]<65,(65-CGITempAct[[#This Row],[CGIAve]]),0)","v":23},{"$f":"SUMPRODUCT((RankNHDD[Month]=CGITempAct[[#This Row],[Month]])*(RankNHDD[Rank]=CGITempAct[[#This Row],[Rank]])*RankNHDD[CGINHDD])","v":25.6},{"$f":"YEAR(CGITempAct[[#This Row],[Date]])","v":2022},{"$f":"MONTH(CGITempAct[[#This Row],[Date]])","v":12},{"$f":"IF(CGITempAct[[#This Row],[Month]]=H871,I871+1,1)","v":19}]
[44926,48,37,{"$f":"AVERAGE(CGITempAct[[#This Row],[CGIHigh]:[CGILow]]\n)","v":42.5},{"$f":"IF(CGITempAct[[#This Row],[CGIAve]]<65,(65-CGITempAct[[#This Row],[CGIAve]]),0)","v":22.5},{"$f":"SUMPRODUCT((RankNHDD[Month]=CGITempAct[[#This Row],[Month]])*(RankNHDD[Rank]=CGITempAct[[#This Row],[Rank]])*RankNHDD[CGINHDD])","v":25},{"$f":"YEAR(CGITempAct[[#This Row],[Date]])","v":2022},{"$f":"MONTH(CGITempAct[[#This Row],[Date]])","v":12},{"$f":"IF(CGITempAct[[#This Row],[Month]]=H872,I872+1,1)","v":20}]
[44906,45,41,{"$f":"AVERAGE(CGITempAct[[#This Row],[CGIHigh]:[CGILow]]\n)","v":43},{"$f":"IF(CGITempAct[[#This Row],[CGIAve]]<65,(65-CGITempAct[[#This Row],[CGIAve]]),0)","v":22},{"$f":"SUMPRODUCT((RankNHDD[Month]=CGITempAct[[#This Row],[Month]])*(RankNHDD[Rank]=CGITempAct[[#This Row],[Rank]])*RankNHDD[CGINHDD])","v":24.2},{"$f":"YEAR(CGITempAct[[#This Row],[Date]])","v":2022},{"$f":"MONTH(CGITempAct[[#This Row],[Date]])","v":12},{"$f":"IF(CGITempAct[[#This Row],[Month]]=H873,I873+1,1)","v":21}]
[44907,52,34,{"$f":"AVERAGE(CGITempAct[[#This Row],[CGIHigh]:[CGILow]]\n)","v":43},{"$f":"IF(CGITempAct[[#This Row],[CGIAve]]<65,(65-CGITempAct[[#This Row],[CGIAve]]),0)","v":22},{"$f":"SUMPRODUCT((RankNHDD[Month]=CGITempAct[[#This Row],[Month]])*(RankNHDD[Rank]=CGITempAct[[#This Row],[Rank]])*RankNHDD[CGINHDD])","v":23.1},{"$f":"YEAR(CGITempAct[[#This Row],[Date]])","v":2022},{"$f":"MONTH(CGITempAct[[#This Row],[Date]])","v":12},{"$f":"IF(CGITempAct[[#This Row],[Month]]=H874,I874+1,1)","v":22}]
[44897,56,39,{"$f":"AVERAGE(CGITempAct[[#This Row],[CGIHigh]:[CGILow]]\n)","v":47.5},{"$f":"IF(CGITempAct[[#This Row],[CGIAve]]<65,(65-CGITempAct[[#This Row],[CGIAve]]),0)","v":17.5},{"$f":"SUMPRODUCT((RankNHDD[Month]=CGITempAct[[#This Row],[Month]])*(RankNHDD[Rank]=CGITempAct[[#This Row],[Rank]])*RankNHDD[CGINHDD])","v":22.2},{"$f":"YEAR(CGITempAct[[#This Row],[Date]])","v":2022},{"$f":"MONTH(CGITempAct[[#This Row],[Date]])","v":12},{"$f":"IF(CGITempAct[[#This Row],[Month]]=H875,I875+1,1)","v":23}]
[44901,54,42,{"$f":"AVERAGE(CGITempAct[[#This Row],[CGIHigh]:[CGILow]]\n)","v":48},{"$f":"IF(CGITempAct[[#This Row],[CGIAve]]<65,(65-CGITempAct[[#This Row],[CGIAve]]),0)","v":17},{"$f":"SUMPRODUCT((RankNHDD[Month]=CGITempAct[[#This Row],[Month]])*(RankNHDD[Rank]=CGITempAct[[#This Row],[Rank]])*RankNHDD[CGINHDD])","v":21.3},{"$f":"YEAR(CGITempAct[[#This Row],[Date]])","v":2022},{"$f":"MONTH(CGITempAct[[#This Row],[Date]])","v":12},{"$f":"IF(CGITempAct[[#This Row],[Month]]=H876,I876+1,1)","v":24}]
[44903,50,47,{"$f":"AVERAGE(CGITempAct[[#This Row],[CGIHigh]:[CGILow]]\n)","v":48.5},{"$f":"IF(CGITempAct[[#This Row],[CGIAve]]<65,(65-CGITempAct[[#This Row],[CGIAve]]),0)","v":16.5},{"$f":"SUMPRODUCT((RankNHDD[Month]=CGITempAct[[#This Row],[Month]])*(RankNHDD[Rank]=CGITempAct[[#This Row],[Rank]])*RankNHDD[CGINHDD])","v":20.3},{"$f":"YEAR(CGITempAct[[#This Row],[Date]])","v":2022},{"$f":"MONTH(CGITempAct[[#This Row],[Date]])","v":12},{"$f":"IF(CGITempAct[[#This Row],[Month]]=H877,I877+1,1)","v":25}]
[44908,59,38,{"$f":"AVERAGE(CGITempAct[[#This Row],[CGIHigh]:[CGILow]]\n)","v":48.5},{"$f":"IF(CGITempAct[[#This Row],[CGIAve]]<65,(65-CGITempAct[[#This Row],[CGIAve]]),0)","v":16.5},{"$f":"SUMPRODUCT((RankNHDD[Month]=CGITempAct[[#This Row],[Month]])*(RankNHDD[Rank]=CGITempAct[[#This Row],[Rank]])*RankNHDD[CGINHDD])","v":19},{"$f":"YEAR(CGITempAct[[#This Row],[Date]])","v":2022},{"$f":"MONTH(CGITempAct[[#This Row],[Date]])","v":12},{"$f":"IF(CGITempAct[[#This Row],[Month]]=H878,I878+1,1)","v":26}]
[44904,62,41,{"$f":"AVERAGE(CGITempAct[[#This Row],[CGIHigh]:[CGILow]]\n)","v":51.5},{"$f":"IF(CGITempAct[[#This Row],[CGIAve]]<65,(65-CGITempAct[[#This Row],[CGIAve]]),0)","v":13.5},{"$f":"SUMPRODUCT((RankNHDD[Month]=CGITempAct[[#This Row],[Month]])*(RankNHDD[Rank]=CGITempAct[[#This Row],[Rank]])*RankNHDD[CGINHDD])","v":17.3},{"$f":"YEAR(CGITempAct[[#This Row],[Date]])","v":2022},{"$f":"MONTH(CGITempAct[[#This Row],[Date]])","v":12},{"$f":"IF(CGITempAct[[#This Row],[Month]]=H879,I879+1,1)","v":27}]
[44902,55,49,{"$f":"AVERAGE(CGITempAct[[#This Row],[CGIHigh]:[CGILow]]\n)","v":52},{"$f":"IF(CGITempAct[[#This Row],[CGIAve]]<65,(65-CGITempAct[[#This Row],[CGIAve]]),0)","v":13},{"$f":"SUMPRODUCT((RankNHDD[Month]=CGITempAct[[#This Row],[Month]])*(RankNHDD[Rank]=CGITempAct[[#This Row],[Rank]])*RankNHDD[CGINHDD])","v":15.7},{"$f":"YEAR(CGITempAct[[#This Row],[Date]])","v":2022},{"$f":"MONTH(CGITempAct[[#This Row],[Date]])","v":12},{"$f":"IF(CGITempAct[[#This Row],[Month]]=H880,I880+1,1)","v":28}]
[44909,61,43,{"$f":"AVERAGE(CGITempAct[[#This Row],[CGIHigh]:[CGILow]]\n)","v":52},{"$f":"IF(CGITempAct[[#This Row],[CGIAve]]<65,(65-CGITempAct[[#This Row],[CGIAve]]),0)","v":13},{"$f":"SUMPRODUCT((RankNHDD[Month]=CGITempAct[[#This Row],[Month]])*(RankNHDD[Rank]=CGITempAct[[#This Row],[Rank]])*RankNHDD[CGINHDD])","v":14},{"$f":"YEAR(CGITempAct[[#This Row],[Date]])","v":2022},{"$f":"MONTH(CGITempAct[[#This Row],[Date]])","v":12},{"$f":"IF(CGITempAct[[#This Row],[Month]]=H881,I881+1,1)","v":29}]
[44925,61,45,{"$f":"AVERAGE(CGITempAct[[#This Row],[CGIHigh]:[CGILow]]\n)","v":53},{"$f":"IF(CGITempAct[[#This Row],[CGIAve]]<65,(65-CGITempAct[[#This Row],[CGIAve]]),0)","v":12},{"$f":"SUMPRODUCT((RankNHDD[Month]=CGITempAct[[#This Row],[Month]])*(RankNHDD[Rank]=CGITempAct[[#This Row],[Rank]])*RankNHDD[CGINHDD])","v":10.8},{"$f":"YEAR(CGITempAct[[#This Row],[Date]])","v":2022},{"$f":"MONTH(CGITempAct[[#This Row],[Date]])","v":12},{"$f":"IF(CGITempAct[[#This Row],[Month]]=H882,I882+1,1)","v":30}]
[44924,61,51,{"$f":"AVERAGE(CGITempAct[[#This Row],[CGIHigh]:[CGILow]]\n)","v":56},{"$f":"IF(CGITempAct[[#This Row],[CGIAve]]<65,(65-CGITempAct[[#This Row],[CGIAve]]),0)","v":9},{"$f":"SUMPRODUCT((RankNHDD[Month]=CGITempAct[[#This Row],[Month]])*(RankNHDD[Rank]=CGITempAct[[#This Row],[Rank]])*RankNHDD[CGINHDD])","v":5.2},{"$f":"YEAR(CGITempAct[[#This Row],[Date]])","v":2022},{"$f":"MONTH(CGITempAct[[#This Row],[Date]])","v":12},{"$f":"IF(CGITempAct[[#This Row],[Month]]=H883,I883+1,1)","v":31}]

{"sheet":"NoOfBills","index":14,"n_rows":457,"n_cols":13,"rows_kept":457,"cut":false,"hidden":false,"merged":[]}
["MonthFlow","MonthBill","Cycle","60-GCSF","60-GRF","61-GCSF","61-GRF","62-GCSF","62-GRF","63-GCSF","63-GRF","Preparer's Notes","Reviewer's Notes"]
[44197,{"$f":"EDATE(NoOfBills[[#This Row],[MonthFlow]],1)","v":44228},1,12,354,91,153,139,1666,144,608,"From Revenue Package"]
[44197,{"$f":"EDATE(NoOfBills[[#This Row],[MonthFlow]],1)","v":44228},2,10,297,26,173,77,1566,109,321,"From Revenue Package"]
[44197,{"$f":"EDATE(NoOfBills[[#This Row],[MonthFlow]],1)","v":44228},3,15,239,8,218,244,1845,31,617,"From Revenue Package"]
[44197,{"$f":"EDATE(NoOfBills[[#This Row],[MonthFlow]],1)","v":44228},4,34,183,20,279,176,1103,80,648,"From Revenue Package"]
[44197,{"$f":"EDATE(NoOfBills[[#This Row],[MonthFlow]],1)","v":44228},5,28,213,15,177,215,1241,68,761,"From Revenue Package"]
[44197,{"$f":"EDATE(NoOfBills[[#This Row],[MonthFlow]],1)","v":44228},6,43,209,50,220,134,1247,132,759,"From Revenue Package"]
[44197,{"$f":"EDATE(NoOfBills[[#This Row],[MonthFlow]],1)","v":44228},7,41,216,15,117,204,1452,35,752,"From Revenue Package"]
[44197,{"$f":"EDATE(NoOfBills[[#This Row],[MonthFlow]],1)","v":44228},8,23,243,42,214,207,1422,61,624,"From Revenue Package"]
[44197,{"$f":"EDATE(NoOfBills[[#This Row],[MonthFlow]],1)","v":44228},9,65,264,14,185,190,1285,56,506,"From Revenue Package"]
[44197,{"$f":"EDATE(NoOfBills[[#This Row],[MonthFlow]],1)","v":44228},10,36,263,43,96,154,1566,48,826,"From Revenue Package"]
[44197,{"$f":"EDATE(NoOfBills[[#This Row],[MonthFlow]],1)","v":44228},11,23,250,17,215,177,1361,102,573,"From Revenue Package"]
[44197,{"$f":"EDATE(NoOfBills[[#This Row],[MonthFlow]],1)","v":44228},12,64,269,20,152,142,1262,47,670,"From Revenue Package"]
[44197,{"$f":"EDATE(NoOfBills[[#This Row],[MonthFlow]],1)","v":44228},13,27,276,8,59,152,1568,46,388,"From Revenue Package"]
[44197,{"$f":"EDATE(NoOfBills[[#This Row],[MonthFlow]],1)","v":44228},14,25,221,38,135,193,1549,164,897,"From Revenue Package"]
[44197,{"$f":"EDATE(NoOfBills[[#This Row],[MonthFlow]],1)","v":44228},15,69,281,25,173,142,1286,34,430,"From Revenue Package"]
[44197,{"$f":"EDATE(NoOfBills[[#This Row],[MonthFlow]],1)","v":44228},16,63,162,11,198,207,1398,51,464,"From Revenue Package"]
[44197,{"$f":"EDATE(NoOfBills[[#This Row],[MonthFlow]],1)","v":44228},17,21,202,5,88,130,1201,56,528,"From Revenue Package"]
[44197,{"$f":"EDATE(NoOfBills[[#This Row],[MonthFlow]],1)","v":44228},18,65,295,27,214,213,1402,122,967,"From Revenue Package"]
[44197,{"$f":"EDATE(NoOfBills[[#This Row],[MonthFlow]],1)","v":44228},19,43,119,48,235,167,1830,84,305,"From Revenue Package"]
[44228,{"$f":"EDATE(NoOfBills[[#This Row],[MonthFlow]],1)","v":44256},1,12,365,90,165,141,1674,144,620,"From Revenue Package"]
[44228,{"$f":"EDATE(NoOfBills[[#This Row],[MonthFlow]],1)","v":44256},2,10,296,26,178,76,1583,111,327,"From Revenue Package"]
[44228,{"$f":"EDATE(NoOfBills[[#This Row],[MonthFlow]],1)","v":44256},3,15,247,8,222,246,1867,31,623,"From Revenue Package"]
[44228,{"$f":"EDATE(NoOfBills[[#This Row],[MonthFlow]],1)","v":44256},4,34,189,20,284,179,1126,86,654,"From Revenue Package"]
[44228,{"$f":"EDATE(NoOfBills[[#This Row],[MonthFlow]],1)","v":44256},5,27,217,15,183,216,1253,70,780,"From Revenue Package"]
[44228,{"$f":"EDATE(NoOfBills[[#This Row],[MonthFlow]],1)","v":44256},6,43,216,50,224,130,1270,136,771,"From Revenue Package"]
[44228,{"$f":"EDATE(NoOfBills[[#This Row],[MonthFlow]],1)","v":44256},7,42,218,15,121,206,1469,36,763,"From Revenue Package"]
[44228,{"$f":"EDATE(NoOfBills[[#This Row],[MonthFlow]],1)","v":44256},8,24,245,42,215,209,1440,61,636,"From Revenue Package"]
[44228,{"$f":"EDATE(NoOfBills[[#This Row],[MonthFlow]],1)","v":44256},9,67,265,14,183,204,1292,54,504,"From Revenue Package"]
[44228,{"$f":"EDATE(NoOfBills[[#This Row],[MonthFlow]],1)","v":44256},10,36,264,43,98,157,1569,50,830,"From Revenue Package"]
[44228,{"$f":"EDATE(NoOfBills[[#This Row],[MonthFlow]],1)","v":44256},11,23,252,17,211,180,1371,104,574,"From Revenue Package"]
[44228,{"$f":"EDATE(NoOfBills[[#This Row],[MonthFlow]],1)","v":44256},12,64,271,21,145,144,1272,47,667,"From Revenue Package"]
[44228,{"$f":"EDATE(NoOfBills[[#This Row],[MonthFlow]],1)","v":44256},13,27,278,9,60,155,1584,47,393,"From Revenue Package"]
[44228,{"$f":"EDATE(NoOfBills[[#This Row],[MonthFlow]],1)","v":44256},14,25,223,39,137,194,1608,163,906,"From Revenue Package"]
[44228,{"$f":"EDATE(NoOfBills[[#This Row],[MonthFlow]],1)","v":44256},15,69,284,25,176,140,1294,34,434,"From Revenue Package"]
[44228,{"$f":"EDATE(NoOfBills[[#This Row],[MonthFlow]],1)","v":44256},16,63,162,11,200,207,1430,49,466,"From Revenue Package"]
[44228,{"$f":"EDATE(NoOfBills[[#This Row],[MonthFlow]],1)","v":44256},17,21,202,5,86,129,1194,56,530,"From Revenue Package"]
[44228,{"$f":"EDATE(NoOfBills[[#This Row],[MonthFlow]],1)","v":44256},18,67,294,27,214,218,1430,122,960,"From Revenue Package"]
[44228,{"$f":"EDATE(NoOfBills[[#This Row],[MonthFlow]],1)","v":44256},19,43,121,48,239,166,1845,84,306,"From Revenue Package"]
[44256,{"$f":"EDATE(NoOfBills[[#This Row],[MonthFlow]],1)","v":44287},1,12,347,92,145,142,1650,142,612,"From Revenue Package"]
[44256,{"$f":"EDATE(NoOfBills[[#This Row],[MonthFlow]],1)","v":44287},2,10,282,26,171,83,1576,108,314,"From Revenue Package"]
[44256,{"$f":"EDATE(NoOfBills[[#This Row],[MonthFlow]],1)","v":44287},3,15,237,8,216,244,1846,31,604,"From Revenue Package"]
[44256,{"$f":"EDATE(NoOfBills[[#This Row],[MonthFlow]],1)","v":44287},4,34,181,20,273,178,1103,78,645,"From Revenue Package"]
[44256,{"$f":"EDATE(NoOfBills[[#This Row],[MonthFlow]],1)","v":44287},5,27,211,15,179,215,1242,66,760,"From Revenue Package"]
[44256,{"$f":"EDATE(NoOfBills[[#This Row],[MonthFlow]],1)","v":44287},6,44,202,50,220,130,1243,131,757,"From Revenue Package"]
[44256,{"$f":"EDATE(NoOfBills[[#This Row],[MonthFlow]],1)","v":44287},7,41,211,15,116,206,1449,35,739,"From Revenue Package"]
[44256,{"$f":"EDATE(NoOfBills[[#This Row],[MonthFlow]],1)","v":44287},8,24,243,43,214,209,1420,61,618,"From Revenue Package"]
[44256,{"$f":"EDATE(NoOfBills[[#This Row],[MonthFlow]],1)","v":44287},9,67,264,14,184,190,1266,54,498,"From Revenue Package"]
[44256,{"$f":"EDATE(NoOfBills[[#This Row],[MonthFlow]],1)","v":44287},10,34,257,43,98,158,1541,49,834,"From Revenue Package"]
[44256,{"$f":"EDATE(NoOfBills[[#This Row],[MonthFlow]],1)","v":44287},11,23,245,17,213,172,1350,104,575,"From Revenue Package"]
[44256,{"$f":"EDATE(NoOfBills[[#This Row],[MonthFlow]],1)","v":44287},12,64,263,21,145,142,1259,47,667,"From Revenue Package"]
[44256,{"$f":"EDATE(NoOfBills[[#This Row],[MonthFlow]],1)","v":44287},13,27,275,7,61,150,1561,45,380,"From Revenue Package"]
[44256,{"$f":"EDATE(NoOfBills[[#This Row],[MonthFlow]],1)","v":44287},14,25,221,37,144,193,1556,164,893,"From Revenue Package"]
[44256,{"$f":"EDATE(NoOfBills[[#This Row],[MonthFlow]],1)","v":44287},15,69,279,25,173,138,1286,33,417,"From Revenue Package"]
[44256,{"$f":"EDATE(NoOfBills[[#This Row],[MonthFlow]],1)","v":44287},16,64,157,11,199,209,1402,50,459,"From Revenue Package"]
[44256,{"$f":"EDATE(NoOfBills[[#This Row],[MonthFlow]],1)","v":44287},17,21,198,5,87,131,1137,56,524,"From Revenue Package"]
[44256,{"$f":"EDATE(NoOfBills[[#This Row],[MonthFlow]],1)","v":44287},18,67,293,27,215,216,1399,122,938,"From Revenue Package"]
[44256,{"$f":"EDATE(NoOfBills[[#This Row],[MonthFlow]],1)","v":44287},19,43,121,48,234,165,1819,83,304,"From Revenue Package"]
[44287,{"$f":"EDATE(NoOfBills[[#This Row],[MonthFlow]],1)","v":44317},1,12,343,91,151,140,1641,142,592,"From Revenue Package"]
[44287,{"$f":"EDATE(NoOfBills[[#This Row],[MonthFlow]],1)","v":44317},2,10,282,25,169,78,1557,106,312,"From Revenue Package"]
[44287,{"$f":"EDATE(NoOfBills[[#This Row],[MonthFlow]],1)","v":44317},3,15,234,8,216,240,1828,31,605,"From Revenue Package"]
[44287,{"$f":"EDATE(NoOfBills[[#This Row],[MonthFlow]],1)","v":44317},4,34,182,20,275,179,1098,78,643,"From Revenue Package"]
[44287,{"$f":"EDATE(NoOfBills[[#This Row],[MonthFlow]],1)","v":44317},5,27,210,15,174,213,1245,67,759,"From Revenue Package"]
[44287,{"$f":"EDATE(NoOfBills[[#This Row],[MonthFlow]],1)","v":44317},6,42,202,50,222,129,1233,131,748,"From Revenue Package"]
[44287,{"$f":"EDATE(NoOfBills[[#This Row],[MonthFlow]],1)","v":44317},7,41,213,15,115,205,1437,35,745,"From Revenue Package"]
[44287,{"$f":"EDATE(NoOfBills[[#This Row],[MonthFlow]],1)","v":44317},8,24,244,41,215,208,1412,61,617,"From Revenue Package"]
[44287,{"$f":"EDATE(NoOfBills[[#This Row],[MonthFlow]],1)","v":44317},9,68,264,14,182,187,1259,54,497,"From Revenue Package"]
[44287,{"$f":"EDATE(NoOfBills[[#This Row],[MonthFlow]],1)","v":44317},10,34,258,43,98,153,1539,49,813,"From Revenue Package"]
[44287,{"$f":"EDATE(NoOfBills[[#This Row],[MonthFlow]],1)","v":44317},11,23,243,17,209,171,1348,101,570,"From Revenue Package"]
[44287,{"$f":"EDATE(NoOfBills[[#This Row],[MonthFlow]],1)","v":44317},12,64,260,21,142,141,1254,47,656,"From Revenue Package"]
[44287,{"$f":"EDATE(NoOfBills[[#This Row],[MonthFlow]],1)","v":44317},13,27,274,7,59,153,1541,44,377,"From Revenue Package"]
[44287,{"$f":"EDATE(NoOfBills[[#This Row],[MonthFlow]],1)","v":44317},14,25,214,38,136,193,1548,164,894,"From Revenue Package"]
[44287,{"$f":"EDATE(NoOfBills[[#This Row],[MonthFlow]],1)","v":44317},15,69,274,25,173,138,1274,33,408,"From Revenue Package"]
[44287,{"$f":"EDATE(NoOfBills[[#This Row],[MonthFlow]],1)","v":44317},16,64,152,11,199,206,1399,50,459,"From Revenue Package"]
[44287,{"$f":"EDATE(NoOfBills[[#This Row],[MonthFlow]],1)","v":44317},17,21,194,5,87,130,1146,56,520,"From Revenue Package"]
[44287,{"$f":"EDATE(NoOfBills[[#This Row],[MonthFlow]],1)","v":44317},18,67,291,27,215,212,1396,123,933,"From Revenue Package"]
[44287,{"$f":"EDATE(NoOfBills[[#This Row],[MonthFlow]],1)","v":44317},19,43,121,48,235,165,1800,85,303,"From Revenue Package"]
[44317,{"$f":"EDATE(NoOfBills[[#This Row],[MonthFlow]],1)","v":44348},1,12,332,91,150,136,1627,139,579,"From Revenue Package"]
[44317,{"$f":"EDATE(NoOfBills[[#This Row],[MonthFlow]],1)","v":44348},2,10,273,25,168,78,1543,105,305,"From Revenue Package"]
[44317,{"$f":"EDATE(NoOfBills[[#This Row],[MonthFlow]],1)","v":44348},3,15,233,8,214,237,1806,31,595,"From Revenue Package"]
[44317,{"$f":"EDATE(NoOfBills[[#This Row],[MonthFlow]],1)","v":44348},4,31,175,19,271,176,1081,79,633,"From Revenue Package"]
[44317,{"$f":"EDATE(NoOfBills[[#This Row],[MonthFlow]],1)","v":44348},5,23,209,15,175,213,1237,67,752,"From Revenue Package"]
[44317,{"$f":"EDATE(NoOfBills[[#This Row],[MonthFlow]],1)","v":44348},6,43,195,48,217,128,1222,130,742,"From Revenue Package"]
[44317,{"$f":"EDATE(NoOfBills[[#This Row],[MonthFlow]],1)","v":44348},7,38,205,15,113,203,1429,37,733,"From Revenue Package"]
[44317,{"$f":"EDATE(NoOfBills[[#This Row],[MonthFlow]],1)","v":44348},8,21,242,41,213,206,1404,61,612,"From Revenue Package"]
[44317,{"$f":"EDATE(NoOfBills[[#This Row],[MonthFlow]],1)","v":44348},9,67,260,13,179,187,1256,53,491,"From Revenue Package"]
[44317,{"$f":"EDATE(NoOfBills[[#This Row],[MonthFlow]],1)","v":44348},10,32,249,42,97,153,1529,47,802,"From Revenue Package"]
[44317,{"$f":"EDATE(NoOfBills[[#This Row],[MonthFlow]],1)","v":44348},11,23,231,17,209,169,1339,102,573,"From Revenue Package"]
[44317,{"$f":"EDATE(NoOfBills[[#This Row],[MonthFlow]],1)","v":44348},12,62,242,21,142,141,1239,47,649,"From Revenue Package"]
[44317,{"$f":"EDATE(NoOfBills[[#This Row],[MonthFlow]],1)","v":44348},13,27,245,7,59,152,1536,44,367,"From Revenue Package"]
[44317,{"$f":"EDATE(NoOfBills[[#This Row],[MonthFlow]],1)","v":44348},14,24,195,37,132,192,1536,162,878,"From Revenue Package"]
[44317,{"$f":"EDATE(NoOfBills[[#This Row],[MonthFlow]],1)","v":44348},15,67,267,25,175,136,1266,33,403,"From Revenue Package"]
[44317,{"$f":"EDATE(NoOfBills[[#This Row],[MonthFlow]],1)","v":44348},16,64,147,11,196,205,1385,50,452,"From Revenue Package"]
[44317,{"$f":"EDATE(NoOfBills[[#This Row],[MonthFlow]],1)","v":44348},17,21,189,5,87,128,1134,55,515,"From Revenue Package"]
[44317,{"$f":"EDATE(NoOfBills[[#This Row],[MonthFlow]],1)","v":44348},18,67,280,26,214,211,1385,121,926,"From Revenue Package"]
[44317,{"$f":"EDATE(NoOfBills[[#This Row],[MonthFlow]],1)","v":44348},19,43,115,48,232,161,1786,83,306,"From Revenue Package"]
[44348,{"$f":"EDATE(NoOfBills[[#This Row],[MonthFlow]],1)","v":44378},1,12,318,89,148,132,1621,135,571,"From Revenue Package"]
[44348,{"$f":"EDATE(NoOfBills[[#This Row],[MonthFlow]],1)","v":44378},2,10,266,25,168,77,1530,101,296,"From Revenue Package"]
[44348,{"$f":"EDATE(NoOfBills[[#This Row],[MonthFlow]],1)","v":44378},3,15,226,8,216,236,1786,31,588,"From Revenue Package"]
[44348,{"$f":"EDATE(NoOfBills[[#This Row],[MonthFlow]],1)","v":44378},4,31,175,20,272,177,1072,78,627,"From Revenue Package"]
[44348,{"$f":"EDATE(NoOfBills[[#This Row],[MonthFlow]],1)","v":44378},5,24,203,15,172,208,1227,64,740,"From Revenue Package"]
[44348,{"$f":"EDATE(NoOfBills[[#This Row],[MonthFlow]],1)","v":44378},6,41,194,48,215,127,1210,128,734,"From Revenue Package"]
[44348,{"$f":"EDATE(NoOfBills[[#This Row],[MonthFlow]],1)","v":44378},7,39,200,15,111,197,1411,37,711,"From Revenue Package"]
[44348,{"$f":"EDATE(NoOfBills[[#This Row],[MonthFlow]],1)","v":44378},8,22,237,41,214,204,1393,60,610,"From Revenue Package"]
[44348,{"$f":"EDATE(NoOfBills[[#This Row],[MonthFlow]],1)","v":44378},9,65,260,13,177,187,1246,53,485,"From Revenue Package"]
[44348,{"$f":"EDATE(NoOfBills[[#This Row],[MonthFlow]],1)","v":44378},10,31,247,41,97,152,1510,47,798,"From Revenue Package"]
[44348,{"$f":"EDATE(NoOfBills[[#This Row],[MonthFlow]],1)","v":44378},11,22,227,17,206,167,1330,102,571,"From Revenue Package"]
[44348,{"$f":"EDATE(NoOfBills[[#This Row],[MonthFlow]],1)","v":44378},12,59,232,21,142,141,1236,47,643,"From Revenue Package"]
[44348,{"$f":"EDATE(NoOfBills[[#This Row],[MonthFlow]],1)","v":44378},13,27,233,7,59,150,1529,42,354,"From Revenue Package"]
[44348,{"$f":"EDATE(NoOfBills[[#This Row],[MonthFlow]],1)","v":44378},14,24,196,37,127,191,1515,160,864,"From Revenue Package"]
[44348,{"$f":"EDATE(NoOfBills[[#This Row],[MonthFlow]],1)","v":44378},15,67,262,25,169,136,1259,33,394,"From Revenue Package"]
[44348,{"$f":"EDATE(NoOfBills[[#This Row],[MonthFlow]],1)","v":44378},16,62,148,11,192,205,1376,50,442,"From Revenue Package"]
[44348,{"$f":"EDATE(NoOfBills[[#This Row],[MonthFlow]],1)","v":44378},17,21,185,5,88,128,1128,54,504,"From Revenue Package"]
[44348,{"$f":"EDATE(NoOfBills[[#This Row],[MonthFlow]],1)","v":44378},18,67,273,26,207,210,1375,121,915,"From Revenue Package"]
[44348,{"$f":"EDATE(NoOfBills[[#This Row],[MonthFlow]],1)","v":44378},19,43,113,47,230,163,1772,83,305,"From Revenue Package"]
[44378,{"$f":"EDATE(NoOfBills[[#This Row],[MonthFlow]],1)","v":44409},1,12,331,89,152,137,1647,134,578,"From Revenue Package"]
[44378,{"$f":"EDATE(NoOfBills[[#This Row],[MonthFlow]],1)","v":44409},2,10,273,25,169,77,1553,103,303,"From Revenue Package"]
[44378,{"$f":"EDATE(NoOfBills[[#This Row],[MonthFlow]],1)","v":44409},3,15,236,8,219,237,1842,31,585,"From Revenue Package"]
[44378,{"$f":"EDATE(NoOfBills[[#This Row],[MonthFlow]],1)","v":44409},4,31,173,20,272,175,1091,79,625,"From Revenue Package"]
[44378,{"$f":"EDATE(NoOfBills[[#This Row],[MonthFlow]],1)","v":44409},5,23,204,15,171,209,1240,64,747,"From Revenue Package"]
[44378,{"$f":"EDATE(NoOfBills[[#This Row],[MonthFlow]],1)","v":44409},6,41,194,48,212,129,1216,128,736,"From Revenue Package"]
[44378,{"$f":"EDATE(NoOfBills[[#This Row],[MonthFlow]],1)","v":44409},7,43,200,14,111,195,1417,39,719,"From Revenue Package"]
[44378,{"$f":"EDATE(NoOfBills[[#This Row],[MonthFlow]],1)","v":44409},8,21,239,41,214,204,1399,61,609,"From Revenue Package"]
[44378,{"$f":"EDATE(NoOfBills[[#This Row],[MonthFlow]],1)","v":44409},9,64,259,13,177,189,1250,53,485,"From Revenue Package"]
[44378,{"$f":"EDATE(NoOfBills[[#This Row],[MonthFlow]],1)","v":44409},10,31,251,40,97,150,1515,47,797,"From Revenue Package"]
[44378,{"$f":"EDATE(NoOfBills[[#This Row],[MonthFlow]],1)","v":44409},11,21,229,15,208,168,1327,102,570,"From Revenue Package"]
[44378,{"$f":"EDATE(NoOfBills[[#This Row],[MonthFlow]],1)","v":44409},12,59,236,21,143,141,1239,47,647,"From Revenue Package"]
[44378,{"$f":"EDATE(NoOfBills[[#This Row],[MonthFlow]],1)","v":44409},13,27,239,7,58,151,1534,43,357,"From Revenue Package"]
[44378,{"$f":"EDATE(NoOfBills[[#This Row],[MonthFlow]],1)","v":44409},14,25,190,37,130,189,1540,161,867,"From Revenue Package"]
[44378,{"$f":"EDATE(NoOfBills[[#This Row],[MonthFlow]],1)","v":44409},15,67,262,25,172,136,1260,34,395,"From Revenue Package"]
[44378,{"$f":"EDATE(NoOfBills[[#This Row],[MonthFlow]],1)","v":44409},16,61,148,11,194,204,1383,50,440,"From Revenue Package"]
[44378,{"$f":"EDATE(NoOfBills[[#This Row],[MonthFlow]],1)","v":44409},17,21,191,5,88,127,1136,55,504,"From Revenue Package"]
[44378,{"$f":"EDATE(NoOfBills[[#This Row],[MonthFlow]],1)","v":44409},18,67,277,26,213,202,1371,121,920,"From Revenue Package"]
[44378,{"$f":"EDATE(NoOfBills[[#This Row],[MonthFlow]],1)","v":44409},19,43,116,49,234,162,1783,83,306,"From Revenue Package"]
[44409,{"$f":"EDATE(NoOfBills[[#This Row],[MonthFlow]],1)","v":44440},1,12,337,90,147,132,1630,133,579,"From Revenue Package"]
[44409,{"$f":"EDATE(NoOfBills[[#This Row],[MonthFlow]],1)","v":44440},2,10,277,25,166,78,1528,103,304,"From Revenue Package"]
[44409,{"$f":"EDATE(NoOfBills[[#This Row],[MonthFlow]],1)","v":44440},3,15,230,8,215,237,1795,32,587,"From Revenue Package"]
[44409,{"$f":"EDATE(NoOfBills[[#This Row],[MonthFlow]],1)","v":44440},4,32,173,20,271,176,1061,76,634,"From Revenue Package"]
[44409,{"$f":"EDATE(NoOfBills[[#This Row],[MonthFlow]],1)","v":44440},5,23,203,15,172,210,1223,64,746,"From Revenue Package"]
[44409,{"$f":"EDATE(NoOfBills[[#This Row],[MonthFlow]],1)","v":44440},6,41,191,48,207,128,1221,127,727,"From Revenue Package"]
[44409,{"$f":"EDATE(NoOfBills[[#This Row],[MonthFlow]],1)","v":44440},7,38,202,15,112,200,1402,40,708,"From Revenue Package"]
[44409,{"$f":"EDATE(NoOfBills[[#This Row],[MonthFlow]],1)","v":44440},8,22,239,41,210,205,1393,61,613,"From Revenue Package"]
[44409,{"$f":"EDATE(NoOfBills[[#This Row],[MonthFlow]],1)","v":44440},9,63,256,13,177,184,1242,54,483,"From Revenue Package"]
[44409,{"$f":"EDATE(NoOfBills[[#This Row],[MonthFlow]],1)","v":44440},10,32,244,41,97,152,1511,47,801,"From Revenue Package"]
[44409,{"$f":"EDATE(NoOfBills[[#This Row],[MonthFlow]],1)","v":44440},11,21,223,15,202,169,1330,99,575,"From Revenue Package"]
[44409,{"$f":"EDATE(NoOfBills[[#This Row],[MonthFlow]],1)","v":44440},12,59,240,21,141,141,1232,48,647,"From Revenue Package"]
[44409,{"$f":"EDATE(NoOfBills[[#This Row],[MonthFlow]],1)","v":44440},13,26,246,7,58,149,1523,41,353,"From Revenue Package"]
[44409,{"$f":"EDATE(NoOfBills[[#This Row],[MonthFlow]],1)","v":44440},14,23,195,37,128,189,1510,161,863,"From Revenue Package"]
[44409,{"$f":"EDATE(NoOfBills[[#This Row],[MonthFlow]],1)","v":44440},15,67,264,25,176,137,1255,32,391,"From Revenue Package"]
[44409,{"$f":"EDATE(NoOfBills[[#This Row],[MonthFlow]],1)","v":44440},16,59,147,11,194,198,1365,50,440,"From Revenue Package"]
[44409,{"$f":"EDATE(NoOfBills[[#This Row],[MonthFlow]],1)","v":44440},17,21,189,5,87,131,1131,56,498,"From Revenue Package"]
[44409,{"$f":"EDATE(NoOfBills[[#This Row],[MonthFlow]],1)","v":44440},18,67,277,25,207,204,1360,125,919,"From Revenue Package"]
[44409,{"$f":"EDATE(NoOfBills[[#This Row],[MonthFlow]],1)","v":44440},19,43,111,46,235,161,1764,83,303,"From Revenue Package"]
[44440,{"$f":"EDATE(NoOfBills[[#This Row],[MonthFlow]],1)","v":44470},1,12,335,88,148,131,1647,137,573,"From Revenue Package"]
[44440,{"$f":"EDATE(NoOfBills[[#This Row],[MonthFlow]],1)","v":44470},2,10,278,25,165,78,1534,100,318,"From Revenue Package"]
[44440,{"$f":"EDATE(NoOfBills[[#This Row],[MonthFlow]],1)","v":44470},3,15,228,8,210,234,1801,33,587,"From Revenue Package"]
[44440,{"$f":"EDATE(NoOfBills[[#This Row],[MonthFlow]],1)","v":44470},4,30,174,20,267,172,1061,76,625,"From Revenue Package"]
[44440,{"$f":"EDATE(NoOfBills[[#This Row],[MonthFlow]],1)","v":44470},5,23,201,15,169,209,1220,64,748,"From Revenue Package"]
[44440,{"$f":"EDATE(NoOfBills[[#This Row],[MonthFlow]],1)","v":44470},6,41,197,48,211,129,1221,127,729,"From Revenue Package"]
[44440,{"$f":"EDATE(NoOfBills[[#This Row],[MonthFlow]],1)","v":44470},7,40,202,15,112,197,1416,36,706,"From Revenue Package"]
[44440,{"$f":"EDATE(NoOfBills[[#This Row],[MonthFlow]],1)","v":44470},8,22,236,41,213,205,1398,61,603,"From Revenue Package"]
[44440,{"$f":"EDATE(NoOfBills[[#This Row],[MonthFlow]],1)","v":44470},9,65,260,13,177,188,1250,53,485,"From Revenue Package"]
[44440,{"$f":"EDATE(NoOfBills[[#This Row],[MonthFlow]],1)","v":44470},10,31,245,41,98,149,1500,47,801,"From Revenue Package"]
[44440,{"$f":"EDATE(NoOfBills[[#This Row],[MonthFlow]],1)","v":44470},11,21,225,15,204,164,1322,100,565,"From Revenue Package"]
[44440,{"$f":"EDATE(NoOfBills[[#This Row],[MonthFlow]],1)","v":44470},12,59,242,21,142,142,1227,48,647,"From Revenue Package"]
[44440,{"$f":"EDATE(NoOfBills[[#This Row],[MonthFlow]],1)","v":44470},13,28,245,7,58,149,1528,40,345,"From Revenue Package"]
[44440,{"$f":"EDATE(NoOfBills[[#This Row],[MonthFlow]],1)","v":44470},14,23,195,37,129,190,1519,161,862,"From Revenue Package"]
[44440,{"$f":"EDATE(NoOfBills[[#This Row],[MonthFlow]],1)","v":44470},15,67,265,25,173,136,1256,32,386,"From Revenue Package"]
[44440,{"$f":"EDATE(NoOfBills[[#This Row],[MonthFlow]],1)","v":44470},16,62,148,11,193,198,1370,49,439,"From Revenue Package"]
[44440,{"$f":"EDATE(NoOfBills[[#This Row],[MonthFlow]],1)","v":44470},17,21,190,5,87,130,1136,56,500,"From Revenue Package"]
[44440,{"$f":"EDATE(NoOfBills[[#This Row],[MonthFlow]],1)","v":44470},18,67,277,25,212,203,1370,121,921,"From Revenue Package"]
[44440,{"$f":"EDATE(NoOfBills[[#This Row],[MonthFlow]],1)","v":44470},19,43,112,47,232,160,1769,83,304,"From Revenue Package"]
[44470,{"$f":"EDATE(NoOfBills[[#This Row],[MonthFlow]],1)","v":44501},1,12,339,87,147,131,1620,136,577,"From Revenue Package"]
[44470,{"$f":"EDATE(NoOfBills[[#This Row],[MonthFlow]],1)","v":44501},2,10,282,29,166,78,1531,101,307,"From Revenue Package"]
[44470,{"$f":"EDATE(NoOfBills[[#This Row],[MonthFlow]],1)","v":44501},3,16,228,8,215,234,1810,31,588,"From Revenue Package"]
[44470,{"$f":"EDATE(NoOfBills[[#This Row],[MonthFlow]],1)","v":44501},4,30,176,20,270,171,1068,77,626,"From Revenue Package"]
[44470,{"$f":"EDATE(NoOfBills[[#This Row],[MonthFlow]],1)","v":44501},5,24,207,15,168,214,1227,64,746,"From Revenue Package"]
[44470,{"$f":"EDATE(NoOfBills[[#This Row],[MonthFlow]],1)","v":44501},6,42,192,49,214,129,1212,127,735,"From Revenue Package"]
[44470,{"$f":"EDATE(NoOfBills[[#This Row],[MonthFlow]],1)","v":44501},7,40,205,15,114,197,1399,36,723,"From Revenue Package"]
[44470,{"$f":"EDATE(NoOfBills[[#This Row],[MonthFlow]],1)","v":44501},8,22,243,41,215,203,1389,61,609,"From Revenue Package"]
[44470,{"$f":"EDATE(NoOfBills[[#This Row],[MonthFlow]],1)","v":44501},9,65,264,14,177,187,1246,54,490,"From Revenue Package"]
[44470,{"$f":"EDATE(NoOfBills[[#This Row],[MonthFlow]],1)","v":44501},10,31,247,40,99,147,1509,47,794,"From Revenue Package"]
[44470,{"$f":"EDATE(NoOfBills[[#This Row],[MonthFlow]],1)","v":44501},11,21,230,15,205,166,1314,100,574,"From Revenue Package"]
[44470,{"$f":"EDATE(NoOfBills[[#This Row],[MonthFlow]],1)","v":44501},12,61,255,21,142,142,1224,48,649,"From Revenue Package"]
[44470,{"$f":"EDATE(NoOfBills[[#This Row],[MonthFlow]],1)","v":44501},13,27,251,7,57,151,1513,40,350,"From Revenue Package"]
[44470,{"$f":"EDATE(NoOfBills[[#This Row],[MonthFlow]],1)","v":44501},14,23,195,38,130,189,1522,160,864,"From Revenue Package"]
[44470,{"$f":"EDATE(NoOfBills[[#This Row],[MonthFlow]],1)","v":44501},15,67,267,24,171,138,1258,32,390,"From Revenue Package"]
[44470,{"$f":"EDATE(NoOfBills[[#This Row],[MonthFlow]],1)","v":44501},16,61,149,11,197,200,1372,48,441,"From Revenue Package"]
[44470,{"$f":"EDATE(NoOfBills[[#This Row],[MonthFlow]],1)","v":44501},17,21,189,5,88,125,1068,55,500,"From Revenue Package"]
[44470,{"$f":"EDATE(NoOfBills[[#This Row],[MonthFlow]],1)","v":44501},18,67,284,25,201,203,1367,124,916,"From Revenue Package"]
[44470,{"$f":"EDATE(NoOfBills[[#This Row],[MonthFlow]],1)","v":44501},19,null,2,1,4,null,25,null,6,"From Revenue Package"]
[44501,{"$f":"EDATE(NoOfBills[[#This Row],[MonthFlow]],1)","v":44531},1,12,352,88,150,134,1643,140,601,"From Revenue Package"]
[44501,{"$f":"EDATE(NoOfBills[[#This Row],[MonthFlow]],1)","v":44531},2,10,287,21,168,78,1565,104,313,"From Revenue Package"]
[44501,{"$f":"EDATE(NoOfBills[[#This Row],[MonthFlow]],1)","v":44531},3,15,230,8,221,241,1826,31,599,"From Revenue Package"]
[44501,{"$f":"EDATE(NoOfBills[[#This Row],[MonthFlow]],1)","v":44531},4,32,180,20,273,174,1075,78,640,"From Revenue Package"]
[44501,{"$f":"EDATE(NoOfBills[[#This Row],[MonthFlow]],1)","v":44531},5,25,209,16,174,216,1239,66,757,"From Revenue Package"]
[44501,{"$f":"EDATE(NoOfBills[[#This Row],[MonthFlow]],1)","v":44531},6,44,207,50,220,130,1231,130,744,"From Revenue Package"]
[44501,{"$f":"EDATE(NoOfBills[[#This Row],[MonthFlow]],1)","v":44531},7,42,211,15,115,204,1426,37,734,"From Revenue Package"]
[44501,{"$f":"EDATE(NoOfBills[[#This Row],[MonthFlow]],1)","v":44531},8,23,249,41,216,206,1414,61,610,"From Revenue Package"]
[44501,{"$f":"EDATE(NoOfBills[[#This Row],[MonthFlow]],1)","v":44531},9,67,269,15,180,187,1262,57,490,"From Revenue Package"]
[44501,{"$f":"EDATE(NoOfBills[[#This Row],[MonthFlow]],1)","v":44531},10,37,253,43,98,150,1527,48,811,"From Revenue Package"]
[44501,{"$f":"EDATE(NoOfBills[[#This Row],[MonthFlow]],1)","v":44531},11,23,243,15,208,168,1337,100,568,"From Revenue Package"]
[44501,{"$f":"EDATE(NoOfBills[[#This Row],[MonthFlow]],1)","v":44531},12,64,259,21,143,141,1232,48,653,"From Revenue Package"]
[44501,{"$f":"EDATE(NoOfBills[[#This Row],[MonthFlow]],1)","v":44531},13,27,272,7,58,148,1540,42,361,"From Revenue Package"]
[44501,{"$f":"EDATE(NoOfBills[[#This Row],[MonthFlow]],1)","v":44531},14,24,214,38,130,191,1531,159,873,"From Revenue Package"]
[44501,{"$f":"EDATE(NoOfBills[[#This Row],[MonthFlow]],1)","v":44531},15,68,276,22,175,140,1277,33,412,"From Revenue Package"]
[44501,{"$f":"EDATE(NoOfBills[[#This Row],[MonthFlow]],1)","v":44531},16,63,154,10,194,204,1394,47,451,"From Revenue Package"]
[44501,{"$f":"EDATE(NoOfBills[[#This Row],[MonthFlow]],1)","v":44531},17,21,198,5,89,131,1223,56,519,"From Revenue Package"]
[44501,{"$f":"EDATE(NoOfBills[[#This Row],[MonthFlow]],1)","v":44531},18,67,289,26,211,210,1375,123,938,"From Revenue Package"]
[44501,{"$f":"EDATE(NoOfBills[[#This Row],[MonthFlow]],1)","v":44531},19,87,227,94,462,328,3524,168,597,"From Revenue Package"]
[44531,{"$f":"EDATE(NoOfBills[[#This Row],[MonthFlow]],1)","v":44562},1,12,351,91,157,136,1663,141,615,"From Revenue Package"]
[44531,{"$f":"EDATE(NoOfBills[[#This Row],[MonthFlow]],1)","v":44562},2,10,287,26,173,78,1581,112,319,"From Revenue Package"]
[44531,{"$f":"EDATE(NoOfBills[[#This Row],[MonthFlow]],1)","v":44562},3,15,235,8,218,246,1852,32,608,"From Revenue Package"]
[44531,{"$f":"EDATE(NoOfBills[[#This Row],[MonthFlow]],1)","v":44562},4,34,184,20,277,179,1099,83,651,"From Revenue Package"]
[44531,{"$f":"EDATE(NoOfBills[[#This Row],[MonthFlow]],1)","v":44562},5,26,211,16,176,219,1263,69,766,"From Revenue Package"]
[44531,{"$f":"EDATE(NoOfBills[[#This Row],[MonthFlow]],1)","v":44562},6,44,203,50,226,133,1243,130,753,"From Revenue Package"]
[44531,{"$f":"EDATE(NoOfBills[[#This Row],[MonthFlow]],1)","v":44562},7,44,211,15,117,209,1443,37,744,"From Revenue Package"]
[44531,{"$f":"EDATE(NoOfBills[[#This Row],[MonthFlow]],1)","v":44562},8,23,251,42,219,205,1427,60,630,"From Revenue Package"]
[44531,{"$f":"EDATE(NoOfBills[[#This Row],[MonthFlow]],1)","v":44562},9,68,271,15,183,192,1275,57,500,"From Revenue Package"]
[44531,{"$f":"EDATE(NoOfBills[[#This Row],[MonthFlow]],1)","v":44562},10,37,259,43,99,150,1543,48,824,"From Revenue Package"]
[44531,{"$f":"EDATE(NoOfBills[[#This Row],[MonthFlow]],1)","v":44562},11,23,247,15,210,172,1360,101,576,"From Revenue Package"]
[44531,{"$f":"EDATE(NoOfBills[[#This Row],[MonthFlow]],1)","v":44562},12,64,268,21,146,141,1260,48,669,"From Revenue Package"]
[44531,{"$f":"EDATE(NoOfBills[[#This Row],[MonthFlow]],1)","v":44562},13,27,279,8,58,149,1565,42,383,"From Revenue Package"]
[44531,{"$f":"EDATE(NoOfBills[[#This Row],[MonthFlow]],1)","v":44562},14,24,218,38,132,191,1579,165,908,"From Revenue Package"]
[44531,{"$f":"EDATE(NoOfBills[[#This Row],[MonthFlow]],1)","v":44562},15,67,287,25,177,142,1290,34,422,"From Revenue Package"]
[44531,{"$f":"EDATE(NoOfBills[[#This Row],[MonthFlow]],1)","v":44562},16,64,156,11,198,206,1458,49,464,"From Revenue Package"]
[44531,{"$f":"EDATE(NoOfBills[[#This Row],[MonthFlow]],1)","v":44562},17,21,199,5,90,130,1171,57,529,"From Revenue Package"]
[44531,{"$f":"EDATE(NoOfBills[[#This Row],[MonthFlow]],1)","v":44562},18,67,304,26,210,210,1406,122,954,"From Revenue Package"]
[44531,{"$f":"EDATE(NoOfBills[[#This Row],[MonthFlow]],1)","v":44562},19,44,119,49,246,171,1819,85,311,"From Revenue Package"]
[44562,{"$f":"EDATE(NoOfBills[[#This Row],[MonthFlow]],1)","v":44593},1,12,353,93,149,138,1648,141,617,"From Revenue Package"]
[44562,{"$f":"EDATE(NoOfBills[[#This Row],[MonthFlow]],1)","v":44593},2,10,296,25,173,78,1585,107,323,"From Revenue Package"]
[44562,{"$f":"EDATE(NoOfBills[[#This Row],[MonthFlow]],1)","v":44593},3,15,238,8,219,248,1851,33,608,"From Revenue Package"]
[44562,{"$f":"EDATE(NoOfBills[[#This Row],[MonthFlow]],1)","v":44593},4,38,185,20,279,176,1094,82,654,"From Revenue Package"]
[44562,{"$f":"EDATE(NoOfBills[[#This Row],[MonthFlow]],1)","v":44593},5,25,210,17,181,218,1249,69,765,"From Revenue Package"]
[44562,{"$f":"EDATE(NoOfBills[[#This Row],[MonthFlow]],1)","v":44593},6,45,206,51,228,130,1245,131,759,"From Revenue Package"]
[44562,{"$f":"EDATE(NoOfBills[[#This Row],[MonthFlow]],1)","v":44593},7,44,214,15,117,205,1444,37,749,"From Revenue Package"]
[44562,{"$f":"EDATE(NoOfBills[[#This Row],[MonthFlow]],1)","v":44593},8,23,253,40,218,207,1429,61,617,"From Revenue Package"]
[44562,{"$f":"EDATE(NoOfBills[[#This Row],[MonthFlow]],1)","v":44593},9,69,270,15,183,187,1294,56,501,"From Revenue Package"]
[44562,{"$f":"EDATE(NoOfBills[[#This Row],[MonthFlow]],1)","v":44593},10,37,264,43,99,152,1542,49,827,"From Revenue Package"]
[44562,{"$f":"EDATE(NoOfBills[[#This Row],[MonthFlow]],1)","v":44593},11,23,245,15,213,175,1355,102,575,"From Revenue Package"]
[44562,{"$f":"EDATE(NoOfBills[[#This Row],[MonthFlow]],1)","v":44593},12,66,265,21,146,144,1253,48,677,"From Revenue Package"]
[44562,{"$f":"EDATE(NoOfBills[[#This Row],[MonthFlow]],1)","v":44593},13,27,280,8,60,148,1568,43,388,"From Revenue Package"]
[44562,{"$f":"EDATE(NoOfBills[[#This Row],[MonthFlow]],1)","v":44593},14,24,220,38,132,192,1574,167,906,"From Revenue Package"]
[44562,{"$f":"EDATE(NoOfBills[[#This Row],[MonthFlow]],1)","v":44593},15,66,289,24,177,143,1295,34,425,"From Revenue Package"]
[44562,{"$f":"EDATE(NoOfBills[[#This Row],[MonthFlow]],1)","v":44593},16,64,163,11,202,209,1429,50,462,"From Revenue Package"]
[44562,{"$f":"EDATE(NoOfBills[[#This Row],[MonthFlow]],1)","v":44593},17,21,198,5,90,131,1175,59,531,"From Revenue Package"]
[44562,{"$f":"EDATE(NoOfBills[[#This Row],[MonthFlow]],1)","v":44593},18,67,298,26,214,211,1396,125,956,"From Revenue Package"]
[44562,{"$f":"EDATE(NoOfBills[[#This Row],[MonthFlow]],1)","v":44593},19,44,119,49,240,167,1810,88,309,"From Revenue Package"]
[44593,{"$f":"EDATE(NoOfBills[[#This Row],[MonthFlow]],1)","v":44621},1,12,358,94,157,139,1674,144,631,"From Revenue Package"]
[44593,{"$f":"EDATE(NoOfBills[[#This Row],[MonthFlow]],1)","v":44621},2,10,288,25,175,78,1598,108,326,"From Revenue Package"]
[44593,{"$f":"EDATE(NoOfBills[[#This Row],[MonthFlow]],1)","v":44621},3,15,246,8,221,252,1885,32,619,"From Revenue Package"]
[44593,{"$f":"EDATE(NoOfBills[[#This Row],[MonthFlow]],1)","v":44621},4,34,189,20,282,178,1106,82,661,"From Revenue Package"]
[44593,{"$f":"EDATE(NoOfBills[[#This Row],[MonthFlow]],1)","v":44621},5,25,211,15,183,229,1248,69,772,"From Revenue Package"]
[44593,{"$f":"EDATE(NoOfBills[[#This Row],[MonthFlow]],1)","v":44621},6,43,211,51,224,129,1259,131,768,"From Revenue Package"]
[44593,{"$f":"EDATE(NoOfBills[[#This Row],[MonthFlow]],1)","v":44621},7,45,211,14,117,209,1456,37,754,"From Revenue Package"]
[44593,{"$f":"EDATE(NoOfBills[[#This Row],[MonthFlow]],1)","v":44621},8,23,255,40,216,212,1430,61,624,"From Revenue Package"]
[44593,{"$f":"EDATE(NoOfBills[[#This Row],[MonthFlow]],1)","v":44621},9,69,270,15,185,188,1289,78,502,"From Revenue Package"]
[44593,{"$f":"EDATE(NoOfBills[[#This Row],[MonthFlow]],1)","v":44621},10,37,262,44,101,148,1548,50,829,"From Revenue Package"]
[44593,{"$f":"EDATE(NoOfBills[[#This Row],[MonthFlow]],1)","v":44621},11,23,248,15,217,173,1365,104,577,"From Revenue Package"]
[44593,{"$f":"EDATE(NoOfBills[[#This Row],[MonthFlow]],1)","v":44621},12,65,268,21,146,141,1274,46,671,"From Revenue Package"]
[44593,{"$f":"EDATE(NoOfBills[[#This Row],[MonthFlow]],1)","v":44621},13,27,280,8,62,148,1566,44,393,"From Revenue Package"]
[44593,{"$f":"EDATE(NoOfBills[[#This Row],[MonthFlow]],1)","v":44621},14,24,220,38,132,192,1573,167,908,"From Revenue Package"]
[44593,{"$f":"EDATE(NoOfBills[[#This Row],[MonthFlow]],1)","v":44621},15,65,288,23,178,143,1289,34,441,"From Revenue Package"]
[44593,{"$f":"EDATE(NoOfBills[[#This Row],[MonthFlow]],1)","v":44621},16,64,160,12,201,210,1440,51,464,"From Revenue Package"]
[44593,{"$f":"EDATE(NoOfBills[[#This Row],[MonthFlow]],1)","v":44621},17,21,198,5,92,131,1167,57,534,"From Revenue Package"]
[44593,{"$f":"EDATE(NoOfBills[[#This Row],[MonthFlow]],1)","v":44621},18,67,300,26,216,210,1396,125,952,"From Revenue Package"]
[44593,{"$f":"EDATE(NoOfBills[[#This Row],[MonthFlow]],1)","v":44621},19,44,121,50,241,174,1829,88,310,"From Revenue Package"]
[44621,{"$f":"EDATE(NoOfBills[[#This Row],[MonthFlow]],1)","v":44652},1,12,351,93,149,139,1655,140,617,"From Revenue Package"]
[44621,{"$f":"EDATE(NoOfBills[[#This Row],[MonthFlow]],1)","v":44652},2,10,292,25,180,77,1578,110,318,"From Revenue Package"]
[44621,{"$f":"EDATE(NoOfBills[[#This Row],[MonthFlow]],1)","v":44652},3,15,235,8,221,249,1846,30,606,"From Revenue Package"]
[44621,{"$f":"EDATE(NoOfBills[[#This Row],[MonthFlow]],1)","v":44652},4,34,182,20,270,174,1104,81,648,"From Revenue Package"]
[44621,{"$f":"EDATE(NoOfBills[[#This Row],[MonthFlow]],1)","v":44652},5,25,211,17,176,220,1249,71,769,"From Revenue Package"]
[44621,{"$f":"EDATE(NoOfBills[[#This Row],[MonthFlow]],1)","v":44652},6,44,206,52,224,129,1239,131,750,"From Revenue Package"]
[44621,{"$f":"EDATE(NoOfBills[[#This Row],[MonthFlow]],1)","v":44652},7,43,217,14,117,206,1440,37,755,"From Revenue Package"]
[44621,{"$f":"EDATE(NoOfBills[[#This Row],[MonthFlow]],1)","v":44652},8,23,251,40,223,207,1438,62,620,"From Revenue Package"]
[44621,{"$f":"EDATE(NoOfBills[[#This Row],[MonthFlow]],1)","v":44652},9,70,270,15,180,192,1287,57,499,"From Revenue Package"]
[44621,{"$f":"EDATE(NoOfBills[[#This Row],[MonthFlow]],1)","v":44652},10,37,263,43,100,148,1544,49,820,"From Revenue Package"]
[44621,{"$f":"EDATE(NoOfBills[[#This Row],[MonthFlow]],1)","v":44652},11,23,247,16,211,175,1362,102,579,"From Revenue Package"]
[44621,{"$f":"EDATE(NoOfBills[[#This Row],[MonthFlow]],1)","v":44652},12,65,262,21,144,140,1255,47,662,"From Revenue Package"]
[44621,{"$f":"EDATE(NoOfBills[[#This Row],[MonthFlow]],1)","v":44652},13,27,272,7,59,148,1562,42,386,"From Revenue Package"]
[44621,{"$f":"EDATE(NoOfBills[[#This Row],[MonthFlow]],1)","v":44652},14,25,218,37,134,191,1557,163,903,"From Revenue Package"]
[44621,{"$f":"EDATE(NoOfBills[[#This Row],[MonthFlow]],1)","v":44652},15,65,288,25,176,143,1284,34,422,"From Revenue Package"]
[44621,{"$f":"EDATE(NoOfBills[[#This Row],[MonthFlow]],1)","v":44652},16,64,156,12,199,209,1423,51,459,"From Revenue Package"]
[44621,{"$f":"EDATE(NoOfBills[[#This Row],[MonthFlow]],1)","v":44652},17,21,198,5,90,132,1166,56,525,"From Revenue Package"]
[44621,{"$f":"EDATE(NoOfBills[[#This Row],[MonthFlow]],1)","v":44652},18,65,297,27,215,214,1389,124,951,"From Revenue Package"]
[44621,{"$f":"EDATE(NoOfBills[[#This Row],[MonthFlow]],1)","v":44652},19,43,118,49,237,170,1815,86,307,"From Revenue Package"]
[44652,{"$f":"EDATE(NoOfBills[[#This Row],[MonthFlow]],1)","v":44682},1,12,376,96,157,136,1662,145,612,"From Revenue Package"]
[44652,{"$f":"EDATE(NoOfBills[[#This Row],[MonthFlow]],1)","v":44682},2,10,290,25,174,76,1575,110,327,"From Revenue Package"]
[44652,{"$f":"EDATE(NoOfBills[[#This Row],[MonthFlow]],1)","v":44682},3,15,239,8,216,249,1849,31,608,"From Revenue Package"]
[44652,{"$f":"EDATE(NoOfBills[[#This Row],[MonthFlow]],1)","v":44682},4,35,187,20,274,179,1127,80,647,"From Revenue Package"]
[44652,{"$f":"EDATE(NoOfBills[[#This Row],[MonthFlow]],1)","v":44682},5,25,213,21,177,220,1243,68,768,"From Revenue Package"]
[44652,{"$f":"EDATE(NoOfBills[[#This Row],[MonthFlow]],1)","v":44682},6,46,203,50,223,129,1238,131,762,"From Revenue Package"]
[44652,{"$f":"EDATE(NoOfBills[[#This Row],[MonthFlow]],1)","v":44682},7,43,205,14,119,207,1433,37,756,"From Revenue Package"]
[44652,{"$f":"EDATE(NoOfBills[[#This Row],[MonthFlow]],1)","v":44682},8,23,256,41,216,203,1423,60,616,"From Revenue Package"]
[44652,{"$f":"EDATE(NoOfBills[[#This Row],[MonthFlow]],1)","v":44682},9,70,271,16,178,188,1266,57,494,"From Revenue Package"]
[44652,{"$f":"EDATE(NoOfBills[[#This Row],[MonthFlow]],1)","v":44682},10,37,260,42,100,147,1541,48,826,"From Revenue Package"]
[44652,{"$f":"EDATE(NoOfBills[[#This Row],[MonthFlow]],1)","v":44682},11,23,243,16,210,179,1354,102,583,"From Revenue Package"]
[44652,{"$f":"EDATE(NoOfBills[[#This Row],[MonthFlow]],1)","v":44682},12,66,269,21,145,139,1250,47,671,"From Revenue Package"]
[44652,{"$f":"EDATE(NoOfBills[[#This Row],[MonthFlow]],1)","v":44682},13,27,276,7,60,148,1571,43,394,"From Revenue Package"]
[44652,{"$f":"EDATE(NoOfBills[[#This Row],[MonthFlow]],1)","v":44682},14,24,220,37,138,195,1590,165,895,"From Revenue Package"]
[44652,{"$f":"EDATE(NoOfBills[[#This Row],[MonthFlow]],1)","v":44682},15,68,286,24,179,141,1298,34,421,"From Revenue Package"]
[44652,{"$f":"EDATE(NoOfBills[[#This Row],[MonthFlow]],1)","v":44682},16,64,156,12,201,208,1420,51,455,"From Revenue Package"]
[44652,{"$f":"EDATE(NoOfBills[[#This Row],[MonthFlow]],1)","v":44682},17,21,192,4,90,132,1168,55,526,"From Revenue Package"]
[44652,{"$f":"EDATE(NoOfBills[[#This Row],[MonthFlow]],1)","v":44682},18,65,294,27,214,206,1387,124,956,"From Revenue Package"]
[44652,{"$f":"EDATE(NoOfBills[[#This Row],[MonthFlow]],1)","v":44682},19,43,122,50,240,166,1811,85,306,"From Revenue Package"]
[44682,{"$f":"EDATE(NoOfBills[[#This Row],[MonthFlow]],1)","v":44713},1,12,345,89,151,131,1666,134,599,"From Revenue Package"]
[44682,{"$f":"EDATE(NoOfBills[[#This Row],[MonthFlow]],1)","v":44713},2,10,285,25,176,78,1564,100,309,"From Revenue Package"]
[44682,{"$f":"EDATE(NoOfBills[[#This Row],[MonthFlow]],1)","v":44713},3,15,242,8,221,247,1836,31,593,"From Revenue Package"]
[44682,{"$f":"EDATE(NoOfBills[[#This Row],[MonthFlow]],1)","v":44713},4,33,180,20,263,178,1077,76,634,"From Revenue Package"]
[44682,{"$f":"EDATE(NoOfBills[[#This Row],[MonthFlow]],1)","v":44713},5,25,208,18,178,219,1244,67,775,"From Revenue Package"]
[44682,{"$f":"EDATE(NoOfBills[[#This Row],[MonthFlow]],1)","v":44713},6,42,204,51,224,129,1228,128,754,"From Revenue Package"]
[44682,{"$f":"EDATE(NoOfBills[[#This Row],[MonthFlow]],1)","v":44713},7,44,202,15,116,206,1440,37,750,"From Revenue Package"]
[44682,{"$f":"EDATE(NoOfBills[[#This Row],[MonthFlow]],1)","v":44713},8,24,249,39,216,206,1412,61,615,"From Revenue Package"]
[44682,{"$f":"EDATE(NoOfBills[[#This Row],[MonthFlow]],1)","v":44713},9,69,264,14,176,188,1276,57,489,"From Revenue Package"]
[44682,{"$f":"EDATE(NoOfBills[[#This Row],[MonthFlow]],1)","v":44713},10,36,246,40,99,145,1524,48,813,"From Revenue Package"]
[44682,{"$f":"EDATE(NoOfBills[[#This Row],[MonthFlow]],1)","v":44713},11,21,228,16,209,171,1342,102,564,"From Revenue Package"]
[44682,{"$f":"EDATE(NoOfBills[[#This Row],[MonthFlow]],1)","v":44713},12,63,247,21,144,140,1231,46,663,"From Revenue Package"]
[44682,{"$f":"EDATE(NoOfBills[[#This Row],[MonthFlow]],1)","v":44713},13,27,246,7,59,146,1536,41,378,"From Revenue Package"]
[44682,{"$f":"EDATE(NoOfBills[[#This Row],[MonthFlow]],1)","v":44713},14,24,202,36,129,186,1557,162,884,"From Revenue Package"]
[44682,{"$f":"EDATE(NoOfBills[[#This Row],[MonthFlow]],1)","v":44713},15,63,276,24,176,140,1266,34,401,"From Revenue Package"]
[44682,{"$f":"EDATE(NoOfBills[[#This Row],[MonthFlow]],1)","v":44713},16,62,149,12,195,206,1397,50,451,"From Revenue Package"]
[44682,{"$f":"EDATE(NoOfBills[[#This Row],[MonthFlow]],1)","v":44713},17,21,188,4,87,131,1164,55,516,"From Revenue Package"]
[44682,{"$f":"EDATE(NoOfBills[[#This Row],[MonthFlow]],1)","v":44713},18,65,282,27,210,209,1372,122,939,"From Revenue Package"]
[44682,{"$f":"EDATE(NoOfBills[[#This Row],[MonthFlow]],1)","v":44713},19,43,116,47,236,166,1804,85,303,"From Revenue Package"]
[44713,{"$f":"EDATE(NoOfBills[[#This Row],[MonthFlow]],1)","v":44743},1,12,338,86,152,126,1633,132,585,"From Revenue Package"]
[44713,{"$f":"EDATE(NoOfBills[[#This Row],[MonthFlow]],1)","v":44743},2,10,277,25,176,78,1538,99,299,"From Revenue Package"]
[44713,{"$f":"EDATE(NoOfBills[[#This Row],[MonthFlow]],1)","v":44743},3,15,219,8,213,240,1824,31,583,"From Revenue Package"]
[44713,{"$f":"EDATE(NoOfBills[[#This Row],[MonthFlow]],1)","v":44743},4,32,173,20,267,174,1067,75,619,"From Revenue Package"]
[44713,{"$f":"EDATE(NoOfBills[[#This Row],[MonthFlow]],1)","v":44743},5,25,207,16,175,220,1246,67,752,"From Revenue Package"]
[44713,{"$f":"EDATE(NoOfBills[[#This Row],[MonthFlow]],1)","v":44743},6,42,200,48,207,129,1220,127,727,"From Revenue Package"]
[44713,{"$f":"EDATE(NoOfBills[[#This Row],[MonthFlow]],1)","v":44743},7,46,201,14,111,195,1403,35,730,"From Revenue Package"]
[44713,{"$f":"EDATE(NoOfBills[[#This Row],[MonthFlow]],1)","v":44743},8,23,242,38,211,201,1398,61,603,"From Revenue Package"]
[44713,{"$f":"EDATE(NoOfBills[[#This Row],[MonthFlow]],1)","v":44743},9,66,261,14,176,186,1249,56,481,"From Revenue Package"]
[44713,{"$f":"EDATE(NoOfBills[[#This Row],[MonthFlow]],1)","v":44743},10,36,241,40,99,144,1498,45,815,"From Revenue Package"]
[44713,{"$f":"EDATE(NoOfBills[[#This Row],[MonthFlow]],1)","v":44743},11,21,222,16,205,171,1332,100,566,"From Revenue Package"]
[44713,{"$f":"EDATE(NoOfBills[[#This Row],[MonthFlow]],1)","v":44743},12,58,234,21,137,136,1225,46,645,"From Revenue Package"]
[44713,{"$f":"EDATE(NoOfBills[[#This Row],[MonthFlow]],1)","v":44743},13,27,235,7,58,150,1524,41,352,"From Revenue Package"]
[44713,{"$f":"EDATE(NoOfBills[[#This Row],[MonthFlow]],1)","v":44743},14,24,192,37,130,189,1529,162,857,"From Revenue Package"]
[44713,{"$f":"EDATE(NoOfBills[[#This Row],[MonthFlow]],1)","v":44743},15,63,268,23,172,138,1254,33,399,"From Revenue Package"]
[44713,{"$f":"EDATE(NoOfBills[[#This Row],[MonthFlow]],1)","v":44743},16,60,146,12,195,202,1376,49,448,"From Revenue Package"]
[44713,{"$f":"EDATE(NoOfBills[[#This Row],[MonthFlow]],1)","v":44743},17,21,182,4,87,131,1140,54,502,"From Revenue Package"]
[44713,{"$f":"EDATE(NoOfBills[[#This Row],[MonthFlow]],1)","v":44743},18,65,269,25,205,204,1368,120,932,"From Revenue Package"]
[44713,{"$f":"EDATE(NoOfBills[[#This Row],[MonthFlow]],1)","v":44743},19,43,116,47,229,164,1781,84,299,"From Revenue Package"]
[44743,{"$f":"EDATE(NoOfBills[[#This Row],[MonthFlow]],1)","v":44774},1,12,323,86,141,125,1596,131,568]
[44743,{"$f":"EDATE(NoOfBills[[#This Row],[MonthFlow]],1)","v":44774},2,10,268,25,164,78,1528,98,284]
[44743,{"$f":"EDATE(NoOfBills[[#This Row],[MonthFlow]],1)","v":44774},3,15,207,8,208,238,1783,31,553]
[44743,{"$f":"EDATE(NoOfBills[[#This Row],[MonthFlow]],1)","v":44774},4,32,167,19,256,171,1049,73,595]
[44743,{"$f":"EDATE(NoOfBills[[#This Row],[MonthFlow]],1)","v":44774},5,25,200,16,163,211,1214,67,744]
[44743,{"$f":"EDATE(NoOfBills[[#This Row],[MonthFlow]],1)","v":44774},6,42,197,46,208,127,1196,126,712]
[44743,{"$f":"EDATE(NoOfBills[[#This Row],[MonthFlow]],1)","v":44774},7,42,197,14,110,193,1381,33,709]
[44743,{"$f":"EDATE(NoOfBills[[#This Row],[MonthFlow]],1)","v":44774},8,22,234,38,208,204,1373,61,593]
[44743,{"$f":"EDATE(NoOfBills[[#This Row],[MonthFlow]],1)","v":44774},9,70,259,14,175,180,1223,55,465]
[44743,{"$f":"EDATE(NoOfBills[[#This Row],[MonthFlow]],1)","v":44774},10,35,236,40,97,143,1478,46,788]
[44743,{"$f":"EDATE(NoOfBills[[#This Row],[MonthFlow]],1)","v":44774},11,21,223,16,202,169,1305,98,560]
[44743,{"$f":"EDATE(NoOfBills[[#This Row],[MonthFlow]],1)","v":44774},12,58,225,21,134,134,1176,46,610]
[44743,{"$f":"EDATE(NoOfBills[[#This Row],[MonthFlow]],1)","v":44774},13,27,231,7,57,146,1477,41,343]
[44743,{"$f":"EDATE(NoOfBills[[#This Row],[MonthFlow]],1)","v":44774},14,23,190,33,125,182,1489,159,826]
[44743,{"$f":"EDATE(NoOfBills[[#This Row],[MonthFlow]],1)","v":44774},15,63,261,24,166,138,1240,33,372]
[44743,{"$f":"EDATE(NoOfBills[[#This Row],[MonthFlow]],1)","v":44774},16,60,141,11,193,198,1330,49,430]
[44743,{"$f":"EDATE(NoOfBills[[#This Row],[MonthFlow]],1)","v":44774},17,21,173,4,83,133,1100,54,492]
[44743,{"$f":"EDATE(NoOfBills[[#This Row],[MonthFlow]],1)","v":44774},18,65,266,26,198,201,1330,121,910]
[44743,{"$f":"EDATE(NoOfBills[[#This Row],[MonthFlow]],1)","v":44774},19,43,107,46,227,158,1722,82,296]
[44774,{"$f":"EDATE(NoOfBills[[#This Row],[MonthFlow]],1)","v":44805},1,12,329,86,140,125,1593,131,570]
[44774,{"$f":"EDATE(NoOfBills[[#This Row],[MonthFlow]],1)","v":44805},2,10,279,25,166,77,1504,98,279]
[44774,{"$f":"EDATE(NoOfBills[[#This Row],[MonthFlow]],1)","v":44805},3,15,207,8,212,236,1764,31,560]
[44774,{"$f":"EDATE(NoOfBills[[#This Row],[MonthFlow]],1)","v":44805},4,32,164,19,260,169,1029,73,595]
[44774,{"$f":"EDATE(NoOfBills[[#This Row],[MonthFlow]],1)","v":44805},5,25,200,16,166,211,1217,66,745]
[44774,{"$f":"EDATE(NoOfBills[[#This Row],[MonthFlow]],1)","v":44805},6,42,195,45,205,126,1183,126,709]
[44774,{"$f":"EDATE(NoOfBills[[#This Row],[MonthFlow]],1)","v":44805},7,42,196,14,110,193,1380,34,708]
[44774,{"$f":"EDATE(NoOfBills[[#This Row],[MonthFlow]],1)","v":44805},8,22,234,38,209,202,1373,62,592]
[44774,{"$f":"EDATE(NoOfBills[[#This Row],[MonthFlow]],1)","v":44805},9,69,261,14,177,182,1224,56,467]
[44774,{"$f":"EDATE(NoOfBills[[#This Row],[MonthFlow]],1)","v":44805},10,35,241,40,98,144,1476,45,787]
[44774,{"$f":"EDATE(NoOfBills[[#This Row],[MonthFlow]],1)","v":44805},11,20,220,16,201,169,1303,96,556]
[44774,{"$f":"EDATE(NoOfBills[[#This Row],[MonthFlow]],1)","v":44805},12,57,223,21,131,132,1167,46,612]
[44774,{"$f":"EDATE(NoOfBills[[#This Row],[MonthFlow]],1)","v":44805},13,27,234,7,57,145,1486,39,342]
[44774,{"$f":"EDATE(NoOfBills[[#This Row],[MonthFlow]],1)","v":44805},14,24,194,35,128,182,1474,159,828]
[44774,{"$f":"EDATE(NoOfBills[[#This Row],[MonthFlow]],1)","v":44805},15,63,259,24,167,138,1234,32,376]
[44774,{"$f":"EDATE(NoOfBills[[#This Row],[MonthFlow]],1)","v":44805},16,59,142,11,192,198,1338,49,429]
[44774,{"$f":"EDATE(NoOfBills[[#This Row],[MonthFlow]],1)","v":44805},17,21,176,4,84,134,1110,53,492]
[44774,{"$f":"EDATE(NoOfBills[[#This Row],[MonthFlow]],1)","v":44805},18,65,268,24,198,204,1353,121,903]
[44774,{"$f":"EDATE(NoOfBills[[#This Row],[MonthFlow]],1)","v":44805},19,43,107,44,222,157,1731,82,296]
[44805,{"$f":"EDATE(NoOfBills[[#This Row],[MonthFlow]],1)","v":44835},1,12,326,85,138,125,1589,131,564]
[44805,{"$f":"EDATE(NoOfBills[[#This Row],[MonthFlow]],1)","v":44835},2,10,279,25,164,77,1497,96,278]
[44805,{"$f":"EDATE(NoOfBills[[#This Row],[MonthFlow]],1)","v":44835},3,15,212,8,210,235,1754,30,561]
[44805,{"$f":"EDATE(NoOfBills[[#This Row],[MonthFlow]],1)","v":44835},4,32,161,19,256,165,1038,73,591]
[44805,{"$f":"EDATE(NoOfBills[[#This Row],[MonthFlow]],1)","v":44835},5,25,197,16,161,211,1197,66,742]
[44805,{"$f":"EDATE(NoOfBills[[#This Row],[MonthFlow]],1)","v":44835},6,42,193,45,201,126,1192,124,708]
[44805,{"$f":"EDATE(NoOfBills[[#This Row],[MonthFlow]],1)","v":44835},7,42,196,14,110,192,1370,35,710]
[44805,{"$f":"EDATE(NoOfBills[[#This Row],[MonthFlow]],1)","v":44835},8,23,231,38,205,203,1368,62,591]
[44805,{"$f":"EDATE(NoOfBills[[#This Row],[MonthFlow]],1)","v":44835},9,68,263,14,174,183,1220,56,464]
[44805,{"$f":"EDATE(NoOfBills[[#This Row],[MonthFlow]],1)","v":44835},10,35,245,40,98,144,1484,46,784]
[44805,{"$f":"EDATE(NoOfBills[[#This Row],[MonthFlow]],1)","v":44835},11,20,219,16,201,169,1301,94,562]
[44805,{"$f":"EDATE(NoOfBills[[#This Row],[MonthFlow]],1)","v":44835},12,57,223,21,134,134,1173,46,617]
[44805,{"$f":"EDATE(NoOfBills[[#This Row],[MonthFlow]],1)","v":44835},13,27,239,7,57,145,1483,39,340]
[44805,{"$f":"EDATE(NoOfBills[[#This Row],[MonthFlow]],1)","v":44835},14,23,190,35,127,182,1491,157,830]
[44805,{"$f":"EDATE(NoOfBills[[#This Row],[MonthFlow]],1)","v":44835},15,63,261,24,167,138,1239,33,379]
[44805,{"$f":"EDATE(NoOfBills[[#This Row],[MonthFlow]],1)","v":44835},16,59,142,10,191,200,1341,49,431]
[44805,{"$f":"EDATE(NoOfBills[[#This Row],[MonthFlow]],1)","v":44835},17,21,179,4,84,134,1112,53,497]
[44805,{"$f":"EDATE(NoOfBills[[#This Row],[MonthFlow]],1)","v":44835},18,65,262,25,198,204,1336,121,910]
[44805,{"$f":"EDATE(NoOfBills[[#This Row],[MonthFlow]],1)","v":44835},19,43,105,43,224,158,1734,81,300]
[44835,{"$f":"EDATE(NoOfBills[[#This Row],[MonthFlow]],1)","v":44866},1,12,341,87,138,127,1612,132,583]
[44835,{"$f":"EDATE(NoOfBills[[#This Row],[MonthFlow]],1)","v":44866},2,10,288,25,168,77,1528,98,292]
[44835,{"$f":"EDATE(NoOfBills[[#This Row],[MonthFlow]],1)","v":44866},3,15,230,8,213,236,1781,30,581]
[44835,{"$f":"EDATE(NoOfBills[[#This Row],[MonthFlow]],1)","v":44866},4,32,171,19,267,169,1059,76,609]
[44835,{"$f":"EDATE(NoOfBills[[#This Row],[MonthFlow]],1)","v":44866},5,25,208,16,167,212,1220,67,756]
[44835,{"$f":"EDATE(NoOfBills[[#This Row],[MonthFlow]],1)","v":44866},6,44,201,47,212,126,1212,128,733]
[44835,{"$f":"EDATE(NoOfBills[[#This Row],[MonthFlow]],1)","v":44866},7,44,206,14,112,193,1401,35,730]
[44835,{"$f":"EDATE(NoOfBills[[#This Row],[MonthFlow]],1)","v":44866},8,23,242,38,216,205,1390,63,610]
[44835,{"$f":"EDATE(NoOfBills[[#This Row],[MonthFlow]],1)","v":44866},9,72,270,14,178,184,1254,58,476]
[44835,{"$f":"EDATE(NoOfBills[[#This Row],[MonthFlow]],1)","v":44866},10,37,252,40,100,149,1504,50,806]
[44835,{"$f":"EDATE(NoOfBills[[#This Row],[MonthFlow]],1)","v":44866},11,23,234,16,205,167,1317,97,574]
[44835,{"$f":"EDATE(NoOfBills[[#This Row],[MonthFlow]],1)","v":44866},12,62,245,21,137,134,1197,46,655]
[44835,{"$f":"EDATE(NoOfBills[[#This Row],[MonthFlow]],1)","v":44866},13,27,265,7,58,146,1523,40,358]
[44835,{"$f":"EDATE(NoOfBills[[#This Row],[MonthFlow]],1)","v":44866},14,23,205,37,131,182,1524,159,857]
[44835,{"$f":"EDATE(NoOfBills[[#This Row],[MonthFlow]],1)","v":44866},15,65,274,25,174,139,1252,33,396]
[44835,{"$f":"EDATE(NoOfBills[[#This Row],[MonthFlow]],1)","v":44866},16,74,154,12,195,199,1373,50,450]
[44835,{"$f":"EDATE(NoOfBills[[#This Row],[MonthFlow]],1)","v":44866},17,21,190,4,84,134,1139,54,506]
[44835,{"$f":"EDATE(NoOfBills[[#This Row],[MonthFlow]],1)","v":44866},18,65,285,26,209,207,1364,122,934]
[44835,{"$f":"EDATE(NoOfBills[[#This Row],[MonthFlow]],1)","v":44866},19,44,113,47,230,160,1770,84,306]
[44866,{"$f":"EDATE(NoOfBills[[#This Row],[MonthFlow]],1)","v":44896},1,12,346,90,143,134,1609,137,586]
[44866,{"$f":"EDATE(NoOfBills[[#This Row],[MonthFlow]],1)","v":44896},2,10,287,25,172,78,1543,101,292]
[44866,{"$f":"EDATE(NoOfBills[[#This Row],[MonthFlow]],1)","v":44896},3,15,224,8,213,243,1785,32,590]
[44866,{"$f":"EDATE(NoOfBills[[#This Row],[MonthFlow]],1)","v":44896},4,33,175,19,267,173,1065,81,624]
[44866,{"$f":"EDATE(NoOfBills[[#This Row],[MonthFlow]],1)","v":44896},5,25,211,16,167,212,1231,69,753]
[44866,{"$f":"EDATE(NoOfBills[[#This Row],[MonthFlow]],1)","v":44896},6,44,202,48,212,128,1216,131,733]
[44866,{"$f":"EDATE(NoOfBills[[#This Row],[MonthFlow]],1)","v":44896},7,44,208,15,115,199,1401,36,733]
[44866,{"$f":"EDATE(NoOfBills[[#This Row],[MonthFlow]],1)","v":44896},8,23,241,38,212,209,1394,62,614]
[44866,{"$f":"EDATE(NoOfBills[[#This Row],[MonthFlow]],1)","v":44896},9,71,270,14,178,185,1251,59,480]
[44866,{"$f":"EDATE(NoOfBills[[#This Row],[MonthFlow]],1)","v":44896},10,37,256,41,99,146,1494,51,808]
[44866,{"$f":"EDATE(NoOfBills[[#This Row],[MonthFlow]],1)","v":44896},11,23,236,16,205,167,1312,100,575]
[44866,{"$f":"EDATE(NoOfBills[[#This Row],[MonthFlow]],1)","v":44896},12,62,247,22,141,136,1198,46,644]
[44866,{"$f":"EDATE(NoOfBills[[#This Row],[MonthFlow]],1)","v":44896},13,27,271,7,57,145,1511,42,366]
[44866,{"$f":"EDATE(NoOfBills[[#This Row],[MonthFlow]],1)","v":44896},14,24,211,37,131,186,1512,162,858]
[44866,{"$f":"EDATE(NoOfBills[[#This Row],[MonthFlow]],1)","v":44896},15,66,279,23,168,142,1266,33,393]
[44866,{"$f":"EDATE(NoOfBills[[#This Row],[MonthFlow]],1)","v":44896},16,64,155,12,193,201,1372,51,453]
[44866,{"$f":"EDATE(NoOfBills[[#This Row],[MonthFlow]],1)","v":44896},17,21,193,4,84,136,1142,55,505]
[44866,{"$f":"EDATE(NoOfBills[[#This Row],[MonthFlow]],1)","v":44896},18,65,280,27,210,209,1355,119,934]
[44866,{"$f":"EDATE(NoOfBills[[#This Row],[MonthFlow]],1)","v":44896},19,44,114,47,230,161,1758,83,301]
[44896,{"$f":"EDATE(NoOfBills[[#This Row],[MonthFlow]],1)","v":44927},1,12,344,92,143,138,1626,136,601]
[44896,{"$f":"EDATE(NoOfBills[[#This Row],[MonthFlow]],1)","v":44927},2,10,289,20,172,80,1551,101,300]
[44896,{"$f":"EDATE(NoOfBills[[#This Row],[MonthFlow]],1)","v":44927},3,15,228,8,214,246,1804,32,595]
[44896,{"$f":"EDATE(NoOfBills[[#This Row],[MonthFlow]],1)","v":44927},4,34,175,19,273,173,1068,81,633]
[44896,{"$f":"EDATE(NoOfBills[[#This Row],[MonthFlow]],1)","v":44927},5,26,212,17,172,214,1231,71,765]
[44896,{"$f":"EDATE(NoOfBills[[#This Row],[MonthFlow]],1)","v":44927},6,44,203,50,218,127,1223,131,748]
[44896,{"$f":"EDATE(NoOfBills[[#This Row],[MonthFlow]],1)","v":44927},7,44,208,15,117,201,1408,36,747]
[44896,{"$f":"EDATE(NoOfBills[[#This Row],[MonthFlow]],1)","v":44927},8,23,247,38,214,212,1395,62,616]
[44896,{"$f":"EDATE(NoOfBills[[#This Row],[MonthFlow]],1)","v":44927},9,72,271,14,180,188,1265,59,486]
[44896,{"$f":"EDATE(NoOfBills[[#This Row],[MonthFlow]],1)","v":44927},10,37,258,43,99,151,1514,52,816]
[44896,{"$f":"EDATE(NoOfBills[[#This Row],[MonthFlow]],1)","v":44927},11,22,240,16,211,166,1319,100,575]
[44896,{"$f":"EDATE(NoOfBills[[#This Row],[MonthFlow]],1)","v":44927},12,61,253,23,144,137,1219,46,657]
[44896,{"$f":"EDATE(NoOfBills[[#This Row],[MonthFlow]],1)","v":44927},13,27,270,8,58,145,1517,41,378]
[44896,{"$f":"EDATE(NoOfBills[[#This Row],[MonthFlow]],1)","v":44927},14,23,217,38,132,187,1525,162,871]
[44896,{"$f":"EDATE(NoOfBills[[#This Row],[MonthFlow]],1)","v":44927},15,67,277,24,169,144,1265,33,413]
[44896,{"$f":"EDATE(NoOfBills[[#This Row],[MonthFlow]],1)","v":44927},16,62,157,12,199,203,1392,51,457]
[44896,{"$f":"EDATE(NoOfBills[[#This Row],[MonthFlow]],1)","v":44927},17,21,196,4,84,136,1159,56,509]
[44896,{"$f":"EDATE(NoOfBills[[#This Row],[MonthFlow]],1)","v":44927},18,65,286,27,216,211,1381,120,939]
[44896,{"$f":"EDATE(NoOfBills[[#This Row],[MonthFlow]],1)","v":44927},19,43,116,48,238,163,1792,84,306]

{"sheet":"CustActVol","index":15,"n_rows":193,"n_cols":8,"rows_kept":193,"cut":false,"hidden":false,"merged":[]}
["MonthFlow","RateSched","Region","Territory","CustClass","Volume","Preparer's Notes","Reviewer's Notes"]
[44197,"60-GCSF","NEMO","KIRK","SGS",241132.17488000001,"From Revenue Package"]
[44197,"60-GRF","NEMO","KIRK","Res",652408.67745000008,"From Revenue Package"]
[44197,"61-GCSF","WEMO","WEMO","SGS",171836.51554999998,"From Revenue Package"]
[44197,"61-GRF","WEMO","WEMO","Res",513911.58206000004,"From Revenue Package"]
[44197,"62-GCSF","SEMO","SEMO","SGS",951563.15276999981,"From Revenue Package"]
[44197,"62-GRF","SEMO","SEMO","Res",3353345.9112400007,"From Revenue Package"]
[44197,"63-GCSF","NEMO","NEMO","SGS",533365.53454000037,"From Revenue Package"]
[44197,"63-GRF","NEMO","NEMO","Res",1908921.1675199955,"From Revenue Package"]
[44228,"60-GCSF","NEMO","KIRK","SGS",283266.97579999996,"From Revenue Package"]
[44228,"60-GRF","NEMO","KIRK","Res",745795.72184999997,"From Revenue Package"]
[44228,"61-GCSF","WEMO","WEMO","SGS",211320.6115,"From Revenue Package"]
[44228,"61-GRF","WEMO","WEMO","Res",596320.14434999996,"From Revenue Package"]
[44228,"62-GCSF","SEMO","SEMO","SGS",1240029.1769300001,"From Revenue Package"]
[44228,"62-GRF","SEMO","SEMO","Res",4276287.4670000002,"From Revenue Package"]
[44228,"63-GCSF","NEMO","NEMO","SGS",608733.66358999943,"From Revenue Package"]
[44228,"63-GRF","NEMO","NEMO","Res",2087461.9598900052,"From Revenue Package"]
[44256,"60-GCSF","NEMO","KIRK","SGS",114543.13334999996,"From Revenue Package"]
[44256,"60-GRF","NEMO","KIRK","Res",317033.84560999996,"From Revenue Package"]
[44256,"61-GCSF","WEMO","WEMO","SGS",81304.957000000009,"From Revenue Package"]
[44256,"61-GRF","WEMO","WEMO","Res",261195.01462000003,"From Revenue Package"]
[44256,"62-GCSF","SEMO","SEMO","SGS",411465.10507999978,"From Revenue Package"]
[44256,"62-GRF","SEMO","SEMO","Res",1539056.9556,"From Revenue Package"]
[44256,"63-GCSF","NEMO","NEMO","SGS",231075.8615900001,"From Revenue Package"]
[44256,"63-GRF","NEMO","NEMO","Res",879908.92041000177,"From Revenue Package"]
[44287,"60-GCSF","NEMO","KIRK","SGS",74808.374640000111,"From Revenue Package"]
[44287,"60-GRF","NEMO","KIRK","Res",218544.78511999865,"From Revenue Package"]
[44287,"61-GCSF","WEMO","WEMO","SGS",48837.403790000033,"From Revenue Package"]
[44287,"61-GRF","WEMO","WEMO","Res",175779.65026999981,"From Revenue Package"]
[44287,"62-GCSF","SEMO","SEMO","SGS",239384.63741999949,"From Revenue Package"]
[44287,"62-GRF","SEMO","SEMO","Res",996365.92338998301,"From Revenue Package"]
[44287,"63-GCSF","NEMO","NEMO","SGS",163344.56796999968,"From Revenue Package"]
[44287,"63-GRF","NEMO","NEMO","Res",659839.27047998866,"From Revenue Package"]
[44317,"60-GCSF","NEMO","KIRK","SGS",33629.132149999998,"From Revenue Package"]
[44317,"60-GRF","NEMO","KIRK","Res",93331.883780000033,"From Revenue Package"]
[44317,"61-GCSF","WEMO","WEMO","SGS",18380.02205,"From Revenue Package"]
[44317,"61-GRF","WEMO","WEMO","Res",67764.739960000021,"From Revenue Package"]
[44317,"62-GCSF","SEMO","SEMO","SGS",116357.82818999997,"From Revenue Package"]
[44317,"62-GRF","SEMO","SEMO","Res",456972.65956999961,"From Revenue Package"]
[44317,"63-GCSF","NEMO","NEMO","SGS",57223.380129999961,"From Revenue Package"]
[44317,"63-GRF","NEMO","NEMO","Res",233471.75510999933,"From Revenue Package"]
[44348,"60-GCSF","NEMO","KIRK","SGS",17607.456539999992,"From Revenue Package"]
[44348,"60-GRF","NEMO","KIRK","Res",37372.781160000071,"From Revenue Package"]
[44348,"61-GCSF","WEMO","WEMO","SGS",11297.825879999995,"From Revenue Package"]
[44348,"61-GRF","WEMO","WEMO","Res",35246.452989999998,"From Revenue Package"]
[44348,"62-GCSF","SEMO","SEMO","SGS",84208.984669999991,"From Revenue Package"]
[44348,"62-GRF","SEMO","SEMO","Res",289167.61100999877,"From Revenue Package"]
[44348,"63-GCSF","NEMO","NEMO","SGS",43730.542850000071,"From Revenue Package"]
[44348,"63-GRF","NEMO","NEMO","Res",139429.69247000033,"From Revenue Package"]
[44378,"60-GCSF","NEMO","KIRK","SGS",16373.09864,"From Revenue Package"]
[44378,"60-GRF","NEMO","KIRK","Res",31772.89745,"From Revenue Package"]
[44378,"61-GCSF","WEMO","WEMO","SGS",10006.313959999999,"From Revenue Package"]
[44378,"61-GRF","WEMO","WEMO","Res",28650.344599999997,"From Revenue Package"]
[44378,"62-GCSF","SEMO","SEMO","SGS",75291.024520000006,"From Revenue Package"]
[44378,"62-GRF","SEMO","SEMO","Res",242695.22224999982,"From Revenue Package"]
[44378,"63-GCSF","NEMO","NEMO","SGS",32665.725149999977,"From Revenue Package"]
[44378,"63-GRF","NEMO","NEMO","Res",94748.959899999652,"From Revenue Package"]
[44409,"60-GCSF","NEMO","KIRK","SGS",16423.007100000003,"From Revenue Package"]
[44409,"60-GRF","NEMO","KIRK","Res",30832.89745,"From Revenue Package"]
[44409,"61-GCSF","WEMO","WEMO","SGS",10049.9112,"From Revenue Package"]
[44409,"61-GRF","WEMO","WEMO","Res",27155.702949999999,"From Revenue Package"]
[44409,"62-GCSF","SEMO","SEMO","SGS",76477.758029999983,"From Revenue Package"]
[44409,"62-GRF","SEMO","SEMO","Res",243810.97275000004,"From Revenue Package"]
[44409,"63-GCSF","NEMO","NEMO","SGS",32362.234789999977,"From Revenue Package"]
[44409,"63-GRF","NEMO","NEMO","Res",94592.767459999523,"From Revenue Package"]
[44440,"60-GCSF","NEMO","KIRK","SGS",17510.643390000005,"From Revenue Package"]
[44440,"60-GRF","NEMO","KIRK","Res",34141.778019999998,"From Revenue Package"]
[44440,"61-GCSF","WEMO","WEMO","SGS",10408.061299999999,"From Revenue Package"]
[44440,"61-GRF","WEMO","WEMO","Res",27955.853080000001,"From Revenue Package"]
[44440,"62-GCSF","SEMO","SEMO","SGS",78072.963550000015,"From Revenue Package"]
[44440,"62-GRF","SEMO","SEMO","Res",257847.87546999971,"From Revenue Package"]
[44440,"63-GCSF","NEMO","NEMO","SGS",36331.68523999997,"From Revenue Package"]
[44440,"63-GRF","NEMO","NEMO","Res",105412.61119999933,"From Revenue Package"]
[44470,"60-GCSF","NEMO","KIRK","SGS",31686.940249999996,"From Revenue Package"]
[44470,"60-GRF","NEMO","KIRK","Res",91976.689230000004,"From Revenue Package"]
[44470,"61-GCSF","WEMO","WEMO","SGS",9041.73675,"From Revenue Package"]
[44470,"61-GRF","WEMO","WEMO","Res",36337.600430000006,"From Revenue Package"]
[44470,"62-GCSF","SEMO","SEMO","SGS",82407.63069000034,"From Revenue Package"]
[44470,"62-GRF","SEMO","SEMO","Res",295231.66377999692,"From Revenue Package"]
[44470,"63-GCSF","NEMO","NEMO","SGS",43777.153890000023,"From Revenue Package"]
[44470,"63-GRF","NEMO","NEMO","Res",190120.90964999984,"From Revenue Package"]
[44501,"60-GCSF","NEMO","KIRK","SGS",125450.69854000001,"From Revenue Package"]
[44501,"60-GRF","NEMO","KIRK","Res",350228.0987899999,"From Revenue Package"]
[44501,"61-GCSF","WEMO","WEMO","SGS",64396.488949999999,"From Revenue Package"]
[44501,"61-GRF","WEMO","WEMO","Res",219748.36627999914,"From Revenue Package"]
[44501,"62-GCSF","SEMO","SEMO","SGS",367622.27550999989,"From Revenue Package"]
[44501,"62-GRF","SEMO","SEMO","Res",1553170.2053100024,"From Revenue Package"]
[44501,"63-GCSF","NEMO","NEMO","SGS",184779.61396999998,"From Revenue Package"]
[44501,"63-GRF","NEMO","NEMO","Res",734887.37972999504,"From Revenue Package"]
[44531,"60-GCSF","NEMO","KIRK","SGS",157555.17092999999,"From Revenue Package"]
[44531,"60-GRF","NEMO","KIRK","Res",412151.05706000002,"From Revenue Package"]
[44531,"61-GCSF","WEMO","WEMO","SGS",88626.833600000071,"From Revenue Package"]
[44531,"61-GRF","WEMO","WEMO","Res",272422.12051999889,"From Revenue Package"]
[44531,"62-GCSF","SEMO","SEMO","SGS",542604.36807000078,"From Revenue Package"]
[44531,"62-GRF","SEMO","SEMO","Res",1986634.4192400295,"From Revenue Package"]
[44531,"63-GCSF","NEMO","NEMO","SGS",282552.5867599998,"From Revenue Package"]
[44531,"63-GRF","NEMO","NEMO","Res",1059538.4113999899,"From Revenue Package"]
[44562,"60-GCSF","NEMO","KIRK","SGS",313649.13021999993,"From Revenue Package"]
[44562,"60-GRF","NEMO","KIRK","Res",789722.02205000003,"From Revenue Package"]
[44562,"61-GCSF","WEMO","WEMO","SGS",177918.41929999998,"From Revenue Package"]
[44562,"61-GRF","WEMO","WEMO","Res",488242.228,"From Revenue Package"]
[44562,"62-GCSF","SEMO","SEMO","SGS",896429.91780000005,"From Revenue Package"]
[44562,"62-GRF","SEMO","SEMO","Res",3118918.5594300004,"From Revenue Package"]
[44562,"63-GCSF","NEMO","NEMO","SGS",572402.81978000014,"From Revenue Package"]
[44562,"63-GRF","NEMO","NEMO","Res",1951838.6511600004,"From Revenue Package"]
[44593,"60-GCSF","NEMO","KIRK","SGS",240469.59643999996,"From Revenue Package"]
[44593,"60-GRF","NEMO","KIRK","Res",611958.44915,"From Revenue Package"]
[44593,"61-GCSF","WEMO","WEMO","SGS",151365.63099999999,"From Revenue Package"]
[44593,"61-GRF","WEMO","WEMO","Res",413352.47434999997,"From Revenue Package"]
[44593,"62-GCSF","SEMO","SEMO","SGS",1020855.3447899999,"From Revenue Package"]
[44593,"62-GRF","SEMO","SEMO","Res",3480269.529300001,"From Revenue Package"]
[44593,"63-GCSF","NEMO","NEMO","SGS",505097.77670000016,"From Revenue Package"]
[44593,"63-GRF","NEMO","NEMO","Res",1722216.0165199966,"From Revenue Package"]
[44621,"60-GCSF","NEMO","KIRK","SGS",151983.27596999996,"From Revenue Package"]
[44621,"60-GRF","NEMO","KIRK","Res",396387.07082999998,"From Revenue Package"]
[44621,"61-GCSF","WEMO","WEMO","SGS",131638.10994999995,"From Revenue Package"]
[44621,"61-GRF","WEMO","WEMO","Res",357442.82642999996,"From Revenue Package"]
[44621,"62-GCSF","SEMO","SEMO","SGS",531597.76353999984,"From Revenue Package"]
[44621,"62-GRF","SEMO","SEMO","Res",1974456.6854599982,"From Revenue Package"]
[44621,"63-GCSF","NEMO","NEMO","SGS",323286.13331999991,"From Revenue Package"]
[44621,"63-GRF","NEMO","NEMO","Res",1142171.2070399979,"From Revenue Package"]
[44652,"60-GCSF","NEMO","KIRK","SGS",101765.78949000001,"From Revenue Package"]
[44652,"60-GRF","NEMO","KIRK","Res",280255.24835999997,"From Revenue Package"]
[44652,"61-GCSF","WEMO","WEMO","SGS",67979.590360000002,"From Revenue Package"]
[44652,"61-GRF","WEMO","WEMO","Res",197842.61623999997,"From Revenue Package"]
[44652,"62-GCSF","SEMO","SEMO","SGS",302819.74394999951,"From Revenue Package"]
[44652,"62-GRF","SEMO","SEMO","Res",1207539.7499799957,"From Revenue Package"]
[44652,"63-GCSF","NEMO","NEMO","SGS",228859.45800999989,"From Revenue Package"]
[44652,"63-GRF","NEMO","NEMO","Res",868980.7456899992,"From Revenue Package"]
[44682,"60-GCSF","NEMO","KIRK","SGS",35240.936409999995,"From Revenue Package"]
[44682,"60-GRF","NEMO","KIRK","Res",83270.883760000012,"From Revenue Package"]
[44682,"61-GCSF","WEMO","WEMO","SGS",21312.926960000001,"From Revenue Package"]
[44682,"61-GRF","WEMO","WEMO","Res",67682.917630000011,"From Revenue Package"]
[44682,"62-GCSF","SEMO","SEMO","SGS",95458.208589999966,"From Revenue Package"]
[44682,"62-GRF","SEMO","SEMO","Res",355997.67526000243,"From Revenue Package"]
[44682,"63-GCSF","NEMO","NEMO","SGS",60028.14755999999,"From Revenue Package"]
[44682,"63-GRF","NEMO","NEMO","Res",222479.01675999706,"From Revenue Package"]
[44713,"60-GCSF","NEMO","KIRK","SGS",16744.472419999998,"From Revenue Package"]
[44713,"60-GRF","NEMO","KIRK","Res",32561.303489999929,"From Revenue Package"]
[44713,"61-GCSF","WEMO","WEMO","SGS",20946.061599999994,"From Revenue Package"]
[44713,"61-GRF","WEMO","WEMO","Res",31632.497559999938,"From Revenue Package"]
[44713,"62-GCSF","SEMO","SEMO","SGS",91294.020930000188,"From Revenue Package"]
[44713,"62-GRF","SEMO","SEMO","Res",304457.82615999802,"From Revenue Package"]
[44713,"63-GCSF","NEMO","NEMO","SGS",41602.621819999993,"From Revenue Package"]
[44713,"63-GRF","NEMO","NEMO","Res",123511.48369999975,"From Revenue Package"]
[44743,"60-GCSF","NEMO","KIRK","SGS",16146.843829999998,"From Revenue Package"]
[44743,"60-GRF","NEMO","KIRK","Res",30105.180750000003,"From Revenue Package"]
[44743,"61-GCSF","WEMO","WEMO","SGS",2127.7917499999999,"From Revenue Package"]
[44743,"61-GRF","WEMO","WEMO","Res",26107.300200000001,"From Revenue Package"]
[44743,"62-GCSF","SEMO","SEMO","SGS",73652.576249999955,"From Revenue Package"]
[44743,"62-GRF","SEMO","SEMO","Res",225819.45167999985,"From Revenue Package"]
[44743,"63-GCSF","NEMO","NEMO","SGS",31575.751640000035,"From Revenue Package"]
[44743,"63-GRF","NEMO","NEMO","Res",91839.701229999526,"From Revenue Package"]
[44774,"60-GCSF","NEMO","KIRK","SGS",16435.413110000001,"From Revenue Package"]
[44774,"60-GRF","NEMO","KIRK","Res",29955.822400000001,"From Revenue Package"]
[44774,"61-GCSF","WEMO","WEMO","SGS",10255.955600000001,"From Revenue Package"]
[44774,"61-GRF","WEMO","WEMO","Res",25754.822400000001,"From Revenue Package"]
[44774,"62-GCSF","SEMO","SEMO","SGS",75586.313399999999,"From Revenue Package"]
[44774,"62-GRF","SEMO","SEMO","Res",241978.13345999998,"From Revenue Package"]
[44774,"63-GCSF","NEMO","NEMO","SGS",33016.046529999978,"From Revenue Package"]
[44774,"63-GRF","NEMO","NEMO","Res",92017.951549999532,"From Revenue Package"]
[44805,"60-GCSF","NEMO","KIRK","SGS",18673.469750000004,"From Revenue Package"]
[44805,"60-GRF","NEMO","KIRK","Res",38981.614190000008,"From Revenue Package"]
[44805,"61-GCSF","WEMO","WEMO","SGS",10348.3446,"From Revenue Package"]
[44805,"61-GRF","WEMO","WEMO","Res",25535.702979999998,"From Revenue Package"]
[44805,"62-GCSF","SEMO","SEMO","SGS",73722.743599999973,"From Revenue Package"]
[44805,"62-GRF","SEMO","SEMO","Res",235924.60818999994,"From Revenue Package"]
[44805,"63-GCSF","NEMO","NEMO","SGS",37822.351939999971,"From Revenue Package"]
[44805,"63-GRF","NEMO","NEMO","Res",113161.82860999956,"From Revenue Package"]
[44835,"60-GCSF","NEMO","KIRK","SGS",54614.763370000008,"From Revenue Package"]
[44835,"60-GRF","NEMO","KIRK","Res",154961.92810000002,"From Revenue Package"]
[44835,"61-GCSF","WEMO","WEMO","SGS",24168.33916,"From Revenue Package"]
[44835,"61-GRF","WEMO","WEMO","Res",75206.842540000012,"From Revenue Package"]
[44835,"62-GCSF","SEMO","SEMO","SGS",133759.54017000034,"From Revenue Package"]
[44835,"62-GRF","SEMO","SEMO","Res",557010.02925000375,"From Revenue Package"]
[44835,"63-GCSF","NEMO","NEMO","SGS",77723.525480000142,"From Revenue Package"]
[44835,"63-GRF","NEMO","NEMO","Res",324612.93217000051,"From Revenue Package"]
[44866,"60-GCSF","NEMO","KIRK","SGS",141571.77535000001,"From Revenue Package"]
[44866,"60-GRF","NEMO","KIRK","Res",373386.02638000005,"From Revenue Package"]
[44866,"61-GCSF","WEMO","WEMO","SGS",78204.517299999992,"From Revenue Package"]
[44866,"61-GRF","WEMO","WEMO","Res",231449.91949999999,"From Revenue Package"]
[44866,"62-GCSF","SEMO","SEMO","SGS",381271.35416000005,"From Revenue Package"]
[44866,"62-GRF","SEMO","SEMO","Res",1472962.06944,"From Revenue Package"]
[44866,"63-GCSF","NEMO","NEMO","SGS",212648.99044999978,"From Revenue Package"]
[44866,"63-GRF","NEMO","NEMO","Res",790178.70087000169,"From Revenue Package"]
[44896,"60-GCSF","NEMO","KIRK","SGS",250712.61984,"From Revenue Package"]
[44896,"60-GRF","NEMO","KIRK","Res",630401.56865999999,"From Revenue Package"]
[44896,"61-GCSF","WEMO","WEMO","SGS",120925.05972000008,"From Revenue Package"]
[44896,"61-GRF","WEMO","WEMO","Res",328271.0989499999,"From Revenue Package"]
[44896,"62-GCSF","SEMO","SEMO","SGS",717331.40640999959,"From Revenue Package"]
[44896,"62-GRF","SEMO","SEMO","Res",2493948.9664800167,"From Revenue Package"]
[44896,"63-GCSF","NEMO","NEMO","SGS",329488.28878999973,"From Revenue Package"]
[44896,"63-GRF","NEMO","NEMO","Res",1160953.7409499944,"From Revenue Package"]

{"sheet":"MeterReadSch","index":16,"n_rows":31,"n_cols":7,"rows_kept":31,"cut":false,"hidden":false,"merged":[]}
["MonthFlow","MonthBill","NEMO","SEMO","WEMO","Preparer's Notes","Reviewer's Notes"]
[44013,{"$f":"EDATE(MeterReadSch[[#This Row],[MonthFlow]],1)","v":44044},44043,44041,44038,"From Billing (also from JE REV.402)","Meter read dates are end dates for the month of flow"]
[44044,{"$f":"EDATE(MeterReadSch[[#This Row],[MonthFlow]],1)","v":44075},44074,44072,44069,"From Billing (also from JE REV.402)","Meter read dates are end dates for the month of flow"]
[44075,{"$f":"EDATE(MeterReadSch[[#This Row],[MonthFlow]],1)","v":44105},44104,44101,44099,"From Billing (also from JE REV.402)","Meter read dates are end dates for the month of flow"]
[44105,{"$f":"EDATE(MeterReadSch[[#This Row],[MonthFlow]],1)","v":44136},44135,44130,44130,"From Billing (also from JE REV.402)","Meter read dates are end dates for the month of flow"]
[44136,{"$f":"EDATE(MeterReadSch[[#This Row],[MonthFlow]],1)","v":44166},44165,44159,44160,"From Billing (also from JE REV.402)","Meter read dates are end dates for the month of flow"]
[44166,{"$f":"EDATE(MeterReadSch[[#This Row],[MonthFlow]],1)","v":44197},44196,44193,44191,"From Billing (also from JE REV.402)","Meter read dates are end dates for the month of flow"]
[44197,{"$f":"EDATE(MeterReadSch[[#This Row],[MonthFlow]],1)","v":44228},44227,44223,44222,"From Billing (also from JE REV.402)","Meter read dates are end dates for the month of flow"]
[44228,{"$f":"EDATE(MeterReadSch[[#This Row],[MonthFlow]],1)","v":44256},44255,44253,44250,"From Billing (also from JE REV.402)","Meter read dates are end dates for the month of flow"]
[44256,{"$f":"EDATE(MeterReadSch[[#This Row],[MonthFlow]],1)","v":44287},44286,44284,44281,"From Billing (also from JE REV.402)","Meter read dates are end dates for the month of flow"]
[44287,{"$f":"EDATE(MeterReadSch[[#This Row],[MonthFlow]],1)","v":44317},44316,44314,44311,"From Billing (also from JE REV.402)","Meter read dates are end dates for the month of flow"]
[44317,{"$f":"EDATE(MeterReadSch[[#This Row],[MonthFlow]],1)","v":44348},44346,44342,44342,"From Billing (also from JE REV.402)","Meter read dates are end dates for the month of flow"]
[44348,{"$f":"EDATE(MeterReadSch[[#This Row],[MonthFlow]],1)","v":44378},44377,44374,44372,"From Billing (also from JE REV.402)","Meter read dates are end dates for the month of flow"]
[44378,{"$f":"EDATE(MeterReadSch[[#This Row],[MonthFlow]],1)","v":44409},44408,44405,44403,"From Billing (also from JE REV.402)","Meter read dates are end dates for the month of flow"]
[44409,{"$f":"EDATE(MeterReadSch[[#This Row],[MonthFlow]],1)","v":44440},44439,44435,44434,"From Billing (also from JE REV.402)","Meter read dates are end dates for the month of flow"]
[44440,{"$f":"EDATE(MeterReadSch[[#This Row],[MonthFlow]],1)","v":44470},44469,44467,44464,"From Billing (also from JE REV.402)","Meter read dates are end dates for the month of flow"]
[44470,{"$f":"EDATE(MeterReadSch[[#This Row],[MonthFlow]],1)","v":44501},44500,44496,44495,"From Billing (also from JE REV.402)","Meter read dates are end dates for the month of flow"]
[44501,{"$f":"EDATE(MeterReadSch[[#This Row],[MonthFlow]],1)","v":44531},44530,44529,44524,"From Billing (also from JE REV.402)","Meter read dates are end dates for the month of flow"]
[44531,{"$f":"EDATE(MeterReadSch[[#This Row],[MonthFlow]],1)","v":44562},44560,44558,44556,"From Billing (also from JE REV.402)","Meter read dates are end dates for the month of flow"]
[44562,{"$f":"EDATE(MeterReadSch[[#This Row],[MonthFlow]],1)","v":44593},44592,44586,44586,"From Billing"]
[44593,{"$f":"EDATE(MeterReadSch[[#This Row],[MonthFlow]],1)","v":44621},44620,44617,44615,"From Billing"]
[44621,{"$f":"EDATE(MeterReadSch[[#This Row],[MonthFlow]],1)","v":44652},44651,44648,44646,"From Billing"]
[44652,{"$f":"EDATE(MeterReadSch[[#This Row],[MonthFlow]],1)","v":44682},44680,44677,44677,"From Billing"]
[44682,{"$f":"EDATE(MeterReadSch[[#This Row],[MonthFlow]],1)","v":44713},44712,44706,44707,"From Billing"]
[44713,{"$f":"EDATE(MeterReadSch[[#This Row],[MonthFlow]],1)","v":44743},44742,44738,44737,"From Billing"]
[44743,{"$f":"EDATE(MeterReadSch[[#This Row],[MonthFlow]],1)","v":44774},44773,44768,44768,"From Billing"]
[44774,{"$f":"EDATE(MeterReadSch[[#This Row],[MonthFlow]],1)","v":44805},44804,44800,44799,"From Billing"]
[44805,{"$f":"EDATE(MeterReadSch[[#This Row],[MonthFlow]],1)","v":44835},44834,44830,44829,"From Billing"]
[44835,{"$f":"EDATE(MeterReadSch[[#This Row],[MonthFlow]],1)","v":44866},44865,44860,44860,"From Billing"]
[44866,{"$f":"EDATE(MeterReadSch[[#This Row],[MonthFlow]],1)","v":44896},44895,44888,44888,"From Billing"]
[44896,{"$f":"EDATE(MeterReadSch[[#This Row],[MonthFlow]],1)","v":44927},44925,44916,44921,"From Billing"]

{"sheet":"WNAR Rev Table","index":17,"n_rows":81,"n_cols":24,"rows_kept":81,"cut":false,"hidden":false,"merged":[]}
["Flow Month","Period","N60-GRF-CSWNA","N63-GRF-CSWNA","N60-GCSF-CSWNA","N63-GCSF-CSWNA","W61-GRF-CSWNA","W61-GCSF-CSWNA","S62-GRF-CSWNA","S62-GCSF-CSWNA","N60-GRF-SRR","N63-GRF-SRR","N60-GCSF-SRR","N63-GCSF-SRR","W61-GRF-SRR","W61-GCSF-SRR","S62-GRF-SRR","S62-GCSF-SRR","N6063-GRF-CSWNA","N6063-GCSF-CSWNA","N6063-GRF-SRR","N6063-GCSF-SRR","Preparer's Notes","Reviewer's Notes"]
[43709,"S1",-364.84083823704827,-1128.5764903270247,-78.377064802182915,-169.87560663374438,-292.37919112033586,-52.000808879664135,-385.54140872855697,-39.268591271443015,0,0,0,0,0,0,0,0,{"$f":"WNARRev[[#This Row],[N60-GRF-CSWNA]]+WNARRev[[#This Row],[N63-GRF-CSWNA]]","v":-1493.4173285640729},{"$f":"WNARRev[[#This Row],[N60-GCSF-CSWNA]]+WNARRev[[#This Row],[N63-GCSF-CSWNA]]","v":-248.25267143592731},{"$f":"WNARRev[[#This Row],[N60-GRF-SRR]]+WNARRev[[#This Row],[N63-GRF-SRR]]","v":0},{"$f":"WNARRev[[#This Row],[N60-GCSF-SRR]]+WNARRev[[#This Row],[N63-GCSF-SRR]]","v":0},"From _WNAR Breakdown 2022, worksheet Summary S1"]
[43739,"S1",-2097.8435722502463,-2997.6770645211409,-296.55919287704484,-306.39428360039545,-1030.7608890035972,-114.07463907366963,-898.15336569240117,-70.506592466563006,0,0,0,0,0,0,0,0,{"$f":"WNARRev[[#This Row],[N60-GRF-CSWNA]]+WNARRev[[#This Row],[N63-GRF-CSWNA]]","v":-5095.5206367713872},{"$f":"WNARRev[[#This Row],[N60-GCSF-CSWNA]]+WNARRev[[#This Row],[N63-GCSF-CSWNA]]","v":-602.95347647744029},{"$f":"WNARRev[[#This Row],[N60-GRF-SRR]]+WNARRev[[#This Row],[N63-GRF-SRR]]","v":0},{"$f":"WNARRev[[#This Row],[N60-GCSF-SRR]]+WNARRev[[#This Row],[N63-GCSF-SRR]]","v":0},"From _WNAR Breakdown 2022, worksheet Summary S1"]
[43770,"S1",-4880.7107107923921,-11392.450363785445,-750.71987237473377,-1272.6917458113969,-3464.0006544001139,-476.72458879393923,-3426.6992054328525,-307.9950462120899,0,0,0,0,0,0,0,0,{"$f":"WNARRev[[#This Row],[N60-GRF-CSWNA]]+WNARRev[[#This Row],[N63-GRF-CSWNA]]","v":-16273.161074577838},{"$f":"WNARRev[[#This Row],[N60-GCSF-CSWNA]]+WNARRev[[#This Row],[N63-GCSF-CSWNA]]","v":-2023.4116181861307},{"$f":"WNARRev[[#This Row],[N60-GRF-SRR]]+WNARRev[[#This Row],[N63-GRF-SRR]]","v":0},{"$f":"WNARRev[[#This Row],[N60-GCSF-SRR]]+WNARRev[[#This Row],[N63-GCSF-SRR]]","v":0},"From _WNAR Breakdown 2022, worksheet Summary S1"]
[43800,"S1",-5687.0530160629714,-14524.216779139466,-892.49505380602,-1667.3925555770675,-4172.9342847722382,-609.82995311232867,-4086.5301844279311,-381.95757454193091,0,0,0,0,0,0,0,0,{"$f":"WNARRev[[#This Row],[N60-GRF-CSWNA]]+WNARRev[[#This Row],[N63-GRF-CSWNA]]","v":-20211.269795202439},{"$f":"WNARRev[[#This Row],[N60-GCSF-CSWNA]]+WNARRev[[#This Row],[N63-GCSF-CSWNA]]","v":-2559.8876093830877},{"$f":"WNARRev[[#This Row],[N60-GRF-SRR]]+WNARRev[[#This Row],[N63-GRF-SRR]]","v":0},{"$f":"WNARRev[[#This Row],[N60-GCSF-SRR]]+WNARRev[[#This Row],[N63-GCSF-SRR]]","v":0},"From _WNAR Breakdown 2022, worksheet Summary S1"]
[43831,"S1",-7159.4501944835647,-17860.668491398832,-1138.5344621253469,-2094.5047010778894,-4863.9625922341502,-710.03751156445298,-4443.9727060446558,-421.62541913671112,0,0,0,0,0,0,0,0,{"$f":"WNARRev[[#This Row],[N60-GRF-CSWNA]]+WNARRev[[#This Row],[N63-GRF-CSWNA]]","v":-25020.118685882397},{"$f":"WNARRev[[#This Row],[N60-GCSF-CSWNA]]+WNARRev[[#This Row],[N63-GCSF-CSWNA]]","v":-3233.0391632032361},{"$f":"WNARRev[[#This Row],[N60-GRF-SRR]]+WNARRev[[#This Row],[N63-GRF-SRR]]","v":0},{"$f":"WNARRev[[#This Row],[N60-GCSF-SRR]]+WNARRev[[#This Row],[N63-GCSF-SRR]]","v":0},"From _WNAR Breakdown 2022, worksheet Summary S1"]
[43862,"S1",-6401.1749194872473,-17736.429787774727,-1000.0342108324219,-2127.4392350482476,-4706.8022968185369,-696.72080565782164,-4390.8061843456253,-426.88713689490959,0,0,0,0,0,0,0,0,{"$f":"WNARRev[[#This Row],[N60-GRF-CSWNA]]+WNARRev[[#This Row],[N63-GRF-CSWNA]]","v":-24137.604707261973},{"$f":"WNARRev[[#This Row],[N60-GCSF-CSWNA]]+WNARRev[[#This Row],[N63-GCSF-CSWNA]]","v":-3127.4734458806697},{"$f":"WNARRev[[#This Row],[N60-GRF-SRR]]+WNARRev[[#This Row],[N63-GRF-SRR]]","v":0},{"$f":"WNARRev[[#This Row],[N60-GCSF-SRR]]+WNARRev[[#This Row],[N63-GCSF-SRR]]","v":0},"From _WNAR Breakdown 2022, worksheet Summary S1"]
[43891,"S1",-3836.764479471577,-13155.810884742485,-566.52825539065373,-1497.5381428516896,-3188.0473504464308,-425.52845374278382,-3062.0670528683568,-279.98543569210455,-3.7386020201454273,-5.9100186964260093,0.16065463355802728,0.11531540385380223,-0.73254342973259112,0.1606649479185753,0.24108800401953323,1.2376618067923947E-2,{"$f":"WNARRev[[#This Row],[N60-GRF-CSWNA]]+WNARRev[[#This Row],[N63-GRF-CSWNA]]","v":-16992.575364214063},{"$f":"WNARRev[[#This Row],[N60-GCSF-CSWNA]]+WNARRev[[#This Row],[N63-GCSF-CSWNA]]","v":-2064.0663982423434},{"$f":"WNARRev[[#This Row],[N60-GRF-SRR]]+WNARRev[[#This Row],[N63-GRF-SRR]]","v":-9.6486207165714362},{"$f":"WNARRev[[#This Row],[N60-GCSF-SRR]]+WNARRev[[#This Row],[N63-GCSF-SRR]]","v":0.27597003741182952},"From _WNAR Breakdown 2022, worksheet Summary S1"]
[43922,"S1",4321.6634647571336,7890.961550834254,563.08436236769694,732.6445336635179,2162.0202795443615,234.75364183311584,14654.519618295233,1024.1767572194926,-431.22710979689515,-965.68733772266182,35.373242096713113,56.859321308439519,-244.45155508692716,35.844129078282577,50.845152889715202,12.178638169161223,{"$f":"WNARRev[[#This Row],[N60-GRF-CSWNA]]+WNARRev[[#This Row],[N63-GRF-CSWNA]]","v":12212.625015591388},{"$f":"WNARRev[[#This Row],[N60-GCSF-CSWNA]]+WNARRev[[#This Row],[N63-GCSF-CSWNA]]","v":1295.7288960312148},{"$f":"WNARRev[[#This Row],[N60-GRF-SRR]]+WNARRev[[#This Row],[N63-GRF-SRR]]","v":-1396.9144475195569},{"$f":"WNARRev[[#This Row],[N60-GCSF-SRR]]+WNARRev[[#This Row],[N63-GCSF-SRR]]","v":92.232563405152632},"From _WNAR Breakdown 2022, worksheet Summary S1"]
[43952,"S1",1948.9364623546458,6092.9980695091726,263.62615275579293,532.1859696279505,1530.5540735611119,169.25581151681135,9364.1716189267336,699.0306964332874,-193.52634056840517,-605.02517257943214,16.561130109017761,33.432195527909712,-151.98162414206399,10.63273687733815,31.996030588587931,8.1826335702893171,{"$f":"WNARRev[[#This Row],[N60-GRF-CSWNA]]+WNARRev[[#This Row],[N63-GRF-CSWNA]]","v":8041.9345318638188},{"$f":"WNARRev[[#This Row],[N60-GCSF-CSWNA]]+WNARRev[[#This Row],[N63-GCSF-CSWNA]]","v":795.81212238374337},{"$f":"WNARRev[[#This Row],[N60-GRF-SRR]]+WNARRev[[#This Row],[N63-GRF-SRR]]","v":-798.55151314783734},{"$f":"WNARRev[[#This Row],[N60-GCSF-SRR]]+WNARRev[[#This Row],[N63-GCSF-SRR]]","v":49.993325636927473},"From _WNAR Breakdown 2022, worksheet Summary S1"]
[43983,"S1",692.16410069375945,2509.2838233999132,130.10377646018534,330.69645982947861,555.5760607793062,86.543365006602627,5159.3994662733166,499.21997454229552,-68.730811941528202,-249.16795655994824,8.1731859571142067,20.774521194415964,-55.1678333423596,5.436698570927601,17.628927561298347,5.8437120765820536,{"$f":"WNARRev[[#This Row],[N60-GRF-CSWNA]]+WNARRev[[#This Row],[N63-GRF-CSWNA]]","v":3201.4479240936726},{"$f":"WNARRev[[#This Row],[N60-GCSF-CSWNA]]+WNARRev[[#This Row],[N63-GCSF-CSWNA]]","v":460.80023628966399},{"$f":"WNARRev[[#This Row],[N60-GRF-SRR]]+WNARRev[[#This Row],[N63-GRF-SRR]]","v":-317.89876850147641},{"$f":"WNARRev[[#This Row],[N60-GCSF-SRR]]+WNARRev[[#This Row],[N63-GCSF-SRR]]","v":28.947707151530171},"From _WNAR Breakdown 2022, worksheet Summary S1"]
[44013,"S1",602.24269808761619,1907.7326304707733,120.48099764132954,262.01890522682169,505.91176872583026,81.562624534562715,4420.2014388069274,464.7544299813116,-59.801757392402251,-189.43486454755654,7.5686780569553163,16.460161995018286,-50.236246867540622,5.1238059002481702,15.103193982256016,5.4402692472728775,{"$f":"WNARRev[[#This Row],[N60-GRF-CSWNA]]+WNARRev[[#This Row],[N63-GRF-CSWNA]]","v":2509.9753285583893},{"$f":"WNARRev[[#This Row],[N60-GCSF-CSWNA]]+WNARRev[[#This Row],[N63-GCSF-CSWNA]]","v":382.49990286815125},{"$f":"WNARRev[[#This Row],[N60-GRF-SRR]]+WNARRev[[#This Row],[N63-GRF-SRR]]","v":-249.23662193995881},{"$f":"WNARRev[[#This Row],[N60-GCSF-SRR]]+WNARRev[[#This Row],[N63-GCSF-SRR]]","v":24.028840051973603},"From _WNAR Breakdown 2022, worksheet Summary S1"]
[44044,"S1",604.802899074484,1950.0592161144277,126.28502937118382,274.46785298967075,492.22693359772353,80.604879264053238,4485.2292156368558,506.58256978307628,-60.055981343607684,-193.6378282596086,7.9332903066512914,17.24221127755624,-48.877364156492781,5.0636398512033445,15.325384563679462,5.9298963018085846,{"$f":"WNARRev[[#This Row],[N60-GRF-CSWNA]]+WNARRev[[#This Row],[N63-GRF-CSWNA]]","v":2554.862115188912},{"$f":"WNARRev[[#This Row],[N60-GCSF-CSWNA]]+WNARRev[[#This Row],[N63-GCSF-CSWNA]]","v":400.75288236085458},{"$f":"WNARRev[[#This Row],[N60-GRF-SRR]]+WNARRev[[#This Row],[N63-GRF-SRR]]","v":-253.69380960321627},{"$f":"WNARRev[[#This Row],[N60-GCSF-SRR]]+WNARRev[[#This Row],[N63-GCSF-SRR]]","v":25.175501584207531},"From _WNAR Breakdown 2022, worksheet Summary S1"]
[44075,"S1",911.80725157983113,2047.5340258622737,151.76804858233487,270.47907875408009,569.07709102521108,86.281279892159631,4396.9439684209083,461.12214542311943,-90.541033076464615,-203.3169243165992,9.5341466417107803,16.991634434551184,-56.508464516264894,5.4202342496356692,15.023726543579414,5.3977508661569154,{"$f":"WNARRev[[#This Row],[N60-GRF-CSWNA]]+WNARRev[[#This Row],[N63-GRF-CSWNA]]","v":2959.3412774421049},{"$f":"WNARRev[[#This Row],[N60-GCSF-CSWNA]]+WNARRev[[#This Row],[N63-GCSF-CSWNA]]","v":422.24712733641496},{"$f":"WNARRev[[#This Row],[N60-GRF-SRR]]+WNARRev[[#This Row],[N63-GRF-SRR]]","v":-293.85795739306383},{"$f":"WNARRev[[#This Row],[N60-GCSF-SRR]]+WNARRev[[#This Row],[N63-GCSF-SRR]]","v":26.525781076261964},"From _WNAR Breakdown 2022, worksheet Summary S1"]
[44105,"S1",3900.2475940057247,5421.3821777254971,502.7053325504026,512.69693629861877,1837.2827360778315,193.56330862386781,9510.6871696749313,747.00696772689616,-387.28848208151828,-538.3347656241184,31.580206788422728,32.207884459785035,-182.43930029051319,12.159746310986566,32.49665319934487,8.7442287192111579,{"$f":"WNARRev[[#This Row],[N60-GRF-CSWNA]]+WNARRev[[#This Row],[N63-GRF-CSWNA]]","v":9321.6297717312227},{"$f":"WNARRev[[#This Row],[N60-GCSF-CSWNA]]+WNARRev[[#This Row],[N63-GCSF-CSWNA]]","v":1015.4022688490213},{"$f":"WNARRev[[#This Row],[N60-GRF-SRR]]+WNARRev[[#This Row],[N63-GRF-SRR]]","v":-925.62324770563669},{"$f":"WNARRev[[#This Row],[N60-GCSF-SRR]]+WNARRev[[#This Row],[N63-GCSF-SRR]]","v":63.788091248207763},"From _WNAR Breakdown 2022, worksheet Summary S1"]
[44136,"S1",5290.7061773605965,15607.642146796557,752.89796378707695,1608.9954835489586,3931.6604227899484,488.97238907689052,22302.400543399977,1756.1789505862878,-525.35884329970304,-1549.8144387536786,47.297436186624061,101.07792140243458,-390.40772681778225,30.717496236881587,76.204102084510183,20.557278685792664,{"$f":"WNARRev[[#This Row],[N60-GRF-CSWNA]]+WNARRev[[#This Row],[N63-GRF-CSWNA]]","v":20898.348324157152},{"$f":"WNARRev[[#This Row],[N60-GCSF-CSWNA]]+WNARRev[[#This Row],[N63-GCSF-CSWNA]]","v":2361.8934473360355},{"$f":"WNARRev[[#This Row],[N60-GRF-SRR]]+WNARRev[[#This Row],[N63-GRF-SRR]]","v":-2075.1732820533816},{"$f":"WNARRev[[#This Row],[N60-GCSF-SRR]]+WNARRev[[#This Row],[N63-GCSF-SRR]]","v":148.37535758905864},"From _WNAR Breakdown 2022, worksheet Summary S1"]
[44166,"S1",10005.338822377165,22199.25509401222,1510.3860893177857,2489.4955290128883,6270.152635969579,841.70808122978599,46253.555581286899,4185.885233243991,-993.51448640982119,-2204.3512883422818,94.88322868791218,156.39138579696348,-622.6163437767957,52.876533308025017,158.04176166726731,48.998656576434676,{"$f":"WNARRev[[#This Row],[N60-GRF-CSWNA]]+WNARRev[[#This Row],[N63-GRF-CSWNA]]","v":32204.593916389385},{"$f":"WNARRev[[#This Row],[N60-GCSF-CSWNA]]+WNARRev[[#This Row],[N63-GCSF-CSWNA]]","v":3999.881618330674},{"$f":"WNARRev[[#This Row],[N60-GRF-SRR]]+WNARRev[[#This Row],[N63-GRF-SRR]]","v":-3197.8657747521029},{"$f":"WNARRev[[#This Row],[N60-GCSF-SRR]]+WNARRev[[#This Row],[N63-GCSF-SRR]]","v":251.27461448487566},"From _WNAR Breakdown 2022, worksheet Summary S1"]
[44197,"S1",12089.231594976309,35372.59832426189,1880.8463356824793,4160.2851702313092,9520.1056451735021,1339.9481803366873,58883.988681756353,5690.2736773236948,-1200.4417773748735,-3512.4436544329128,118.15573134415575,261.35124787350526,-945.33159131782224,84.176231841663693,201.19813900372333,66.608554751280693,{"$f":"WNARRev[[#This Row],[N60-GRF-CSWNA]]+WNARRev[[#This Row],[N63-GRF-CSWNA]]","v":47461.829919238196},{"$f":"WNARRev[[#This Row],[N60-GCSF-CSWNA]]+WNARRev[[#This Row],[N63-GCSF-CSWNA]]","v":6041.1315059137887},{"$f":"WNARRev[[#This Row],[N60-GRF-SRR]]+WNARRev[[#This Row],[N63-GRF-SRR]]","v":-4712.8854318077865},{"$f":"WNARRev[[#This Row],[N60-GCSF-SRR]]+WNARRev[[#This Row],[N63-GCSF-SRR]]","v":379.50697921766101},"From _WNAR Breakdown 2022, worksheet Summary S1"]
[44228,"S1",13819.505093215505,38680.419237368078,2209.468080733157,4748.0917801003316,11046.2313873193,1647.7666086253209,75079.281889924081,7414.1572696844669,-1372.2552278206435,-3840.9050942664462,138.79991789221114,298.27756054476441,-1096.8734890808157,103.51354336235991,256.53513174233746,86.787794126741233,{"$f":"WNARRev[[#This Row],[N60-GRF-CSWNA]]+WNARRev[[#This Row],[N63-GRF-CSWNA]]","v":52499.924330583584},{"$f":"WNARRev[[#This Row],[N60-GCSF-CSWNA]]+WNARRev[[#This Row],[N63-GCSF-CSWNA]]","v":6957.5598608334885},{"$f":"WNARRev[[#This Row],[N60-GRF-SRR]]+WNARRev[[#This Row],[N63-GRF-SRR]]","v":-5213.1603220870893},{"$f":"WNARRev[[#This Row],[N60-GCSF-SRR]]+WNARRev[[#This Row],[N63-GCSF-SRR]]","v":437.07747843697553},"From _WNAR Breakdown 2022, worksheet Summary S1"]
[44256,"S1",5838.8807444692357,16208.335365461457,889.12496238789709,1794.0235768804037,4839.2224563851032,634.45315846021299,27013.039006742431,2461.4217686499551,-581.02833958777967,-1612.539200476499,55.795054971296139,112.63103240611063,-480.97210324527356,39.841073815835792,91.761563938149493,28.730261888522392,{"$f":"WNARRev[[#This Row],[N60-GRF-CSWNA]]+WNARRev[[#This Row],[N63-GRF-CSWNA]]","v":22047.21610993069},{"$f":"WNARRev[[#This Row],[N60-GCSF-CSWNA]]+WNARRev[[#This Row],[N63-GCSF-CSWNA]]","v":2683.1485392683007},{"$f":"WNARRev[[#This Row],[N60-GRF-SRR]]+WNARRev[[#This Row],[N63-GRF-SRR]]","v":-2193.5675400642785},{"$f":"WNARRev[[#This Row],[N60-GCSF-SRR]]+WNARRev[[#This Row],[N63-GCSF-SRR]]","v":168.42608737740676},"From _WNAR Breakdown 2022, worksheet Summary S1"]
[44287,"S1",2690.6425187257,8667.3777619834327,371.05386629271601,874.62973173074545,2313.921967512877,261.18684582083517,13219.742238014143,1090.5319020967054,-435.83882058369039,-1302.4155702501098,-9.5927274375093354,-6.9199374331776227,-346.80237190604072,-2.132028893003632,-44.744994136721651,-79.484485855716002,{"$f":"WNARRev[[#This Row],[N60-GRF-CSWNA]]+WNARRev[[#This Row],[N63-GRF-CSWNA]]","v":11358.020280709134},{"$f":"WNARRev[[#This Row],[N60-GCSF-CSWNA]]+WNARRev[[#This Row],[N63-GCSF-CSWNA]]","v":1245.6835980234614},{"$f":"WNARRev[[#This Row],[N60-GRF-SRR]]+WNARRev[[#This Row],[N63-GRF-SRR]]","v":-1738.2543908338002},{"$f":"WNARRev[[#This Row],[N60-GCSF-SRR]]+WNARRev[[#This Row],[N63-GCSF-SRR]]","v":-16.512664870686958},"From _WNAR Breakdown 2022, worksheet Summary S1"]
[44317,"S1",1127.4839219755499,2820.4257694233493,163.44262199448144,278.11420307003385,818.53404850689833,89.319922252619961,5779.8085980072874,506.07813895254685,-186.66952350588576,-466.95790884492533,-5.0445253702000441,-8.5837716996924023,-135.51888220312887,-2.7567877238462954,-27.414111927307292,-45.372522802642138,{"$f":"WNARRev[[#This Row],[N60-GRF-CSWNA]]+WNARRev[[#This Row],[N63-GRF-CSWNA]]","v":3947.9096913988992},{"$f":"WNARRev[[#This Row],[N60-GCSF-CSWNA]]+WNARRev[[#This Row],[N63-GCSF-CSWNA]]","v":441.55682506451529},{"$f":"WNARRev[[#This Row],[N60-GRF-SRR]]+WNARRev[[#This Row],[N63-GRF-SRR]]","v":-653.62743235081109},{"$f":"WNARRev[[#This Row],[N60-GCSF-SRR]]+WNARRev[[#This Row],[N63-GCSF-SRR]]","v":-13.628297069892447},"From _WNAR Breakdown 2022, worksheet Summary S1"]
[44348,"S1",452.69636152646888,1688.9113550232644,85.805978102257669,213.11096203262011,425.54364557428119,54.877321204794256,3664.9957292456043,367.01261175830382,-74.949728729547829,-279.62108526875238,-2.6483326574770887,-6.577498828167287,-70.454245956006829,-1.6937444816294525,-17.383378952943577,-32.904578985227239,{"$f":"WNARRev[[#This Row],[N60-GRF-CSWNA]]+WNARRev[[#This Row],[N63-GRF-CSWNA]]","v":2141.6077165497331},{"$f":"WNARRev[[#This Row],[N60-GCSF-CSWNA]]+WNARRev[[#This Row],[N63-GCSF-CSWNA]]","v":298.91694013487779},{"$f":"WNARRev[[#This Row],[N60-GRF-SRR]]+WNARRev[[#This Row],[N63-GRF-SRR]]","v":-354.5708139983002},{"$f":"WNARRev[[#This Row],[N60-GCSF-SRR]]+WNARRev[[#This Row],[N63-GCSF-SRR]]","v":-9.2258314856443757},"From _WNAR Breakdown 2022, worksheet Summary S1"]
[44378,"S1",388.05650730113462,1157.2111264661867,80.452281160806763,160.50914746638546,350.41007674279228,49.236842798035475,3077.4937551899643,328.30529847661313,-64.247766109459377,-191.59124610367326,-2.4830950975557644,-4.9539860329131313,-58.01491336801196,-1.5196556419146752,-14.59680832501169,-29.434268139282558,{"$f":"WNARRev[[#This Row],[N60-GRF-CSWNA]]+WNARRev[[#This Row],[N63-GRF-CSWNA]]","v":1545.2676337673213},{"$f":"WNARRev[[#This Row],[N60-GCSF-CSWNA]]+WNARRev[[#This Row],[N63-GCSF-CSWNA]]","v":240.96142862719222},{"$f":"WNARRev[[#This Row],[N60-GRF-SRR]]+WNARRev[[#This Row],[N63-GRF-SRR]]","v":-255.83901221313263},{"$f":"WNARRev[[#This Row],[N60-GCSF-SRR]]+WNARRev[[#This Row],[N63-GCSF-SRR]]","v":-7.4370811304688953},"From _WNAR Breakdown 2022, worksheet Summary S1"]
[44409,"S1",376.67823685123739,1155.6175323286629,80.719452228942487,159.06111768978187,332.42173516600189,49.494839704757744,3091.5406032438391,333.46909197074228,-62.36394649854924,-191.32740601467927,-2.4913411181772367,-4.9092937558574645,-55.03671112019898,-1.5276185094061032,-14.663433691275126,-29.897228935307933,{"$f":"WNARRev[[#This Row],[N60-GRF-CSWNA]]+WNARRev[[#This Row],[N63-GRF-CSWNA]]","v":1532.2957691799004},{"$f":"WNARRev[[#This Row],[N60-GCSF-CSWNA]]+WNARRev[[#This Row],[N63-GCSF-CSWNA]]","v":239.78056991872435},{"$f":"WNARRev[[#This Row],[N60-GRF-SRR]]+WNARRev[[#This Row],[N63-GRF-SRR]]","v":-253.69135251322851},{"$f":"WNARRev[[#This Row],[N60-GCSF-SRR]]+WNARRev[[#This Row],[N63-GCSF-SRR]]","v":-7.4006348740347008},"From _WNAR Breakdown 2022, worksheet Summary S1"]
[44440,"S1",414.97919620137355,1281.246707176138,85.62717761385602,177.66221353310237,342.15724047046774,51.249798431072364,3267.6050326647714,340.22435174755293,-68.705164934002241,-212.12693827419503,-2.6428141238844454,-5.4834016522562452,-56.648549746766179,-1.5817839021935916,-15.498521894062156,-30.50287291529785,{"$f":"WNARRev[[#This Row],[N60-GRF-CSWNA]]+WNARRev[[#This Row],[N63-GRF-CSWNA]]","v":1696.2259033775115},{"$f":"WNARRev[[#This Row],[N60-GCSF-CSWNA]]+WNARRev[[#This Row],[N63-GCSF-CSWNA]]","v":263.28939114695839},{"$f":"WNARRev[[#This Row],[N60-GRF-SRR]]+WNARRev[[#This Row],[N63-GRF-SRR]]","v":-280.83210320819728},{"$f":"WNARRev[[#This Row],[N60-GCSF-SRR]]+WNARRev[[#This Row],[N63-GCSF-SRR]]","v":-8.1262157761406897},"From _WNAR Breakdown 2022, worksheet Summary S1"]
[44470,"S1",1101.0174763802509,2275.8640901556237,152.60405705201072,210.8304316256669,451.41892901251094,45.190246924236469,3729.5058085306541,357.97649641167732,-182.28766165235939,-376.79869042311645,-4.7100017608645279,-6.507112087211941,-74.738233280217031,-1.3947607075381627,-17.689355613584127,-32.09444450587452,{"$f":"WNARRev[[#This Row],[N60-GRF-CSWNA]]+WNARRev[[#This Row],[N63-GRF-CSWNA]]","v":3376.8815665358743},{"$f":"WNARRev[[#This Row],[N60-GCSF-CSWNA]]+WNARRev[[#This Row],[N63-GCSF-CSWNA]]","v":363.43448867767762},{"$f":"WNARRev[[#This Row],[N60-GRF-SRR]]+WNARRev[[#This Row],[N63-GRF-SRR]]","v":-559.08635207547582},{"$f":"WNARRev[[#This Row],[N60-GCSF-SRR]]+WNARRev[[#This Row],[N63-GCSF-SRR]]","v":-11.217113848076469},"From _WNAR Breakdown 2022, worksheet Summary S1"]
[44501,"S1",4221.3789321892791,8857.764734017288,608.33915567401732,896.03864830165992,2629.6798274595985,310.03358635247434,19691.426979072843,1602.7238100512277,-698.90379672007941,-1466.5173400690874,-18.775899866482014,-27.655513836470988,-435.37745487741699,-9.5689378503850087,-93.39807262801348,-143.69247952183423,{"$f":"WNARRev[[#This Row],[N60-GRF-CSWNA]]+WNARRev[[#This Row],[N63-GRF-CSWNA]]","v":13079.143666206568},{"$f":"WNARRev[[#This Row],[N60-GCSF-CSWNA]]+WNARRev[[#This Row],[N63-GCSF-CSWNA]]","v":1504.3778039756771},{"$f":"WNARRev[[#This Row],[N60-GRF-SRR]]+WNARRev[[#This Row],[N63-GRF-SRR]]","v":-2165.4211367891667},{"$f":"WNARRev[[#This Row],[N60-GCSF-SRR]]+WNARRev[[#This Row],[N63-GCSF-SRR]]","v":-46.431413702953002},"From _WNAR Breakdown 2022, worksheet Summary S1"]
[44531,"S1",4970.9980719042142,12779.206336988846,764.52056632627023,1371.05791178813,3292.4038703434039,430.92858447612906,25151.576474211921,2362.2685763724653,-823.01292581195594,-2115.7626385743119,-23.596313775502168,-42.316602215683019,-545.09997853367611,-13.300264952966947,-119.29601489744786,-211.78959650235899,{"$f":"WNARRev[[#This Row],[N60-GRF-CSWNA]]+WNARRev[[#This Row],[N63-GRF-CSWNA]]","v":17750.20440889306},{"$f":"WNARRev[[#This Row],[N60-GCSF-CSWNA]]+WNARRev[[#This Row],[N63-GCSF-CSWNA]]","v":2135.5784781144002},{"$f":"WNARRev[[#This Row],[N60-GRF-SRR]]+WNARRev[[#This Row],[N63-GRF-SRR]]","v":-2938.7755643862679},{"$f":"WNARRev[[#This Row],[N60-GCSF-SRR]]+WNARRev[[#This Row],[N63-GCSF-SRR]]","v":-65.912915991185187},"From _WNAR Breakdown 2022, worksheet Summary S1"]
[44562,"S1",9539.2585654600953,23576.768852338369,1524.2415438888902,2781.7075632757087,5898.6925046087035,864.79001176000975,39480.529983870292,3902.0606298726088,-1579.3474446125988,-3903.4385517116502,-47.044492095336118,-85.855171706040409,-976.60471930607684,-26.691049745679312,-187.25943075353499,-349.8399185403029,{"$f":"WNARRev[[#This Row],[N60-GRF-CSWNA]]+WNARRev[[#This Row],[N63-GRF-CSWNA]]","v":33116.027417798468},{"$f":"WNARRev[[#This Row],[N60-GCSF-CSWNA]]+WNARRev[[#This Row],[N63-GCSF-CSWNA]]","v":4305.9491071645989},{"$f":"WNARRev[[#This Row],[N60-GRF-SRR]]+WNARRev[[#This Row],[N63-GRF-SRR]]","v":-5482.785996324249},{"$f":"WNARRev[[#This Row],[N60-GCSF-SRR]]+WNARRev[[#This Row],[N63-GCSF-SRR]]","v":-132.89966380137653},"From _WNAR Breakdown 2022, worksheet Summary S1"]
[44593,"S1",7391.9166868808006,20802.845893556925,1168.5966514901695,2454.59542189578,4993.2627163021634,735.6317846777057,44021.127958637408,4440.2888780501125,-1223.8272660398675,-3444.1797837014778,-36.067797885499061,-75.759117959746291,-826.6991252155899,-22.704684712274865,-208.79586383543435,-398.09486492863078,{"$f":"WNARRev[[#This Row],[N60-GRF-CSWNA]]+WNARRev[[#This Row],[N63-GRF-CSWNA]]","v":28194.762580437724},{"$f":"WNARRev[[#This Row],[N60-GCSF-CSWNA]]+WNARRev[[#This Row],[N63-GCSF-CSWNA]]","v":3623.1920733859497},{"$f":"WNARRev[[#This Row],[N60-GRF-SRR]]+WNARRev[[#This Row],[N63-GRF-SRR]]","v":-4668.0070497413453},{"$f":"WNARRev[[#This Row],[N60-GCSF-SRR]]+WNARRev[[#This Row],[N63-GCSF-SRR]]","v":-111.82691584524535},"From _WNAR Breakdown 2022, worksheet Summary S1"]
[44621,"S1",4886.4866921262237,14043.305842095753,740.8778388242348,1589.7289893298764,4351.4792868682216,642.28963480989989,25170.506256594796,2319.5011186333154,-783.84682599352629,-2262.5173872808268,-22.827186151276166,-48.598162033658184,-711.33955650268251,-19.753465355872709,-112.45867849129836,-209.38191441922837,{"$f":"WNARRev[[#This Row],[N60-GRF-CSWNA]]+WNARRev[[#This Row],[N63-GRF-CSWNA]]","v":18929.792534221975},{"$f":"WNARRev[[#This Row],[N60-GCSF-CSWNA]]+WNARRev[[#This Row],[N63-GCSF-CSWNA]]","v":2330.6068281541111},{"$f":"WNARRev[[#This Row],[N60-GRF-SRR]]+WNARRev[[#This Row],[N63-GRF-SRR]]","v":-3046.364213274353},{"$f":"WNARRev[[#This Row],[N60-GCSF-SRR]]+WNARRev[[#This Row],[N63-GCSF-SRR]]","v":-71.42534818493435},"From _WNAR Breakdown 2022, worksheet Summary S1"]
[44652,"S1",16040.737307280469,42204.028460429654,2843.1532965925298,5366.9426958252589,9549.0394671788108,1586.3635400306521,50664.747914101608,4372.8055114738163,772.72308090783463,1599.6741073130675,-22.495607237365302,-47.457612874124301,359.0888415631448,-14.055912988878205,992.57268338547988,-972.98990765531721,{"$f":"WNARRev[[#This Row],[N60-GRF-CSWNA]]+WNARRev[[#This Row],[N63-GRF-CSWNA]]","v":58244.765767710123},{"$f":"WNARRev[[#This Row],[N60-GCSF-CSWNA]]+WNARRev[[#This Row],[N63-GCSF-CSWNA]]","v":8210.0959924177878},{"$f":"WNARRev[[#This Row],[N60-GRF-SRR]]+WNARRev[[#This Row],[N63-GRF-SRR]]","v":2372.3971882209021},{"$f":"WNARRev[[#This Row],[N60-GCSF-SRR]]+WNARRev[[#This Row],[N63-GCSF-SRR]]","v":-69.9532201114896},"From _WNAR Breakdown 2022, worksheet Summary S1"]
[44682,"S1",4782.4279193781649,12777.453693122814,982.31113246737107,1673.2335634773235,3870.5912416883598,591.54488217297876,16865.822124062724,1547.5298289622433,232.0270439070035,619.91834671695335,-7.7708899368148741,-13.2366553025894,187.78784732798678,-4.6796071225478357,352.03803295007583,-354.70184619467312,{"$f":"WNARRev[[#This Row],[N60-GRF-CSWNA]]+WNARRev[[#This Row],[N63-GRF-CSWNA]]","v":17559.88161250098},{"$f":"WNARRev[[#This Row],[N60-GCSF-CSWNA]]+WNARRev[[#This Row],[N63-GCSF-CSWNA]]","v":2655.5446959446945},{"$f":"WNARRev[[#This Row],[N60-GRF-SRR]]+WNARRev[[#This Row],[N63-GRF-SRR]]","v":851.94539062395688},{"$f":"WNARRev[[#This Row],[N60-GCSF-SRR]]+WNARRev[[#This Row],[N63-GCSF-SRR]]","v":-21.007545239404273},"From _WNAR Breakdown 2022, worksheet Summary S1"]
[44713,"S1",1864.8597050240185,7073.7828149477709,465.43840776049063,1156.4089672622033,1806.2920289448609,580.5013385730706,14434.479846872373,1481.0909455531119,90.476613961025677,343.19574564668068,-3.6820010682239466,-9.1481471699994508,87.635110653869347,-4.5922435989239681,301.28895316052387,-339.4737102561661,{"$f":"WNARRev[[#This Row],[N60-GRF-CSWNA]]+WNARRev[[#This Row],[N63-GRF-CSWNA]]","v":8938.6425199717887},{"$f":"WNARRev[[#This Row],[N60-GCSF-CSWNA]]+WNARRev[[#This Row],[N63-GCSF-CSWNA]]","v":1621.847375022694},{"$f":"WNARRev[[#This Row],[N60-GRF-SRR]]+WNARRev[[#This Row],[N63-GRF-SRR]]","v":433.67235960770637},{"$f":"WNARRev[[#This Row],[N60-GCSF-SRR]]+WNARRev[[#This Row],[N63-GCSF-SRR]]","v":-12.830148238223398},"From _WNAR Breakdown 2022, worksheet Summary S1"]
[44743,"S1",1721.1121815876932,5250.4726629261786,448.02469325583229,876.12889501968755,1495.0551247416865,59.138557975160019,10700.718780372552,1194.276645932646,83.502475825720538,254.73497387320722,-3.5442442472593707,-6.9309010033919911,72.534960676821782,-0.46783469092179802,223.3546614499015,-273.73438834685419,{"$f":"WNARRev[[#This Row],[N60-GRF-CSWNA]]+WNARRev[[#This Row],[N63-GRF-CSWNA]]","v":6971.5848445138718},{"$f":"WNARRev[[#This Row],[N60-GCSF-CSWNA]]+WNARRev[[#This Row],[N63-GCSF-CSWNA]]","v":1324.1535882755197},{"$f":"WNARRev[[#This Row],[N60-GRF-SRR]]+WNARRev[[#This Row],[N63-GRF-SRR]]","v":338.23744969892778},{"$f":"WNARRev[[#This Row],[N60-GCSF-SRR]]+WNARRev[[#This Row],[N63-GCSF-SRR]]","v":-10.475145250651362},"From _WNAR Breakdown 2022, worksheet Summary S1"]
[44774,"S1",1715.8493085129776,5270.7262190821166,456.90392465644686,917.84496898458872,1474.9372482891874,285.06078909986871,11455.829973102129,1224.5005819365026,83.247139226284077,255.7176071387135,-3.6144862791951926,-7.2609094993387089,71.558910126421324,-2.2550655736055774,239.11599564349794,-280.66187090596367,{"$f":"WNARRev[[#This Row],[N60-GRF-CSWNA]]+WNARRev[[#This Row],[N63-GRF-CSWNA]]","v":6986.5755275950942},{"$f":"WNARRev[[#This Row],[N60-GCSF-CSWNA]]+WNARRev[[#This Row],[N63-GCSF-CSWNA]]","v":1374.7488936410355},{"$f":"WNARRev[[#This Row],[N60-GRF-SRR]]+WNARRev[[#This Row],[N63-GRF-SRR]]","v":338.96474636499761},{"$f":"WNARRev[[#This Row],[N60-GCSF-SRR]]+WNARRev[[#This Row],[N63-GCSF-SRR]]","v":-10.875395778533901},"From _WNAR Breakdown 2022, worksheet Summary S1"]
[44805,"S1",2232.9633545506454,6482.1896596804309,519.15036820208388,1051.5179127821052,1462.1447275143014,287.58073778068888,11181.208816503738,1195.590347542887,108.33574390315525,314.49366935273298,-4.1069069041516881,-8.3183725570680735,70.93826077643557,-2.275000442709513,233.38386524011597,-274.03549555511643,{"$f":"WNARRev[[#This Row],[N60-GRF-CSWNA]]+WNARRev[[#This Row],[N63-GRF-CSWNA]]","v":8715.1530142310767},{"$f":"WNARRev[[#This Row],[N60-GCSF-CSWNA]]+WNARRev[[#This Row],[N63-GCSF-CSWNA]]","v":1570.6682809841891},{"$f":"WNARRev[[#This Row],[N60-GRF-SRR]]+WNARRev[[#This Row],[N63-GRF-SRR]]","v":422.8294132558882},{"$f":"WNARRev[[#This Row],[N60-GCSF-SRR]]+WNARRev[[#This Row],[N63-GCSF-SRR]]","v":-12.425279461219763},"From _WNAR Breakdown 2022, worksheet Summary S1"]
[44835,"S1",8875.7345489375148,18592.813424687742,1518.2235261262106,2160.6188077347679,4302.7984327302247,671.09935242465258,26414.277084657326,2170.5304187295023,430.6202800357118,902.05970891155198,-12.010398264932265,-17.092273919512724,208.75706183228664,-5.3089484909537417,551.34164692833122,-497.49680577164202,{"$f":"WNARRev[[#This Row],[N60-GRF-CSWNA]]+WNARRev[[#This Row],[N63-GRF-CSWNA]]","v":27468.547973625256},{"$f":"WNARRev[[#This Row],[N60-GCSF-CSWNA]]+WNARRev[[#This Row],[N63-GCSF-CSWNA]]","v":3678.8423338609782},{"$f":"WNARRev[[#This Row],[N60-GRF-SRR]]+WNARRev[[#This Row],[N63-GRF-SRR]]","v":1332.6799889472638},{"$f":"WNARRev[[#This Row],[N60-GCSF-SRR]]+WNARRev[[#This Row],[N63-GCSF-SRR]]","v":-29.102672184444991},"From _WNAR Breakdown 2022, worksheet Summary S1"]
[44866,"S1",21395.078719886078,45277.365282774663,3937.1220048000305,5913.7848453858887,13261.800845747286,2174.821783683748,69862.947072329072,6188.0656210096604,1038.0160356244905,2196.7028880648095,-31.145877060625914,-46.782907802405454,643.41721380763454,-17.204631154635905,1458.239881965123,-1418.3366672924174,{"$f":"WNARRev[[#This Row],[N60-GRF-CSWNA]]+WNARRev[[#This Row],[N63-GRF-CSWNA]]","v":66672.444002660748},{"$f":"WNARRev[[#This Row],[N60-GCSF-CSWNA]]+WNARRev[[#This Row],[N63-GCSF-CSWNA]]","v":9850.9068501859183},{"$f":"WNARRev[[#This Row],[N60-GRF-SRR]]+WNARRev[[#This Row],[N63-GRF-SRR]]","v":3234.7189236893},{"$f":"WNARRev[[#This Row],[N60-GCSF-SRR]]+WNARRev[[#This Row],[N63-GCSF-SRR]]","v":-77.928784863031368},"From _WNAR Breakdown 2022, worksheet Summary S1"]
[44896,"S1",36120.776513960875,66520.377969615278,6972.079890997752,9162.7564422487303,18810.258554117314,3362.9839414737571,118286.7145149172,11642.162255586944,1752.4565219687825,3227.3411999219979,-55.154893060751718,-72.484948482370399,912.60940280010709,-26.603972208710051,2468.9826559090875,-2668.443844164105,{"$f":"WNARRev[[#This Row],[N60-GRF-CSWNA]]+WNARRev[[#This Row],[N63-GRF-CSWNA]]","v":102641.15448357616},{"$f":"WNARRev[[#This Row],[N60-GCSF-CSWNA]]+WNARRev[[#This Row],[N63-GCSF-CSWNA]]","v":16134.836333246483},{"$f":"WNARRev[[#This Row],[N60-GRF-SRR]]+WNARRev[[#This Row],[N63-GRF-SRR]]","v":4979.7977218907799},{"$f":"WNARRev[[#This Row],[N60-GCSF-SRR]]+WNARRev[[#This Row],[N63-GCSF-SRR]]","v":-127.63984154312212},"From _WNAR Breakdown 2022, worksheet Summary S1"]
[43709,"S2",0,0,0,0,0,0,0,0,0,0,0,0,0,0,0,0,{"$f":"WNARRev[[#This Row],[N60-GRF-CSWNA]]+WNARRev[[#This Row],[N63-GRF-CSWNA]]","v":0},{"$f":"WNARRev[[#This Row],[N60-GCSF-CSWNA]]+WNARRev[[#This Row],[N63-GCSF-CSWNA]]","v":0},{"$f":"WNARRev[[#This Row],[N60-GRF-SRR]]+WNARRev[[#This Row],[N63-GRF-SRR]]","v":0},{"$f":"WNARRev[[#This Row],[N60-GCSF-SRR]]+WNARRev[[#This Row],[N63-GCSF-SRR]]","v":0},"From _WNAR Breakdown 2022, worksheet Summary S2"]
[43739,"S2",-3804.7851291448583,-4302.9135984607501,-532.14247722184894,-434.70468192371487,-1575.737003931552,-172.44746799118244,1176.8687277835452,89.841230375418959,0,0,0,0,0,0,0,0,{"$f":"WNARRev[[#This Row],[N60-GRF-CSWNA]]+WNARRev[[#This Row],[N63-GRF-CSWNA]]","v":-8107.6987276056079},{"$f":"WNARRev[[#This Row],[N60-GCSF-CSWNA]]+WNARRev[[#This Row],[N63-GCSF-CSWNA]]","v":-966.84715914556386},{"$f":"WNARRev[[#This Row],[N60-GRF-SRR]]+WNARRev[[#This Row],[N63-GRF-SRR]]","v":0},{"$f":"WNARRev[[#This Row],[N60-GCSF-SRR]]+WNARRev[[#This Row],[N63-GCSF-SRR]]","v":0},"From _WNAR Breakdown 2022, worksheet Summary S2"]
[43770,"S2",-8856.3029312958661,-20672.192541207838,-1347.2037961274048,-2283.9080386049386,-6285.6089957837021,-855.50576102224738,5107.7214571546292,447.99279449031258,0,0,0,0,0,0,0,0,{"$f":"WNARRev[[#This Row],[N60-GRF-CSWNA]]+WNARRev[[#This Row],[N63-GRF-CSWNA]]","v":-29528.495472503702},{"$f":"WNARRev[[#This Row],[N60-GCSF-CSWNA]]+WNARRev[[#This Row],[N63-GCSF-CSWNA]]","v":-3631.1118347323436},{"$f":"WNARRev[[#This Row],[N60-GRF-SRR]]+WNARRev[[#This Row],[N63-GRF-SRR]]","v":0},{"$f":"WNARRev[[#This Row],[N60-GCSF-SRR]]+WNARRev[[#This Row],[N63-GCSF-SRR]]","v":0},"From _WNAR Breakdown 2022, worksheet Summary S2"]
[43800,"S2",-10319.452899599624,-26354.945264720674,-1601.6263439370084,-2992.2180871571691,-7572.0058672220293,-1094.3698948934034,6091.2431050906898,555.57465387917227,0,0,0,0,0,0,0,0,{"$f":"WNARRev[[#This Row],[N60-GRF-CSWNA]]+WNARRev[[#This Row],[N63-GRF-CSWNA]]","v":-36674.398164320301},{"$f":"WNARRev[[#This Row],[N60-GCSF-CSWNA]]+WNARRev[[#This Row],[N63-GCSF-CSWNA]]","v":-4593.8444310941777},{"$f":"WNARRev[[#This Row],[N60-GRF-SRR]]+WNARRev[[#This Row],[N63-GRF-SRR]]","v":0},{"$f":"WNARRev[[#This Row],[N60-GCSF-SRR]]+WNARRev[[#This Row],[N63-GCSF-SRR]]","v":0},"From _WNAR Breakdown 2022, worksheet Summary S2"]
[43831,"S2",-12991.194008623683,-32409.110084215274,-2043.1561836043961,-3758.6918744710133,-8825.9126008152925,-1274.1972953861043,6624.0347882552423,613.27333692612535,0,0,0,0,0,0,0,0,{"$f":"WNARRev[[#This Row],[N60-GRF-CSWNA]]+WNARRev[[#This Row],[N63-GRF-CSWNA]]","v":-45400.304092838953},{"$f":"WNARRev[[#This Row],[N60-GCSF-CSWNA]]+WNARRev[[#This Row],[N63-GCSF-CSWNA]]","v":-5801.8480580754094},{"$f":"WNARRev[[#This Row],[N60-GRF-SRR]]+WNARRev[[#This Row],[N63-GRF-SRR]]","v":0},{"$f":"WNARRev[[#This Row],[N60-GCSF-SRR]]+WNARRev[[#This Row],[N63-GCSF-SRR]]","v":0},"From _WNAR Breakdown 2022, worksheet Summary S2"]
[43862,"S2",-11615.264161802501,-32183.672507541534,-1794.6106592715998,-3817.7945182417193,-8540.7370869511142,-1250.2998105725269,6544.7865766661207,620.92674457441387,0,0,0,0,0,0,0,0,{"$f":"WNARRev[[#This Row],[N60-GRF-CSWNA]]+WNARRev[[#This Row],[N63-GRF-CSWNA]]","v":-43798.936669344039},{"$f":"WNARRev[[#This Row],[N60-GCSF-CSWNA]]+WNARRev[[#This Row],[N63-GCSF-CSWNA]]","v":-5612.4051775133194},{"$f":"WNARRev[[#This Row],[N60-GRF-SRR]]+WNARRev[[#This Row],[N63-GRF-SRR]]","v":0},{"$f":"WNARRev[[#This Row],[N60-GCSF-SRR]]+WNARRev[[#This Row],[N63-GCSF-SRR]]","v":0},"From _WNAR Breakdown 2022, worksheet Summary S2"]
[43891,"S2",-7071.8777868645748,-24045.58449060989,-1024.0587106737237,-2692.7145987162426,-5806.4052792191469,-766.577038109824,4678.9081187034471,408.93090523492702,0,0,0,0,0,0,0,0,{"$f":"WNARRev[[#This Row],[N60-GRF-CSWNA]]+WNARRev[[#This Row],[N63-GRF-CSWNA]]","v":-31117.462277474464},{"$f":"WNARRev[[#This Row],[N60-GCSF-CSWNA]]+WNARRev[[#This Row],[N63-GCSF-CSWNA]]","v":-3716.773309389966},{"$f":"WNARRev[[#This Row],[N60-GRF-SRR]]+WNARRev[[#This Row],[N63-GRF-SRR]]","v":0},{"$f":"WNARRev[[#This Row],[N60-GCSF-SRR]]+WNARRev[[#This Row],[N63-GCSF-SRR]]","v":0},"From _WNAR Breakdown 2022, worksheet Summary S2"]
[43922,"S2",-4830.9556020911814,-14060.916787873539,-617.94870213390902,-1302.7909354095691,-3260.8079890257436,-351.46850634308896,2345.4926284547951,162.78720497160134,0,0,0,0,0,0,0,0,{"$f":"WNARRev[[#This Row],[N60-GRF-CSWNA]]+WNARRev[[#This Row],[N63-GRF-CSWNA]]","v":-18891.872389964719},{"$f":"WNARRev[[#This Row],[N60-GCSF-CSWNA]]+WNARRev[[#This Row],[N63-GCSF-CSWNA]]","v":-1920.7396375434782},{"$f":"WNARRev[[#This Row],[N60-GRF-SRR]]+WNARRev[[#This Row],[N63-GRF-SRR]]","v":0},{"$f":"WNARRev[[#This Row],[N60-GCSF-SRR]]+WNARRev[[#This Row],[N63-GCSF-SRR]]","v":0},"From _WNAR Breakdown 2022, worksheet Summary S2"]
[43952,"S2",-2150.8769916434162,-6724.3286843746655,-289.31280353712663,-584.03998718144317,-1689.1435944050045,-185.74740340819295,1263.8432082492234,93.515812231877902,0,0,0,0,0,0,0,0,{"$f":"WNARRev[[#This Row],[N60-GRF-CSWNA]]+WNARRev[[#This Row],[N63-GRF-CSWNA]]","v":-8875.2056760180822},{"$f":"WNARRev[[#This Row],[N60-GCSF-CSWNA]]+WNARRev[[#This Row],[N63-GCSF-CSWNA]]","v":-873.35279071856985},{"$f":"WNARRev[[#This Row],[N60-GRF-SRR]]+WNARRev[[#This Row],[N63-GRF-SRR]]","v":0},{"$f":"WNARRev[[#This Row],[N60-GCSF-SRR]]+WNARRev[[#This Row],[N63-GCSF-SRR]]","v":0},"From _WNAR Breakdown 2022, worksheet Summary S2"]
[43983,"S2",-763.88320880665844,-2769.285169375511,-142.7805546793829,-362.91816617183804,-613.14249557133348,-94.975795443143411,696.34263867128482,66.785280875223478,0,0,0,0,0,0,0,0,{"$f":"WNARRev[[#This Row],[N60-GRF-CSWNA]]+WNARRev[[#This Row],[N63-GRF-CSWNA]]","v":-3533.1683781821694},{"$f":"WNARRev[[#This Row],[N60-GCSF-CSWNA]]+WNARRev[[#This Row],[N63-GCSF-CSWNA]]","v":-505.69872085122097},{"$f":"WNARRev[[#This Row],[N60-GRF-SRR]]+WNARRev[[#This Row],[N63-GRF-SRR]]","v":0},{"$f":"WNARRev[[#This Row],[N60-GCSF-SRR]]+WNARRev[[#This Row],[N63-GCSF-SRR]]","v":0},"From _WNAR Breakdown 2022, worksheet Summary S2"]
[44013,"S2",-664.64453188838365,-2105.403793476919,-132.22017177048471,-287.54895240276846,-558.33220023978561,-89.509752053314983,596.57616229911275,62.17450568311861,0,0,0,0,0,0,0,0,{"$f":"WNARRev[[#This Row],[N60-GRF-CSWNA]]+WNARRev[[#This Row],[N63-GRF-CSWNA]]","v":-2770.0483253653028},{"$f":"WNARRev[[#This Row],[N60-GCSF-CSWNA]]+WNARRev[[#This Row],[N63-GCSF-CSWNA]]","v":-419.7691241732532},{"$f":"WNARRev[[#This Row],[N60-GRF-SRR]]+WNARRev[[#This Row],[N63-GRF-SRR]]","v":0},{"$f":"WNARRev[[#This Row],[N60-GCSF-SRR]]+WNARRev[[#This Row],[N63-GCSF-SRR]]","v":0},"From _WNAR Breakdown 2022, worksheet Summary S2"]
[44044,"S2",-667.47001004172671,-2152.1160803853236,-138.58972454068379,-301.21087456302325,-543.22940054362891,-88.458688012858431,605.35269026533877,67.770243449240965,0,0,0,0,0,0,0,0,{"$f":"WNARRev[[#This Row],[N60-GRF-CSWNA]]+WNARRev[[#This Row],[N63-GRF-CSWNA]]","v":-2819.5860904270503},{"$f":"WNARRev[[#This Row],[N60-GCSF-CSWNA]]+WNARRev[[#This Row],[N63-GCSF-CSWNA]]","v":-439.80059910370704},{"$f":"WNARRev[[#This Row],[N60-GRF-SRR]]+WNARRev[[#This Row],[N63-GRF-SRR]]","v":0},{"$f":"WNARRev[[#This Row],[N60-GCSF-SRR]]+WNARRev[[#This Row],[N63-GCSF-SRR]]","v":0},"From _WNAR Breakdown 2022, worksheet Summary S2"]
[44075,"S2",-996.7140080005729,-2237.2275389584051,-166.43846050305288,-296.64644277040907,-622.47754924860396,-94.682969955334642,602.3092544948255,62.133609042373159,0.41287941519301574,0.96904991273052099,7.0490314783278806E-3,1.1243411319964499E-2,0.24006568218256202,3.128710143993271E-4,-1.9329098090280331E-2,-1.1125692871638367E-2,{"$f":"WNARRev[[#This Row],[N60-GRF-CSWNA]]+WNARRev[[#This Row],[N63-GRF-CSWNA]]","v":-3233.9415469589781},{"$f":"WNARRev[[#This Row],[N60-GCSF-CSWNA]]+WNARRev[[#This Row],[N63-GCSF-CSWNA]]","v":-463.08490327346192},{"$f":"WNARRev[[#This Row],[N60-GRF-SRR]]+WNARRev[[#This Row],[N63-GRF-SRR]]","v":1.3819293279235367},{"$f":"WNARRev[[#This Row],[N60-GCSF-SRR]]+WNARRev[[#This Row],[N63-GCSF-SRR]]","v":1.8292442798292379E-2},"From _WNAR Breakdown 2022, worksheet Summary S2"]
[44105,"S2",-260.92622580111879,-1810.7662160279413,-26.613458615860853,-167.00142036684218,-423.02863660844019,-42.647638277207697,3370.6495656072907,267.69638376555895,174.4315092698404,179.99251387516668,31.568831335843772,23.787582208099042,69.22241168909359,10.207372474381993,-4.5469101617280367,-4.1940585315072152,{"$f":"WNARRev[[#This Row],[N60-GRF-CSWNA]]+WNARRev[[#This Row],[N63-GRF-CSWNA]]","v":-2071.69244182906},{"$f":"WNARRev[[#This Row],[N60-GCSF-CSWNA]]+WNARRev[[#This Row],[N63-GCSF-CSWNA]]","v":-193.61487898270303},{"$f":"WNARRev[[#This Row],[N60-GRF-SRR]]+WNARRev[[#This Row],[N63-GRF-SRR]]","v":354.42402314500708},{"$f":"WNARRev[[#This Row],[N60-GCSF-SRR]]+WNARRev[[#This Row],[N63-GCSF-SRR]]","v":55.356413543942814},"From _WNAR Breakdown 2022, worksheet Summary S2"]
[44136,"S2",-345.48054369165249,-1019.1714515717125,-39.575405788807892,-84.575403622445251,-256.73551600517197,-25.702394810451942,8839.6758418031804,704.82098351289142,236.98252170584431,699.1010783508442,47.297436186624061,101.07792140243458,176.10783329280397,30.717496236881587,-12.700683680751698,-11.747016391881525,{"$f":"WNARRev[[#This Row],[N60-GRF-CSWNA]]+WNARRev[[#This Row],[N63-GRF-CSWNA]]","v":-1364.6519952633651},{"$f":"WNARRev[[#This Row],[N60-GCSF-CSWNA]]+WNARRev[[#This Row],[N63-GCSF-CSWNA]]","v":-124.15080941125314},{"$f":"WNARRev[[#This Row],[N60-GRF-SRR]]+WNARRev[[#This Row],[N63-GRF-SRR]]","v":936.08360005668851},{"$f":"WNARRev[[#This Row],[N60-GCSF-SRR]]+WNARRev[[#This Row],[N63-GCSF-SRR]]","v":148.37535758905864},"From _WNAR Breakdown 2022, worksheet Summary S2"]
[44166,"S2",-653.34376551950186,-1449.6005754859568,-79.392089310293869,-130.85809831990821,-409.4379217227841,-44.24362991079645,18332.844353403008,1679.9539397634744,448.16142593486495,994.35411376309446,94.88322868791218,156.39138579696348,280.85411159496766,52.876533308025017,-26.340293611211219,-27.999232329391248,{"$f":"WNARRev[[#This Row],[N60-GRF-CSWNA]]+WNARRev[[#This Row],[N63-GRF-CSWNA]]","v":-2102.9443410054587},{"$f":"WNARRev[[#This Row],[N60-GCSF-CSWNA]]+WNARRev[[#This Row],[N63-GCSF-CSWNA]]","v":-210.25018763020208},{"$f":"WNARRev[[#This Row],[N60-GRF-SRR]]+WNARRev[[#This Row],[N63-GRF-SRR]]","v":1442.5155396979594},{"$f":"WNARRev[[#This Row],[N60-GCSF-SRR]]+WNARRev[[#This Row],[N63-GCSF-SRR]]","v":251.27461448487566},"From _WNAR Breakdown 2022, worksheet Summary S2"]
[44197,"S2",-789.42095142586777,-2309.8134901433828,-98.864999696130326,-218.68165638395342,-621.65827472530702,-70.433173581800219,23338.984124431903,2283.721877186767,541.50362783757873,1584.4175180322379,118.15573134415575,261.35124787350526,426.42675043140895,84.176231841663693,-33.533023167287219,-38.062031286446121,{"$f":"WNARRev[[#This Row],[N60-GRF-CSWNA]]+WNARRev[[#This Row],[N63-GRF-CSWNA]]","v":-3099.2344415692505},{"$f":"WNARRev[[#This Row],[N60-GCSF-CSWNA]]+WNARRev[[#This Row],[N63-GCSF-CSWNA]]","v":-317.54665608008372},{"$f":"WNARRev[[#This Row],[N60-GRF-SRR]]+WNARRev[[#This Row],[N63-GRF-SRR]]","v":2125.9211458698164},{"$f":"WNARRev[[#This Row],[N60-GCSF-SRR]]+WNARRev[[#This Row],[N63-GCSF-SRR]]","v":379.50697921766101},"From _WNAR Breakdown 2022, worksheet Summary S2"]
[44228,"S2",-902.40697046901016,-2525.8125891643476,-116.13870680776851,-249.57918331296617,-721.31354444988415,-86.613373017484832,29758.075282111145,2975.5815129168423,619.00643428865999,1732.5821892614947,138.79991789221114,298.27756054476441,494.78532387884616,103.51354336235991,-42.755855290389576,-49.593025215280718,{"$f":"WNARRev[[#This Row],[N60-GRF-CSWNA]]+WNARRev[[#This Row],[N63-GRF-CSWNA]]","v":-3428.2195596333577},{"$f":"WNARRev[[#This Row],[N60-GCSF-CSWNA]]+WNARRev[[#This Row],[N63-GCSF-CSWNA]]","v":-365.71789012073469},{"$f":"WNARRev[[#This Row],[N60-GRF-SRR]]+WNARRev[[#This Row],[N63-GRF-SRR]]","v":2351.5886235501548},{"$f":"WNARRev[[#This Row],[N60-GCSF-SRR]]+WNARRev[[#This Row],[N63-GCSF-SRR]]","v":437.07747843697553},"From _WNAR Breakdown 2022, worksheet Summary S2"]
[44256,"S2",-381.92674265425745,-1060.0153657348694,-46.756499089988118,-94.32515067609738,-316.23295988174141,-33.354755421059714,10716.90786551613,987.98378582381417,261.98280694465598,727.11797814871227,55.879718424619945,112.73005812509199,216.92012950565731,39.863000381266481,-15.397856128615128,-16.466396430396909,{"$f":"WNARRev[[#This Row],[N60-GRF-CSWNA]]+WNARRev[[#This Row],[N63-GRF-CSWNA]]","v":-1441.9421083891268},{"$f":"WNARRev[[#This Row],[N60-GCSF-CSWNA]]+WNARRev[[#This Row],[N63-GCSF-CSWNA]]","v":-141.08164976608549},{"$f":"WNARRev[[#This Row],[N60-GRF-SRR]]+WNARRev[[#This Row],[N63-GRF-SRR]]","v":989.10078509336824},{"$f":"WNARRev[[#This Row],[N60-GCSF-SRR]]+WNARRev[[#This Row],[N63-GCSF-SRR]]","v":168.60977654971194},"From _WNAR Breakdown 2022, worksheet Summary S2"]
[44287,"S2",-264.44180915745562,-798.41342516159943,-30.671737390432625,-66.971936190826128,-212.67693250439487,-20.021787455936735,6934.9146247490253,574.54034534923335,181.39396826503153,547.67201891250215,36.65646663734632,80.039631057328791,145.88582973441962,23.928477691241461,-9.9639577941796347,-9.5756724224872247,{"$f":"WNARRev[[#This Row],[N60-GRF-CSWNA]]+WNARRev[[#This Row],[N63-GRF-CSWNA]]","v":-1062.8552343190549},{"$f":"WNARRev[[#This Row],[N60-GCSF-CSWNA]]+WNARRev[[#This Row],[N63-GCSF-CSWNA]]","v":-97.643673581258753},{"$f":"WNARRev[[#This Row],[N60-GRF-SRR]]+WNARRev[[#This Row],[N63-GRF-SRR]]","v":729.06598717753366},{"$f":"WNARRev[[#This Row],[N60-GCSF-SRR]]+WNARRev[[#This Row],[N63-GCSF-SRR]]","v":116.6960976946751},"From _WNAR Breakdown 2022, worksheet Summary S2"]
[44317,"S2",-112.93506172106088,-282.50953485117981,-13.788369345213455,-23.462309312492568,-81.988923732892943,-7.5352197785132073,3180.0369835676456,279.21552493933621,77.467852254942585,193.78753217064403,16.478782875986813,28.040320885661849,56.240336114298472,9.0055065645645662,-4.5690186545512157,-4.6535920823222705,{"$f":"WNARRev[[#This Row],[N60-GRF-CSWNA]]+WNARRev[[#This Row],[N63-GRF-CSWNA]]","v":-395.4445965722407},{"$f":"WNARRev[[#This Row],[N60-GCSF-CSWNA]]+WNARRev[[#This Row],[N63-GCSF-CSWNA]]","v":-37.250678657706025},{"$f":"WNARRev[[#This Row],[N60-GRF-SRR]]+WNARRev[[#This Row],[N63-GRF-SRR]]","v":271.25538442558661},{"$f":"WNARRev[[#This Row],[N60-GCSF-SRR]]+WNARRev[[#This Row],[N63-GCSF-SRR]]","v":44.519103761648665},"From _WNAR Breakdown 2022, worksheet Summary S2"]
[44348,"S2",-45.344585881376432,-169.17075658759515,-7.2387759304373755,-17.978496796990587,-42.62481880338413,-4.6295682497871704,2016.471958541455,202.4897168321676,31.104137422762349,116.04275038653223,8.6512200144251565,21.48649617201314,29.238512071742832,5.5328986399895443,-2.8972298254905966,-3.3748286138694605,{"$f":"WNARRev[[#This Row],[N60-GRF-CSWNA]]+WNARRev[[#This Row],[N63-GRF-CSWNA]]","v":-214.5153424689716},{"$f":"WNARRev[[#This Row],[N60-GCSF-CSWNA]]+WNARRev[[#This Row],[N63-GCSF-CSWNA]]","v":-25.217272727427961},{"$f":"WNARRev[[#This Row],[N60-GRF-SRR]]+WNARRev[[#This Row],[N63-GRF-SRR]]","v":147.14688780929458},{"$f":"WNARRev[[#This Row],[N60-GCSF-SRR]]+WNARRev[[#This Row],[N63-GCSF-SRR]]","v":30.137716186438297},"From _WNAR Breakdown 2022, worksheet Summary S2"]
[44378,"S2",-38.869898496222923,-115.91270389272232,-6.787126599985756,-13.540895156629224,-35.099022587647234,-4.1537254212334451,1693.2297657013557,181.13395778020035,26.662822935425641,79.510367133024403,8.1114439853488314,16.18302104084956,24.076189047724959,4.9642084302546063,-2.4328013875019483,-3.0188992963366732,{"$f":"WNARRev[[#This Row],[N60-GRF-CSWNA]]+WNARRev[[#This Row],[N63-GRF-CSWNA]]","v":-154.78260238894524},{"$f":"WNARRev[[#This Row],[N60-GCSF-CSWNA]]+WNARRev[[#This Row],[N63-GCSF-CSWNA]]","v":-20.32802175661498},{"$f":"WNARRev[[#This Row],[N60-GRF-SRR]]+WNARRev[[#This Row],[N63-GRF-SRR]]","v":106.17319006845004},{"$f":"WNARRev[[#This Row],[N60-GCSF-SRR]]+WNARRev[[#This Row],[N63-GCSF-SRR]]","v":24.294465026198392},"From _WNAR Breakdown 2022, worksheet Summary S2"]
[44409,"S2",-37.730187631622293,-115.75308063888096,-6.8096657230177815,-13.418736266010404,-33.297210227720385,-4.1754905923766827,1700.9583081879143,183.98294729420263,25.881037796897935,79.400873496091904,8.1383809860456413,16.037026269134387,22.840235114882578,4.990220464059937,-2.4439056152125209,-3.066382454903378,{"$f":"WNARRev[[#This Row],[N60-GRF-CSWNA]]+WNARRev[[#This Row],[N63-GRF-CSWNA]]","v":-153.48326827050326},{"$f":"WNARRev[[#This Row],[N60-GCSF-CSWNA]]+WNARRev[[#This Row],[N63-GCSF-CSWNA]]","v":-20.228401989028185},{"$f":"WNARRev[[#This Row],[N60-GRF-SRR]]+WNARRev[[#This Row],[N63-GRF-SRR]]","v":105.28191129298983},{"$f":"WNARRev[[#This Row],[N60-GCSF-SRR]]+WNARRev[[#This Row],[N63-GCSF-SRR]]","v":24.175407255180026},"From _WNAR Breakdown 2022, worksheet Summary S2"]
[44440,"S2",-44.155741285262032,-133.99892768793472,-7.2238479962644364,-15.785939284259257,-35.282844488307404,-4.325114106159095,1787.2650821009229,187.1358501104437,28.397431952861346,87.780723759387556,8.6331837491197323,17.86614125221999,23.464183780803381,5.1670695610827568,-2.9846219207464282,-3.1742998935842799,{"$f":"WNARRev[[#This Row],[N60-GRF-CSWNA]]+WNARRev[[#This Row],[N63-GRF-CSWNA]]","v":-178.15466897319675},{"$f":"WNARRev[[#This Row],[N60-GCSF-CSWNA]]+WNARRev[[#This Row],[N63-GCSF-CSWNA]]","v":-23.009787280523692},{"$f":"WNARRev[[#This Row],[N60-GRF-SRR]]+WNARRev[[#This Row],[N63-GRF-SRR]]","v":116.17815571224889},{"$f":"WNARRev[[#This Row],[N60-GCSF-SRR]]+WNARRev[[#This Row],[N63-GCSF-SRR]]","v":26.49932500133972},"From _WNAR Breakdown 2022, worksheet Summary S2"]
[44470,"S2",-1221.6474037996784,-2367.9843018371748,-175.18660199333283,-223.53860001361716,-437.56616189728305,-44.767195614835401,-588.00285940197864,-52.808079540144767,26.195508010081859,61.143980654059817,5.9674798035905487,9.3173498860713195,13.557447562138496,2.1797280009877866,-103.29789095755815,-23.259674923191078,{"$f":"WNARRev[[#This Row],[N60-GRF-CSWNA]]+WNARRev[[#This Row],[N63-GRF-CSWNA]]","v":-3589.6317056368534},{"$f":"WNARRev[[#This Row],[N60-GCSF-CSWNA]]+WNARRev[[#This Row],[N63-GCSF-CSWNA]]","v":-398.72520200694998},{"$f":"WNARRev[[#This Row],[N60-GRF-SRR]]+WNARRev[[#This Row],[N63-GRF-SRR]]","v":87.339488664141669},{"$f":"WNARRev[[#This Row],[N60-GCSF-SRR]]+WNARRev[[#This Row],[N63-GCSF-SRR]]","v":15.284829689661869},"From _WNAR Breakdown 2022, worksheet Summary S2"]
[44501,"S2",-4742.062260745739,-9950.3201523687585,-698.46347503313098,-1028.7851147167207,-2954.0360313432743,-355.96448803432236,-5136.8939945407419,-408.97090325445134,97.846531540811114,205.31242760967223,23.782806497543888,35.030317526196583,60.95284368283837,12.120654610487682,-622.65381752008989,-117.90152165894091,{"$f":"WNARRev[[#This Row],[N60-GRF-CSWNA]]+WNARRev[[#This Row],[N63-GRF-CSWNA]]","v":-14692.382413114497},{"$f":"WNARRev[[#This Row],[N60-GCSF-CSWNA]]+WNARRev[[#This Row],[N63-GCSF-CSWNA]]","v":-1727.2485897498518},{"$f":"WNARRev[[#This Row],[N60-GRF-SRR]]+WNARRev[[#This Row],[N63-GRF-SRR]]","v":303.15895915048333},{"$f":"WNARRev[[#This Row],[N60-GCSF-SRR]]+WNARRev[[#This Row],[N63-GCSF-SRR]]","v":58.813124023740471},"From _WNAR Breakdown 2022, worksheet Summary S2"]
[44531,"S2",-5584.1427016341304,-14355.449502726697,-877.78287244868204,-1574.1776024234105,-3698.503354350989,-494.76985625036997,-6561.2808193596366,-602.78577466056072,115.22180961367401,296.20676940040346,29.888664115636125,53.601029473198565,76.313996994714572,16.847002273758118,-795.30676598298635,-173.77607918142292,{"$f":"WNARRev[[#This Row],[N60-GRF-CSWNA]]+WNARRev[[#This Row],[N63-GRF-CSWNA]]","v":-19939.592204360826},{"$f":"WNARRev[[#This Row],[N60-GCSF-CSWNA]]+WNARRev[[#This Row],[N63-GCSF-CSWNA]]","v":-2451.9604748720926},{"$f":"WNARRev[[#This Row],[N60-GRF-SRR]]+WNARRev[[#This Row],[N63-GRF-SRR]]","v":411.42857901407746},{"$f":"WNARRev[[#This Row],[N60-GCSF-SRR]]+WNARRev[[#This Row],[N63-GCSF-SRR]]","v":83.489693588834683},"From _WNAR Breakdown 2022, worksheet Summary S2"]
[44562,"S2",-10715.872411696482,-26484.83057336355,-1750.0551059465035,-3193.8123874647031,-6626.2630204917314,-992.90705053927047,-10299.268691444426,-995.69822969163135,221.1086422457638,546.48139723963106,59.589689987425757,108.74988416098452,136.72466070285074,33.808663011193794,-1248.3962050235666,-287.04813828947931,{"$f":"WNARRev[[#This Row],[N60-GRF-CSWNA]]+WNARRev[[#This Row],[N63-GRF-CSWNA]]","v":-37200.70298506003},{"$f":"WNARRev[[#This Row],[N60-GCSF-CSWNA]]+WNARRev[[#This Row],[N63-GCSF-CSWNA]]","v":-4943.8674934112069},{"$f":"WNARRev[[#This Row],[N60-GRF-SRR]]+WNARRev[[#This Row],[N63-GRF-SRR]]","v":767.59003948539487},{"$f":"WNARRev[[#This Row],[N60-GCSF-SRR]]+WNARRev[[#This Row],[N63-GCSF-SRR]]","v":168.33957414841029},"From _WNAR Breakdown 2022, worksheet Summary S2"]
[44593,"S2",-8303.6680000805027,-23368.759832414529,-1341.7220813405652,-2818.2391881025619,-5609.1535645877775,-844.61427129662502,-11483.772510948891,-1133.0392309507185,171.33581724558144,482.18516971820685,45.685877321632148,95.961549415678633,115.73787753018259,28.759267302214834,-1391.9724255695623,-326.6419404542612,{"$f":"WNARRev[[#This Row],[N60-GRF-CSWNA]]+WNARRev[[#This Row],[N63-GRF-CSWNA]]","v":-31672.427832495032},{"$f":"WNARRev[[#This Row],[N60-GCSF-CSWNA]]+WNARRev[[#This Row],[N63-GCSF-CSWNA]]","v":-4159.9612694431271},{"$f":"WNARRev[[#This Row],[N60-GRF-SRR]]+WNARRev[[#This Row],[N63-GRF-SRR]]","v":653.52098696378835},{"$f":"WNARRev[[#This Row],[N60-GCSF-SRR]]+WNARRev[[#This Row],[N63-GCSF-SRR]]","v":141.64742673731078},"From _WNAR Breakdown 2022, worksheet Summary S2"]
[44621,"S2",-5382.7438428806427,-15510.13008405318,-848.66127429200174,-1805.2013954380172,-4850.50921459862,-734.54217695956822,-6515.0831548453953,-590.01701543431807,111.06619572635076,320.03216090898235,28.897068479476765,61.467431027459369,100.08419897476888,25.011292763856265,-789.70704907216907,-170.09499544052412,{"$f":"WNARRev[[#This Row],[N60-GRF-CSWNA]]+WNARRev[[#This Row],[N63-GRF-CSWNA]]","v":-20892.873926933822},{"$f":"WNARRev[[#This Row],[N60-GCSF-CSWNA]]+WNARRev[[#This Row],[N63-GCSF-CSWNA]]","v":-2653.8626697300188},{"$f":"WNARRev[[#This Row],[N60-GRF-SRR]]+WNARRev[[#This Row],[N63-GRF-SRR]]","v":431.09835663533312},{"$f":"WNARRev[[#This Row],[N60-GCSF-SRR]]+WNARRev[[#This Row],[N63-GCSF-SRR]]","v":90.364499506936141},"From _WNAR Breakdown 2022, worksheet Summary S2"]
[44652,"S2",-3804.20990502819,-11795.622666756481,-568.0242475269871,-1277.4206545937359,-2685.2155019286711,-379.3955160528343,-3985.4784880105467,-336.18029992026646,78.495119632121813,243.38794006571953,19.341327424754038,43.496402217349427,55.406067836405882,12.918485313626974,-483.08830157703602,-96.916843220256993,{"$f":"WNARRev[[#This Row],[N60-GRF-CSWNA]]+WNARRev[[#This Row],[N63-GRF-CSWNA]]","v":-15599.832571784671},{"$f":"WNARRev[[#This Row],[N60-GCSF-CSWNA]]+WNARRev[[#This Row],[N63-GCSF-CSWNA]]","v":-1845.4449021207229},{"$f":"WNARRev[[#This Row],[N60-GRF-SRR]]+WNARRev[[#This Row],[N63-GRF-SRR]]","v":321.88305969784136},{"$f":"WNARRev[[#This Row],[N60-GCSF-SRR]]+WNARRev[[#This Row],[N63-GCSF-SRR]]","v":62.837729642103469},"From _WNAR Breakdown 2022, worksheet Summary S2"]
[44682,"S2",-1132.5924409417403,-3026.0043039385096,-197.09802657921361,-335.72971176567654,-916.64787346790661,-118.691853380986,-1173.4601098335861,-105.83845410647506,23.369630321568696,62.437819093793856,6.7112231272492089,11.4316568522363,18.913883903538235,4.0414788785640399,-142.2375890707377,-30.511986769434248,{"$f":"WNARRev[[#This Row],[N60-GRF-CSWNA]]+WNARRev[[#This Row],[N63-GRF-CSWNA]]","v":-4158.5967448802494},{"$f":"WNARRev[[#This Row],[N60-GCSF-CSWNA]]+WNARRev[[#This Row],[N63-GCSF-CSWNA]]","v":-532.82773834489012},{"$f":"WNARRev[[#This Row],[N60-GRF-SRR]]+WNARRev[[#This Row],[N63-GRF-SRR]]","v":85.807449415362555},{"$f":"WNARRev[[#This Row],[N60-GCSF-SRR]]+WNARRev[[#This Row],[N63-GCSF-SRR]]","v":18.142879979485507},"From _WNAR Breakdown 2022, worksheet Summary S2"]
[44713,"S2",-441.64304009033037,-1675.2396649012437,-93.388936184952811,-232.03027822089513,-427.77282430683709,-116.47599673634427,-1004.2965105350797,-101.29457483450118,9.1127524852831598,34.566477978802368,3.1799100134661358,7.9006725559086162,8.8265579075839629,3.9660285627070633,-121.73291036788845,-29.202039591928269,{"$f":"WNARRev[[#This Row],[N60-GRF-CSWNA]]+WNARRev[[#This Row],[N63-GRF-CSWNA]]","v":-2116.882704991574},{"$f":"WNARRev[[#This Row],[N60-GCSF-CSWNA]]+WNARRev[[#This Row],[N63-GCSF-CSWNA]]","v":-325.41921440584792},{"$f":"WNARRev[[#This Row],[N60-GRF-SRR]]+WNARRev[[#This Row],[N63-GRF-SRR]]","v":43.679230464085528},{"$f":"WNARRev[[#This Row],[N60-GCSF-SRR]]+WNARRev[[#This Row],[N63-GCSF-SRR]]","v":11.080582569374752},"From _WNAR Breakdown 2022, worksheet Summary S2"]
[44743,"S2",-407.60021473202437,-1243.4365451292886,-89.894922271396766,-175.79285272239684,-354.06453826779557,-11.865988978834695,-744.51553816633827,-81.67880942607745,8.4103213061876794,25.656759958452525,3.0609382135421841,5.9857781392930836,7.3056794926295323,0.40403905125064377,-90.244307656525862,-23.547044158869173,{"$f":"WNARRev[[#This Row],[N60-GRF-CSWNA]]+WNARRev[[#This Row],[N63-GRF-CSWNA]]","v":-1651.0367598613129},{"$f":"WNARRev[[#This Row],[N60-GCSF-CSWNA]]+WNARRev[[#This Row],[N63-GCSF-CSWNA]]","v":-265.6877749937936},{"$f":"WNARRev[[#This Row],[N60-GRF-SRR]]+WNARRev[[#This Row],[N63-GRF-SRR]]","v":34.067081264640208},{"$f":"WNARRev[[#This Row],[N60-GCSF-SRR]]+WNARRev[[#This Row],[N63-GCSF-SRR]]","v":9.0467163528352685},"From _WNAR Breakdown 2022, worksheet Summary S2"]
[44774,"S2",-406.35384147506295,-1248.2330679396916,-91.676515626859896,-184.1630682105,-349.30014763148824,-57.196663185086919,-797.05331881165989,-83.745880834844002,8.3846039508487546,25.755730215409994,3.1216017865776666,6.2707854767016125,7.2073722429489093,1.9475566317502715,-96.61252349232241,-24.142956637072142,{"$f":"WNARRev[[#This Row],[N60-GRF-CSWNA]]+WNARRev[[#This Row],[N63-GRF-CSWNA]]","v":-1654.5869094147547},{"$f":"WNARRev[[#This Row],[N60-GCSF-CSWNA]]+WNARRev[[#This Row],[N63-GCSF-CSWNA]]","v":-275.8395838373599},{"$f":"WNARRev[[#This Row],[N60-GRF-SRR]]+WNARRev[[#This Row],[N63-GRF-SRR]]","v":34.140334166258747},{"$f":"WNARRev[[#This Row],[N60-GCSF-SRR]]+WNARRev[[#This Row],[N63-GCSF-SRR]]","v":9.3923872632792786},"From _WNAR Breakdown 2022, worksheet Summary S2"]
[44805,"S2",-530.08240653362543,-1538.531639243346,-104.166093296211,-210.9841766747266,-347.21279961377832,-57.702283955995824,-773.19297177902615,-81.622476867923737,10.952839114353122,31.786654457039454,3.5475914250544101,7.2218017415653524,7.1756736479661241,1.9706842930892239,-94.005919768684976,-23.536165315558726,{"$f":"WNARRev[[#This Row],[N60-GRF-CSWNA]]+WNARRev[[#This Row],[N63-GRF-CSWNA]]","v":-2068.6140457769716},{"$f":"WNARRev[[#This Row],[N60-GCSF-CSWNA]]+WNARRev[[#This Row],[N63-GCSF-CSWNA]]","v":-315.15026997093759},{"$f":"WNARRev[[#This Row],[N60-GRF-SRR]]+WNARRev[[#This Row],[N63-GRF-SRR]]","v":42.739493571392572},{"$f":"WNARRev[[#This Row],[N60-GCSF-SRR]]+WNARRev[[#This Row],[N63-GCSF-SRR]]","v":10.769393166619762},"From _WNAR Breakdown 2022, worksheet Summary S2"]
[44835,"S2",-3000.4686831279073,-6129.1001563184645,-438.91654982607048,-611.7551481296972,-1372.3496185925364,-180.76425298928217,299.0087433736249,25.185598304947227,72.75426651977989,147.29509339752042,32.308298761944442,43.875254473837522,32.581057480104818,12.116915605514521,-92.129370505878867,0.89268428314720971,{"$f":"WNARRev[[#This Row],[N60-GRF-CSWNA]]+WNARRev[[#This Row],[N63-GRF-CSWNA]]","v":-9129.5688394463723},{"$f":"WNARRev[[#This Row],[N60-GCSF-CSWNA]]+WNARRev[[#This Row],[N63-GCSF-CSWNA]]","v":-1050.6716979557677},{"$f":"WNARRev[[#This Row],[N60-GRF-SRR]]+WNARRev[[#This Row],[N63-GRF-SRR]]","v":220.04935991730031},{"$f":"WNARRev[[#This Row],[N60-GCSF-SRR]]+WNARRev[[#This Row],[N63-GCSF-SRR]]","v":76.183553235781972},"From _WNAR Breakdown 2022, worksheet Summary S2"]
[44866,"S2",-7236.2412843174916,-15313.70574485468,-1145.3188428202893,-1720.3351096430006,-4485.4048933784024,-632.6612092772931,1885.4010595104621,167.76025097007087,175.49191969191025,371.38502064405054,84.943301074434302,127.58974855201485,108.77916924085908,46.921721330825193,-176.7563493291058,26.689130836147637,{"$f":"WNARRev[[#This Row],[N60-GRF-CSWNA]]+WNARRev[[#This Row],[N63-GRF-CSWNA]]","v":-22549.947029172174},{"$f":"WNARRev[[#This Row],[N60-GCSF-CSWNA]]+WNARRev[[#This Row],[N63-GCSF-CSWNA]]","v":-2865.6539524632899},{"$f":"WNARRev[[#This Row],[N60-GRF-SRR]]+WNARRev[[#This Row],[N63-GRF-SRR]]","v":546.87694033596085},{"$f":"WNARRev[[#This Row],[N60-GCSF-SRR]]+WNARRev[[#This Row],[N63-GCSF-SRR]]","v":212.53304962644916},"From _WNAR Breakdown 2022, worksheet Summary S2"]
[44896,"S2",-12216.765250271586,-22498.515271398679,-2028.195840279461,-2665.4692419198932,-6362.0036785129769,-978.30061440211057,3192.2199995592246,315.62239016994795,296.2786206206215,545.62962732494202,150.42243562023194,197.68622313373743,154.29007889066557,72.556287841936495,-299.27062495867727,50.212652981582622,{"$f":"WNARRev[[#This Row],[N60-GRF-CSWNA]]+WNARRev[[#This Row],[N63-GRF-CSWNA]]","v":-34715.280521670269},{"$f":"WNARRev[[#This Row],[N60-GCSF-CSWNA]]+WNARRev[[#This Row],[N63-GCSF-CSWNA]]","v":-4693.6650821993544},{"$f":"WNARRev[[#This Row],[N60-GRF-SRR]]+WNARRev[[#This Row],[N63-GRF-SRR]]","v":841.90824794556352},{"$f":"WNARRev[[#This Row],[N60-GCSF-SRR]]+WNARRev[[#This Row],[N63-GCSF-SRR]]","v":348.10865875396939},"From _WNAR Breakdown 2022, worksheet Summary S2"]

{"sheet":"CustEstVol","index":18,"n_rows":217,"n_cols":9,"rows_kept":217,"cut":false,"hidden":false,"merged":[]}
["MonthFlow","RateSched","Region","CustClass","CustCount","UsePerCust","NormVol","Preparer's Notes","Reviewer's Notes"]
[44197,"63-GRF","NEMO","Res",16133.5,155.97304834753703,{"$f":"ROUND(CustEstVol[[#This Row],[CustCount]]*CustEstVol[[#This Row],[UsePerCust]],0)","v":2516391},"Incl. 60-GRF Kirksville"]
[44228,"63-GRF","NEMO","Res",16122.5,132.44858938434794,{"$f":"ROUND(CustEstVol[[#This Row],[CustCount]]*CustEstVol[[#This Row],[UsePerCust]],0)","v":2135402},"Incl. 60-GRF Kirksville"]
[44256,"63-GRF","NEMO","Res",16111.5,99.776060000924161,{"$f":"ROUND(CustEstVol[[#This Row],[CustCount]]*CustEstVol[[#This Row],[UsePerCust]],0)","v":1607542},"Incl. 60-GRF Kirksville"]
[44287,"63-GRF","NEMO","Res",16009.5,69.806960684754756,{"$f":"ROUND(CustEstVol[[#This Row],[CustCount]]*CustEstVol[[#This Row],[UsePerCust]],0)","v":1117575},"Incl. 60-GRF Kirksville"]
[44317,"63-GRF","NEMO","Res",15839,32.355106661544902,{"$f":"ROUND(CustEstVol[[#This Row],[CustCount]]*CustEstVol[[#This Row],[UsePerCust]],0)","v":512473},"Incl. 60-GRF Kirksville"]
[44348,"63-GRF","NEMO","Res",15421,12.085795560709176,{"$f":"ROUND(CustEstVol[[#This Row],[CustCount]]*CustEstVol[[#This Row],[UsePerCust]],0)","v":186375},"Incl. 60-GRF Kirksville"]
[44378,"63-GRF","NEMO","Res",15196,10.085103223055476,{"$f":"ROUND(CustEstVol[[#This Row],[CustCount]]*CustEstVol[[#This Row],[UsePerCust]],0)","v":153253},"Incl. 60-GRF Kirksville"]
[44409,"63-GRF","NEMO","Res",15151,9.1592184597761364,{"$f":"ROUND(CustEstVol[[#This Row],[CustCount]]*CustEstVol[[#This Row],[UsePerCust]],0)","v":138771},"Incl. 60-GRF Kirksville"]
[44440,"63-GRF","NEMO","Res",15132,12.953252738456634,{"$f":"ROUND(CustEstVol[[#This Row],[CustCount]]*CustEstVol[[#This Row],[UsePerCust]],0)","v":196009},"Incl. 60-GRF Kirksville"]
[44470,"63-GRF","NEMO","Res",15171.5,19.887491766605791,{"$f":"ROUND(CustEstVol[[#This Row],[CustCount]]*CustEstVol[[#This Row],[UsePerCust]],0)","v":301723},"Incl. 60-GRF Kirksville"]
[44501,"63-GRF","NEMO","Res",15566.5,58.170040765973852,{"$f":"ROUND(CustEstVol[[#This Row],[CustCount]]*CustEstVol[[#This Row],[UsePerCust]],0)","v":905504},"Incl. 60-GRF Kirksville"]
[44531,"63-GRF","NEMO","Res",15929,82.475388188949665,{"$f":"ROUND(CustEstVol[[#This Row],[CustCount]]*CustEstVol[[#This Row],[UsePerCust]],0)","v":1313750},"Incl. 60-GRF Kirksville"]
[44562,"63-GRF","NEMO","Res",16133.5,155.97304834753703,{"$f":"ROUND(CustEstVol[[#This Row],[CustCount]]*CustEstVol[[#This Row],[UsePerCust]],0)","v":2516391},"Incl. 60-GRF Kirksville"]
[44593,"63-GRF","NEMO","Res",16122.5,132.44858938434794,{"$f":"ROUND(CustEstVol[[#This Row],[CustCount]]*CustEstVol[[#This Row],[UsePerCust]],0)","v":2135402},"Incl. 60-GRF Kirksville"]
[44621,"63-GRF","NEMO","Res",16111.5,99.776060000924161,{"$f":"ROUND(CustEstVol[[#This Row],[CustCount]]*CustEstVol[[#This Row],[UsePerCust]],0)","v":1607542},"Incl. 60-GRF Kirksville"]
[44652,"63-GRF","NEMO","Res",16009.5,69.806960684754756,{"$f":"ROUND(CustEstVol[[#This Row],[CustCount]]*CustEstVol[[#This Row],[UsePerCust]],0)","v":1117575},"Incl. 60-GRF Kirksville"]
[44682,"63-GRF","NEMO","Res",15839,32.355106661544902,{"$f":"ROUND(CustEstVol[[#This Row],[CustCount]]*CustEstVol[[#This Row],[UsePerCust]],0)","v":512473},"Incl. 60-GRF Kirksville"]
[44713,"63-GRF","NEMO","Res",15421,12.085795560709176,{"$f":"ROUND(CustEstVol[[#This Row],[CustCount]]*CustEstVol[[#This Row],[UsePerCust]],0)","v":186375},"Incl. 60-GRF Kirksville"]
[44743,"63-GRF","NEMO","Res",15196,10.085103223055476,{"$f":"ROUND(CustEstVol[[#This Row],[CustCount]]*CustEstVol[[#This Row],[UsePerCust]],0)","v":153253},"Incl. 60-GRF Kirksville"]
[44774,"63-GRF","NEMO","Res",15151,9.1592184597761364,{"$f":"ROUND(CustEstVol[[#This Row],[CustCount]]*CustEstVol[[#This Row],[UsePerCust]],0)","v":138771},"Incl. 60-GRF Kirksville"]
[44805,"63-GRF","NEMO","Res",15132,12.953252738456634,{"$f":"ROUND(CustEstVol[[#This Row],[CustCount]]*CustEstVol[[#This Row],[UsePerCust]],0)","v":196009},"Incl. 60-GRF Kirksville"]
[44835,"63-GRF","NEMO","Res",15171.5,19.887491766605791,{"$f":"ROUND(CustEstVol[[#This Row],[CustCount]]*CustEstVol[[#This Row],[UsePerCust]],0)","v":301723},"Incl. 60-GRF Kirksville"]
[44866,"63-GRF","NEMO","Res",15566.5,58.170040765973852,{"$f":"ROUND(CustEstVol[[#This Row],[CustCount]]*CustEstVol[[#This Row],[UsePerCust]],0)","v":905504},"Incl. 60-GRF Kirksville"]
[44896,"63-GRF","NEMO","Res",15929,82.475388188949665,{"$f":"ROUND(CustEstVol[[#This Row],[CustCount]]*CustEstVol[[#This Row],[UsePerCust]],0)","v":1313750},"Incl. 60-GRF Kirksville"]
[44197,"63-GCSF","NEMO","SGS",2448,347.41656960264169,{"$f":"ROUND(CustEstVol[[#This Row],[CustCount]]*CustEstVol[[#This Row],[UsePerCust]],0)","v":850476},"Incl. 60-GCSF Kirksville"]
[44228,"63-GCSF","NEMO","SGS",2451.5,285.4439731286015,{"$f":"ROUND(CustEstVol[[#This Row],[CustCount]]*CustEstVol[[#This Row],[UsePerCust]],0)","v":699766},"Incl. 60-GCSF Kirksville"]
[44256,"63-GCSF","NEMO","SGS",2445,210.29142733301734,{"$f":"ROUND(CustEstVol[[#This Row],[CustCount]]*CustEstVol[[#This Row],[UsePerCust]],0)","v":514163},"Incl. 60-GCSF Kirksville"]
[44287,"63-GCSF","NEMO","SGS",2434.5,142.80527946515238,{"$f":"ROUND(CustEstVol[[#This Row],[CustCount]]*CustEstVol[[#This Row],[UsePerCust]],0)","v":347659},"Incl. 60-GCSF Kirksville"]
[44317,"63-GCSF","NEMO","SGS",2419.5,62.86359981403367,{"$f":"ROUND(CustEstVol[[#This Row],[CustCount]]*CustEstVol[[#This Row],[UsePerCust]],0)","v":152098},"Incl. 60-GCSF Kirksville"]
[44348,"63-GCSF","NEMO","SGS",2393.5,30.084836641693119,{"$f":"ROUND(CustEstVol[[#This Row],[CustCount]]*CustEstVol[[#This Row],[UsePerCust]],0)","v":72008},"Incl. 60-GCSF Kirksville"]
[44378,"63-GCSF","NEMO","SGS",2365.5,28.363711901774998,{"$f":"ROUND(CustEstVol[[#This Row],[CustCount]]*CustEstVol[[#This Row],[UsePerCust]],0)","v":67094},"Incl. 60-GCSF Kirksville"]
[44409,"63-GCSF","NEMO","SGS",2367.5,26.53984322079344,{"$f":"ROUND(CustEstVol[[#This Row],[CustCount]]*CustEstVol[[#This Row],[UsePerCust]],0)","v":62833},"Incl. 60-GCSF Kirksville"]
[44440,"63-GCSF","NEMO","SGS",2366,35.918243885474915,{"$f":"ROUND(CustEstVol[[#This Row],[CustCount]]*CustEstVol[[#This Row],[UsePerCust]],0)","v":84983},"Incl. 60-GCSF Kirksville"]
[44470,"63-GCSF","NEMO","SGS",2360,49.80635960618153,{"$f":"ROUND(CustEstVol[[#This Row],[CustCount]]*CustEstVol[[#This Row],[UsePerCust]],0)","v":117543},"Incl. 60-GCSF Kirksville"]
[44501,"63-GCSF","NEMO","SGS",2414.5,118.60648404295326,{"$f":"ROUND(CustEstVol[[#This Row],[CustCount]]*CustEstVol[[#This Row],[UsePerCust]],0)","v":286375},"Incl. 60-GCSF Kirksville"]
[44531,"63-GCSF","NEMO","SGS",2456.5,177.77838006237684,{"$f":"ROUND(CustEstVol[[#This Row],[CustCount]]*CustEstVol[[#This Row],[UsePerCust]],0)","v":436713},"Incl. 60-GCSF Kirksville"]
[44562,"63-GCSF","NEMO","SGS",2448,347.41656960264169,{"$f":"ROUND(CustEstVol[[#This Row],[CustCount]]*CustEstVol[[#This Row],[UsePerCust]],0)","v":850476},"Incl. 60-GCSF Kirksville"]
[44593,"63-GCSF","NEMO","SGS",2451.5,285.4439731286015,{"$f":"ROUND(CustEstVol[[#This Row],[CustCount]]*CustEstVol[[#This Row],[UsePerCust]],0)","v":699766},"Incl. 60-GCSF Kirksville"]
[44621,"63-GCSF","NEMO","SGS",2445,210.29142733301734,{"$f":"ROUND(CustEstVol[[#This Row],[CustCount]]*CustEstVol[[#This Row],[UsePerCust]],0)","v":514163},"Incl. 60-GCSF Kirksville"]
[44652,"63-GCSF","NEMO","SGS",2423.5,142.80527946515238,{"$f":"ROUND(CustEstVol[[#This Row],[CustCount]]*CustEstVol[[#This Row],[UsePerCust]],0)","v":346089},"Incl. 60-GCSF Kirksville"]
[44682,"63-GCSF","NEMO","SGS",2408.5,62.86359981403367,{"$f":"ROUND(CustEstVol[[#This Row],[CustCount]]*CustEstVol[[#This Row],[UsePerCust]],0)","v":151407},"Incl. 60-GCSF Kirksville"]
[44713,"63-GCSF","NEMO","SGS",2382.5,30.084836641693119,{"$f":"ROUND(CustEstVol[[#This Row],[CustCount]]*CustEstVol[[#This Row],[UsePerCust]],0)","v":71677},"Incl. 60-GCSF Kirksville"]
[44743,"63-GCSF","NEMO","SGS",2354.5,28.363711901774998,{"$f":"ROUND(CustEstVol[[#This Row],[CustCount]]*CustEstVol[[#This Row],[UsePerCust]],0)","v":66782},"Incl. 60-GCSF Kirksville"]
[44774,"63-GCSF","NEMO","SGS",2356.5,26.53984322079344,{"$f":"ROUND(CustEstVol[[#This Row],[CustCount]]*CustEstVol[[#This Row],[UsePerCust]],0)","v":62541},"Incl. 60-GCSF Kirksville"]
[44805,"63-GCSF","NEMO","SGS",2355,35.918243885474915,{"$f":"ROUND(CustEstVol[[#This Row],[CustCount]]*CustEstVol[[#This Row],[UsePerCust]],0)","v":84587},"Incl. 60-GCSF Kirksville"]
[44835,"63-GCSF","NEMO","SGS",2349,49.80635960618153,{"$f":"ROUND(CustEstVol[[#This Row],[CustCount]]*CustEstVol[[#This Row],[UsePerCust]],0)","v":116995},"Incl. 60-GCSF Kirksville"]
[44866,"63-GCSF","NEMO","SGS",2403.5,118.60648404295326,{"$f":"ROUND(CustEstVol[[#This Row],[CustCount]]*CustEstVol[[#This Row],[UsePerCust]],0)","v":285071},"Incl. 60-GCSF Kirksville"]
[44896,"63-GCSF","NEMO","SGS",2445.5,177.77838006237684,{"$f":"ROUND(CustEstVol[[#This Row],[CustCount]]*CustEstVol[[#This Row],[UsePerCust]],0)","v":434757},"Incl. 60-GCSF Kirksville"]
[44927,"63-GCSF","NEMO","SGS",2437,347.41656960264169,{"$f":"ROUND(CustEstVol[[#This Row],[CustCount]]*CustEstVol[[#This Row],[UsePerCust]],0)","v":846654},"Incl. 60-GCSF Kirksville"]
[44958,"63-GCSF","NEMO","SGS",2440.5,285.4439731286015,{"$f":"ROUND(CustEstVol[[#This Row],[CustCount]]*CustEstVol[[#This Row],[UsePerCust]],0)","v":696626},"Incl. 60-GCSF Kirksville"]
[44986,"63-GCSF","NEMO","SGS",2434,210.29142733301734,{"$f":"ROUND(CustEstVol[[#This Row],[CustCount]]*CustEstVol[[#This Row],[UsePerCust]],0)","v":511849},"Incl. 60-GCSF Kirksville"]
[45017,"63-GCSF","NEMO","SGS",2423.5,142.80527946515238,{"$f":"ROUND(CustEstVol[[#This Row],[CustCount]]*CustEstVol[[#This Row],[UsePerCust]],0)","v":346089},"Incl. 60-GCSF Kirksville"]
[45047,"63-GCSF","NEMO","SGS",2408.5,62.86359981403367,{"$f":"ROUND(CustEstVol[[#This Row],[CustCount]]*CustEstVol[[#This Row],[UsePerCust]],0)","v":151407},"Incl. 60-GCSF Kirksville"]
[45078,"63-GCSF","NEMO","SGS",2382.5,30.084836641693119,{"$f":"ROUND(CustEstVol[[#This Row],[CustCount]]*CustEstVol[[#This Row],[UsePerCust]],0)","v":71677},"Incl. 60-GCSF Kirksville"]
[45108,"63-GCSF","NEMO","SGS",2354.5,28.363711901774998,{"$f":"ROUND(CustEstVol[[#This Row],[CustCount]]*CustEstVol[[#This Row],[UsePerCust]],0)","v":66782},"Incl. 60-GCSF Kirksville"]
[45139,"63-GCSF","NEMO","SGS",2356.5,26.53984322079344,{"$f":"ROUND(CustEstVol[[#This Row],[CustCount]]*CustEstVol[[#This Row],[UsePerCust]],0)","v":62541},"Incl. 60-GCSF Kirksville"]
[45170,"63-GCSF","NEMO","SGS",2355,35.918243885474915,{"$f":"ROUND(CustEstVol[[#This Row],[CustCount]]*CustEstVol[[#This Row],[UsePerCust]],0)","v":84587},"Incl. 60-GCSF Kirksville"]
[45200,"63-GCSF","NEMO","SGS",2349,49.80635960618153,{"$f":"ROUND(CustEstVol[[#This Row],[CustCount]]*CustEstVol[[#This Row],[UsePerCust]],0)","v":116995},"Incl. 60-GCSF Kirksville"]
[45231,"63-GCSF","NEMO","SGS",2403.5,118.60648404295326,{"$f":"ROUND(CustEstVol[[#This Row],[CustCount]]*CustEstVol[[#This Row],[UsePerCust]],0)","v":285071},"Incl. 60-GCSF Kirksville"]
[45261,"63-GCSF","NEMO","SGS",2445.5,177.77838006237684,{"$f":"ROUND(CustEstVol[[#This Row],[CustCount]]*CustEstVol[[#This Row],[UsePerCust]],0)","v":434757},"Incl. 60-GCSF Kirksville"]
[44927,"63-GRF","NEMO","Res",16133.5,155.97304834753703,{"$f":"ROUND(CustEstVol[[#This Row],[CustCount]]*CustEstVol[[#This Row],[UsePerCust]],0)","v":2516391},"Incl. 60-GRF Kirksville"]
[44958,"63-GRF","NEMO","Res",16122.5,132.44858938434794,{"$f":"ROUND(CustEstVol[[#This Row],[CustCount]]*CustEstVol[[#This Row],[UsePerCust]],0)","v":2135402},"Incl. 60-GRF Kirksville"]
[44986,"63-GRF","NEMO","Res",16111.5,99.776060000924161,{"$f":"ROUND(CustEstVol[[#This Row],[CustCount]]*CustEstVol[[#This Row],[UsePerCust]],0)","v":1607542},"Incl. 60-GRF Kirksville"]
[45017,"63-GRF","NEMO","Res",16009.5,69.806960684754756,{"$f":"ROUND(CustEstVol[[#This Row],[CustCount]]*CustEstVol[[#This Row],[UsePerCust]],0)","v":1117575},"Incl. 60-GRF Kirksville"]
[45047,"63-GRF","NEMO","Res",15839,32.355106661544902,{"$f":"ROUND(CustEstVol[[#This Row],[CustCount]]*CustEstVol[[#This Row],[UsePerCust]],0)","v":512473},"Incl. 60-GRF Kirksville"]
[45078,"63-GRF","NEMO","Res",15421,12.085795560709176,{"$f":"ROUND(CustEstVol[[#This Row],[CustCount]]*CustEstVol[[#This Row],[UsePerCust]],0)","v":186375},"Incl. 60-GRF Kirksville"]
[45108,"63-GRF","NEMO","Res",15196,10.085103223055476,{"$f":"ROUND(CustEstVol[[#This Row],[CustCount]]*CustEstVol[[#This Row],[UsePerCust]],0)","v":153253},"Incl. 60-GRF Kirksville"]
[45139,"63-GRF","NEMO","Res",15151,9.1592184597761364,{"$f":"ROUND(CustEstVol[[#This Row],[CustCount]]*CustEstVol[[#This Row],[UsePerCust]],0)","v":138771},"Incl. 60-GRF Kirksville"]
[45170,"63-GRF","NEMO","Res",15132,12.953252738456634,{"$f":"ROUND(CustEstVol[[#This Row],[CustCount]]*CustEstVol[[#This Row],[UsePerCust]],0)","v":196009},"Incl. 60-GRF Kirksville"]
[45200,"63-GRF","NEMO","Res",15171.5,19.887491766605791,{"$f":"ROUND(CustEstVol[[#This Row],[CustCount]]*CustEstVol[[#This Row],[UsePerCust]],0)","v":301723},"Incl. 60-GRF Kirksville"]
[45231,"63-GRF","NEMO","Res",15566.5,58.170040765973852,{"$f":"ROUND(CustEstVol[[#This Row],[CustCount]]*CustEstVol[[#This Row],[UsePerCust]],0)","v":905504},"Incl. 60-GRF Kirksville"]
[45261,"63-GRF","NEMO","Res",15929,82.475388188949665,{"$f":"ROUND(CustEstVol[[#This Row],[CustCount]]*CustEstVol[[#This Row],[UsePerCust]],0)","v":1313750},"Incl. 60-GRF Kirksville"]
[44197,"61-GRF","WEMO","Res",3337.5,146.07970534627208,{"$f":"ROUND(CustEstVol[[#This Row],[CustCount]]*CustEstVol[[#This Row],[UsePerCust]],0)","v":487541}]
[44228,"61-GRF","WEMO","Res",3337,123.07577892458774,{"$f":"ROUND(CustEstVol[[#This Row],[CustCount]]*CustEstVol[[#This Row],[UsePerCust]],0)","v":410704}]
[44256,"61-GRF","WEMO","Res",3342,97.327798032602601,{"$f":"ROUND(CustEstVol[[#This Row],[CustCount]]*CustEstVol[[#This Row],[UsePerCust]],0)","v":325270}]
[44287,"61-GRF","WEMO","Res",3327,58.856915890609116,{"$f":"ROUND(CustEstVol[[#This Row],[CustCount]]*CustEstVol[[#This Row],[UsePerCust]],0)","v":195817}]
[44317,"61-GRF","WEMO","Res",3295.5,31.828622799896465,{"$f":"ROUND(CustEstVol[[#This Row],[CustCount]]*CustEstVol[[#This Row],[UsePerCust]],0)","v":104891}]
[44348,"61-GRF","WEMO","Res",3249.5,11.156511148638026,{"$f":"ROUND(CustEstVol[[#This Row],[CustCount]]*CustEstVol[[#This Row],[UsePerCust]],0)","v":36253}]
[44378,"61-GRF","WEMO","Res",3236,9.4999070442247078,{"$f":"ROUND(CustEstVol[[#This Row],[CustCount]]*CustEstVol[[#This Row],[UsePerCust]],0)","v":30742}]
[44409,"61-GRF","WEMO","Res",3204,7.7180922700072614,{"$f":"ROUND(CustEstVol[[#This Row],[CustCount]]*CustEstVol[[#This Row],[UsePerCust]],0)","v":24729}]
[44440,"61-GRF","WEMO","Res",3185,11.282756463009656,{"$f":"ROUND(CustEstVol[[#This Row],[CustCount]]*CustEstVol[[#This Row],[UsePerCust]],0)","v":35936}]
[44470,"61-GRF","WEMO","Res",3185.5,16.40830337642387,{"$f":"ROUND(CustEstVol[[#This Row],[CustCount]]*CustEstVol[[#This Row],[UsePerCust]],0)","v":52269}]
[44501,"61-GRF","WEMO","Res",3234,54.210861330981182,{"$f":"ROUND(CustEstVol[[#This Row],[CustCount]]*CustEstVol[[#This Row],[UsePerCust]],0)","v":175318}]
[44531,"61-GRF","WEMO","Res",3287.5,76.574334393103967,{"$f":"ROUND(CustEstVol[[#This Row],[CustCount]]*CustEstVol[[#This Row],[UsePerCust]],0)","v":251738}]
[44562,"61-GRF","WEMO","Res",3337.5,146.07970534627208,{"$f":"ROUND(CustEstVol[[#This Row],[CustCount]]*CustEstVol[[#This Row],[UsePerCust]],0)","v":487541}]
[44593,"61-GRF","WEMO","Res",3337,123.07577892458774,{"$f":"ROUND(CustEstVol[[#This Row],[CustCount]]*CustEstVol[[#This Row],[UsePerCust]],0)","v":410704}]
[44621,"61-GRF","WEMO","Res",3342,97.327798032602601,{"$f":"ROUND(CustEstVol[[#This Row],[CustCount]]*CustEstVol[[#This Row],[UsePerCust]],0)","v":325270}]
[44652,"61-GRF","WEMO","Res",3327,58.856915890609116,{"$f":"ROUND(CustEstVol[[#This Row],[CustCount]]*CustEstVol[[#This Row],[UsePerCust]],0)","v":195817}]
[44682,"61-GRF","WEMO","Res",3295.5,31.828622799896465,{"$f":"ROUND(CustEstVol[[#This Row],[CustCount]]*CustEstVol[[#This Row],[UsePerCust]],0)","v":104891}]
[44713,"61-GRF","WEMO","Res",3249.5,11.156511148638026,{"$f":"ROUND(CustEstVol[[#This Row],[CustCount]]*CustEstVol[[#This Row],[UsePerCust]],0)","v":36253}]
[44743,"61-GRF","WEMO","Res",3236,9.4999070442247078,{"$f":"ROUND(CustEstVol[[#This Row],[CustCount]]*CustEstVol[[#This Row],[UsePerCust]],0)","v":30742}]
[44774,"61-GRF","WEMO","Res",3204,7.7180922700072614,{"$f":"ROUND(CustEstVol[[#This Row],[CustCount]]*CustEstVol[[#This Row],[UsePerCust]],0)","v":24729}]
[44805,"61-GRF","WEMO","Res",3185,11.282756463009656,{"$f":"ROUND(CustEstVol[[#This Row],[CustCount]]*CustEstVol[[#This Row],[UsePerCust]],0)","v":35936}]
[44835,"61-GRF","WEMO","Res",3185.5,16.40830337642387,{"$f":"ROUND(CustEstVol[[#This Row],[CustCount]]*CustEstVol[[#This Row],[UsePerCust]],0)","v":52269}]
[44866,"61-GRF","WEMO","Res",3234,54.210861330981182,{"$f":"ROUND(CustEstVol[[#This Row],[CustCount]]*CustEstVol[[#This Row],[UsePerCust]],0)","v":175318}]
[44896,"61-GRF","WEMO","Res",3287.5,76.574334393103967,{"$f":"ROUND(CustEstVol[[#This Row],[CustCount]]*CustEstVol[[#This Row],[UsePerCust]],0)","v":251738}]
[44197,"61-GCSF","WEMO","SGS",571,306.04811426705947,{"$f":"ROUND(CustEstVol[[#This Row],[CustCount]]*CustEstVol[[#This Row],[UsePerCust]],0)","v":174753}]
[44228,"61-GCSF","WEMO","SGS",571.5,265.2444530099624,{"$f":"ROUND(CustEstVol[[#This Row],[CustCount]]*CustEstVol[[#This Row],[UsePerCust]],0)","v":151587}]
[44256,"61-GCSF","WEMO","SGS",572.5,200.48834025794966,{"$f":"ROUND(CustEstVol[[#This Row],[CustCount]]*CustEstVol[[#This Row],[UsePerCust]],0)","v":114780}]
[44287,"61-GCSF","WEMO","SGS",570.5,111.09485427515115,{"$f":"ROUND(CustEstVol[[#This Row],[CustCount]]*CustEstVol[[#This Row],[UsePerCust]],0)","v":63380}]
[44317,"61-GCSF","WEMO","SGS",570,54.394657386657343,{"$f":"ROUND(CustEstVol[[#This Row],[CustCount]]*CustEstVol[[#This Row],[UsePerCust]],0)","v":31005}]
[44348,"61-GCSF","WEMO","SGS",564.5,23.796071491713761,{"$f":"ROUND(CustEstVol[[#This Row],[CustCount]]*CustEstVol[[#This Row],[UsePerCust]],0)","v":13433}]
[44378,"61-GCSF","WEMO","SGS",561,21.991484240400087,{"$f":"ROUND(CustEstVol[[#This Row],[CustCount]]*CustEstVol[[#This Row],[UsePerCust]],0)","v":12337}]
[44409,"61-GCSF","WEMO","SGS",559.5,18.660052113556979,{"$f":"ROUND(CustEstVol[[#This Row],[CustCount]]*CustEstVol[[#This Row],[UsePerCust]],0)","v":10440}]
[44440,"61-GCSF","WEMO","SGS",557,25.769442383939051,{"$f":"ROUND(CustEstVol[[#This Row],[CustCount]]*CustEstVol[[#This Row],[UsePerCust]],0)","v":14354}]
[44470,"61-GCSF","WEMO","SGS",555,33.561803233947998,{"$f":"ROUND(CustEstVol[[#This Row],[CustCount]]*CustEstVol[[#This Row],[UsePerCust]],0)","v":18627}]
[44501,"61-GCSF","WEMO","SGS",559,96.727734326113804,{"$f":"ROUND(CustEstVol[[#This Row],[CustCount]]*CustEstVol[[#This Row],[UsePerCust]],0)","v":54071}]
[44531,"61-GCSF","WEMO","SGS",566,153.12374557478142,{"$f":"ROUND(CustEstVol[[#This Row],[CustCount]]*CustEstVol[[#This Row],[UsePerCust]],0)","v":86668}]
[44562,"61-GCSF","WEMO","SGS",571,306.04811426705947,{"$f":"ROUND(CustEstVol[[#This Row],[CustCount]]*CustEstVol[[#This Row],[UsePerCust]],0)","v":174753}]
[44593,"61-GCSF","WEMO","SGS",571.5,265.2444530099624,{"$f":"ROUND(CustEstVol[[#This Row],[CustCount]]*CustEstVol[[#This Row],[UsePerCust]],0)","v":151587}]
[44621,"61-GCSF","WEMO","SGS",572.5,200.48834025794966,{"$f":"ROUND(CustEstVol[[#This Row],[CustCount]]*CustEstVol[[#This Row],[UsePerCust]],0)","v":114780}]
[44652,"61-GCSF","WEMO","SGS",570.5,111.09485427515115,{"$f":"ROUND(CustEstVol[[#This Row],[CustCount]]*CustEstVol[[#This Row],[UsePerCust]],0)","v":63380}]
[44682,"61-GCSF","WEMO","SGS",570,54.394657386657343,{"$f":"ROUND(CustEstVol[[#This Row],[CustCount]]*CustEstVol[[#This Row],[UsePerCust]],0)","v":31005}]
[44713,"61-GCSF","WEMO","SGS",564.5,23.796071491713761,{"$f":"ROUND(CustEstVol[[#This Row],[CustCount]]*CustEstVol[[#This Row],[UsePerCust]],0)","v":13433}]
[44743,"61-GCSF","WEMO","SGS",561,21.991484240400087,{"$f":"ROUND(CustEstVol[[#This Row],[CustCount]]*CustEstVol[[#This Row],[UsePerCust]],0)","v":12337}]
[44774,"61-GCSF","WEMO","SGS",559.5,18.660052113556979,{"$f":"ROUND(CustEstVol[[#This Row],[CustCount]]*CustEstVol[[#This Row],[UsePerCust]],0)","v":10440}]
[44805,"61-GCSF","WEMO","SGS",557,25.769442383939051,{"$f":"ROUND(CustEstVol[[#This Row],[CustCount]]*CustEstVol[[#This Row],[UsePerCust]],0)","v":14354}]
[44835,"61-GCSF","WEMO","SGS",555,33.561803233947998,{"$f":"ROUND(CustEstVol[[#This Row],[CustCount]]*CustEstVol[[#This Row],[UsePerCust]],0)","v":18627}]
[44866,"61-GCSF","WEMO","SGS",559,96.727734326113804,{"$f":"ROUND(CustEstVol[[#This Row],[CustCount]]*CustEstVol[[#This Row],[UsePerCust]],0)","v":54071}]
[44896,"61-GCSF","WEMO","SGS",566,153.12374557478142,{"$f":"ROUND(CustEstVol[[#This Row],[CustCount]]*CustEstVol[[#This Row],[UsePerCust]],0)","v":86668}]
[44927,"61-GCSF","WEMO","SGS",571,306.04811426705947,{"$f":"ROUND(CustEstVol[[#This Row],[CustCount]]*CustEstVol[[#This Row],[UsePerCust]],0)","v":174753}]
[44958,"61-GCSF","WEMO","SGS",571.5,265.2444530099624,{"$f":"ROUND(CustEstVol[[#This Row],[CustCount]]*CustEstVol[[#This Row],[UsePerCust]],0)","v":151587}]
[44986,"61-GCSF","WEMO","SGS",572.5,200.48834025794966,{"$f":"ROUND(CustEstVol[[#This Row],[CustCount]]*CustEstVol[[#This Row],[UsePerCust]],0)","v":114780}]
[45017,"61-GCSF","WEMO","SGS",570.5,111.09485427515115,{"$f":"ROUND(CustEstVol[[#This Row],[CustCount]]*CustEstVol[[#This Row],[UsePerCust]],0)","v":63380}]
[45047,"61-GCSF","WEMO","SGS",570,54.394657386657343,{"$f":"ROUND(CustEstVol[[#This Row],[CustCount]]*CustEstVol[[#This Row],[UsePerCust]],0)","v":31005}]
[45078,"61-GCSF","WEMO","SGS",564.5,23.796071491713761,{"$f":"ROUND(CustEstVol[[#This Row],[CustCount]]*CustEstVol[[#This Row],[UsePerCust]],0)","v":13433}]
[45108,"61-GCSF","WEMO","SGS",561,21.991484240400087,{"$f":"ROUND(CustEstVol[[#This Row],[CustCount]]*CustEstVol[[#This Row],[UsePerCust]],0)","v":12337}]
[45139,"61-GCSF","WEMO","SGS",559.5,18.660052113556979,{"$f":"ROUND(CustEstVol[[#This Row],[CustCount]]*CustEstVol[[#This Row],[UsePerCust]],0)","v":10440}]
[45170,"61-GCSF","WEMO","SGS",557,25.769442383939051,{"$f":"ROUND(CustEstVol[[#This Row],[CustCount]]*CustEstVol[[#This Row],[UsePerCust]],0)","v":14354}]
[45200,"61-GCSF","WEMO","SGS",555,33.561803233947998,{"$f":"ROUND(CustEstVol[[#This Row],[CustCount]]*CustEstVol[[#This Row],[UsePerCust]],0)","v":18627}]
[45231,"61-GCSF","WEMO","SGS",559,96.727734326113804,{"$f":"ROUND(CustEstVol[[#This Row],[CustCount]]*CustEstVol[[#This Row],[UsePerCust]],0)","v":54071}]
[45261,"61-GCSF","WEMO","SGS",566,153.12374557478142,{"$f":"ROUND(CustEstVol[[#This Row],[CustCount]]*CustEstVol[[#This Row],[UsePerCust]],0)","v":86668}]
[44927,"61-GRF","WEMO","Res",3337.5,146.07970534627208,{"$f":"ROUND(CustEstVol[[#This Row],[CustCount]]*CustEstVol[[#This Row],[UsePerCust]],0)","v":487541}]
[44958,"61-GRF","WEMO","Res",3337,123.07577892458774,{"$f":"ROUND(CustEstVol[[#This Row],[CustCount]]*CustEstVol[[#This Row],[UsePerCust]],0)","v":410704}]
[44986,"61-GRF","WEMO","Res",3342,97.327798032602601,{"$f":"ROUND(CustEstVol[[#This Row],[CustCount]]*CustEstVol[[#This Row],[UsePerCust]],0)","v":325270}]
[45017,"61-GRF","WEMO","Res",3327,58.856915890609116,{"$f":"ROUND(CustEstVol[[#This Row],[CustCount]]*CustEstVol[[#This Row],[UsePerCust]],0)","v":195817}]
[45047,"61-GRF","WEMO","Res",3295.5,31.828622799896465,{"$f":"ROUND(CustEstVol[[#This Row],[CustCount]]*CustEstVol[[#This Row],[UsePerCust]],0)","v":104891}]
[45078,"61-GRF","WEMO","Res",3249.5,11.156511148638026,{"$f":"ROUND(CustEstVol[[#This Row],[CustCount]]*CustEstVol[[#This Row],[UsePerCust]],0)","v":36253}]
[45108,"61-GRF","WEMO","Res",3236,9.4999070442247078,{"$f":"ROUND(CustEstVol[[#This Row],[CustCount]]*CustEstVol[[#This Row],[UsePerCust]],0)","v":30742}]
[45139,"61-GRF","WEMO","Res",3204,7.7180922700072614,{"$f":"ROUND(CustEstVol[[#This Row],[CustCount]]*CustEstVol[[#This Row],[UsePerCust]],0)","v":24729}]
[45170,"61-GRF","WEMO","Res",3185,11.282756463009656,{"$f":"ROUND(CustEstVol[[#This Row],[CustCount]]*CustEstVol[[#This Row],[UsePerCust]],0)","v":35936}]
[45200,"61-GRF","WEMO","Res",3185.5,16.40830337642387,{"$f":"ROUND(CustEstVol[[#This Row],[CustCount]]*CustEstVol[[#This Row],[UsePerCust]],0)","v":52269}]
[45231,"61-GRF","WEMO","Res",3234,54.210861330981182,{"$f":"ROUND(CustEstVol[[#This Row],[CustCount]]*CustEstVol[[#This Row],[UsePerCust]],0)","v":175318}]
[45261,"61-GRF","WEMO","Res",3287.5,76.574334393103967,{"$f":"ROUND(CustEstVol[[#This Row],[CustCount]]*CustEstVol[[#This Row],[UsePerCust]],0)","v":251738}]
[44197,"62-GRF","SEMO","Res",27825,123.53577039059967,{"$f":"ROUND(CustEstVol[[#This Row],[CustCount]]*CustEstVol[[#This Row],[UsePerCust]],0)","v":3437383}]
[44228,"62-GRF","SEMO","Res",27806.5,103.75418913357871,{"$f":"ROUND(CustEstVol[[#This Row],[CustCount]]*CustEstVol[[#This Row],[UsePerCust]],0)","v":2885041}]
[44256,"62-GRF","SEMO","Res",27812,81.561842735614221,{"$f":"ROUND(CustEstVol[[#This Row],[CustCount]]*CustEstVol[[#This Row],[UsePerCust]],0)","v":2268398}]
[44287,"62-GRF","SEMO","Res",27728,49.212342090221661,{"$f":"ROUND(CustEstVol[[#This Row],[CustCount]]*CustEstVol[[#This Row],[UsePerCust]],0)","v":1364560}]
[44317,"62-GRF","SEMO","Res",27540.5,25.099574557571497,{"$f":"ROUND(CustEstVol[[#This Row],[CustCount]]*CustEstVol[[#This Row],[UsePerCust]],0)","v":691255}]
[44348,"62-GRF","SEMO","Res",27306.5,12.701835355285022,{"$f":"ROUND(CustEstVol[[#This Row],[CustCount]]*CustEstVol[[#This Row],[UsePerCust]],0)","v":346843}]
[44378,"62-GRF","SEMO","Res",27084,9.9085056933269637,{"$f":"ROUND(CustEstVol[[#This Row],[CustCount]]*CustEstVol[[#This Row],[UsePerCust]],0)","v":268362}]
[44409,"62-GRF","SEMO","Res",26964,9.378385045284519,{"$f":"ROUND(CustEstVol[[#This Row],[CustCount]]*CustEstVol[[#This Row],[UsePerCust]],0)","v":252879}]
[44440,"62-GRF","SEMO","Res",26896.5,12.010212609004119,{"$f":"ROUND(CustEstVol[[#This Row],[CustCount]]*CustEstVol[[#This Row],[UsePerCust]],0)","v":323033}]
[44470,"62-GRF","SEMO","Res",26839,13.771214486663101,{"$f":"ROUND(CustEstVol[[#This Row],[CustCount]]*CustEstVol[[#This Row],[UsePerCust]],0)","v":369606}]
[44501,"62-GRF","SEMO","Res",27183.5,39.94808082090421,{"$f":"ROUND(CustEstVol[[#This Row],[CustCount]]*CustEstVol[[#This Row],[UsePerCust]],0)","v":1085929}]
[44531,"62-GRF","SEMO","Res",27493.5,72.801128389382853,{"$f":"ROUND(CustEstVol[[#This Row],[CustCount]]*CustEstVol[[#This Row],[UsePerCust]],0)","v":2001558}]
[44562,"62-GRF","SEMO","Res",27825,123.53577039059967,{"$f":"ROUND(CustEstVol[[#This Row],[CustCount]]*CustEstVol[[#This Row],[UsePerCust]],0)","v":3437383}]
[44593,"62-GRF","SEMO","Res",27806.5,103.75418913357871,{"$f":"ROUND(CustEstVol[[#This Row],[CustCount]]*CustEstVol[[#This Row],[UsePerCust]],0)","v":2885041}]
[44621,"62-GRF","SEMO","Res",27812,81.561842735614221,{"$f":"ROUND(CustEstVol[[#This Row],[CustCount]]*CustEstVol[[#This Row],[UsePerCust]],0)","v":2268398}]
[44652,"62-GRF","SEMO","Res",27728,49.212342090221661,{"$f":"ROUND(CustEstVol[[#This Row],[CustCount]]*CustEstVol[[#This Row],[UsePerCust]],0)","v":1364560}]
[44682,"62-GRF","SEMO","Res",27540.5,25.099574557571497,{"$f":"ROUND(CustEstVol[[#This Row],[CustCount]]*CustEstVol[[#This Row],[UsePerCust]],0)","v":691255}]
[44713,"62-GRF","SEMO","Res",27306.5,12.701835355285022,{"$f":"ROUND(CustEstVol[[#This Row],[CustCount]]*CustEstVol[[#This Row],[UsePerCust]],0)","v":346843}]
[44743,"62-GRF","SEMO","Res",27084,9.9085056933269637,{"$f":"ROUND(CustEstVol[[#This Row],[CustCount]]*CustEstVol[[#This Row],[UsePerCust]],0)","v":268362}]
[44774,"62-GRF","SEMO","Res",26964,9.378385045284519,{"$f":"ROUND(CustEstVol[[#This Row],[CustCount]]*CustEstVol[[#This Row],[UsePerCust]],0)","v":252879}]
[44805,"62-GRF","SEMO","Res",26896.5,12.010212609004119,{"$f":"ROUND(CustEstVol[[#This Row],[CustCount]]*CustEstVol[[#This Row],[UsePerCust]],0)","v":323033}]
[44835,"62-GRF","SEMO","Res",26839,13.771214486663101,{"$f":"ROUND(CustEstVol[[#This Row],[CustCount]]*CustEstVol[[#This Row],[UsePerCust]],0)","v":369606}]
[44866,"62-GRF","SEMO","Res",27183.5,39.94808082090421,{"$f":"ROUND(CustEstVol[[#This Row],[CustCount]]*CustEstVol[[#This Row],[UsePerCust]],0)","v":1085929}]
[44896,"62-GRF","SEMO","Res",27493.5,72.801128389382853,{"$f":"ROUND(CustEstVol[[#This Row],[CustCount]]*CustEstVol[[#This Row],[UsePerCust]],0)","v":2001558}]
[44197,"62-GCSF","SEMO","SGS",3811.5,274.93436404691158,{"$f":"ROUND(CustEstVol[[#This Row],[CustCount]]*CustEstVol[[#This Row],[UsePerCust]],0)","v":1047912}]
[44228,"62-GCSF","SEMO","SGS",3806.5,222.75659325482778,{"$f":"ROUND(CustEstVol[[#This Row],[CustCount]]*CustEstVol[[#This Row],[UsePerCust]],0)","v":847923}]
[44256,"62-GCSF","SEMO","SGS",3814,165.71929999000466,{"$f":"ROUND(CustEstVol[[#This Row],[CustCount]]*CustEstVol[[#This Row],[UsePerCust]],0)","v":632053}]
[44287,"62-GCSF","SEMO","SGS",3798,97.57005416583462,{"$f":"ROUND(CustEstVol[[#This Row],[CustCount]]*CustEstVol[[#This Row],[UsePerCust]],0)","v":370571}]
[44317,"62-GCSF","SEMO","SGS",3779.5,43.090267362882457,{"$f":"ROUND(CustEstVol[[#This Row],[CustCount]]*CustEstVol[[#This Row],[UsePerCust]],0)","v":162860}]
[44348,"62-GCSF","SEMO","SGS",3744,26.806668834225672,{"$f":"ROUND(CustEstVol[[#This Row],[CustCount]]*CustEstVol[[#This Row],[UsePerCust]],0)","v":100364}]
[44378,"62-GCSF","SEMO","SGS",3727,23.202792432118315,{"$f":"ROUND(CustEstVol[[#This Row],[CustCount]]*CustEstVol[[#This Row],[UsePerCust]],0)","v":86477}]
[44409,"62-GCSF","SEMO","SGS",3718,23.867757068796021,{"$f":"ROUND(CustEstVol[[#This Row],[CustCount]]*CustEstVol[[#This Row],[UsePerCust]],0)","v":88740}]
[44440,"62-GCSF","SEMO","SGS",3704,28.179741837794008,{"$f":"ROUND(CustEstVol[[#This Row],[CustCount]]*CustEstVol[[#This Row],[UsePerCust]],0)","v":104378}]
[44470,"62-GCSF","SEMO","SGS",3699.5,30.527746458010942,{"$f":"ROUND(CustEstVol[[#This Row],[CustCount]]*CustEstVol[[#This Row],[UsePerCust]],0)","v":112937}]
[44501,"62-GCSF","SEMO","SGS",3744,76.5793410134482,{"$f":"ROUND(CustEstVol[[#This Row],[CustCount]]*CustEstVol[[#This Row],[UsePerCust]],0)","v":286713}]
[44531,"62-GCSF","SEMO","SGS",3786.5,151.61405784190814,{"$f":"ROUND(CustEstVol[[#This Row],[CustCount]]*CustEstVol[[#This Row],[UsePerCust]],0)","v":574087}]
[44562,"62-GCSF","SEMO","SGS",3811.5,274.93436404691158,{"$f":"ROUND(CustEstVol[[#This Row],[CustCount]]*CustEstVol[[#This Row],[UsePerCust]],0)","v":1047912}]
[44593,"62-GCSF","SEMO","SGS",3806.5,222.75659325482778,{"$f":"ROUND(CustEstVol[[#This Row],[CustCount]]*CustEstVol[[#This Row],[UsePerCust]],0)","v":847923}]
[44621,"62-GCSF","SEMO","SGS",3814,165.71929999000466,{"$f":"ROUND(CustEstVol[[#This Row],[CustCount]]*CustEstVol[[#This Row],[UsePerCust]],0)","v":632053}]
[44652,"62-GCSF","SEMO","SGS",3713,97.57005416583462,{"$f":"ROUND(CustEstVol[[#This Row],[CustCount]]*CustEstVol[[#This Row],[UsePerCust]],0)","v":362278}]
[44682,"62-GCSF","SEMO","SGS",3694.5,43.090267362882457,{"$f":"ROUND(CustEstVol[[#This Row],[CustCount]]*CustEstVol[[#This Row],[UsePerCust]],0)","v":159197}]
[44713,"62-GCSF","SEMO","SGS",3659,26.806668834225672,{"$f":"ROUND(CustEstVol[[#This Row],[CustCount]]*CustEstVol[[#This Row],[UsePerCust]],0)","v":98086}]
[44743,"62-GCSF","SEMO","SGS",3642,23.202792432118315,{"$f":"ROUND(CustEstVol[[#This Row],[CustCount]]*CustEstVol[[#This Row],[UsePerCust]],0)","v":84505}]
[44774,"62-GCSF","SEMO","SGS",3633,23.867757068796021,{"$f":"ROUND(CustEstVol[[#This Row],[CustCount]]*CustEstVol[[#This Row],[UsePerCust]],0)","v":86712}]
[44805,"62-GCSF","SEMO","SGS",3619,28.179741837794008,{"$f":"ROUND(CustEstVol[[#This Row],[CustCount]]*CustEstVol[[#This Row],[UsePerCust]],0)","v":101982}]
[44835,"62-GCSF","SEMO","SGS",3614.5,30.527746458010942,{"$f":"ROUND(CustEstVol[[#This Row],[CustCount]]*CustEstVol[[#This Row],[UsePerCust]],0)","v":110343}]
[44866,"62-GCSF","SEMO","SGS",3659,76.5793410134482,{"$f":"ROUND(CustEstVol[[#This Row],[CustCount]]*CustEstVol[[#This Row],[UsePerCust]],0)","v":280204}]
[44896,"62-GCSF","SEMO","SGS",3701.5,151.61405784190814,{"$f":"ROUND(CustEstVol[[#This Row],[CustCount]]*CustEstVol[[#This Row],[UsePerCust]],0)","v":561199}]
[44927,"62-GCSF","SEMO","SGS",3726.5,274.93436404691158,{"$f":"ROUND(CustEstVol[[#This Row],[CustCount]]*CustEstVol[[#This Row],[UsePerCust]],0)","v":1024543}]
[44958,"62-GCSF","SEMO","SGS",3721.5,222.75659325482778,{"$f":"ROUND(CustEstVol[[#This Row],[CustCount]]*CustEstVol[[#This Row],[UsePerCust]],0)","v":828989}]
[44986,"62-GCSF","SEMO","SGS",3729,165.71929999000466,{"$f":"ROUND(CustEstVol[[#This Row],[CustCount]]*CustEstVol[[#This Row],[UsePerCust]],0)","v":617967}]
[45017,"62-GCSF","SEMO","SGS",3713,97.57005416583462,{"$f":"ROUND(CustEstVol[[#This Row],[CustCount]]*CustEstVol[[#This Row],[UsePerCust]],0)","v":362278}]
[45047,"62-GCSF","SEMO","SGS",3694.5,43.090267362882457,{"$f":"ROUND(CustEstVol[[#This Row],[CustCount]]*CustEstVol[[#This Row],[UsePerCust]],0)","v":159197}]
[45078,"62-GCSF","SEMO","SGS",3659,26.806668834225672,{"$f":"ROUND(CustEstVol[[#This Row],[CustCount]]*CustEstVol[[#This Row],[UsePerCust]],0)","v":98086}]
[45108,"62-GCSF","SEMO","SGS",3642,23.202792432118315,{"$f":"ROUND(CustEstVol[[#This Row],[CustCount]]*CustEstVol[[#This Row],[UsePerCust]],0)","v":84505}]
[45139,"62-GCSF","SEMO","SGS",3633,23.867757068796021,{"$f":"ROUND(CustEstVol[[#This Row],[CustCount]]*CustEstVol[[#This Row],[UsePerCust]],0)","v":86712}]
[45170,"62-GCSF","SEMO","SGS",3619,28.179741837794008,{"$f":"ROUND(CustEstVol[[#This Row],[CustCount]]*CustEstVol[[#This Row],[UsePerCust]],0)","v":101982}]
[45200,"62-GCSF","SEMO","SGS",3614.5,30.527746458010942,{"$f":"ROUND(CustEstVol[[#This Row],[CustCount]]*CustEstVol[[#This Row],[UsePerCust]],0)","v":110343}]
[45231,"62-GCSF","SEMO","SGS",3659,76.5793410134482,{"$f":"ROUND(CustEstVol[[#This Row],[CustCount]]*CustEstVol[[#This Row],[UsePerCust]],0)","v":280204}]
[45261,"62-GCSF","SEMO","SGS",3701.5,151.61405784190814,{"$f":"ROUND(CustEstVol[[#This Row],[CustCount]]*CustEstVol[[#This Row],[UsePerCust]],0)","v":561199}]
[44927,"62-GRF","SEMO","Res",27825,123.53577039059967,{"$f":"ROUND(CustEstVol[[#This Row],[CustCount]]*CustEstVol[[#This Row],[UsePerCust]],0)","v":3437383}]
[44958,"62-GRF","SEMO","Res",27806.5,103.75418913357871,{"$f":"ROUND(CustEstVol[[#This Row],[CustCount]]*CustEstVol[[#This Row],[UsePerCust]],0)","v":2885041}]
[44986,"62-GRF","SEMO","Res",27812,81.561842735614221,{"$f":"ROUND(CustEstVol[[#This Row],[CustCount]]*CustEstVol[[#This Row],[UsePerCust]],0)","v":2268398}]
[45017,"62-GRF","SEMO","Res",27728,49.212342090221661,{"$f":"ROUND(CustEstVol[[#This Row],[CustCount]]*CustEstVol[[#This Row],[UsePerCust]],0)","v":1364560}]
[45047,"62-GRF","SEMO","Res",27540.5,25.099574557571497,{"$f":"ROUND(CustEstVol[[#This Row],[CustCount]]*CustEstVol[[#This Row],[UsePerCust]],0)","v":691255}]
[45078,"62-GRF","SEMO","Res",27306.5,12.701835355285022,{"$f":"ROUND(CustEstVol[[#This Row],[CustCount]]*CustEstVol[[#This Row],[UsePerCust]],0)","v":346843}]
[45108,"62-GRF","SEMO","Res",27084,9.9085056933269637,{"$f":"ROUND(CustEstVol[[#This Row],[CustCount]]*CustEstVol[[#This Row],[UsePerCust]],0)","v":268362}]
[45139,"62-GRF","SEMO","Res",26964,9.378385045284519,{"$f":"ROUND(CustEstVol[[#This Row],[CustCount]]*CustEstVol[[#This Row],[UsePerCust]],0)","v":252879}]
[45170,"62-GRF","SEMO","Res",26896.5,12.010212609004119,{"$f":"ROUND(CustEstVol[[#This Row],[CustCount]]*CustEstVol[[#This Row],[UsePerCust]],0)","v":323033}]
[45200,"62-GRF","SEMO","Res",26839,13.771214486663101,{"$f":"ROUND(CustEstVol[[#This Row],[CustCount]]*CustEstVol[[#This Row],[UsePerCust]],0)","v":369606}]
[45231,"62-GRF","SEMO","Res",27183.5,39.94808082090421,{"$f":"ROUND(CustEstVol[[#This Row],[CustCount]]*CustEstVol[[#This Row],[UsePerCust]],0)","v":1085929}]
[45261,"62-GRF","SEMO","Res",27493.5,72.801128389382853,{"$f":"ROUND(CustEstVol[[#This Row],[CustCount]]*CustEstVol[[#This Row],[UsePerCust]],0)","v":2001558}]

{"sheet":"CustEstRev","index":19,"n_rows":325,"n_cols":12,"rows_kept":325,"cut":false,"hidden":false,"merged":[]}
["MonthFlow","Period","RateSched","Region","CustClass","NormVol","CSNWARate","SRRRate","CSNWARev","SRRRev","Preparer's Notes","Reviewer's Notes"]
[44197,"S1","63-GRF","NEMO","Res",{"$f":"SUMPRODUCT((CustEstVol[MonthFlow]=CustEstRev[[#This Row],[MonthFlow]])*(CustEstVol[RateSched]=CustEstRev[[#This Row],[RateSched]])*(CustEstVol[CustClass]=CustEstRev[[#This Row],[CustClass]])*CustEstVol[NormVol])","v":2516391},{"$f":"SUMPRODUCT((WNARRates[BeginDate]<=CustEstRev[[#This Row],[MonthFlow]])*(WNARRates[EndDate]>=CustEstRev[[#This Row],[MonthFlow]])*(WNARRates[Region]=CustEstRev[[#This Row],[Region]])*(WNARRates[CustClass]=CustEstRev[[#This Row],[CustClass]])*(WNARRates[Period]=CustEstRev[[#This Row],[Period]])*WNARRates[AdjCSWNA])","v":1.8530000000000001E-2},{"$f":"SUMPRODUCT((WNARRates[BeginDate]<=CustEstRev[[#This Row],[MonthFlow]])*(WNARRates[EndDate]>=CustEstRev[[#This Row],[MonthFlow]])*(WNARRates[Region]=CustEstRev[[#This Row],[Region]])*(WNARRates[CustClass]=CustEstRev[[#This Row],[CustClass]])*(WNARRates[Period]=CustEstRev[[#This Row],[Period]])*WNARRates[AdjSRR])","v":-1.8400000000000001E-3},{"$f":"ROUND(CustEstRev[[#This Row],[NormVol]]*CustEstRev[[#This Row],[CSNWARate]],0)","v":46629},{"$f":"ROUND(CustEstRev[[#This Row],[NormVol]]*CustEstRev[[#This Row],[SRRRate]],0)","v":-4630},"Calculated revenues from data in CustEstVol table and WNAR Rates table"]
[44197,"S2","63-GRF","NEMO","Res",{"$f":"SUMPRODUCT((CustEstVol[MonthFlow]=CustEstRev[[#This Row],[MonthFlow]])*(CustEstVol[RateSched]=CustEstRev[[#This Row],[RateSched]])*(CustEstVol[CustClass]=CustEstRev[[#This Row],[CustClass]])*CustEstVol[NormVol])","v":2516391},{"$f":"SUMPRODUCT((WNARRates[BeginDate]<=CustEstRev[[#This Row],[MonthFlow]])*(WNARRates[EndDate]>=CustEstRev[[#This Row],[MonthFlow]])*(WNARRates[Region]=CustEstRev[[#This Row],[Region]])*(WNARRates[CustClass]=CustEstRev[[#This Row],[CustClass]])*(WNARRates[Period]=CustEstRev[[#This Row],[Period]])*WNARRates[AdjCSWNA])","v":-1.2099999999999999E-3},{"$f":"SUMPRODUCT((WNARRates[BeginDate]<=CustEstRev[[#This Row],[MonthFlow]])*(WNARRates[EndDate]>=CustEstRev[[#This Row],[MonthFlow]])*(WNARRates[Region]=CustEstRev[[#This Row],[Region]])*(WNARRates[CustClass]=CustEstRev[[#This Row],[CustClass]])*(WNARRates[Period]=CustEstRev[[#This Row],[Period]])*WNARRates[AdjSRR])","v":8.3000000000000001E-4},{"$f":"ROUND(CustEstRev[[#This Row],[NormVol]]*CustEstRev[[#This Row],[CSNWARate]],0)","v":-3045},{"$f":"ROUND(CustEstRev[[#This Row],[NormVol]]*CustEstRev[[#This Row],[SRRRate]],0)","v":2089},"Calculated revenues from data in CustEstVol table and WNAR Rates table"]
[44197,"S1","63-GCSF","NEMO","SGS",{"$f":"SUMPRODUCT((CustEstVol[MonthFlow]=CustEstRev[[#This Row],[MonthFlow]])*(CustEstVol[RateSched]=CustEstRev[[#This Row],[RateSched]])*(CustEstVol[CustClass]=CustEstRev[[#This Row],[CustClass]])*CustEstVol[NormVol])","v":850476},{"$f":"SUMPRODUCT((WNARRates[BeginDate]<=CustEstRev[[#This Row],[MonthFlow]])*(WNARRates[EndDate]>=CustEstRev[[#This Row],[MonthFlow]])*(WNARRates[Region]=CustEstRev[[#This Row],[Region]])*(WNARRates[CustClass]=CustEstRev[[#This Row],[CustClass]])*(WNARRates[Period]=CustEstRev[[#This Row],[Period]])*WNARRates[AdjCSWNA])","v":7.7999999999999996E-3},{"$f":"SUMPRODUCT((WNARRates[BeginDate]<=CustEstRev[[#This Row],[MonthFlow]])*(WNARRates[EndDate]>=CustEstRev[[#This Row],[MonthFlow]])*(WNARRates[Region]=CustEstRev[[#This Row],[Region]])*(WNARRates[CustClass]=CustEstRev[[#This Row],[CustClass]])*(WNARRates[Period]=CustEstRev[[#This Row],[Period]])*WNARRates[AdjSRR])","v":4.8999999999999998E-4},{"$f":"ROUND(CustEstRev[[#This Row],[NormVol]]*CustEstRev[[#This Row],[CSNWARate]],0)","v":6634},{"$f":"ROUND(CustEstRev[[#This Row],[NormVol]]*CustEstRev[[#This Row],[SRRRate]],0)","v":417},"Calculated revenues from data in CustEstVol table and WNAR Rates table"]
[44197,"S2","63-GCSF","NEMO","SGS",{"$f":"SUMPRODUCT((CustEstVol[MonthFlow]=CustEstRev[[#This Row],[MonthFlow]])*(CustEstVol[RateSched]=CustEstRev[[#This Row],[RateSched]])*(CustEstVol[CustClass]=CustEstRev[[#This Row],[CustClass]])*CustEstVol[NormVol])","v":850476},{"$f":"SUMPRODUCT((WNARRates[BeginDate]<=CustEstRev[[#This Row],[MonthFlow]])*(WNARRates[EndDate]>=CustEstRev[[#This Row],[MonthFlow]])*(WNARRates[Region]=CustEstRev[[#This Row],[Region]])*(WNARRates[CustClass]=CustEstRev[[#This Row],[CustClass]])*(WNARRates[Period]=CustEstRev[[#This Row],[Period]])*WNARRates[AdjCSWNA])","v":-4.0999999999999999E-4},{"$f":"SUMPRODUCT((WNARRates[BeginDate]<=CustEstRev[[#This Row],[MonthFlow]])*(WNARRates[EndDate]>=CustEstRev[[#This Row],[MonthFlow]])*(WNARRates[Region]=CustEstRev[[#This Row],[Region]])*(WNARRates[CustClass]=CustEstRev[[#This Row],[CustClass]])*(WNARRates[Period]=CustEstRev[[#This Row],[Period]])*WNARRates[AdjSRR])","v":4.8999999999999998E-4},{"$f":"ROUND(CustEstRev[[#This Row],[NormVol]]*CustEstRev[[#This Row],[CSNWARate]],0)","v":-349},{"$f":"ROUND(CustEstRev[[#This Row],[NormVol]]*CustEstRev[[#This Row],[SRRRate]],0)","v":417},"Calculated revenues from data in CustEstVol table and WNAR Rates table"]
[44197,"S1","62-GRF","SEMO","Res",{"$f":"SUMPRODUCT((CustEstVol[MonthFlow]=CustEstRev[[#This Row],[MonthFlow]])*(CustEstVol[RateSched]=CustEstRev[[#This Row],[RateSched]])*(CustEstVol[CustClass]=CustEstRev[[#This Row],[CustClass]])*CustEstVol[NormVol])","v":3437383},{"$f":"SUMPRODUCT((WNARRates[BeginDate]<=CustEstRev[[#This Row],[MonthFlow]])*(WNARRates[EndDate]>=CustEstRev[[#This Row],[MonthFlow]])*(WNARRates[Region]=CustEstRev[[#This Row],[Region]])*(WNARRates[CustClass]=CustEstRev[[#This Row],[CustClass]])*(WNARRates[Period]=CustEstRev[[#This Row],[Period]])*WNARRates[AdjCSWNA])","v":1.7559999999999999E-2},{"$f":"SUMPRODUCT((WNARRates[BeginDate]<=CustEstRev[[#This Row],[MonthFlow]])*(WNARRates[EndDate]>=CustEstRev[[#This Row],[MonthFlow]])*(WNARRates[Region]=CustEstRev[[#This Row],[Region]])*(WNARRates[CustClass]=CustEstRev[[#This Row],[CustClass]])*(WNARRates[Period]=CustEstRev[[#This Row],[Period]])*WNARRates[AdjSRR])","v":6.0000000000000002E-5},{"$f":"ROUND(CustEstRev[[#This Row],[NormVol]]*CustEstRev[[#This Row],[CSNWARate]],0)","v":60360},{"$f":"ROUND(CustEstRev[[#This Row],[NormVol]]*CustEstRev[[#This Row],[SRRRate]],0)","v":206},"Calculated revenues from data in CustEstVol table and WNAR Rates table"]
[44197,"S2","62-GRF","SEMO","Res",{"$f":"SUMPRODUCT((CustEstVol[MonthFlow]=CustEstRev[[#This Row],[MonthFlow]])*(CustEstVol[RateSched]=CustEstRev[[#This Row],[RateSched]])*(CustEstVol[CustClass]=CustEstRev[[#This Row],[CustClass]])*CustEstVol[NormVol])","v":3437383},{"$f":"SUMPRODUCT((WNARRates[BeginDate]<=CustEstRev[[#This Row],[MonthFlow]])*(WNARRates[EndDate]>=CustEstRev[[#This Row],[MonthFlow]])*(WNARRates[Region]=CustEstRev[[#This Row],[Region]])*(WNARRates[CustClass]=CustEstRev[[#This Row],[CustClass]])*(WNARRates[Period]=CustEstRev[[#This Row],[Period]])*WNARRates[AdjCSWNA])","v":6.96E-3},{"$f":"SUMPRODUCT((WNARRates[BeginDate]<=CustEstRev[[#This Row],[MonthFlow]])*(WNARRates[EndDate]>=CustEstRev[[#This Row],[MonthFlow]])*(WNARRates[Region]=CustEstRev[[#This Row],[Region]])*(WNARRates[CustClass]=CustEstRev[[#This Row],[CustClass]])*(WNARRates[Period]=CustEstRev[[#This Row],[Period]])*WNARRates[AdjSRR])","v":-1.0000000000000001E-5},{"$f":"ROUND(CustEstRev[[#This Row],[NormVol]]*CustEstRev[[#This Row],[CSNWARate]],0)","v":23924},{"$f":"ROUND(CustEstRev[[#This Row],[NormVol]]*CustEstRev[[#This Row],[SRRRate]],0)","v":-34},"Calculated revenues from data in CustEstVol table and WNAR Rates table"]
[44197,"S1","62-GCSF","SEMO","SGS",{"$f":"SUMPRODUCT((CustEstVol[MonthFlow]=CustEstRev[[#This Row],[MonthFlow]])*(CustEstVol[RateSched]=CustEstRev[[#This Row],[RateSched]])*(CustEstVol[CustClass]=CustEstRev[[#This Row],[CustClass]])*CustEstVol[NormVol])","v":1047912},{"$f":"SUMPRODUCT((WNARRates[BeginDate]<=CustEstRev[[#This Row],[MonthFlow]])*(WNARRates[EndDate]>=CustEstRev[[#This Row],[MonthFlow]])*(WNARRates[Region]=CustEstRev[[#This Row],[Region]])*(WNARRates[CustClass]=CustEstRev[[#This Row],[CustClass]])*(WNARRates[Period]=CustEstRev[[#This Row],[Period]])*WNARRates[AdjCSWNA])","v":5.9800000000000001E-3},{"$f":"SUMPRODUCT((WNARRates[BeginDate]<=CustEstRev[[#This Row],[MonthFlow]])*(WNARRates[EndDate]>=CustEstRev[[#This Row],[MonthFlow]])*(WNARRates[Region]=CustEstRev[[#This Row],[Region]])*(WNARRates[CustClass]=CustEstRev[[#This Row],[CustClass]])*(WNARRates[Period]=CustEstRev[[#This Row],[Period]])*WNARRates[AdjSRR])","v":6.9999999999999994E-5},{"$f":"ROUND(CustEstRev[[#This Row],[NormVol]]*CustEstRev[[#This Row],[CSNWARate]],0)","v":6267},{"$f":"ROUND(CustEstRev[[#This Row],[NormVol]]*CustEstRev[[#This Row],[SRRRate]],0)","v":73},"Calculated revenues from data in CustEstVol table and WNAR Rates table"]
[44197,"S2","62-GCSF","SEMO","SGS",{"$f":"SUMPRODUCT((CustEstVol[MonthFlow]=CustEstRev[[#This Row],[MonthFlow]])*(CustEstVol[RateSched]=CustEstRev[[#This Row],[RateSched]])*(CustEstVol[CustClass]=CustEstRev[[#This Row],[CustClass]])*CustEstVol[NormVol])","v":1047912},{"$f":"SUMPRODUCT((WNARRates[BeginDate]<=CustEstRev[[#This Row],[MonthFlow]])*(WNARRates[EndDate]>=CustEstRev[[#This Row],[MonthFlow]])*(WNARRates[Region]=CustEstRev[[#This Row],[Region]])*(WNARRates[CustClass]=CustEstRev[[#This Row],[CustClass]])*(WNARRates[Period]=CustEstRev[[#This Row],[Period]])*WNARRates[AdjCSWNA])","v":2.3999999999999998E-3},{"$f":"SUMPRODUCT((WNARRates[BeginDate]<=CustEstRev[[#This Row],[MonthFlow]])*(WNARRates[EndDate]>=CustEstRev[[#This Row],[MonthFlow]])*(WNARRates[Region]=CustEstRev[[#This Row],[Region]])*(WNARRates[CustClass]=CustEstRev[[#This Row],[CustClass]])*(WNARRates[Period]=CustEstRev[[#This Row],[Period]])*WNARRates[AdjSRR])","v":-4.0000000000000003E-5},{"$f":"ROUND(CustEstRev[[#This Row],[NormVol]]*CustEstRev[[#This Row],[CSNWARate]],0)","v":2515},{"$f":"ROUND(CustEstRev[[#This Row],[NormVol]]*CustEstRev[[#This Row],[SRRRate]],0)","v":-42},"Calculated revenues from data in CustEstVol table and WNAR Rates table"]
[44197,"S1","61-GRF","WEMO","Res",{"$f":"SUMPRODUCT((CustEstVol[MonthFlow]=CustEstRev[[#This Row],[MonthFlow]])*(CustEstVol[RateSched]=CustEstRev[[#This Row],[RateSched]])*(CustEstVol[CustClass]=CustEstRev[[#This Row],[CustClass]])*CustEstVol[NormVol])","v":487541},{"$f":"SUMPRODUCT((WNARRates[BeginDate]<=CustEstRev[[#This Row],[MonthFlow]])*(WNARRates[EndDate]>=CustEstRev[[#This Row],[MonthFlow]])*(WNARRates[Region]=CustEstRev[[#This Row],[Region]])*(WNARRates[CustClass]=CustEstRev[[#This Row],[CustClass]])*(WNARRates[Period]=CustEstRev[[#This Row],[Period]])*WNARRates[AdjCSWNA])","v":1.8530000000000001E-2},{"$f":"SUMPRODUCT((WNARRates[BeginDate]<=CustEstRev[[#This Row],[MonthFlow]])*(WNARRates[EndDate]>=CustEstRev[[#This Row],[MonthFlow]])*(WNARRates[Region]=CustEstRev[[#This Row],[Region]])*(WNARRates[CustClass]=CustEstRev[[#This Row],[CustClass]])*(WNARRates[Period]=CustEstRev[[#This Row],[Period]])*WNARRates[AdjSRR])","v":-1.8400000000000001E-3},{"$f":"ROUND(CustEstRev[[#This Row],[NormVol]]*CustEstRev[[#This Row],[CSNWARate]],0)","v":9034},{"$f":"ROUND(CustEstRev[[#This Row],[NormVol]]*CustEstRev[[#This Row],[SRRRate]],0)","v":-897},"Calculated revenues from data in CustEstVol table and WNAR Rates table"]
[44197,"S2","61-GRF","WEMO","Res",{"$f":"SUMPRODUCT((CustEstVol[MonthFlow]=CustEstRev[[#This Row],[MonthFlow]])*(CustEstVol[RateSched]=CustEstRev[[#This Row],[RateSched]])*(CustEstVol[CustClass]=CustEstRev[[#This Row],[CustClass]])*CustEstVol[NormVol])","v":487541},{"$f":"SUMPRODUCT((WNARRates[BeginDate]<=CustEstRev[[#This Row],[MonthFlow]])*(WNARRates[EndDate]>=CustEstRev[[#This Row],[MonthFlow]])*(WNARRates[Region]=CustEstRev[[#This Row],[Region]])*(WNARRates[CustClass]=CustEstRev[[#This Row],[CustClass]])*(WNARRates[Period]=CustEstRev[[#This Row],[Period]])*WNARRates[AdjCSWNA])","v":-1.2099999999999999E-3},{"$f":"SUMPRODUCT((WNARRates[BeginDate]<=CustEstRev[[#This Row],[MonthFlow]])*(WNARRates[EndDate]>=CustEstRev[[#This Row],[MonthFlow]])*(WNARRates[Region]=CustEstRev[[#This Row],[Region]])*(WNARRates[CustClass]=CustEstRev[[#This Row],[CustClass]])*(WNARRates[Period]=CustEstRev[[#This Row],[Period]])*WNARRates[AdjSRR])","v":8.3000000000000001E-4},{"$f":"ROUND(CustEstRev[[#This Row],[NormVol]]*CustEstRev[[#This Row],[CSNWARate]],0)","v":-590},{"$f":"ROUND(CustEstRev[[#This Row],[NormVol]]*CustEstRev[[#This Row],[SRRRate]],0)","v":405},"Calculated revenues from data in CustEstVol table and WNAR Rates table"]
[44197,"S1","61-GCSF","WEMO","SGS",{"$f":"SUMPRODUCT((CustEstVol[MonthFlow]=CustEstRev[[#This Row],[MonthFlow]])*(CustEstVol[RateSched]=CustEstRev[[#This Row],[RateSched]])*(CustEstVol[CustClass]=CustEstRev[[#This Row],[CustClass]])*CustEstVol[NormVol])","v":174753},{"$f":"SUMPRODUCT((WNARRates[BeginDate]<=CustEstRev[[#This Row],[MonthFlow]])*(WNARRates[EndDate]>=CustEstRev[[#This Row],[MonthFlow]])*(WNARRates[Region]=CustEstRev[[#This Row],[Region]])*(WNARRates[CustClass]=CustEstRev[[#This Row],[CustClass]])*(WNARRates[Period]=CustEstRev[[#This Row],[Period]])*WNARRates[AdjCSWNA])","v":7.7999999999999996E-3},{"$f":"SUMPRODUCT((WNARRates[BeginDate]<=CustEstRev[[#This Row],[MonthFlow]])*(WNARRates[EndDate]>=CustEstRev[[#This Row],[MonthFlow]])*(WNARRates[Region]=CustEstRev[[#This Row],[Region]])*(WNARRates[CustClass]=CustEstRev[[#This Row],[CustClass]])*(WNARRates[Period]=CustEstRev[[#This Row],[Period]])*WNARRates[AdjSRR])","v":4.8999999999999998E-4},{"$f":"ROUND(CustEstRev[[#This Row],[NormVol]]*CustEstRev[[#This Row],[CSNWARate]],0)","v":1363},{"$f":"ROUND(CustEstRev[[#This Row],[NormVol]]*CustEstRev[[#This Row],[SRRRate]],0)","v":86},"Calculated revenues from data in CustEstVol table and WNAR Rates table"]
[44197,"S2","61-GCSF","WEMO","SGS",{"$f":"SUMPRODUCT((CustEstVol[MonthFlow]=CustEstRev[[#This Row],[MonthFlow]])*(CustEstVol[RateSched]=CustEstRev[[#This Row],[RateSched]])*(CustEstVol[CustClass]=CustEstRev[[#This Row],[CustClass]])*CustEstVol[NormVol])","v":174753},{"$f":"SUMPRODUCT((WNARRates[BeginDate]<=CustEstRev[[#This Row],[MonthFlow]])*(WNARRates[EndDate]>=CustEstRev[[#This Row],[MonthFlow]])*(WNARRates[Region]=CustEstRev[[#This Row],[Region]])*(WNARRates[CustClass]=CustEstRev[[#This Row],[CustClass]])*(WNARRates[Period]=CustEstRev[[#This Row],[Period]])*WNARRates[AdjCSWNA])","v":-4.0999999999999999E-4},{"$f":"SUMPRODUCT((WNARRates[BeginDate]<=CustEstRev[[#This Row],[MonthFlow]])*(WNARRates[EndDate]>=CustEstRev[[#This Row],[MonthFlow]])*(WNARRates[Region]=CustEstRev[[#This Row],[Region]])*(WNARRates[CustClass]=CustEstRev[[#This Row],[CustClass]])*(WNARRates[Period]=CustEstRev[[#This Row],[Period]])*WNARRates[AdjSRR])","v":4.8999999999999998E-4},{"$f":"ROUND(CustEstRev[[#This Row],[NormVol]]*CustEstRev[[#This Row],[CSNWARate]],0)","v":-72},{"$f":"ROUND(CustEstRev[[#This Row],[NormVol]]*CustEstRev[[#This Row],[SRRRate]],0)","v":86},"Calculated revenues from data in CustEstVol table and WNAR Rates table"]
[44228,"S1","63-GRF","NEMO","Res",{"$f":"SUMPRODUCT((CustEstVol[MonthFlow]=CustEstRev[[#This Row],[MonthFlow]])*(CustEstVol[RateSched]=CustEstRev[[#This Row],[RateSched]])*(CustEstVol[CustClass]=CustEstRev[[#This Row],[CustClass]])*CustEstVol[NormVol])","v":2135402},{"$f":"SUMPRODUCT((WNARRates[BeginDate]<=CustEstRev[[#This Row],[MonthFlow]])*(WNARRates[EndDate]>=CustEstRev[[#This Row],[MonthFlow]])*(WNARRates[Region]=CustEstRev[[#This Row],[Region]])*(WNARRates[CustClass]=CustEstRev[[#This Row],[CustClass]])*(WNARRates[Period]=CustEstRev[[#This Row],[Period]])*WNARRates[AdjCSWNA])","v":1.8530000000000001E-2},{"$f":"SUMPRODUCT((WNARRates[BeginDate]<=CustEstRev[[#This Row],[MonthFlow]])*(WNARRates[EndDate]>=CustEstRev[[#This Row],[MonthFlow]])*(WNARRates[Region]=CustEstRev[[#This Row],[Region]])*(WNARRates[CustClass]=CustEstRev[[#This Row],[CustClass]])*(WNARRates[Period]=CustEstRev[[#This Row],[Period]])*WNARRates[AdjSRR])","v":-1.8400000000000001E-3},{"$f":"ROUND(CustEstRev[[#This Row],[NormVol]]*CustEstRev[[#This Row],[CSNWARate]],0)","v":39569},{"$f":"ROUND(CustEstRev[[#This Row],[NormVol]]*CustEstRev[[#This Row],[SRRRate]],0)","v":-3929},"Calculated revenues from data in CustEstVol table and WNAR Rates table"]
[44228,"S2","63-GRF","NEMO","Res",{"$f":"SUMPRODUCT((CustEstVol[MonthFlow]=CustEstRev[[#This Row],[MonthFlow]])*(CustEstVol[RateSched]=CustEstRev[[#This Row],[RateSched]])*(CustEstVol[CustClass]=CustEstRev[[#This Row],[CustClass]])*CustEstVol[NormVol])","v":2135402},{"$f":"SUMPRODUCT((WNARRates[BeginDate]<=CustEstRev[[#This Row],[MonthFlow]])*(WNARRates[EndDate]>=CustEstRev[[#This Row],[MonthFlow]])*(WNARRates[Region]=CustEstRev[[#This Row],[Region]])*(WNARRates[CustClass]=CustEstRev[[#This Row],[CustClass]])*(WNARRates[Period]=CustEstRev[[#This Row],[Period]])*WNARRates[AdjCSWNA])","v":-1.2099999999999999E-3},{"$f":"SUMPRODUCT((WNARRates[BeginDate]<=CustEstRev[[#This Row],[MonthFlow]])*(WNARRates[EndDate]>=CustEstRev[[#This Row],[MonthFlow]])*(WNARRates[Region]=CustEstRev[[#This Row],[Region]])*(WNARRates[CustClass]=CustEstRev[[#This Row],[CustClass]])*(WNARRates[Period]=CustEstRev[[#This Row],[Period]])*WNARRates[AdjSRR])","v":8.3000000000000001E-4},{"$f":"ROUND(CustEstRev[[#This Row],[NormVol]]*CustEstRev[[#This Row],[CSNWARate]],0)","v":-2584},{"$f":"ROUND(CustEstRev[[#This Row],[NormVol]]*CustEstRev[[#This Row],[SRRRate]],0)","v":1772},"Calculated revenues from data in CustEstVol table and WNAR Rates table"]
[44228,"S1","63-GCSF","NEMO","SGS",{"$f":"SUMPRODUCT((CustEstVol[MonthFlow]=CustEstRev[[#This Row],[MonthFlow]])*(CustEstVol[RateSched]=CustEstRev[[#This Row],[RateSched]])*(CustEstVol[CustClass]=CustEstRev[[#This Row],[CustClass]])*CustEstVol[NormVol])","v":699766},{"$f":"SUMPRODUCT((WNARRates[BeginDate]<=CustEstRev[[#This Row],[MonthFlow]])*(WNARRates[EndDate]>=CustEstRev[[#This Row],[MonthFlow]])*(WNARRates[Region]=CustEstRev[[#This Row],[Region]])*(WNARRates[CustClass]=CustEstRev[[#This Row],[CustClass]])*(WNARRates[Period]=CustEstRev[[#This Row],[Period]])*WNARRates[AdjCSWNA])","v":7.7999999999999996E-3},{"$f":"SUMPRODUCT((WNARRates[BeginDate]<=CustEstRev[[#This Row],[MonthFlow]])*(WNARRates[EndDate]>=CustEstRev[[#This Row],[MonthFlow]])*(WNARRates[Region]=CustEstRev[[#This Row],[Region]])*(WNARRates[CustClass]=CustEstRev[[#This Row],[CustClass]])*(WNARRates[Period]=CustEstRev[[#This Row],[Period]])*WNARRates[AdjSRR])","v":4.8999999999999998E-4},{"$f":"ROUND(CustEstRev[[#This Row],[NormVol]]*CustEstRev[[#This Row],[CSNWARate]],0)","v":5458},{"$f":"ROUND(CustEstRev[[#This Row],[NormVol]]*CustEstRev[[#This Row],[SRRRate]],0)","v":343},"Calculated revenues from data in CustEstVol table and WNAR Rates table"]
[44228,"S2","63-GCSF","NEMO","SGS",{"$f":"SUMPRODUCT((CustEstVol[MonthFlow]=CustEstRev[[#This Row],[MonthFlow]])*(CustEstVol[RateSched]=CustEstRev[[#This Row],[RateSched]])*(CustEstVol[CustClass]=CustEstRev[[#This Row],[CustClass]])*CustEstVol[NormVol])","v":699766},{"$f":"SUMPRODUCT((WNARRates[BeginDate]<=CustEstRev[[#This Row],[MonthFlow]])*(WNARRates[EndDate]>=CustEstRev[[#This Row],[MonthFlow]])*(WNARRates[Region]=CustEstRev[[#This Row],[Region]])*(WNARRates[CustClass]=CustEstRev[[#This Row],[CustClass]])*(WNARRates[Period]=CustEstRev[[#This Row],[Period]])*WNARRates[AdjCSWNA])","v":-4.0999999999999999E-4},{"$f":"SUMPRODUCT((WNARRates[BeginDate]<=CustEstRev[[#This Row],[MonthFlow]])*(WNARRates[EndDate]>=CustEstRev[[#This Row],[MonthFlow]])*(WNARRates[Region]=CustEstRev[[#This Row],[Region]])*(WNARRates[CustClass]=CustEstRev[[#This Row],[CustClass]])*(WNARRates[Period]=CustEstRev[[#This Row],[Period]])*WNARRates[AdjSRR])","v":4.8999999999999998E-4},{"$f":"ROUND(CustEstRev[[#This Row],[NormVol]]*CustEstRev[[#This Row],[CSNWARate]],0)","v":-287},{"$f":"ROUND(CustEstRev[[#This Row],[NormVol]]*CustEstRev[[#This Row],[SRRRate]],0)","v":343},"Calculated revenues from data in CustEstVol table and WNAR Rates table"]
[44228,"S1","62-GRF","SEMO","Res",{"$f":"SUMPRODUCT((CustEstVol[MonthFlow]=CustEstRev[[#This Row],[MonthFlow]])*(CustEstVol[RateSched]=CustEstRev[[#This Row],[RateSched]])*(CustEstVol[CustClass]=CustEstRev[[#This Row],[CustClass]])*CustEstVol[NormVol])","v":2885041},{"$f":"SUMPRODUCT((WNARRates[BeginDate]<=CustEstRev[[#This Row],[MonthFlow]])*(WNARRates[EndDate]>=CustEstRev[[#This Row],[MonthFlow]])*(WNARRates[Region]=CustEstRev[[#This Row],[Region]])*(WNARRates[CustClass]=CustEstRev[[#This Row],[CustClass]])*(WNARRates[Period]=CustEstRev[[#This Row],[Period]])*WNARRates[AdjCSWNA])","v":1.7559999999999999E-2},{"$f":"SUMPRODUCT((WNARRates[BeginDate]<=CustEstRev[[#This Row],[MonthFlow]])*(WNARRates[EndDate]>=CustEstRev[[#This Row],[MonthFlow]])*(WNARRates[Region]=CustEstRev[[#This Row],[Region]])*(WNARRates[CustClass]=CustEstRev[[#This Row],[CustClass]])*(WNARRates[Period]=CustEstRev[[#This Row],[Period]])*WNARRates[AdjSRR])","v":6.0000000000000002E-5},{"$f":"ROUND(CustEstRev[[#This Row],[NormVol]]*CustEstRev[[#This Row],[CSNWARate]],0)","v":50661},{"$f":"ROUND(CustEstRev[[#This Row],[NormVol]]*CustEstRev[[#This Row],[SRRRate]],0)","v":173},"Calculated revenues from data in CustEstVol table and WNAR Rates table"]
[44228,"S2","62-GRF","SEMO","Res",{"$f":"SUMPRODUCT((CustEstVol[MonthFlow]=CustEstRev[[#This Row],[MonthFlow]])*(CustEstVol[RateSched]=CustEstRev[[#This Row],[RateSched]])*(CustEstVol[CustClass]=CustEstRev[[#This Row],[CustClass]])*CustEstVol[NormVol])","v":2885041},{"$f":"SUMPRODUCT((WNARRates[BeginDate]<=CustEstRev[[#This Row],[MonthFlow]])*(WNARRates[EndDate]>=CustEstRev[[#This Row],[MonthFlow]])*(WNARRates[Region]=CustEstRev[[#This Row],[Region]])*(WNARRates[CustClass]=CustEstRev[[#This Row],[CustClass]])*(WNARRates[Period]=CustEstRev[[#This Row],[Period]])*WNARRates[AdjCSWNA])","v":6.96E-3},{"$f":"SUMPRODUCT((WNARRates[BeginDate]<=CustEstRev[[#This Row],[MonthFlow]])*(WNARRates[EndDate]>=CustEstRev[[#This Row],[MonthFlow]])*(WNARRates[Region]=CustEstRev[[#This Row],[Region]])*(WNARRates[CustClass]=CustEstRev[[#This Row],[CustClass]])*(WNARRates[Period]=CustEstRev[[#This Row],[Period]])*WNARRates[AdjSRR])","v":-1.0000000000000001E-5},{"$f":"ROUND(CustEstRev[[#This Row],[NormVol]]*CustEstRev[[#This Row],[CSNWARate]],0)","v":20080},{"$f":"ROUND(CustEstRev[[#This Row],[NormVol]]*CustEstRev[[#This Row],[SRRRate]],0)","v":-29},"Calculated revenues from data in CustEstVol table and WNAR Rates table"]
[44228,"S1","62-GCSF","SEMO","SGS",{"$f":"SUMPRODUCT((CustEstVol[MonthFlow]=CustEstRev[[#This Row],[MonthFlow]])*(CustEstVol[RateSched]=CustEstRev[[#This Row],[RateSched]])*(CustEstVol[CustClass]=CustEstRev[[#This Row],[CustClass]])*CustEstVol[NormVol])","v":847923},{"$f":"SUMPRODUCT((WNARRates[BeginDate]<=CustEstRev[[#This Row],[MonthFlow]])*(WNARRates[EndDate]>=CustEstRev[[#This Row],[MonthFlow]])*(WNARRates[Region]=CustEstRev[[#This Row],[Region]])*(WNARRates[CustClass]=CustEstRev[[#This Row],[CustClass]])*(WNARRates[Period]=CustEstRev[[#This Row],[Period]])*WNARRates[AdjCSWNA])","v":5.9800000000000001E-3},{"$f":"SUMPRODUCT((WNARRates[BeginDate]<=CustEstRev[[#This Row],[MonthFlow]])*(WNARRates[EndDate]>=CustEstRev[[#This Row],[MonthFlow]])*(WNARRates[Region]=CustEstRev[[#This Row],[Region]])*(WNARRates[CustClass]=CustEstRev[[#This Row],[CustClass]])*(WNARRates[Period]=CustEstRev[[#This Row],[Period]])*WNARRates[AdjSRR])","v":6.9999999999999994E-5},{"$f":"ROUND(CustEstRev[[#This Row],[NormVol]]*CustEstRev[[#This Row],[CSNWARate]],0)","v":5071},{"$f":"ROUND(CustEstRev[[#This Row],[NormVol]]*CustEstRev[[#This Row],[SRRRate]],0)","v":59},"Calculated revenues from data in CustEstVol table and WNAR Rates table"]
[44228,"S2","62-GCSF","SEMO","SGS",{"$f":"SUMPRODUCT((CustEstVol[MonthFlow]=CustEstRev[[#This Row],[MonthFlow]])*(CustEstVol[RateSched]=CustEstRev[[#This Row],[RateSched]])*(CustEstVol[CustClass]=CustEstRev[[#This Row],[CustClass]])*CustEstVol[NormVol])","v":847923},{"$f":"SUMPRODUCT((WNARRates[BeginDate]<=CustEstRev[[#This Row],[MonthFlow]])*(WNARRates[EndDate]>=CustEstRev[[#This Row],[MonthFlow]])*(WNARRates[Region]=CustEstRev[[#This Row],[Region]])*(WNARRates[CustClass]=CustEstRev[[#This Row],[CustClass]])*(WNARRates[Period]=CustEstRev[[#This Row],[Period]])*WNARRates[AdjCSWNA])","v":2.3999999999999998E-3},{"$f":"SUMPRODUCT((WNARRates[BeginDate]<=CustEstRev[[#This Row],[MonthFlow]])*(WNARRates[EndDate]>=CustEstRev[[#This Row],[MonthFlow]])*(WNARRates[Region]=CustEstRev[[#This Row],[Region]])*(WNARRates[CustClass]=CustEstRev[[#This Row],[CustClass]])*(WNARRates[Period]=CustEstRev[[#This Row],[Period]])*WNARRates[AdjSRR])","v":-4.0000000000000003E-5},{"$f":"ROUND(CustEstRev[[#This Row],[NormVol]]*CustEstRev[[#This Row],[CSNWARate]],0)","v":2035},{"$f":"ROUND(CustEstRev[[#This Row],[NormVol]]*CustEstRev[[#This Row],[SRRRate]],0)","v":-34},"Calculated revenues from data in CustEstVol table and WNAR Rates table"]
[44228,"S1","61-GRF","WEMO","Res",{"$f":"SUMPRODUCT((CustEstVol[MonthFlow]=CustEstRev[[#This Row],[MonthFlow]])*(CustEstVol[RateSched]=CustEstRev[[#This Row],[RateSched]])*(CustEstVol[CustClass]=CustEstRev[[#This Row],[CustClass]])*CustEstVol[NormVol])","v":410704},{"$f":"SUMPRODUCT((WNARRates[BeginDate]<=CustEstRev[[#This Row],[MonthFlow]])*(WNARRates[EndDate]>=CustEstRev[[#This Row],[MonthFlow]])*(WNARRates[Region]=CustEstRev[[#This Row],[Region]])*(WNARRates[CustClass]=CustEstRev[[#This Row],[CustClass]])*(WNARRates[Period]=CustEstRev[[#This Row],[Period]])*WNARRates[AdjCSWNA])","v":1.8530000000000001E-2},{"$f":"SUMPRODUCT((WNARRates[BeginDate]<=CustEstRev[[#This Row],[MonthFlow]])*(WNARRates[EndDate]>=CustEstRev[[#This Row],[MonthFlow]])*(WNARRates[Region]=CustEstRev[[#This Row],[Region]])*(WNARRates[CustClass]=CustEstRev[[#This Row],[CustClass]])*(WNARRates[Period]=CustEstRev[[#This Row],[Period]])*WNARRates[AdjSRR])","v":-1.8400000000000001E-3},{"$f":"ROUND(CustEstRev[[#This Row],[NormVol]]*CustEstRev[[#This Row],[CSNWARate]],0)","v":7610},{"$f":"ROUND(CustEstRev[[#This Row],[NormVol]]*CustEstRev[[#This Row],[SRRRate]],0)","v":-756},"Calculated revenues from data in CustEstVol table and WNAR Rates table"]
[44228,"S2","61-GRF","WEMO","Res",{"$f":"SUMPRODUCT((CustEstVol[MonthFlow]=CustEstRev[[#This Row],[MonthFlow]])*(CustEstVol[RateSched]=CustEstRev[[#This Row],[RateSched]])*(CustEstVol[CustClass]=CustEstRev[[#This Row],[CustClass]])*CustEstVol[NormVol])","v":410704},{"$f":"SUMPRODUCT((WNARRates[BeginDate]<=CustEstRev[[#This Row],[MonthFlow]])*(WNARRates[EndDate]>=CustEstRev[[#This Row],[MonthFlow]])*(WNARRates[Region]=CustEstRev[[#This Row],[Region]])*(WNARRates[CustClass]=CustEstRev[[#This Row],[CustClass]])*(WNARRates[Period]=CustEstRev[[#This Row],[Period]])*WNARRates[AdjCSWNA])","v":-1.2099999999999999E-3},{"$f":"SUMPRODUCT((WNARRates[BeginDate]<=CustEstRev[[#This Row],[MonthFlow]])*(WNARRates[EndDate]>=CustEstRev[[#This Row],[MonthFlow]])*(WNARRates[Region]=CustEstRev[[#This Row],[Region]])*(WNARRates[CustClass]=CustEstRev[[#This Row],[CustClass]])*(WNARRates[Period]=CustEstRev[[#This Row],[Period]])*WNARRates[AdjSRR])","v":8.3000000000000001E-4},{"$f":"ROUND(CustEstRev[[#This Row],[NormVol]]*CustEstRev[[#This Row],[CSNWARate]],0)","v":-497},{"$f":"ROUND(CustEstRev[[#This Row],[NormVol]]*CustEstRev[[#This Row],[SRRRate]],0)","v":341},"Calculated revenues from data in CustEstVol table and WNAR Rates table"]
[44228,"S1","61-GCSF","WEMO","SGS",{"$f":"SUMPRODUCT((CustEstVol[MonthFlow]=CustEstRev[[#This Row],[MonthFlow]])*(CustEstVol[RateSched]=CustEstRev[[#This Row],[RateSched]])*(CustEstVol[CustClass]=CustEstRev[[#This Row],[CustClass]])*CustEstVol[NormVol])","v":151587},{"$f":"SUMPRODUCT((WNARRates[BeginDate]<=CustEstRev[[#This Row],[MonthFlow]])*(WNARRates[EndDate]>=CustEstRev[[#This Row],[MonthFlow]])*(WNARRates[Region]=CustEstRev[[#This Row],[Region]])*(WNARRates[CustClass]=CustEstRev[[#This Row],[CustClass]])*(WNARRates[Period]=CustEstRev[[#This Row],[Period]])*WNARRates[AdjCSWNA])","v":7.7999999999999996E-3},{"$f":"SUMPRODUCT((WNARRates[BeginDate]<=CustEstRev[[#This Row],[MonthFlow]])*(WNARRates[EndDate]>=CustEstRev[[#This Row],[MonthFlow]])*(WNARRates[Region]=CustEstRev[[#This Row],[Region]])*(WNARRates[CustClass]=CustEstRev[[#This Row],[CustClass]])*(WNARRates[Period]=CustEstRev[[#This Row],[Period]])*WNARRates[AdjSRR])","v":4.8999999999999998E-4},{"$f":"ROUND(CustEstRev[[#This Row],[NormVol]]*CustEstRev[[#This Row],[CSNWARate]],0)","v":1182},{"$f":"ROUND(CustEstRev[[#This Row],[NormVol]]*CustEstRev[[#This Row],[SRRRate]],0)","v":74},"Calculated revenues from data in CustEstVol table and WNAR Rates table"]
[44228,"S2","61-GCSF","WEMO","SGS",{"$f":"SUMPRODUCT((CustEstVol[MonthFlow]=CustEstRev[[#This Row],[MonthFlow]])*(CustEstVol[RateSched]=CustEstRev[[#This Row],[RateSched]])*(CustEstVol[CustClass]=CustEstRev[[#This Row],[CustClass]])*CustEstVol[NormVol])","v":151587},{"$f":"SUMPRODUCT((WNARRates[BeginDate]<=CustEstRev[[#This Row],[MonthFlow]])*(WNARRates[EndDate]>=CustEstRev[[#This Row],[MonthFlow]])*(WNARRates[Region]=CustEstRev[[#This Row],[Region]])*(WNARRates[CustClass]=CustEstRev[[#This Row],[CustClass]])*(WNARRates[Period]=CustEstRev[[#This Row],[Period]])*WNARRates[AdjCSWNA])","v":-4.0999999999999999E-4},{"$f":"SUMPRODUCT((WNARRates[BeginDate]<=CustEstRev[[#This Row],[MonthFlow]])*(WNARRates[EndDate]>=CustEstRev[[#This Row],[MonthFlow]])*(WNARRates[Region]=CustEstRev[[#This Row],[Region]])*(WNARRates[CustClass]=CustEstRev[[#This Row],[CustClass]])*(WNARRates[Period]=CustEstRev[[#This Row],[Period]])*WNARRates[AdjSRR])","v":4.8999999999999998E-4},{"$f":"ROUND(CustEstRev[[#This Row],[NormVol]]*CustEstRev[[#This Row],[CSNWARate]],0)","v":-62},{"$f":"ROUND(CustEstRev[[#This Row],[NormVol]]*CustEstRev[[#This Row],[SRRRate]],0)","v":74},"Calculated revenues from data in CustEstVol table and WNAR Rates table"]
[44256,"S1","63-GRF","NEMO","Res",{"$f":"SUMPRODUCT((CustEstVol[MonthFlow]=CustEstRev[[#This Row],[MonthFlow]])*(CustEstVol[RateSched]=CustEstRev[[#This Row],[RateSched]])*(CustEstVol[CustClass]=CustEstRev[[#This Row],[CustClass]])*CustEstVol[NormVol])","v":1607542},{"$f":"SUMPRODUCT((WNARRates[BeginDate]<=CustEstRev[[#This Row],[MonthFlow]])*(WNARRates[EndDate]>=CustEstRev[[#This Row],[MonthFlow]])*(WNARRates[Region]=CustEstRev[[#This Row],[Region]])*(WNARRates[CustClass]=CustEstRev[[#This Row],[CustClass]])*(WNARRates[Period]=CustEstRev[[#This Row],[Period]])*WNARRates[AdjCSWNA])","v":1.8530000000000001E-2},{"$f":"SUMPRODUCT((WNARRates[BeginDate]<=CustEstRev[[#This Row],[MonthFlow]])*(WNARRates[EndDate]>=CustEstRev[[#This Row],[MonthFlow]])*(WNARRates[Region]=CustEstRev[[#This Row],[Region]])*(WNARRates[CustClass]=CustEstRev[[#This Row],[CustClass]])*(WNARRates[Period]=CustEstRev[[#This Row],[Period]])*WNARRates[AdjSRR])","v":-1.8400000000000001E-3},{"$f":"ROUND(CustEstRev[[#This Row],[NormVol]]*CustEstRev[[#This Row],[CSNWARate]],0)","v":29788},{"$f":"ROUND(CustEstRev[[#This Row],[NormVol]]*CustEstRev[[#This Row],[SRRRate]],0)","v":-2958},"Calculated revenues from data in CustEstVol table and WNAR Rates table"]
[44256,"S2","63-GRF","NEMO","Res",{"$f":"SUMPRODUCT((CustEstVol[MonthFlow]=CustEstRev[[#This Row],[MonthFlow]])*(CustEstVol[RateSched]=CustEstRev[[#This Row],[RateSched]])*(CustEstVol[CustClass]=CustEstRev[[#This Row],[CustClass]])*CustEstVol[NormVol])","v":1607542},{"$f":"SUMPRODUCT((WNARRates[BeginDate]<=CustEstRev[[#This Row],[MonthFlow]])*(WNARRates[EndDate]>=CustEstRev[[#This Row],[MonthFlow]])*(WNARRates[Region]=CustEstRev[[#This Row],[Region]])*(WNARRates[CustClass]=CustEstRev[[#This Row],[CustClass]])*(WNARRates[Period]=CustEstRev[[#This Row],[Period]])*WNARRates[AdjCSWNA])","v":-1.2099999999999999E-3},{"$f":"SUMPRODUCT((WNARRates[BeginDate]<=CustEstRev[[#This Row],[MonthFlow]])*(WNARRates[EndDate]>=CustEstRev[[#This Row],[MonthFlow]])*(WNARRates[Region]=CustEstRev[[#This Row],[Region]])*(WNARRates[CustClass]=CustEstRev[[#This Row],[CustClass]])*(WNARRates[Period]=CustEstRev[[#This Row],[Period]])*WNARRates[AdjSRR])","v":8.3000000000000001E-4},{"$f":"ROUND(CustEstRev[[#This Row],[NormVol]]*CustEstRev[[#This Row],[CSNWARate]],0)","v":-1945},{"$f":"ROUND(CustEstRev[[#This Row],[NormVol]]*CustEstRev[[#This Row],[SRRRate]],0)","v":1334},"Calculated revenues from data in CustEstVol table and WNAR Rates table"]
[44256,"S1","63-GCSF","NEMO","SGS",{"$f":"SUMPRODUCT((CustEstVol[MonthFlow]=CustEstRev[[#This Row],[MonthFlow]])*(CustEstVol[RateSched]=CustEstRev[[#This Row],[RateSched]])*(CustEstVol[CustClass]=CustEstRev[[#This Row],[CustClass]])*CustEstVol[NormVol])","v":514163},{"$f":"SUMPRODUCT((WNARRates[BeginDate]<=CustEstRev[[#This Row],[MonthFlow]])*(WNARRates[EndDate]>=CustEstRev[[#This Row],[MonthFlow]])*(WNARRates[Region]=CustEstRev[[#This Row],[Region]])*(WNARRates[CustClass]=CustEstRev[[#This Row],[CustClass]])*(WNARRates[Period]=CustEstRev[[#This Row],[Period]])*WNARRates[AdjCSWNA])","v":7.7999999999999996E-3},{"$f":"SUMPRODUCT((WNARRates[BeginDate]<=CustEstRev[[#This Row],[MonthFlow]])*(WNARRates[EndDate]>=CustEstRev[[#This Row],[MonthFlow]])*(WNARRates[Region]=CustEstRev[[#This Row],[Region]])*(WNARRates[CustClass]=CustEstRev[[#This Row],[CustClass]])*(WNARRates[Period]=CustEstRev[[#This Row],[Period]])*WNARRates[AdjSRR])","v":4.8999999999999998E-4},{"$f":"ROUND(CustEstRev[[#This Row],[NormVol]]*CustEstRev[[#This Row],[CSNWARate]],0)","v":4010},{"$f":"ROUND(CustEstRev[[#This Row],[NormVol]]*CustEstRev[[#This Row],[SRRRate]],0)","v":252},"Calculated revenues from data in CustEstVol table and WNAR Rates table"]
[44256,"S2","63-GCSF","NEMO","SGS",{"$f":"SUMPRODUCT((CustEstVol[MonthFlow]=CustEstRev[[#This Row],[MonthFlow]])*(CustEstVol[RateSched]=CustEstRev[[#This Row],[RateSched]])*(CustEstVol[CustClass]=CustEstRev[[#This Row],[CustClass]])*CustEstVol[NormVol])","v":514163},{"$f":"SUMPRODUCT((WNARRates[BeginDate]<=CustEstRev[[#This Row],[MonthFlow]])*(WNARRates[EndDate]>=CustEstRev[[#This Row],[MonthFlow]])*(WNARRates[Region]=CustEstRev[[#This Row],[Region]])*(WNARRates[CustClass]=CustEstRev[[#This Row],[CustClass]])*(WNARRates[Period]=CustEstRev[[#This Row],[Period]])*WNARRates[AdjCSWNA])","v":-4.0999999999999999E-4},{"$f":"SUMPRODUCT((WNARRates[BeginDate]<=CustEstRev[[#This Row],[MonthFlow]])*(WNARRates[EndDate]>=CustEstRev[[#This Row],[MonthFlow]])*(WNARRates[Region]=CustEstRev[[#This Row],[Region]])*(WNARRates[CustClass]=CustEstRev[[#This Row],[CustClass]])*(WNARRates[Period]=CustEstRev[[#This Row],[Period]])*WNARRates[AdjSRR])","v":4.8999999999999998E-4},{"$f":"ROUND(CustEstRev[[#This Row],[NormVol]]*CustEstRev[[#This Row],[CSNWARate]],0)","v":-211},{"$f":"ROUND(CustEstRev[[#This Row],[NormVol]]*CustEstRev[[#This Row],[SRRRate]],0)","v":252},"Calculated revenues from data in CustEstVol table and WNAR Rates table"]
[44256,"S1","62-GRF","SEMO","Res",{"$f":"SUMPRODUCT((CustEstVol[MonthFlow]=CustEstRev[[#This Row],[MonthFlow]])*(CustEstVol[RateSched]=CustEstRev[[#This Row],[RateSched]])*(CustEstVol[CustClass]=CustEstRev[[#This Row],[CustClass]])*CustEstVol[NormVol])","v":2268398},{"$f":"SUMPRODUCT((WNARRates[BeginDate]<=CustEstRev[[#This Row],[MonthFlow]])*(WNARRates[EndDate]>=CustEstRev[[#This Row],[MonthFlow]])*(WNARRates[Region]=CustEstRev[[#This Row],[Region]])*(WNARRates[CustClass]=CustEstRev[[#This Row],[CustClass]])*(WNARRates[Period]=CustEstRev[[#This Row],[Period]])*WNARRates[AdjCSWNA])","v":1.7559999999999999E-2},{"$f":"SUMPRODUCT((WNARRates[BeginDate]<=CustEstRev[[#This Row],[MonthFlow]])*(WNARRates[EndDate]>=CustEstRev[[#This Row],[MonthFlow]])*(WNARRates[Region]=CustEstRev[[#This Row],[Region]])*(WNARRates[CustClass]=CustEstRev[[#This Row],[CustClass]])*(WNARRates[Period]=CustEstRev[[#This Row],[Period]])*WNARRates[AdjSRR])","v":6.0000000000000002E-5},{"$f":"ROUND(CustEstRev[[#This Row],[NormVol]]*CustEstRev[[#This Row],[CSNWARate]],0)","v":39833},{"$f":"ROUND(CustEstRev[[#This Row],[NormVol]]*CustEstRev[[#This Row],[SRRRate]],0)","v":136},"Calculated revenues from data in CustEstVol table and WNAR Rates table"]
[44256,"S2","62-GRF","SEMO","Res",{"$f":"SUMPRODUCT((CustEstVol[MonthFlow]=CustEstRev[[#This Row],[MonthFlow]])*(CustEstVol[RateSched]=CustEstRev[[#This Row],[RateSched]])*(CustEstVol[CustClass]=CustEstRev[[#This Row],[CustClass]])*CustEstVol[NormVol])","v":2268398},{"$f":"SUMPRODUCT((WNARRates[BeginDate]<=CustEstRev[[#This Row],[MonthFlow]])*(WNARRates[EndDate]>=CustEstRev[[#This Row],[MonthFlow]])*(WNARRates[Region]=CustEstRev[[#This Row],[Region]])*(WNARRates[CustClass]=CustEstRev[[#This Row],[CustClass]])*(WNARRates[Period]=CustEstRev[[#This Row],[Period]])*WNARRates[AdjCSWNA])","v":6.96E-3},{"$f":"SUMPRODUCT((WNARRates[BeginDate]<=CustEstRev[[#This Row],[MonthFlow]])*(WNARRates[EndDate]>=CustEstRev[[#This Row],[MonthFlow]])*(WNARRates[Region]=CustEstRev[[#This Row],[Region]])*(WNARRates[CustClass]=CustEstRev[[#This Row],[CustClass]])*(WNARRates[Period]=CustEstRev[[#This Row],[Period]])*WNARRates[AdjSRR])","v":-1.0000000000000001E-5},{"$f":"ROUND(CustEstRev[[#This Row],[NormVol]]*CustEstRev[[#This Row],[CSNWARate]],0)","v":15788},{"$f":"ROUND(CustEstRev[[#This Row],[NormVol]]*CustEstRev[[#This Row],[SRRRate]],0)","v":-23},"Calculated revenues from data in CustEstVol table and WNAR Rates table"]
[44256,"S1","62-GCSF","SEMO","SGS",{"$f":"SUMPRODUCT((CustEstVol[MonthFlow]=CustEstRev[[#This Row],[MonthFlow]])*(CustEstVol[RateSched]=CustEstRev[[#This Row],[RateSched]])*(CustEstVol[CustClass]=CustEstRev[[#This Row],[CustClass]])*CustEstVol[NormVol])","v":632053},{"$f":"SUMPRODUCT((WNARRates[BeginDate]<=CustEstRev[[#This Row],[MonthFlow]])*(WNARRates[EndDate]>=CustEstRev[[#This Row],[MonthFlow]])*(WNARRates[Region]=CustEstRev[[#This Row],[Region]])*(WNARRates[CustClass]=CustEstRev[[#This Row],[CustClass]])*(WNARRates[Period]=CustEstRev[[#This Row],[Period]])*WNARRates[AdjCSWNA])","v":5.9800000000000001E-3},{"$f":"SUMPRODUCT((WNARRates[BeginDate]<=CustEstRev[[#This Row],[MonthFlow]])*(WNARRates[EndDate]>=CustEstRev[[#This Row],[MonthFlow]])*(WNARRates[Region]=CustEstRev[[#This Row],[Region]])*(WNARRates[CustClass]=CustEstRev[[#This Row],[CustClass]])*(WNARRates[Period]=CustEstRev[[#This Row],[Period]])*WNARRates[AdjSRR])","v":6.9999999999999994E-5},{"$f":"ROUND(CustEstRev[[#This Row],[NormVol]]*CustEstRev[[#This Row],[CSNWARate]],0)","v":3780},{"$f":"ROUND(CustEstRev[[#This Row],[NormVol]]*CustEstRev[[#This Row],[SRRRate]],0)","v":44},"Calculated revenues from data in CustEstVol table and WNAR Rates table"]
[44256,"S2","62-GCSF","SEMO","SGS",{"$f":"SUMPRODUCT((CustEstVol[MonthFlow]=CustEstRev[[#This Row],[MonthFlow]])*(CustEstVol[RateSched]=CustEstRev[[#This Row],[RateSched]])*(CustEstVol[CustClass]=CustEstRev[[#This Row],[CustClass]])*CustEstVol[NormVol])","v":632053},{"$f":"SUMPRODUCT((WNARRates[BeginDate]<=CustEstRev[[#This Row],[MonthFlow]])*(WNARRates[EndDate]>=CustEstRev[[#This Row],[MonthFlow]])*(WNARRates[Region]=CustEstRev[[#This Row],[Region]])*(WNARRates[CustClass]=CustEstRev[[#This Row],[CustClass]])*(WNARRates[Period]=CustEstRev[[#This Row],[Period]])*WNARRates[AdjCSWNA])","v":2.3999999999999998E-3},{"$f":"SUMPRODUCT((WNARRates[BeginDate]<=CustEstRev[[#This Row],[MonthFlow]])*(WNARRates[EndDate]>=CustEstRev[[#This Row],[MonthFlow]])*(WNARRates[Region]=CustEstRev[[#This Row],[Region]])*(WNARRates[CustClass]=CustEstRev[[#This Row],[CustClass]])*(WNARRates[Period]=CustEstRev[[#This Row],[Period]])*WNARRates[AdjSRR])","v":-4.0000000000000003E-5},{"$f":"ROUND(CustEstRev[[#This Row],[NormVol]]*CustEstRev[[#This Row],[CSNWARate]],0)","v":1517},{"$f":"ROUND(CustEstRev[[#This Row],[NormVol]]*CustEstRev[[#This Row],[SRRRate]],0)","v":-25},"Calculated revenues from data in CustEstVol table and WNAR Rates table"]
[44256,"S1","61-GRF","WEMO","Res",{"$f":"SUMPRODUCT((CustEstVol[MonthFlow]=CustEstRev[[#This Row],[MonthFlow]])*(CustEstVol[RateSched]=CustEstRev[[#This Row],[RateSched]])*(CustEstVol[CustClass]=CustEstRev[[#This Row],[CustClass]])*CustEstVol[NormVol])","v":325270},{"$f":"SUMPRODUCT((WNARRates[BeginDate]<=CustEstRev[[#This Row],[MonthFlow]])*(WNARRates[EndDate]>=CustEstRev[[#This Row],[MonthFlow]])*(WNARRates[Region]=CustEstRev[[#This Row],[Region]])*(WNARRates[CustClass]=CustEstRev[[#This Row],[CustClass]])*(WNARRates[Period]=CustEstRev[[#This Row],[Period]])*WNARRates[AdjCSWNA])","v":1.8530000000000001E-2},{"$f":"SUMPRODUCT((WNARRates[BeginDate]<=CustEstRev[[#This Row],[MonthFlow]])*(WNARRates[EndDate]>=CustEstRev[[#This Row],[MonthFlow]])*(WNARRates[Region]=CustEstRev[[#This Row],[Region]])*(WNARRates[CustClass]=CustEstRev[[#This Row],[CustClass]])*(WNARRates[Period]=CustEstRev[[#This Row],[Period]])*WNARRates[AdjSRR])","v":-1.8400000000000001E-3},{"$f":"ROUND(CustEstRev[[#This Row],[NormVol]]*CustEstRev[[#This Row],[CSNWARate]],0)","v":6027},{"$f":"ROUND(CustEstRev[[#This Row],[NormVol]]*CustEstRev[[#This Row],[SRRRate]],0)","v":-598},"Calculated revenues from data in CustEstVol table and WNAR Rates table"]
[44256,"S2","61-GRF","WEMO","Res",{"$f":"SUMPRODUCT((CustEstVol[MonthFlow]=CustEstRev[[#This Row],[MonthFlow]])*(CustEstVol[RateSched]=CustEstRev[[#This Row],[RateSched]])*(CustEstVol[CustClass]=CustEstRev[[#This Row],[CustClass]])*CustEstVol[NormVol])","v":325270},{"$f":"SUMPRODUCT((WNARRates[BeginDate]<=CustEstRev[[#This Row],[MonthFlow]])*(WNARRates[EndDate]>=CustEstRev[[#This Row],[MonthFlow]])*(WNARRates[Region]=CustEstRev[[#This Row],[Region]])*(WNARRates[CustClass]=CustEstRev[[#This Row],[CustClass]])*(WNARRates[Period]=CustEstRev[[#This Row],[Period]])*WNARRates[AdjCSWNA])","v":-1.2099999999999999E-3},{"$f":"SUMPRODUCT((WNARRates[BeginDate]<=CustEstRev[[#This Row],[MonthFlow]])*(WNARRates[EndDate]>=CustEstRev[[#This Row],[MonthFlow]])*(WNARRates[Region]=CustEstRev[[#This Row],[Region]])*(WNARRates[CustClass]=CustEstRev[[#This Row],[CustClass]])*(WNARRates[Period]=CustEstRev[[#This Row],[Period]])*WNARRates[AdjSRR])","v":8.3000000000000001E-4},{"$f":"ROUND(CustEstRev[[#This Row],[NormVol]]*CustEstRev[[#This Row],[CSNWARate]],0)","v":-394},{"$f":"ROUND(CustEstRev[[#This Row],[NormVol]]*CustEstRev[[#This Row],[SRRRate]],0)","v":270},"Calculated revenues from data in CustEstVol table and WNAR Rates table"]
[44256,"S1","61-GCSF","WEMO","SGS",{"$f":"SUMPRODUCT((CustEstVol[MonthFlow]=CustEstRev[[#This Row],[MonthFlow]])*(CustEstVol[RateSched]=CustEstRev[[#This Row],[RateSched]])*(CustEstVol[CustClass]=CustEstRev[[#This Row],[CustClass]])*CustEstVol[NormVol])","v":114780},{"$f":"SUMPRODUCT((WNARRates[BeginDate]<=CustEstRev[[#This Row],[MonthFlow]])*(WNARRates[EndDate]>=CustEstRev[[#This Row],[MonthFlow]])*(WNARRates[Region]=CustEstRev[[#This Row],[Region]])*(WNARRates[CustClass]=CustEstRev[[#This Row],[CustClass]])*(WNARRates[Period]=CustEstRev[[#This Row],[Period]])*WNARRates[AdjCSWNA])","v":7.7999999999999996E-3},{"$f":"SUMPRODUCT((WNARRates[BeginDate]<=CustEstRev[[#This Row],[MonthFlow]])*(WNARRates[EndDate]>=CustEstRev[[#This Row],[MonthFlow]])*(WNARRates[Region]=CustEstRev[[#This Row],[Region]])*(WNARRates[CustClass]=CustEstRev[[#This Row],[CustClass]])*(WNARRates[Period]=CustEstRev[[#This Row],[Period]])*WNARRates[AdjSRR])","v":4.8999999999999998E-4},{"$f":"ROUND(CustEstRev[[#This Row],[NormVol]]*CustEstRev[[#This Row],[CSNWARate]],0)","v":895},{"$f":"ROUND(CustEstRev[[#This Row],[NormVol]]*CustEstRev[[#This Row],[SRRRate]],0)","v":56},"Calculated revenues from data in CustEstVol table and WNAR Rates table"]
[44256,"S2","61-GCSF","WEMO","SGS",{"$f":"SUMPRODUCT((CustEstVol[MonthFlow]=CustEstRev[[#This Row],[MonthFlow]])*(CustEstVol[RateSched]=CustEstRev[[#This Row],[RateSched]])*(CustEstVol[CustClass]=CustEstRev[[#This Row],[CustClass]])*CustEstVol[NormVol])","v":114780},{"$f":"SUMPRODUCT((WNARRates[BeginDate]<=CustEstRev[[#This Row],[MonthFlow]])*(WNARRates[EndDate]>=CustEstRev[[#This Row],[MonthFlow]])*(WNARRates[Region]=CustEstRev[[#This Row],[Region]])*(WNARRates[CustClass]=CustEstRev[[#This Row],[CustClass]])*(WNARRates[Period]=CustEstRev[[#This Row],[Period]])*WNARRates[AdjCSWNA])","v":-4.0999999999999999E-4},{"$f":"SUMPRODUCT((WNARRates[BeginDate]<=CustEstRev[[#This Row],[MonthFlow]])*(WNARRates[EndDate]>=CustEstRev[[#This Row],[MonthFlow]])*(WNARRates[Region]=CustEstRev[[#This Row],[Region]])*(WNARRates[CustClass]=CustEstRev[[#This Row],[CustClass]])*(WNARRates[Period]=CustEstRev[[#This Row],[Period]])*WNARRates[AdjSRR])","v":4.8999999999999998E-4},{"$f":"ROUND(CustEstRev[[#This Row],[NormVol]]*CustEstRev[[#This Row],[CSNWARate]],0)","v":-47},{"$f":"ROUND(CustEstRev[[#This Row],[NormVol]]*CustEstRev[[#This Row],[SRRRate]],0)","v":56},"Calculated revenues from data in CustEstVol table and WNAR Rates table"]
[44287,"S1","63-GRF","NEMO","Res",{"$f":"SUMPRODUCT((CustEstVol[MonthFlow]=CustEstRev[[#This Row],[MonthFlow]])*(CustEstVol[RateSched]=CustEstRev[[#This Row],[RateSched]])*(CustEstVol[CustClass]=CustEstRev[[#This Row],[CustClass]])*CustEstVol[NormVol])","v":1117575},{"$f":"SUMPRODUCT((WNARRates[BeginDate]<=CustEstRev[[#This Row],[MonthFlow]])*(WNARRates[EndDate]>=CustEstRev[[#This Row],[MonthFlow]])*(WNARRates[Region]=CustEstRev[[#This Row],[Region]])*(WNARRates[CustClass]=CustEstRev[[#This Row],[CustClass]])*(WNARRates[Period]=CustEstRev[[#This Row],[Period]])*WNARRates[AdjCSWNA])","v":1.208E-2},{"$f":"SUMPRODUCT((WNARRates[BeginDate]<=CustEstRev[[#This Row],[MonthFlow]])*(WNARRates[EndDate]>=CustEstRev[[#This Row],[MonthFlow]])*(WNARRates[Region]=CustEstRev[[#This Row],[Region]])*(WNARRates[CustClass]=CustEstRev[[#This Row],[CustClass]])*(WNARRates[Period]=CustEstRev[[#This Row],[Period]])*WNARRates[AdjSRR])","v":-2E-3},{"$f":"ROUND(CustEstRev[[#This Row],[NormVol]]*CustEstRev[[#This Row],[CSNWARate]],0)","v":13500},{"$f":"ROUND(CustEstRev[[#This Row],[NormVol]]*CustEstRev[[#This Row],[SRRRate]],0)","v":-2235},"Calculated revenues from data in CustEstVol table and WNAR Rates table"]
[44287,"S2","63-GRF","NEMO","Res",{"$f":"SUMPRODUCT((CustEstVol[MonthFlow]=CustEstRev[[#This Row],[MonthFlow]])*(CustEstVol[RateSched]=CustEstRev[[#This Row],[RateSched]])*(CustEstVol[CustClass]=CustEstRev[[#This Row],[CustClass]])*CustEstVol[NormVol])","v":1117575},{"$f":"SUMPRODUCT((WNARRates[BeginDate]<=CustEstRev[[#This Row],[MonthFlow]])*(WNARRates[EndDate]>=CustEstRev[[#This Row],[MonthFlow]])*(WNARRates[Region]=CustEstRev[[#This Row],[Region]])*(WNARRates[CustClass]=CustEstRev[[#This Row],[CustClass]])*(WNARRates[Period]=CustEstRev[[#This Row],[Period]])*WNARRates[AdjCSWNA])","v":-1.2099999999999999E-3},{"$f":"SUMPRODUCT((WNARRates[BeginDate]<=CustEstRev[[#This Row],[MonthFlow]])*(WNARRates[EndDate]>=CustEstRev[[#This Row],[MonthFlow]])*(WNARRates[Region]=CustEstRev[[#This Row],[Region]])*(WNARRates[CustClass]=CustEstRev[[#This Row],[CustClass]])*(WNARRates[Period]=CustEstRev[[#This Row],[Period]])*WNARRates[AdjSRR])","v":8.3000000000000001E-4},{"$f":"ROUND(CustEstRev[[#This Row],[NormVol]]*CustEstRev[[#This Row],[CSNWARate]],0)","v":-1352},{"$f":"ROUND(CustEstRev[[#This Row],[NormVol]]*CustEstRev[[#This Row],[SRRRate]],0)","v":928},"Calculated revenues from data in CustEstVol table and WNAR Rates table"]
[44287,"S1","63-GCSF","NEMO","SGS",{"$f":"SUMPRODUCT((CustEstVol[MonthFlow]=CustEstRev[[#This Row],[MonthFlow]])*(CustEstVol[RateSched]=CustEstRev[[#This Row],[RateSched]])*(CustEstVol[CustClass]=CustEstRev[[#This Row],[CustClass]])*CustEstVol[NormVol])","v":347659},{"$f":"SUMPRODUCT((WNARRates[BeginDate]<=CustEstRev[[#This Row],[MonthFlow]])*(WNARRates[EndDate]>=CustEstRev[[#This Row],[MonthFlow]])*(WNARRates[Region]=CustEstRev[[#This Row],[Region]])*(WNARRates[CustClass]=CustEstRev[[#This Row],[CustClass]])*(WNARRates[Period]=CustEstRev[[#This Row],[Period]])*WNARRates[AdjCSWNA])","v":4.8599999999999997E-3},{"$f":"SUMPRODUCT((WNARRates[BeginDate]<=CustEstRev[[#This Row],[MonthFlow]])*(WNARRates[EndDate]>=CustEstRev[[#This Row],[MonthFlow]])*(WNARRates[Region]=CustEstRev[[#This Row],[Region]])*(WNARRates[CustClass]=CustEstRev[[#This Row],[CustClass]])*(WNARRates[Period]=CustEstRev[[#This Row],[Period]])*WNARRates[AdjSRR])","v":-1.4999999999999999E-4},{"$f":"ROUND(CustEstRev[[#This Row],[NormVol]]*CustEstRev[[#This Row],[CSNWARate]],0)","v":1690},{"$f":"ROUND(CustEstRev[[#This Row],[NormVol]]*CustEstRev[[#This Row],[SRRRate]],0)","v":-52},"Calculated revenues from data in CustEstVol table and WNAR Rates table"]
[44287,"S2","63-GCSF","NEMO","SGS",{"$f":"SUMPRODUCT((CustEstVol[MonthFlow]=CustEstRev[[#This Row],[MonthFlow]])*(CustEstVol[RateSched]=CustEstRev[[#This Row],[RateSched]])*(CustEstVol[CustClass]=CustEstRev[[#This Row],[CustClass]])*CustEstVol[NormVol])","v":347659},{"$f":"SUMPRODUCT((WNARRates[BeginDate]<=CustEstRev[[#This Row],[MonthFlow]])*(WNARRates[EndDate]>=CustEstRev[[#This Row],[MonthFlow]])*(WNARRates[Region]=CustEstRev[[#This Row],[Region]])*(WNARRates[CustClass]=CustEstRev[[#This Row],[CustClass]])*(WNARRates[Period]=CustEstRev[[#This Row],[Period]])*WNARRates[AdjCSWNA])","v":-4.0999999999999999E-4},{"$f":"SUMPRODUCT((WNARRates[BeginDate]<=CustEstRev[[#This Row],[MonthFlow]])*(WNARRates[EndDate]>=CustEstRev[[#This Row],[MonthFlow]])*(WNARRates[Region]=CustEstRev[[#This Row],[Region]])*(WNARRates[CustClass]=CustEstRev[[#This Row],[CustClass]])*(WNARRates[Period]=CustEstRev[[#This Row],[Period]])*WNARRates[AdjSRR])","v":4.8999999999999998E-4},{"$f":"ROUND(CustEstRev[[#This Row],[NormVol]]*CustEstRev[[#This Row],[CSNWARate]],0)","v":-143},{"$f":"ROUND(CustEstRev[[#This Row],[NormVol]]*CustEstRev[[#This Row],[SRRRate]],0)","v":170},"Calculated revenues from data in CustEstVol table and WNAR Rates table"]
[44287,"S1","62-GRF","SEMO","Res",{"$f":"SUMPRODUCT((CustEstVol[MonthFlow]=CustEstRev[[#This Row],[MonthFlow]])*(CustEstVol[RateSched]=CustEstRev[[#This Row],[RateSched]])*(CustEstVol[CustClass]=CustEstRev[[#This Row],[CustClass]])*CustEstVol[NormVol])","v":1364560},{"$f":"SUMPRODUCT((WNARRates[BeginDate]<=CustEstRev[[#This Row],[MonthFlow]])*(WNARRates[EndDate]>=CustEstRev[[#This Row],[MonthFlow]])*(WNARRates[Region]=CustEstRev[[#This Row],[Region]])*(WNARRates[CustClass]=CustEstRev[[#This Row],[CustClass]])*(WNARRates[Period]=CustEstRev[[#This Row],[Period]])*WNARRates[AdjCSWNA])","v":1.265E-2},{"$f":"SUMPRODUCT((WNARRates[BeginDate]<=CustEstRev[[#This Row],[MonthFlow]])*(WNARRates[EndDate]>=CustEstRev[[#This Row],[MonthFlow]])*(WNARRates[Region]=CustEstRev[[#This Row],[Region]])*(WNARRates[CustClass]=CustEstRev[[#This Row],[CustClass]])*(WNARRates[Period]=CustEstRev[[#This Row],[Period]])*WNARRates[AdjSRR])","v":-6.0000000000000002E-5},{"$f":"ROUND(CustEstRev[[#This Row],[NormVol]]*CustEstRev[[#This Row],[CSNWARate]],0)","v":17262},{"$f":"ROUND(CustEstRev[[#This Row],[NormVol]]*CustEstRev[[#This Row],[SRRRate]],0)","v":-82},"Calculated revenues from data in CustEstVol table and WNAR Rates table"]
[44287,"S2","62-GRF","SEMO","Res",{"$f":"SUMPRODUCT((CustEstVol[MonthFlow]=CustEstRev[[#This Row],[MonthFlow]])*(CustEstVol[RateSched]=CustEstRev[[#This Row],[RateSched]])*(CustEstVol[CustClass]=CustEstRev[[#This Row],[CustClass]])*CustEstVol[NormVol])","v":1364560},{"$f":"SUMPRODUCT((WNARRates[BeginDate]<=CustEstRev[[#This Row],[MonthFlow]])*(WNARRates[EndDate]>=CustEstRev[[#This Row],[MonthFlow]])*(WNARRates[Region]=CustEstRev[[#This Row],[Region]])*(WNARRates[CustClass]=CustEstRev[[#This Row],[CustClass]])*(WNARRates[Period]=CustEstRev[[#This Row],[Period]])*WNARRates[AdjCSWNA])","v":6.96E-3},{"$f":"SUMPRODUCT((WNARRates[BeginDate]<=CustEstRev[[#This Row],[MonthFlow]])*(WNARRates[EndDate]>=CustEstRev[[#This Row],[MonthFlow]])*(WNARRates[Region]=CustEstRev[[#This Row],[Region]])*(WNARRates[CustClass]=CustEstRev[[#This Row],[CustClass]])*(WNARRates[Period]=CustEstRev[[#This Row],[Period]])*WNARRates[AdjSRR])","v":-1.0000000000000001E-5},{"$f":"ROUND(CustEstRev[[#This Row],[NormVol]]*CustEstRev[[#This Row],[CSNWARate]],0)","v":9497},{"$f":"ROUND(CustEstRev[[#This Row],[NormVol]]*CustEstRev[[#This Row],[SRRRate]],0)","v":-14},"Calculated revenues from data in CustEstVol table and WNAR Rates table"]
[44287,"S1","62-GCSF","SEMO","SGS",{"$f":"SUMPRODUCT((CustEstVol[MonthFlow]=CustEstRev[[#This Row],[MonthFlow]])*(CustEstVol[RateSched]=CustEstRev[[#This Row],[RateSched]])*(CustEstVol[CustClass]=CustEstRev[[#This Row],[CustClass]])*CustEstVol[NormVol])","v":370571},{"$f":"SUMPRODUCT((WNARRates[BeginDate]<=CustEstRev[[#This Row],[MonthFlow]])*(WNARRates[EndDate]>=CustEstRev[[#This Row],[MonthFlow]])*(WNARRates[Region]=CustEstRev[[#This Row],[Region]])*(WNARRates[CustClass]=CustEstRev[[#This Row],[CustClass]])*(WNARRates[Period]=CustEstRev[[#This Row],[Period]])*WNARRates[AdjCSWNA])","v":4.3499999999999997E-3},{"$f":"SUMPRODUCT((WNARRates[BeginDate]<=CustEstRev[[#This Row],[MonthFlow]])*(WNARRates[EndDate]>=CustEstRev[[#This Row],[MonthFlow]])*(WNARRates[Region]=CustEstRev[[#This Row],[Region]])*(WNARRates[CustClass]=CustEstRev[[#This Row],[CustClass]])*(WNARRates[Period]=CustEstRev[[#This Row],[Period]])*WNARRates[AdjSRR])","v":-3.8999999999999999E-4},{"$f":"ROUND(CustEstRev[[#This Row],[NormVol]]*CustEstRev[[#This Row],[CSNWARate]],0)","v":1612},{"$f":"ROUND(CustEstRev[[#This Row],[NormVol]]*CustEstRev[[#This Row],[SRRRate]],0)","v":-145},"Calculated revenues from data in CustEstVol table and WNAR Rates table"]
[44287,"S2","62-GCSF","SEMO","SGS",{"$f":"SUMPRODUCT((CustEstVol[MonthFlow]=CustEstRev[[#This Row],[MonthFlow]])*(CustEstVol[RateSched]=CustEstRev[[#This Row],[RateSched]])*(CustEstVol[CustClass]=CustEstRev[[#This Row],[CustClass]])*CustEstVol[NormVol])","v":370571},{"$f":"SUMPRODUCT((WNARRates[BeginDate]<=CustEstRev[[#This Row],[MonthFlow]])*(WNARRates[EndDate]>=CustEstRev[[#This Row],[MonthFlow]])*(WNARRates[Region]=CustEstRev[[#This Row],[Region]])*(WNARRates[CustClass]=CustEstRev[[#This Row],[CustClass]])*(WNARRates[Period]=CustEstRev[[#This Row],[Period]])*WNARRates[AdjCSWNA])","v":2.3999999999999998E-3},{"$f":"SUMPRODUCT((WNARRates[BeginDate]<=CustEstRev[[#This Row],[MonthFlow]])*(WNARRates[EndDate]>=CustEstRev[[#This Row],[MonthFlow]])*(WNARRates[Region]=CustEstRev[[#This Row],[Region]])*(WNARRates[CustClass]=CustEstRev[[#This Row],[CustClass]])*(WNARRates[Period]=CustEstRev[[#This Row],[Period]])*WNARRates[AdjSRR])","v":-4.0000000000000003E-5},{"$f":"ROUND(CustEstRev[[#This Row],[NormVol]]*CustEstRev[[#This Row],[CSNWARate]],0)","v":889},{"$f":"ROUND(CustEstRev[[#This Row],[NormVol]]*CustEstRev[[#This Row],[SRRRate]],0)","v":-15},"Calculated revenues from data in CustEstVol table and WNAR Rates table"]
[44287,"S1","61-GRF","WEMO","Res",{"$f":"SUMPRODUCT((CustEstVol[MonthFlow]=CustEstRev[[#This Row],[MonthFlow]])*(CustEstVol[RateSched]=CustEstRev[[#This Row],[RateSched]])*(CustEstVol[CustClass]=CustEstRev[[#This Row],[CustClass]])*CustEstVol[NormVol])","v":195817},{"$f":"SUMPRODUCT((WNARRates[BeginDate]<=CustEstRev[[#This Row],[MonthFlow]])*(WNARRates[EndDate]>=CustEstRev[[#This Row],[MonthFlow]])*(WNARRates[Region]=CustEstRev[[#This Row],[Region]])*(WNARRates[CustClass]=CustEstRev[[#This Row],[CustClass]])*(WNARRates[Period]=CustEstRev[[#This Row],[Period]])*WNARRates[AdjCSWNA])","v":1.208E-2},{"$f":"SUMPRODUCT((WNARRates[BeginDate]<=CustEstRev[[#This Row],[MonthFlow]])*(WNARRates[EndDate]>=CustEstRev[[#This Row],[MonthFlow]])*(WNARRates[Region]=CustEstRev[[#This Row],[Region]])*(WNARRates[CustClass]=CustEstRev[[#This Row],[CustClass]])*(WNARRates[Period]=CustEstRev[[#This Row],[Period]])*WNARRates[AdjSRR])","v":-2E-3},{"$f":"ROUND(CustEstRev[[#This Row],[NormVol]]*CustEstRev[[#This Row],[CSNWARate]],0)","v":2365},{"$f":"ROUND(CustEstRev[[#This Row],[NormVol]]*CustEstRev[[#This Row],[SRRRate]],0)","v":-392},"Calculated revenues from data in CustEstVol table and WNAR Rates table"]
[44287,"S2","61-GRF","WEMO","Res",{"$f":"SUMPRODUCT((CustEstVol[MonthFlow]=CustEstRev[[#This Row],[MonthFlow]])*(CustEstVol[RateSched]=CustEstRev[[#This Row],[RateSched]])*(CustEstVol[CustClass]=CustEstRev[[#This Row],[CustClass]])*CustEstVol[NormVol])","v":195817},{"$f":"SUMPRODUCT((WNARRates[BeginDate]<=CustEstRev[[#This Row],[MonthFlow]])*(WNARRates[EndDate]>=CustEstRev[[#This Row],[MonthFlow]])*(WNARRates[Region]=CustEstRev[[#This Row],[Region]])*(WNARRates[CustClass]=CustEstRev[[#This Row],[CustClass]])*(WNARRates[Period]=CustEstRev[[#This Row],[Period]])*WNARRates[AdjCSWNA])","v":-1.2099999999999999E-3},{"$f":"SUMPRODUCT((WNARRates[BeginDate]<=CustEstRev[[#This Row],[MonthFlow]])*(WNARRates[EndDate]>=CustEstRev[[#This Row],[MonthFlow]])*(WNARRates[Region]=CustEstRev[[#This Row],[Region]])*(WNARRates[CustClass]=CustEstRev[[#This Row],[CustClass]])*(WNARRates[Period]=CustEstRev[[#This Row],[Period]])*WNARRates[AdjSRR])","v":8.3000000000000001E-4},{"$f":"ROUND(CustEstRev[[#This Row],[NormVol]]*CustEstRev[[#This Row],[CSNWARate]],0)","v":-237},{"$f":"ROUND(CustEstRev[[#This Row],[NormVol]]*CustEstRev[[#This Row],[SRRRate]],0)","v":163},"Calculated revenues from data in CustEstVol table and WNAR Rates table"]
[44287,"S1","61-GCSF","WEMO","SGS",{"$f":"SUMPRODUCT((CustEstVol[MonthFlow]=CustEstRev[[#This Row],[MonthFlow]])*(CustEstVol[RateSched]=CustEstRev[[#This Row],[RateSched]])*(CustEstVol[CustClass]=CustEstRev[[#This Row],[CustClass]])*CustEstVol[NormVol])","v":63380},{"$f":"SUMPRODUCT((WNARRates[BeginDate]<=CustEstRev[[#This Row],[MonthFlow]])*(WNARRates[EndDate]>=CustEstRev[[#This Row],[MonthFlow]])*(WNARRates[Region]=CustEstRev[[#This Row],[Region]])*(WNARRates[CustClass]=CustEstRev[[#This Row],[CustClass]])*(WNARRates[Period]=CustEstRev[[#This Row],[Period]])*WNARRates[AdjCSWNA])","v":4.8599999999999997E-3},{"$f":"SUMPRODUCT((WNARRates[BeginDate]<=CustEstRev[[#This Row],[MonthFlow]])*(WNARRates[EndDate]>=CustEstRev[[#This Row],[MonthFlow]])*(WNARRates[Region]=CustEstRev[[#This Row],[Region]])*(WNARRates[CustClass]=CustEstRev[[#This Row],[CustClass]])*(WNARRates[Period]=CustEstRev[[#This Row],[Period]])*WNARRates[AdjSRR])","v":-1.4999999999999999E-4},{"$f":"ROUND(CustEstRev[[#This Row],[NormVol]]*CustEstRev[[#This Row],[CSNWARate]],0)","v":308},{"$f":"ROUND(CustEstRev[[#This Row],[NormVol]]*CustEstRev[[#This Row],[SRRRate]],0)","v":-10},"Calculated revenues from data in CustEstVol table and WNAR Rates table"]
[44287,"S2","61-GCSF","WEMO","SGS",{"$f":"SUMPRODUCT((CustEstVol[MonthFlow]=CustEstRev[[#This Row],[MonthFlow]])*(CustEstVol[RateSched]=CustEstRev[[#This Row],[RateSched]])*(CustEstVol[CustClass]=CustEstRev[[#This Row],[CustClass]])*CustEstVol[NormVol])","v":63380},{"$f":"SUMPRODUCT((WNARRates[BeginDate]<=CustEstRev[[#This Row],[MonthFlow]])*(WNARRates[EndDate]>=CustEstRev[[#This Row],[MonthFlow]])*(WNARRates[Region]=CustEstRev[[#This Row],[Region]])*(WNARRates[CustClass]=CustEstRev[[#This Row],[CustClass]])*(WNARRates[Period]=CustEstRev[[#This Row],[Period]])*WNARRates[AdjCSWNA])","v":-4.0999999999999999E-4},{"$f":"SUMPRODUCT((WNARRates[BeginDate]<=CustEstRev[[#This Row],[MonthFlow]])*(WNARRates[EndDate]>=CustEstRev[[#This Row],[MonthFlow]])*(WNARRates[Region]=CustEstRev[[#This Row],[Region]])*(WNARRates[CustClass]=CustEstRev[[#This Row],[CustClass]])*(WNARRates[Period]=CustEstRev[[#This Row],[Period]])*WNARRates[AdjSRR])","v":4.8999999999999998E-4},{"$f":"ROUND(CustEstRev[[#This Row],[NormVol]]*CustEstRev[[#This Row],[CSNWARate]],0)","v":-26},{"$f":"ROUND(CustEstRev[[#This Row],[NormVol]]*CustEstRev[[#This Row],[SRRRate]],0)","v":31},"Calculated revenues from data in CustEstVol table and WNAR Rates table"]
[44317,"S1","63-GRF","NEMO","Res",{"$f":"SUMPRODUCT((CustEstVol[MonthFlow]=CustEstRev[[#This Row],[MonthFlow]])*(CustEstVol[RateSched]=CustEstRev[[#This Row],[RateSched]])*(CustEstVol[CustClass]=CustEstRev[[#This Row],[CustClass]])*CustEstVol[NormVol])","v":512473},{"$f":"SUMPRODUCT((WNARRates[BeginDate]<=CustEstRev[[#This Row],[MonthFlow]])*(WNARRates[EndDate]>=CustEstRev[[#This Row],[MonthFlow]])*(WNARRates[Region]=CustEstRev[[#This Row],[Region]])*(WNARRates[CustClass]=CustEstRev[[#This Row],[CustClass]])*(WNARRates[Period]=CustEstRev[[#This Row],[Period]])*WNARRates[AdjCSWNA])","v":1.208E-2},{"$f":"SUMPRODUCT((WNARRates[BeginDate]<=CustEstRev[[#This Row],[MonthFlow]])*(WNARRates[EndDate]>=CustEstRev[[#This Row],[MonthFlow]])*(WNARRates[Region]=CustEstRev[[#This Row],[Region]])*(WNARRates[CustClass]=CustEstRev[[#This Row],[CustClass]])*(WNARRates[Period]=CustEstRev[[#This Row],[Period]])*WNARRates[AdjSRR])","v":-2E-3},{"$f":"ROUND(CustEstRev[[#This Row],[NormVol]]*CustEstRev[[#This Row],[CSNWARate]],0)","v":6191},{"$f":"ROUND(CustEstRev[[#This Row],[NormVol]]*CustEstRev[[#This Row],[SRRRate]],0)","v":-1025},"Calculated revenues from data in CustEstVol table and WNAR Rates table"]
[44317,"S2","63-GRF","NEMO","Res",{"$f":"SUMPRODUCT((CustEstVol[MonthFlow]=CustEstRev[[#This Row],[MonthFlow]])*(CustEstVol[RateSched]=CustEstRev[[#This Row],[RateSched]])*(CustEstVol[CustClass]=CustEstRev[[#This Row],[CustClass]])*CustEstVol[NormVol])","v":512473},{"$f":"SUMPRODUCT((WNARRates[BeginDate]<=CustEstRev[[#This Row],[MonthFlow]])*(WNARRates[EndDate]>=CustEstRev[[#This Row],[MonthFlow]])*(WNARRates[Region]=CustEstRev[[#This Row],[Region]])*(WNARRates[CustClass]=CustEstRev[[#This Row],[CustClass]])*(WNARRates[Period]=CustEstRev[[#This Row],[Period]])*WNARRates[AdjCSWNA])","v":-1.2099999999999999E-3},{"$f":"SUMPRODUCT((WNARRates[BeginDate]<=CustEstRev[[#This Row],[MonthFlow]])*(WNARRates[EndDate]>=CustEstRev[[#This Row],[MonthFlow]])*(WNARRates[Region]=CustEstRev[[#This Row],[Region]])*(WNARRates[CustClass]=CustEstRev[[#This Row],[CustClass]])*(WNARRates[Period]=CustEstRev[[#This Row],[Period]])*WNARRates[AdjSRR])","v":8.3000000000000001E-4},{"$f":"ROUND(CustEstRev[[#This Row],[NormVol]]*CustEstRev[[#This Row],[CSNWARate]],0)","v":-620},{"$f":"ROUND(CustEstRev[[#This Row],[NormVol]]*CustEstRev[[#This Row],[SRRRate]],0)","v":425},"Calculated revenues from data in CustEstVol table and WNAR Rates table"]
[44317,"S1","63-GCSF","NEMO","SGS",{"$f":"SUMPRODUCT((CustEstVol[MonthFlow]=CustEstRev[[#This Row],[MonthFlow]])*(CustEstVol[RateSched]=CustEstRev[[#This Row],[RateSched]])*(CustEstVol[CustClass]=CustEstRev[[#This Row],[CustClass]])*CustEstVol[NormVol])","v":152098},{"$f":"SUMPRODUCT((WNARRates[BeginDate]<=CustEstRev[[#This Row],[MonthFlow]])*(WNARRates[EndDate]>=CustEstRev[[#This Row],[MonthFlow]])*(WNARRates[Region]=CustEstRev[[#This Row],[Region]])*(WNARRates[CustClass]=CustEstRev[[#This Row],[CustClass]])*(WNARRates[Period]=CustEstRev[[#This Row],[Period]])*WNARRates[AdjCSWNA])","v":4.8599999999999997E-3},{"$f":"SUMPRODUCT((WNARRates[BeginDate]<=CustEstRev[[#This Row],[MonthFlow]])*(WNARRates[EndDate]>=CustEstRev[[#This Row],[MonthFlow]])*(WNARRates[Region]=CustEstRev[[#This Row],[Region]])*(WNARRates[CustClass]=CustEstRev[[#This Row],[CustClass]])*(WNARRates[Period]=CustEstRev[[#This Row],[Period]])*WNARRates[AdjSRR])","v":-1.4999999999999999E-4},{"$f":"ROUND(CustEstRev[[#This Row],[NormVol]]*CustEstRev[[#This Row],[CSNWARate]],0)","v":739},{"$f":"ROUND(CustEstRev[[#This Row],[NormVol]]*CustEstRev[[#This Row],[SRRRate]],0)","v":-23},"Calculated revenues from data in CustEstVol table and WNAR Rates table"]
[44317,"S2","63-GCSF","NEMO","SGS",{"$f":"SUMPRODUCT((CustEstVol[MonthFlow]=CustEstRev[[#This Row],[MonthFlow]])*(CustEstVol[RateSched]=CustEstRev[[#This Row],[RateSched]])*(CustEstVol[CustClass]=CustEstRev[[#This Row],[CustClass]])*CustEstVol[NormVol])","v":152098},{"$f":"SUMPRODUCT((WNARRates[BeginDate]<=CustEstRev[[#This Row],[MonthFlow]])*(WNARRates[EndDate]>=CustEstRev[[#This Row],[MonthFlow]])*(WNARRates[Region]=CustEstRev[[#This Row],[Region]])*(WNARRates[CustClass]=CustEstRev[[#This Row],[CustClass]])*(WNARRates[Period]=CustEstRev[[#This Row],[Period]])*WNARRates[AdjCSWNA])","v":-4.0999999999999999E-4},{"$f":"SUMPRODUCT((WNARRates[BeginDate]<=CustEstRev[[#This Row],[MonthFlow]])*(WNARRates[EndDate]>=CustEstRev[[#This Row],[MonthFlow]])*(WNARRates[Region]=CustEstRev[[#This Row],[Region]])*(WNARRates[CustClass]=CustEstRev[[#This Row],[CustClass]])*(WNARRates[Period]=CustEstRev[[#This Row],[Period]])*WNARRates[AdjSRR])","v":4.8999999999999998E-4},{"$f":"ROUND(CustEstRev[[#This Row],[NormVol]]*CustEstRev[[#This Row],[CSNWARate]],0)","v":-62},{"$f":"ROUND(CustEstRev[[#This Row],[NormVol]]*CustEstRev[[#This Row],[SRRRate]],0)","v":75},"Calculated revenues from data in CustEstVol table and WNAR Rates table"]
[44317,"S1","62-GRF","SEMO","Res",{"$f":"SUMPRODUCT((CustEstVol[MonthFlow]=CustEstRev[[#This Row],[MonthFlow]])*(CustEstVol[RateSched]=CustEstRev[[#This Row],[RateSched]])*(CustEstVol[CustClass]=CustEstRev[[#This Row],[CustClass]])*CustEstVol[NormVol])","v":691255},{"$f":"SUMPRODUCT((WNARRates[BeginDate]<=CustEstRev[[#This Row],[MonthFlow]])*(WNARRates[EndDate]>=CustEstRev[[#This Row],[MonthFlow]])*(WNARRates[Region]=CustEstRev[[#This Row],[Region]])*(WNARRates[CustClass]=CustEstRev[[#This Row],[CustClass]])*(WNARRates[Period]=CustEstRev[[#This Row],[Period]])*WNARRates[AdjCSWNA])","v":1.265E-2},{"$f":"SUMPRODUCT((WNARRates[BeginDate]<=CustEstRev[[#This Row],[MonthFlow]])*(WNARRates[EndDate]>=CustEstRev[[#This Row],[MonthFlow]])*(WNARRates[Region]=CustEstRev[[#This Row],[Region]])*(WNARRates[CustClass]=CustEstRev[[#This Row],[CustClass]])*(WNARRates[Period]=CustEstRev[[#This Row],[Period]])*WNARRates[AdjSRR])","v":-6.0000000000000002E-5},{"$f":"ROUND(CustEstRev[[#This Row],[NormVol]]*CustEstRev[[#This Row],[CSNWARate]],0)","v":8744},{"$f":"ROUND(CustEstRev[[#This Row],[NormVol]]*CustEstRev[[#This Row],[SRRRate]],0)","v":-41},"Calculated revenues from data in CustEstVol table and WNAR Rates table"]
[44317,"S2","62-GRF","SEMO","Res",{"$f":"SUMPRODUCT((CustEstVol[MonthFlow]=CustEstRev[[#This Row],[MonthFlow]])*(CustEstVol[RateSched]=CustEstRev[[#This Row],[RateSched]])*(CustEstVol[CustClass]=CustEstRev[[#This Row],[CustClass]])*CustEstVol[NormVol])","v":691255},{"$f":"SUMPRODUCT((WNARRates[BeginDate]<=CustEstRev[[#This Row],[MonthFlow]])*(WNARRates[EndDate]>=CustEstRev[[#This Row],[MonthFlow]])*(WNARRates[Region]=CustEstRev[[#This Row],[Region]])*(WNARRates[CustClass]=CustEstRev[[#This Row],[CustClass]])*(WNARRates[Period]=CustEstRev[[#This Row],[Period]])*WNARRates[AdjCSWNA])","v":6.96E-3},{"$f":"SUMPRODUCT((WNARRates[BeginDate]<=CustEstRev[[#This Row],[MonthFlow]])*(WNARRates[EndDate]>=CustEstRev[[#This Row],[MonthFlow]])*(WNARRates[Region]=CustEstRev[[#This Row],[Region]])*(WNARRates[CustClass]=CustEstRev[[#This Row],[CustClass]])*(WNARRates[Period]=CustEstRev[[#This Row],[Period]])*WNARRates[AdjSRR])","v":-1.0000000000000001E-5},{"$f":"ROUND(CustEstRev[[#This Row],[NormVol]]*CustEstRev[[#This Row],[CSNWARate]],0)","v":4811},{"$f":"ROUND(CustEstRev[[#This Row],[NormVol]]*CustEstRev[[#This Row],[SRRRate]],0)","v":-7},"Calculated revenues from data in CustEstVol table and WNAR Rates table"]
[44317,"S1","62-GCSF","SEMO","SGS",{"$f":"SUMPRODUCT((CustEstVol[MonthFlow]=CustEstRev[[#This Row],[MonthFlow]])*(CustEstVol[RateSched]=CustEstRev[[#This Row],[RateSched]])*(CustEstVol[CustClass]=CustEstRev[[#This Row],[CustClass]])*CustEstVol[NormVol])","v":162860},{"$f":"SUMPRODUCT((WNARRates[BeginDate]<=CustEstRev[[#This Row],[MonthFlow]])*(WNARRates[EndDate]>=CustEstRev[[#This Row],[MonthFlow]])*(WNARRates[Region]=CustEstRev[[#This Row],[Region]])*(WNARRates[CustClass]=CustEstRev[[#This Row],[CustClass]])*(WNARRates[Period]=CustEstRev[[#This Row],[Period]])*WNARRates[AdjCSWNA])","v":4.3499999999999997E-3},{"$f":"SUMPRODUCT((WNARRates[BeginDate]<=CustEstRev[[#This Row],[MonthFlow]])*(WNARRates[EndDate]>=CustEstRev[[#This Row],[MonthFlow]])*(WNARRates[Region]=CustEstRev[[#This Row],[Region]])*(WNARRates[CustClass]=CustEstRev[[#This Row],[CustClass]])*(WNARRates[Period]=CustEstRev[[#This Row],[Period]])*WNARRates[AdjSRR])","v":-3.8999999999999999E-4},{"$f":"ROUND(CustEstRev[[#This Row],[NormVol]]*CustEstRev[[#This Row],[CSNWARate]],0)","v":708},{"$f":"ROUND(CustEstRev[[#This Row],[NormVol]]*CustEstRev[[#This Row],[SRRRate]],0)","v":-64},"Calculated revenues from data in CustEstVol table and WNAR Rates table"]
[44317,"S2","62-GCSF","SEMO","SGS",{"$f":"SUMPRODUCT((CustEstVol[MonthFlow]=CustEstRev[[#This Row],[MonthFlow]])*(CustEstVol[RateSched]=CustEstRev[[#This Row],[RateSched]])*(CustEstVol[CustClass]=CustEstRev[[#This Row],[CustClass]])*CustEstVol[NormVol])","v":162860},{"$f":"SUMPRODUCT((WNARRates[BeginDate]<=CustEstRev[[#This Row],[MonthFlow]])*(WNARRates[EndDate]>=CustEstRev[[#This Row],[MonthFlow]])*(WNARRates[Region]=CustEstRev[[#This Row],[Region]])*(WNARRates[CustClass]=CustEstRev[[#This Row],[CustClass]])*(WNARRates[Period]=CustEstRev[[#This Row],[Period]])*WNARRates[AdjCSWNA])","v":2.3999999999999998E-3},{"$f":"SUMPRODUCT((WNARRates[BeginDate]<=CustEstRev[[#This Row],[MonthFlow]])*(WNARRates[EndDate]>=CustEstRev[[#This Row],[MonthFlow]])*(WNARRates[Region]=CustEstRev[[#This Row],[Region]])*(WNARRates[CustClass]=CustEstRev[[#This Row],[CustClass]])*(WNARRates[Period]=CustEstRev[[#This Row],[Period]])*WNARRates[AdjSRR])","v":-4.0000000000000003E-5},{"$f":"ROUND(CustEstRev[[#This Row],[NormVol]]*CustEstRev[[#This Row],[CSNWARate]],0)","v":391},{"$f":"ROUND(CustEstRev[[#This Row],[NormVol]]*CustEstRev[[#This Row],[SRRRate]],0)","v":-7},"Calculated revenues from data in CustEstVol table and WNAR Rates table"]
[44317,"S1","61-GRF","WEMO","Res",{"$f":"SUMPRODUCT((CustEstVol[MonthFlow]=CustEstRev[[#This Row],[MonthFlow]])*(CustEstVol[RateSched]=CustEstRev[[#This Row],[RateSched]])*(CustEstVol[CustClass]=CustEstRev[[#This Row],[CustClass]])*CustEstVol[NormVol])","v":104891},{"$f":"SUMPRODUCT((WNARRates[BeginDate]<=CustEstRev[[#This Row],[MonthFlow]])*(WNARRates[EndDate]>=CustEstRev[[#This Row],[MonthFlow]])*(WNARRates[Region]=CustEstRev[[#This Row],[Region]])*(WNARRates[CustClass]=CustEstRev[[#This Row],[CustClass]])*(WNARRates[Period]=CustEstRev[[#This Row],[Period]])*WNARRates[AdjCSWNA])","v":1.208E-2},{"$f":"SUMPRODUCT((WNARRates[BeginDate]<=CustEstRev[[#This Row],[MonthFlow]])*(WNARRates[EndDate]>=CustEstRev[[#This Row],[MonthFlow]])*(WNARRates[Region]=CustEstRev[[#This Row],[Region]])*(WNARRates[CustClass]=CustEstRev[[#This Row],[CustClass]])*(WNARRates[Period]=CustEstRev[[#This Row],[Period]])*WNARRates[AdjSRR])","v":-2E-3},{"$f":"ROUND(CustEstRev[[#This Row],[NormVol]]*CustEstRev[[#This Row],[CSNWARate]],0)","v":1267},{"$f":"ROUND(CustEstRev[[#This Row],[NormVol]]*CustEstRev[[#This Row],[SRRRate]],0)","v":-210},"Calculated revenues from data in CustEstVol table and WNAR Rates table"]
[44317,"S2","61-GRF","WEMO","Res",{"$f":"SUMPRODUCT((CustEstVol[MonthFlow]=CustEstRev[[#This Row],[MonthFlow]])*(CustEstVol[RateSched]=CustEstRev[[#This Row],[RateSched]])*(CustEstVol[CustClass]=CustEstRev[[#This Row],[CustClass]])*CustEstVol[NormVol])","v":104891},{"$f":"SUMPRODUCT((WNARRates[BeginDate]<=CustEstRev[[#This Row],[MonthFlow]])*(WNARRates[EndDate]>=CustEstRev[[#This Row],[MonthFlow]])*(WNARRates[Region]=CustEstRev[[#This Row],[Region]])*(WNARRates[CustClass]=CustEstRev[[#This Row],[CustClass]])*(WNARRates[Period]=CustEstRev[[#This Row],[Period]])*WNARRates[AdjCSWNA])","v":-1.2099999999999999E-3},{"$f":"SUMPRODUCT((WNARRates[BeginDate]<=CustEstRev[[#This Row],[MonthFlow]])*(WNARRates[EndDate]>=CustEstRev[[#This Row],[MonthFlow]])*(WNARRates[Region]=CustEstRev[[#This Row],[Region]])*(WNARRates[CustClass]=CustEstRev[[#This Row],[CustClass]])*(WNARRates[Period]=CustEstRev[[#This Row],[Period]])*WNARRates[AdjSRR])","v":8.3000000000000001E-4},{"$f":"ROUND(CustEstRev[[#This Row],[NormVol]]*CustEstRev[[#This Row],[CSNWARate]],0)","v":-127},{"$f":"ROUND(CustEstRev[[#This Row],[NormVol]]*CustEstRev[[#This Row],[SRRRate]],0)","v":87},"Calculated revenues from data in CustEstVol table and WNAR Rates table"]
[44317,"S1","61-GCSF","WEMO","SGS",{"$f":"SUMPRODUCT((CustEstVol[MonthFlow]=CustEstRev[[#This Row],[MonthFlow]])*(CustEstVol[RateSched]=CustEstRev[[#This Row],[RateSched]])*(CustEstVol[CustClass]=CustEstRev[[#This Row],[CustClass]])*CustEstVol[NormVol])","v":31005},{"$f":"SUMPRODUCT((WNARRates[BeginDate]<=CustEstRev[[#This Row],[MonthFlow]])*(WNARRates[EndDate]>=CustEstRev[[#This Row],[MonthFlow]])*(WNARRates[Region]=CustEstRev[[#This Row],[Region]])*(WNARRates[CustClass]=CustEstRev[[#This Row],[CustClass]])*(WNARRates[Period]=CustEstRev[[#This Row],[Period]])*WNARRates[AdjCSWNA])","v":4.8599999999999997E-3},{"$f":"SUMPRODUCT((WNARRates[BeginDate]<=CustEstRev[[#This Row],[MonthFlow]])*(WNARRates[EndDate]>=CustEstRev[[#This Row],[MonthFlow]])*(WNARRates[Region]=CustEstRev[[#This Row],[Region]])*(WNARRates[CustClass]=CustEstRev[[#This Row],[CustClass]])*(WNARRates[Period]=CustEstRev[[#This Row],[Period]])*WNARRates[AdjSRR])","v":-1.4999999999999999E-4},{"$f":"ROUND(CustEstRev[[#This Row],[NormVol]]*CustEstRev[[#This Row],[CSNWARate]],0)","v":151},{"$f":"ROUND(CustEstRev[[#This Row],[NormVol]]*CustEstRev[[#This Row],[SRRRate]],0)","v":-5},"Calculated revenues from data in CustEstVol table and WNAR Rates table"]
[44317,"S2","61-GCSF","WEMO","SGS",{"$f":"SUMPRODUCT((CustEstVol[MonthFlow]=CustEstRev[[#This Row],[MonthFlow]])*(CustEstVol[RateSched]=CustEstRev[[#This Row],[RateSched]])*(CustEstVol[CustClass]=CustEstRev[[#This Row],[CustClass]])*CustEstVol[NormVol])","v":31005},{"$f":"SUMPRODUCT((WNARRates[BeginDate]<=CustEstRev[[#This Row],[MonthFlow]])*(WNARRates[EndDate]>=CustEstRev[[#This Row],[MonthFlow]])*(WNARRates[Region]=CustEstRev[[#This Row],[Region]])*(WNARRates[CustClass]=CustEstRev[[#This Row],[CustClass]])*(WNARRates[Period]=CustEstRev[[#This Row],[Period]])*WNARRates[AdjCSWNA])","v":-4.0999999999999999E-4},{"$f":"SUMPRODUCT((WNARRates[BeginDate]<=CustEstRev[[#This Row],[MonthFlow]])*(WNARRates[EndDate]>=CustEstRev[[#This Row],[MonthFlow]])*(WNARRates[Region]=CustEstRev[[#This Row],[Region]])*(WNARRates[CustClass]=CustEstRev[[#This Row],[CustClass]])*(WNARRates[Period]=CustEstRev[[#This Row],[Period]])*WNARRates[AdjSRR])","v":4.8999999999999998E-4},{"$f":"ROUND(CustEstRev[[#This Row],[NormVol]]*CustEstRev[[#This Row],[CSNWARate]],0)","v":-13},{"$f":"ROUND(CustEstRev[[#This Row],[NormVol]]*CustEstRev[[#This Row],[SRRRate]],0)","v":15},"Calculated revenues from data in CustEstVol table and WNAR Rates table"]
[44348,"S1","63-GRF","NEMO","Res",{"$f":"SUMPRODUCT((CustEstVol[MonthFlow]=CustEstRev[[#This Row],[MonthFlow]])*(CustEstVol[RateSched]=CustEstRev[[#This Row],[RateSched]])*(CustEstVol[CustClass]=CustEstRev[[#This Row],[CustClass]])*CustEstVol[NormVol])","v":186375},{"$f":"SUMPRODUCT((WNARRates[BeginDate]<=CustEstRev[[#This Row],[MonthFlow]])*(WNARRates[EndDate]>=CustEstRev[[#This Row],[MonthFlow]])*(WNARRates[Region]=CustEstRev[[#This Row],[Region]])*(WNARRates[CustClass]=CustEstRev[[#This Row],[CustClass]])*(WNARRates[Period]=CustEstRev[[#This Row],[Period]])*WNARRates[AdjCSWNA])","v":1.208E-2},{"$f":"SUMPRODUCT((WNARRates[BeginDate]<=CustEstRev[[#This Row],[MonthFlow]])*(WNARRates[EndDate]>=CustEstRev[[#This Row],[MonthFlow]])*(WNARRates[Region]=CustEstRev[[#This Row],[Region]])*(WNARRates[CustClass]=CustEstRev[[#This Row],[CustClass]])*(WNARRates[Period]=CustEstRev[[#This Row],[Period]])*WNARRates[AdjSRR])","v":-2E-3},{"$f":"ROUND(CustEstRev[[#This Row],[NormVol]]*CustEstRev[[#This Row],[CSNWARate]],0)","v":2251},{"$f":"ROUND(CustEstRev[[#This Row],[NormVol]]*CustEstRev[[#This Row],[SRRRate]],0)","v":-373},"Calculated revenues from data in CustEstVol table and WNAR Rates table"]
[44348,"S2","63-GRF","NEMO","Res",{"$f":"SUMPRODUCT((CustEstVol[MonthFlow]=CustEstRev[[#This Row],[MonthFlow]])*(CustEstVol[RateSched]=CustEstRev[[#This Row],[RateSched]])*(CustEstVol[CustClass]=CustEstRev[[#This Row],[CustClass]])*CustEstVol[NormVol])","v":186375},{"$f":"SUMPRODUCT((WNARRates[BeginDate]<=CustEstRev[[#This Row],[MonthFlow]])*(WNARRates[EndDate]>=CustEstRev[[#This Row],[MonthFlow]])*(WNARRates[Region]=CustEstRev[[#This Row],[Region]])*(WNARRates[CustClass]=CustEstRev[[#This Row],[CustClass]])*(WNARRates[Period]=CustEstRev[[#This Row],[Period]])*WNARRates[AdjCSWNA])","v":-1.2099999999999999E-3},{"$f":"SUMPRODUCT((WNARRates[BeginDate]<=CustEstRev[[#This Row],[MonthFlow]])*(WNARRates[EndDate]>=CustEstRev[[#This Row],[MonthFlow]])*(WNARRates[Region]=CustEstRev[[#This Row],[Region]])*(WNARRates[CustClass]=CustEstRev[[#This Row],[CustClass]])*(WNARRates[Period]=CustEstRev[[#This Row],[Period]])*WNARRates[AdjSRR])","v":8.3000000000000001E-4},{"$f":"ROUND(CustEstRev[[#This Row],[NormVol]]*CustEstRev[[#This Row],[CSNWARate]],0)","v":-226},{"$f":"ROUND(CustEstRev[[#This Row],[NormVol]]*CustEstRev[[#This Row],[SRRRate]],0)","v":155},"Calculated revenues from data in CustEstVol table and WNAR Rates table"]
[44348,"S1","63-GCSF","NEMO","SGS",{"$f":"SUMPRODUCT((CustEstVol[MonthFlow]=CustEstRev[[#This Row],[MonthFlow]])*(CustEstVol[RateSched]=CustEstRev[[#This Row],[RateSched]])*(CustEstVol[CustClass]=CustEstRev[[#This Row],[CustClass]])*CustEstVol[NormVol])","v":72008},{"$f":"SUMPRODUCT((WNARRates[BeginDate]<=CustEstRev[[#This Row],[MonthFlow]])*(WNARRates[EndDate]>=CustEstRev[[#This Row],[MonthFlow]])*(WNARRates[Region]=CustEstRev[[#This Row],[Region]])*(WNARRates[CustClass]=CustEstRev[[#This Row],[CustClass]])*(WNARRates[Period]=CustEstRev[[#This Row],[Period]])*WNARRates[AdjCSWNA])","v":4.8599999999999997E-3},{"$f":"SUMPRODUCT((WNARRates[BeginDate]<=CustEstRev[[#This Row],[MonthFlow]])*(WNARRates[EndDate]>=CustEstRev[[#This Row],[MonthFlow]])*(WNARRates[Region]=CustEstRev[[#This Row],[Region]])*(WNARRates[CustClass]=CustEstRev[[#This Row],[CustClass]])*(WNARRates[Period]=CustEstRev[[#This Row],[Period]])*WNARRates[AdjSRR])","v":-1.4999999999999999E-4},{"$f":"ROUND(CustEstRev[[#This Row],[NormVol]]*CustEstRev[[#This Row],[CSNWARate]],0)","v":350},{"$f":"ROUND(CustEstRev[[#This Row],[NormVol]]*CustEstRev[[#This Row],[SRRRate]],0)","v":-11},"Calculated revenues from data in CustEstVol table and WNAR Rates table"]
[44348,"S2","63-GCSF","NEMO","SGS",{"$f":"SUMPRODUCT((CustEstVol[MonthFlow]=CustEstRev[[#This Row],[MonthFlow]])*(CustEstVol[RateSched]=CustEstRev[[#This Row],[RateSched]])*(CustEstVol[CustClass]=CustEstRev[[#This Row],[CustClass]])*CustEstVol[NormVol])","v":72008},{"$f":"SUMPRODUCT((WNARRates[BeginDate]<=CustEstRev[[#This Row],[MonthFlow]])*(WNARRates[EndDate]>=CustEstRev[[#This Row],[MonthFlow]])*(WNARRates[Region]=CustEstRev[[#This Row],[Region]])*(WNARRates[CustClass]=CustEstRev[[#This Row],[CustClass]])*(WNARRates[Period]=CustEstRev[[#This Row],[Period]])*WNARRates[AdjCSWNA])","v":-4.0999999999999999E-4},{"$f":"SUMPRODUCT((WNARRates[BeginDate]<=CustEstRev[[#This Row],[MonthFlow]])*(WNARRates[EndDate]>=CustEstRev[[#This Row],[MonthFlow]])*(WNARRates[Region]=CustEstRev[[#This Row],[Region]])*(WNARRates[CustClass]=CustEstRev[[#This Row],[CustClass]])*(WNARRates[Period]=CustEstRev[[#This Row],[Period]])*WNARRates[AdjSRR])","v":4.8999999999999998E-4},{"$f":"ROUND(CustEstRev[[#This Row],[NormVol]]*CustEstRev[[#This Row],[CSNWARate]],0)","v":-30},{"$f":"ROUND(CustEstRev[[#This Row],[NormVol]]*CustEstRev[[#This Row],[SRRRate]],0)","v":35},"Calculated revenues from data in CustEstVol table and WNAR Rates table"]
[44348,"S1","62-GRF","SEMO","Res",{"$f":"SUMPRODUCT((CustEstVol[MonthFlow]=CustEstRev[[#This Row],[MonthFlow]])*(CustEstVol[RateSched]=CustEstRev[[#This Row],[RateSched]])*(CustEstVol[CustClass]=CustEstRev[[#This Row],[CustClass]])*CustEstVol[NormVol])","v":346843},{"$f":"SUMPRODUCT((WNARRates[BeginDate]<=CustEstRev[[#This Row],[MonthFlow]])*(WNARRates[EndDate]>=CustEstRev[[#This Row],[MonthFlow]])*(WNARRates[Region]=CustEstRev[[#This Row],[Region]])*(WNARRates[CustClass]=CustEstRev[[#This Row],[CustClass]])*(WNARRates[Period]=CustEstRev[[#This Row],[Period]])*WNARRates[AdjCSWNA])","v":1.265E-2},{"$f":"SUMPRODUCT((WNARRates[BeginDate]<=CustEstRev[[#This Row],[MonthFlow]])*(WNARRates[EndDate]>=CustEstRev[[#This Row],[MonthFlow]])*(WNARRates[Region]=CustEstRev[[#This Row],[Region]])*(WNARRates[CustClass]=CustEstRev[[#This Row],[CustClass]])*(WNARRates[Period]=CustEstRev[[#This Row],[Period]])*WNARRates[AdjSRR])","v":-6.0000000000000002E-5},{"$f":"ROUND(CustEstRev[[#This Row],[NormVol]]*CustEstRev[[#This Row],[CSNWARate]],0)","v":4388},{"$f":"ROUND(CustEstRev[[#This Row],[NormVol]]*CustEstRev[[#This Row],[SRRRate]],0)","v":-21},"Calculated revenues from data in CustEstVol table and WNAR Rates table"]
[44348,"S2","62-GRF","SEMO","Res",{"$f":"SUMPRODUCT((CustEstVol[MonthFlow]=CustEstRev[[#This Row],[MonthFlow]])*(CustEstVol[RateSched]=CustEstRev[[#This Row],[RateSched]])*(CustEstVol[CustClass]=CustEstRev[[#This Row],[CustClass]])*CustEstVol[NormVol])","v":346843},{"$f":"SUMPRODUCT((WNARRates[BeginDate]<=CustEstRev[[#This Row],[MonthFlow]])*(WNARRates[EndDate]>=CustEstRev[[#This Row],[MonthFlow]])*(WNARRates[Region]=CustEstRev[[#This Row],[Region]])*(WNARRates[CustClass]=CustEstRev[[#This Row],[CustClass]])*(WNARRates[Period]=CustEstRev[[#This Row],[Period]])*WNARRates[AdjCSWNA])","v":6.96E-3},{"$f":"SUMPRODUCT((WNARRates[BeginDate]<=CustEstRev[[#This Row],[MonthFlow]])*(WNARRates[EndDate]>=CustEstRev[[#This Row],[MonthFlow]])*(WNARRates[Region]=CustEstRev[[#This Row],[Region]])*(WNARRates[CustClass]=CustEstRev[[#This Row],[CustClass]])*(WNARRates[Period]=CustEstRev[[#This Row],[Period]])*WNARRates[AdjSRR])","v":-1.0000000000000001E-5},{"$f":"ROUND(CustEstRev[[#This Row],[NormVol]]*CustEstRev[[#This Row],[CSNWARate]],0)","v":2414},{"$f":"ROUND(CustEstRev[[#This Row],[NormVol]]*CustEstRev[[#This Row],[SRRRate]],0)","v":-3},"Calculated revenues from data in CustEstVol table and WNAR Rates table"]
[44348,"S1","62-GCSF","SEMO","SGS",{"$f":"SUMPRODUCT((CustEstVol[MonthFlow]=CustEstRev[[#This Row],[MonthFlow]])*(CustEstVol[RateSched]=CustEstRev[[#This Row],[RateSched]])*(CustEstVol[CustClass]=CustEstRev[[#This Row],[CustClass]])*CustEstVol[NormVol])","v":100364},{"$f":"SUMPRODUCT((WNARRates[BeginDate]<=CustEstRev[[#This Row],[MonthFlow]])*(WNARRates[EndDate]>=CustEstRev[[#This Row],[MonthFlow]])*(WNARRates[Region]=CustEstRev[[#This Row],[Region]])*(WNARRates[CustClass]=CustEstRev[[#This Row],[CustClass]])*(WNARRates[Period]=CustEstRev[[#This Row],[Period]])*WNARRates[AdjCSWNA])","v":4.3499999999999997E-3},{"$f":"SUMPRODUCT((WNARRates[BeginDate]<=CustEstRev[[#This Row],[MonthFlow]])*(WNARRates[EndDate]>=CustEstRev[[#This Row],[MonthFlow]])*(WNARRates[Region]=CustEstRev[[#This Row],[Region]])*(WNARRates[CustClass]=CustEstRev[[#This Row],[CustClass]])*(WNARRates[Period]=CustEstRev[[#This Row],[Period]])*WNARRates[AdjSRR])","v":-3.8999999999999999E-4},{"$f":"ROUND(CustEstRev[[#This Row],[NormVol]]*CustEstRev[[#This Row],[CSNWARate]],0)","v":437},{"$f":"ROUND(CustEstRev[[#This Row],[NormVol]]*CustEstRev[[#This Row],[SRRRate]],0)","v":-39},"Calculated revenues from data in CustEstVol table and WNAR Rates table"]
[44348,"S2","62-GCSF","SEMO","SGS",{"$f":"SUMPRODUCT((CustEstVol[MonthFlow]=CustEstRev[[#This Row],[MonthFlow]])*(CustEstVol[RateSched]=CustEstRev[[#This Row],[RateSched]])*(CustEstVol[CustClass]=CustEstRev[[#This Row],[CustClass]])*CustEstVol[NormVol])","v":100364},{"$f":"SUMPRODUCT((WNARRates[BeginDate]<=CustEstRev[[#This Row],[MonthFlow]])*(WNARRates[EndDate]>=CustEstRev[[#This Row],[MonthFlow]])*(WNARRates[Region]=CustEstRev[[#This Row],[Region]])*(WNARRates[CustClass]=CustEstRev[[#This Row],[CustClass]])*(WNARRates[Period]=CustEstRev[[#This Row],[Period]])*WNARRates[AdjCSWNA])","v":2.3999999999999998E-3},{"$f":"SUMPRODUCT((WNARRates[BeginDate]<=CustEstRev[[#This Row],[MonthFlow]])*(WNARRates[EndDate]>=CustEstRev[[#This Row],[MonthFlow]])*(WNARRates[Region]=CustEstRev[[#This Row],[Region]])*(WNARRates[CustClass]=CustEstRev[[#This Row],[CustClass]])*(WNARRates[Period]=CustEstRev[[#This Row],[Period]])*WNARRates[AdjSRR])","v":-4.0000000000000003E-5},{"$f":"ROUND(CustEstRev[[#This Row],[NormVol]]*CustEstRev[[#This Row],[CSNWARate]],0)","v":241},{"$f":"ROUND(CustEstRev[[#This Row],[NormVol]]*CustEstRev[[#This Row],[SRRRate]],0)","v":-4},"Calculated revenues from data in CustEstVol table and WNAR Rates table"]
[44348,"S1","61-GRF","WEMO","Res",{"$f":"SUMPRODUCT((CustEstVol[MonthFlow]=CustEstRev[[#This Row],[MonthFlow]])*(CustEstVol[RateSched]=CustEstRev[[#This Row],[RateSched]])*(CustEstVol[CustClass]=CustEstRev[[#This Row],[CustClass]])*CustEstVol[NormVol])","v":36253},{"$f":"SUMPRODUCT((WNARRates[BeginDate]<=CustEstRev[[#This Row],[MonthFlow]])*(WNARRates[EndDate]>=CustEstRev[[#This Row],[MonthFlow]])*(WNARRates[Region]=CustEstRev[[#This Row],[Region]])*(WNARRates[CustClass]=CustEstRev[[#This Row],[CustClass]])*(WNARRates[Period]=CustEstRev[[#This Row],[Period]])*WNARRates[AdjCSWNA])","v":1.208E-2},{"$f":"SUMPRODUCT((WNARRates[BeginDate]<=CustEstRev[[#This Row],[MonthFlow]])*(WNARRates[EndDate]>=CustEstRev[[#This Row],[MonthFlow]])*(WNARRates[Region]=CustEstRev[[#This Row],[Region]])*(WNARRates[CustClass]=CustEstRev[[#This Row],[CustClass]])*(WNARRates[Period]=CustEstRev[[#This Row],[Period]])*WNARRates[AdjSRR])","v":-2E-3},{"$f":"ROUND(CustEstRev[[#This Row],[NormVol]]*CustEstRev[[#This Row],[CSNWARate]],0)","v":438},{"$f":"ROUND(CustEstRev[[#This Row],[NormVol]]*CustEstRev[[#This Row],[SRRRate]],0)","v":-73},"Calculated revenues from data in CustEstVol table and WNAR Rates table"]
[44348,"S2","61-GRF","WEMO","Res",{"$f":"SUMPRODUCT((CustEstVol[MonthFlow]=CustEstRev[[#This Row],[MonthFlow]])*(CustEstVol[RateSched]=CustEstRev[[#This Row],[RateSched]])*(CustEstVol[CustClass]=CustEstRev[[#This Row],[CustClass]])*CustEstVol[NormVol])","v":36253},{"$f":"SUMPRODUCT((WNARRates[BeginDate]<=CustEstRev[[#This Row],[MonthFlow]])*(WNARRates[EndDate]>=CustEstRev[[#This Row],[MonthFlow]])*(WNARRates[Region]=CustEstRev[[#This Row],[Region]])*(WNARRates[CustClass]=CustEstRev[[#This Row],[CustClass]])*(WNARRates[Period]=CustEstRev[[#This Row],[Period]])*WNARRates[AdjCSWNA])","v":-1.2099999999999999E-3},{"$f":"SUMPRODUCT((WNARRates[BeginDate]<=CustEstRev[[#This Row],[MonthFlow]])*(WNARRates[EndDate]>=CustEstRev[[#This Row],[MonthFlow]])*(WNARRates[Region]=CustEstRev[[#This Row],[Region]])*(WNARRates[CustClass]=CustEstRev[[#This Row],[CustClass]])*(WNARRates[Period]=CustEstRev[[#This Row],[Period]])*WNARRates[AdjSRR])","v":8.3000000000000001E-4},{"$f":"ROUND(CustEstRev[[#This Row],[NormVol]]*CustEstRev[[#This Row],[CSNWARate]],0)","v":-44},{"$f":"ROUND(CustEstRev[[#This Row],[NormVol]]*CustEstRev[[#This Row],[SRRRate]],0)","v":30},"Calculated revenues from data in CustEstVol table and WNAR Rates table"]
[44348,"S1","61-GCSF","WEMO","SGS",{"$f":"SUMPRODUCT((CustEstVol[MonthFlow]=CustEstRev[[#This Row],[MonthFlow]])*(CustEstVol[RateSched]=CustEstRev[[#This Row],[RateSched]])*(CustEstVol[CustClass]=CustEstRev[[#This Row],[CustClass]])*CustEstVol[NormVol])","v":13433},{"$f":"SUMPRODUCT((WNARRates[BeginDate]<=CustEstRev[[#This Row],[MonthFlow]])*(WNARRates[EndDate]>=CustEstRev[[#This Row],[MonthFlow]])*(WNARRates[Region]=CustEstRev[[#This Row],[Region]])*(WNARRates[CustClass]=CustEstRev[[#This Row],[CustClass]])*(WNARRates[Period]=CustEstRev[[#This Row],[Period]])*WNARRates[AdjCSWNA])","v":4.8599999999999997E-3},{"$f":"SUMPRODUCT((WNARRates[BeginDate]<=CustEstRev[[#This Row],[MonthFlow]])*(WNARRates[EndDate]>=CustEstRev[[#This Row],[MonthFlow]])*(WNARRates[Region]=CustEstRev[[#This Row],[Region]])*(WNARRates[CustClass]=CustEstRev[[#This Row],[CustClass]])*(WNARRates[Period]=CustEstRev[[#This Row],[Period]])*WNARRates[AdjSRR])","v":-1.4999999999999999E-4},{"$f":"ROUND(CustEstRev[[#This Row],[NormVol]]*CustEstRev[[#This Row],[CSNWARate]],0)","v":65},{"$f":"ROUND(CustEstRev[[#This Row],[NormVol]]*CustEstRev[[#This Row],[SRRRate]],0)","v":-2},"Calculated revenues from data in CustEstVol table and WNAR Rates table"]
[44348,"S2","61-GCSF","WEMO","SGS",{"$f":"SUMPRODUCT((CustEstVol[MonthFlow]=CustEstRev[[#This Row],[MonthFlow]])*(CustEstVol[RateSched]=CustEstRev[[#This Row],[RateSched]])*(CustEstVol[CustClass]=CustEstRev[[#This Row],[CustClass]])*CustEstVol[NormVol])","v":13433},{"$f":"SUMPRODUCT((WNARRates[BeginDate]<=CustEstRev[[#This Row],[MonthFlow]])*(WNARRates[EndDate]>=CustEstRev[[#This Row],[MonthFlow]])*(WNARRates[Region]=CustEstRev[[#This Row],[Region]])*(WNARRates[CustClass]=CustEstRev[[#This Row],[CustClass]])*(WNARRates[Period]=CustEstRev[[#This Row],[Period]])*WNARRates[AdjCSWNA])","v":-4.0999999999999999E-4},{"$f":"SUMPRODUCT((WNARRates[BeginDate]<=CustEstRev[[#This Row],[MonthFlow]])*(WNARRates[EndDate]>=CustEstRev[[#This Row],[MonthFlow]])*(WNARRates[Region]=CustEstRev[[#This Row],[Region]])*(WNARRates[CustClass]=CustEstRev[[#This Row],[CustClass]])*(WNARRates[Period]=CustEstRev[[#This Row],[Period]])*WNARRates[AdjSRR])","v":4.8999999999999998E-4},{"$f":"ROUND(CustEstRev[[#This Row],[NormVol]]*CustEstRev[[#This Row],[CSNWARate]],0)","v":-6},{"$f":"ROUND(CustEstRev[[#This Row],[NormVol]]*CustEstRev[[#This Row],[SRRRate]],0)","v":7},"Calculated revenues from data in CustEstVol table and WNAR Rates table"]
[44378,"S1","63-GRF","NEMO","Res",{"$f":"SUMPRODUCT((CustEstVol[MonthFlow]=CustEstRev[[#This Row],[MonthFlow]])*(CustEstVol[RateSched]=CustEstRev[[#This Row],[RateSched]])*(CustEstVol[CustClass]=CustEstRev[[#This Row],[CustClass]])*CustEstVol[NormVol])","v":153253},{"$f":"SUMPRODUCT((WNARRates[BeginDate]<=CustEstRev[[#This Row],[MonthFlow]])*(WNARRates[EndDate]>=CustEstRev[[#This Row],[MonthFlow]])*(WNARRates[Region]=CustEstRev[[#This Row],[Region]])*(WNARRates[CustClass]=CustEstRev[[#This Row],[CustClass]])*(WNARRates[Period]=CustEstRev[[#This Row],[Period]])*WNARRates[AdjCSWNA])","v":1.208E-2},{"$f":"SUMPRODUCT((WNARRates[BeginDate]<=CustEstRev[[#This Row],[MonthFlow]])*(WNARRates[EndDate]>=CustEstRev[[#This Row],[MonthFlow]])*(WNARRates[Region]=CustEstRev[[#This Row],[Region]])*(WNARRates[CustClass]=CustEstRev[[#This Row],[CustClass]])*(WNARRates[Period]=CustEstRev[[#This Row],[Period]])*WNARRates[AdjSRR])","v":-2E-3},{"$f":"ROUND(CustEstRev[[#This Row],[NormVol]]*CustEstRev[[#This Row],[CSNWARate]],0)","v":1851},{"$f":"ROUND(CustEstRev[[#This Row],[NormVol]]*CustEstRev[[#This Row],[SRRRate]],0)","v":-307},"Calculated revenues from data in CustEstVol table and WNAR Rates table"]
[44378,"S2","63-GRF","NEMO","Res",{"$f":"SUMPRODUCT((CustEstVol[MonthFlow]=CustEstRev[[#This Row],[MonthFlow]])*(CustEstVol[RateSched]=CustEstRev[[#This Row],[RateSched]])*(CustEstVol[CustClass]=CustEstRev[[#This Row],[CustClass]])*CustEstVol[NormVol])","v":153253},{"$f":"SUMPRODUCT((WNARRates[BeginDate]<=CustEstRev[[#This Row],[MonthFlow]])*(WNARRates[EndDate]>=CustEstRev[[#This Row],[MonthFlow]])*(WNARRates[Region]=CustEstRev[[#This Row],[Region]])*(WNARRates[CustClass]=CustEstRev[[#This Row],[CustClass]])*(WNARRates[Period]=CustEstRev[[#This Row],[Period]])*WNARRates[AdjCSWNA])","v":-1.2099999999999999E-3},{"$f":"SUMPRODUCT((WNARRates[BeginDate]<=CustEstRev[[#This Row],[MonthFlow]])*(WNARRates[EndDate]>=CustEstRev[[#This Row],[MonthFlow]])*(WNARRates[Region]=CustEstRev[[#This Row],[Region]])*(WNARRates[CustClass]=CustEstRev[[#This Row],[CustClass]])*(WNARRates[Period]=CustEstRev[[#This Row],[Period]])*WNARRates[AdjSRR])","v":8.3000000000000001E-4},{"$f":"ROUND(CustEstRev[[#This Row],[NormVol]]*CustEstRev[[#This Row],[CSNWARate]],0)","v":-185},{"$f":"ROUND(CustEstRev[[#This Row],[NormVol]]*CustEstRev[[#This Row],[SRRRate]],0)","v":127},"Calculated revenues from data in CustEstVol table and WNAR Rates table"]
[44378,"S1","63-GCSF","NEMO","SGS",{"$f":"SUMPRODUCT((CustEstVol[MonthFlow]=CustEstRev[[#This Row],[MonthFlow]])*(CustEstVol[RateSched]=CustEstRev[[#This Row],[RateSched]])*(CustEstVol[CustClass]=CustEstRev[[#This Row],[CustClass]])*CustEstVol[NormVol])","v":67094},{"$f":"SUMPRODUCT((WNARRates[BeginDate]<=CustEstRev[[#This Row],[MonthFlow]])*(WNARRates[EndDate]>=CustEstRev[[#This Row],[MonthFlow]])*(WNARRates[Region]=CustEstRev[[#This Row],[Region]])*(WNARRates[CustClass]=CustEstRev[[#This Row],[CustClass]])*(WNARRates[Period]=CustEstRev[[#This Row],[Period]])*WNARRates[AdjCSWNA])","v":4.8599999999999997E-3},{"$f":"SUMPRODUCT((WNARRates[BeginDate]<=CustEstRev[[#This Row],[MonthFlow]])*(WNARRates[EndDate]>=CustEstRev[[#This Row],[MonthFlow]])*(WNARRates[Region]=CustEstRev[[#This Row],[Region]])*(WNARRates[CustClass]=CustEstRev[[#This Row],[CustClass]])*(WNARRates[Period]=CustEstRev[[#This Row],[Period]])*WNARRates[AdjSRR])","v":-1.4999999999999999E-4},{"$f":"ROUND(CustEstRev[[#This Row],[NormVol]]*CustEstRev[[#This Row],[CSNWARate]],0)","v":326},{"$f":"ROUND(CustEstRev[[#This Row],[NormVol]]*CustEstRev[[#This Row],[SRRRate]],0)","v":-10},"Calculated revenues from data in CustEstVol table and WNAR Rates table"]
[44378,"S2","63-GCSF","NEMO","SGS",{"$f":"SUMPRODUCT((CustEstVol[MonthFlow]=CustEstRev[[#This Row],[MonthFlow]])*(CustEstVol[RateSched]=CustEstRev[[#This Row],[RateSched]])*(CustEstVol[CustClass]=CustEstRev[[#This Row],[CustClass]])*CustEstVol[NormVol])","v":67094},{"$f":"SUMPRODUCT((WNARRates[BeginDate]<=CustEstRev[[#This Row],[MonthFlow]])*(WNARRates[EndDate]>=CustEstRev[[#This Row],[MonthFlow]])*(WNARRates[Region]=CustEstRev[[#This Row],[Region]])*(WNARRates[CustClass]=CustEstRev[[#This Row],[CustClass]])*(WNARRates[Period]=CustEstRev[[#This Row],[Period]])*WNARRates[AdjCSWNA])","v":-4.0999999999999999E-4},{"$f":"SUMPRODUCT((WNARRates[BeginDate]<=CustEstRev[[#This Row],[MonthFlow]])*(WNARRates[EndDate]>=CustEstRev[[#This Row],[MonthFlow]])*(WNARRates[Region]=CustEstRev[[#This Row],[Region]])*(WNARRates[CustClass]=CustEstRev[[#This Row],[CustClass]])*(WNARRates[Period]=CustEstRev[[#This Row],[Period]])*WNARRates[AdjSRR])","v":4.8999999999999998E-4},{"$f":"ROUND(CustEstRev[[#This Row],[NormVol]]*CustEstRev[[#This Row],[CSNWARate]],0)","v":-28},{"$f":"ROUND(CustEstRev[[#This Row],[NormVol]]*CustEstRev[[#This Row],[SRRRate]],0)","v":33},"Calculated revenues from data in CustEstVol table and WNAR Rates table"]
[44378,"S1","62-GRF","SEMO","Res",{"$f":"SUMPRODUCT((CustEstVol[MonthFlow]=CustEstRev[[#This Row],[MonthFlow]])*(CustEstVol[RateSched]=CustEstRev[[#This Row],[RateSched]])*(CustEstVol[CustClass]=CustEstRev[[#This Row],[CustClass]])*CustEstVol[NormVol])","v":268362},{"$f":"SUMPRODUCT((WNARRates[BeginDate]<=CustEstRev[[#This Row],[MonthFlow]])*(WNARRates[EndDate]>=CustEstRev[[#This Row],[MonthFlow]])*(WNARRates[Region]=CustEstRev[[#This Row],[Region]])*(WNARRates[CustClass]=CustEstRev[[#This Row],[CustClass]])*(WNARRates[Period]=CustEstRev[[#This Row],[Period]])*WNARRates[AdjCSWNA])","v":1.265E-2},{"$f":"SUMPRODUCT((WNARRates[BeginDate]<=CustEstRev[[#This Row],[MonthFlow]])*(WNARRates[EndDate]>=CustEstRev[[#This Row],[MonthFlow]])*(WNARRates[Region]=CustEstRev[[#This Row],[Region]])*(WNARRates[CustClass]=CustEstRev[[#This Row],[CustClass]])*(WNARRates[Period]=CustEstRev[[#This Row],[Period]])*WNARRates[AdjSRR])","v":-6.0000000000000002E-5},{"$f":"ROUND(CustEstRev[[#This Row],[NormVol]]*CustEstRev[[#This Row],[CSNWARate]],0)","v":3395},{"$f":"ROUND(CustEstRev[[#This Row],[NormVol]]*CustEstRev[[#This Row],[SRRRate]],0)","v":-16},"Calculated revenues from data in CustEstVol table and WNAR Rates table"]
[44378,"S2","62-GRF","SEMO","Res",{"$f":"SUMPRODUCT((CustEstVol[MonthFlow]=CustEstRev[[#This Row],[MonthFlow]])*(CustEstVol[RateSched]=CustEstRev[[#This Row],[RateSched]])*(CustEstVol[CustClass]=CustEstRev[[#This Row],[CustClass]])*CustEstVol[NormVol])","v":268362},{"$f":"SUMPRODUCT((WNARRates[BeginDate]<=CustEstRev[[#This Row],[MonthFlow]])*(WNARRates[EndDate]>=CustEstRev[[#This Row],[MonthFlow]])*(WNARRates[Region]=CustEstRev[[#This Row],[Region]])*(WNARRates[CustClass]=CustEstRev[[#This Row],[CustClass]])*(WNARRates[Period]=CustEstRev[[#This Row],[Period]])*WNARRates[AdjCSWNA])","v":6.96E-3},{"$f":"SUMPRODUCT((WNARRates[BeginDate]<=CustEstRev[[#This Row],[MonthFlow]])*(WNARRates[EndDate]>=CustEstRev[[#This Row],[MonthFlow]])*(WNARRates[Region]=CustEstRev[[#This Row],[Region]])*(WNARRates[CustClass]=CustEstRev[[#This Row],[CustClass]])*(WNARRates[Period]=CustEstRev[[#This Row],[Period]])*WNARRates[AdjSRR])","v":-1.0000000000000001E-5},{"$f":"ROUND(CustEstRev[[#This Row],[NormVol]]*CustEstRev[[#This Row],[CSNWARate]],0)","v":1868},{"$f":"ROUND(CustEstRev[[#This Row],[NormVol]]*CustEstRev[[#This Row],[SRRRate]],0)","v":-3},"Calculated revenues from data in CustEstVol table and WNAR Rates table"]
[44378,"S1","62-GCSF","SEMO","SGS",{"$f":"SUMPRODUCT((CustEstVol[MonthFlow]=CustEstRev[[#This Row],[MonthFlow]])*(CustEstVol[RateSched]=CustEstRev[[#This Row],[RateSched]])*(CustEstVol[CustClass]=CustEstRev[[#This Row],[CustClass]])*CustEstVol[NormVol])","v":86477},{"$f":"SUMPRODUCT((WNARRates[BeginDate]<=CustEstRev[[#This Row],[MonthFlow]])*(WNARRates[EndDate]>=CustEstRev[[#This Row],[MonthFlow]])*(WNARRates[Region]=CustEstRev[[#This Row],[Region]])*(WNARRates[CustClass]=CustEstRev[[#This Row],[CustClass]])*(WNARRates[Period]=CustEstRev[[#This Row],[Period]])*WNARRates[AdjCSWNA])","v":4.3499999999999997E-3},{"$f":"SUMPRODUCT((WNARRates[BeginDate]<=CustEstRev[[#This Row],[MonthFlow]])*(WNARRates[EndDate]>=CustEstRev[[#This Row],[MonthFlow]])*(WNARRates[Region]=CustEstRev[[#This Row],[Region]])*(WNARRates[CustClass]=CustEstRev[[#This Row],[CustClass]])*(WNARRates[Period]=CustEstRev[[#This Row],[Period]])*WNARRates[AdjSRR])","v":-3.8999999999999999E-4},{"$f":"ROUND(CustEstRev[[#This Row],[NormVol]]*CustEstRev[[#This Row],[CSNWARate]],0)","v":376},{"$f":"ROUND(CustEstRev[[#This Row],[NormVol]]*CustEstRev[[#This Row],[SRRRate]],0)","v":-34},"Calculated revenues from data in CustEstVol table and WNAR Rates table"]
[44378,"S2","62-GCSF","SEMO","SGS",{"$f":"SUMPRODUCT((CustEstVol[MonthFlow]=CustEstRev[[#This Row],[MonthFlow]])*(CustEstVol[RateSched]=CustEstRev[[#This Row],[RateSched]])*(CustEstVol[CustClass]=CustEstRev[[#This Row],[CustClass]])*CustEstVol[NormVol])","v":86477},{"$f":"SUMPRODUCT((WNARRates[BeginDate]<=CustEstRev[[#This Row],[MonthFlow]])*(WNARRates[EndDate]>=CustEstRev[[#This Row],[MonthFlow]])*(WNARRates[Region]=CustEstRev[[#This Row],[Region]])*(WNARRates[CustClass]=CustEstRev[[#This Row],[CustClass]])*(WNARRates[Period]=CustEstRev[[#This Row],[Period]])*WNARRates[AdjCSWNA])","v":2.3999999999999998E-3},{"$f":"SUMPRODUCT((WNARRates[BeginDate]<=CustEstRev[[#This Row],[MonthFlow]])*(WNARRates[EndDate]>=CustEstRev[[#This Row],[MonthFlow]])*(WNARRates[Region]=CustEstRev[[#This Row],[Region]])*(WNARRates[CustClass]=CustEstRev[[#This Row],[CustClass]])*(WNARRates[Period]=CustEstRev[[#This Row],[Period]])*WNARRates[AdjSRR])","v":-4.0000000000000003E-5},{"$f":"ROUND(CustEstRev[[#This Row],[NormVol]]*CustEstRev[[#This Row],[CSNWARate]],0)","v":208},{"$f":"ROUND(CustEstRev[[#This Row],[NormVol]]*CustEstRev[[#This Row],[SRRRate]],0)","v":-3},"Calculated revenues from data in CustEstVol table and WNAR Rates table"]
[44378,"S1","61-GRF","WEMO","Res",{"$f":"SUMPRODUCT((CustEstVol[MonthFlow]=CustEstRev[[#This Row],[MonthFlow]])*(CustEstVol[RateSched]=CustEstRev[[#This Row],[RateSched]])*(CustEstVol[CustClass]=CustEstRev[[#This Row],[CustClass]])*CustEstVol[NormVol])","v":30742},{"$f":"SUMPRODUCT((WNARRates[BeginDate]<=CustEstRev[[#This Row],[MonthFlow]])*(WNARRates[EndDate]>=CustEstRev[[#This Row],[MonthFlow]])*(WNARRates[Region]=CustEstRev[[#This Row],[Region]])*(WNARRates[CustClass]=CustEstRev[[#This Row],[CustClass]])*(WNARRates[Period]=CustEstRev[[#This Row],[Period]])*WNARRates[AdjCSWNA])","v":1.208E-2},{"$f":"SUMPRODUCT((WNARRates[BeginDate]<=CustEstRev[[#This Row],[MonthFlow]])*(WNARRates[EndDate]>=CustEstRev[[#This Row],[MonthFlow]])*(WNARRates[Region]=CustEstRev[[#This Row],[Region]])*(WNARRates[CustClass]=CustEstRev[[#This Row],[CustClass]])*(WNARRates[Period]=CustEstRev[[#This Row],[Period]])*WNARRates[AdjSRR])","v":-2E-3},{"$f":"ROUND(CustEstRev[[#This Row],[NormVol]]*CustEstRev[[#This Row],[CSNWARate]],0)","v":371},{"$f":"ROUND(CustEstRev[[#This Row],[NormVol]]*CustEstRev[[#This Row],[SRRRate]],0)","v":-61},"Calculated revenues from data in CustEstVol table and WNAR Rates table"]
[44378,"S2","61-GRF","WEMO","Res",{"$f":"SUMPRODUCT((CustEstVol[MonthFlow]=CustEstRev[[#This Row],[MonthFlow]])*(CustEstVol[RateSched]=CustEstRev[[#This Row],[RateSched]])*(CustEstVol[CustClass]=CustEstRev[[#This Row],[CustClass]])*CustEstVol[NormVol])","v":30742},{"$f":"SUMPRODUCT((WNARRates[BeginDate]<=CustEstRev[[#This Row],[MonthFlow]])*(WNARRates[EndDate]>=CustEstRev[[#This Row],[MonthFlow]])*(WNARRates[Region]=CustEstRev[[#This Row],[Region]])*(WNARRates[CustClass]=CustEstRev[[#This Row],[CustClass]])*(WNARRates[Period]=CustEstRev[[#This Row],[Period]])*WNARRates[AdjCSWNA])","v":-1.2099999999999999E-3},{"$f":"SUMPRODUCT((WNARRates[BeginDate]<=CustEstRev[[#This Row],[MonthFlow]])*(WNARRates[EndDate]>=CustEstRev[[#This Row],[MonthFlow]])*(WNARRates[Region]=CustEstRev[[#This Row],[Region]])*(WNARRates[CustClass]=CustEstRev[[#This Row],[CustClass]])*(WNARRates[Period]=CustEstRev[[#This Row],[Period]])*WNARRates[AdjSRR])","v":8.3000000000000001E-4},{"$f":"ROUND(CustEstRev[[#This Row],[NormVol]]*CustEstRev[[#This Row],[CSNWARate]],0)","v":-37},{"$f":"ROUND(CustEstRev[[#This Row],[NormVol]]*CustEstRev[[#This Row],[SRRRate]],0)","v":26},"Calculated revenues from data in CustEstVol table and WNAR Rates table"]
[44378,"S1","61-GCSF","WEMO","SGS",{"$f":"SUMPRODUCT((CustEstVol[MonthFlow]=CustEstRev[[#This Row],[MonthFlow]])*(CustEstVol[RateSched]=CustEstRev[[#This Row],[RateSched]])*(CustEstVol[CustClass]=CustEstRev[[#This Row],[CustClass]])*CustEstVol[NormVol])","v":12337},{"$f":"SUMPRODUCT((WNARRates[BeginDate]<=CustEstRev[[#This Row],[MonthFlow]])*(WNARRates[EndDate]>=CustEstRev[[#This Row],[MonthFlow]])*(WNARRates[Region]=CustEstRev[[#This Row],[Region]])*(WNARRates[CustClass]=CustEstRev[[#This Row],[CustClass]])*(WNARRates[Period]=CustEstRev[[#This Row],[Period]])*WNARRates[AdjCSWNA])","v":4.8599999999999997E-3},{"$f":"SUMPRODUCT((WNARRates[BeginDate]<=CustEstRev[[#This Row],[MonthFlow]])*(WNARRates[EndDate]>=CustEstRev[[#This Row],[MonthFlow]])*(WNARRates[Region]=CustEstRev[[#This Row],[Region]])*(WNARRates[CustClass]=CustEstRev[[#This Row],[CustClass]])*(WNARRates[Period]=CustEstRev[[#This Row],[Period]])*WNARRates[AdjSRR])","v":-1.4999999999999999E-4},{"$f":"ROUND(CustEstRev[[#This Row],[NormVol]]*CustEstRev[[#This Row],[CSNWARate]],0)","v":60},{"$f":"ROUND(CustEstRev[[#This Row],[NormVol]]*CustEstRev[[#This Row],[SRRRate]],0)","v":-2},"Calculated revenues from data in CustEstVol table and WNAR Rates table"]
[44378,"S2","61-GCSF","WEMO","SGS",{"$f":"SUMPRODUCT((CustEstVol[MonthFlow]=CustEstRev[[#This Row],[MonthFlow]])*(CustEstVol[RateSched]=CustEstRev[[#This Row],[RateSched]])*(CustEstVol[CustClass]=CustEstRev[[#This Row],[CustClass]])*CustEstVol[NormVol])","v":12337},{"$f":"SUMPRODUCT((WNARRates[BeginDate]<=CustEstRev[[#This Row],[MonthFlow]])*(WNARRates[EndDate]>=CustEstRev[[#This Row],[MonthFlow]])*(WNARRates[Region]=CustEstRev[[#This Row],[Region]])*(WNARRates[CustClass]=CustEstRev[[#This Row],[CustClass]])*(WNARRates[Period]=CustEstRev[[#This Row],[Period]])*WNARRates[AdjCSWNA])","v":-4.0999999999999999E-4},{"$f":"SUMPRODUCT((WNARRates[BeginDate]<=CustEstRev[[#This Row],[MonthFlow]])*(WNARRates[EndDate]>=CustEstRev[[#This Row],[MonthFlow]])*(WNARRates[Region]=CustEstRev[[#This Row],[Region]])*(WNARRates[CustClass]=CustEstRev[[#This Row],[CustClass]])*(WNARRates[Period]=CustEstRev[[#This Row],[Period]])*WNARRates[AdjSRR])","v":4.8999999999999998E-4},{"$f":"ROUND(CustEstRev[[#This Row],[NormVol]]*CustEstRev[[#This Row],[CSNWARate]],0)","v":-5},{"$f":"ROUND(CustEstRev[[#This Row],[NormVol]]*CustEstRev[[#This Row],[SRRRate]],0)","v":6},"Calculated revenues from data in CustEstVol table and WNAR Rates table"]
[44409,"S1","63-GRF","NEMO","Res",{"$f":"SUMPRODUCT((CustEstVol[MonthFlow]=CustEstRev[[#This Row],[MonthFlow]])*(CustEstVol[RateSched]=CustEstRev[[#This Row],[RateSched]])*(CustEstVol[CustClass]=CustEstRev[[#This Row],[CustClass]])*CustEstVol[NormVol])","v":138771},{"$f":"SUMPRODUCT((WNARRates[BeginDate]<=CustEstRev[[#This Row],[MonthFlow]])*(WNARRates[EndDate]>=CustEstRev[[#This Row],[MonthFlow]])*(WNARRates[Region]=CustEstRev[[#This Row],[Region]])*(WNARRates[CustClass]=CustEstRev[[#This Row],[CustClass]])*(WNARRates[Period]=CustEstRev[[#This Row],[Period]])*WNARRates[AdjCSWNA])","v":1.208E-2},{"$f":"SUMPRODUCT((WNARRates[BeginDate]<=CustEstRev[[#This Row],[MonthFlow]])*(WNARRates[EndDate]>=CustEstRev[[#This Row],[MonthFlow]])*(WNARRates[Region]=CustEstRev[[#This Row],[Region]])*(WNARRates[CustClass]=CustEstRev[[#This Row],[CustClass]])*(WNARRates[Period]=CustEstRev[[#This Row],[Period]])*WNARRates[AdjSRR])","v":-2E-3},{"$f":"ROUND(CustEstRev[[#This Row],[NormVol]]*CustEstRev[[#This Row],[CSNWARate]],0)","v":1676},{"$f":"ROUND(CustEstRev[[#This Row],[NormVol]]*CustEstRev[[#This Row],[SRRRate]],0)","v":-278},"Calculated revenues from data in CustEstVol table and WNAR Rates table"]
[44409,"S2","63-GRF","NEMO","Res",{"$f":"SUMPRODUCT((CustEstVol[MonthFlow]=CustEstRev[[#This Row],[MonthFlow]])*(CustEstVol[RateSched]=CustEstRev[[#This Row],[RateSched]])*(CustEstVol[CustClass]=CustEstRev[[#This Row],[CustClass]])*CustEstVol[NormVol])","v":138771},{"$f":"SUMPRODUCT((WNARRates[BeginDate]<=CustEstRev[[#This Row],[MonthFlow]])*(WNARRates[EndDate]>=CustEstRev[[#This Row],[MonthFlow]])*(WNARRates[Region]=CustEstRev[[#This Row],[Region]])*(WNARRates[CustClass]=CustEstRev[[#This Row],[CustClass]])*(WNARRates[Period]=CustEstRev[[#This Row],[Period]])*WNARRates[AdjCSWNA])","v":-1.2099999999999999E-3},{"$f":"SUMPRODUCT((WNARRates[BeginDate]<=CustEstRev[[#This Row],[MonthFlow]])*(WNARRates[EndDate]>=CustEstRev[[#This Row],[MonthFlow]])*(WNARRates[Region]=CustEstRev[[#This Row],[Region]])*(WNARRates[CustClass]=CustEstRev[[#This Row],[CustClass]])*(WNARRates[Period]=CustEstRev[[#This Row],[Period]])*WNARRates[AdjSRR])","v":8.3000000000000001E-4},{"$f":"ROUND(CustEstRev[[#This Row],[NormVol]]*CustEstRev[[#This Row],[CSNWARate]],0)","v":-168},{"$f":"ROUND(CustEstRev[[#This Row],[NormVol]]*CustEstRev[[#This Row],[SRRRate]],0)","v":115},"Calculated revenues from data in CustEstVol table and WNAR Rates table"]
[44409,"S1","63-GCSF","NEMO","SGS",{"$f":"SUMPRODUCT((CustEstVol[MonthFlow]=CustEstRev[[#This Row],[MonthFlow]])*(CustEstVol[RateSched]=CustEstRev[[#This Row],[RateSched]])*(CustEstVol[CustClass]=CustEstRev[[#This Row],[CustClass]])*CustEstVol[NormVol])","v":62833},{"$f":"SUMPRODUCT((WNARRates[BeginDate]<=CustEstRev[[#This Row],[MonthFlow]])*(WNARRates[EndDate]>=CustEstRev[[#This Row],[MonthFlow]])*(WNARRates[Region]=CustEstRev[[#This Row],[Region]])*(WNARRates[CustClass]=CustEstRev[[#This Row],[CustClass]])*(WNARRates[Period]=CustEstRev[[#This Row],[Period]])*WNARRates[AdjCSWNA])","v":4.8599999999999997E-3},{"$f":"SUMPRODUCT((WNARRates[BeginDate]<=CustEstRev[[#This Row],[MonthFlow]])*(WNARRates[EndDate]>=CustEstRev[[#This Row],[MonthFlow]])*(WNARRates[Region]=CustEstRev[[#This Row],[Region]])*(WNARRates[CustClass]=CustEstRev[[#This Row],[CustClass]])*(WNARRates[Period]=CustEstRev[[#This Row],[Period]])*WNARRates[AdjSRR])","v":-1.4999999999999999E-4},{"$f":"ROUND(CustEstRev[[#This Row],[NormVol]]*CustEstRev[[#This Row],[CSNWARate]],0)","v":305},{"$f":"ROUND(CustEstRev[[#This Row],[NormVol]]*CustEstRev[[#This Row],[SRRRate]],0)","v":-9},"Calculated revenues from data in CustEstVol table and WNAR Rates table"]
[44409,"S2","63-GCSF","NEMO","SGS",{"$f":"SUMPRODUCT((CustEstVol[MonthFlow]=CustEstRev[[#This Row],[MonthFlow]])*(CustEstVol[RateSched]=CustEstRev[[#This Row],[RateSched]])*(CustEstVol[CustClass]=CustEstRev[[#This Row],[CustClass]])*CustEstVol[NormVol])","v":62833},{"$f":"SUMPRODUCT((WNARRates[BeginDate]<=CustEstRev[[#This Row],[MonthFlow]])*(WNARRates[EndDate]>=CustEstRev[[#This Row],[MonthFlow]])*(WNARRates[Region]=CustEstRev[[#This Row],[Region]])*(WNARRates[CustClass]=CustEstRev[[#This Row],[CustClass]])*(WNARRates[Period]=CustEstRev[[#This Row],[Period]])*WNARRates[AdjCSWNA])","v":-4.0999999999999999E-4},{"$f":"SUMPRODUCT((WNARRates[BeginDate]<=CustEstRev[[#This Row],[MonthFlow]])*(WNARRates[EndDate]>=CustEstRev[[#This Row],[MonthFlow]])*(WNARRates[Region]=CustEstRev[[#This Row],[Region]])*(WNARRates[CustClass]=CustEstRev[[#This Row],[CustClass]])*(WNARRates[Period]=CustEstRev[[#This Row],[Period]])*WNARRates[AdjSRR])","v":4.8999999999999998E-4},{"$f":"ROUND(CustEstRev[[#This Row],[NormVol]]*CustEstRev[[#This Row],[CSNWARate]],0)","v":-26},{"$f":"ROUND(CustEstRev[[#This Row],[NormVol]]*CustEstRev[[#This Row],[SRRRate]],0)","v":31},"Calculated revenues from data in CustEstVol table and WNAR Rates table"]
[44409,"S1","62-GRF","SEMO","Res",{"$f":"SUMPRODUCT((CustEstVol[MonthFlow]=CustEstRev[[#This Row],[MonthFlow]])*(CustEstVol[RateSched]=CustEstRev[[#This Row],[RateSched]])*(CustEstVol[CustClass]=CustEstRev[[#This Row],[CustClass]])*CustEstVol[NormVol])","v":252879},{"$f":"SUMPRODUCT((WNARRates[BeginDate]<=CustEstRev[[#This Row],[MonthFlow]])*(WNARRates[EndDate]>=CustEstRev[[#This Row],[MonthFlow]])*(WNARRates[Region]=CustEstRev[[#This Row],[Region]])*(WNARRates[CustClass]=CustEstRev[[#This Row],[CustClass]])*(WNARRates[Period]=CustEstRev[[#This Row],[Period]])*WNARRates[AdjCSWNA])","v":1.265E-2},{"$f":"SUMPRODUCT((WNARRates[BeginDate]<=CustEstRev[[#This Row],[MonthFlow]])*(WNARRates[EndDate]>=CustEstRev[[#This Row],[MonthFlow]])*(WNARRates[Region]=CustEstRev[[#This Row],[Region]])*(WNARRates[CustClass]=CustEstRev[[#This Row],[CustClass]])*(WNARRates[Period]=CustEstRev[[#This Row],[Period]])*WNARRates[AdjSRR])","v":-6.0000000000000002E-5},{"$f":"ROUND(CustEstRev[[#This Row],[NormVol]]*CustEstRev[[#This Row],[CSNWARate]],0)","v":3199},{"$f":"ROUND(CustEstRev[[#This Row],[NormVol]]*CustEstRev[[#This Row],[SRRRate]],0)","v":-15},"Calculated revenues from data in CustEstVol table and WNAR Rates table"]
[44409,"S2","62-GRF","SEMO","Res",{"$f":"SUMPRODUCT((CustEstVol[MonthFlow]=CustEstRev[[#This Row],[MonthFlow]])*(CustEstVol[RateSched]=CustEstRev[[#This Row],[RateSched]])*(CustEstVol[CustClass]=CustEstRev[[#This Row],[CustClass]])*CustEstVol[NormVol])","v":252879},{"$f":"SUMPRODUCT((WNARRates[BeginDate]<=CustEstRev[[#This Row],[MonthFlow]])*(WNARRates[EndDate]>=CustEstRev[[#This Row],[MonthFlow]])*(WNARRates[Region]=CustEstRev[[#This Row],[Region]])*(WNARRates[CustClass]=CustEstRev[[#This Row],[CustClass]])*(WNARRates[Period]=CustEstRev[[#This Row],[Period]])*WNARRates[AdjCSWNA])","v":6.96E-3},{"$f":"SUMPRODUCT((WNARRates[BeginDate]<=CustEstRev[[#This Row],[MonthFlow]])*(WNARRates[EndDate]>=CustEstRev[[#This Row],[MonthFlow]])*(WNARRates[Region]=CustEstRev[[#This Row],[Region]])*(WNARRates[CustClass]=CustEstRev[[#This Row],[CustClass]])*(WNARRates[Period]=CustEstRev[[#This Row],[Period]])*WNARRates[AdjSRR])","v":-1.0000000000000001E-5},{"$f":"ROUND(CustEstRev[[#This Row],[NormVol]]*CustEstRev[[#This Row],[CSNWARate]],0)","v":1760},{"$f":"ROUND(CustEstRev[[#This Row],[NormVol]]*CustEstRev[[#This Row],[SRRRate]],0)","v":-3},"Calculated revenues from data in CustEstVol table and WNAR Rates table"]
[44409,"S1","62-GCSF","SEMO","SGS",{"$f":"SUMPRODUCT((CustEstVol[MonthFlow]=CustEstRev[[#This Row],[MonthFlow]])*(CustEstVol[RateSched]=CustEstRev[[#This Row],[RateSched]])*(CustEstVol[CustClass]=CustEstRev[[#This Row],[CustClass]])*CustEstVol[NormVol])","v":88740},{"$f":"SUMPRODUCT((WNARRates[BeginDate]<=CustEstRev[[#This Row],[MonthFlow]])*(WNARRates[EndDate]>=CustEstRev[[#This Row],[MonthFlow]])*(WNARRates[Region]=CustEstRev[[#This Row],[Region]])*(WNARRates[CustClass]=CustEstRev[[#This Row],[CustClass]])*(WNARRates[Period]=CustEstRev[[#This Row],[Period]])*WNARRates[AdjCSWNA])","v":4.3499999999999997E-3},{"$f":"SUMPRODUCT((WNARRates[BeginDate]<=CustEstRev[[#This Row],[MonthFlow]])*(WNARRates[EndDate]>=CustEstRev[[#This Row],[MonthFlow]])*(WNARRates[Region]=CustEstRev[[#This Row],[Region]])*(WNARRates[CustClass]=CustEstRev[[#This Row],[CustClass]])*(WNARRates[Period]=CustEstRev[[#This Row],[Period]])*WNARRates[AdjSRR])","v":-3.8999999999999999E-4},{"$f":"ROUND(CustEstRev[[#This Row],[NormVol]]*CustEstRev[[#This Row],[CSNWARate]],0)","v":386},{"$f":"ROUND(CustEstRev[[#This Row],[NormVol]]*CustEstRev[[#This Row],[SRRRate]],0)","v":-35},"Calculated revenues from data in CustEstVol table and WNAR Rates table"]
[44409,"S2","62-GCSF","SEMO","SGS",{"$f":"SUMPRODUCT((CustEstVol[MonthFlow]=CustEstRev[[#This Row],[MonthFlow]])*(CustEstVol[RateSched]=CustEstRev[[#This Row],[RateSched]])*(CustEstVol[CustClass]=CustEstRev[[#This Row],[CustClass]])*CustEstVol[NormVol])","v":88740},{"$f":"SUMPRODUCT((WNARRates[BeginDate]<=CustEstRev[[#This Row],[MonthFlow]])*(WNARRates[EndDate]>=CustEstRev[[#This Row],[MonthFlow]])*(WNARRates[Region]=CustEstRev[[#This Row],[Region]])*(WNARRates[CustClass]=CustEstRev[[#This Row],[CustClass]])*(WNARRates[Period]=CustEstRev[[#This Row],[Period]])*WNARRates[AdjCSWNA])","v":2.3999999999999998E-3},{"$f":"SUMPRODUCT((WNARRates[BeginDate]<=CustEstRev[[#This Row],[MonthFlow]])*(WNARRates[EndDate]>=CustEstRev[[#This Row],[MonthFlow]])*(WNARRates[Region]=CustEstRev[[#This Row],[Region]])*(WNARRates[CustClass]=CustEstRev[[#This Row],[CustClass]])*(WNARRates[Period]=CustEstRev[[#This Row],[Period]])*WNARRates[AdjSRR])","v":-4.0000000000000003E-5},{"$f":"ROUND(CustEstRev[[#This Row],[NormVol]]*CustEstRev[[#This Row],[CSNWARate]],0)","v":213},{"$f":"ROUND(CustEstRev[[#This Row],[NormVol]]*CustEstRev[[#This Row],[SRRRate]],0)","v":-4},"Calculated revenues from data in CustEstVol table and WNAR Rates table"]
[44409,"S1","61-GRF","WEMO","Res",{"$f":"SUMPRODUCT((CustEstVol[MonthFlow]=CustEstRev[[#This Row],[MonthFlow]])*(CustEstVol[RateSched]=CustEstRev[[#This Row],[RateSched]])*(CustEstVol[CustClass]=CustEstRev[[#This Row],[CustClass]])*CustEstVol[NormVol])","v":24729},{"$f":"SUMPRODUCT((WNARRates[BeginDate]<=CustEstRev[[#This Row],[MonthFlow]])*(WNARRates[EndDate]>=CustEstRev[[#This Row],[MonthFlow]])*(WNARRates[Region]=CustEstRev[[#This Row],[Region]])*(WNARRates[CustClass]=CustEstRev[[#This Row],[CustClass]])*(WNARRates[Period]=CustEstRev[[#This Row],[Period]])*WNARRates[AdjCSWNA])","v":1.208E-2},{"$f":"SUMPRODUCT((WNARRates[BeginDate]<=CustEstRev[[#This Row],[MonthFlow]])*(WNARRates[EndDate]>=CustEstRev[[#This Row],[MonthFlow]])*(WNARRates[Region]=CustEstRev[[#This Row],[Region]])*(WNARRates[CustClass]=CustEstRev[[#This Row],[CustClass]])*(WNARRates[Period]=CustEstRev[[#This Row],[Period]])*WNARRates[AdjSRR])","v":-2E-3},{"$f":"ROUND(CustEstRev[[#This Row],[NormVol]]*CustEstRev[[#This Row],[CSNWARate]],0)","v":299},{"$f":"ROUND(CustEstRev[[#This Row],[NormVol]]*CustEstRev[[#This Row],[SRRRate]],0)","v":-49},"Calculated revenues from data in CustEstVol table and WNAR Rates table"]
[44409,"S2","61-GRF","WEMO","Res",{"$f":"SUMPRODUCT((CustEstVol[MonthFlow]=CustEstRev[[#This Row],[MonthFlow]])*(CustEstVol[RateSched]=CustEstRev[[#This Row],[RateSched]])*(CustEstVol[CustClass]=CustEstRev[[#This Row],[CustClass]])*CustEstVol[NormVol])","v":24729},{"$f":"SUMPRODUCT((WNARRates[BeginDate]<=CustEstRev[[#This Row],[MonthFlow]])*(WNARRates[EndDate]>=CustEstRev[[#This Row],[MonthFlow]])*(WNARRates[Region]=CustEstRev[[#This Row],[Region]])*(WNARRates[CustClass]=CustEstRev[[#This Row],[CustClass]])*(WNARRates[Period]=CustEstRev[[#This Row],[Period]])*WNARRates[AdjCSWNA])","v":-1.2099999999999999E-3},{"$f":"SUMPRODUCT((WNARRates[BeginDate]<=CustEstRev[[#This Row],[MonthFlow]])*(WNARRates[EndDate]>=CustEstRev[[#This Row],[MonthFlow]])*(WNARRates[Region]=CustEstRev[[#This Row],[Region]])*(WNARRates[CustClass]=CustEstRev[[#This Row],[CustClass]])*(WNARRates[Period]=CustEstRev[[#This Row],[Period]])*WNARRates[AdjSRR])","v":8.3000000000000001E-4},{"$f":"ROUND(CustEstRev[[#This Row],[NormVol]]*CustEstRev[[#This Row],[CSNWARate]],0)","v":-30},{"$f":"ROUND(CustEstRev[[#This Row],[NormVol]]*CustEstRev[[#This Row],[SRRRate]],0)","v":21},"Calculated revenues from data in CustEstVol table and WNAR Rates table"]
[44409,"S1","61-GCSF","WEMO","SGS",{"$f":"SUMPRODUCT((CustEstVol[MonthFlow]=CustEstRev[[#This Row],[MonthFlow]])*(CustEstVol[RateSched]=CustEstRev[[#This Row],[RateSched]])*(CustEstVol[CustClass]=CustEstRev[[#This Row],[CustClass]])*CustEstVol[NormVol])","v":10440},{"$f":"SUMPRODUCT((WNARRates[BeginDate]<=CustEstRev[[#This Row],[MonthFlow]])*(WNARRates[EndDate]>=CustEstRev[[#This Row],[MonthFlow]])*(WNARRates[Region]=CustEstRev[[#This Row],[Region]])*(WNARRates[CustClass]=CustEstRev[[#This Row],[CustClass]])*(WNARRates[Period]=CustEstRev[[#This Row],[Period]])*WNARRates[AdjCSWNA])","v":4.8599999999999997E-3},{"$f":"SUMPRODUCT((WNARRates[BeginDate]<=CustEstRev[[#This Row],[MonthFlow]])*(WNARRates[EndDate]>=CustEstRev[[#This Row],[MonthFlow]])*(WNARRates[Region]=CustEstRev[[#This Row],[Region]])*(WNARRates[CustClass]=CustEstRev[[#This Row],[CustClass]])*(WNARRates[Period]=CustEstRev[[#This Row],[Period]])*WNARRates[AdjSRR])","v":-1.4999999999999999E-4},{"$f":"ROUND(CustEstRev[[#This Row],[NormVol]]*CustEstRev[[#This Row],[CSNWARate]],0)","v":51},{"$f":"ROUND(CustEstRev[[#This Row],[NormVol]]*CustEstRev[[#This Row],[SRRRate]],0)","v":-2},"Calculated revenues from data in CustEstVol table and WNAR Rates table"]
[44409,"S2","61-GCSF","WEMO","SGS",{"$f":"SUMPRODUCT((CustEstVol[MonthFlow]=CustEstRev[[#This Row],[MonthFlow]])*(CustEstVol[RateSched]=CustEstRev[[#This Row],[RateSched]])*(CustEstVol[CustClass]=CustEstRev[[#This Row],[CustClass]])*CustEstVol[NormVol])","v":10440},{"$f":"SUMPRODUCT((WNARRates[BeginDate]<=CustEstRev[[#This Row],[MonthFlow]])*(WNARRates[EndDate]>=CustEstRev[[#This Row],[MonthFlow]])*(WNARRates[Region]=CustEstRev[[#This Row],[Region]])*(WNARRates[CustClass]=CustEstRev[[#This Row],[CustClass]])*(WNARRates[Period]=CustEstRev[[#This Row],[Period]])*WNARRates[AdjCSWNA])","v":-4.0999999999999999E-4},{"$f":"SUMPRODUCT((WNARRates[BeginDate]<=CustEstRev[[#This Row],[MonthFlow]])*(WNARRates[EndDate]>=CustEstRev[[#This Row],[MonthFlow]])*(WNARRates[Region]=CustEstRev[[#This Row],[Region]])*(WNARRates[CustClass]=CustEstRev[[#This Row],[CustClass]])*(WNARRates[Period]=CustEstRev[[#This Row],[Period]])*WNARRates[AdjSRR])","v":4.8999999999999998E-4},{"$f":"ROUND(CustEstRev[[#This Row],[NormVol]]*CustEstRev[[#This Row],[CSNWARate]],0)","v":-4},{"$f":"ROUND(CustEstRev[[#This Row],[NormVol]]*CustEstRev[[#This Row],[SRRRate]],0)","v":5},"Calculated revenues from data in CustEstVol table and WNAR Rates table"]
[44440,"S1","63-GRF","NEMO","Res",{"$f":"SUMPRODUCT((CustEstVol[MonthFlow]=CustEstRev[[#This Row],[MonthFlow]])*(CustEstVol[RateSched]=CustEstRev[[#This Row],[RateSched]])*(CustEstVol[CustClass]=CustEstRev[[#This Row],[CustClass]])*CustEstVol[NormVol])","v":196009},{"$f":"SUMPRODUCT((WNARRates[BeginDate]<=CustEstRev[[#This Row],[MonthFlow]])*(WNARRates[EndDate]>=CustEstRev[[#This Row],[MonthFlow]])*(WNARRates[Region]=CustEstRev[[#This Row],[Region]])*(WNARRates[CustClass]=CustEstRev[[#This Row],[CustClass]])*(WNARRates[Period]=CustEstRev[[#This Row],[Period]])*WNARRates[AdjCSWNA])","v":1.208E-2},{"$f":"SUMPRODUCT((WNARRates[BeginDate]<=CustEstRev[[#This Row],[MonthFlow]])*(WNARRates[EndDate]>=CustEstRev[[#This Row],[MonthFlow]])*(WNARRates[Region]=CustEstRev[[#This Row],[Region]])*(WNARRates[CustClass]=CustEstRev[[#This Row],[CustClass]])*(WNARRates[Period]=CustEstRev[[#This Row],[Period]])*WNARRates[AdjSRR])","v":-2E-3},{"$f":"ROUND(CustEstRev[[#This Row],[NormVol]]*CustEstRev[[#This Row],[CSNWARate]],0)","v":2368},{"$f":"ROUND(CustEstRev[[#This Row],[NormVol]]*CustEstRev[[#This Row],[SRRRate]],0)","v":-392},"Calculated revenues from data in CustEstVol table and WNAR Rates table"]
[44440,"S2","63-GRF","NEMO","Res",{"$f":"SUMPRODUCT((CustEstVol[MonthFlow]=CustEstRev[[#This Row],[MonthFlow]])*(CustEstVol[RateSched]=CustEstRev[[#This Row],[RateSched]])*(CustEstVol[CustClass]=CustEstRev[[#This Row],[CustClass]])*CustEstVol[NormVol])","v":196009},{"$f":"SUMPRODUCT((WNARRates[BeginDate]<=CustEstRev[[#This Row],[MonthFlow]])*(WNARRates[EndDate]>=CustEstRev[[#This Row],[MonthFlow]])*(WNARRates[Region]=CustEstRev[[#This Row],[Region]])*(WNARRates[CustClass]=CustEstRev[[#This Row],[CustClass]])*(WNARRates[Period]=CustEstRev[[#This Row],[Period]])*WNARRates[AdjCSWNA])","v":-1.2099999999999999E-3},{"$f":"SUMPRODUCT((WNARRates[BeginDate]<=CustEstRev[[#This Row],[MonthFlow]])*(WNARRates[EndDate]>=CustEstRev[[#This Row],[MonthFlow]])*(WNARRates[Region]=CustEstRev[[#This Row],[Region]])*(WNARRates[CustClass]=CustEstRev[[#This Row],[CustClass]])*(WNARRates[Period]=CustEstRev[[#This Row],[Period]])*WNARRates[AdjSRR])","v":8.3000000000000001E-4},{"$f":"ROUND(CustEstRev[[#This Row],[NormVol]]*CustEstRev[[#This Row],[CSNWARate]],0)","v":-237},{"$f":"ROUND(CustEstRev[[#This Row],[NormVol]]*CustEstRev[[#This Row],[SRRRate]],0)","v":163},"Calculated revenues from data in CustEstVol table and WNAR Rates table"]
[44440,"S1","63-GCSF","NEMO","SGS",{"$f":"SUMPRODUCT((CustEstVol[MonthFlow]=CustEstRev[[#This Row],[MonthFlow]])*(CustEstVol[RateSched]=CustEstRev[[#This Row],[RateSched]])*(CustEstVol[CustClass]=CustEstRev[[#This Row],[CustClass]])*CustEstVol[NormVol])","v":84983},{"$f":"SUMPRODUCT((WNARRates[BeginDate]<=CustEstRev[[#This Row],[MonthFlow]])*(WNARRates[EndDate]>=CustEstRev[[#This Row],[MonthFlow]])*(WNARRates[Region]=CustEstRev[[#This Row],[Region]])*(WNARRates[CustClass]=CustEstRev[[#This Row],[CustClass]])*(WNARRates[Period]=CustEstRev[[#This Row],[Period]])*WNARRates[AdjCSWNA])","v":4.8599999999999997E-3},{"$f":"SUMPRODUCT((WNARRates[BeginDate]<=CustEstRev[[#This Row],[MonthFlow]])*(WNARRates[EndDate]>=CustEstRev[[#This Row],[MonthFlow]])*(WNARRates[Region]=CustEstRev[[#This Row],[Region]])*(WNARRates[CustClass]=CustEstRev[[#This Row],[CustClass]])*(WNARRates[Period]=CustEstRev[[#This Row],[Period]])*WNARRates[AdjSRR])","v":-1.4999999999999999E-4},{"$f":"ROUND(CustEstRev[[#This Row],[NormVol]]*CustEstRev[[#This Row],[CSNWARate]],0)","v":413},{"$f":"ROUND(CustEstRev[[#This Row],[NormVol]]*CustEstRev[[#This Row],[SRRRate]],0)","v":-13},"Calculated revenues from data in CustEstVol table and WNAR Rates table"]
[44440,"S2","63-GCSF","NEMO","SGS",{"$f":"SUMPRODUCT((CustEstVol[MonthFlow]=CustEstRev[[#This Row],[MonthFlow]])*(CustEstVol[RateSched]=CustEstRev[[#This Row],[RateSched]])*(CustEstVol[CustClass]=CustEstRev[[#This Row],[CustClass]])*CustEstVol[NormVol])","v":84983},{"$f":"SUMPRODUCT((WNARRates[BeginDate]<=CustEstRev[[#This Row],[MonthFlow]])*(WNARRates[EndDate]>=CustEstRev[[#This Row],[MonthFlow]])*(WNARRates[Region]=CustEstRev[[#This Row],[Region]])*(WNARRates[CustClass]=CustEstRev[[#This Row],[CustClass]])*(WNARRates[Period]=CustEstRev[[#This Row],[Period]])*WNARRates[AdjCSWNA])","v":-4.0999999999999999E-4},{"$f":"SUMPRODUCT((WNARRates[BeginDate]<=CustEstRev[[#This Row],[MonthFlow]])*(WNARRates[EndDate]>=CustEstRev[[#This Row],[MonthFlow]])*(WNARRates[Region]=CustEstRev[[#This Row],[Region]])*(WNARRates[CustClass]=CustEstRev[[#This Row],[CustClass]])*(WNARRates[Period]=CustEstRev[[#This Row],[Period]])*WNARRates[AdjSRR])","v":4.8999999999999998E-4},{"$f":"ROUND(CustEstRev[[#This Row],[NormVol]]*CustEstRev[[#This Row],[CSNWARate]],0)","v":-35},{"$f":"ROUND(CustEstRev[[#This Row],[NormVol]]*CustEstRev[[#This Row],[SRRRate]],0)","v":42},"Calculated revenues from data in CustEstVol table and WNAR Rates table"]
[44440,"S1","62-GRF","SEMO","Res",{"$f":"SUMPRODUCT((CustEstVol[MonthFlow]=CustEstRev[[#This Row],[MonthFlow]])*(CustEstVol[RateSched]=CustEstRev[[#This Row],[RateSched]])*(CustEstVol[CustClass]=CustEstRev[[#This Row],[CustClass]])*CustEstVol[NormVol])","v":323033},{"$f":"SUMPRODUCT((WNARRates[BeginDate]<=CustEstRev[[#This Row],[MonthFlow]])*(WNARRates[EndDate]>=CustEstRev[[#This Row],[MonthFlow]])*(WNARRates[Region]=CustEstRev[[#This Row],[Region]])*(WNARRates[CustClass]=CustEstRev[[#This Row],[CustClass]])*(WNARRates[Period]=CustEstRev[[#This Row],[Period]])*WNARRates[AdjCSWNA])","v":1.265E-2},{"$f":"SUMPRODUCT((WNARRates[BeginDate]<=CustEstRev[[#This Row],[MonthFlow]])*(WNARRates[EndDate]>=CustEstRev[[#This Row],[MonthFlow]])*(WNARRates[Region]=CustEstRev[[#This Row],[Region]])*(WNARRates[CustClass]=CustEstRev[[#This Row],[CustClass]])*(WNARRates[Period]=CustEstRev[[#This Row],[Period]])*WNARRates[AdjSRR])","v":-6.0000000000000002E-5},{"$f":"ROUND(CustEstRev[[#This Row],[NormVol]]*CustEstRev[[#This Row],[CSNWARate]],0)","v":4086},{"$f":"ROUND(CustEstRev[[#This Row],[NormVol]]*CustEstRev[[#This Row],[SRRRate]],0)","v":-19},"Calculated revenues from data in CustEstVol table and WNAR Rates table"]
[44440,"S2","62-GRF","SEMO","Res",{"$f":"SUMPRODUCT((CustEstVol[MonthFlow]=CustEstRev[[#This Row],[MonthFlow]])*(CustEstVol[RateSched]=CustEstRev[[#This Row],[RateSched]])*(CustEstVol[CustClass]=CustEstRev[[#This Row],[CustClass]])*CustEstVol[NormVol])","v":323033},{"$f":"SUMPRODUCT((WNARRates[BeginDate]<=CustEstRev[[#This Row],[MonthFlow]])*(WNARRates[EndDate]>=CustEstRev[[#This Row],[MonthFlow]])*(WNARRates[Region]=CustEstRev[[#This Row],[Region]])*(WNARRates[CustClass]=CustEstRev[[#This Row],[CustClass]])*(WNARRates[Period]=CustEstRev[[#This Row],[Period]])*WNARRates[AdjCSWNA])","v":6.96E-3},{"$f":"SUMPRODUCT((WNARRates[BeginDate]<=CustEstRev[[#This Row],[MonthFlow]])*(WNARRates[EndDate]>=CustEstRev[[#This Row],[MonthFlow]])*(WNARRates[Region]=CustEstRev[[#This Row],[Region]])*(WNARRates[CustClass]=CustEstRev[[#This Row],[CustClass]])*(WNARRates[Period]=CustEstRev[[#This Row],[Period]])*WNARRates[AdjSRR])","v":-1.0000000000000001E-5},{"$f":"ROUND(CustEstRev[[#This Row],[NormVol]]*CustEstRev[[#This Row],[CSNWARate]],0)","v":2248},{"$f":"ROUND(CustEstRev[[#This Row],[NormVol]]*CustEstRev[[#This Row],[SRRRate]],0)","v":-3},"Calculated revenues from data in CustEstVol table and WNAR Rates table"]
[44440,"S1","62-GCSF","SEMO","SGS",{"$f":"SUMPRODUCT((CustEstVol[MonthFlow]=CustEstRev[[#This Row],[MonthFlow]])*(CustEstVol[RateSched]=CustEstRev[[#This Row],[RateSched]])*(CustEstVol[CustClass]=CustEstRev[[#This Row],[CustClass]])*CustEstVol[NormVol])","v":104378},{"$f":"SUMPRODUCT((WNARRates[BeginDate]<=CustEstRev[[#This Row],[MonthFlow]])*(WNARRates[EndDate]>=CustEstRev[[#This Row],[MonthFlow]])*(WNARRates[Region]=CustEstRev[[#This Row],[Region]])*(WNARRates[CustClass]=CustEstRev[[#This Row],[CustClass]])*(WNARRates[Period]=CustEstRev[[#This Row],[Period]])*WNARRates[AdjCSWNA])","v":4.3499999999999997E-3},{"$f":"SUMPRODUCT((WNARRates[BeginDate]<=CustEstRev[[#This Row],[MonthFlow]])*(WNARRates[EndDate]>=CustEstRev[[#This Row],[MonthFlow]])*(WNARRates[Region]=CustEstRev[[#This Row],[Region]])*(WNARRates[CustClass]=CustEstRev[[#This Row],[CustClass]])*(WNARRates[Period]=CustEstRev[[#This Row],[Period]])*WNARRates[AdjSRR])","v":-3.8999999999999999E-4},{"$f":"ROUND(CustEstRev[[#This Row],[NormVol]]*CustEstRev[[#This Row],[CSNWARate]],0)","v":454},{"$f":"ROUND(CustEstRev[[#This Row],[NormVol]]*CustEstRev[[#This Row],[SRRRate]],0)","v":-41},"Calculated revenues from data in CustEstVol table and WNAR Rates table"]
[44440,"S2","62-GCSF","SEMO","SGS",{"$f":"SUMPRODUCT((CustEstVol[MonthFlow]=CustEstRev[[#This Row],[MonthFlow]])*(CustEstVol[RateSched]=CustEstRev[[#This Row],[RateSched]])*(CustEstVol[CustClass]=CustEstRev[[#This Row],[CustClass]])*CustEstVol[NormVol])","v":104378},{"$f":"SUMPRODUCT((WNARRates[BeginDate]<=CustEstRev[[#This Row],[MonthFlow]])*(WNARRates[EndDate]>=CustEstRev[[#This Row],[MonthFlow]])*(WNARRates[Region]=CustEstRev[[#This Row],[Region]])*(WNARRates[CustClass]=CustEstRev[[#This Row],[CustClass]])*(WNARRates[Period]=CustEstRev[[#This Row],[Period]])*WNARRates[AdjCSWNA])","v":2.3999999999999998E-3},{"$f":"SUMPRODUCT((WNARRates[BeginDate]<=CustEstRev[[#This Row],[MonthFlow]])*(WNARRates[EndDate]>=CustEstRev[[#This Row],[MonthFlow]])*(WNARRates[Region]=CustEstRev[[#This Row],[Region]])*(WNARRates[CustClass]=CustEstRev[[#This Row],[CustClass]])*(WNARRates[Period]=CustEstRev[[#This Row],[Period]])*WNARRates[AdjSRR])","v":-4.0000000000000003E-5},{"$f":"ROUND(CustEstRev[[#This Row],[NormVol]]*CustEstRev[[#This Row],[CSNWARate]],0)","v":251},{"$f":"ROUND(CustEstRev[[#This Row],[NormVol]]*CustEstRev[[#This Row],[SRRRate]],0)","v":-4},"Calculated revenues from data in CustEstVol table and WNAR Rates table"]
[44440,"S1","61-GRF","WEMO","Res",{"$f":"SUMPRODUCT((CustEstVol[MonthFlow]=CustEstRev[[#This Row],[MonthFlow]])*(CustEstVol[RateSched]=CustEstRev[[#This Row],[RateSched]])*(CustEstVol[CustClass]=CustEstRev[[#This Row],[CustClass]])*CustEstVol[NormVol])","v":35936},{"$f":"SUMPRODUCT((WNARRates[BeginDate]<=CustEstRev[[#This Row],[MonthFlow]])*(WNARRates[EndDate]>=CustEstRev[[#This Row],[MonthFlow]])*(WNARRates[Region]=CustEstRev[[#This Row],[Region]])*(WNARRates[CustClass]=CustEstRev[[#This Row],[CustClass]])*(WNARRates[Period]=CustEstRev[[#This Row],[Period]])*WNARRates[AdjCSWNA])","v":1.208E-2},{"$f":"SUMPRODUCT((WNARRates[BeginDate]<=CustEstRev[[#This Row],[MonthFlow]])*(WNARRates[EndDate]>=CustEstRev[[#This Row],[MonthFlow]])*(WNARRates[Region]=CustEstRev[[#This Row],[Region]])*(WNARRates[CustClass]=CustEstRev[[#This Row],[CustClass]])*(WNARRates[Period]=CustEstRev[[#This Row],[Period]])*WNARRates[AdjSRR])","v":-2E-3},{"$f":"ROUND(CustEstRev[[#This Row],[NormVol]]*CustEstRev[[#This Row],[CSNWARate]],0)","v":434},{"$f":"ROUND(CustEstRev[[#This Row],[NormVol]]*CustEstRev[[#This Row],[SRRRate]],0)","v":-72},"Calculated revenues from data in CustEstVol table and WNAR Rates table"]
[44440,"S2","61-GRF","WEMO","Res",{"$f":"SUMPRODUCT((CustEstVol[MonthFlow]=CustEstRev[[#This Row],[MonthFlow]])*(CustEstVol[RateSched]=CustEstRev[[#This Row],[RateSched]])*(CustEstVol[CustClass]=CustEstRev[[#This Row],[CustClass]])*CustEstVol[NormVol])","v":35936},{"$f":"SUMPRODUCT((WNARRates[BeginDate]<=CustEstRev[[#This Row],[MonthFlow]])*(WNARRates[EndDate]>=CustEstRev[[#This Row],[MonthFlow]])*(WNARRates[Region]=CustEstRev[[#This Row],[Region]])*(WNARRates[CustClass]=CustEstRev[[#This Row],[CustClass]])*(WNARRates[Period]=CustEstRev[[#This Row],[Period]])*WNARRates[AdjCSWNA])","v":-1.2099999999999999E-3},{"$f":"SUMPRODUCT((WNARRates[BeginDate]<=CustEstRev[[#This Row],[MonthFlow]])*(WNARRates[EndDate]>=CustEstRev[[#This Row],[MonthFlow]])*(WNARRates[Region]=CustEstRev[[#This Row],[Region]])*(WNARRates[CustClass]=CustEstRev[[#This Row],[CustClass]])*(WNARRates[Period]=CustEstRev[[#This Row],[Period]])*WNARRates[AdjSRR])","v":8.3000000000000001E-4},{"$f":"ROUND(CustEstRev[[#This Row],[NormVol]]*CustEstRev[[#This Row],[CSNWARate]],0)","v":-43},{"$f":"ROUND(CustEstRev[[#This Row],[NormVol]]*CustEstRev[[#This Row],[SRRRate]],0)","v":30},"Calculated revenues from data in CustEstVol table and WNAR Rates table"]
[44440,"S1","61-GCSF","WEMO","SGS",{"$f":"SUMPRODUCT((CustEstVol[MonthFlow]=CustEstRev[[#This Row],[MonthFlow]])*(CustEstVol[RateSched]=CustEstRev[[#This Row],[RateSched]])*(CustEstVol[CustClass]=CustEstRev[[#This Row],[CustClass]])*CustEstVol[NormVol])","v":14354},{"$f":"SUMPRODUCT((WNARRates[BeginDate]<=CustEstRev[[#This Row],[MonthFlow]])*(WNARRates[EndDate]>=CustEstRev[[#This Row],[MonthFlow]])*(WNARRates[Region]=CustEstRev[[#This Row],[Region]])*(WNARRates[CustClass]=CustEstRev[[#This Row],[CustClass]])*(WNARRates[Period]=CustEstRev[[#This Row],[Period]])*WNARRates[AdjCSWNA])","v":4.8599999999999997E-3},{"$f":"SUMPRODUCT((WNARRates[BeginDate]<=CustEstRev[[#This Row],[MonthFlow]])*(WNARRates[EndDate]>=CustEstRev[[#This Row],[MonthFlow]])*(WNARRates[Region]=CustEstRev[[#This Row],[Region]])*(WNARRates[CustClass]=CustEstRev[[#This Row],[CustClass]])*(WNARRates[Period]=CustEstRev[[#This Row],[Period]])*WNARRates[AdjSRR])","v":-1.4999999999999999E-4},{"$f":"ROUND(CustEstRev[[#This Row],[NormVol]]*CustEstRev[[#This Row],[CSNWARate]],0)","v":70},{"$f":"ROUND(CustEstRev[[#This Row],[NormVol]]*CustEstRev[[#This Row],[SRRRate]],0)","v":-2},"Calculated revenues from data in CustEstVol table and WNAR Rates table"]
[44440,"S2","61-GCSF","WEMO","SGS",{"$f":"SUMPRODUCT((CustEstVol[MonthFlow]=CustEstRev[[#This Row],[MonthFlow]])*(CustEstVol[RateSched]=CustEstRev[[#This Row],[RateSched]])*(CustEstVol[CustClass]=CustEstRev[[#This Row],[CustClass]])*CustEstVol[NormVol])","v":14354},{"$f":"SUMPRODUCT((WNARRates[BeginDate]<=CustEstRev[[#This Row],[MonthFlow]])*(WNARRates[EndDate]>=CustEstRev[[#This Row],[MonthFlow]])*(WNARRates[Region]=CustEstRev[[#This Row],[Region]])*(WNARRates[CustClass]=CustEstRev[[#This Row],[CustClass]])*(WNARRates[Period]=CustEstRev[[#This Row],[Period]])*WNARRates[AdjCSWNA])","v":-4.0999999999999999E-4},{"$f":"SUMPRODUCT((WNARRates[BeginDate]<=CustEstRev[[#This Row],[MonthFlow]])*(WNARRates[EndDate]>=CustEstRev[[#This Row],[MonthFlow]])*(WNARRates[Region]=CustEstRev[[#This Row],[Region]])*(WNARRates[CustClass]=CustEstRev[[#This Row],[CustClass]])*(WNARRates[Period]=CustEstRev[[#This Row],[Period]])*WNARRates[AdjSRR])","v":4.8999999999999998E-4},{"$f":"ROUND(CustEstRev[[#This Row],[NormVol]]*CustEstRev[[#This Row],[CSNWARate]],0)","v":-6},{"$f":"ROUND(CustEstRev[[#This Row],[NormVol]]*CustEstRev[[#This Row],[SRRRate]],0)","v":7},"Calculated revenues from data in CustEstVol table and WNAR Rates table"]
[44470,"S1","63-GRF","NEMO","Res",{"$f":"SUMPRODUCT((CustEstVol[MonthFlow]=CustEstRev[[#This Row],[MonthFlow]])*(CustEstVol[RateSched]=CustEstRev[[#This Row],[RateSched]])*(CustEstVol[CustClass]=CustEstRev[[#This Row],[CustClass]])*CustEstVol[NormVol])","v":301723},{"$f":"SUMPRODUCT((WNARRates[BeginDate]<=CustEstRev[[#This Row],[MonthFlow]])*(WNARRates[EndDate]>=CustEstRev[[#This Row],[MonthFlow]])*(WNARRates[Region]=CustEstRev[[#This Row],[Region]])*(WNARRates[CustClass]=CustEstRev[[#This Row],[CustClass]])*(WNARRates[Period]=CustEstRev[[#This Row],[Period]])*WNARRates[AdjCSWNA])","v":1.208E-2},{"$f":"SUMPRODUCT((WNARRates[BeginDate]<=CustEstRev[[#This Row],[MonthFlow]])*(WNARRates[EndDate]>=CustEstRev[[#This Row],[MonthFlow]])*(WNARRates[Region]=CustEstRev[[#This Row],[Region]])*(WNARRates[CustClass]=CustEstRev[[#This Row],[CustClass]])*(WNARRates[Period]=CustEstRev[[#This Row],[Period]])*WNARRates[AdjSRR])","v":-2E-3},{"$f":"ROUND(CustEstRev[[#This Row],[NormVol]]*CustEstRev[[#This Row],[CSNWARate]],0)","v":3645},{"$f":"ROUND(CustEstRev[[#This Row],[NormVol]]*CustEstRev[[#This Row],[SRRRate]],0)","v":-603},"Calculated revenues from data in CustEstVol table and WNAR Rates table"]
[44470,"S2","63-GRF","NEMO","Res",{"$f":"SUMPRODUCT((CustEstVol[MonthFlow]=CustEstRev[[#This Row],[MonthFlow]])*(CustEstVol[RateSched]=CustEstRev[[#This Row],[RateSched]])*(CustEstVol[CustClass]=CustEstRev[[#This Row],[CustClass]])*CustEstVol[NormVol])","v":301723},{"$f":"SUMPRODUCT((WNARRates[BeginDate]<=CustEstRev[[#This Row],[MonthFlow]])*(WNARRates[EndDate]>=CustEstRev[[#This Row],[MonthFlow]])*(WNARRates[Region]=CustEstRev[[#This Row],[Region]])*(WNARRates[CustClass]=CustEstRev[[#This Row],[CustClass]])*(WNARRates[Period]=CustEstRev[[#This Row],[Period]])*WNARRates[AdjCSWNA])","v":-1.357E-2},{"$f":"SUMPRODUCT((WNARRates[BeginDate]<=CustEstRev[[#This Row],[MonthFlow]])*(WNARRates[EndDate]>=CustEstRev[[#This Row],[MonthFlow]])*(WNARRates[Region]=CustEstRev[[#This Row],[Region]])*(WNARRates[CustClass]=CustEstRev[[#This Row],[CustClass]])*(WNARRates[Period]=CustEstRev[[#This Row],[Period]])*WNARRates[AdjSRR])","v":2.7999999999999998E-4},{"$f":"ROUND(CustEstRev[[#This Row],[NormVol]]*CustEstRev[[#This Row],[CSNWARate]],0)","v":-4094},{"$f":"ROUND(CustEstRev[[#This Row],[NormVol]]*CustEstRev[[#This Row],[SRRRate]],0)","v":84},"Calculated revenues from data in CustEstVol table and WNAR Rates table"]
[44470,"S1","63-GCSF","NEMO","SGS",{"$f":"SUMPRODUCT((CustEstVol[MonthFlow]=CustEstRev[[#This Row],[MonthFlow]])*(CustEstVol[RateSched]=CustEstRev[[#This Row],[RateSched]])*(CustEstVol[CustClass]=CustEstRev[[#This Row],[CustClass]])*CustEstVol[NormVol])","v":117543},{"$f":"SUMPRODUCT((WNARRates[BeginDate]<=CustEstRev[[#This Row],[MonthFlow]])*(WNARRates[EndDate]>=CustEstRev[[#This Row],[MonthFlow]])*(WNARRates[Region]=CustEstRev[[#This Row],[Region]])*(WNARRates[CustClass]=CustEstRev[[#This Row],[CustClass]])*(WNARRates[Period]=CustEstRev[[#This Row],[Period]])*WNARRates[AdjCSWNA])","v":4.8599999999999997E-3},{"$f":"SUMPRODUCT((WNARRates[BeginDate]<=CustEstRev[[#This Row],[MonthFlow]])*(WNARRates[EndDate]>=CustEstRev[[#This Row],[MonthFlow]])*(WNARRates[Region]=CustEstRev[[#This Row],[Region]])*(WNARRates[CustClass]=CustEstRev[[#This Row],[CustClass]])*(WNARRates[Period]=CustEstRev[[#This Row],[Period]])*WNARRates[AdjSRR])","v":-1.4999999999999999E-4},{"$f":"ROUND(CustEstRev[[#This Row],[NormVol]]*CustEstRev[[#This Row],[CSNWARate]],0)","v":571},{"$f":"ROUND(CustEstRev[[#This Row],[NormVol]]*CustEstRev[[#This Row],[SRRRate]],0)","v":-18},"Calculated revenues from data in CustEstVol table and WNAR Rates table"]
[44470,"S2","63-GCSF","NEMO","SGS",{"$f":"SUMPRODUCT((CustEstVol[MonthFlow]=CustEstRev[[#This Row],[MonthFlow]])*(CustEstVol[RateSched]=CustEstRev[[#This Row],[RateSched]])*(CustEstVol[CustClass]=CustEstRev[[#This Row],[CustClass]])*CustEstVol[NormVol])","v":117543},{"$f":"SUMPRODUCT((WNARRates[BeginDate]<=CustEstRev[[#This Row],[MonthFlow]])*(WNARRates[EndDate]>=CustEstRev[[#This Row],[MonthFlow]])*(WNARRates[Region]=CustEstRev[[#This Row],[Region]])*(WNARRates[CustClass]=CustEstRev[[#This Row],[CustClass]])*(WNARRates[Period]=CustEstRev[[#This Row],[Period]])*WNARRates[AdjCSWNA])","v":-5.5799999999999999E-3},{"$f":"SUMPRODUCT((WNARRates[BeginDate]<=CustEstRev[[#This Row],[MonthFlow]])*(WNARRates[EndDate]>=CustEstRev[[#This Row],[MonthFlow]])*(WNARRates[Region]=CustEstRev[[#This Row],[Region]])*(WNARRates[CustClass]=CustEstRev[[#This Row],[CustClass]])*(WNARRates[Period]=CustEstRev[[#This Row],[Period]])*WNARRates[AdjSRR])","v":1.9000000000000001E-4},{"$f":"ROUND(CustEstRev[[#This Row],[NormVol]]*CustEstRev[[#This Row],[CSNWARate]],0)","v":-656},{"$f":"ROUND(CustEstRev[[#This Row],[NormVol]]*CustEstRev[[#This Row],[SRRRate]],0)","v":22},"Calculated revenues from data in CustEstVol table and WNAR Rates table"]
[44470,"S1","62-GRF","SEMO","Res",{"$f":"SUMPRODUCT((CustEstVol[MonthFlow]=CustEstRev[[#This Row],[MonthFlow]])*(CustEstVol[RateSched]=CustEstRev[[#This Row],[RateSched]])*(CustEstVol[CustClass]=CustEstRev[[#This Row],[CustClass]])*CustEstVol[NormVol])","v":369606},{"$f":"SUMPRODUCT((WNARRates[BeginDate]<=CustEstRev[[#This Row],[MonthFlow]])*(WNARRates[EndDate]>=CustEstRev[[#This Row],[MonthFlow]])*(WNARRates[Region]=CustEstRev[[#This Row],[Region]])*(WNARRates[CustClass]=CustEstRev[[#This Row],[CustClass]])*(WNARRates[Period]=CustEstRev[[#This Row],[Period]])*WNARRates[AdjCSWNA])","v":1.265E-2},{"$f":"SUMPRODUCT((WNARRates[BeginDate]<=CustEstRev[[#This Row],[MonthFlow]])*(WNARRates[EndDate]>=CustEstRev[[#This Row],[MonthFlow]])*(WNARRates[Region]=CustEstRev[[#This Row],[Region]])*(WNARRates[CustClass]=CustEstRev[[#This Row],[CustClass]])*(WNARRates[Period]=CustEstRev[[#This Row],[Period]])*WNARRates[AdjSRR])","v":-6.0000000000000002E-5},{"$f":"ROUND(CustEstRev[[#This Row],[NormVol]]*CustEstRev[[#This Row],[CSNWARate]],0)","v":4676},{"$f":"ROUND(CustEstRev[[#This Row],[NormVol]]*CustEstRev[[#This Row],[SRRRate]],0)","v":-22},"Calculated revenues from data in CustEstVol table and WNAR Rates table"]
[44470,"S2","62-GRF","SEMO","Res",{"$f":"SUMPRODUCT((CustEstVol[MonthFlow]=CustEstRev[[#This Row],[MonthFlow]])*(CustEstVol[RateSched]=CustEstRev[[#This Row],[RateSched]])*(CustEstVol[CustClass]=CustEstRev[[#This Row],[CustClass]])*CustEstVol[NormVol])","v":369606},{"$f":"SUMPRODUCT((WNARRates[BeginDate]<=CustEstRev[[#This Row],[MonthFlow]])*(WNARRates[EndDate]>=CustEstRev[[#This Row],[MonthFlow]])*(WNARRates[Region]=CustEstRev[[#This Row],[Region]])*(WNARRates[CustClass]=CustEstRev[[#This Row],[CustClass]])*(WNARRates[Period]=CustEstRev[[#This Row],[Period]])*WNARRates[AdjCSWNA])","v":-3.3E-3},{"$f":"SUMPRODUCT((WNARRates[BeginDate]<=CustEstRev[[#This Row],[MonthFlow]])*(WNARRates[EndDate]>=CustEstRev[[#This Row],[MonthFlow]])*(WNARRates[Region]=CustEstRev[[#This Row],[Region]])*(WNARRates[CustClass]=CustEstRev[[#This Row],[CustClass]])*(WNARRates[Period]=CustEstRev[[#This Row],[Period]])*WNARRates[AdjSRR])","v":-4.0000000000000002E-4},{"$f":"ROUND(CustEstRev[[#This Row],[NormVol]]*CustEstRev[[#This Row],[CSNWARate]],0)","v":-1220},{"$f":"ROUND(CustEstRev[[#This Row],[NormVol]]*CustEstRev[[#This Row],[SRRRate]],0)","v":-148},"Calculated revenues from data in CustEstVol table and WNAR Rates table"]
[44470,"S1","62-GCSF","SEMO","SGS",{"$f":"SUMPRODUCT((CustEstVol[MonthFlow]=CustEstRev[[#This Row],[MonthFlow]])*(CustEstVol[RateSched]=CustEstRev[[#This Row],[RateSched]])*(CustEstVol[CustClass]=CustEstRev[[#This Row],[CustClass]])*CustEstVol[NormVol])","v":112937},{"$f":"SUMPRODUCT((WNARRates[BeginDate]<=CustEstRev[[#This Row],[MonthFlow]])*(WNARRates[EndDate]>=CustEstRev[[#This Row],[MonthFlow]])*(WNARRates[Region]=CustEstRev[[#This Row],[Region]])*(WNARRates[CustClass]=CustEstRev[[#This Row],[CustClass]])*(WNARRates[Period]=CustEstRev[[#This Row],[Period]])*WNARRates[AdjCSWNA])","v":4.3499999999999997E-3},{"$f":"SUMPRODUCT((WNARRates[BeginDate]<=CustEstRev[[#This Row],[MonthFlow]])*(WNARRates[EndDate]>=CustEstRev[[#This Row],[MonthFlow]])*(WNARRates[Region]=CustEstRev[[#This Row],[Region]])*(WNARRates[CustClass]=CustEstRev[[#This Row],[CustClass]])*(WNARRates[Period]=CustEstRev[[#This Row],[Period]])*WNARRates[AdjSRR])","v":-3.8999999999999999E-4},{"$f":"ROUND(CustEstRev[[#This Row],[NormVol]]*CustEstRev[[#This Row],[CSNWARate]],0)","v":491},{"$f":"ROUND(CustEstRev[[#This Row],[NormVol]]*CustEstRev[[#This Row],[SRRRate]],0)","v":-44},"Calculated revenues from data in CustEstVol table and WNAR Rates table"]
[44470,"S2","62-GCSF","SEMO","SGS",{"$f":"SUMPRODUCT((CustEstVol[MonthFlow]=CustEstRev[[#This Row],[MonthFlow]])*(CustEstVol[RateSched]=CustEstRev[[#This Row],[RateSched]])*(CustEstVol[CustClass]=CustEstRev[[#This Row],[CustClass]])*CustEstVol[NormVol])","v":112937},{"$f":"SUMPRODUCT((WNARRates[BeginDate]<=CustEstRev[[#This Row],[MonthFlow]])*(WNARRates[EndDate]>=CustEstRev[[#This Row],[MonthFlow]])*(WNARRates[Region]=CustEstRev[[#This Row],[Region]])*(WNARRates[CustClass]=CustEstRev[[#This Row],[CustClass]])*(WNARRates[Period]=CustEstRev[[#This Row],[Period]])*WNARRates[AdjCSWNA])","v":-1.1100000000000001E-3},{"$f":"SUMPRODUCT((WNARRates[BeginDate]<=CustEstRev[[#This Row],[MonthFlow]])*(WNARRates[EndDate]>=CustEstRev[[#This Row],[MonthFlow]])*(WNARRates[Region]=CustEstRev[[#This Row],[Region]])*(WNARRates[CustClass]=CustEstRev[[#This Row],[CustClass]])*(WNARRates[Period]=CustEstRev[[#This Row],[Period]])*WNARRates[AdjSRR])","v":-3.2000000000000003E-4},{"$f":"ROUND(CustEstRev[[#This Row],[NormVol]]*CustEstRev[[#This Row],[CSNWARate]],0)","v":-125},{"$f":"ROUND(CustEstRev[[#This Row],[NormVol]]*CustEstRev[[#This Row],[SRRRate]],0)","v":-36},"Calculated revenues from data in CustEstVol table and WNAR Rates table"]
[44470,"S1","61-GRF","WEMO","Res",{"$f":"SUMPRODUCT((CustEstVol[MonthFlow]=CustEstRev[[#This Row],[MonthFlow]])*(CustEstVol[RateSched]=CustEstRev[[#This Row],[RateSched]])*(CustEstVol[CustClass]=CustEstRev[[#This Row],[CustClass]])*CustEstVol[NormVol])","v":52269},{"$f":"SUMPRODUCT((WNARRates[BeginDate]<=CustEstRev[[#This Row],[MonthFlow]])*(WNARRates[EndDate]>=CustEstRev[[#This Row],[MonthFlow]])*(WNARRates[Region]=CustEstRev[[#This Row],[Region]])*(WNARRates[CustClass]=CustEstRev[[#This Row],[CustClass]])*(WNARRates[Period]=CustEstRev[[#This Row],[Period]])*WNARRates[AdjCSWNA])","v":1.208E-2},{"$f":"SUMPRODUCT((WNARRates[BeginDate]<=CustEstRev[[#This Row],[MonthFlow]])*(WNARRates[EndDate]>=CustEstRev[[#This Row],[MonthFlow]])*(WNARRates[Region]=CustEstRev[[#This Row],[Region]])*(WNARRates[CustClass]=CustEstRev[[#This Row],[CustClass]])*(WNARRates[Period]=CustEstRev[[#This Row],[Period]])*WNARRates[AdjSRR])","v":-2E-3},{"$f":"ROUND(CustEstRev[[#This Row],[NormVol]]*CustEstRev[[#This Row],[CSNWARate]],0)","v":631},{"$f":"ROUND(CustEstRev[[#This Row],[NormVol]]*CustEstRev[[#This Row],[SRRRate]],0)","v":-105},"Calculated revenues from data in CustEstVol table and WNAR Rates table"]
[44470,"S2","61-GRF","WEMO","Res",{"$f":"SUMPRODUCT((CustEstVol[MonthFlow]=CustEstRev[[#This Row],[MonthFlow]])*(CustEstVol[RateSched]=CustEstRev[[#This Row],[RateSched]])*(CustEstVol[CustClass]=CustEstRev[[#This Row],[CustClass]])*CustEstVol[NormVol])","v":52269},{"$f":"SUMPRODUCT((WNARRates[BeginDate]<=CustEstRev[[#This Row],[MonthFlow]])*(WNARRates[EndDate]>=CustEstRev[[#This Row],[MonthFlow]])*(WNARRates[Region]=CustEstRev[[#This Row],[Region]])*(WNARRates[CustClass]=CustEstRev[[#This Row],[CustClass]])*(WNARRates[Period]=CustEstRev[[#This Row],[Period]])*WNARRates[AdjCSWNA])","v":-1.357E-2},{"$f":"SUMPRODUCT((WNARRates[BeginDate]<=CustEstRev[[#This Row],[MonthFlow]])*(WNARRates[EndDate]>=CustEstRev[[#This Row],[MonthFlow]])*(WNARRates[Region]=CustEstRev[[#This Row],[Region]])*(WNARRates[CustClass]=CustEstRev[[#This Row],[CustClass]])*(WNARRates[Period]=CustEstRev[[#This Row],[Period]])*WNARRates[AdjSRR])","v":2.7999999999999998E-4},{"$f":"ROUND(CustEstRev[[#This Row],[NormVol]]*CustEstRev[[#This Row],[CSNWARate]],0)","v":-709},{"$f":"ROUND(CustEstRev[[#This Row],[NormVol]]*CustEstRev[[#This Row],[SRRRate]],0)","v":15},"Calculated revenues from data in CustEstVol table and WNAR Rates table"]
[44470,"S1","61-GCSF","WEMO","SGS",{"$f":"SUMPRODUCT((CustEstVol[MonthFlow]=CustEstRev[[#This Row],[MonthFlow]])*(CustEstVol[RateSched]=CustEstRev[[#This Row],[RateSched]])*(CustEstVol[CustClass]=CustEstRev[[#This Row],[CustClass]])*CustEstVol[NormVol])","v":18627},{"$f":"SUMPRODUCT((WNARRates[BeginDate]<=CustEstRev[[#This Row],[MonthFlow]])*(WNARRates[EndDate]>=CustEstRev[[#This Row],[MonthFlow]])*(WNARRates[Region]=CustEstRev[[#This Row],[Region]])*(WNARRates[CustClass]=CustEstRev[[#This Row],[CustClass]])*(WNARRates[Period]=CustEstRev[[#This Row],[Period]])*WNARRates[AdjCSWNA])","v":4.8599999999999997E-3},{"$f":"SUMPRODUCT((WNARRates[BeginDate]<=CustEstRev[[#This Row],[MonthFlow]])*(WNARRates[EndDate]>=CustEstRev[[#This Row],[MonthFlow]])*(WNARRates[Region]=CustEstRev[[#This Row],[Region]])*(WNARRates[CustClass]=CustEstRev[[#This Row],[CustClass]])*(WNARRates[Period]=CustEstRev[[#This Row],[Period]])*WNARRates[AdjSRR])","v":-1.4999999999999999E-4},{"$f":"ROUND(CustEstRev[[#This Row],[NormVol]]*CustEstRev[[#This Row],[CSNWARate]],0)","v":91},{"$f":"ROUND(CustEstRev[[#This Row],[NormVol]]*CustEstRev[[#This Row],[SRRRate]],0)","v":-3},"Calculated revenues from data in CustEstVol table and WNAR Rates table"]
[44470,"S2","61-GCSF","WEMO","SGS",{"$f":"SUMPRODUCT((CustEstVol[MonthFlow]=CustEstRev[[#This Row],[MonthFlow]])*(CustEstVol[RateSched]=CustEstRev[[#This Row],[RateSched]])*(CustEstVol[CustClass]=CustEstRev[[#This Row],[CustClass]])*CustEstVol[NormVol])","v":18627},{"$f":"SUMPRODUCT((WNARRates[BeginDate]<=CustEstRev[[#This Row],[MonthFlow]])*(WNARRates[EndDate]>=CustEstRev[[#This Row],[MonthFlow]])*(WNARRates[Region]=CustEstRev[[#This Row],[Region]])*(WNARRates[CustClass]=CustEstRev[[#This Row],[CustClass]])*(WNARRates[Period]=CustEstRev[[#This Row],[Period]])*WNARRates[AdjCSWNA])","v":-5.5799999999999999E-3},{"$f":"SUMPRODUCT((WNARRates[BeginDate]<=CustEstRev[[#This Row],[MonthFlow]])*(WNARRates[EndDate]>=CustEstRev[[#This Row],[MonthFlow]])*(WNARRates[Region]=CustEstRev[[#This Row],[Region]])*(WNARRates[CustClass]=CustEstRev[[#This Row],[CustClass]])*(WNARRates[Period]=CustEstRev[[#This Row],[Period]])*WNARRates[AdjSRR])","v":1.9000000000000001E-4},{"$f":"ROUND(CustEstRev[[#This Row],[NormVol]]*CustEstRev[[#This Row],[CSNWARate]],0)","v":-104},{"$f":"ROUND(CustEstRev[[#This Row],[NormVol]]*CustEstRev[[#This Row],[SRRRate]],0)","v":4},"Calculated revenues from data in CustEstVol table and WNAR Rates table"]
[44501,"S1","63-GRF","NEMO","Res",{"$f":"SUMPRODUCT((CustEstVol[MonthFlow]=CustEstRev[[#This Row],[MonthFlow]])*(CustEstVol[RateSched]=CustEstRev[[#This Row],[RateSched]])*(CustEstVol[CustClass]=CustEstRev[[#This Row],[CustClass]])*CustEstVol[NormVol])","v":905504},{"$f":"SUMPRODUCT((WNARRates[BeginDate]<=CustEstRev[[#This Row],[MonthFlow]])*(WNARRates[EndDate]>=CustEstRev[[#This Row],[MonthFlow]])*(WNARRates[Region]=CustEstRev[[#This Row],[Region]])*(WNARRates[CustClass]=CustEstRev[[#This Row],[CustClass]])*(WNARRates[Period]=CustEstRev[[#This Row],[Period]])*WNARRates[AdjCSWNA])","v":1.208E-2},{"$f":"SUMPRODUCT((WNARRates[BeginDate]<=CustEstRev[[#This Row],[MonthFlow]])*(WNARRates[EndDate]>=CustEstRev[[#This Row],[MonthFlow]])*(WNARRates[Region]=CustEstRev[[#This Row],[Region]])*(WNARRates[CustClass]=CustEstRev[[#This Row],[CustClass]])*(WNARRates[Period]=CustEstRev[[#This Row],[Period]])*WNARRates[AdjSRR])","v":-2E-3},{"$f":"ROUND(CustEstRev[[#This Row],[NormVol]]*CustEstRev[[#This Row],[CSNWARate]],0)","v":10938},{"$f":"ROUND(CustEstRev[[#This Row],[NormVol]]*CustEstRev[[#This Row],[SRRRate]],0)","v":-1811},"Calculated revenues from data in CustEstVol table and WNAR Rates table"]
[44501,"S2","63-GRF","NEMO","Res",{"$f":"SUMPRODUCT((CustEstVol[MonthFlow]=CustEstRev[[#This Row],[MonthFlow]])*(CustEstVol[RateSched]=CustEstRev[[#This Row],[RateSched]])*(CustEstVol[CustClass]=CustEstRev[[#This Row],[CustClass]])*CustEstVol[NormVol])","v":905504},{"$f":"SUMPRODUCT((WNARRates[BeginDate]<=CustEstRev[[#This Row],[MonthFlow]])*(WNARRates[EndDate]>=CustEstRev[[#This Row],[MonthFlow]])*(WNARRates[Region]=CustEstRev[[#This Row],[Region]])*(WNARRates[CustClass]=CustEstRev[[#This Row],[CustClass]])*(WNARRates[Period]=CustEstRev[[#This Row],[Period]])*WNARRates[AdjCSWNA])","v":-1.357E-2},{"$f":"SUMPRODUCT((WNARRates[BeginDate]<=CustEstRev[[#This Row],[MonthFlow]])*(WNARRates[EndDate]>=CustEstRev[[#This Row],[MonthFlow]])*(WNARRates[Region]=CustEstRev[[#This Row],[Region]])*(WNARRates[CustClass]=CustEstRev[[#This Row],[CustClass]])*(WNARRates[Period]=CustEstRev[[#This Row],[Period]])*WNARRates[AdjSRR])","v":2.7999999999999998E-4},{"$f":"ROUND(CustEstRev[[#This Row],[NormVol]]*CustEstRev[[#This Row],[CSNWARate]],0)","v":-12288},{"$f":"ROUND(CustEstRev[[#This Row],[NormVol]]*CustEstRev[[#This Row],[SRRRate]],0)","v":254},"Calculated revenues from data in CustEstVol table and WNAR Rates table"]
[44501,"S1","63-GCSF","NEMO","SGS",{"$f":"SUMPRODUCT((CustEstVol[MonthFlow]=CustEstRev[[#This Row],[MonthFlow]])*(CustEstVol[RateSched]=CustEstRev[[#This Row],[RateSched]])*(CustEstVol[CustClass]=CustEstRev[[#This Row],[CustClass]])*CustEstVol[NormVol])","v":286375},{"$f":"SUMPRODUCT((WNARRates[BeginDate]<=CustEstRev[[#This Row],[MonthFlow]])*(WNARRates[EndDate]>=CustEstRev[[#This Row],[MonthFlow]])*(WNARRates[Region]=CustEstRev[[#This Row],[Region]])*(WNARRates[CustClass]=CustEstRev[[#This Row],[CustClass]])*(WNARRates[Period]=CustEstRev[[#This Row],[Period]])*WNARRates[AdjCSWNA])","v":4.8599999999999997E-3},{"$f":"SUMPRODUCT((WNARRates[BeginDate]<=CustEstRev[[#This Row],[MonthFlow]])*(WNARRates[EndDate]>=CustEstRev[[#This Row],[MonthFlow]])*(WNARRates[Region]=CustEstRev[[#This Row],[Region]])*(WNARRates[CustClass]=CustEstRev[[#This Row],[CustClass]])*(WNARRates[Period]=CustEstRev[[#This Row],[Period]])*WNARRates[AdjSRR])","v":-1.4999999999999999E-4},{"$f":"ROUND(CustEstRev[[#This Row],[NormVol]]*CustEstRev[[#This Row],[CSNWARate]],0)","v":1392},{"$f":"ROUND(CustEstRev[[#This Row],[NormVol]]*CustEstRev[[#This Row],[SRRRate]],0)","v":-43},"Calculated revenues from data in CustEstVol table and WNAR Rates table"]
[44501,"S2","63-GCSF","NEMO","SGS",{"$f":"SUMPRODUCT((CustEstVol[MonthFlow]=CustEstRev[[#This Row],[MonthFlow]])*(CustEstVol[RateSched]=CustEstRev[[#This Row],[RateSched]])*(CustEstVol[CustClass]=CustEstRev[[#This Row],[CustClass]])*CustEstVol[NormVol])","v":286375},{"$f":"SUMPRODUCT((WNARRates[BeginDate]<=CustEstRev[[#This Row],[MonthFlow]])*(WNARRates[EndDate]>=CustEstRev[[#This Row],[MonthFlow]])*(WNARRates[Region]=CustEstRev[[#This Row],[Region]])*(WNARRates[CustClass]=CustEstRev[[#This Row],[CustClass]])*(WNARRates[Period]=CustEstRev[[#This Row],[Period]])*WNARRates[AdjCSWNA])","v":-5.5799999999999999E-3},{"$f":"SUMPRODUCT((WNARRates[BeginDate]<=CustEstRev[[#This Row],[MonthFlow]])*(WNARRates[EndDate]>=CustEstRev[[#This Row],[MonthFlow]])*(WNARRates[Region]=CustEstRev[[#This Row],[Region]])*(WNARRates[CustClass]=CustEstRev[[#This Row],[CustClass]])*(WNARRates[Period]=CustEstRev[[#This Row],[Period]])*WNARRates[AdjSRR])","v":1.9000000000000001E-4},{"$f":"ROUND(CustEstRev[[#This Row],[NormVol]]*CustEstRev[[#This Row],[CSNWARate]],0)","v":-1598},{"$f":"ROUND(CustEstRev[[#This Row],[NormVol]]*CustEstRev[[#This Row],[SRRRate]],0)","v":54},"Calculated revenues from data in CustEstVol table and WNAR Rates table"]
[44501,"S1","62-GRF","SEMO","Res",{"$f":"SUMPRODUCT((CustEstVol[MonthFlow]=CustEstRev[[#This Row],[MonthFlow]])*(CustEstVol[RateSched]=CustEstRev[[#This Row],[RateSched]])*(CustEstVol[CustClass]=CustEstRev[[#This Row],[CustClass]])*CustEstVol[NormVol])","v":1085929},{"$f":"SUMPRODUCT((WNARRates[BeginDate]<=CustEstRev[[#This Row],[MonthFlow]])*(WNARRates[EndDate]>=CustEstRev[[#This Row],[MonthFlow]])*(WNARRates[Region]=CustEstRev[[#This Row],[Region]])*(WNARRates[CustClass]=CustEstRev[[#This Row],[CustClass]])*(WNARRates[Period]=CustEstRev[[#This Row],[Period]])*WNARRates[AdjCSWNA])","v":1.265E-2},{"$f":"SUMPRODUCT((WNARRates[BeginDate]<=CustEstRev[[#This Row],[MonthFlow]])*(WNARRates[EndDate]>=CustEstRev[[#This Row],[MonthFlow]])*(WNARRates[Region]=CustEstRev[[#This Row],[Region]])*(WNARRates[CustClass]=CustEstRev[[#This Row],[CustClass]])*(WNARRates[Period]=CustEstRev[[#This Row],[Period]])*WNARRates[AdjSRR])","v":-6.0000000000000002E-5},{"$f":"ROUND(CustEstRev[[#This Row],[NormVol]]*CustEstRev[[#This Row],[CSNWARate]],0)","v":13737},{"$f":"ROUND(CustEstRev[[#This Row],[NormVol]]*CustEstRev[[#This Row],[SRRRate]],0)","v":-65},"Calculated revenues from data in CustEstVol table and WNAR Rates table"]
[44501,"S2","62-GRF","SEMO","Res",{"$f":"SUMPRODUCT((CustEstVol[MonthFlow]=CustEstRev[[#This Row],[MonthFlow]])*(CustEstVol[RateSched]=CustEstRev[[#This Row],[RateSched]])*(CustEstVol[CustClass]=CustEstRev[[#This Row],[CustClass]])*CustEstVol[NormVol])","v":1085929},{"$f":"SUMPRODUCT((WNARRates[BeginDate]<=CustEstRev[[#This Row],[MonthFlow]])*(WNARRates[EndDate]>=CustEstRev[[#This Row],[MonthFlow]])*(WNARRates[Region]=CustEstRev[[#This Row],[Region]])*(WNARRates[CustClass]=CustEstRev[[#This Row],[CustClass]])*(WNARRates[Period]=CustEstRev[[#This Row],[Period]])*WNARRates[AdjCSWNA])","v":-3.3E-3},{"$f":"SUMPRODUCT((WNARRates[BeginDate]<=CustEstRev[[#This Row],[MonthFlow]])*(WNARRates[EndDate]>=CustEstRev[[#This Row],[MonthFlow]])*(WNARRates[Region]=CustEstRev[[#This Row],[Region]])*(WNARRates[CustClass]=CustEstRev[[#This Row],[CustClass]])*(WNARRates[Period]=CustEstRev[[#This Row],[Period]])*WNARRates[AdjSRR])","v":-4.0000000000000002E-4},{"$f":"ROUND(CustEstRev[[#This Row],[NormVol]]*CustEstRev[[#This Row],[CSNWARate]],0)","v":-3584},{"$f":"ROUND(CustEstRev[[#This Row],[NormVol]]*CustEstRev[[#This Row],[SRRRate]],0)","v":-434},"Calculated revenues from data in CustEstVol table and WNAR Rates table"]
[44501,"S1","62-GCSF","SEMO","SGS",{"$f":"SUMPRODUCT((CustEstVol[MonthFlow]=CustEstRev[[#This Row],[MonthFlow]])*(CustEstVol[RateSched]=CustEstRev[[#This Row],[RateSched]])*(CustEstVol[CustClass]=CustEstRev[[#This Row],[CustClass]])*CustEstVol[NormVol])","v":286713},{"$f":"SUMPRODUCT((WNARRates[BeginDate]<=CustEstRev[[#This Row],[MonthFlow]])*(WNARRates[EndDate]>=CustEstRev[[#This Row],[MonthFlow]])*(WNARRates[Region]=CustEstRev[[#This Row],[Region]])*(WNARRates[CustClass]=CustEstRev[[#This Row],[CustClass]])*(WNARRates[Period]=CustEstRev[[#This Row],[Period]])*WNARRates[AdjCSWNA])","v":4.3499999999999997E-3},{"$f":"SUMPRODUCT((WNARRates[BeginDate]<=CustEstRev[[#This Row],[MonthFlow]])*(WNARRates[EndDate]>=CustEstRev[[#This Row],[MonthFlow]])*(WNARRates[Region]=CustEstRev[[#This Row],[Region]])*(WNARRates[CustClass]=CustEstRev[[#This Row],[CustClass]])*(WNARRates[Period]=CustEstRev[[#This Row],[Period]])*WNARRates[AdjSRR])","v":-3.8999999999999999E-4},{"$f":"ROUND(CustEstRev[[#This Row],[NormVol]]*CustEstRev[[#This Row],[CSNWARate]],0)","v":1247},{"$f":"ROUND(CustEstRev[[#This Row],[NormVol]]*CustEstRev[[#This Row],[SRRRate]],0)","v":-112},"Calculated revenues from data in CustEstVol table and WNAR Rates table"]
[44501,"S2","62-GCSF","SEMO","SGS",{"$f":"SUMPRODUCT((CustEstVol[MonthFlow]=CustEstRev[[#This Row],[MonthFlow]])*(CustEstVol[RateSched]=CustEstRev[[#This Row],[RateSched]])*(CustEstVol[CustClass]=CustEstRev[[#This Row],[CustClass]])*CustEstVol[NormVol])","v":286713},{"$f":"SUMPRODUCT((WNARRates[BeginDate]<=CustEstRev[[#This Row],[MonthFlow]])*(WNARRates[EndDate]>=CustEstRev[[#This Row],[MonthFlow]])*(WNARRates[Region]=CustEstRev[[#This Row],[Region]])*(WNARRates[CustClass]=CustEstRev[[#This Row],[CustClass]])*(WNARRates[Period]=CustEstRev[[#This Row],[Period]])*WNARRates[AdjCSWNA])","v":-1.1100000000000001E-3},{"$f":"SUMPRODUCT((WNARRates[BeginDate]<=CustEstRev[[#This Row],[MonthFlow]])*(WNARRates[EndDate]>=CustEstRev[[#This Row],[MonthFlow]])*(WNARRates[Region]=CustEstRev[[#This Row],[Region]])*(WNARRates[CustClass]=CustEstRev[[#This Row],[CustClass]])*(WNARRates[Period]=CustEstRev[[#This Row],[Period]])*WNARRates[AdjSRR])","v":-3.2000000000000003E-4},{"$f":"ROUND(CustEstRev[[#This Row],[NormVol]]*CustEstRev[[#This Row],[CSNWARate]],0)","v":-318},{"$f":"ROUND(CustEstRev[[#This Row],[NormVol]]*CustEstRev[[#This Row],[SRRRate]],0)","v":-92},"Calculated revenues from data in CustEstVol table and WNAR Rates table"]
[44501,"S1","61-GRF","WEMO","Res",{"$f":"SUMPRODUCT((CustEstVol[MonthFlow]=CustEstRev[[#This Row],[MonthFlow]])*(CustEstVol[RateSched]=CustEstRev[[#This Row],[RateSched]])*(CustEstVol[CustClass]=CustEstRev[[#This Row],[CustClass]])*CustEstVol[NormVol])","v":175318},{"$f":"SUMPRODUCT((WNARRates[BeginDate]<=CustEstRev[[#This Row],[MonthFlow]])*(WNARRates[EndDate]>=CustEstRev[[#This Row],[MonthFlow]])*(WNARRates[Region]=CustEstRev[[#This Row],[Region]])*(WNARRates[CustClass]=CustEstRev[[#This Row],[CustClass]])*(WNARRates[Period]=CustEstRev[[#This Row],[Period]])*WNARRates[AdjCSWNA])","v":1.208E-2},{"$f":"SUMPRODUCT((WNARRates[BeginDate]<=CustEstRev[[#This Row],[MonthFlow]])*(WNARRates[EndDate]>=CustEstRev[[#This Row],[MonthFlow]])*(WNARRates[Region]=CustEstRev[[#This Row],[Region]])*(WNARRates[CustClass]=CustEstRev[[#This Row],[CustClass]])*(WNARRates[Period]=CustEstRev[[#This Row],[Period]])*WNARRates[AdjSRR])","v":-2E-3},{"$f":"ROUND(CustEstRev[[#This Row],[NormVol]]*CustEstRev[[#This Row],[CSNWARate]],0)","v":2118},{"$f":"ROUND(CustEstRev[[#This Row],[NormVol]]*CustEstRev[[#This Row],[SRRRate]],0)","v":-351},"Calculated revenues from data in CustEstVol table and WNAR Rates table"]
[44501,"S2","61-GRF","WEMO","Res",{"$f":"SUMPRODUCT((CustEstVol[MonthFlow]=CustEstRev[[#This Row],[MonthFlow]])*(CustEstVol[RateSched]=CustEstRev[[#This Row],[RateSched]])*(CustEstVol[CustClass]=CustEstRev[[#This Row],[CustClass]])*CustEstVol[NormVol])","v":175318},{"$f":"SUMPRODUCT((WNARRates[BeginDate]<=CustEstRev[[#This Row],[MonthFlow]])*(WNARRates[EndDate]>=CustEstRev[[#This Row],[MonthFlow]])*(WNARRates[Region]=CustEstRev[[#This Row],[Region]])*(WNARRates[CustClass]=CustEstRev[[#This Row],[CustClass]])*(WNARRates[Period]=CustEstRev[[#This Row],[Period]])*WNARRates[AdjCSWNA])","v":-1.357E-2},{"$f":"SUMPRODUCT((WNARRates[BeginDate]<=CustEstRev[[#This Row],[MonthFlow]])*(WNARRates[EndDate]>=CustEstRev[[#This Row],[MonthFlow]])*(WNARRates[Region]=CustEstRev[[#This Row],[Region]])*(WNARRates[CustClass]=CustEstRev[[#This Row],[CustClass]])*(WNARRates[Period]=CustEstRev[[#This Row],[Period]])*WNARRates[AdjSRR])","v":2.7999999999999998E-4},{"$f":"ROUND(CustEstRev[[#This Row],[NormVol]]*CustEstRev[[#This Row],[CSNWARate]],0)","v":-2379},{"$f":"ROUND(CustEstRev[[#This Row],[NormVol]]*CustEstRev[[#This Row],[SRRRate]],0)","v":49},"Calculated revenues from data in CustEstVol table and WNAR Rates table"]
[44501,"S1","61-GCSF","WEMO","SGS",{"$f":"SUMPRODUCT((CustEstVol[MonthFlow]=CustEstRev[[#This Row],[MonthFlow]])*(CustEstVol[RateSched]=CustEstRev[[#This Row],[RateSched]])*(CustEstVol[CustClass]=CustEstRev[[#This Row],[CustClass]])*CustEstVol[NormVol])","v":54071},{"$f":"SUMPRODUCT((WNARRates[BeginDate]<=CustEstRev[[#This Row],[MonthFlow]])*(WNARRates[EndDate]>=CustEstRev[[#This Row],[MonthFlow]])*(WNARRates[Region]=CustEstRev[[#This Row],[Region]])*(WNARRates[CustClass]=CustEstRev[[#This Row],[CustClass]])*(WNARRates[Period]=CustEstRev[[#This Row],[Period]])*WNARRates[AdjCSWNA])","v":4.8599999999999997E-3},{"$f":"SUMPRODUCT((WNARRates[BeginDate]<=CustEstRev[[#This Row],[MonthFlow]])*(WNARRates[EndDate]>=CustEstRev[[#This Row],[MonthFlow]])*(WNARRates[Region]=CustEstRev[[#This Row],[Region]])*(WNARRates[CustClass]=CustEstRev[[#This Row],[CustClass]])*(WNARRates[Period]=CustEstRev[[#This Row],[Period]])*WNARRates[AdjSRR])","v":-1.4999999999999999E-4},{"$f":"ROUND(CustEstRev[[#This Row],[NormVol]]*CustEstRev[[#This Row],[CSNWARate]],0)","v":263},{"$f":"ROUND(CustEstRev[[#This Row],[NormVol]]*CustEstRev[[#This Row],[SRRRate]],0)","v":-8},"Calculated revenues from data in CustEstVol table and WNAR Rates table"]
[44501,"S2","61-GCSF","WEMO","SGS",{"$f":"SUMPRODUCT((CustEstVol[MonthFlow]=CustEstRev[[#This Row],[MonthFlow]])*(CustEstVol[RateSched]=CustEstRev[[#This Row],[RateSched]])*(CustEstVol[CustClass]=CustEstRev[[#This Row],[CustClass]])*CustEstVol[NormVol])","v":54071},{"$f":"SUMPRODUCT((WNARRates[BeginDate]<=CustEstRev[[#This Row],[MonthFlow]])*(WNARRates[EndDate]>=CustEstRev[[#This Row],[MonthFlow]])*(WNARRates[Region]=CustEstRev[[#This Row],[Region]])*(WNARRates[CustClass]=CustEstRev[[#This Row],[CustClass]])*(WNARRates[Period]=CustEstRev[[#This Row],[Period]])*WNARRates[AdjCSWNA])","v":-5.5799999999999999E-3},{"$f":"SUMPRODUCT((WNARRates[BeginDate]<=CustEstRev[[#This Row],[MonthFlow]])*(WNARRates[EndDate]>=CustEstRev[[#This Row],[MonthFlow]])*(WNARRates[Region]=CustEstRev[[#This Row],[Region]])*(WNARRates[CustClass]=CustEstRev[[#This Row],[CustClass]])*(WNARRates[Period]=CustEstRev[[#This Row],[Period]])*WNARRates[AdjSRR])","v":1.9000000000000001E-4},{"$f":"ROUND(CustEstRev[[#This Row],[NormVol]]*CustEstRev[[#This Row],[CSNWARate]],0)","v":-302},{"$f":"ROUND(CustEstRev[[#This Row],[NormVol]]*CustEstRev[[#This Row],[SRRRate]],0)","v":10},"Calculated revenues from data in CustEstVol table and WNAR Rates table"]
[44531,"S1","63-GRF","NEMO","Res",{"$f":"SUMPRODUCT((CustEstVol[MonthFlow]=CustEstRev[[#This Row],[MonthFlow]])*(CustEstVol[RateSched]=CustEstRev[[#This Row],[RateSched]])*(CustEstVol[CustClass]=CustEstRev[[#This Row],[CustClass]])*CustEstVol[NormVol])","v":1313750},{"$f":"SUMPRODUCT((WNARRates[BeginDate]<=CustEstRev[[#This Row],[MonthFlow]])*(WNARRates[EndDate]>=CustEstRev[[#This Row],[MonthFlow]])*(WNARRates[Region]=CustEstRev[[#This Row],[Region]])*(WNARRates[CustClass]=CustEstRev[[#This Row],[CustClass]])*(WNARRates[Period]=CustEstRev[[#This Row],[Period]])*WNARRates[AdjCSWNA])","v":1.208E-2},{"$f":"SUMPRODUCT((WNARRates[BeginDate]<=CustEstRev[[#This Row],[MonthFlow]])*(WNARRates[EndDate]>=CustEstRev[[#This Row],[MonthFlow]])*(WNARRates[Region]=CustEstRev[[#This Row],[Region]])*(WNARRates[CustClass]=CustEstRev[[#This Row],[CustClass]])*(WNARRates[Period]=CustEstRev[[#This Row],[Period]])*WNARRates[AdjSRR])","v":-2E-3},{"$f":"ROUND(CustEstRev[[#This Row],[NormVol]]*CustEstRev[[#This Row],[CSNWARate]],0)","v":15870},{"$f":"ROUND(CustEstRev[[#This Row],[NormVol]]*CustEstRev[[#This Row],[SRRRate]],0)","v":-2628},"Calculated revenues from data in CustEstVol table and WNAR Rates table"]
[44531,"S2","63-GRF","NEMO","Res",{"$f":"SUMPRODUCT((CustEstVol[MonthFlow]=CustEstRev[[#This Row],[MonthFlow]])*(CustEstVol[RateSched]=CustEstRev[[#This Row],[RateSched]])*(CustEstVol[CustClass]=CustEstRev[[#This Row],[CustClass]])*CustEstVol[NormVol])","v":1313750},{"$f":"SUMPRODUCT((WNARRates[BeginDate]<=CustEstRev[[#This Row],[MonthFlow]])*(WNARRates[EndDate]>=CustEstRev[[#This Row],[MonthFlow]])*(WNARRates[Region]=CustEstRev[[#This Row],[Region]])*(WNARRates[CustClass]=CustEstRev[[#This Row],[CustClass]])*(WNARRates[Period]=CustEstRev[[#This Row],[Period]])*WNARRates[AdjCSWNA])","v":-1.357E-2},{"$f":"SUMPRODUCT((WNARRates[BeginDate]<=CustEstRev[[#This Row],[MonthFlow]])*(WNARRates[EndDate]>=CustEstRev[[#This Row],[MonthFlow]])*(WNARRates[Region]=CustEstRev[[#This Row],[Region]])*(WNARRates[CustClass]=CustEstRev[[#This Row],[CustClass]])*(WNARRates[Period]=CustEstRev[[#This Row],[Period]])*WNARRates[AdjSRR])","v":2.7999999999999998E-4},{"$f":"ROUND(CustEstRev[[#This Row],[NormVol]]*CustEstRev[[#This Row],[CSNWARate]],0)","v":-17828},{"$f":"ROUND(CustEstRev[[#This Row],[NormVol]]*CustEstRev[[#This Row],[SRRRate]],0)","v":368},"Calculated revenues from data in CustEstVol table and WNAR Rates table"]
[44531,"S1","63-GCSF","NEMO","SGS",{"$f":"SUMPRODUCT((CustEstVol[MonthFlow]=CustEstRev[[#This Row],[MonthFlow]])*(CustEstVol[RateSched]=CustEstRev[[#This Row],[RateSched]])*(CustEstVol[CustClass]=CustEstRev[[#This Row],[CustClass]])*CustEstVol[NormVol])","v":436713},{"$f":"SUMPRODUCT((WNARRates[BeginDate]<=CustEstRev[[#This Row],[MonthFlow]])*(WNARRates[EndDate]>=CustEstRev[[#This Row],[MonthFlow]])*(WNARRates[Region]=CustEstRev[[#This Row],[Region]])*(WNARRates[CustClass]=CustEstRev[[#This Row],[CustClass]])*(WNARRates[Period]=CustEstRev[[#This Row],[Period]])*WNARRates[AdjCSWNA])","v":4.8599999999999997E-3},{"$f":"SUMPRODUCT((WNARRates[BeginDate]<=CustEstRev[[#This Row],[MonthFlow]])*(WNARRates[EndDate]>=CustEstRev[[#This Row],[MonthFlow]])*(WNARRates[Region]=CustEstRev[[#This Row],[Region]])*(WNARRates[CustClass]=CustEstRev[[#This Row],[CustClass]])*(WNARRates[Period]=CustEstRev[[#This Row],[Period]])*WNARRates[AdjSRR])","v":-1.4999999999999999E-4},{"$f":"ROUND(CustEstRev[[#This Row],[NormVol]]*CustEstRev[[#This Row],[CSNWARate]],0)","v":2122},{"$f":"ROUND(CustEstRev[[#This Row],[NormVol]]*CustEstRev[[#This Row],[SRRRate]],0)","v":-66},"Calculated revenues from data in CustEstVol table and WNAR Rates table"]
[44531,"S2","63-GCSF","NEMO","SGS",{"$f":"SUMPRODUCT((CustEstVol[MonthFlow]=CustEstRev[[#This Row],[MonthFlow]])*(CustEstVol[RateSched]=CustEstRev[[#This Row],[RateSched]])*(CustEstVol[CustClass]=CustEstRev[[#This Row],[CustClass]])*CustEstVol[NormVol])","v":436713},{"$f":"SUMPRODUCT((WNARRates[BeginDate]<=CustEstRev[[#This Row],[MonthFlow]])*(WNARRates[EndDate]>=CustEstRev[[#This Row],[MonthFlow]])*(WNARRates[Region]=CustEstRev[[#This Row],[Region]])*(WNARRates[CustClass]=CustEstRev[[#This Row],[CustClass]])*(WNARRates[Period]=CustEstRev[[#This Row],[Period]])*WNARRates[AdjCSWNA])","v":-5.5799999999999999E-3},{"$f":"SUMPRODUCT((WNARRates[BeginDate]<=CustEstRev[[#This Row],[MonthFlow]])*(WNARRates[EndDate]>=CustEstRev[[#This Row],[MonthFlow]])*(WNARRates[Region]=CustEstRev[[#This Row],[Region]])*(WNARRates[CustClass]=CustEstRev[[#This Row],[CustClass]])*(WNARRates[Period]=CustEstRev[[#This Row],[Period]])*WNARRates[AdjSRR])","v":1.9000000000000001E-4},{"$f":"ROUND(CustEstRev[[#This Row],[NormVol]]*CustEstRev[[#This Row],[CSNWARate]],0)","v":-2437},{"$f":"ROUND(CustEstRev[[#This Row],[NormVol]]*CustEstRev[[#This Row],[SRRRate]],0)","v":83},"Calculated revenues from data in CustEstVol table and WNAR Rates table"]
[44531,"S1","62-GRF","SEMO","Res",{"$f":"SUMPRODUCT((CustEstVol[MonthFlow]=CustEstRev[[#This Row],[MonthFlow]])*(CustEstVol[RateSched]=CustEstRev[[#This Row],[RateSched]])*(CustEstVol[CustClass]=CustEstRev[[#This Row],[CustClass]])*CustEstVol[NormVol])","v":2001558},{"$f":"SUMPRODUCT((WNARRates[BeginDate]<=CustEstRev[[#This Row],[MonthFlow]])*(WNARRates[EndDate]>=CustEstRev[[#This Row],[MonthFlow]])*(WNARRates[Region]=CustEstRev[[#This Row],[Region]])*(WNARRates[CustClass]=CustEstRev[[#This Row],[CustClass]])*(WNARRates[Period]=CustEstRev[[#This Row],[Period]])*WNARRates[AdjCSWNA])","v":1.265E-2},{"$f":"SUMPRODUCT((WNARRates[BeginDate]<=CustEstRev[[#This Row],[MonthFlow]])*(WNARRates[EndDate]>=CustEstRev[[#This Row],[MonthFlow]])*(WNARRates[Region]=CustEstRev[[#This Row],[Region]])*(WNARRates[CustClass]=CustEstRev[[#This Row],[CustClass]])*(WNARRates[Period]=CustEstRev[[#This Row],[Period]])*WNARRates[AdjSRR])","v":-6.0000000000000002E-5},{"$f":"ROUND(CustEstRev[[#This Row],[NormVol]]*CustEstRev[[#This Row],[CSNWARate]],0)","v":25320},{"$f":"ROUND(CustEstRev[[#This Row],[NormVol]]*CustEstRev[[#This Row],[SRRRate]],0)","v":-120},"Calculated revenues from data in CustEstVol table and WNAR Rates table"]
[44531,"S2","62-GRF","SEMO","Res",{"$f":"SUMPRODUCT((CustEstVol[MonthFlow]=CustEstRev[[#This Row],[MonthFlow]])*(CustEstVol[RateSched]=CustEstRev[[#This Row],[RateSched]])*(CustEstVol[CustClass]=CustEstRev[[#This Row],[CustClass]])*CustEstVol[NormVol])","v":2001558},{"$f":"SUMPRODUCT((WNARRates[BeginDate]<=CustEstRev[[#This Row],[MonthFlow]])*(WNARRates[EndDate]>=CustEstRev[[#This Row],[MonthFlow]])*(WNARRates[Region]=CustEstRev[[#This Row],[Region]])*(WNARRates[CustClass]=CustEstRev[[#This Row],[CustClass]])*(WNARRates[Period]=CustEstRev[[#This Row],[Period]])*WNARRates[AdjCSWNA])","v":-3.3E-3},{"$f":"SUMPRODUCT((WNARRates[BeginDate]<=CustEstRev[[#This Row],[MonthFlow]])*(WNARRates[EndDate]>=CustEstRev[[#This Row],[MonthFlow]])*(WNARRates[Region]=CustEstRev[[#This Row],[Region]])*(WNARRates[CustClass]=CustEstRev[[#This Row],[CustClass]])*(WNARRates[Period]=CustEstRev[[#This Row],[Period]])*WNARRates[AdjSRR])","v":-4.0000000000000002E-4},{"$f":"ROUND(CustEstRev[[#This Row],[NormVol]]*CustEstRev[[#This Row],[CSNWARate]],0)","v":-6605},{"$f":"ROUND(CustEstRev[[#This Row],[NormVol]]*CustEstRev[[#This Row],[SRRRate]],0)","v":-801},"Calculated revenues from data in CustEstVol table and WNAR Rates table"]
[44531,"S1","62-GCSF","SEMO","SGS",{"$f":"SUMPRODUCT((CustEstVol[MonthFlow]=CustEstRev[[#This Row],[MonthFlow]])*(CustEstVol[RateSched]=CustEstRev[[#This Row],[RateSched]])*(CustEstVol[CustClass]=CustEstRev[[#This Row],[CustClass]])*CustEstVol[NormVol])","v":574087},{"$f":"SUMPRODUCT((WNARRates[BeginDate]<=CustEstRev[[#This Row],[MonthFlow]])*(WNARRates[EndDate]>=CustEstRev[[#This Row],[MonthFlow]])*(WNARRates[Region]=CustEstRev[[#This Row],[Region]])*(WNARRates[CustClass]=CustEstRev[[#This Row],[CustClass]])*(WNARRates[Period]=CustEstRev[[#This Row],[Period]])*WNARRates[AdjCSWNA])","v":4.3499999999999997E-3},{"$f":"SUMPRODUCT((WNARRates[BeginDate]<=CustEstRev[[#This Row],[MonthFlow]])*(WNARRates[EndDate]>=CustEstRev[[#This Row],[MonthFlow]])*(WNARRates[Region]=CustEstRev[[#This Row],[Region]])*(WNARRates[CustClass]=CustEstRev[[#This Row],[CustClass]])*(WNARRates[Period]=CustEstRev[[#This Row],[Period]])*WNARRates[AdjSRR])","v":-3.8999999999999999E-4},{"$f":"ROUND(CustEstRev[[#This Row],[NormVol]]*CustEstRev[[#This Row],[CSNWARate]],0)","v":2497},{"$f":"ROUND(CustEstRev[[#This Row],[NormVol]]*CustEstRev[[#This Row],[SRRRate]],0)","v":-224},"Calculated revenues from data in CustEstVol table and WNAR Rates table"]
[44531,"S2","62-GCSF","SEMO","SGS",{"$f":"SUMPRODUCT((CustEstVol[MonthFlow]=CustEstRev[[#This Row],[MonthFlow]])*(CustEstVol[RateSched]=CustEstRev[[#This Row],[RateSched]])*(CustEstVol[CustClass]=CustEstRev[[#This Row],[CustClass]])*CustEstVol[NormVol])","v":574087},{"$f":"SUMPRODUCT((WNARRates[BeginDate]<=CustEstRev[[#This Row],[MonthFlow]])*(WNARRates[EndDate]>=CustEstRev[[#This Row],[MonthFlow]])*(WNARRates[Region]=CustEstRev[[#This Row],[Region]])*(WNARRates[CustClass]=CustEstRev[[#This Row],[CustClass]])*(WNARRates[Period]=CustEstRev[[#This Row],[Period]])*WNARRates[AdjCSWNA])","v":-1.1100000000000001E-3},{"$f":"SUMPRODUCT((WNARRates[BeginDate]<=CustEstRev[[#This Row],[MonthFlow]])*(WNARRates[EndDate]>=CustEstRev[[#This Row],[MonthFlow]])*(WNARRates[Region]=CustEstRev[[#This Row],[Region]])*(WNARRates[CustClass]=CustEstRev[[#This Row],[CustClass]])*(WNARRates[Period]=CustEstRev[[#This Row],[Period]])*WNARRates[AdjSRR])","v":-3.2000000000000003E-4},{"$f":"ROUND(CustEstRev[[#This Row],[NormVol]]*CustEstRev[[#This Row],[CSNWARate]],0)","v":-637},{"$f":"ROUND(CustEstRev[[#This Row],[NormVol]]*CustEstRev[[#This Row],[SRRRate]],0)","v":-184},"Calculated revenues from data in CustEstVol table and WNAR Rates table"]
[44531,"S1","61-GRF","WEMO","Res",{"$f":"SUMPRODUCT((CustEstVol[MonthFlow]=CustEstRev[[#This Row],[MonthFlow]])*(CustEstVol[RateSched]=CustEstRev[[#This Row],[RateSched]])*(CustEstVol[CustClass]=CustEstRev[[#This Row],[CustClass]])*CustEstVol[NormVol])","v":251738},{"$f":"SUMPRODUCT((WNARRates[BeginDate]<=CustEstRev[[#This Row],[MonthFlow]])*(WNARRates[EndDate]>=CustEstRev[[#This Row],[MonthFlow]])*(WNARRates[Region]=CustEstRev[[#This Row],[Region]])*(WNARRates[CustClass]=CustEstRev[[#This Row],[CustClass]])*(WNARRates[Period]=CustEstRev[[#This Row],[Period]])*WNARRates[AdjCSWNA])","v":1.208E-2},{"$f":"SUMPRODUCT((WNARRates[BeginDate]<=CustEstRev[[#This Row],[MonthFlow]])*(WNARRates[EndDate]>=CustEstRev[[#This Row],[MonthFlow]])*(WNARRates[Region]=CustEstRev[[#This Row],[Region]])*(WNARRates[CustClass]=CustEstRev[[#This Row],[CustClass]])*(WNARRates[Period]=CustEstRev[[#This Row],[Period]])*WNARRates[AdjSRR])","v":-2E-3},{"$f":"ROUND(CustEstRev[[#This Row],[NormVol]]*CustEstRev[[#This Row],[CSNWARate]],0)","v":3041},{"$f":"ROUND(CustEstRev[[#This Row],[NormVol]]*CustEstRev[[#This Row],[SRRRate]],0)","v":-503},"Calculated revenues from data in CustEstVol table and WNAR Rates table"]
[44531,"S2","61-GRF","WEMO","Res",{"$f":"SUMPRODUCT((CustEstVol[MonthFlow]=CustEstRev[[#This Row],[MonthFlow]])*(CustEstVol[RateSched]=CustEstRev[[#This Row],[RateSched]])*(CustEstVol[CustClass]=CustEstRev[[#This Row],[CustClass]])*CustEstVol[NormVol])","v":251738},{"$f":"SUMPRODUCT((WNARRates[BeginDate]<=CustEstRev[[#This Row],[MonthFlow]])*(WNARRates[EndDate]>=CustEstRev[[#This Row],[MonthFlow]])*(WNARRates[Region]=CustEstRev[[#This Row],[Region]])*(WNARRates[CustClass]=CustEstRev[[#This Row],[CustClass]])*(WNARRates[Period]=CustEstRev[[#This Row],[Period]])*WNARRates[AdjCSWNA])","v":-1.357E-2},{"$f":"SUMPRODUCT((WNARRates[BeginDate]<=CustEstRev[[#This Row],[MonthFlow]])*(WNARRates[EndDate]>=CustEstRev[[#This Row],[MonthFlow]])*(WNARRates[Region]=CustEstRev[[#This Row],[Region]])*(WNARRates[CustClass]=CustEstRev[[#This Row],[CustClass]])*(WNARRates[Period]=CustEstRev[[#This Row],[Period]])*WNARRates[AdjSRR])","v":2.7999999999999998E-4},{"$f":"ROUND(CustEstRev[[#This Row],[NormVol]]*CustEstRev[[#This Row],[CSNWARate]],0)","v":-3416},{"$f":"ROUND(CustEstRev[[#This Row],[NormVol]]*CustEstRev[[#This Row],[SRRRate]],0)","v":70},"Calculated revenues from data in CustEstVol table and WNAR Rates table"]
[44531,"S1","61-GCSF","WEMO","SGS",{"$f":"SUMPRODUCT((CustEstVol[MonthFlow]=CustEstRev[[#This Row],[MonthFlow]])*(CustEstVol[RateSched]=CustEstRev[[#This Row],[RateSched]])*(CustEstVol[CustClass]=CustEstRev[[#This Row],[CustClass]])*CustEstVol[NormVol])","v":86668},{"$f":"SUMPRODUCT((WNARRates[BeginDate]<=CustEstRev[[#This Row],[MonthFlow]])*(WNARRates[EndDate]>=CustEstRev[[#This Row],[MonthFlow]])*(WNARRates[Region]=CustEstRev[[#This Row],[Region]])*(WNARRates[CustClass]=CustEstRev[[#This Row],[CustClass]])*(WNARRates[Period]=CustEstRev[[#This Row],[Period]])*WNARRates[AdjCSWNA])","v":4.8599999999999997E-3},{"$f":"SUMPRODUCT((WNARRates[BeginDate]<=CustEstRev[[#This Row],[MonthFlow]])*(WNARRates[EndDate]>=CustEstRev[[#This Row],[MonthFlow]])*(WNARRates[Region]=CustEstRev[[#This Row],[Region]])*(WNARRates[CustClass]=CustEstRev[[#This Row],[CustClass]])*(WNARRates[Period]=CustEstRev[[#This Row],[Period]])*WNARRates[AdjSRR])","v":-1.4999999999999999E-4},{"$f":"ROUND(CustEstRev[[#This Row],[NormVol]]*CustEstRev[[#This Row],[CSNWARate]],0)","v":421},{"$f":"ROUND(CustEstRev[[#This Row],[NormVol]]*CustEstRev[[#This Row],[SRRRate]],0)","v":-13},"Calculated revenues from data in CustEstVol table and WNAR Rates table"]
[44531,"S2","61-GCSF","WEMO","SGS",{"$f":"SUMPRODUCT((CustEstVol[MonthFlow]=CustEstRev[[#This Row],[MonthFlow]])*(CustEstVol[RateSched]=CustEstRev[[#This Row],[RateSched]])*(CustEstVol[CustClass]=CustEstRev[[#This Row],[CustClass]])*CustEstVol[NormVol])","v":86668},{"$f":"SUMPRODUCT((WNARRates[BeginDate]<=CustEstRev[[#This Row],[MonthFlow]])*(WNARRates[EndDate]>=CustEstRev[[#This Row],[MonthFlow]])*(WNARRates[Region]=CustEstRev[[#This Row],[Region]])*(WNARRates[CustClass]=CustEstRev[[#This Row],[CustClass]])*(WNARRates[Period]=CustEstRev[[#This Row],[Period]])*WNARRates[AdjCSWNA])","v":-5.5799999999999999E-3},{"$f":"SUMPRODUCT((WNARRates[BeginDate]<=CustEstRev[[#This Row],[MonthFlow]])*(WNARRates[EndDate]>=CustEstRev[[#This Row],[MonthFlow]])*(WNARRates[Region]=CustEstRev[[#This Row],[Region]])*(WNARRates[CustClass]=CustEstRev[[#This Row],[CustClass]])*(WNARRates[Period]=CustEstRev[[#This Row],[Period]])*WNARRates[AdjSRR])","v":1.9000000000000001E-4},{"$f":"ROUND(CustEstRev[[#This Row],[NormVol]]*CustEstRev[[#This Row],[CSNWARate]],0)","v":-484},{"$f":"ROUND(CustEstRev[[#This Row],[NormVol]]*CustEstRev[[#This Row],[SRRRate]],0)","v":16},"Calculated revenues from data in CustEstVol table and WNAR Rates table"]
[44562,"S1","63-GRF","NEMO","Res",{"$f":"SUMPRODUCT((CustEstVol[MonthFlow]=CustEstRev[[#This Row],[MonthFlow]])*(CustEstVol[RateSched]=CustEstRev[[#This Row],[RateSched]])*(CustEstVol[CustClass]=CustEstRev[[#This Row],[CustClass]])*CustEstVol[NormVol])","v":2516391},{"$f":"SUMPRODUCT((WNARRates[BeginDate]<=CustEstRev[[#This Row],[MonthFlow]])*(WNARRates[EndDate]>=CustEstRev[[#This Row],[MonthFlow]])*(WNARRates[Region]=CustEstRev[[#This Row],[Region]])*(WNARRates[CustClass]=CustEstRev[[#This Row],[CustClass]])*(WNARRates[Period]=CustEstRev[[#This Row],[Period]])*WNARRates[AdjCSWNA])","v":1.208E-2},{"$f":"SUMPRODUCT((WNARRates[BeginDate]<=CustEstRev[[#This Row],[MonthFlow]])*(WNARRates[EndDate]>=CustEstRev[[#This Row],[MonthFlow]])*(WNARRates[Region]=CustEstRev[[#This Row],[Region]])*(WNARRates[CustClass]=CustEstRev[[#This Row],[CustClass]])*(WNARRates[Period]=CustEstRev[[#This Row],[Period]])*WNARRates[AdjSRR])","v":-2E-3},{"$f":"ROUND(CustEstRev[[#This Row],[NormVol]]*CustEstRev[[#This Row],[CSNWARate]],0)","v":30398},{"$f":"ROUND(CustEstRev[[#This Row],[NormVol]]*CustEstRev[[#This Row],[SRRRate]],0)","v":-5033},"Calculated revenues from data in CustEstVol table and WNAR Rates table"]
[44562,"S2","63-GRF","NEMO","Res",{"$f":"SUMPRODUCT((CustEstVol[MonthFlow]=CustEstRev[[#This Row],[MonthFlow]])*(CustEstVol[RateSched]=CustEstRev[[#This Row],[RateSched]])*(CustEstVol[CustClass]=CustEstRev[[#This Row],[CustClass]])*CustEstVol[NormVol])","v":2516391},{"$f":"SUMPRODUCT((WNARRates[BeginDate]<=CustEstRev[[#This Row],[MonthFlow]])*(WNARRates[EndDate]>=CustEstRev[[#This Row],[MonthFlow]])*(WNARRates[Region]=CustEstRev[[#This Row],[Region]])*(WNARRates[CustClass]=CustEstRev[[#This Row],[CustClass]])*(WNARRates[Period]=CustEstRev[[#This Row],[Period]])*WNARRates[AdjCSWNA])","v":-1.357E-2},{"$f":"SUMPRODUCT((WNARRates[BeginDate]<=CustEstRev[[#This Row],[MonthFlow]])*(WNARRates[EndDate]>=CustEstRev[[#This Row],[MonthFlow]])*(WNARRates[Region]=CustEstRev[[#This Row],[Region]])*(WNARRates[CustClass]=CustEstRev[[#This Row],[CustClass]])*(WNARRates[Period]=CustEstRev[[#This Row],[Period]])*WNARRates[AdjSRR])","v":2.7999999999999998E-4},{"$f":"ROUND(CustEstRev[[#This Row],[NormVol]]*CustEstRev[[#This Row],[CSNWARate]],0)","v":-34147},{"$f":"ROUND(CustEstRev[[#This Row],[NormVol]]*CustEstRev[[#This Row],[SRRRate]],0)","v":705},"Calculated revenues from data in CustEstVol table and WNAR Rates table"]
[44562,"S1","63-GCSF","NEMO","SGS",{"$f":"SUMPRODUCT((CustEstVol[MonthFlow]=CustEstRev[[#This Row],[MonthFlow]])*(CustEstVol[RateSched]=CustEstRev[[#This Row],[RateSched]])*(CustEstVol[CustClass]=CustEstRev[[#This Row],[CustClass]])*CustEstVol[NormVol])","v":850476},{"$f":"SUMPRODUCT((WNARRates[BeginDate]<=CustEstRev[[#This Row],[MonthFlow]])*(WNARRates[EndDate]>=CustEstRev[[#This Row],[MonthFlow]])*(WNARRates[Region]=CustEstRev[[#This Row],[Region]])*(WNARRates[CustClass]=CustEstRev[[#This Row],[CustClass]])*(WNARRates[Period]=CustEstRev[[#This Row],[Period]])*WNARRates[AdjCSWNA])","v":4.8599999999999997E-3},{"$f":"SUMPRODUCT((WNARRates[BeginDate]<=CustEstRev[[#This Row],[MonthFlow]])*(WNARRates[EndDate]>=CustEstRev[[#This Row],[MonthFlow]])*(WNARRates[Region]=CustEstRev[[#This Row],[Region]])*(WNARRates[CustClass]=CustEstRev[[#This Row],[CustClass]])*(WNARRates[Period]=CustEstRev[[#This Row],[Period]])*WNARRates[AdjSRR])","v":-1.4999999999999999E-4},{"$f":"ROUND(CustEstRev[[#This Row],[NormVol]]*CustEstRev[[#This Row],[CSNWARate]],0)","v":4133},{"$f":"ROUND(CustEstRev[[#This Row],[NormVol]]*CustEstRev[[#This Row],[SRRRate]],0)","v":-128},"Calculated revenues from data in CustEstVol table and WNAR Rates table"]
[44562,"S2","63-GCSF","NEMO","SGS",{"$f":"SUMPRODUCT((CustEstVol[MonthFlow]=CustEstRev[[#This Row],[MonthFlow]])*(CustEstVol[RateSched]=CustEstRev[[#This Row],[RateSched]])*(CustEstVol[CustClass]=CustEstRev[[#This Row],[CustClass]])*CustEstVol[NormVol])","v":850476},{"$f":"SUMPRODUCT((WNARRates[BeginDate]<=CustEstRev[[#This Row],[MonthFlow]])*(WNARRates[EndDate]>=CustEstRev[[#This Row],[MonthFlow]])*(WNARRates[Region]=CustEstRev[[#This Row],[Region]])*(WNARRates[CustClass]=CustEstRev[[#This Row],[CustClass]])*(WNARRates[Period]=CustEstRev[[#This Row],[Period]])*WNARRates[AdjCSWNA])","v":-5.5799999999999999E-3},{"$f":"SUMPRODUCT((WNARRates[BeginDate]<=CustEstRev[[#This Row],[MonthFlow]])*(WNARRates[EndDate]>=CustEstRev[[#This Row],[MonthFlow]])*(WNARRates[Region]=CustEstRev[[#This Row],[Region]])*(WNARRates[CustClass]=CustEstRev[[#This Row],[CustClass]])*(WNARRates[Period]=CustEstRev[[#This Row],[Period]])*WNARRates[AdjSRR])","v":1.9000000000000001E-4},{"$f":"ROUND(CustEstRev[[#This Row],[NormVol]]*CustEstRev[[#This Row],[CSNWARate]],0)","v":-4746},{"$f":"ROUND(CustEstRev[[#This Row],[NormVol]]*CustEstRev[[#This Row],[SRRRate]],0)","v":162},"Calculated revenues from data in CustEstVol table and WNAR Rates table"]
[44562,"S1","62-GRF","SEMO","Res",{"$f":"SUMPRODUCT((CustEstVol[MonthFlow]=CustEstRev[[#This Row],[MonthFlow]])*(CustEstVol[RateSched]=CustEstRev[[#This Row],[RateSched]])*(CustEstVol[CustClass]=CustEstRev[[#This Row],[CustClass]])*CustEstVol[NormVol])","v":3437383},{"$f":"SUMPRODUCT((WNARRates[BeginDate]<=CustEstRev[[#This Row],[MonthFlow]])*(WNARRates[EndDate]>=CustEstRev[[#This Row],[MonthFlow]])*(WNARRates[Region]=CustEstRev[[#This Row],[Region]])*(WNARRates[CustClass]=CustEstRev[[#This Row],[CustClass]])*(WNARRates[Period]=CustEstRev[[#This Row],[Period]])*WNARRates[AdjCSWNA])","v":1.265E-2},{"$f":"SUMPRODUCT((WNARRates[BeginDate]<=CustEstRev[[#This Row],[MonthFlow]])*(WNARRates[EndDate]>=CustEstRev[[#This Row],[MonthFlow]])*(WNARRates[Region]=CustEstRev[[#This Row],[Region]])*(WNARRates[CustClass]=CustEstRev[[#This Row],[CustClass]])*(WNARRates[Period]=CustEstRev[[#This Row],[Period]])*WNARRates[AdjSRR])","v":-6.0000000000000002E-5},{"$f":"ROUND(CustEstRev[[#This Row],[NormVol]]*CustEstRev[[#This Row],[CSNWARate]],0)","v":43483},{"$f":"ROUND(CustEstRev[[#This Row],[NormVol]]*CustEstRev[[#This Row],[SRRRate]],0)","v":-206},"Calculated revenues from data in CustEstVol table and WNAR Rates table"]
[44562,"S2","62-GRF","SEMO","Res",{"$f":"SUMPRODUCT((CustEstVol[MonthFlow]=CustEstRev[[#This Row],[MonthFlow]])*(CustEstVol[RateSched]=CustEstRev[[#This Row],[RateSched]])*(CustEstVol[CustClass]=CustEstRev[[#This Row],[CustClass]])*CustEstVol[NormVol])","v":3437383},{"$f":"SUMPRODUCT((WNARRates[BeginDate]<=CustEstRev[[#This Row],[MonthFlow]])*(WNARRates[EndDate]>=CustEstRev[[#This Row],[MonthFlow]])*(WNARRates[Region]=CustEstRev[[#This Row],[Region]])*(WNARRates[CustClass]=CustEstRev[[#This Row],[CustClass]])*(WNARRates[Period]=CustEstRev[[#This Row],[Period]])*WNARRates[AdjCSWNA])","v":-3.3E-3},{"$f":"SUMPRODUCT((WNARRates[BeginDate]<=CustEstRev[[#This Row],[MonthFlow]])*(WNARRates[EndDate]>=CustEstRev[[#This Row],[MonthFlow]])*(WNARRates[Region]=CustEstRev[[#This Row],[Region]])*(WNARRates[CustClass]=CustEstRev[[#This Row],[CustClass]])*(WNARRates[Period]=CustEstRev[[#This Row],[Period]])*WNARRates[AdjSRR])","v":-4.0000000000000002E-4},{"$f":"ROUND(CustEstRev[[#This Row],[NormVol]]*CustEstRev[[#This Row],[CSNWARate]],0)","v":-11343},{"$f":"ROUND(CustEstRev[[#This Row],[NormVol]]*CustEstRev[[#This Row],[SRRRate]],0)","v":-1375},"Calculated revenues from data in CustEstVol table and WNAR Rates table"]
[44562,"S1","62-GCSF","SEMO","SGS",{"$f":"SUMPRODUCT((CustEstVol[MonthFlow]=CustEstRev[[#This Row],[MonthFlow]])*(CustEstVol[RateSched]=CustEstRev[[#This Row],[RateSched]])*(CustEstVol[CustClass]=CustEstRev[[#This Row],[CustClass]])*CustEstVol[NormVol])","v":1047912},{"$f":"SUMPRODUCT((WNARRates[BeginDate]<=CustEstRev[[#This Row],[MonthFlow]])*(WNARRates[EndDate]>=CustEstRev[[#This Row],[MonthFlow]])*(WNARRates[Region]=CustEstRev[[#This Row],[Region]])*(WNARRates[CustClass]=CustEstRev[[#This Row],[CustClass]])*(WNARRates[Period]=CustEstRev[[#This Row],[Period]])*WNARRates[AdjCSWNA])","v":4.3499999999999997E-3},{"$f":"SUMPRODUCT((WNARRates[BeginDate]<=CustEstRev[[#This Row],[MonthFlow]])*(WNARRates[EndDate]>=CustEstRev[[#This Row],[MonthFlow]])*(WNARRates[Region]=CustEstRev[[#This Row],[Region]])*(WNARRates[CustClass]=CustEstRev[[#This Row],[CustClass]])*(WNARRates[Period]=CustEstRev[[#This Row],[Period]])*WNARRates[AdjSRR])","v":-3.8999999999999999E-4},{"$f":"ROUND(CustEstRev[[#This Row],[NormVol]]*CustEstRev[[#This Row],[CSNWARate]],0)","v":4558},{"$f":"ROUND(CustEstRev[[#This Row],[NormVol]]*CustEstRev[[#This Row],[SRRRate]],0)","v":-409},"Calculated revenues from data in CustEstVol table and WNAR Rates table"]
[44562,"S2","62-GCSF","SEMO","SGS",{"$f":"SUMPRODUCT((CustEstVol[MonthFlow]=CustEstRev[[#This Row],[MonthFlow]])*(CustEstVol[RateSched]=CustEstRev[[#This Row],[RateSched]])*(CustEstVol[CustClass]=CustEstRev[[#This Row],[CustClass]])*CustEstVol[NormVol])","v":1047912},{"$f":"SUMPRODUCT((WNARRates[BeginDate]<=CustEstRev[[#This Row],[MonthFlow]])*(WNARRates[EndDate]>=CustEstRev[[#This Row],[MonthFlow]])*(WNARRates[Region]=CustEstRev[[#This Row],[Region]])*(WNARRates[CustClass]=CustEstRev[[#This Row],[CustClass]])*(WNARRates[Period]=CustEstRev[[#This Row],[Period]])*WNARRates[AdjCSWNA])","v":-1.1100000000000001E-3},{"$f":"SUMPRODUCT((WNARRates[BeginDate]<=CustEstRev[[#This Row],[MonthFlow]])*(WNARRates[EndDate]>=CustEstRev[[#This Row],[MonthFlow]])*(WNARRates[Region]=CustEstRev[[#This Row],[Region]])*(WNARRates[CustClass]=CustEstRev[[#This Row],[CustClass]])*(WNARRates[Period]=CustEstRev[[#This Row],[Period]])*WNARRates[AdjSRR])","v":-3.2000000000000003E-4},{"$f":"ROUND(CustEstRev[[#This Row],[NormVol]]*CustEstRev[[#This Row],[CSNWARate]],0)","v":-1163},{"$f":"ROUND(CustEstRev[[#This Row],[NormVol]]*CustEstRev[[#This Row],[SRRRate]],0)","v":-335},"Calculated revenues from data in CustEstVol table and WNAR Rates table"]
[44562,"S1","61-GRF","WEMO","Res",{"$f":"SUMPRODUCT((CustEstVol[MonthFlow]=CustEstRev[[#This Row],[MonthFlow]])*(CustEstVol[RateSched]=CustEstRev[[#This Row],[RateSched]])*(CustEstVol[CustClass]=CustEstRev[[#This Row],[CustClass]])*CustEstVol[NormVol])","v":487541},{"$f":"SUMPRODUCT((WNARRates[BeginDate]<=CustEstRev[[#This Row],[MonthFlow]])*(WNARRates[EndDate]>=CustEstRev[[#This Row],[MonthFlow]])*(WNARRates[Region]=CustEstRev[[#This Row],[Region]])*(WNARRates[CustClass]=CustEstRev[[#This Row],[CustClass]])*(WNARRates[Period]=CustEstRev[[#This Row],[Period]])*WNARRates[AdjCSWNA])","v":1.208E-2},{"$f":"SUMPRODUCT((WNARRates[BeginDate]<=CustEstRev[[#This Row],[MonthFlow]])*(WNARRates[EndDate]>=CustEstRev[[#This Row],[MonthFlow]])*(WNARRates[Region]=CustEstRev[[#This Row],[Region]])*(WNARRates[CustClass]=CustEstRev[[#This Row],[CustClass]])*(WNARRates[Period]=CustEstRev[[#This Row],[Period]])*WNARRates[AdjSRR])","v":-2E-3},{"$f":"ROUND(CustEstRev[[#This Row],[NormVol]]*CustEstRev[[#This Row],[CSNWARate]],0)","v":5889},{"$f":"ROUND(CustEstRev[[#This Row],[NormVol]]*CustEstRev[[#This Row],[SRRRate]],0)","v":-975},"Calculated revenues from data in CustEstVol table and WNAR Rates table"]
[44562,"S2","61-GRF","WEMO","Res",{"$f":"SUMPRODUCT((CustEstVol[MonthFlow]=CustEstRev[[#This Row],[MonthFlow]])*(CustEstVol[RateSched]=CustEstRev[[#This Row],[RateSched]])*(CustEstVol[CustClass]=CustEstRev[[#This Row],[CustClass]])*CustEstVol[NormVol])","v":487541},{"$f":"SUMPRODUCT((WNARRates[BeginDate]<=CustEstRev[[#This Row],[MonthFlow]])*(WNARRates[EndDate]>=CustEstRev[[#This Row],[MonthFlow]])*(WNARRates[Region]=CustEstRev[[#This Row],[Region]])*(WNARRates[CustClass]=CustEstRev[[#This Row],[CustClass]])*(WNARRates[Period]=CustEstRev[[#This Row],[Period]])*WNARRates[AdjCSWNA])","v":-1.357E-2},{"$f":"SUMPRODUCT((WNARRates[BeginDate]<=CustEstRev[[#This Row],[MonthFlow]])*(WNARRates[EndDate]>=CustEstRev[[#This Row],[MonthFlow]])*(WNARRates[Region]=CustEstRev[[#This Row],[Region]])*(WNARRates[CustClass]=CustEstRev[[#This Row],[CustClass]])*(WNARRates[Period]=CustEstRev[[#This Row],[Period]])*WNARRates[AdjSRR])","v":2.7999999999999998E-4},{"$f":"ROUND(CustEstRev[[#This Row],[NormVol]]*CustEstRev[[#This Row],[CSNWARate]],0)","v":-6616},{"$f":"ROUND(CustEstRev[[#This Row],[NormVol]]*CustEstRev[[#This Row],[SRRRate]],0)","v":137},"Calculated revenues from data in CustEstVol table and WNAR Rates table"]
[44562,"S1","61-GCSF","WEMO","SGS",{"$f":"SUMPRODUCT((CustEstVol[MonthFlow]=CustEstRev[[#This Row],[MonthFlow]])*(CustEstVol[RateSched]=CustEstRev[[#This Row],[RateSched]])*(CustEstVol[CustClass]=CustEstRev[[#This Row],[CustClass]])*CustEstVol[NormVol])","v":174753},{"$f":"SUMPRODUCT((WNARRates[BeginDate]<=CustEstRev[[#This Row],[MonthFlow]])*(WNARRates[EndDate]>=CustEstRev[[#This Row],[MonthFlow]])*(WNARRates[Region]=CustEstRev[[#This Row],[Region]])*(WNARRates[CustClass]=CustEstRev[[#This Row],[CustClass]])*(WNARRates[Period]=CustEstRev[[#This Row],[Period]])*WNARRates[AdjCSWNA])","v":4.8599999999999997E-3},{"$f":"SUMPRODUCT((WNARRates[BeginDate]<=CustEstRev[[#This Row],[MonthFlow]])*(WNARRates[EndDate]>=CustEstRev[[#This Row],[MonthFlow]])*(WNARRates[Region]=CustEstRev[[#This Row],[Region]])*(WNARRates[CustClass]=CustEstRev[[#This Row],[CustClass]])*(WNARRates[Period]=CustEstRev[[#This Row],[Period]])*WNARRates[AdjSRR])","v":-1.4999999999999999E-4},{"$f":"ROUND(CustEstRev[[#This Row],[NormVol]]*CustEstRev[[#This Row],[CSNWARate]],0)","v":849},{"$f":"ROUND(CustEstRev[[#This Row],[NormVol]]*CustEstRev[[#This Row],[SRRRate]],0)","v":-26},"Calculated revenues from data in CustEstVol table and WNAR Rates table"]
[44562,"S2","61-GCSF","WEMO","SGS",{"$f":"SUMPRODUCT((CustEstVol[MonthFlow]=CustEstRev[[#This Row],[MonthFlow]])*(CustEstVol[RateSched]=CustEstRev[[#This Row],[RateSched]])*(CustEstVol[CustClass]=CustEstRev[[#This Row],[CustClass]])*CustEstVol[NormVol])","v":174753},{"$f":"SUMPRODUCT((WNARRates[BeginDate]<=CustEstRev[[#This Row],[MonthFlow]])*(WNARRates[EndDate]>=CustEstRev[[#This Row],[MonthFlow]])*(WNARRates[Region]=CustEstRev[[#This Row],[Region]])*(WNARRates[CustClass]=CustEstRev[[#This Row],[CustClass]])*(WNARRates[Period]=CustEstRev[[#This Row],[Period]])*WNARRates[AdjCSWNA])","v":-5.5799999999999999E-3},{"$f":"SUMPRODUCT((WNARRates[BeginDate]<=CustEstRev[[#This Row],[MonthFlow]])*(WNARRates[EndDate]>=CustEstRev[[#This Row],[MonthFlow]])*(WNARRates[Region]=CustEstRev[[#This Row],[Region]])*(WNARRates[CustClass]=CustEstRev[[#This Row],[CustClass]])*(WNARRates[Period]=CustEstRev[[#This Row],[Period]])*WNARRates[AdjSRR])","v":1.9000000000000001E-4},{"$f":"ROUND(CustEstRev[[#This Row],[NormVol]]*CustEstRev[[#This Row],[CSNWARate]],0)","v":-975},{"$f":"ROUND(CustEstRev[[#This Row],[NormVol]]*CustEstRev[[#This Row],[SRRRate]],0)","v":33},"Calculated revenues from data in CustEstVol table and WNAR Rates table"]
[44593,"S1","63-GRF","NEMO","Res",{"$f":"SUMPRODUCT((CustEstVol[MonthFlow]=CustEstRev[[#This Row],[MonthFlow]])*(CustEstVol[RateSched]=CustEstRev[[#This Row],[RateSched]])*(CustEstVol[CustClass]=CustEstRev[[#This Row],[CustClass]])*CustEstVol[NormVol])","v":2135402},{"$f":"SUMPRODUCT((WNARRates[BeginDate]<=CustEstRev[[#This Row],[MonthFlow]])*(WNARRates[EndDate]>=CustEstRev[[#This Row],[MonthFlow]])*(WNARRates[Region]=CustEstRev[[#This Row],[Region]])*(WNARRates[CustClass]=CustEstRev[[#This Row],[CustClass]])*(WNARRates[Period]=CustEstRev[[#This Row],[Period]])*WNARRates[AdjCSWNA])","v":1.208E-2},{"$f":"SUMPRODUCT((WNARRates[BeginDate]<=CustEstRev[[#This Row],[MonthFlow]])*(WNARRates[EndDate]>=CustEstRev[[#This Row],[MonthFlow]])*(WNARRates[Region]=CustEstRev[[#This Row],[Region]])*(WNARRates[CustClass]=CustEstRev[[#This Row],[CustClass]])*(WNARRates[Period]=CustEstRev[[#This Row],[Period]])*WNARRates[AdjSRR])","v":-2E-3},{"$f":"ROUND(CustEstRev[[#This Row],[NormVol]]*CustEstRev[[#This Row],[CSNWARate]],0)","v":25796},{"$f":"ROUND(CustEstRev[[#This Row],[NormVol]]*CustEstRev[[#This Row],[SRRRate]],0)","v":-4271},"Calculated revenues from data in CustEstVol table and WNAR Rates table"]
[44593,"S2","63-GRF","NEMO","Res",{"$f":"SUMPRODUCT((CustEstVol[MonthFlow]=CustEstRev[[#This Row],[MonthFlow]])*(CustEstVol[RateSched]=CustEstRev[[#This Row],[RateSched]])*(CustEstVol[CustClass]=CustEstRev[[#This Row],[CustClass]])*CustEstVol[NormVol])","v":2135402},{"$f":"SUMPRODUCT((WNARRates[BeginDate]<=CustEstRev[[#This Row],[MonthFlow]])*(WNARRates[EndDate]>=CustEstRev[[#This Row],[MonthFlow]])*(WNARRates[Region]=CustEstRev[[#This Row],[Region]])*(WNARRates[CustClass]=CustEstRev[[#This Row],[CustClass]])*(WNARRates[Period]=CustEstRev[[#This Row],[Period]])*WNARRates[AdjCSWNA])","v":-1.357E-2},{"$f":"SUMPRODUCT((WNARRates[BeginDate]<=CustEstRev[[#This Row],[MonthFlow]])*(WNARRates[EndDate]>=CustEstRev[[#This Row],[MonthFlow]])*(WNARRates[Region]=CustEstRev[[#This Row],[Region]])*(WNARRates[CustClass]=CustEstRev[[#This Row],[CustClass]])*(WNARRates[Period]=CustEstRev[[#This Row],[Period]])*WNARRates[AdjSRR])","v":2.7999999999999998E-4},{"$f":"ROUND(CustEstRev[[#This Row],[NormVol]]*CustEstRev[[#This Row],[CSNWARate]],0)","v":-28977},{"$f":"ROUND(CustEstRev[[#This Row],[NormVol]]*CustEstRev[[#This Row],[SRRRate]],0)","v":598},"Calculated revenues from data in CustEstVol table and WNAR Rates table"]
[44593,"S1","63-GCSF","NEMO","SGS",{"$f":"SUMPRODUCT((CustEstVol[MonthFlow]=CustEstRev[[#This Row],[MonthFlow]])*(CustEstVol[RateSched]=CustEstRev[[#This Row],[RateSched]])*(CustEstVol[CustClass]=CustEstRev[[#This Row],[CustClass]])*CustEstVol[NormVol])","v":699766},{"$f":"SUMPRODUCT((WNARRates[BeginDate]<=CustEstRev[[#This Row],[MonthFlow]])*(WNARRates[EndDate]>=CustEstRev[[#This Row],[MonthFlow]])*(WNARRates[Region]=CustEstRev[[#This Row],[Region]])*(WNARRates[CustClass]=CustEstRev[[#This Row],[CustClass]])*(WNARRates[Period]=CustEstRev[[#This Row],[Period]])*WNARRates[AdjCSWNA])","v":4.8599999999999997E-3},{"$f":"SUMPRODUCT((WNARRates[BeginDate]<=CustEstRev[[#This Row],[MonthFlow]])*(WNARRates[EndDate]>=CustEstRev[[#This Row],[MonthFlow]])*(WNARRates[Region]=CustEstRev[[#This Row],[Region]])*(WNARRates[CustClass]=CustEstRev[[#This Row],[CustClass]])*(WNARRates[Period]=CustEstRev[[#This Row],[Period]])*WNARRates[AdjSRR])","v":-1.4999999999999999E-4},{"$f":"ROUND(CustEstRev[[#This Row],[NormVol]]*CustEstRev[[#This Row],[CSNWARate]],0)","v":3401},{"$f":"ROUND(CustEstRev[[#This Row],[NormVol]]*CustEstRev[[#This Row],[SRRRate]],0)","v":-105},"Calculated revenues from data in CustEstVol table and WNAR Rates table"]
[44593,"S2","63-GCSF","NEMO","SGS",{"$f":"SUMPRODUCT((CustEstVol[MonthFlow]=CustEstRev[[#This Row],[MonthFlow]])*(CustEstVol[RateSched]=CustEstRev[[#This Row],[RateSched]])*(CustEstVol[CustClass]=CustEstRev[[#This Row],[CustClass]])*CustEstVol[NormVol])","v":699766},{"$f":"SUMPRODUCT((WNARRates[BeginDate]<=CustEstRev[[#This Row],[MonthFlow]])*(WNARRates[EndDate]>=CustEstRev[[#This Row],[MonthFlow]])*(WNARRates[Region]=CustEstRev[[#This Row],[Region]])*(WNARRates[CustClass]=CustEstRev[[#This Row],[CustClass]])*(WNARRates[Period]=CustEstRev[[#This Row],[Period]])*WNARRates[AdjCSWNA])","v":-5.5799999999999999E-3},{"$f":"SUMPRODUCT((WNARRates[BeginDate]<=CustEstRev[[#This Row],[MonthFlow]])*(WNARRates[EndDate]>=CustEstRev[[#This Row],[MonthFlow]])*(WNARRates[Region]=CustEstRev[[#This Row],[Region]])*(WNARRates[CustClass]=CustEstRev[[#This Row],[CustClass]])*(WNARRates[Period]=CustEstRev[[#This Row],[Period]])*WNARRates[AdjSRR])","v":1.9000000000000001E-4},{"$f":"ROUND(CustEstRev[[#This Row],[NormVol]]*CustEstRev[[#This Row],[CSNWARate]],0)","v":-3905},{"$f":"ROUND(CustEstRev[[#This Row],[NormVol]]*CustEstRev[[#This Row],[SRRRate]],0)","v":133},"Calculated revenues from data in CustEstVol table and WNAR Rates table"]
[44593,"S1","62-GRF","SEMO","Res",{"$f":"SUMPRODUCT((CustEstVol[MonthFlow]=CustEstRev[[#This Row],[MonthFlow]])*(CustEstVol[RateSched]=CustEstRev[[#This Row],[RateSched]])*(CustEstVol[CustClass]=CustEstRev[[#This Row],[CustClass]])*CustEstVol[NormVol])","v":2885041},{"$f":"SUMPRODUCT((WNARRates[BeginDate]<=CustEstRev[[#This Row],[MonthFlow]])*(WNARRates[EndDate]>=CustEstRev[[#This Row],[MonthFlow]])*(WNARRates[Region]=CustEstRev[[#This Row],[Region]])*(WNARRates[CustClass]=CustEstRev[[#This Row],[CustClass]])*(WNARRates[Period]=CustEstRev[[#This Row],[Period]])*WNARRates[AdjCSWNA])","v":1.265E-2},{"$f":"SUMPRODUCT((WNARRates[BeginDate]<=CustEstRev[[#This Row],[MonthFlow]])*(WNARRates[EndDate]>=CustEstRev[[#This Row],[MonthFlow]])*(WNARRates[Region]=CustEstRev[[#This Row],[Region]])*(WNARRates[CustClass]=CustEstRev[[#This Row],[CustClass]])*(WNARRates[Period]=CustEstRev[[#This Row],[Period]])*WNARRates[AdjSRR])","v":-6.0000000000000002E-5},{"$f":"ROUND(CustEstRev[[#This Row],[NormVol]]*CustEstRev[[#This Row],[CSNWARate]],0)","v":36496},{"$f":"ROUND(CustEstRev[[#This Row],[NormVol]]*CustEstRev[[#This Row],[SRRRate]],0)","v":-173},"Calculated revenues from data in CustEstVol table and WNAR Rates table"]
[44593,"S2","62-GRF","SEMO","Res",{"$f":"SUMPRODUCT((CustEstVol[MonthFlow]=CustEstRev[[#This Row],[MonthFlow]])*(CustEstVol[RateSched]=CustEstRev[[#This Row],[RateSched]])*(CustEstVol[CustClass]=CustEstRev[[#This Row],[CustClass]])*CustEstVol[NormVol])","v":2885041},{"$f":"SUMPRODUCT((WNARRates[BeginDate]<=CustEstRev[[#This Row],[MonthFlow]])*(WNARRates[EndDate]>=CustEstRev[[#This Row],[MonthFlow]])*(WNARRates[Region]=CustEstRev[[#This Row],[Region]])*(WNARRates[CustClass]=CustEstRev[[#This Row],[CustClass]])*(WNARRates[Period]=CustEstRev[[#This Row],[Period]])*WNARRates[AdjCSWNA])","v":-3.3E-3},{"$f":"SUMPRODUCT((WNARRates[BeginDate]<=CustEstRev[[#This Row],[MonthFlow]])*(WNARRates[EndDate]>=CustEstRev[[#This Row],[MonthFlow]])*(WNARRates[Region]=CustEstRev[[#This Row],[Region]])*(WNARRates[CustClass]=CustEstRev[[#This Row],[CustClass]])*(WNARRates[Period]=CustEstRev[[#This Row],[Period]])*WNARRates[AdjSRR])","v":-4.0000000000000002E-4},{"$f":"ROUND(CustEstRev[[#This Row],[NormVol]]*CustEstRev[[#This Row],[CSNWARate]],0)","v":-9521},{"$f":"ROUND(CustEstRev[[#This Row],[NormVol]]*CustEstRev[[#This Row],[SRRRate]],0)","v":-1154},"Calculated revenues from data in CustEstVol table and WNAR Rates table"]
[44593,"S1","62-GCSF","SEMO","SGS",{"$f":"SUMPRODUCT((CustEstVol[MonthFlow]=CustEstRev[[#This Row],[MonthFlow]])*(CustEstVol[RateSched]=CustEstRev[[#This Row],[RateSched]])*(CustEstVol[CustClass]=CustEstRev[[#This Row],[CustClass]])*CustEstVol[NormVol])","v":847923},{"$f":"SUMPRODUCT((WNARRates[BeginDate]<=CustEstRev[[#This Row],[MonthFlow]])*(WNARRates[EndDate]>=CustEstRev[[#This Row],[MonthFlow]])*(WNARRates[Region]=CustEstRev[[#This Row],[Region]])*(WNARRates[CustClass]=CustEstRev[[#This Row],[CustClass]])*(WNARRates[Period]=CustEstRev[[#This Row],[Period]])*WNARRates[AdjCSWNA])","v":4.3499999999999997E-3},{"$f":"SUMPRODUCT((WNARRates[BeginDate]<=CustEstRev[[#This Row],[MonthFlow]])*(WNARRates[EndDate]>=CustEstRev[[#This Row],[MonthFlow]])*(WNARRates[Region]=CustEstRev[[#This Row],[Region]])*(WNARRates[CustClass]=CustEstRev[[#This Row],[CustClass]])*(WNARRates[Period]=CustEstRev[[#This Row],[Period]])*WNARRates[AdjSRR])","v":-3.8999999999999999E-4},{"$f":"ROUND(CustEstRev[[#This Row],[NormVol]]*CustEstRev[[#This Row],[CSNWARate]],0)","v":3688},{"$f":"ROUND(CustEstRev[[#This Row],[NormVol]]*CustEstRev[[#This Row],[SRRRate]],0)","v":-331},"Calculated revenues from data in CustEstVol table and WNAR Rates table"]
[44593,"S2","62-GCSF","SEMO","SGS",{"$f":"SUMPRODUCT((CustEstVol[MonthFlow]=CustEstRev[[#This Row],[MonthFlow]])*(CustEstVol[RateSched]=CustEstRev[[#This Row],[RateSched]])*(CustEstVol[CustClass]=CustEstRev[[#This Row],[CustClass]])*CustEstVol[NormVol])","v":847923},{"$f":"SUMPRODUCT((WNARRates[BeginDate]<=CustEstRev[[#This Row],[MonthFlow]])*(WNARRates[EndDate]>=CustEstRev[[#This Row],[MonthFlow]])*(WNARRates[Region]=CustEstRev[[#This Row],[Region]])*(WNARRates[CustClass]=CustEstRev[[#This Row],[CustClass]])*(WNARRates[Period]=CustEstRev[[#This Row],[Period]])*WNARRates[AdjCSWNA])","v":-1.1100000000000001E-3},{"$f":"SUMPRODUCT((WNARRates[BeginDate]<=CustEstRev[[#This Row],[MonthFlow]])*(WNARRates[EndDate]>=CustEstRev[[#This Row],[MonthFlow]])*(WNARRates[Region]=CustEstRev[[#This Row],[Region]])*(WNARRates[CustClass]=CustEstRev[[#This Row],[CustClass]])*(WNARRates[Period]=CustEstRev[[#This Row],[Period]])*WNARRates[AdjSRR])","v":-3.2000000000000003E-4},{"$f":"ROUND(CustEstRev[[#This Row],[NormVol]]*CustEstRev[[#This Row],[CSNWARate]],0)","v":-941},{"$f":"ROUND(CustEstRev[[#This Row],[NormVol]]*CustEstRev[[#This Row],[SRRRate]],0)","v":-271},"Calculated revenues from data in CustEstVol table and WNAR Rates table"]
[44593,"S1","61-GRF","WEMO","Res",{"$f":"SUMPRODUCT((CustEstVol[MonthFlow]=CustEstRev[[#This Row],[MonthFlow]])*(CustEstVol[RateSched]=CustEstRev[[#This Row],[RateSched]])*(CustEstVol[CustClass]=CustEstRev[[#This Row],[CustClass]])*CustEstVol[NormVol])","v":410704},{"$f":"SUMPRODUCT((WNARRates[BeginDate]<=CustEstRev[[#This Row],[MonthFlow]])*(WNARRates[EndDate]>=CustEstRev[[#This Row],[MonthFlow]])*(WNARRates[Region]=CustEstRev[[#This Row],[Region]])*(WNARRates[CustClass]=CustEstRev[[#This Row],[CustClass]])*(WNARRates[Period]=CustEstRev[[#This Row],[Period]])*WNARRates[AdjCSWNA])","v":1.208E-2},{"$f":"SUMPRODUCT((WNARRates[BeginDate]<=CustEstRev[[#This Row],[MonthFlow]])*(WNARRates[EndDate]>=CustEstRev[[#This Row],[MonthFlow]])*(WNARRates[Region]=CustEstRev[[#This Row],[Region]])*(WNARRates[CustClass]=CustEstRev[[#This Row],[CustClass]])*(WNARRates[Period]=CustEstRev[[#This Row],[Period]])*WNARRates[AdjSRR])","v":-2E-3},{"$f":"ROUND(CustEstRev[[#This Row],[NormVol]]*CustEstRev[[#This Row],[CSNWARate]],0)","v":4961},{"$f":"ROUND(CustEstRev[[#This Row],[NormVol]]*CustEstRev[[#This Row],[SRRRate]],0)","v":-821},"Calculated revenues from data in CustEstVol table and WNAR Rates table"]
[44593,"S2","61-GRF","WEMO","Res",{"$f":"SUMPRODUCT((CustEstVol[MonthFlow]=CustEstRev[[#This Row],[MonthFlow]])*(CustEstVol[RateSched]=CustEstRev[[#This Row],[RateSched]])*(CustEstVol[CustClass]=CustEstRev[[#This Row],[CustClass]])*CustEstVol[NormVol])","v":410704},{"$f":"SUMPRODUCT((WNARRates[BeginDate]<=CustEstRev[[#This Row],[MonthFlow]])*(WNARRates[EndDate]>=CustEstRev[[#This Row],[MonthFlow]])*(WNARRates[Region]=CustEstRev[[#This Row],[Region]])*(WNARRates[CustClass]=CustEstRev[[#This Row],[CustClass]])*(WNARRates[Period]=CustEstRev[[#This Row],[Period]])*WNARRates[AdjCSWNA])","v":-1.357E-2},{"$f":"SUMPRODUCT((WNARRates[BeginDate]<=CustEstRev[[#This Row],[MonthFlow]])*(WNARRates[EndDate]>=CustEstRev[[#This Row],[MonthFlow]])*(WNARRates[Region]=CustEstRev[[#This Row],[Region]])*(WNARRates[CustClass]=CustEstRev[[#This Row],[CustClass]])*(WNARRates[Period]=CustEstRev[[#This Row],[Period]])*WNARRates[AdjSRR])","v":2.7999999999999998E-4},{"$f":"ROUND(CustEstRev[[#This Row],[NormVol]]*CustEstRev[[#This Row],[CSNWARate]],0)","v":-5573},{"$f":"ROUND(CustEstRev[[#This Row],[NormVol]]*CustEstRev[[#This Row],[SRRRate]],0)","v":115},"Calculated revenues from data in CustEstVol table and WNAR Rates table"]
[44593,"S1","61-GCSF","WEMO","SGS",{"$f":"SUMPRODUCT((CustEstVol[MonthFlow]=CustEstRev[[#This Row],[MonthFlow]])*(CustEstVol[RateSched]=CustEstRev[[#This Row],[RateSched]])*(CustEstVol[CustClass]=CustEstRev[[#This Row],[CustClass]])*CustEstVol[NormVol])","v":151587},{"$f":"SUMPRODUCT((WNARRates[BeginDate]<=CustEstRev[[#This Row],[MonthFlow]])*(WNARRates[EndDate]>=CustEstRev[[#This Row],[MonthFlow]])*(WNARRates[Region]=CustEstRev[[#This Row],[Region]])*(WNARRates[CustClass]=CustEstRev[[#This Row],[CustClass]])*(WNARRates[Period]=CustEstRev[[#This Row],[Period]])*WNARRates[AdjCSWNA])","v":4.8599999999999997E-3},{"$f":"SUMPRODUCT((WNARRates[BeginDate]<=CustEstRev[[#This Row],[MonthFlow]])*(WNARRates[EndDate]>=CustEstRev[[#This Row],[MonthFlow]])*(WNARRates[Region]=CustEstRev[[#This Row],[Region]])*(WNARRates[CustClass]=CustEstRev[[#This Row],[CustClass]])*(WNARRates[Period]=CustEstRev[[#This Row],[Period]])*WNARRates[AdjSRR])","v":-1.4999999999999999E-4},{"$f":"ROUND(CustEstRev[[#This Row],[NormVol]]*CustEstRev[[#This Row],[CSNWARate]],0)","v":737},{"$f":"ROUND(CustEstRev[[#This Row],[NormVol]]*CustEstRev[[#This Row],[SRRRate]],0)","v":-23},"Calculated revenues from data in CustEstVol table and WNAR Rates table"]
[44593,"S2","61-GCSF","WEMO","SGS",{"$f":"SUMPRODUCT((CustEstVol[MonthFlow]=CustEstRev[[#This Row],[MonthFlow]])*(CustEstVol[RateSched]=CustEstRev[[#This Row],[RateSched]])*(CustEstVol[CustClass]=CustEstRev[[#This Row],[CustClass]])*CustEstVol[NormVol])","v":151587},{"$f":"SUMPRODUCT((WNARRates[BeginDate]<=CustEstRev[[#This Row],[MonthFlow]])*(WNARRates[EndDate]>=CustEstRev[[#This Row],[MonthFlow]])*(WNARRates[Region]=CustEstRev[[#This Row],[Region]])*(WNARRates[CustClass]=CustEstRev[[#This Row],[CustClass]])*(WNARRates[Period]=CustEstRev[[#This Row],[Period]])*WNARRates[AdjCSWNA])","v":-5.5799999999999999E-3},{"$f":"SUMPRODUCT((WNARRates[BeginDate]<=CustEstRev[[#This Row],[MonthFlow]])*(WNARRates[EndDate]>=CustEstRev[[#This Row],[MonthFlow]])*(WNARRates[Region]=CustEstRev[[#This Row],[Region]])*(WNARRates[CustClass]=CustEstRev[[#This Row],[CustClass]])*(WNARRates[Period]=CustEstRev[[#This Row],[Period]])*WNARRates[AdjSRR])","v":1.9000000000000001E-4},{"$f":"ROUND(CustEstRev[[#This Row],[NormVol]]*CustEstRev[[#This Row],[CSNWARate]],0)","v":-846},{"$f":"ROUND(CustEstRev[[#This Row],[NormVol]]*CustEstRev[[#This Row],[SRRRate]],0)","v":29},"Calculated revenues from data in CustEstVol table and WNAR Rates table"]
[44621,"S1","63-GRF","NEMO","Res",{"$f":"SUMPRODUCT((CustEstVol[MonthFlow]=CustEstRev[[#This Row],[MonthFlow]])*(CustEstVol[RateSched]=CustEstRev[[#This Row],[RateSched]])*(CustEstVol[CustClass]=CustEstRev[[#This Row],[CustClass]])*CustEstVol[NormVol])","v":1607542},{"$f":"SUMPRODUCT((WNARRates[BeginDate]<=CustEstRev[[#This Row],[MonthFlow]])*(WNARRates[EndDate]>=CustEstRev[[#This Row],[MonthFlow]])*(WNARRates[Region]=CustEstRev[[#This Row],[Region]])*(WNARRates[CustClass]=CustEstRev[[#This Row],[CustClass]])*(WNARRates[Period]=CustEstRev[[#This Row],[Period]])*WNARRates[AdjCSWNA])","v":1.208E-2},{"$f":"SUMPRODUCT((WNARRates[BeginDate]<=CustEstRev[[#This Row],[MonthFlow]])*(WNARRates[EndDate]>=CustEstRev[[#This Row],[MonthFlow]])*(WNARRates[Region]=CustEstRev[[#This Row],[Region]])*(WNARRates[CustClass]=CustEstRev[[#This Row],[CustClass]])*(WNARRates[Period]=CustEstRev[[#This Row],[Period]])*WNARRates[AdjSRR])","v":-2E-3},{"$f":"ROUND(CustEstRev[[#This Row],[NormVol]]*CustEstRev[[#This Row],[CSNWARate]],0)","v":19419},{"$f":"ROUND(CustEstRev[[#This Row],[NormVol]]*CustEstRev[[#This Row],[SRRRate]],0)","v":-3215},"Calculated revenues from data in CustEstVol table and WNAR Rates table"]
[44621,"S2","63-GRF","NEMO","Res",{"$f":"SUMPRODUCT((CustEstVol[MonthFlow]=CustEstRev[[#This Row],[MonthFlow]])*(CustEstVol[RateSched]=CustEstRev[[#This Row],[RateSched]])*(CustEstVol[CustClass]=CustEstRev[[#This Row],[CustClass]])*CustEstVol[NormVol])","v":1607542},{"$f":"SUMPRODUCT((WNARRates[BeginDate]<=CustEstRev[[#This Row],[MonthFlow]])*(WNARRates[EndDate]>=CustEstRev[[#This Row],[MonthFlow]])*(WNARRates[Region]=CustEstRev[[#This Row],[Region]])*(WNARRates[CustClass]=CustEstRev[[#This Row],[CustClass]])*(WNARRates[Period]=CustEstRev[[#This Row],[Period]])*WNARRates[AdjCSWNA])","v":-1.357E-2},{"$f":"SUMPRODUCT((WNARRates[BeginDate]<=CustEstRev[[#This Row],[MonthFlow]])*(WNARRates[EndDate]>=CustEstRev[[#This Row],[MonthFlow]])*(WNARRates[Region]=CustEstRev[[#This Row],[Region]])*(WNARRates[CustClass]=CustEstRev[[#This Row],[CustClass]])*(WNARRates[Period]=CustEstRev[[#This Row],[Period]])*WNARRates[AdjSRR])","v":2.7999999999999998E-4},{"$f":"ROUND(CustEstRev[[#This Row],[NormVol]]*CustEstRev[[#This Row],[CSNWARate]],0)","v":-21814},{"$f":"ROUND(CustEstRev[[#This Row],[NormVol]]*CustEstRev[[#This Row],[SRRRate]],0)","v":450},"Calculated revenues from data in CustEstVol table and WNAR Rates table"]
[44621,"S1","63-GCSF","NEMO","SGS",{"$f":"SUMPRODUCT((CustEstVol[MonthFlow]=CustEstRev[[#This Row],[MonthFlow]])*(CustEstVol[RateSched]=CustEstRev[[#This Row],[RateSched]])*(CustEstVol[CustClass]=CustEstRev[[#This Row],[CustClass]])*CustEstVol[NormVol])","v":514163},{"$f":"SUMPRODUCT((WNARRates[BeginDate]<=CustEstRev[[#This Row],[MonthFlow]])*(WNARRates[EndDate]>=CustEstRev[[#This Row],[MonthFlow]])*(WNARRates[Region]=CustEstRev[[#This Row],[Region]])*(WNARRates[CustClass]=CustEstRev[[#This Row],[CustClass]])*(WNARRates[Period]=CustEstRev[[#This Row],[Period]])*WNARRates[AdjCSWNA])","v":4.8599999999999997E-3},{"$f":"SUMPRODUCT((WNARRates[BeginDate]<=CustEstRev[[#This Row],[MonthFlow]])*(WNARRates[EndDate]>=CustEstRev[[#This Row],[MonthFlow]])*(WNARRates[Region]=CustEstRev[[#This Row],[Region]])*(WNARRates[CustClass]=CustEstRev[[#This Row],[CustClass]])*(WNARRates[Period]=CustEstRev[[#This Row],[Period]])*WNARRates[AdjSRR])","v":-1.4999999999999999E-4},{"$f":"ROUND(CustEstRev[[#This Row],[NormVol]]*CustEstRev[[#This Row],[CSNWARate]],0)","v":2499},{"$f":"ROUND(CustEstRev[[#This Row],[NormVol]]*CustEstRev[[#This Row],[SRRRate]],0)","v":-77},"Calculated revenues from data in CustEstVol table and WNAR Rates table"]
[44621,"S2","63-GCSF","NEMO","SGS",{"$f":"SUMPRODUCT((CustEstVol[MonthFlow]=CustEstRev[[#This Row],[MonthFlow]])*(CustEstVol[RateSched]=CustEstRev[[#This Row],[RateSched]])*(CustEstVol[CustClass]=CustEstRev[[#This Row],[CustClass]])*CustEstVol[NormVol])","v":514163},{"$f":"SUMPRODUCT((WNARRates[BeginDate]<=CustEstRev[[#This Row],[MonthFlow]])*(WNARRates[EndDate]>=CustEstRev[[#This Row],[MonthFlow]])*(WNARRates[Region]=CustEstRev[[#This Row],[Region]])*(WNARRates[CustClass]=CustEstRev[[#This Row],[CustClass]])*(WNARRates[Period]=CustEstRev[[#This Row],[Period]])*WNARRates[AdjCSWNA])","v":-5.5799999999999999E-3},{"$f":"SUMPRODUCT((WNARRates[BeginDate]<=CustEstRev[[#This Row],[MonthFlow]])*(WNARRates[EndDate]>=CustEstRev[[#This Row],[MonthFlow]])*(WNARRates[Region]=CustEstRev[[#This Row],[Region]])*(WNARRates[CustClass]=CustEstRev[[#This Row],[CustClass]])*(WNARRates[Period]=CustEstRev[[#This Row],[Period]])*WNARRates[AdjSRR])","v":1.9000000000000001E-4},{"$f":"ROUND(CustEstRev[[#This Row],[NormVol]]*CustEstRev[[#This Row],[CSNWARate]],0)","v":-2869},{"$f":"ROUND(CustEstRev[[#This Row],[NormVol]]*CustEstRev[[#This Row],[SRRRate]],0)","v":98},"Calculated revenues from data in CustEstVol table and WNAR Rates table"]
[44621,"S1","62-GRF","SEMO","Res",{"$f":"SUMPRODUCT((CustEstVol[MonthFlow]=CustEstRev[[#This Row],[MonthFlow]])*(CustEstVol[RateSched]=CustEstRev[[#This Row],[RateSched]])*(CustEstVol[CustClass]=CustEstRev[[#This Row],[CustClass]])*CustEstVol[NormVol])","v":2268398},{"$f":"SUMPRODUCT((WNARRates[BeginDate]<=CustEstRev[[#This Row],[MonthFlow]])*(WNARRates[EndDate]>=CustEstRev[[#This Row],[MonthFlow]])*(WNARRates[Region]=CustEstRev[[#This Row],[Region]])*(WNARRates[CustClass]=CustEstRev[[#This Row],[CustClass]])*(WNARRates[Period]=CustEstRev[[#This Row],[Period]])*WNARRates[AdjCSWNA])","v":1.265E-2},{"$f":"SUMPRODUCT((WNARRates[BeginDate]<=CustEstRev[[#This Row],[MonthFlow]])*(WNARRates[EndDate]>=CustEstRev[[#This Row],[MonthFlow]])*(WNARRates[Region]=CustEstRev[[#This Row],[Region]])*(WNARRates[CustClass]=CustEstRev[[#This Row],[CustClass]])*(WNARRates[Period]=CustEstRev[[#This Row],[Period]])*WNARRates[AdjSRR])","v":-6.0000000000000002E-5},{"$f":"ROUND(CustEstRev[[#This Row],[NormVol]]*CustEstRev[[#This Row],[CSNWARate]],0)","v":28695},{"$f":"ROUND(CustEstRev[[#This Row],[NormVol]]*CustEstRev[[#This Row],[SRRRate]],0)","v":-136},"Calculated revenues from data in CustEstVol table and WNAR Rates table"]
[44621,"S2","62-GRF","SEMO","Res",{"$f":"SUMPRODUCT((CustEstVol[MonthFlow]=CustEstRev[[#This Row],[MonthFlow]])*(CustEstVol[RateSched]=CustEstRev[[#This Row],[RateSched]])*(CustEstVol[CustClass]=CustEstRev[[#This Row],[CustClass]])*CustEstVol[NormVol])","v":2268398},{"$f":"SUMPRODUCT((WNARRates[BeginDate]<=CustEstRev[[#This Row],[MonthFlow]])*(WNARRates[EndDate]>=CustEstRev[[#This Row],[MonthFlow]])*(WNARRates[Region]=CustEstRev[[#This Row],[Region]])*(WNARRates[CustClass]=CustEstRev[[#This Row],[CustClass]])*(WNARRates[Period]=CustEstRev[[#This Row],[Period]])*WNARRates[AdjCSWNA])","v":-3.3E-3},{"$f":"SUMPRODUCT((WNARRates[BeginDate]<=CustEstRev[[#This Row],[MonthFlow]])*(WNARRates[EndDate]>=CustEstRev[[#This Row],[MonthFlow]])*(WNARRates[Region]=CustEstRev[[#This Row],[Region]])*(WNARRates[CustClass]=CustEstRev[[#This Row],[CustClass]])*(WNARRates[Period]=CustEstRev[[#This Row],[Period]])*WNARRates[AdjSRR])","v":-4.0000000000000002E-4},{"$f":"ROUND(CustEstRev[[#This Row],[NormVol]]*CustEstRev[[#This Row],[CSNWARate]],0)","v":-7486},{"$f":"ROUND(CustEstRev[[#This Row],[NormVol]]*CustEstRev[[#This Row],[SRRRate]],0)","v":-907},"Calculated revenues from data in CustEstVol table and WNAR Rates table"]
[44621,"S1","62-GCSF","SEMO","SGS",{"$f":"SUMPRODUCT((CustEstVol[MonthFlow]=CustEstRev[[#This Row],[MonthFlow]])*(CustEstVol[RateSched]=CustEstRev[[#This Row],[RateSched]])*(CustEstVol[CustClass]=CustEstRev[[#This Row],[CustClass]])*CustEstVol[NormVol])","v":632053},{"$f":"SUMPRODUCT((WNARRates[BeginDate]<=CustEstRev[[#This Row],[MonthFlow]])*(WNARRates[EndDate]>=CustEstRev[[#This Row],[MonthFlow]])*(WNARRates[Region]=CustEstRev[[#This Row],[Region]])*(WNARRates[CustClass]=CustEstRev[[#This Row],[CustClass]])*(WNARRates[Period]=CustEstRev[[#This Row],[Period]])*WNARRates[AdjCSWNA])","v":4.3499999999999997E-3},{"$f":"SUMPRODUCT((WNARRates[BeginDate]<=CustEstRev[[#This Row],[MonthFlow]])*(WNARRates[EndDate]>=CustEstRev[[#This Row],[MonthFlow]])*(WNARRates[Region]=CustEstRev[[#This Row],[Region]])*(WNARRates[CustClass]=CustEstRev[[#This Row],[CustClass]])*(WNARRates[Period]=CustEstRev[[#This Row],[Period]])*WNARRates[AdjSRR])","v":-3.8999999999999999E-4},{"$f":"ROUND(CustEstRev[[#This Row],[NormVol]]*CustEstRev[[#This Row],[CSNWARate]],0)","v":2749},{"$f":"ROUND(CustEstRev[[#This Row],[NormVol]]*CustEstRev[[#This Row],[SRRRate]],0)","v":-247},"Calculated revenues from data in CustEstVol table and WNAR Rates table"]
[44621,"S2","62-GCSF","SEMO","SGS",{"$f":"SUMPRODUCT((CustEstVol[MonthFlow]=CustEstRev[[#This Row],[MonthFlow]])*(CustEstVol[RateSched]=CustEstRev[[#This Row],[RateSched]])*(CustEstVol[CustClass]=CustEstRev[[#This Row],[CustClass]])*CustEstVol[NormVol])","v":632053},{"$f":"SUMPRODUCT((WNARRates[BeginDate]<=CustEstRev[[#This Row],[MonthFlow]])*(WNARRates[EndDate]>=CustEstRev[[#This Row],[MonthFlow]])*(WNARRates[Region]=CustEstRev[[#This Row],[Region]])*(WNARRates[CustClass]=CustEstRev[[#This Row],[CustClass]])*(WNARRates[Period]=CustEstRev[[#This Row],[Period]])*WNARRates[AdjCSWNA])","v":-1.1100000000000001E-3},{"$f":"SUMPRODUCT((WNARRates[BeginDate]<=CustEstRev[[#This Row],[MonthFlow]])*(WNARRates[EndDate]>=CustEstRev[[#This Row],[MonthFlow]])*(WNARRates[Region]=CustEstRev[[#This Row],[Region]])*(WNARRates[CustClass]=CustEstRev[[#This Row],[CustClass]])*(WNARRates[Period]=CustEstRev[[#This Row],[Period]])*WNARRates[AdjSRR])","v":-3.2000000000000003E-4},{"$f":"ROUND(CustEstRev[[#This Row],[NormVol]]*CustEstRev[[#This Row],[CSNWARate]],0)","v":-702},{"$f":"ROUND(CustEstRev[[#This Row],[NormVol]]*CustEstRev[[#This Row],[SRRRate]],0)","v":-202},"Calculated revenues from data in CustEstVol table and WNAR Rates table"]
[44621,"S1","61-GRF","WEMO","Res",{"$f":"SUMPRODUCT((CustEstVol[MonthFlow]=CustEstRev[[#This Row],[MonthFlow]])*(CustEstVol[RateSched]=CustEstRev[[#This Row],[RateSched]])*(CustEstVol[CustClass]=CustEstRev[[#This Row],[CustClass]])*CustEstVol[NormVol])","v":325270},{"$f":"SUMPRODUCT((WNARRates[BeginDate]<=CustEstRev[[#This Row],[MonthFlow]])*(WNARRates[EndDate]>=CustEstRev[[#This Row],[MonthFlow]])*(WNARRates[Region]=CustEstRev[[#This Row],[Region]])*(WNARRates[CustClass]=CustEstRev[[#This Row],[CustClass]])*(WNARRates[Period]=CustEstRev[[#This Row],[Period]])*WNARRates[AdjCSWNA])","v":1.208E-2},{"$f":"SUMPRODUCT((WNARRates[BeginDate]<=CustEstRev[[#This Row],[MonthFlow]])*(WNARRates[EndDate]>=CustEstRev[[#This Row],[MonthFlow]])*(WNARRates[Region]=CustEstRev[[#This Row],[Region]])*(WNARRates[CustClass]=CustEstRev[[#This Row],[CustClass]])*(WNARRates[Period]=CustEstRev[[#This Row],[Period]])*WNARRates[AdjSRR])","v":-2E-3},{"$f":"ROUND(CustEstRev[[#This Row],[NormVol]]*CustEstRev[[#This Row],[CSNWARate]],0)","v":3929},{"$f":"ROUND(CustEstRev[[#This Row],[NormVol]]*CustEstRev[[#This Row],[SRRRate]],0)","v":-651},"Calculated revenues from data in CustEstVol table and WNAR Rates table"]
[44621,"S2","61-GRF","WEMO","Res",{"$f":"SUMPRODUCT((CustEstVol[MonthFlow]=CustEstRev[[#This Row],[MonthFlow]])*(CustEstVol[RateSched]=CustEstRev[[#This Row],[RateSched]])*(CustEstVol[CustClass]=CustEstRev[[#This Row],[CustClass]])*CustEstVol[NormVol])","v":325270},{"$f":"SUMPRODUCT((WNARRates[BeginDate]<=CustEstRev[[#This Row],[MonthFlow]])*(WNARRates[EndDate]>=CustEstRev[[#This Row],[MonthFlow]])*(WNARRates[Region]=CustEstRev[[#This Row],[Region]])*(WNARRates[CustClass]=CustEstRev[[#This Row],[CustClass]])*(WNARRates[Period]=CustEstRev[[#This Row],[Period]])*WNARRates[AdjCSWNA])","v":-1.357E-2},{"$f":"SUMPRODUCT((WNARRates[BeginDate]<=CustEstRev[[#This Row],[MonthFlow]])*(WNARRates[EndDate]>=CustEstRev[[#This Row],[MonthFlow]])*(WNARRates[Region]=CustEstRev[[#This Row],[Region]])*(WNARRates[CustClass]=CustEstRev[[#This Row],[CustClass]])*(WNARRates[Period]=CustEstRev[[#This Row],[Period]])*WNARRates[AdjSRR])","v":2.7999999999999998E-4},{"$f":"ROUND(CustEstRev[[#This Row],[NormVol]]*CustEstRev[[#This Row],[CSNWARate]],0)","v":-4414},{"$f":"ROUND(CustEstRev[[#This Row],[NormVol]]*CustEstRev[[#This Row],[SRRRate]],0)","v":91},"Calculated revenues from data in CustEstVol table and WNAR Rates table"]
[44621,"S1","61-GCSF","WEMO","SGS",{"$f":"SUMPRODUCT((CustEstVol[MonthFlow]=CustEstRev[[#This Row],[MonthFlow]])*(CustEstVol[RateSched]=CustEstRev[[#This Row],[RateSched]])*(CustEstVol[CustClass]=CustEstRev[[#This Row],[CustClass]])*CustEstVol[NormVol])","v":114780},{"$f":"SUMPRODUCT((WNARRates[BeginDate]<=CustEstRev[[#This Row],[MonthFlow]])*(WNARRates[EndDate]>=CustEstRev[[#This Row],[MonthFlow]])*(WNARRates[Region]=CustEstRev[[#This Row],[Region]])*(WNARRates[CustClass]=CustEstRev[[#This Row],[CustClass]])*(WNARRates[Period]=CustEstRev[[#This Row],[Period]])*WNARRates[AdjCSWNA])","v":4.8599999999999997E-3},{"$f":"SUMPRODUCT((WNARRates[BeginDate]<=CustEstRev[[#This Row],[MonthFlow]])*(WNARRates[EndDate]>=CustEstRev[[#This Row],[MonthFlow]])*(WNARRates[Region]=CustEstRev[[#This Row],[Region]])*(WNARRates[CustClass]=CustEstRev[[#This Row],[CustClass]])*(WNARRates[Period]=CustEstRev[[#This Row],[Period]])*WNARRates[AdjSRR])","v":-1.4999999999999999E-4},{"$f":"ROUND(CustEstRev[[#This Row],[NormVol]]*CustEstRev[[#This Row],[CSNWARate]],0)","v":558},{"$f":"ROUND(CustEstRev[[#This Row],[NormVol]]*CustEstRev[[#This Row],[SRRRate]],0)","v":-17},"Calculated revenues from data in CustEstVol table and WNAR Rates table"]
[44621,"S2","61-GCSF","WEMO","SGS",{"$f":"SUMPRODUCT((CustEstVol[MonthFlow]=CustEstRev[[#This Row],[MonthFlow]])*(CustEstVol[RateSched]=CustEstRev[[#This Row],[RateSched]])*(CustEstVol[CustClass]=CustEstRev[[#This Row],[CustClass]])*CustEstVol[NormVol])","v":114780},{"$f":"SUMPRODUCT((WNARRates[BeginDate]<=CustEstRev[[#This Row],[MonthFlow]])*(WNARRates[EndDate]>=CustEstRev[[#This Row],[MonthFlow]])*(WNARRates[Region]=CustEstRev[[#This Row],[Region]])*(WNARRates[CustClass]=CustEstRev[[#This Row],[CustClass]])*(WNARRates[Period]=CustEstRev[[#This Row],[Period]])*WNARRates[AdjCSWNA])","v":-5.5799999999999999E-3},{"$f":"SUMPRODUCT((WNARRates[BeginDate]<=CustEstRev[[#This Row],[MonthFlow]])*(WNARRates[EndDate]>=CustEstRev[[#This Row],[MonthFlow]])*(WNARRates[Region]=CustEstRev[[#This Row],[Region]])*(WNARRates[CustClass]=CustEstRev[[#This Row],[CustClass]])*(WNARRates[Period]=CustEstRev[[#This Row],[Period]])*WNARRates[AdjSRR])","v":1.9000000000000001E-4},{"$f":"ROUND(CustEstRev[[#This Row],[NormVol]]*CustEstRev[[#This Row],[CSNWARate]],0)","v":-640},{"$f":"ROUND(CustEstRev[[#This Row],[NormVol]]*CustEstRev[[#This Row],[SRRRate]],0)","v":22},"Calculated revenues from data in CustEstVol table and WNAR Rates table"]
[44652,"S1","63-GRF","NEMO","Res",{"$f":"SUMPRODUCT((CustEstVol[MonthFlow]=CustEstRev[[#This Row],[MonthFlow]])*(CustEstVol[RateSched]=CustEstRev[[#This Row],[RateSched]])*(CustEstVol[CustClass]=CustEstRev[[#This Row],[CustClass]])*CustEstVol[NormVol])","v":1117575},{"$f":"SUMPRODUCT((WNARRates[BeginDate]<=CustEstRev[[#This Row],[MonthFlow]])*(WNARRates[EndDate]>=CustEstRev[[#This Row],[MonthFlow]])*(WNARRates[Region]=CustEstRev[[#This Row],[Region]])*(WNARRates[CustClass]=CustEstRev[[#This Row],[CustClass]])*(WNARRates[Period]=CustEstRev[[#This Row],[Period]])*WNARRates[AdjCSWNA])","v":5.7299999999999997E-2},{"$f":"SUMPRODUCT((WNARRates[BeginDate]<=CustEstRev[[#This Row],[MonthFlow]])*(WNARRates[EndDate]>=CustEstRev[[#This Row],[MonthFlow]])*(WNARRates[Region]=CustEstRev[[#This Row],[Region]])*(WNARRates[CustClass]=CustEstRev[[#This Row],[CustClass]])*(WNARRates[Period]=CustEstRev[[#This Row],[Period]])*WNARRates[AdjSRR])","v":2.7799999999999999E-3},{"$f":"ROUND(CustEstRev[[#This Row],[NormVol]]*CustEstRev[[#This Row],[CSNWARate]],0)","v":64037},{"$f":"ROUND(CustEstRev[[#This Row],[NormVol]]*CustEstRev[[#This Row],[SRRRate]],0)","v":3107},"Calculated revenues from data in CustEstVol table and WNAR Rates table"]
[44652,"S2","63-GRF","NEMO","Res",{"$f":"SUMPRODUCT((CustEstVol[MonthFlow]=CustEstRev[[#This Row],[MonthFlow]])*(CustEstVol[RateSched]=CustEstRev[[#This Row],[RateSched]])*(CustEstVol[CustClass]=CustEstRev[[#This Row],[CustClass]])*CustEstVol[NormVol])","v":1117575},{"$f":"SUMPRODUCT((WNARRates[BeginDate]<=CustEstRev[[#This Row],[MonthFlow]])*(WNARRates[EndDate]>=CustEstRev[[#This Row],[MonthFlow]])*(WNARRates[Region]=CustEstRev[[#This Row],[Region]])*(WNARRates[CustClass]=CustEstRev[[#This Row],[CustClass]])*(WNARRates[Period]=CustEstRev[[#This Row],[Period]])*WNARRates[AdjCSWNA])","v":-1.357E-2},{"$f":"SUMPRODUCT((WNARRates[BeginDate]<=CustEstRev[[#This Row],[MonthFlow]])*(WNARRates[EndDate]>=CustEstRev[[#This Row],[MonthFlow]])*(WNARRates[Region]=CustEstRev[[#This Row],[Region]])*(WNARRates[CustClass]=CustEstRev[[#This Row],[CustClass]])*(WNARRates[Period]=CustEstRev[[#This Row],[Period]])*WNARRates[AdjSRR])","v":2.7999999999999998E-4},{"$f":"ROUND(CustEstRev[[#This Row],[NormVol]]*CustEstRev[[#This Row],[CSNWARate]],0)","v":-15165},{"$f":"ROUND(CustEstRev[[#This Row],[NormVol]]*CustEstRev[[#This Row],[SRRRate]],0)","v":313},"Calculated revenues from data in CustEstVol table and WNAR Rates table"]
[44652,"S1","63-GCSF","NEMO","SGS",{"$f":"SUMPRODUCT((CustEstVol[MonthFlow]=CustEstRev[[#This Row],[MonthFlow]])*(CustEstVol[RateSched]=CustEstRev[[#This Row],[RateSched]])*(CustEstVol[CustClass]=CustEstRev[[#This Row],[CustClass]])*CustEstVol[NormVol])","v":346089},{"$f":"SUMPRODUCT((WNARRates[BeginDate]<=CustEstRev[[#This Row],[MonthFlow]])*(WNARRates[EndDate]>=CustEstRev[[#This Row],[MonthFlow]])*(WNARRates[Region]=CustEstRev[[#This Row],[Region]])*(WNARRates[CustClass]=CustEstRev[[#This Row],[CustClass]])*(WNARRates[Period]=CustEstRev[[#This Row],[Period]])*WNARRates[AdjCSWNA])","v":2.7810000000000001E-2},{"$f":"SUMPRODUCT((WNARRates[BeginDate]<=CustEstRev[[#This Row],[MonthFlow]])*(WNARRates[EndDate]>=CustEstRev[[#This Row],[MonthFlow]])*(WNARRates[Region]=CustEstRev[[#This Row],[Region]])*(WNARRates[CustClass]=CustEstRev[[#This Row],[CustClass]])*(WNARRates[Period]=CustEstRev[[#This Row],[Period]])*WNARRates[AdjSRR])","v":-2.2000000000000001E-4},{"$f":"ROUND(CustEstRev[[#This Row],[NormVol]]*CustEstRev[[#This Row],[CSNWARate]],0)","v":9625},{"$f":"ROUND(CustEstRev[[#This Row],[NormVol]]*CustEstRev[[#This Row],[SRRRate]],0)","v":-76},"Calculated revenues from data in CustEstVol table and WNAR Rates table"]
[44652,"S2","63-GCSF","NEMO","SGS",{"$f":"SUMPRODUCT((CustEstVol[MonthFlow]=CustEstRev[[#This Row],[MonthFlow]])*(CustEstVol[RateSched]=CustEstRev[[#This Row],[RateSched]])*(CustEstVol[CustClass]=CustEstRev[[#This Row],[CustClass]])*CustEstVol[NormVol])","v":346089},{"$f":"SUMPRODUCT((WNARRates[BeginDate]<=CustEstRev[[#This Row],[MonthFlow]])*(WNARRates[EndDate]>=CustEstRev[[#This Row],[MonthFlow]])*(WNARRates[Region]=CustEstRev[[#This Row],[Region]])*(WNARRates[CustClass]=CustEstRev[[#This Row],[CustClass]])*(WNARRates[Period]=CustEstRev[[#This Row],[Period]])*WNARRates[AdjCSWNA])","v":-5.5799999999999999E-3},{"$f":"SUMPRODUCT((WNARRates[BeginDate]<=CustEstRev[[#This Row],[MonthFlow]])*(WNARRates[EndDate]>=CustEstRev[[#This Row],[MonthFlow]])*(WNARRates[Region]=CustEstRev[[#This Row],[Region]])*(WNARRates[CustClass]=CustEstRev[[#This Row],[CustClass]])*(WNARRates[Period]=CustEstRev[[#This Row],[Period]])*WNARRates[AdjSRR])","v":1.9000000000000001E-4},{"$f":"ROUND(CustEstRev[[#This Row],[NormVol]]*CustEstRev[[#This Row],[CSNWARate]],0)","v":-1931},{"$f":"ROUND(CustEstRev[[#This Row],[NormVol]]*CustEstRev[[#This Row],[SRRRate]],0)","v":66},"Calculated revenues from data in CustEstVol table and WNAR Rates table"]
[44652,"S1","62-GRF","SEMO","Res",{"$f":"SUMPRODUCT((CustEstVol[MonthFlow]=CustEstRev[[#This Row],[MonthFlow]])*(CustEstVol[RateSched]=CustEstRev[[#This Row],[RateSched]])*(CustEstVol[CustClass]=CustEstRev[[#This Row],[CustClass]])*CustEstVol[NormVol])","v":1364560},{"$f":"SUMPRODUCT((WNARRates[BeginDate]<=CustEstRev[[#This Row],[MonthFlow]])*(WNARRates[EndDate]>=CustEstRev[[#This Row],[MonthFlow]])*(WNARRates[Region]=CustEstRev[[#This Row],[Region]])*(WNARRates[CustClass]=CustEstRev[[#This Row],[CustClass]])*(WNARRates[Period]=CustEstRev[[#This Row],[Period]])*WNARRates[AdjCSWNA])","v":4.743E-2},{"$f":"SUMPRODUCT((WNARRates[BeginDate]<=CustEstRev[[#This Row],[MonthFlow]])*(WNARRates[EndDate]>=CustEstRev[[#This Row],[MonthFlow]])*(WNARRates[Region]=CustEstRev[[#This Row],[Region]])*(WNARRates[CustClass]=CustEstRev[[#This Row],[CustClass]])*(WNARRates[Period]=CustEstRev[[#This Row],[Period]])*WNARRates[AdjSRR])","v":9.8999999999999999E-4},{"$f":"ROUND(CustEstRev[[#This Row],[NormVol]]*CustEstRev[[#This Row],[CSNWARate]],0)","v":64721},{"$f":"ROUND(CustEstRev[[#This Row],[NormVol]]*CustEstRev[[#This Row],[SRRRate]],0)","v":1351},"Calculated revenues from data in CustEstVol table and WNAR Rates table"]
[44652,"S2","62-GRF","SEMO","Res",{"$f":"SUMPRODUCT((CustEstVol[MonthFlow]=CustEstRev[[#This Row],[MonthFlow]])*(CustEstVol[RateSched]=CustEstRev[[#This Row],[RateSched]])*(CustEstVol[CustClass]=CustEstRev[[#This Row],[CustClass]])*CustEstVol[NormVol])","v":1364560},{"$f":"SUMPRODUCT((WNARRates[BeginDate]<=CustEstRev[[#This Row],[MonthFlow]])*(WNARRates[EndDate]>=CustEstRev[[#This Row],[MonthFlow]])*(WNARRates[Region]=CustEstRev[[#This Row],[Region]])*(WNARRates[CustClass]=CustEstRev[[#This Row],[CustClass]])*(WNARRates[Period]=CustEstRev[[#This Row],[Period]])*WNARRates[AdjCSWNA])","v":-3.3E-3},{"$f":"SUMPRODUCT((WNARRates[BeginDate]<=CustEstRev[[#This Row],[MonthFlow]])*(WNARRates[EndDate]>=CustEstRev[[#This Row],[MonthFlow]])*(WNARRates[Region]=CustEstRev[[#This Row],[Region]])*(WNARRates[CustClass]=CustEstRev[[#This Row],[CustClass]])*(WNARRates[Period]=CustEstRev[[#This Row],[Period]])*WNARRates[AdjSRR])","v":-4.0000000000000002E-4},{"$f":"ROUND(CustEstRev[[#This Row],[NormVol]]*CustEstRev[[#This Row],[CSNWARate]],0)","v":-4503},{"$f":"ROUND(CustEstRev[[#This Row],[NormVol]]*CustEstRev[[#This Row],[SRRRate]],0)","v":-546},"Calculated revenues from data in CustEstVol table and WNAR Rates table"]
[44652,"S1","62-GCSF","SEMO","SGS",{"$f":"SUMPRODUCT((CustEstVol[MonthFlow]=CustEstRev[[#This Row],[MonthFlow]])*(CustEstVol[RateSched]=CustEstRev[[#This Row],[RateSched]])*(CustEstVol[CustClass]=CustEstRev[[#This Row],[CustClass]])*CustEstVol[NormVol])","v":362278},{"$f":"SUMPRODUCT((WNARRates[BeginDate]<=CustEstRev[[#This Row],[MonthFlow]])*(WNARRates[EndDate]>=CustEstRev[[#This Row],[MonthFlow]])*(WNARRates[Region]=CustEstRev[[#This Row],[Region]])*(WNARRates[CustClass]=CustEstRev[[#This Row],[CustClass]])*(WNARRates[Period]=CustEstRev[[#This Row],[Period]])*WNARRates[AdjCSWNA])","v":1.6230000000000001E-2},{"$f":"SUMPRODUCT((WNARRates[BeginDate]<=CustEstRev[[#This Row],[MonthFlow]])*(WNARRates[EndDate]>=CustEstRev[[#This Row],[MonthFlow]])*(WNARRates[Region]=CustEstRev[[#This Row],[Region]])*(WNARRates[CustClass]=CustEstRev[[#This Row],[CustClass]])*(WNARRates[Period]=CustEstRev[[#This Row],[Period]])*WNARRates[AdjSRR])","v":-3.7200000000000002E-3},{"$f":"ROUND(CustEstRev[[#This Row],[NormVol]]*CustEstRev[[#This Row],[CSNWARate]],0)","v":5880},{"$f":"ROUND(CustEstRev[[#This Row],[NormVol]]*CustEstRev[[#This Row],[SRRRate]],0)","v":-1348},"Calculated revenues from data in CustEstVol table and WNAR Rates table"]
[44652,"S2","62-GCSF","SEMO","SGS",{"$f":"SUMPRODUCT((CustEstVol[MonthFlow]=CustEstRev[[#This Row],[MonthFlow]])*(CustEstVol[RateSched]=CustEstRev[[#This Row],[RateSched]])*(CustEstVol[CustClass]=CustEstRev[[#This Row],[CustClass]])*CustEstVol[NormVol])","v":362278},{"$f":"SUMPRODUCT((WNARRates[BeginDate]<=CustEstRev[[#This Row],[MonthFlow]])*(WNARRates[EndDate]>=CustEstRev[[#This Row],[MonthFlow]])*(WNARRates[Region]=CustEstRev[[#This Row],[Region]])*(WNARRates[CustClass]=CustEstRev[[#This Row],[CustClass]])*(WNARRates[Period]=CustEstRev[[#This Row],[Period]])*WNARRates[AdjCSWNA])","v":-1.1100000000000001E-3},{"$f":"SUMPRODUCT((WNARRates[BeginDate]<=CustEstRev[[#This Row],[MonthFlow]])*(WNARRates[EndDate]>=CustEstRev[[#This Row],[MonthFlow]])*(WNARRates[Region]=CustEstRev[[#This Row],[Region]])*(WNARRates[CustClass]=CustEstRev[[#This Row],[CustClass]])*(WNARRates[Period]=CustEstRev[[#This Row],[Period]])*WNARRates[AdjSRR])","v":-3.2000000000000003E-4},{"$f":"ROUND(CustEstRev[[#This Row],[NormVol]]*CustEstRev[[#This Row],[CSNWARate]],0)","v":-402},{"$f":"ROUND(CustEstRev[[#This Row],[NormVol]]*CustEstRev[[#This Row],[SRRRate]],0)","v":-116},"Calculated revenues from data in CustEstVol table and WNAR Rates table"]
[44652,"S1","61-GRF","WEMO","Res",{"$f":"SUMPRODUCT((CustEstVol[MonthFlow]=CustEstRev[[#This Row],[MonthFlow]])*(CustEstVol[RateSched]=CustEstRev[[#This Row],[RateSched]])*(CustEstVol[CustClass]=CustEstRev[[#This Row],[CustClass]])*CustEstVol[NormVol])","v":195817},{"$f":"SUMPRODUCT((WNARRates[BeginDate]<=CustEstRev[[#This Row],[MonthFlow]])*(WNARRates[EndDate]>=CustEstRev[[#This Row],[MonthFlow]])*(WNARRates[Region]=CustEstRev[[#This Row],[Region]])*(WNARRates[CustClass]=CustEstRev[[#This Row],[CustClass]])*(WNARRates[Period]=CustEstRev[[#This Row],[Period]])*WNARRates[AdjCSWNA])","v":5.7299999999999997E-2},{"$f":"SUMPRODUCT((WNARRates[BeginDate]<=CustEstRev[[#This Row],[MonthFlow]])*(WNARRates[EndDate]>=CustEstRev[[#This Row],[MonthFlow]])*(WNARRates[Region]=CustEstRev[[#This Row],[Region]])*(WNARRates[CustClass]=CustEstRev[[#This Row],[CustClass]])*(WNARRates[Period]=CustEstRev[[#This Row],[Period]])*WNARRates[AdjSRR])","v":2.7799999999999999E-3},{"$f":"ROUND(CustEstRev[[#This Row],[NormVol]]*CustEstRev[[#This Row],[CSNWARate]],0)","v":11220},{"$f":"ROUND(CustEstRev[[#This Row],[NormVol]]*CustEstRev[[#This Row],[SRRRate]],0)","v":544},"Calculated revenues from data in CustEstVol table and WNAR Rates table"]
[44652,"S2","61-GRF","WEMO","Res",{"$f":"SUMPRODUCT((CustEstVol[MonthFlow]=CustEstRev[[#This Row],[MonthFlow]])*(CustEstVol[RateSched]=CustEstRev[[#This Row],[RateSched]])*(CustEstVol[CustClass]=CustEstRev[[#This Row],[CustClass]])*CustEstVol[NormVol])","v":195817},{"$f":"SUMPRODUCT((WNARRates[BeginDate]<=CustEstRev[[#This Row],[MonthFlow]])*(WNARRates[EndDate]>=CustEstRev[[#This Row],[MonthFlow]])*(WNARRates[Region]=CustEstRev[[#This Row],[Region]])*(WNARRates[CustClass]=CustEstRev[[#This Row],[CustClass]])*(WNARRates[Period]=CustEstRev[[#This Row],[Period]])*WNARRates[AdjCSWNA])","v":-1.357E-2},{"$f":"SUMPRODUCT((WNARRates[BeginDate]<=CustEstRev[[#This Row],[MonthFlow]])*(WNARRates[EndDate]>=CustEstRev[[#This Row],[MonthFlow]])*(WNARRates[Region]=CustEstRev[[#This Row],[Region]])*(WNARRates[CustClass]=CustEstRev[[#This Row],[CustClass]])*(WNARRates[Period]=CustEstRev[[#This Row],[Period]])*WNARRates[AdjSRR])","v":2.7999999999999998E-4},{"$f":"ROUND(CustEstRev[[#This Row],[NormVol]]*CustEstRev[[#This Row],[CSNWARate]],0)","v":-2657},{"$f":"ROUND(CustEstRev[[#This Row],[NormVol]]*CustEstRev[[#This Row],[SRRRate]],0)","v":55},"Calculated revenues from data in CustEstVol table and WNAR Rates table"]
[44652,"S1","61-GCSF","WEMO","SGS",{"$f":"SUMPRODUCT((CustEstVol[MonthFlow]=CustEstRev[[#This Row],[MonthFlow]])*(CustEstVol[RateSched]=CustEstRev[[#This Row],[RateSched]])*(CustEstVol[CustClass]=CustEstRev[[#This Row],[CustClass]])*CustEstVol[NormVol])","v":63380},{"$f":"SUMPRODUCT((WNARRates[BeginDate]<=CustEstRev[[#This Row],[MonthFlow]])*(WNARRates[EndDate]>=CustEstRev[[#This Row],[MonthFlow]])*(WNARRates[Region]=CustEstRev[[#This Row],[Region]])*(WNARRates[CustClass]=CustEstRev[[#This Row],[CustClass]])*(WNARRates[Period]=CustEstRev[[#This Row],[Period]])*WNARRates[AdjCSWNA])","v":2.7810000000000001E-2},{"$f":"SUMPRODUCT((WNARRates[BeginDate]<=CustEstRev[[#This Row],[MonthFlow]])*(WNARRates[EndDate]>=CustEstRev[[#This Row],[MonthFlow]])*(WNARRates[Region]=CustEstRev[[#This Row],[Region]])*(WNARRates[CustClass]=CustEstRev[[#This Row],[CustClass]])*(WNARRates[Period]=CustEstRev[[#This Row],[Period]])*WNARRates[AdjSRR])","v":-2.2000000000000001E-4},{"$f":"ROUND(CustEstRev[[#This Row],[NormVol]]*CustEstRev[[#This Row],[CSNWARate]],0)","v":1763},{"$f":"ROUND(CustEstRev[[#This Row],[NormVol]]*CustEstRev[[#This Row],[SRRRate]],0)","v":-14},"Calculated revenues from data in CustEstVol table and WNAR Rates table"]
[44652,"S2","61-GCSF","WEMO","SGS",{"$f":"SUMPRODUCT((CustEstVol[MonthFlow]=CustEstRev[[#This Row],[MonthFlow]])*(CustEstVol[RateSched]=CustEstRev[[#This Row],[RateSched]])*(CustEstVol[CustClass]=CustEstRev[[#This Row],[CustClass]])*CustEstVol[NormVol])","v":63380},{"$f":"SUMPRODUCT((WNARRates[BeginDate]<=CustEstRev[[#This Row],[MonthFlow]])*(WNARRates[EndDate]>=CustEstRev[[#This Row],[MonthFlow]])*(WNARRates[Region]=CustEstRev[[#This Row],[Region]])*(WNARRates[CustClass]=CustEstRev[[#This Row],[CustClass]])*(WNARRates[Period]=CustEstRev[[#This Row],[Period]])*WNARRates[AdjCSWNA])","v":-5.5799999999999999E-3},{"$f":"SUMPRODUCT((WNARRates[BeginDate]<=CustEstRev[[#This Row],[MonthFlow]])*(WNARRates[EndDate]>=CustEstRev[[#This Row],[MonthFlow]])*(WNARRates[Region]=CustEstRev[[#This Row],[Region]])*(WNARRates[CustClass]=CustEstRev[[#This Row],[CustClass]])*(WNARRates[Period]=CustEstRev[[#This Row],[Period]])*WNARRates[AdjSRR])","v":1.9000000000000001E-4},{"$f":"ROUND(CustEstRev[[#This Row],[NormVol]]*CustEstRev[[#This Row],[CSNWARate]],0)","v":-354},{"$f":"ROUND(CustEstRev[[#This Row],[NormVol]]*CustEstRev[[#This Row],[SRRRate]],0)","v":12},"Calculated revenues from data in CustEstVol table and WNAR Rates table"]
[44682,"S1","63-GRF","NEMO","Res",{"$f":"SUMPRODUCT((CustEstVol[MonthFlow]=CustEstRev[[#This Row],[MonthFlow]])*(CustEstVol[RateSched]=CustEstRev[[#This Row],[RateSched]])*(CustEstVol[CustClass]=CustEstRev[[#This Row],[CustClass]])*CustEstVol[NormVol])","v":512473},{"$f":"SUMPRODUCT((WNARRates[BeginDate]<=CustEstRev[[#This Row],[MonthFlow]])*(WNARRates[EndDate]>=CustEstRev[[#This Row],[MonthFlow]])*(WNARRates[Region]=CustEstRev[[#This Row],[Region]])*(WNARRates[CustClass]=CustEstRev[[#This Row],[CustClass]])*(WNARRates[Period]=CustEstRev[[#This Row],[Period]])*WNARRates[AdjCSWNA])","v":5.7299999999999997E-2},{"$f":"SUMPRODUCT((WNARRates[BeginDate]<=CustEstRev[[#This Row],[MonthFlow]])*(WNARRates[EndDate]>=CustEstRev[[#This Row],[MonthFlow]])*(WNARRates[Region]=CustEstRev[[#This Row],[Region]])*(WNARRates[CustClass]=CustEstRev[[#This Row],[CustClass]])*(WNARRates[Period]=CustEstRev[[#This Row],[Period]])*WNARRates[AdjSRR])","v":2.7799999999999999E-3},{"$f":"ROUND(CustEstRev[[#This Row],[NormVol]]*CustEstRev[[#This Row],[CSNWARate]],0)","v":29365},{"$f":"ROUND(CustEstRev[[#This Row],[NormVol]]*CustEstRev[[#This Row],[SRRRate]],0)","v":1425},"Calculated revenues from data in CustEstVol table and WNAR Rates table"]
[44682,"S2","63-GRF","NEMO","Res",{"$f":"SUMPRODUCT((CustEstVol[MonthFlow]=CustEstRev[[#This Row],[MonthFlow]])*(CustEstVol[RateSched]=CustEstRev[[#This Row],[RateSched]])*(CustEstVol[CustClass]=CustEstRev[[#This Row],[CustClass]])*CustEstVol[NormVol])","v":512473},{"$f":"SUMPRODUCT((WNARRates[BeginDate]<=CustEstRev[[#This Row],[MonthFlow]])*(WNARRates[EndDate]>=CustEstRev[[#This Row],[MonthFlow]])*(WNARRates[Region]=CustEstRev[[#This Row],[Region]])*(WNARRates[CustClass]=CustEstRev[[#This Row],[CustClass]])*(WNARRates[Period]=CustEstRev[[#This Row],[Period]])*WNARRates[AdjCSWNA])","v":-1.357E-2},{"$f":"SUMPRODUCT((WNARRates[BeginDate]<=CustEstRev[[#This Row],[MonthFlow]])*(WNARRates[EndDate]>=CustEstRev[[#This Row],[MonthFlow]])*(WNARRates[Region]=CustEstRev[[#This Row],[Region]])*(WNARRates[CustClass]=CustEstRev[[#This Row],[CustClass]])*(WNARRates[Period]=CustEstRev[[#This Row],[Period]])*WNARRates[AdjSRR])","v":2.7999999999999998E-4},{"$f":"ROUND(CustEstRev[[#This Row],[NormVol]]*CustEstRev[[#This Row],[CSNWARate]],0)","v":-6954},{"$f":"ROUND(CustEstRev[[#This Row],[NormVol]]*CustEstRev[[#This Row],[SRRRate]],0)","v":143},"Calculated revenues from data in CustEstVol table and WNAR Rates table"]
[44682,"S1","63-GCSF","NEMO","SGS",{"$f":"SUMPRODUCT((CustEstVol[MonthFlow]=CustEstRev[[#This Row],[MonthFlow]])*(CustEstVol[RateSched]=CustEstRev[[#This Row],[RateSched]])*(CustEstVol[CustClass]=CustEstRev[[#This Row],[CustClass]])*CustEstVol[NormVol])","v":151407},{"$f":"SUMPRODUCT((WNARRates[BeginDate]<=CustEstRev[[#This Row],[MonthFlow]])*(WNARRates[EndDate]>=CustEstRev[[#This Row],[MonthFlow]])*(WNARRates[Region]=CustEstRev[[#This Row],[Region]])*(WNARRates[CustClass]=CustEstRev[[#This Row],[CustClass]])*(WNARRates[Period]=CustEstRev[[#This Row],[Period]])*WNARRates[AdjCSWNA])","v":2.7810000000000001E-2},{"$f":"SUMPRODUCT((WNARRates[BeginDate]<=CustEstRev[[#This Row],[MonthFlow]])*(WNARRates[EndDate]>=CustEstRev[[#This Row],[MonthFlow]])*(WNARRates[Region]=CustEstRev[[#This Row],[Region]])*(WNARRates[CustClass]=CustEstRev[[#This Row],[CustClass]])*(WNARRates[Period]=CustEstRev[[#This Row],[Period]])*WNARRates[AdjSRR])","v":-2.2000000000000001E-4},{"$f":"ROUND(CustEstRev[[#This Row],[NormVol]]*CustEstRev[[#This Row],[CSNWARate]],0)","v":4211},{"$f":"ROUND(CustEstRev[[#This Row],[NormVol]]*CustEstRev[[#This Row],[SRRRate]],0)","v":-33},"Calculated revenues from data in CustEstVol table and WNAR Rates table"]
[44682,"S2","63-GCSF","NEMO","SGS",{"$f":"SUMPRODUCT((CustEstVol[MonthFlow]=CustEstRev[[#This Row],[MonthFlow]])*(CustEstVol[RateSched]=CustEstRev[[#This Row],[RateSched]])*(CustEstVol[CustClass]=CustEstRev[[#This Row],[CustClass]])*CustEstVol[NormVol])","v":151407},{"$f":"SUMPRODUCT((WNARRates[BeginDate]<=CustEstRev[[#This Row],[MonthFlow]])*(WNARRates[EndDate]>=CustEstRev[[#This Row],[MonthFlow]])*(WNARRates[Region]=CustEstRev[[#This Row],[Region]])*(WNARRates[CustClass]=CustEstRev[[#This Row],[CustClass]])*(WNARRates[Period]=CustEstRev[[#This Row],[Period]])*WNARRates[AdjCSWNA])","v":-5.5799999999999999E-3},{"$f":"SUMPRODUCT((WNARRates[BeginDate]<=CustEstRev[[#This Row],[MonthFlow]])*(WNARRates[EndDate]>=CustEstRev[[#This Row],[MonthFlow]])*(WNARRates[Region]=CustEstRev[[#This Row],[Region]])*(WNARRates[CustClass]=CustEstRev[[#This Row],[CustClass]])*(WNARRates[Period]=CustEstRev[[#This Row],[Period]])*WNARRates[AdjSRR])","v":1.9000000000000001E-4},{"$f":"ROUND(CustEstRev[[#This Row],[NormVol]]*CustEstRev[[#This Row],[CSNWARate]],0)","v":-845},{"$f":"ROUND(CustEstRev[[#This Row],[NormVol]]*CustEstRev[[#This Row],[SRRRate]],0)","v":29},"Calculated revenues from data in CustEstVol table and WNAR Rates table"]
[44682,"S1","62-GRF","SEMO","Res",{"$f":"SUMPRODUCT((CustEstVol[MonthFlow]=CustEstRev[[#This Row],[MonthFlow]])*(CustEstVol[RateSched]=CustEstRev[[#This Row],[RateSched]])*(CustEstVol[CustClass]=CustEstRev[[#This Row],[CustClass]])*CustEstVol[NormVol])","v":691255},{"$f":"SUMPRODUCT((WNARRates[BeginDate]<=CustEstRev[[#This Row],[MonthFlow]])*(WNARRates[EndDate]>=CustEstRev[[#This Row],[MonthFlow]])*(WNARRates[Region]=CustEstRev[[#This Row],[Region]])*(WNARRates[CustClass]=CustEstRev[[#This Row],[CustClass]])*(WNARRates[Period]=CustEstRev[[#This Row],[Period]])*WNARRates[AdjCSWNA])","v":4.743E-2},{"$f":"SUMPRODUCT((WNARRates[BeginDate]<=CustEstRev[[#This Row],[MonthFlow]])*(WNARRates[EndDate]>=CustEstRev[[#This Row],[MonthFlow]])*(WNARRates[Region]=CustEstRev[[#This Row],[Region]])*(WNARRates[CustClass]=CustEstRev[[#This Row],[CustClass]])*(WNARRates[Period]=CustEstRev[[#This Row],[Period]])*WNARRates[AdjSRR])","v":9.8999999999999999E-4},{"$f":"ROUND(CustEstRev[[#This Row],[NormVol]]*CustEstRev[[#This Row],[CSNWARate]],0)","v":32786},{"$f":"ROUND(CustEstRev[[#This Row],[NormVol]]*CustEstRev[[#This Row],[SRRRate]],0)","v":684},"Calculated revenues from data in CustEstVol table and WNAR Rates table"]
[44682,"S2","62-GRF","SEMO","Res",{"$f":"SUMPRODUCT((CustEstVol[MonthFlow]=CustEstRev[[#This Row],[MonthFlow]])*(CustEstVol[RateSched]=CustEstRev[[#This Row],[RateSched]])*(CustEstVol[CustClass]=CustEstRev[[#This Row],[CustClass]])*CustEstVol[NormVol])","v":691255},{"$f":"SUMPRODUCT((WNARRates[BeginDate]<=CustEstRev[[#This Row],[MonthFlow]])*(WNARRates[EndDate]>=CustEstRev[[#This Row],[MonthFlow]])*(WNARRates[Region]=CustEstRev[[#This Row],[Region]])*(WNARRates[CustClass]=CustEstRev[[#This Row],[CustClass]])*(WNARRates[Period]=CustEstRev[[#This Row],[Period]])*WNARRates[AdjCSWNA])","v":-3.3E-3},{"$f":"SUMPRODUCT((WNARRates[BeginDate]<=CustEstRev[[#This Row],[MonthFlow]])*(WNARRates[EndDate]>=CustEstRev[[#This Row],[MonthFlow]])*(WNARRates[Region]=CustEstRev[[#This Row],[Region]])*(WNARRates[CustClass]=CustEstRev[[#This Row],[CustClass]])*(WNARRates[Period]=CustEstRev[[#This Row],[Period]])*WNARRates[AdjSRR])","v":-4.0000000000000002E-4},{"$f":"ROUND(CustEstRev[[#This Row],[NormVol]]*CustEstRev[[#This Row],[CSNWARate]],0)","v":-2281},{"$f":"ROUND(CustEstRev[[#This Row],[NormVol]]*CustEstRev[[#This Row],[SRRRate]],0)","v":-277},"Calculated revenues from data in CustEstVol table and WNAR Rates table"]
[44682,"S1","62-GCSF","SEMO","SGS",{"$f":"SUMPRODUCT((CustEstVol[MonthFlow]=CustEstRev[[#This Row],[MonthFlow]])*(CustEstVol[RateSched]=CustEstRev[[#This Row],[RateSched]])*(CustEstVol[CustClass]=CustEstRev[[#This Row],[CustClass]])*CustEstVol[NormVol])","v":159197},{"$f":"SUMPRODUCT((WNARRates[BeginDate]<=CustEstRev[[#This Row],[MonthFlow]])*(WNARRates[EndDate]>=CustEstRev[[#This Row],[MonthFlow]])*(WNARRates[Region]=CustEstRev[[#This Row],[Region]])*(WNARRates[CustClass]=CustEstRev[[#This Row],[CustClass]])*(WNARRates[Period]=CustEstRev[[#This Row],[Period]])*WNARRates[AdjCSWNA])","v":1.6230000000000001E-2},{"$f":"SUMPRODUCT((WNARRates[BeginDate]<=CustEstRev[[#This Row],[MonthFlow]])*(WNARRates[EndDate]>=CustEstRev[[#This Row],[MonthFlow]])*(WNARRates[Region]=CustEstRev[[#This Row],[Region]])*(WNARRates[CustClass]=CustEstRev[[#This Row],[CustClass]])*(WNARRates[Period]=CustEstRev[[#This Row],[Period]])*WNARRates[AdjSRR])","v":-3.7200000000000002E-3},{"$f":"ROUND(CustEstRev[[#This Row],[NormVol]]*CustEstRev[[#This Row],[CSNWARate]],0)","v":2584},{"$f":"ROUND(CustEstRev[[#This Row],[NormVol]]*CustEstRev[[#This Row],[SRRRate]],0)","v":-592},"Calculated revenues from data in CustEstVol table and WNAR Rates table"]
[44682,"S2","62-GCSF","SEMO","SGS",{"$f":"SUMPRODUCT((CustEstVol[MonthFlow]=CustEstRev[[#This Row],[MonthFlow]])*(CustEstVol[RateSched]=CustEstRev[[#This Row],[RateSched]])*(CustEstVol[CustClass]=CustEstRev[[#This Row],[CustClass]])*CustEstVol[NormVol])","v":159197},{"$f":"SUMPRODUCT((WNARRates[BeginDate]<=CustEstRev[[#This Row],[MonthFlow]])*(WNARRates[EndDate]>=CustEstRev[[#This Row],[MonthFlow]])*(WNARRates[Region]=CustEstRev[[#This Row],[Region]])*(WNARRates[CustClass]=CustEstRev[[#This Row],[CustClass]])*(WNARRates[Period]=CustEstRev[[#This Row],[Period]])*WNARRates[AdjCSWNA])","v":-1.1100000000000001E-3},{"$f":"SUMPRODUCT((WNARRates[BeginDate]<=CustEstRev[[#This Row],[MonthFlow]])*(WNARRates[EndDate]>=CustEstRev[[#This Row],[MonthFlow]])*(WNARRates[Region]=CustEstRev[[#This Row],[Region]])*(WNARRates[CustClass]=CustEstRev[[#This Row],[CustClass]])*(WNARRates[Period]=CustEstRev[[#This Row],[Period]])*WNARRates[AdjSRR])","v":-3.2000000000000003E-4},{"$f":"ROUND(CustEstRev[[#This Row],[NormVol]]*CustEstRev[[#This Row],[CSNWARate]],0)","v":-177},{"$f":"ROUND(CustEstRev[[#This Row],[NormVol]]*CustEstRev[[#This Row],[SRRRate]],0)","v":-51},"Calculated revenues from data in CustEstVol table and WNAR Rates table"]
[44682,"S1","61-GRF","WEMO","Res",{"$f":"SUMPRODUCT((CustEstVol[MonthFlow]=CustEstRev[[#This Row],[MonthFlow]])*(CustEstVol[RateSched]=CustEstRev[[#This Row],[RateSched]])*(CustEstVol[CustClass]=CustEstRev[[#This Row],[CustClass]])*CustEstVol[NormVol])","v":104891},{"$f":"SUMPRODUCT((WNARRates[BeginDate]<=CustEstRev[[#This Row],[MonthFlow]])*(WNARRates[EndDate]>=CustEstRev[[#This Row],[MonthFlow]])*(WNARRates[Region]=CustEstRev[[#This Row],[Region]])*(WNARRates[CustClass]=CustEstRev[[#This Row],[CustClass]])*(WNARRates[Period]=CustEstRev[[#This Row],[Period]])*WNARRates[AdjCSWNA])","v":5.7299999999999997E-2},{"$f":"SUMPRODUCT((WNARRates[BeginDate]<=CustEstRev[[#This Row],[MonthFlow]])*(WNARRates[EndDate]>=CustEstRev[[#This Row],[MonthFlow]])*(WNARRates[Region]=CustEstRev[[#This Row],[Region]])*(WNARRates[CustClass]=CustEstRev[[#This Row],[CustClass]])*(WNARRates[Period]=CustEstRev[[#This Row],[Period]])*WNARRates[AdjSRR])","v":2.7799999999999999E-3},{"$f":"ROUND(CustEstRev[[#This Row],[NormVol]]*CustEstRev[[#This Row],[CSNWARate]],0)","v":6010},{"$f":"ROUND(CustEstRev[[#This Row],[NormVol]]*CustEstRev[[#This Row],[SRRRate]],0)","v":292},"Calculated revenues from data in CustEstVol table and WNAR Rates table"]
[44682,"S2","61-GRF","WEMO","Res",{"$f":"SUMPRODUCT((CustEstVol[MonthFlow]=CustEstRev[[#This Row],[MonthFlow]])*(CustEstVol[RateSched]=CustEstRev[[#This Row],[RateSched]])*(CustEstVol[CustClass]=CustEstRev[[#This Row],[CustClass]])*CustEstVol[NormVol])","v":104891},{"$f":"SUMPRODUCT((WNARRates[BeginDate]<=CustEstRev[[#This Row],[MonthFlow]])*(WNARRates[EndDate]>=CustEstRev[[#This Row],[MonthFlow]])*(WNARRates[Region]=CustEstRev[[#This Row],[Region]])*(WNARRates[CustClass]=CustEstRev[[#This Row],[CustClass]])*(WNARRates[Period]=CustEstRev[[#This Row],[Period]])*WNARRates[AdjCSWNA])","v":-1.357E-2},{"$f":"SUMPRODUCT((WNARRates[BeginDate]<=CustEstRev[[#This Row],[MonthFlow]])*(WNARRates[EndDate]>=CustEstRev[[#This Row],[MonthFlow]])*(WNARRates[Region]=CustEstRev[[#This Row],[Region]])*(WNARRates[CustClass]=CustEstRev[[#This Row],[CustClass]])*(WNARRates[Period]=CustEstRev[[#This Row],[Period]])*WNARRates[AdjSRR])","v":2.7999999999999998E-4},{"$f":"ROUND(CustEstRev[[#This Row],[NormVol]]*CustEstRev[[#This Row],[CSNWARate]],0)","v":-1423},{"$f":"ROUND(CustEstRev[[#This Row],[NormVol]]*CustEstRev[[#This Row],[SRRRate]],0)","v":29},"Calculated revenues from data in CustEstVol table and WNAR Rates table"]
[44682,"S1","61-GCSF","WEMO","SGS",{"$f":"SUMPRODUCT((CustEstVol[MonthFlow]=CustEstRev[[#This Row],[MonthFlow]])*(CustEstVol[RateSched]=CustEstRev[[#This Row],[RateSched]])*(CustEstVol[CustClass]=CustEstRev[[#This Row],[CustClass]])*CustEstVol[NormVol])","v":31005},{"$f":"SUMPRODUCT((WNARRates[BeginDate]<=CustEstRev[[#This Row],[MonthFlow]])*(WNARRates[EndDate]>=CustEstRev[[#This Row],[MonthFlow]])*(WNARRates[Region]=CustEstRev[[#This Row],[Region]])*(WNARRates[CustClass]=CustEstRev[[#This Row],[CustClass]])*(WNARRates[Period]=CustEstRev[[#This Row],[Period]])*WNARRates[AdjCSWNA])","v":2.7810000000000001E-2},{"$f":"SUMPRODUCT((WNARRates[BeginDate]<=CustEstRev[[#This Row],[MonthFlow]])*(WNARRates[EndDate]>=CustEstRev[[#This Row],[MonthFlow]])*(WNARRates[Region]=CustEstRev[[#This Row],[Region]])*(WNARRates[CustClass]=CustEstRev[[#This Row],[CustClass]])*(WNARRates[Period]=CustEstRev[[#This Row],[Period]])*WNARRates[AdjSRR])","v":-2.2000000000000001E-4},{"$f":"ROUND(CustEstRev[[#This Row],[NormVol]]*CustEstRev[[#This Row],[CSNWARate]],0)","v":862},{"$f":"ROUND(CustEstRev[[#This Row],[NormVol]]*CustEstRev[[#This Row],[SRRRate]],0)","v":-7},"Calculated revenues from data in CustEstVol table and WNAR Rates table"]
[44682,"S2","61-GCSF","WEMO","SGS",{"$f":"SUMPRODUCT((CustEstVol[MonthFlow]=CustEstRev[[#This Row],[MonthFlow]])*(CustEstVol[RateSched]=CustEstRev[[#This Row],[RateSched]])*(CustEstVol[CustClass]=CustEstRev[[#This Row],[CustClass]])*CustEstVol[NormVol])","v":31005},{"$f":"SUMPRODUCT((WNARRates[BeginDate]<=CustEstRev[[#This Row],[MonthFlow]])*(WNARRates[EndDate]>=CustEstRev[[#This Row],[MonthFlow]])*(WNARRates[Region]=CustEstRev[[#This Row],[Region]])*(WNARRates[CustClass]=CustEstRev[[#This Row],[CustClass]])*(WNARRates[Period]=CustEstRev[[#This Row],[Period]])*WNARRates[AdjCSWNA])","v":-5.5799999999999999E-3},{"$f":"SUMPRODUCT((WNARRates[BeginDate]<=CustEstRev[[#This Row],[MonthFlow]])*(WNARRates[EndDate]>=CustEstRev[[#This Row],[MonthFlow]])*(WNARRates[Region]=CustEstRev[[#This Row],[Region]])*(WNARRates[CustClass]=CustEstRev[[#This Row],[CustClass]])*(WNARRates[Period]=CustEstRev[[#This Row],[Period]])*WNARRates[AdjSRR])","v":1.9000000000000001E-4},{"$f":"ROUND(CustEstRev[[#This Row],[NormVol]]*CustEstRev[[#This Row],[CSNWARate]],0)","v":-173},{"$f":"ROUND(CustEstRev[[#This Row],[NormVol]]*CustEstRev[[#This Row],[SRRRate]],0)","v":6},"Calculated revenues from data in CustEstVol table and WNAR Rates table"]
[44713,"S1","63-GRF","NEMO","Res",{"$f":"SUMPRODUCT((CustEstVol[MonthFlow]=CustEstRev[[#This Row],[MonthFlow]])*(CustEstVol[RateSched]=CustEstRev[[#This Row],[RateSched]])*(CustEstVol[CustClass]=CustEstRev[[#This Row],[CustClass]])*CustEstVol[NormVol])","v":186375},{"$f":"SUMPRODUCT((WNARRates[BeginDate]<=CustEstRev[[#This Row],[MonthFlow]])*(WNARRates[EndDate]>=CustEstRev[[#This Row],[MonthFlow]])*(WNARRates[Region]=CustEstRev[[#This Row],[Region]])*(WNARRates[CustClass]=CustEstRev[[#This Row],[CustClass]])*(WNARRates[Period]=CustEstRev[[#This Row],[Period]])*WNARRates[AdjCSWNA])","v":5.7299999999999997E-2},{"$f":"SUMPRODUCT((WNARRates[BeginDate]<=CustEstRev[[#This Row],[MonthFlow]])*(WNARRates[EndDate]>=CustEstRev[[#This Row],[MonthFlow]])*(WNARRates[Region]=CustEstRev[[#This Row],[Region]])*(WNARRates[CustClass]=CustEstRev[[#This Row],[CustClass]])*(WNARRates[Period]=CustEstRev[[#This Row],[Period]])*WNARRates[AdjSRR])","v":2.7799999999999999E-3},{"$f":"ROUND(CustEstRev[[#This Row],[NormVol]]*CustEstRev[[#This Row],[CSNWARate]],0)","v":10679},{"$f":"ROUND(CustEstRev[[#This Row],[NormVol]]*CustEstRev[[#This Row],[SRRRate]],0)","v":518},"Calculated revenues from data in CustEstVol table and WNAR Rates table"]
[44713,"S2","63-GRF","NEMO","Res",{"$f":"SUMPRODUCT((CustEstVol[MonthFlow]=CustEstRev[[#This Row],[MonthFlow]])*(CustEstVol[RateSched]=CustEstRev[[#This Row],[RateSched]])*(CustEstVol[CustClass]=CustEstRev[[#This Row],[CustClass]])*CustEstVol[NormVol])","v":186375},{"$f":"SUMPRODUCT((WNARRates[BeginDate]<=CustEstRev[[#This Row],[MonthFlow]])*(WNARRates[EndDate]>=CustEstRev[[#This Row],[MonthFlow]])*(WNARRates[Region]=CustEstRev[[#This Row],[Region]])*(WNARRates[CustClass]=CustEstRev[[#This Row],[CustClass]])*(WNARRates[Period]=CustEstRev[[#This Row],[Period]])*WNARRates[AdjCSWNA])","v":-1.357E-2},{"$f":"SUMPRODUCT((WNARRates[BeginDate]<=CustEstRev[[#This Row],[MonthFlow]])*(WNARRates[EndDate]>=CustEstRev[[#This Row],[MonthFlow]])*(WNARRates[Region]=CustEstRev[[#This Row],[Region]])*(WNARRates[CustClass]=CustEstRev[[#This Row],[CustClass]])*(WNARRates[Period]=CustEstRev[[#This Row],[Period]])*WNARRates[AdjSRR])","v":2.7999999999999998E-4},{"$f":"ROUND(CustEstRev[[#This Row],[NormVol]]*CustEstRev[[#This Row],[CSNWARate]],0)","v":-2529},{"$f":"ROUND(CustEstRev[[#This Row],[NormVol]]*CustEstRev[[#This Row],[SRRRate]],0)","v":52},"Calculated revenues from data in CustEstVol table and WNAR Rates table"]
[44713,"S1","63-GCSF","NEMO","SGS",{"$f":"SUMPRODUCT((CustEstVol[MonthFlow]=CustEstRev[[#This Row],[MonthFlow]])*(CustEstVol[RateSched]=CustEstRev[[#This Row],[RateSched]])*(CustEstVol[CustClass]=CustEstRev[[#This Row],[CustClass]])*CustEstVol[NormVol])","v":71677},{"$f":"SUMPRODUCT((WNARRates[BeginDate]<=CustEstRev[[#This Row],[MonthFlow]])*(WNARRates[EndDate]>=CustEstRev[[#This Row],[MonthFlow]])*(WNARRates[Region]=CustEstRev[[#This Row],[Region]])*(WNARRates[CustClass]=CustEstRev[[#This Row],[CustClass]])*(WNARRates[Period]=CustEstRev[[#This Row],[Period]])*WNARRates[AdjCSWNA])","v":2.7810000000000001E-2},{"$f":"SUMPRODUCT((WNARRates[BeginDate]<=CustEstRev[[#This Row],[MonthFlow]])*(WNARRates[EndDate]>=CustEstRev[[#This Row],[MonthFlow]])*(WNARRates[Region]=CustEstRev[[#This Row],[Region]])*(WNARRates[CustClass]=CustEstRev[[#This Row],[CustClass]])*(WNARRates[Period]=CustEstRev[[#This Row],[Period]])*WNARRates[AdjSRR])","v":-2.2000000000000001E-4},{"$f":"ROUND(CustEstRev[[#This Row],[NormVol]]*CustEstRev[[#This Row],[CSNWARate]],0)","v":1993},{"$f":"ROUND(CustEstRev[[#This Row],[NormVol]]*CustEstRev[[#This Row],[SRRRate]],0)","v":-16},"Calculated revenues from data in CustEstVol table and WNAR Rates table"]
[44713,"S2","63-GCSF","NEMO","SGS",{"$f":"SUMPRODUCT((CustEstVol[MonthFlow]=CustEstRev[[#This Row],[MonthFlow]])*(CustEstVol[RateSched]=CustEstRev[[#This Row],[RateSched]])*(CustEstVol[CustClass]=CustEstRev[[#This Row],[CustClass]])*CustEstVol[NormVol])","v":71677},{"$f":"SUMPRODUCT((WNARRates[BeginDate]<=CustEstRev[[#This Row],[MonthFlow]])*(WNARRates[EndDate]>=CustEstRev[[#This Row],[MonthFlow]])*(WNARRates[Region]=CustEstRev[[#This Row],[Region]])*(WNARRates[CustClass]=CustEstRev[[#This Row],[CustClass]])*(WNARRates[Period]=CustEstRev[[#This Row],[Period]])*WNARRates[AdjCSWNA])","v":-5.5799999999999999E-3},{"$f":"SUMPRODUCT((WNARRates[BeginDate]<=CustEstRev[[#This Row],[MonthFlow]])*(WNARRates[EndDate]>=CustEstRev[[#This Row],[MonthFlow]])*(WNARRates[Region]=CustEstRev[[#This Row],[Region]])*(WNARRates[CustClass]=CustEstRev[[#This Row],[CustClass]])*(WNARRates[Period]=CustEstRev[[#This Row],[Period]])*WNARRates[AdjSRR])","v":1.9000000000000001E-4},{"$f":"ROUND(CustEstRev[[#This Row],[NormVol]]*CustEstRev[[#This Row],[CSNWARate]],0)","v":-400},{"$f":"ROUND(CustEstRev[[#This Row],[NormVol]]*CustEstRev[[#This Row],[SRRRate]],0)","v":14},"Calculated revenues from data in CustEstVol table and WNAR Rates table"]
[44713,"S1","62-GRF","SEMO","Res",{"$f":"SUMPRODUCT((CustEstVol[MonthFlow]=CustEstRev[[#This Row],[MonthFlow]])*(CustEstVol[RateSched]=CustEstRev[[#This Row],[RateSched]])*(CustEstVol[CustClass]=CustEstRev[[#This Row],[CustClass]])*CustEstVol[NormVol])","v":346843},{"$f":"SUMPRODUCT((WNARRates[BeginDate]<=CustEstRev[[#This Row],[MonthFlow]])*(WNARRates[EndDate]>=CustEstRev[[#This Row],[MonthFlow]])*(WNARRates[Region]=CustEstRev[[#This Row],[Region]])*(WNARRates[CustClass]=CustEstRev[[#This Row],[CustClass]])*(WNARRates[Period]=CustEstRev[[#This Row],[Period]])*WNARRates[AdjCSWNA])","v":4.743E-2},{"$f":"SUMPRODUCT((WNARRates[BeginDate]<=CustEstRev[[#This Row],[MonthFlow]])*(WNARRates[EndDate]>=CustEstRev[[#This Row],[MonthFlow]])*(WNARRates[Region]=CustEstRev[[#This Row],[Region]])*(WNARRates[CustClass]=CustEstRev[[#This Row],[CustClass]])*(WNARRates[Period]=CustEstRev[[#This Row],[Period]])*WNARRates[AdjSRR])","v":9.8999999999999999E-4},{"$f":"ROUND(CustEstRev[[#This Row],[NormVol]]*CustEstRev[[#This Row],[CSNWARate]],0)","v":16451},{"$f":"ROUND(CustEstRev[[#This Row],[NormVol]]*CustEstRev[[#This Row],[SRRRate]],0)","v":343},"Calculated revenues from data in CustEstVol table and WNAR Rates table"]
[44713,"S2","62-GRF","SEMO","Res",{"$f":"SUMPRODUCT((CustEstVol[MonthFlow]=CustEstRev[[#This Row],[MonthFlow]])*(CustEstVol[RateSched]=CustEstRev[[#This Row],[RateSched]])*(CustEstVol[CustClass]=CustEstRev[[#This Row],[CustClass]])*CustEstVol[NormVol])","v":346843},{"$f":"SUMPRODUCT((WNARRates[BeginDate]<=CustEstRev[[#This Row],[MonthFlow]])*(WNARRates[EndDate]>=CustEstRev[[#This Row],[MonthFlow]])*(WNARRates[Region]=CustEstRev[[#This Row],[Region]])*(WNARRates[CustClass]=CustEstRev[[#This Row],[CustClass]])*(WNARRates[Period]=CustEstRev[[#This Row],[Period]])*WNARRates[AdjCSWNA])","v":-3.3E-3},{"$f":"SUMPRODUCT((WNARRates[BeginDate]<=CustEstRev[[#This Row],[MonthFlow]])*(WNARRates[EndDate]>=CustEstRev[[#This Row],[MonthFlow]])*(WNARRates[Region]=CustEstRev[[#This Row],[Region]])*(WNARRates[CustClass]=CustEstRev[[#This Row],[CustClass]])*(WNARRates[Period]=CustEstRev[[#This Row],[Period]])*WNARRates[AdjSRR])","v":-4.0000000000000002E-4},{"$f":"ROUND(CustEstRev[[#This Row],[NormVol]]*CustEstRev[[#This Row],[CSNWARate]],0)","v":-1145},{"$f":"ROUND(CustEstRev[[#This Row],[NormVol]]*CustEstRev[[#This Row],[SRRRate]],0)","v":-139},"Calculated revenues from data in CustEstVol table and WNAR Rates table"]
[44713,"S1","62-GCSF","SEMO","SGS",{"$f":"SUMPRODUCT((CustEstVol[MonthFlow]=CustEstRev[[#This Row],[MonthFlow]])*(CustEstVol[RateSched]=CustEstRev[[#This Row],[RateSched]])*(CustEstVol[CustClass]=CustEstRev[[#This Row],[CustClass]])*CustEstVol[NormVol])","v":98086},{"$f":"SUMPRODUCT((WNARRates[BeginDate]<=CustEstRev[[#This Row],[MonthFlow]])*(WNARRates[EndDate]>=CustEstRev[[#This Row],[MonthFlow]])*(WNARRates[Region]=CustEstRev[[#This Row],[Region]])*(WNARRates[CustClass]=CustEstRev[[#This Row],[CustClass]])*(WNARRates[Period]=CustEstRev[[#This Row],[Period]])*WNARRates[AdjCSWNA])","v":1.6230000000000001E-2},{"$f":"SUMPRODUCT((WNARRates[BeginDate]<=CustEstRev[[#This Row],[MonthFlow]])*(WNARRates[EndDate]>=CustEstRev[[#This Row],[MonthFlow]])*(WNARRates[Region]=CustEstRev[[#This Row],[Region]])*(WNARRates[CustClass]=CustEstRev[[#This Row],[CustClass]])*(WNARRates[Period]=CustEstRev[[#This Row],[Period]])*WNARRates[AdjSRR])","v":-3.7200000000000002E-3},{"$f":"ROUND(CustEstRev[[#This Row],[NormVol]]*CustEstRev[[#This Row],[CSNWARate]],0)","v":1592},{"$f":"ROUND(CustEstRev[[#This Row],[NormVol]]*CustEstRev[[#This Row],[SRRRate]],0)","v":-365},"Calculated revenues from data in CustEstVol table and WNAR Rates table"]
[44713,"S2","62-GCSF","SEMO","SGS",{"$f":"SUMPRODUCT((CustEstVol[MonthFlow]=CustEstRev[[#This Row],[MonthFlow]])*(CustEstVol[RateSched]=CustEstRev[[#This Row],[RateSched]])*(CustEstVol[CustClass]=CustEstRev[[#This Row],[CustClass]])*CustEstVol[NormVol])","v":98086},{"$f":"SUMPRODUCT((WNARRates[BeginDate]<=CustEstRev[[#This Row],[MonthFlow]])*(WNARRates[EndDate]>=CustEstRev[[#This Row],[MonthFlow]])*(WNARRates[Region]=CustEstRev[[#This Row],[Region]])*(WNARRates[CustClass]=CustEstRev[[#This Row],[CustClass]])*(WNARRates[Period]=CustEstRev[[#This Row],[Period]])*WNARRates[AdjCSWNA])","v":-1.1100000000000001E-3},{"$f":"SUMPRODUCT((WNARRates[BeginDate]<=CustEstRev[[#This Row],[MonthFlow]])*(WNARRates[EndDate]>=CustEstRev[[#This Row],[MonthFlow]])*(WNARRates[Region]=CustEstRev[[#This Row],[Region]])*(WNARRates[CustClass]=CustEstRev[[#This Row],[CustClass]])*(WNARRates[Period]=CustEstRev[[#This Row],[Period]])*WNARRates[AdjSRR])","v":-3.2000000000000003E-4},{"$f":"ROUND(CustEstRev[[#This Row],[NormVol]]*CustEstRev[[#This Row],[CSNWARate]],0)","v":-109},{"$f":"ROUND(CustEstRev[[#This Row],[NormVol]]*CustEstRev[[#This Row],[SRRRate]],0)","v":-31},"Calculated revenues from data in CustEstVol table and WNAR Rates table"]
[44713,"S1","61-GRF","WEMO","Res",{"$f":"SUMPRODUCT((CustEstVol[MonthFlow]=CustEstRev[[#This Row],[MonthFlow]])*(CustEstVol[RateSched]=CustEstRev[[#This Row],[RateSched]])*(CustEstVol[CustClass]=CustEstRev[[#This Row],[CustClass]])*CustEstVol[NormVol])","v":36253},{"$f":"SUMPRODUCT((WNARRates[BeginDate]<=CustEstRev[[#This Row],[MonthFlow]])*(WNARRates[EndDate]>=CustEstRev[[#This Row],[MonthFlow]])*(WNARRates[Region]=CustEstRev[[#This Row],[Region]])*(WNARRates[CustClass]=CustEstRev[[#This Row],[CustClass]])*(WNARRates[Period]=CustEstRev[[#This Row],[Period]])*WNARRates[AdjCSWNA])","v":5.7299999999999997E-2},{"$f":"SUMPRODUCT((WNARRates[BeginDate]<=CustEstRev[[#This Row],[MonthFlow]])*(WNARRates[EndDate]>=CustEstRev[[#This Row],[MonthFlow]])*(WNARRates[Region]=CustEstRev[[#This Row],[Region]])*(WNARRates[CustClass]=CustEstRev[[#This Row],[CustClass]])*(WNARRates[Period]=CustEstRev[[#This Row],[Period]])*WNARRates[AdjSRR])","v":2.7799999999999999E-3},{"$f":"ROUND(CustEstRev[[#This Row],[NormVol]]*CustEstRev[[#This Row],[CSNWARate]],0)","v":2077},{"$f":"ROUND(CustEstRev[[#This Row],[NormVol]]*CustEstRev[[#This Row],[SRRRate]],0)","v":101},"Calculated revenues from data in CustEstVol table and WNAR Rates table"]
[44713,"S2","61-GRF","WEMO","Res",{"$f":"SUMPRODUCT((CustEstVol[MonthFlow]=CustEstRev[[#This Row],[MonthFlow]])*(CustEstVol[RateSched]=CustEstRev[[#This Row],[RateSched]])*(CustEstVol[CustClass]=CustEstRev[[#This Row],[CustClass]])*CustEstVol[NormVol])","v":36253},{"$f":"SUMPRODUCT((WNARRates[BeginDate]<=CustEstRev[[#This Row],[MonthFlow]])*(WNARRates[EndDate]>=CustEstRev[[#This Row],[MonthFlow]])*(WNARRates[Region]=CustEstRev[[#This Row],[Region]])*(WNARRates[CustClass]=CustEstRev[[#This Row],[CustClass]])*(WNARRates[Period]=CustEstRev[[#This Row],[Period]])*WNARRates[AdjCSWNA])","v":-1.357E-2},{"$f":"SUMPRODUCT((WNARRates[BeginDate]<=CustEstRev[[#This Row],[MonthFlow]])*(WNARRates[EndDate]>=CustEstRev[[#This Row],[MonthFlow]])*(WNARRates[Region]=CustEstRev[[#This Row],[Region]])*(WNARRates[CustClass]=CustEstRev[[#This Row],[CustClass]])*(WNARRates[Period]=CustEstRev[[#This Row],[Period]])*WNARRates[AdjSRR])","v":2.7999999999999998E-4},{"$f":"ROUND(CustEstRev[[#This Row],[NormVol]]*CustEstRev[[#This Row],[CSNWARate]],0)","v":-492},{"$f":"ROUND(CustEstRev[[#This Row],[NormVol]]*CustEstRev[[#This Row],[SRRRate]],0)","v":10},"Calculated revenues from data in CustEstVol table and WNAR Rates table"]
[44713,"S1","61-GCSF","WEMO","SGS",{"$f":"SUMPRODUCT((CustEstVol[MonthFlow]=CustEstRev[[#This Row],[MonthFlow]])*(CustEstVol[RateSched]=CustEstRev[[#This Row],[RateSched]])*(CustEstVol[CustClass]=CustEstRev[[#This Row],[CustClass]])*CustEstVol[NormVol])","v":13433},{"$f":"SUMPRODUCT((WNARRates[BeginDate]<=CustEstRev[[#This Row],[MonthFlow]])*(WNARRates[EndDate]>=CustEstRev[[#This Row],[MonthFlow]])*(WNARRates[Region]=CustEstRev[[#This Row],[Region]])*(WNARRates[CustClass]=CustEstRev[[#This Row],[CustClass]])*(WNARRates[Period]=CustEstRev[[#This Row],[Period]])*WNARRates[AdjCSWNA])","v":2.7810000000000001E-2},{"$f":"SUMPRODUCT((WNARRates[BeginDate]<=CustEstRev[[#This Row],[MonthFlow]])*(WNARRates[EndDate]>=CustEstRev[[#This Row],[MonthFlow]])*(WNARRates[Region]=CustEstRev[[#This Row],[Region]])*(WNARRates[CustClass]=CustEstRev[[#This Row],[CustClass]])*(WNARRates[Period]=CustEstRev[[#This Row],[Period]])*WNARRates[AdjSRR])","v":-2.2000000000000001E-4},{"$f":"ROUND(CustEstRev[[#This Row],[NormVol]]*CustEstRev[[#This Row],[CSNWARate]],0)","v":374},{"$f":"ROUND(CustEstRev[[#This Row],[NormVol]]*CustEstRev[[#This Row],[SRRRate]],0)","v":-3},"Calculated revenues from data in CustEstVol table and WNAR Rates table"]
[44713,"S2","61-GCSF","WEMO","SGS",{"$f":"SUMPRODUCT((CustEstVol[MonthFlow]=CustEstRev[[#This Row],[MonthFlow]])*(CustEstVol[RateSched]=CustEstRev[[#This Row],[RateSched]])*(CustEstVol[CustClass]=CustEstRev[[#This Row],[CustClass]])*CustEstVol[NormVol])","v":13433},{"$f":"SUMPRODUCT((WNARRates[BeginDate]<=CustEstRev[[#This Row],[MonthFlow]])*(WNARRates[EndDate]>=CustEstRev[[#This Row],[MonthFlow]])*(WNARRates[Region]=CustEstRev[[#This Row],[Region]])*(WNARRates[CustClass]=CustEstRev[[#This Row],[CustClass]])*(WNARRates[Period]=CustEstRev[[#This Row],[Period]])*WNARRates[AdjCSWNA])","v":-5.5799999999999999E-3},{"$f":"SUMPRODUCT((WNARRates[BeginDate]<=CustEstRev[[#This Row],[MonthFlow]])*(WNARRates[EndDate]>=CustEstRev[[#This Row],[MonthFlow]])*(WNARRates[Region]=CustEstRev[[#This Row],[Region]])*(WNARRates[CustClass]=CustEstRev[[#This Row],[CustClass]])*(WNARRates[Period]=CustEstRev[[#This Row],[Period]])*WNARRates[AdjSRR])","v":1.9000000000000001E-4},{"$f":"ROUND(CustEstRev[[#This Row],[NormVol]]*CustEstRev[[#This Row],[CSNWARate]],0)","v":-75},{"$f":"ROUND(CustEstRev[[#This Row],[NormVol]]*CustEstRev[[#This Row],[SRRRate]],0)","v":3},"Calculated revenues from data in CustEstVol table and WNAR Rates table"]
[44743,"S1","63-GRF","NEMO","Res",{"$f":"SUMPRODUCT((CustEstVol[MonthFlow]=CustEstRev[[#This Row],[MonthFlow]])*(CustEstVol[RateSched]=CustEstRev[[#This Row],[RateSched]])*(CustEstVol[CustClass]=CustEstRev[[#This Row],[CustClass]])*CustEstVol[NormVol])","v":153253},{"$f":"SUMPRODUCT((WNARRates[BeginDate]<=CustEstRev[[#This Row],[MonthFlow]])*(WNARRates[EndDate]>=CustEstRev[[#This Row],[MonthFlow]])*(WNARRates[Region]=CustEstRev[[#This Row],[Region]])*(WNARRates[CustClass]=CustEstRev[[#This Row],[CustClass]])*(WNARRates[Period]=CustEstRev[[#This Row],[Period]])*WNARRates[AdjCSWNA])","v":5.7299999999999997E-2},{"$f":"SUMPRODUCT((WNARRates[BeginDate]<=CustEstRev[[#This Row],[MonthFlow]])*(WNARRates[EndDate]>=CustEstRev[[#This Row],[MonthFlow]])*(WNARRates[Region]=CustEstRev[[#This Row],[Region]])*(WNARRates[CustClass]=CustEstRev[[#This Row],[CustClass]])*(WNARRates[Period]=CustEstRev[[#This Row],[Period]])*WNARRates[AdjSRR])","v":2.7799999999999999E-3},{"$f":"ROUND(CustEstRev[[#This Row],[NormVol]]*CustEstRev[[#This Row],[CSNWARate]],0)","v":8781},{"$f":"ROUND(CustEstRev[[#This Row],[NormVol]]*CustEstRev[[#This Row],[SRRRate]],0)","v":426},"Calculated revenues from data in CustEstVol table and WNAR Rates table"]
[44743,"S2","63-GRF","NEMO","Res",{"$f":"SUMPRODUCT((CustEstVol[MonthFlow]=CustEstRev[[#This Row],[MonthFlow]])*(CustEstVol[RateSched]=CustEstRev[[#This Row],[RateSched]])*(CustEstVol[CustClass]=CustEstRev[[#This Row],[CustClass]])*CustEstVol[NormVol])","v":153253},{"$f":"SUMPRODUCT((WNARRates[BeginDate]<=CustEstRev[[#This Row],[MonthFlow]])*(WNARRates[EndDate]>=CustEstRev[[#This Row],[MonthFlow]])*(WNARRates[Region]=CustEstRev[[#This Row],[Region]])*(WNARRates[CustClass]=CustEstRev[[#This Row],[CustClass]])*(WNARRates[Period]=CustEstRev[[#This Row],[Period]])*WNARRates[AdjCSWNA])","v":-1.357E-2},{"$f":"SUMPRODUCT((WNARRates[BeginDate]<=CustEstRev[[#This Row],[MonthFlow]])*(WNARRates[EndDate]>=CustEstRev[[#This Row],[MonthFlow]])*(WNARRates[Region]=CustEstRev[[#This Row],[Region]])*(WNARRates[CustClass]=CustEstRev[[#This Row],[CustClass]])*(WNARRates[Period]=CustEstRev[[#This Row],[Period]])*WNARRates[AdjSRR])","v":2.7999999999999998E-4},{"$f":"ROUND(CustEstRev[[#This Row],[NormVol]]*CustEstRev[[#This Row],[CSNWARate]],0)","v":-2080},{"$f":"ROUND(CustEstRev[[#This Row],[NormVol]]*CustEstRev[[#This Row],[SRRRate]],0)","v":43},"Calculated revenues from data in CustEstVol table and WNAR Rates table"]
[44743,"S1","63-GCSF","NEMO","SGS",{"$f":"SUMPRODUCT((CustEstVol[MonthFlow]=CustEstRev[[#This Row],[MonthFlow]])*(CustEstVol[RateSched]=CustEstRev[[#This Row],[RateSched]])*(CustEstVol[CustClass]=CustEstRev[[#This Row],[CustClass]])*CustEstVol[NormVol])","v":66782},{"$f":"SUMPRODUCT((WNARRates[BeginDate]<=CustEstRev[[#This Row],[MonthFlow]])*(WNARRates[EndDate]>=CustEstRev[[#This Row],[MonthFlow]])*(WNARRates[Region]=CustEstRev[[#This Row],[Region]])*(WNARRates[CustClass]=CustEstRev[[#This Row],[CustClass]])*(WNARRates[Period]=CustEstRev[[#This Row],[Period]])*WNARRates[AdjCSWNA])","v":2.7810000000000001E-2},{"$f":"SUMPRODUCT((WNARRates[BeginDate]<=CustEstRev[[#This Row],[MonthFlow]])*(WNARRates[EndDate]>=CustEstRev[[#This Row],[MonthFlow]])*(WNARRates[Region]=CustEstRev[[#This Row],[Region]])*(WNARRates[CustClass]=CustEstRev[[#This Row],[CustClass]])*(WNARRates[Period]=CustEstRev[[#This Row],[Period]])*WNARRates[AdjSRR])","v":-2.2000000000000001E-4},{"$f":"ROUND(CustEstRev[[#This Row],[NormVol]]*CustEstRev[[#This Row],[CSNWARate]],0)","v":1857},{"$f":"ROUND(CustEstRev[[#This Row],[NormVol]]*CustEstRev[[#This Row],[SRRRate]],0)","v":-15},"Calculated revenues from data in CustEstVol table and WNAR Rates table"]
[44743,"S2","63-GCSF","NEMO","SGS",{"$f":"SUMPRODUCT((CustEstVol[MonthFlow]=CustEstRev[[#This Row],[MonthFlow]])*(CustEstVol[RateSched]=CustEstRev[[#This Row],[RateSched]])*(CustEstVol[CustClass]=CustEstRev[[#This Row],[CustClass]])*CustEstVol[NormVol])","v":66782},{"$f":"SUMPRODUCT((WNARRates[BeginDate]<=CustEstRev[[#This Row],[MonthFlow]])*(WNARRates[EndDate]>=CustEstRev[[#This Row],[MonthFlow]])*(WNARRates[Region]=CustEstRev[[#This Row],[Region]])*(WNARRates[CustClass]=CustEstRev[[#This Row],[CustClass]])*(WNARRates[Period]=CustEstRev[[#This Row],[Period]])*WNARRates[AdjCSWNA])","v":-5.5799999999999999E-3},{"$f":"SUMPRODUCT((WNARRates[BeginDate]<=CustEstRev[[#This Row],[MonthFlow]])*(WNARRates[EndDate]>=CustEstRev[[#This Row],[MonthFlow]])*(WNARRates[Region]=CustEstRev[[#This Row],[Region]])*(WNARRates[CustClass]=CustEstRev[[#This Row],[CustClass]])*(WNARRates[Period]=CustEstRev[[#This Row],[Period]])*WNARRates[AdjSRR])","v":1.9000000000000001E-4},{"$f":"ROUND(CustEstRev[[#This Row],[NormVol]]*CustEstRev[[#This Row],[CSNWARate]],0)","v":-373},{"$f":"ROUND(CustEstRev[[#This Row],[NormVol]]*CustEstRev[[#This Row],[SRRRate]],0)","v":13},"Calculated revenues from data in CustEstVol table and WNAR Rates table"]
[44743,"S1","62-GRF","SEMO","Res",{"$f":"SUMPRODUCT((CustEstVol[MonthFlow]=CustEstRev[[#This Row],[MonthFlow]])*(CustEstVol[RateSched]=CustEstRev[[#This Row],[RateSched]])*(CustEstVol[CustClass]=CustEstRev[[#This Row],[CustClass]])*CustEstVol[NormVol])","v":268362},{"$f":"SUMPRODUCT((WNARRates[BeginDate]<=CustEstRev[[#This Row],[MonthFlow]])*(WNARRates[EndDate]>=CustEstRev[[#This Row],[MonthFlow]])*(WNARRates[Region]=CustEstRev[[#This Row],[Region]])*(WNARRates[CustClass]=CustEstRev[[#This Row],[CustClass]])*(WNARRates[Period]=CustEstRev[[#This Row],[Period]])*WNARRates[AdjCSWNA])","v":4.743E-2},{"$f":"SUMPRODUCT((WNARRates[BeginDate]<=CustEstRev[[#This Row],[MonthFlow]])*(WNARRates[EndDate]>=CustEstRev[[#This Row],[MonthFlow]])*(WNARRates[Region]=CustEstRev[[#This Row],[Region]])*(WNARRates[CustClass]=CustEstRev[[#This Row],[CustClass]])*(WNARRates[Period]=CustEstRev[[#This Row],[Period]])*WNARRates[AdjSRR])","v":9.8999999999999999E-4},{"$f":"ROUND(CustEstRev[[#This Row],[NormVol]]*CustEstRev[[#This Row],[CSNWARate]],0)","v":12728},{"$f":"ROUND(CustEstRev[[#This Row],[NormVol]]*CustEstRev[[#This Row],[SRRRate]],0)","v":266},"Calculated revenues from data in CustEstVol table and WNAR Rates table"]
[44743,"S2","62-GRF","SEMO","Res",{"$f":"SUMPRODUCT((CustEstVol[MonthFlow]=CustEstRev[[#This Row],[MonthFlow]])*(CustEstVol[RateSched]=CustEstRev[[#This Row],[RateSched]])*(CustEstVol[CustClass]=CustEstRev[[#This Row],[CustClass]])*CustEstVol[NormVol])","v":268362},{"$f":"SUMPRODUCT((WNARRates[BeginDate]<=CustEstRev[[#This Row],[MonthFlow]])*(WNARRates[EndDate]>=CustEstRev[[#This Row],[MonthFlow]])*(WNARRates[Region]=CustEstRev[[#This Row],[Region]])*(WNARRates[CustClass]=CustEstRev[[#This Row],[CustClass]])*(WNARRates[Period]=CustEstRev[[#This Row],[Period]])*WNARRates[AdjCSWNA])","v":-3.3E-3},{"$f":"SUMPRODUCT((WNARRates[BeginDate]<=CustEstRev[[#This Row],[MonthFlow]])*(WNARRates[EndDate]>=CustEstRev[[#This Row],[MonthFlow]])*(WNARRates[Region]=CustEstRev[[#This Row],[Region]])*(WNARRates[CustClass]=CustEstRev[[#This Row],[CustClass]])*(WNARRates[Period]=CustEstRev[[#This Row],[Period]])*WNARRates[AdjSRR])","v":-4.0000000000000002E-4},{"$f":"ROUND(CustEstRev[[#This Row],[NormVol]]*CustEstRev[[#This Row],[CSNWARate]],0)","v":-886},{"$f":"ROUND(CustEstRev[[#This Row],[NormVol]]*CustEstRev[[#This Row],[SRRRate]],0)","v":-107},"Calculated revenues from data in CustEstVol table and WNAR Rates table"]
[44743,"S1","62-GCSF","SEMO","SGS",{"$f":"SUMPRODUCT((CustEstVol[MonthFlow]=CustEstRev[[#This Row],[MonthFlow]])*(CustEstVol[RateSched]=CustEstRev[[#This Row],[RateSched]])*(CustEstVol[CustClass]=CustEstRev[[#This Row],[CustClass]])*CustEstVol[NormVol])","v":84505},{"$f":"SUMPRODUCT((WNARRates[BeginDate]<=CustEstRev[[#This Row],[MonthFlow]])*(WNARRates[EndDate]>=CustEstRev[[#This Row],[MonthFlow]])*(WNARRates[Region]=CustEstRev[[#This Row],[Region]])*(WNARRates[CustClass]=CustEstRev[[#This Row],[CustClass]])*(WNARRates[Period]=CustEstRev[[#This Row],[Period]])*WNARRates[AdjCSWNA])","v":1.6230000000000001E-2},{"$f":"SUMPRODUCT((WNARRates[BeginDate]<=CustEstRev[[#This Row],[MonthFlow]])*(WNARRates[EndDate]>=CustEstRev[[#This Row],[MonthFlow]])*(WNARRates[Region]=CustEstRev[[#This Row],[Region]])*(WNARRates[CustClass]=CustEstRev[[#This Row],[CustClass]])*(WNARRates[Period]=CustEstRev[[#This Row],[Period]])*WNARRates[AdjSRR])","v":-3.7200000000000002E-3},{"$f":"ROUND(CustEstRev[[#This Row],[NormVol]]*CustEstRev[[#This Row],[CSNWARate]],0)","v":1372},{"$f":"ROUND(CustEstRev[[#This Row],[NormVol]]*CustEstRev[[#This Row],[SRRRate]],0)","v":-314},"Calculated revenues from data in CustEstVol table and WNAR Rates table"]
[44743,"S2","62-GCSF","SEMO","SGS",{"$f":"SUMPRODUCT((CustEstVol[MonthFlow]=CustEstRev[[#This Row],[MonthFlow]])*(CustEstVol[RateSched]=CustEstRev[[#This Row],[RateSched]])*(CustEstVol[CustClass]=CustEstRev[[#This Row],[CustClass]])*CustEstVol[NormVol])","v":84505},{"$f":"SUMPRODUCT((WNARRates[BeginDate]<=CustEstRev[[#This Row],[MonthFlow]])*(WNARRates[EndDate]>=CustEstRev[[#This Row],[MonthFlow]])*(WNARRates[Region]=CustEstRev[[#This Row],[Region]])*(WNARRates[CustClass]=CustEstRev[[#This Row],[CustClass]])*(WNARRates[Period]=CustEstRev[[#This Row],[Period]])*WNARRates[AdjCSWNA])","v":-1.1100000000000001E-3},{"$f":"SUMPRODUCT((WNARRates[BeginDate]<=CustEstRev[[#This Row],[MonthFlow]])*(WNARRates[EndDate]>=CustEstRev[[#This Row],[MonthFlow]])*(WNARRates[Region]=CustEstRev[[#This Row],[Region]])*(WNARRates[CustClass]=CustEstRev[[#This Row],[CustClass]])*(WNARRates[Period]=CustEstRev[[#This Row],[Period]])*WNARRates[AdjSRR])","v":-3.2000000000000003E-4},{"$f":"ROUND(CustEstRev[[#This Row],[NormVol]]*CustEstRev[[#This Row],[CSNWARate]],0)","v":-94},{"$f":"ROUND(CustEstRev[[#This Row],[NormVol]]*CustEstRev[[#This Row],[SRRRate]],0)","v":-27},"Calculated revenues from data in CustEstVol table and WNAR Rates table"]
[44743,"S1","61-GRF","WEMO","Res",{"$f":"SUMPRODUCT((CustEstVol[MonthFlow]=CustEstRev[[#This Row],[MonthFlow]])*(CustEstVol[RateSched]=CustEstRev[[#This Row],[RateSched]])*(CustEstVol[CustClass]=CustEstRev[[#This Row],[CustClass]])*CustEstVol[NormVol])","v":30742},{"$f":"SUMPRODUCT((WNARRates[BeginDate]<=CustEstRev[[#This Row],[MonthFlow]])*(WNARRates[EndDate]>=CustEstRev[[#This Row],[MonthFlow]])*(WNARRates[Region]=CustEstRev[[#This Row],[Region]])*(WNARRates[CustClass]=CustEstRev[[#This Row],[CustClass]])*(WNARRates[Period]=CustEstRev[[#This Row],[Period]])*WNARRates[AdjCSWNA])","v":5.7299999999999997E-2},{"$f":"SUMPRODUCT((WNARRates[BeginDate]<=CustEstRev[[#This Row],[MonthFlow]])*(WNARRates[EndDate]>=CustEstRev[[#This Row],[MonthFlow]])*(WNARRates[Region]=CustEstRev[[#This Row],[Region]])*(WNARRates[CustClass]=CustEstRev[[#This Row],[CustClass]])*(WNARRates[Period]=CustEstRev[[#This Row],[Period]])*WNARRates[AdjSRR])","v":2.7799999999999999E-3},{"$f":"ROUND(CustEstRev[[#This Row],[NormVol]]*CustEstRev[[#This Row],[CSNWARate]],0)","v":1762},{"$f":"ROUND(CustEstRev[[#This Row],[NormVol]]*CustEstRev[[#This Row],[SRRRate]],0)","v":85},"Calculated revenues from data in CustEstVol table and WNAR Rates table"]
[44743,"S2","61-GRF","WEMO","Res",{"$f":"SUMPRODUCT((CustEstVol[MonthFlow]=CustEstRev[[#This Row],[MonthFlow]])*(CustEstVol[RateSched]=CustEstRev[[#This Row],[RateSched]])*(CustEstVol[CustClass]=CustEstRev[[#This Row],[CustClass]])*CustEstVol[NormVol])","v":30742},{"$f":"SUMPRODUCT((WNARRates[BeginDate]<=CustEstRev[[#This Row],[MonthFlow]])*(WNARRates[EndDate]>=CustEstRev[[#This Row],[MonthFlow]])*(WNARRates[Region]=CustEstRev[[#This Row],[Region]])*(WNARRates[CustClass]=CustEstRev[[#This Row],[CustClass]])*(WNARRates[Period]=CustEstRev[[#This Row],[Period]])*WNARRates[AdjCSWNA])","v":-1.357E-2},{"$f":"SUMPRODUCT((WNARRates[BeginDate]<=CustEstRev[[#This Row],[MonthFlow]])*(WNARRates[EndDate]>=CustEstRev[[#This Row],[MonthFlow]])*(WNARRates[Region]=CustEstRev[[#This Row],[Region]])*(WNARRates[CustClass]=CustEstRev[[#This Row],[CustClass]])*(WNARRates[Period]=CustEstRev[[#This Row],[Period]])*WNARRates[AdjSRR])","v":2.7999999999999998E-4},{"$f":"ROUND(CustEstRev[[#This Row],[NormVol]]*CustEstRev[[#This Row],[CSNWARate]],0)","v":-417},{"$f":"ROUND(CustEstRev[[#This Row],[NormVol]]*CustEstRev[[#This Row],[SRRRate]],0)","v":9},"Calculated revenues from data in CustEstVol table and WNAR Rates table"]
[44743,"S1","61-GCSF","WEMO","SGS",{"$f":"SUMPRODUCT((CustEstVol[MonthFlow]=CustEstRev[[#This Row],[MonthFlow]])*(CustEstVol[RateSched]=CustEstRev[[#This Row],[RateSched]])*(CustEstVol[CustClass]=CustEstRev[[#This Row],[CustClass]])*CustEstVol[NormVol])","v":12337},{"$f":"SUMPRODUCT((WNARRates[BeginDate]<=CustEstRev[[#This Row],[MonthFlow]])*(WNARRates[EndDate]>=CustEstRev[[#This Row],[MonthFlow]])*(WNARRates[Region]=CustEstRev[[#This Row],[Region]])*(WNARRates[CustClass]=CustEstRev[[#This Row],[CustClass]])*(WNARRates[Period]=CustEstRev[[#This Row],[Period]])*WNARRates[AdjCSWNA])","v":2.7810000000000001E-2},{"$f":"SUMPRODUCT((WNARRates[BeginDate]<=CustEstRev[[#This Row],[MonthFlow]])*(WNARRates[EndDate]>=CustEstRev[[#This Row],[MonthFlow]])*(WNARRates[Region]=CustEstRev[[#This Row],[Region]])*(WNARRates[CustClass]=CustEstRev[[#This Row],[CustClass]])*(WNARRates[Period]=CustEstRev[[#This Row],[Period]])*WNARRates[AdjSRR])","v":-2.2000000000000001E-4},{"$f":"ROUND(CustEstRev[[#This Row],[NormVol]]*CustEstRev[[#This Row],[CSNWARate]],0)","v":343},{"$f":"ROUND(CustEstRev[[#This Row],[NormVol]]*CustEstRev[[#This Row],[SRRRate]],0)","v":-3},"Calculated revenues from data in CustEstVol table and WNAR Rates table"]
[44743,"S2","61-GCSF","WEMO","SGS",{"$f":"SUMPRODUCT((CustEstVol[MonthFlow]=CustEstRev[[#This Row],[MonthFlow]])*(CustEstVol[RateSched]=CustEstRev[[#This Row],[RateSched]])*(CustEstVol[CustClass]=CustEstRev[[#This Row],[CustClass]])*CustEstVol[NormVol])","v":12337},{"$f":"SUMPRODUCT((WNARRates[BeginDate]<=CustEstRev[[#This Row],[MonthFlow]])*(WNARRates[EndDate]>=CustEstRev[[#This Row],[MonthFlow]])*(WNARRates[Region]=CustEstRev[[#This Row],[Region]])*(WNARRates[CustClass]=CustEstRev[[#This Row],[CustClass]])*(WNARRates[Period]=CustEstRev[[#This Row],[Period]])*WNARRates[AdjCSWNA])","v":-5.5799999999999999E-3},{"$f":"SUMPRODUCT((WNARRates[BeginDate]<=CustEstRev[[#This Row],[MonthFlow]])*(WNARRates[EndDate]>=CustEstRev[[#This Row],[MonthFlow]])*(WNARRates[Region]=CustEstRev[[#This Row],[Region]])*(WNARRates[CustClass]=CustEstRev[[#This Row],[CustClass]])*(WNARRates[Period]=CustEstRev[[#This Row],[Period]])*WNARRates[AdjSRR])","v":1.9000000000000001E-4},{"$f":"ROUND(CustEstRev[[#This Row],[NormVol]]*CustEstRev[[#This Row],[CSNWARate]],0)","v":-69},{"$f":"ROUND(CustEstRev[[#This Row],[NormVol]]*CustEstRev[[#This Row],[SRRRate]],0)","v":2},"Calculated revenues from data in CustEstVol table and WNAR Rates table"]
[44774,"S1","63-GRF","NEMO","Res",{"$f":"SUMPRODUCT((CustEstVol[MonthFlow]=CustEstRev[[#This Row],[MonthFlow]])*(CustEstVol[RateSched]=CustEstRev[[#This Row],[RateSched]])*(CustEstVol[CustClass]=CustEstRev[[#This Row],[CustClass]])*CustEstVol[NormVol])","v":138771},{"$f":"SUMPRODUCT((WNARRates[BeginDate]<=CustEstRev[[#This Row],[MonthFlow]])*(WNARRates[EndDate]>=CustEstRev[[#This Row],[MonthFlow]])*(WNARRates[Region]=CustEstRev[[#This Row],[Region]])*(WNARRates[CustClass]=CustEstRev[[#This Row],[CustClass]])*(WNARRates[Period]=CustEstRev[[#This Row],[Period]])*WNARRates[AdjCSWNA])","v":5.7299999999999997E-2},{"$f":"SUMPRODUCT((WNARRates[BeginDate]<=CustEstRev[[#This Row],[MonthFlow]])*(WNARRates[EndDate]>=CustEstRev[[#This Row],[MonthFlow]])*(WNARRates[Region]=CustEstRev[[#This Row],[Region]])*(WNARRates[CustClass]=CustEstRev[[#This Row],[CustClass]])*(WNARRates[Period]=CustEstRev[[#This Row],[Period]])*WNARRates[AdjSRR])","v":2.7799999999999999E-3},{"$f":"ROUND(CustEstRev[[#This Row],[NormVol]]*CustEstRev[[#This Row],[CSNWARate]],0)","v":7952},{"$f":"ROUND(CustEstRev[[#This Row],[NormVol]]*CustEstRev[[#This Row],[SRRRate]],0)","v":386},"Calculated revenues from data in CustEstVol table and WNAR Rates table"]
[44774,"S2","63-GRF","NEMO","Res",{"$f":"SUMPRODUCT((CustEstVol[MonthFlow]=CustEstRev[[#This Row],[MonthFlow]])*(CustEstVol[RateSched]=CustEstRev[[#This Row],[RateSched]])*(CustEstVol[CustClass]=CustEstRev[[#This Row],[CustClass]])*CustEstVol[NormVol])","v":138771},{"$f":"SUMPRODUCT((WNARRates[BeginDate]<=CustEstRev[[#This Row],[MonthFlow]])*(WNARRates[EndDate]>=CustEstRev[[#This Row],[MonthFlow]])*(WNARRates[Region]=CustEstRev[[#This Row],[Region]])*(WNARRates[CustClass]=CustEstRev[[#This Row],[CustClass]])*(WNARRates[Period]=CustEstRev[[#This Row],[Period]])*WNARRates[AdjCSWNA])","v":-1.357E-2},{"$f":"SUMPRODUCT((WNARRates[BeginDate]<=CustEstRev[[#This Row],[MonthFlow]])*(WNARRates[EndDate]>=CustEstRev[[#This Row],[MonthFlow]])*(WNARRates[Region]=CustEstRev[[#This Row],[Region]])*(WNARRates[CustClass]=CustEstRev[[#This Row],[CustClass]])*(WNARRates[Period]=CustEstRev[[#This Row],[Period]])*WNARRates[AdjSRR])","v":2.7999999999999998E-4},{"$f":"ROUND(CustEstRev[[#This Row],[NormVol]]*CustEstRev[[#This Row],[CSNWARate]],0)","v":-1883},{"$f":"ROUND(CustEstRev[[#This Row],[NormVol]]*CustEstRev[[#This Row],[SRRRate]],0)","v":39},"Calculated revenues from data in CustEstVol table and WNAR Rates table"]
[44774,"S1","63-GCSF","NEMO","SGS",{"$f":"SUMPRODUCT((CustEstVol[MonthFlow]=CustEstRev[[#This Row],[MonthFlow]])*(CustEstVol[RateSched]=CustEstRev[[#This Row],[RateSched]])*(CustEstVol[CustClass]=CustEstRev[[#This Row],[CustClass]])*CustEstVol[NormVol])","v":62541},{"$f":"SUMPRODUCT((WNARRates[BeginDate]<=CustEstRev[[#This Row],[MonthFlow]])*(WNARRates[EndDate]>=CustEstRev[[#This Row],[MonthFlow]])*(WNARRates[Region]=CustEstRev[[#This Row],[Region]])*(WNARRates[CustClass]=CustEstRev[[#This Row],[CustClass]])*(WNARRates[Period]=CustEstRev[[#This Row],[Period]])*WNARRates[AdjCSWNA])","v":2.7810000000000001E-2},{"$f":"SUMPRODUCT((WNARRates[BeginDate]<=CustEstRev[[#This Row],[MonthFlow]])*(WNARRates[EndDate]>=CustEstRev[[#This Row],[MonthFlow]])*(WNARRates[Region]=CustEstRev[[#This Row],[Region]])*(WNARRates[CustClass]=CustEstRev[[#This Row],[CustClass]])*(WNARRates[Period]=CustEstRev[[#This Row],[Period]])*WNARRates[AdjSRR])","v":-2.2000000000000001E-4},{"$f":"ROUND(CustEstRev[[#This Row],[NormVol]]*CustEstRev[[#This Row],[CSNWARate]],0)","v":1739},{"$f":"ROUND(CustEstRev[[#This Row],[NormVol]]*CustEstRev[[#This Row],[SRRRate]],0)","v":-14},"Calculated revenues from data in CustEstVol table and WNAR Rates table"]
[44774,"S2","63-GCSF","NEMO","SGS",{"$f":"SUMPRODUCT((CustEstVol[MonthFlow]=CustEstRev[[#This Row],[MonthFlow]])*(CustEstVol[RateSched]=CustEstRev[[#This Row],[RateSched]])*(CustEstVol[CustClass]=CustEstRev[[#This Row],[CustClass]])*CustEstVol[NormVol])","v":62541},{"$f":"SUMPRODUCT((WNARRates[BeginDate]<=CustEstRev[[#This Row],[MonthFlow]])*(WNARRates[EndDate]>=CustEstRev[[#This Row],[MonthFlow]])*(WNARRates[Region]=CustEstRev[[#This Row],[Region]])*(WNARRates[CustClass]=CustEstRev[[#This Row],[CustClass]])*(WNARRates[Period]=CustEstRev[[#This Row],[Period]])*WNARRates[AdjCSWNA])","v":-5.5799999999999999E-3},{"$f":"SUMPRODUCT((WNARRates[BeginDate]<=CustEstRev[[#This Row],[MonthFlow]])*(WNARRates[EndDate]>=CustEstRev[[#This Row],[MonthFlow]])*(WNARRates[Region]=CustEstRev[[#This Row],[Region]])*(WNARRates[CustClass]=CustEstRev[[#This Row],[CustClass]])*(WNARRates[Period]=CustEstRev[[#This Row],[Period]])*WNARRates[AdjSRR])","v":1.9000000000000001E-4},{"$f":"ROUND(CustEstRev[[#This Row],[NormVol]]*CustEstRev[[#This Row],[CSNWARate]],0)","v":-349},{"$f":"ROUND(CustEstRev[[#This Row],[NormVol]]*CustEstRev[[#This Row],[SRRRate]],0)","v":12},"Calculated revenues from data in CustEstVol table and WNAR Rates table"]
[44774,"S1","62-GRF","SEMO","Res",{"$f":"SUMPRODUCT((CustEstVol[MonthFlow]=CustEstRev[[#This Row],[MonthFlow]])*(CustEstVol[RateSched]=CustEstRev[[#This Row],[RateSched]])*(CustEstVol[CustClass]=CustEstRev[[#This Row],[CustClass]])*CustEstVol[NormVol])","v":252879},{"$f":"SUMPRODUCT((WNARRates[BeginDate]<=CustEstRev[[#This Row],[MonthFlow]])*(WNARRates[EndDate]>=CustEstRev[[#This Row],[MonthFlow]])*(WNARRates[Region]=CustEstRev[[#This Row],[Region]])*(WNARRates[CustClass]=CustEstRev[[#This Row],[CustClass]])*(WNARRates[Period]=CustEstRev[[#This Row],[Period]])*WNARRates[AdjCSWNA])","v":4.743E-2},{"$f":"SUMPRODUCT((WNARRates[BeginDate]<=CustEstRev[[#This Row],[MonthFlow]])*(WNARRates[EndDate]>=CustEstRev[[#This Row],[MonthFlow]])*(WNARRates[Region]=CustEstRev[[#This Row],[Region]])*(WNARRates[CustClass]=CustEstRev[[#This Row],[CustClass]])*(WNARRates[Period]=CustEstRev[[#This Row],[Period]])*WNARRates[AdjSRR])","v":9.8999999999999999E-4},{"$f":"ROUND(CustEstRev[[#This Row],[NormVol]]*CustEstRev[[#This Row],[CSNWARate]],0)","v":11994},{"$f":"ROUND(CustEstRev[[#This Row],[NormVol]]*CustEstRev[[#This Row],[SRRRate]],0)","v":250},"Calculated revenues from data in CustEstVol table and WNAR Rates table"]
[44774,"S2","62-GRF","SEMO","Res",{"$f":"SUMPRODUCT((CustEstVol[MonthFlow]=CustEstRev[[#This Row],[MonthFlow]])*(CustEstVol[RateSched]=CustEstRev[[#This Row],[RateSched]])*(CustEstVol[CustClass]=CustEstRev[[#This Row],[CustClass]])*CustEstVol[NormVol])","v":252879},{"$f":"SUMPRODUCT((WNARRates[BeginDate]<=CustEstRev[[#This Row],[MonthFlow]])*(WNARRates[EndDate]>=CustEstRev[[#This Row],[MonthFlow]])*(WNARRates[Region]=CustEstRev[[#This Row],[Region]])*(WNARRates[CustClass]=CustEstRev[[#This Row],[CustClass]])*(WNARRates[Period]=CustEstRev[[#This Row],[Period]])*WNARRates[AdjCSWNA])","v":-3.3E-3},{"$f":"SUMPRODUCT((WNARRates[BeginDate]<=CustEstRev[[#This Row],[MonthFlow]])*(WNARRates[EndDate]>=CustEstRev[[#This Row],[MonthFlow]])*(WNARRates[Region]=CustEstRev[[#This Row],[Region]])*(WNARRates[CustClass]=CustEstRev[[#This Row],[CustClass]])*(WNARRates[Period]=CustEstRev[[#This Row],[Period]])*WNARRates[AdjSRR])","v":-4.0000000000000002E-4},{"$f":"ROUND(CustEstRev[[#This Row],[NormVol]]*CustEstRev[[#This Row],[CSNWARate]],0)","v":-835},{"$f":"ROUND(CustEstRev[[#This Row],[NormVol]]*CustEstRev[[#This Row],[SRRRate]],0)","v":-101},"Calculated revenues from data in CustEstVol table and WNAR Rates table"]
[44774,"S1","62-GCSF","SEMO","SGS",{"$f":"SUMPRODUCT((CustEstVol[MonthFlow]=CustEstRev[[#This Row],[MonthFlow]])*(CustEstVol[RateSched]=CustEstRev[[#This Row],[RateSched]])*(CustEstVol[CustClass]=CustEstRev[[#This Row],[CustClass]])*CustEstVol[NormVol])","v":86712},{"$f":"SUMPRODUCT((WNARRates[BeginDate]<=CustEstRev[[#This Row],[MonthFlow]])*(WNARRates[EndDate]>=CustEstRev[[#This Row],[MonthFlow]])*(WNARRates[Region]=CustEstRev[[#This Row],[Region]])*(WNARRates[CustClass]=CustEstRev[[#This Row],[CustClass]])*(WNARRates[Period]=CustEstRev[[#This Row],[Period]])*WNARRates[AdjCSWNA])","v":1.6230000000000001E-2},{"$f":"SUMPRODUCT((WNARRates[BeginDate]<=CustEstRev[[#This Row],[MonthFlow]])*(WNARRates[EndDate]>=CustEstRev[[#This Row],[MonthFlow]])*(WNARRates[Region]=CustEstRev[[#This Row],[Region]])*(WNARRates[CustClass]=CustEstRev[[#This Row],[CustClass]])*(WNARRates[Period]=CustEstRev[[#This Row],[Period]])*WNARRates[AdjSRR])","v":-3.7200000000000002E-3},{"$f":"ROUND(CustEstRev[[#This Row],[NormVol]]*CustEstRev[[#This Row],[CSNWARate]],0)","v":1407},{"$f":"ROUND(CustEstRev[[#This Row],[NormVol]]*CustEstRev[[#This Row],[SRRRate]],0)","v":-323},"Calculated revenues from data in CustEstVol table and WNAR Rates table"]
[44774,"S2","62-GCSF","SEMO","SGS",{"$f":"SUMPRODUCT((CustEstVol[MonthFlow]=CustEstRev[[#This Row],[MonthFlow]])*(CustEstVol[RateSched]=CustEstRev[[#This Row],[RateSched]])*(CustEstVol[CustClass]=CustEstRev[[#This Row],[CustClass]])*CustEstVol[NormVol])","v":86712},{"$f":"SUMPRODUCT((WNARRates[BeginDate]<=CustEstRev[[#This Row],[MonthFlow]])*(WNARRates[EndDate]>=CustEstRev[[#This Row],[MonthFlow]])*(WNARRates[Region]=CustEstRev[[#This Row],[Region]])*(WNARRates[CustClass]=CustEstRev[[#This Row],[CustClass]])*(WNARRates[Period]=CustEstRev[[#This Row],[Period]])*WNARRates[AdjCSWNA])","v":-1.1100000000000001E-3},{"$f":"SUMPRODUCT((WNARRates[BeginDate]<=CustEstRev[[#This Row],[MonthFlow]])*(WNARRates[EndDate]>=CustEstRev[[#This Row],[MonthFlow]])*(WNARRates[Region]=CustEstRev[[#This Row],[Region]])*(WNARRates[CustClass]=CustEstRev[[#This Row],[CustClass]])*(WNARRates[Period]=CustEstRev[[#This Row],[Period]])*WNARRates[AdjSRR])","v":-3.2000000000000003E-4},{"$f":"ROUND(CustEstRev[[#This Row],[NormVol]]*CustEstRev[[#This Row],[CSNWARate]],0)","v":-96},{"$f":"ROUND(CustEstRev[[#This Row],[NormVol]]*CustEstRev[[#This Row],[SRRRate]],0)","v":-28},"Calculated revenues from data in CustEstVol table and WNAR Rates table"]
[44774,"S1","61-GRF","WEMO","Res",{"$f":"SUMPRODUCT((CustEstVol[MonthFlow]=CustEstRev[[#This Row],[MonthFlow]])*(CustEstVol[RateSched]=CustEstRev[[#This Row],[RateSched]])*(CustEstVol[CustClass]=CustEstRev[[#This Row],[CustClass]])*CustEstVol[NormVol])","v":24729},{"$f":"SUMPRODUCT((WNARRates[BeginDate]<=CustEstRev[[#This Row],[MonthFlow]])*(WNARRates[EndDate]>=CustEstRev[[#This Row],[MonthFlow]])*(WNARRates[Region]=CustEstRev[[#This Row],[Region]])*(WNARRates[CustClass]=CustEstRev[[#This Row],[CustClass]])*(WNARRates[Period]=CustEstRev[[#This Row],[Period]])*WNARRates[AdjCSWNA])","v":5.7299999999999997E-2},{"$f":"SUMPRODUCT((WNARRates[BeginDate]<=CustEstRev[[#This Row],[MonthFlow]])*(WNARRates[EndDate]>=CustEstRev[[#This Row],[MonthFlow]])*(WNARRates[Region]=CustEstRev[[#This Row],[Region]])*(WNARRates[CustClass]=CustEstRev[[#This Row],[CustClass]])*(WNARRates[Period]=CustEstRev[[#This Row],[Period]])*WNARRates[AdjSRR])","v":2.7799999999999999E-3},{"$f":"ROUND(CustEstRev[[#This Row],[NormVol]]*CustEstRev[[#This Row],[CSNWARate]],0)","v":1417},{"$f":"ROUND(CustEstRev[[#This Row],[NormVol]]*CustEstRev[[#This Row],[SRRRate]],0)","v":69},"Calculated revenues from data in CustEstVol table and WNAR Rates table"]
[44774,"S2","61-GRF","WEMO","Res",{"$f":"SUMPRODUCT((CustEstVol[MonthFlow]=CustEstRev[[#This Row],[MonthFlow]])*(CustEstVol[RateSched]=CustEstRev[[#This Row],[RateSched]])*(CustEstVol[CustClass]=CustEstRev[[#This Row],[CustClass]])*CustEstVol[NormVol])","v":24729},{"$f":"SUMPRODUCT((WNARRates[BeginDate]<=CustEstRev[[#This Row],[MonthFlow]])*(WNARRates[EndDate]>=CustEstRev[[#This Row],[MonthFlow]])*(WNARRates[Region]=CustEstRev[[#This Row],[Region]])*(WNARRates[CustClass]=CustEstRev[[#This Row],[CustClass]])*(WNARRates[Period]=CustEstRev[[#This Row],[Period]])*WNARRates[AdjCSWNA])","v":-1.357E-2},{"$f":"SUMPRODUCT((WNARRates[BeginDate]<=CustEstRev[[#This Row],[MonthFlow]])*(WNARRates[EndDate]>=CustEstRev[[#This Row],[MonthFlow]])*(WNARRates[Region]=CustEstRev[[#This Row],[Region]])*(WNARRates[CustClass]=CustEstRev[[#This Row],[CustClass]])*(WNARRates[Period]=CustEstRev[[#This Row],[Period]])*WNARRates[AdjSRR])","v":2.7999999999999998E-4},{"$f":"ROUND(CustEstRev[[#This Row],[NormVol]]*CustEstRev[[#This Row],[CSNWARate]],0)","v":-336},{"$f":"ROUND(CustEstRev[[#This Row],[NormVol]]*CustEstRev[[#This Row],[SRRRate]],0)","v":7},"Calculated revenues from data in CustEstVol table and WNAR Rates table"]
[44774,"S1","61-GCSF","WEMO","SGS",{"$f":"SUMPRODUCT((CustEstVol[MonthFlow]=CustEstRev[[#This Row],[MonthFlow]])*(CustEstVol[RateSched]=CustEstRev[[#This Row],[RateSched]])*(CustEstVol[CustClass]=CustEstRev[[#This Row],[CustClass]])*CustEstVol[NormVol])","v":10440},{"$f":"SUMPRODUCT((WNARRates[BeginDate]<=CustEstRev[[#This Row],[MonthFlow]])*(WNARRates[EndDate]>=CustEstRev[[#This Row],[MonthFlow]])*(WNARRates[Region]=CustEstRev[[#This Row],[Region]])*(WNARRates[CustClass]=CustEstRev[[#This Row],[CustClass]])*(WNARRates[Period]=CustEstRev[[#This Row],[Period]])*WNARRates[AdjCSWNA])","v":2.7810000000000001E-2},{"$f":"SUMPRODUCT((WNARRates[BeginDate]<=CustEstRev[[#This Row],[MonthFlow]])*(WNARRates[EndDate]>=CustEstRev[[#This Row],[MonthFlow]])*(WNARRates[Region]=CustEstRev[[#This Row],[Region]])*(WNARRates[CustClass]=CustEstRev[[#This Row],[CustClass]])*(WNARRates[Period]=CustEstRev[[#This Row],[Period]])*WNARRates[AdjSRR])","v":-2.2000000000000001E-4},{"$f":"ROUND(CustEstRev[[#This Row],[NormVol]]*CustEstRev[[#This Row],[CSNWARate]],0)","v":290},{"$f":"ROUND(CustEstRev[[#This Row],[NormVol]]*CustEstRev[[#This Row],[SRRRate]],0)","v":-2},"Calculated revenues from data in CustEstVol table and WNAR Rates table"]
[44774,"S2","61-GCSF","WEMO","SGS",{"$f":"SUMPRODUCT((CustEstVol[MonthFlow]=CustEstRev[[#This Row],[MonthFlow]])*(CustEstVol[RateSched]=CustEstRev[[#This Row],[RateSched]])*(CustEstVol[CustClass]=CustEstRev[[#This Row],[CustClass]])*CustEstVol[NormVol])","v":10440},{"$f":"SUMPRODUCT((WNARRates[BeginDate]<=CustEstRev[[#This Row],[MonthFlow]])*(WNARRates[EndDate]>=CustEstRev[[#This Row],[MonthFlow]])*(WNARRates[Region]=CustEstRev[[#This Row],[Region]])*(WNARRates[CustClass]=CustEstRev[[#This Row],[CustClass]])*(WNARRates[Period]=CustEstRev[[#This Row],[Period]])*WNARRates[AdjCSWNA])","v":-5.5799999999999999E-3},{"$f":"SUMPRODUCT((WNARRates[BeginDate]<=CustEstRev[[#This Row],[MonthFlow]])*(WNARRates[EndDate]>=CustEstRev[[#This Row],[MonthFlow]])*(WNARRates[Region]=CustEstRev[[#This Row],[Region]])*(WNARRates[CustClass]=CustEstRev[[#This Row],[CustClass]])*(WNARRates[Period]=CustEstRev[[#This Row],[Period]])*WNARRates[AdjSRR])","v":1.9000000000000001E-4},{"$f":"ROUND(CustEstRev[[#This Row],[NormVol]]*CustEstRev[[#This Row],[CSNWARate]],0)","v":-58},{"$f":"ROUND(CustEstRev[[#This Row],[NormVol]]*CustEstRev[[#This Row],[SRRRate]],0)","v":2},"Calculated revenues from data in CustEstVol table and WNAR Rates table"]
[44805,"S1","63-GRF","NEMO","Res",{"$f":"SUMPRODUCT((CustEstVol[MonthFlow]=CustEstRev[[#This Row],[MonthFlow]])*(CustEstVol[RateSched]=CustEstRev[[#This Row],[RateSched]])*(CustEstVol[CustClass]=CustEstRev[[#This Row],[CustClass]])*CustEstVol[NormVol])","v":196009},{"$f":"SUMPRODUCT((WNARRates[BeginDate]<=CustEstRev[[#This Row],[MonthFlow]])*(WNARRates[EndDate]>=CustEstRev[[#This Row],[MonthFlow]])*(WNARRates[Region]=CustEstRev[[#This Row],[Region]])*(WNARRates[CustClass]=CustEstRev[[#This Row],[CustClass]])*(WNARRates[Period]=CustEstRev[[#This Row],[Period]])*WNARRates[AdjCSWNA])","v":5.7299999999999997E-2},{"$f":"SUMPRODUCT((WNARRates[BeginDate]<=CustEstRev[[#This Row],[MonthFlow]])*(WNARRates[EndDate]>=CustEstRev[[#This Row],[MonthFlow]])*(WNARRates[Region]=CustEstRev[[#This Row],[Region]])*(WNARRates[CustClass]=CustEstRev[[#This Row],[CustClass]])*(WNARRates[Period]=CustEstRev[[#This Row],[Period]])*WNARRates[AdjSRR])","v":2.7799999999999999E-3},{"$f":"ROUND(CustEstRev[[#This Row],[NormVol]]*CustEstRev[[#This Row],[CSNWARate]],0)","v":11231},{"$f":"ROUND(CustEstRev[[#This Row],[NormVol]]*CustEstRev[[#This Row],[SRRRate]],0)","v":545},"Calculated revenues from data in CustEstVol table and WNAR Rates table"]
[44805,"S2","63-GRF","NEMO","Res",{"$f":"SUMPRODUCT((CustEstVol[MonthFlow]=CustEstRev[[#This Row],[MonthFlow]])*(CustEstVol[RateSched]=CustEstRev[[#This Row],[RateSched]])*(CustEstVol[CustClass]=CustEstRev[[#This Row],[CustClass]])*CustEstVol[NormVol])","v":196009},{"$f":"SUMPRODUCT((WNARRates[BeginDate]<=CustEstRev[[#This Row],[MonthFlow]])*(WNARRates[EndDate]>=CustEstRev[[#This Row],[MonthFlow]])*(WNARRates[Region]=CustEstRev[[#This Row],[Region]])*(WNARRates[CustClass]=CustEstRev[[#This Row],[CustClass]])*(WNARRates[Period]=CustEstRev[[#This Row],[Period]])*WNARRates[AdjCSWNA])","v":-1.357E-2},{"$f":"SUMPRODUCT((WNARRates[BeginDate]<=CustEstRev[[#This Row],[MonthFlow]])*(WNARRates[EndDate]>=CustEstRev[[#This Row],[MonthFlow]])*(WNARRates[Region]=CustEstRev[[#This Row],[Region]])*(WNARRates[CustClass]=CustEstRev[[#This Row],[CustClass]])*(WNARRates[Period]=CustEstRev[[#This Row],[Period]])*WNARRates[AdjSRR])","v":2.7999999999999998E-4},{"$f":"ROUND(CustEstRev[[#This Row],[NormVol]]*CustEstRev[[#This Row],[CSNWARate]],0)","v":-2660},{"$f":"ROUND(CustEstRev[[#This Row],[NormVol]]*CustEstRev[[#This Row],[SRRRate]],0)","v":55},"Calculated revenues from data in CustEstVol table and WNAR Rates table"]
[44805,"S1","63-GCSF","NEMO","SGS",{"$f":"SUMPRODUCT((CustEstVol[MonthFlow]=CustEstRev[[#This Row],[MonthFlow]])*(CustEstVol[RateSched]=CustEstRev[[#This Row],[RateSched]])*(CustEstVol[CustClass]=CustEstRev[[#This Row],[CustClass]])*CustEstVol[NormVol])","v":84587},{"$f":"SUMPRODUCT((WNARRates[BeginDate]<=CustEstRev[[#This Row],[MonthFlow]])*(WNARRates[EndDate]>=CustEstRev[[#This Row],[MonthFlow]])*(WNARRates[Region]=CustEstRev[[#This Row],[Region]])*(WNARRates[CustClass]=CustEstRev[[#This Row],[CustClass]])*(WNARRates[Period]=CustEstRev[[#This Row],[Period]])*WNARRates[AdjCSWNA])","v":2.7810000000000001E-2},{"$f":"SUMPRODUCT((WNARRates[BeginDate]<=CustEstRev[[#This Row],[MonthFlow]])*(WNARRates[EndDate]>=CustEstRev[[#This Row],[MonthFlow]])*(WNARRates[Region]=CustEstRev[[#This Row],[Region]])*(WNARRates[CustClass]=CustEstRev[[#This Row],[CustClass]])*(WNARRates[Period]=CustEstRev[[#This Row],[Period]])*WNARRates[AdjSRR])","v":-2.2000000000000001E-4},{"$f":"ROUND(CustEstRev[[#This Row],[NormVol]]*CustEstRev[[#This Row],[CSNWARate]],0)","v":2352},{"$f":"ROUND(CustEstRev[[#This Row],[NormVol]]*CustEstRev[[#This Row],[SRRRate]],0)","v":-19},"Calculated revenues from data in CustEstVol table and WNAR Rates table"]
[44805,"S2","63-GCSF","NEMO","SGS",{"$f":"SUMPRODUCT((CustEstVol[MonthFlow]=CustEstRev[[#This Row],[MonthFlow]])*(CustEstVol[RateSched]=CustEstRev[[#This Row],[RateSched]])*(CustEstVol[CustClass]=CustEstRev[[#This Row],[CustClass]])*CustEstVol[NormVol])","v":84587},{"$f":"SUMPRODUCT((WNARRates[BeginDate]<=CustEstRev[[#This Row],[MonthFlow]])*(WNARRates[EndDate]>=CustEstRev[[#This Row],[MonthFlow]])*(WNARRates[Region]=CustEstRev[[#This Row],[Region]])*(WNARRates[CustClass]=CustEstRev[[#This Row],[CustClass]])*(WNARRates[Period]=CustEstRev[[#This Row],[Period]])*WNARRates[AdjCSWNA])","v":-5.5799999999999999E-3},{"$f":"SUMPRODUCT((WNARRates[BeginDate]<=CustEstRev[[#This Row],[MonthFlow]])*(WNARRates[EndDate]>=CustEstRev[[#This Row],[MonthFlow]])*(WNARRates[Region]=CustEstRev[[#This Row],[Region]])*(WNARRates[CustClass]=CustEstRev[[#This Row],[CustClass]])*(WNARRates[Period]=CustEstRev[[#This Row],[Period]])*WNARRates[AdjSRR])","v":1.9000000000000001E-4},{"$f":"ROUND(CustEstRev[[#This Row],[NormVol]]*CustEstRev[[#This Row],[CSNWARate]],0)","v":-472},{"$f":"ROUND(CustEstRev[[#This Row],[NormVol]]*CustEstRev[[#This Row],[SRRRate]],0)","v":16},"Calculated revenues from data in CustEstVol table and WNAR Rates table"]
[44805,"S1","62-GRF","SEMO","Res",{"$f":"SUMPRODUCT((CustEstVol[MonthFlow]=CustEstRev[[#This Row],[MonthFlow]])*(CustEstVol[RateSched]=CustEstRev[[#This Row],[RateSched]])*(CustEstVol[CustClass]=CustEstRev[[#This Row],[CustClass]])*CustEstVol[NormVol])","v":323033},{"$f":"SUMPRODUCT((WNARRates[BeginDate]<=CustEstRev[[#This Row],[MonthFlow]])*(WNARRates[EndDate]>=CustEstRev[[#This Row],[MonthFlow]])*(WNARRates[Region]=CustEstRev[[#This Row],[Region]])*(WNARRates[CustClass]=CustEstRev[[#This Row],[CustClass]])*(WNARRates[Period]=CustEstRev[[#This Row],[Period]])*WNARRates[AdjCSWNA])","v":4.743E-2},{"$f":"SUMPRODUCT((WNARRates[BeginDate]<=CustEstRev[[#This Row],[MonthFlow]])*(WNARRates[EndDate]>=CustEstRev[[#This Row],[MonthFlow]])*(WNARRates[Region]=CustEstRev[[#This Row],[Region]])*(WNARRates[CustClass]=CustEstRev[[#This Row],[CustClass]])*(WNARRates[Period]=CustEstRev[[#This Row],[Period]])*WNARRates[AdjSRR])","v":9.8999999999999999E-4},{"$f":"ROUND(CustEstRev[[#This Row],[NormVol]]*CustEstRev[[#This Row],[CSNWARate]],0)","v":15321},{"$f":"ROUND(CustEstRev[[#This Row],[NormVol]]*CustEstRev[[#This Row],[SRRRate]],0)","v":320},"Calculated revenues from data in CustEstVol table and WNAR Rates table"]
[44805,"S2","62-GRF","SEMO","Res",{"$f":"SUMPRODUCT((CustEstVol[MonthFlow]=CustEstRev[[#This Row],[MonthFlow]])*(CustEstVol[RateSched]=CustEstRev[[#This Row],[RateSched]])*(CustEstVol[CustClass]=CustEstRev[[#This Row],[CustClass]])*CustEstVol[NormVol])","v":323033},{"$f":"SUMPRODUCT((WNARRates[BeginDate]<=CustEstRev[[#This Row],[MonthFlow]])*(WNARRates[EndDate]>=CustEstRev[[#This Row],[MonthFlow]])*(WNARRates[Region]=CustEstRev[[#This Row],[Region]])*(WNARRates[CustClass]=CustEstRev[[#This Row],[CustClass]])*(WNARRates[Period]=CustEstRev[[#This Row],[Period]])*WNARRates[AdjCSWNA])","v":-3.3E-3},{"$f":"SUMPRODUCT((WNARRates[BeginDate]<=CustEstRev[[#This Row],[MonthFlow]])*(WNARRates[EndDate]>=CustEstRev[[#This Row],[MonthFlow]])*(WNARRates[Region]=CustEstRev[[#This Row],[Region]])*(WNARRates[CustClass]=CustEstRev[[#This Row],[CustClass]])*(WNARRates[Period]=CustEstRev[[#This Row],[Period]])*WNARRates[AdjSRR])","v":-4.0000000000000002E-4},{"$f":"ROUND(CustEstRev[[#This Row],[NormVol]]*CustEstRev[[#This Row],[CSNWARate]],0)","v":-1066},{"$f":"ROUND(CustEstRev[[#This Row],[NormVol]]*CustEstRev[[#This Row],[SRRRate]],0)","v":-129},"Calculated revenues from data in CustEstVol table and WNAR Rates table"]
[44805,"S1","62-GCSF","SEMO","SGS",{"$f":"SUMPRODUCT((CustEstVol[MonthFlow]=CustEstRev[[#This Row],[MonthFlow]])*(CustEstVol[RateSched]=CustEstRev[[#This Row],[RateSched]])*(CustEstVol[CustClass]=CustEstRev[[#This Row],[CustClass]])*CustEstVol[NormVol])","v":101982},{"$f":"SUMPRODUCT((WNARRates[BeginDate]<=CustEstRev[[#This Row],[MonthFlow]])*(WNARRates[EndDate]>=CustEstRev[[#This Row],[MonthFlow]])*(WNARRates[Region]=CustEstRev[[#This Row],[Region]])*(WNARRates[CustClass]=CustEstRev[[#This Row],[CustClass]])*(WNARRates[Period]=CustEstRev[[#This Row],[Period]])*WNARRates[AdjCSWNA])","v":1.6230000000000001E-2},{"$f":"SUMPRODUCT((WNARRates[BeginDate]<=CustEstRev[[#This Row],[MonthFlow]])*(WNARRates[EndDate]>=CustEstRev[[#This Row],[MonthFlow]])*(WNARRates[Region]=CustEstRev[[#This Row],[Region]])*(WNARRates[CustClass]=CustEstRev[[#This Row],[CustClass]])*(WNARRates[Period]=CustEstRev[[#This Row],[Period]])*WNARRates[AdjSRR])","v":-3.7200000000000002E-3},{"$f":"ROUND(CustEstRev[[#This Row],[NormVol]]*CustEstRev[[#This Row],[CSNWARate]],0)","v":1655},{"$f":"ROUND(CustEstRev[[#This Row],[NormVol]]*CustEstRev[[#This Row],[SRRRate]],0)","v":-379},"Calculated revenues from data in CustEstVol table and WNAR Rates table"]
[44805,"S2","62-GCSF","SEMO","SGS",{"$f":"SUMPRODUCT((CustEstVol[MonthFlow]=CustEstRev[[#This Row],[MonthFlow]])*(CustEstVol[RateSched]=CustEstRev[[#This Row],[RateSched]])*(CustEstVol[CustClass]=CustEstRev[[#This Row],[CustClass]])*CustEstVol[NormVol])","v":101982},{"$f":"SUMPRODUCT((WNARRates[BeginDate]<=CustEstRev[[#This Row],[MonthFlow]])*(WNARRates[EndDate]>=CustEstRev[[#This Row],[MonthFlow]])*(WNARRates[Region]=CustEstRev[[#This Row],[Region]])*(WNARRates[CustClass]=CustEstRev[[#This Row],[CustClass]])*(WNARRates[Period]=CustEstRev[[#This Row],[Period]])*WNARRates[AdjCSWNA])","v":-1.1100000000000001E-3},{"$f":"SUMPRODUCT((WNARRates[BeginDate]<=CustEstRev[[#This Row],[MonthFlow]])*(WNARRates[EndDate]>=CustEstRev[[#This Row],[MonthFlow]])*(WNARRates[Region]=CustEstRev[[#This Row],[Region]])*(WNARRates[CustClass]=CustEstRev[[#This Row],[CustClass]])*(WNARRates[Period]=CustEstRev[[#This Row],[Period]])*WNARRates[AdjSRR])","v":-3.2000000000000003E-4},{"$f":"ROUND(CustEstRev[[#This Row],[NormVol]]*CustEstRev[[#This Row],[CSNWARate]],0)","v":-113},{"$f":"ROUND(CustEstRev[[#This Row],[NormVol]]*CustEstRev[[#This Row],[SRRRate]],0)","v":-33},"Calculated revenues from data in CustEstVol table and WNAR Rates table"]
[44805,"S1","61-GRF","WEMO","Res",{"$f":"SUMPRODUCT((CustEstVol[MonthFlow]=CustEstRev[[#This Row],[MonthFlow]])*(CustEstVol[RateSched]=CustEstRev[[#This Row],[RateSched]])*(CustEstVol[CustClass]=CustEstRev[[#This Row],[CustClass]])*CustEstVol[NormVol])","v":35936},{"$f":"SUMPRODUCT((WNARRates[BeginDate]<=CustEstRev[[#This Row],[MonthFlow]])*(WNARRates[EndDate]>=CustEstRev[[#This Row],[MonthFlow]])*(WNARRates[Region]=CustEstRev[[#This Row],[Region]])*(WNARRates[CustClass]=CustEstRev[[#This Row],[CustClass]])*(WNARRates[Period]=CustEstRev[[#This Row],[Period]])*WNARRates[AdjCSWNA])","v":5.7299999999999997E-2},{"$f":"SUMPRODUCT((WNARRates[BeginDate]<=CustEstRev[[#This Row],[MonthFlow]])*(WNARRates[EndDate]>=CustEstRev[[#This Row],[MonthFlow]])*(WNARRates[Region]=CustEstRev[[#This Row],[Region]])*(WNARRates[CustClass]=CustEstRev[[#This Row],[CustClass]])*(WNARRates[Period]=CustEstRev[[#This Row],[Period]])*WNARRates[AdjSRR])","v":2.7799999999999999E-3},{"$f":"ROUND(CustEstRev[[#This Row],[NormVol]]*CustEstRev[[#This Row],[CSNWARate]],0)","v":2059},{"$f":"ROUND(CustEstRev[[#This Row],[NormVol]]*CustEstRev[[#This Row],[SRRRate]],0)","v":100},"Calculated revenues from data in CustEstVol table and WNAR Rates table"]
[44805,"S2","61-GRF","WEMO","Res",{"$f":"SUMPRODUCT((CustEstVol[MonthFlow]=CustEstRev[[#This Row],[MonthFlow]])*(CustEstVol[RateSched]=CustEstRev[[#This Row],[RateSched]])*(CustEstVol[CustClass]=CustEstRev[[#This Row],[CustClass]])*CustEstVol[NormVol])","v":35936},{"$f":"SUMPRODUCT((WNARRates[BeginDate]<=CustEstRev[[#This Row],[MonthFlow]])*(WNARRates[EndDate]>=CustEstRev[[#This Row],[MonthFlow]])*(WNARRates[Region]=CustEstRev[[#This Row],[Region]])*(WNARRates[CustClass]=CustEstRev[[#This Row],[CustClass]])*(WNARRates[Period]=CustEstRev[[#This Row],[Period]])*WNARRates[AdjCSWNA])","v":-1.357E-2},{"$f":"SUMPRODUCT((WNARRates[BeginDate]<=CustEstRev[[#This Row],[MonthFlow]])*(WNARRates[EndDate]>=CustEstRev[[#This Row],[MonthFlow]])*(WNARRates[Region]=CustEstRev[[#This Row],[Region]])*(WNARRates[CustClass]=CustEstRev[[#This Row],[CustClass]])*(WNARRates[Period]=CustEstRev[[#This Row],[Period]])*WNARRates[AdjSRR])","v":2.7999999999999998E-4},{"$f":"ROUND(CustEstRev[[#This Row],[NormVol]]*CustEstRev[[#This Row],[CSNWARate]],0)","v":-488},{"$f":"ROUND(CustEstRev[[#This Row],[NormVol]]*CustEstRev[[#This Row],[SRRRate]],0)","v":10},"Calculated revenues from data in CustEstVol table and WNAR Rates table"]
[44805,"S1","61-GCSF","WEMO","SGS",{"$f":"SUMPRODUCT((CustEstVol[MonthFlow]=CustEstRev[[#This Row],[MonthFlow]])*(CustEstVol[RateSched]=CustEstRev[[#This Row],[RateSched]])*(CustEstVol[CustClass]=CustEstRev[[#This Row],[CustClass]])*CustEstVol[NormVol])","v":14354},{"$f":"SUMPRODUCT((WNARRates[BeginDate]<=CustEstRev[[#This Row],[MonthFlow]])*(WNARRates[EndDate]>=CustEstRev[[#This Row],[MonthFlow]])*(WNARRates[Region]=CustEstRev[[#This Row],[Region]])*(WNARRates[CustClass]=CustEstRev[[#This Row],[CustClass]])*(WNARRates[Period]=CustEstRev[[#This Row],[Period]])*WNARRates[AdjCSWNA])","v":2.7810000000000001E-2},{"$f":"SUMPRODUCT((WNARRates[BeginDate]<=CustEstRev[[#This Row],[MonthFlow]])*(WNARRates[EndDate]>=CustEstRev[[#This Row],[MonthFlow]])*(WNARRates[Region]=CustEstRev[[#This Row],[Region]])*(WNARRates[CustClass]=CustEstRev[[#This Row],[CustClass]])*(WNARRates[Period]=CustEstRev[[#This Row],[Period]])*WNARRates[AdjSRR])","v":-2.2000000000000001E-4},{"$f":"ROUND(CustEstRev[[#This Row],[NormVol]]*CustEstRev[[#This Row],[CSNWARate]],0)","v":399},{"$f":"ROUND(CustEstRev[[#This Row],[NormVol]]*CustEstRev[[#This Row],[SRRRate]],0)","v":-3},"Calculated revenues from data in CustEstVol table and WNAR Rates table"]
[44805,"S2","61-GCSF","WEMO","SGS",{"$f":"SUMPRODUCT((CustEstVol[MonthFlow]=CustEstRev[[#This Row],[MonthFlow]])*(CustEstVol[RateSched]=CustEstRev[[#This Row],[RateSched]])*(CustEstVol[CustClass]=CustEstRev[[#This Row],[CustClass]])*CustEstVol[NormVol])","v":14354},{"$f":"SUMPRODUCT((WNARRates[BeginDate]<=CustEstRev[[#This Row],[MonthFlow]])*(WNARRates[EndDate]>=CustEstRev[[#This Row],[MonthFlow]])*(WNARRates[Region]=CustEstRev[[#This Row],[Region]])*(WNARRates[CustClass]=CustEstRev[[#This Row],[CustClass]])*(WNARRates[Period]=CustEstRev[[#This Row],[Period]])*WNARRates[AdjCSWNA])","v":-5.5799999999999999E-3},{"$f":"SUMPRODUCT((WNARRates[BeginDate]<=CustEstRev[[#This Row],[MonthFlow]])*(WNARRates[EndDate]>=CustEstRev[[#This Row],[MonthFlow]])*(WNARRates[Region]=CustEstRev[[#This Row],[Region]])*(WNARRates[CustClass]=CustEstRev[[#This Row],[CustClass]])*(WNARRates[Period]=CustEstRev[[#This Row],[Period]])*WNARRates[AdjSRR])","v":1.9000000000000001E-4},{"$f":"ROUND(CustEstRev[[#This Row],[NormVol]]*CustEstRev[[#This Row],[CSNWARate]],0)","v":-80},{"$f":"ROUND(CustEstRev[[#This Row],[NormVol]]*CustEstRev[[#This Row],[SRRRate]],0)","v":3},"Calculated revenues from data in CustEstVol table and WNAR Rates table"]
[44835,"S1","63-GRF","NEMO","Res",{"$f":"SUMPRODUCT((CustEstVol[MonthFlow]=CustEstRev[[#This Row],[MonthFlow]])*(CustEstVol[RateSched]=CustEstRev[[#This Row],[RateSched]])*(CustEstVol[CustClass]=CustEstRev[[#This Row],[CustClass]])*CustEstVol[NormVol])","v":301723},{"$f":"SUMPRODUCT((WNARRates[BeginDate]<=CustEstRev[[#This Row],[MonthFlow]])*(WNARRates[EndDate]>=CustEstRev[[#This Row],[MonthFlow]])*(WNARRates[Region]=CustEstRev[[#This Row],[Region]])*(WNARRates[CustClass]=CustEstRev[[#This Row],[CustClass]])*(WNARRates[Period]=CustEstRev[[#This Row],[Period]])*WNARRates[AdjCSWNA])","v":5.7299999999999997E-2},{"$f":"SUMPRODUCT((WNARRates[BeginDate]<=CustEstRev[[#This Row],[MonthFlow]])*(WNARRates[EndDate]>=CustEstRev[[#This Row],[MonthFlow]])*(WNARRates[Region]=CustEstRev[[#This Row],[Region]])*(WNARRates[CustClass]=CustEstRev[[#This Row],[CustClass]])*(WNARRates[Period]=CustEstRev[[#This Row],[Period]])*WNARRates[AdjSRR])","v":2.7799999999999999E-3},{"$f":"ROUND(CustEstRev[[#This Row],[NormVol]]*CustEstRev[[#This Row],[CSNWARate]],0)","v":17289},{"$f":"ROUND(CustEstRev[[#This Row],[NormVol]]*CustEstRev[[#This Row],[SRRRate]],0)","v":839},"Calculated revenues from data in CustEstVol table and WNAR Rates table"]
[44835,"S2","63-GRF","NEMO","Res",{"$f":"SUMPRODUCT((CustEstVol[MonthFlow]=CustEstRev[[#This Row],[MonthFlow]])*(CustEstVol[RateSched]=CustEstRev[[#This Row],[RateSched]])*(CustEstVol[CustClass]=CustEstRev[[#This Row],[CustClass]])*CustEstVol[NormVol])","v":301723},{"$f":"SUMPRODUCT((WNARRates[BeginDate]<=CustEstRev[[#This Row],[MonthFlow]])*(WNARRates[EndDate]>=CustEstRev[[#This Row],[MonthFlow]])*(WNARRates[Region]=CustEstRev[[#This Row],[Region]])*(WNARRates[CustClass]=CustEstRev[[#This Row],[CustClass]])*(WNARRates[Period]=CustEstRev[[#This Row],[Period]])*WNARRates[AdjCSWNA])","v":-1.9380000000000001E-2},{"$f":"SUMPRODUCT((WNARRates[BeginDate]<=CustEstRev[[#This Row],[MonthFlow]])*(WNARRates[EndDate]>=CustEstRev[[#This Row],[MonthFlow]])*(WNARRates[Region]=CustEstRev[[#This Row],[Region]])*(WNARRates[CustClass]=CustEstRev[[#This Row],[CustClass]])*(WNARRates[Period]=CustEstRev[[#This Row],[Period]])*WNARRates[AdjSRR])","v":4.6999999999999999E-4},{"$f":"ROUND(CustEstRev[[#This Row],[NormVol]]*CustEstRev[[#This Row],[CSNWARate]],0)","v":-5847},{"$f":"ROUND(CustEstRev[[#This Row],[NormVol]]*CustEstRev[[#This Row],[SRRRate]],0)","v":142},"Calculated revenues from data in CustEstVol table and WNAR Rates table"]
[44835,"S1","63-GCSF","NEMO","SGS",{"$f":"SUMPRODUCT((CustEstVol[MonthFlow]=CustEstRev[[#This Row],[MonthFlow]])*(CustEstVol[RateSched]=CustEstRev[[#This Row],[RateSched]])*(CustEstVol[CustClass]=CustEstRev[[#This Row],[CustClass]])*CustEstVol[NormVol])","v":116995},{"$f":"SUMPRODUCT((WNARRates[BeginDate]<=CustEstRev[[#This Row],[MonthFlow]])*(WNARRates[EndDate]>=CustEstRev[[#This Row],[MonthFlow]])*(WNARRates[Region]=CustEstRev[[#This Row],[Region]])*(WNARRates[CustClass]=CustEstRev[[#This Row],[CustClass]])*(WNARRates[Period]=CustEstRev[[#This Row],[Period]])*WNARRates[AdjCSWNA])","v":2.7810000000000001E-2},{"$f":"SUMPRODUCT((WNARRates[BeginDate]<=CustEstRev[[#This Row],[MonthFlow]])*(WNARRates[EndDate]>=CustEstRev[[#This Row],[MonthFlow]])*(WNARRates[Region]=CustEstRev[[#This Row],[Region]])*(WNARRates[CustClass]=CustEstRev[[#This Row],[CustClass]])*(WNARRates[Period]=CustEstRev[[#This Row],[Period]])*WNARRates[AdjSRR])","v":-2.2000000000000001E-4},{"$f":"ROUND(CustEstRev[[#This Row],[NormVol]]*CustEstRev[[#This Row],[CSNWARate]],0)","v":3254},{"$f":"ROUND(CustEstRev[[#This Row],[NormVol]]*CustEstRev[[#This Row],[SRRRate]],0)","v":-26},"Calculated revenues from data in CustEstVol table and WNAR Rates table"]
[44835,"S2","63-GCSF","NEMO","SGS",{"$f":"SUMPRODUCT((CustEstVol[MonthFlow]=CustEstRev[[#This Row],[MonthFlow]])*(CustEstVol[RateSched]=CustEstRev[[#This Row],[RateSched]])*(CustEstVol[CustClass]=CustEstRev[[#This Row],[CustClass]])*CustEstVol[NormVol])","v":116995},{"$f":"SUMPRODUCT((WNARRates[BeginDate]<=CustEstRev[[#This Row],[MonthFlow]])*(WNARRates[EndDate]>=CustEstRev[[#This Row],[MonthFlow]])*(WNARRates[Region]=CustEstRev[[#This Row],[Region]])*(WNARRates[CustClass]=CustEstRev[[#This Row],[CustClass]])*(WNARRates[Period]=CustEstRev[[#This Row],[Period]])*WNARRates[AdjCSWNA])","v":-8.09E-3},{"$f":"SUMPRODUCT((WNARRates[BeginDate]<=CustEstRev[[#This Row],[MonthFlow]])*(WNARRates[EndDate]>=CustEstRev[[#This Row],[MonthFlow]])*(WNARRates[Region]=CustEstRev[[#This Row],[Region]])*(WNARRates[CustClass]=CustEstRev[[#This Row],[CustClass]])*(WNARRates[Period]=CustEstRev[[#This Row],[Period]])*WNARRates[AdjSRR])","v":5.9999999999999995E-4},{"$f":"ROUND(CustEstRev[[#This Row],[NormVol]]*CustEstRev[[#This Row],[CSNWARate]],0)","v":-946},{"$f":"ROUND(CustEstRev[[#This Row],[NormVol]]*CustEstRev[[#This Row],[SRRRate]],0)","v":70},"Calculated revenues from data in CustEstVol table and WNAR Rates table"]
[44835,"S1","62-GRF","SEMO","Res",{"$f":"SUMPRODUCT((CustEstVol[MonthFlow]=CustEstRev[[#This Row],[MonthFlow]])*(CustEstVol[RateSched]=CustEstRev[[#This Row],[RateSched]])*(CustEstVol[CustClass]=CustEstRev[[#This Row],[CustClass]])*CustEstVol[NormVol])","v":369606},{"$f":"SUMPRODUCT((WNARRates[BeginDate]<=CustEstRev[[#This Row],[MonthFlow]])*(WNARRates[EndDate]>=CustEstRev[[#This Row],[MonthFlow]])*(WNARRates[Region]=CustEstRev[[#This Row],[Region]])*(WNARRates[CustClass]=CustEstRev[[#This Row],[CustClass]])*(WNARRates[Period]=CustEstRev[[#This Row],[Period]])*WNARRates[AdjCSWNA])","v":4.743E-2},{"$f":"SUMPRODUCT((WNARRates[BeginDate]<=CustEstRev[[#This Row],[MonthFlow]])*(WNARRates[EndDate]>=CustEstRev[[#This Row],[MonthFlow]])*(WNARRates[Region]=CustEstRev[[#This Row],[Region]])*(WNARRates[CustClass]=CustEstRev[[#This Row],[CustClass]])*(WNARRates[Period]=CustEstRev[[#This Row],[Period]])*WNARRates[AdjSRR])","v":9.8999999999999999E-4},{"$f":"ROUND(CustEstRev[[#This Row],[NormVol]]*CustEstRev[[#This Row],[CSNWARate]],0)","v":17530},{"$f":"ROUND(CustEstRev[[#This Row],[NormVol]]*CustEstRev[[#This Row],[SRRRate]],0)","v":366},"Calculated revenues from data in CustEstVol table and WNAR Rates table"]
[44835,"S2","62-GRF","SEMO","Res",{"$f":"SUMPRODUCT((CustEstVol[MonthFlow]=CustEstRev[[#This Row],[MonthFlow]])*(CustEstVol[RateSched]=CustEstRev[[#This Row],[RateSched]])*(CustEstVol[CustClass]=CustEstRev[[#This Row],[CustClass]])*CustEstVol[NormVol])","v":369606},{"$f":"SUMPRODUCT((WNARRates[BeginDate]<=CustEstRev[[#This Row],[MonthFlow]])*(WNARRates[EndDate]>=CustEstRev[[#This Row],[MonthFlow]])*(WNARRates[Region]=CustEstRev[[#This Row],[Region]])*(WNARRates[CustClass]=CustEstRev[[#This Row],[CustClass]])*(WNARRates[Period]=CustEstRev[[#This Row],[Period]])*WNARRates[AdjCSWNA])","v":1.2800000000000001E-3},{"$f":"SUMPRODUCT((WNARRates[BeginDate]<=CustEstRev[[#This Row],[MonthFlow]])*(WNARRates[EndDate]>=CustEstRev[[#This Row],[MonthFlow]])*(WNARRates[Region]=CustEstRev[[#This Row],[Region]])*(WNARRates[CustClass]=CustEstRev[[#This Row],[CustClass]])*(WNARRates[Period]=CustEstRev[[#This Row],[Period]])*WNARRates[AdjSRR])","v":-1.2E-4},{"$f":"ROUND(CustEstRev[[#This Row],[NormVol]]*CustEstRev[[#This Row],[CSNWARate]],0)","v":473},{"$f":"ROUND(CustEstRev[[#This Row],[NormVol]]*CustEstRev[[#This Row],[SRRRate]],0)","v":-44},"Calculated revenues from data in CustEstVol table and WNAR Rates table"]
[44835,"S1","62-GCSF","SEMO","SGS",{"$f":"SUMPRODUCT((CustEstVol[MonthFlow]=CustEstRev[[#This Row],[MonthFlow]])*(CustEstVol[RateSched]=CustEstRev[[#This Row],[RateSched]])*(CustEstVol[CustClass]=CustEstRev[[#This Row],[CustClass]])*CustEstVol[NormVol])","v":110343},{"$f":"SUMPRODUCT((WNARRates[BeginDate]<=CustEstRev[[#This Row],[MonthFlow]])*(WNARRates[EndDate]>=CustEstRev[[#This Row],[MonthFlow]])*(WNARRates[Region]=CustEstRev[[#This Row],[Region]])*(WNARRates[CustClass]=CustEstRev[[#This Row],[CustClass]])*(WNARRates[Period]=CustEstRev[[#This Row],[Period]])*WNARRates[AdjCSWNA])","v":1.6230000000000001E-2},{"$f":"SUMPRODUCT((WNARRates[BeginDate]<=CustEstRev[[#This Row],[MonthFlow]])*(WNARRates[EndDate]>=CustEstRev[[#This Row],[MonthFlow]])*(WNARRates[Region]=CustEstRev[[#This Row],[Region]])*(WNARRates[CustClass]=CustEstRev[[#This Row],[CustClass]])*(WNARRates[Period]=CustEstRev[[#This Row],[Period]])*WNARRates[AdjSRR])","v":-3.7200000000000002E-3},{"$f":"ROUND(CustEstRev[[#This Row],[NormVol]]*CustEstRev[[#This Row],[CSNWARate]],0)","v":1791},{"$f":"ROUND(CustEstRev[[#This Row],[NormVol]]*CustEstRev[[#This Row],[SRRRate]],0)","v":-410},"Calculated revenues from data in CustEstVol table and WNAR Rates table"]
[44835,"S2","62-GCSF","SEMO","SGS",{"$f":"SUMPRODUCT((CustEstVol[MonthFlow]=CustEstRev[[#This Row],[MonthFlow]])*(CustEstVol[RateSched]=CustEstRev[[#This Row],[RateSched]])*(CustEstVol[CustClass]=CustEstRev[[#This Row],[CustClass]])*CustEstVol[NormVol])","v":110343},{"$f":"SUMPRODUCT((WNARRates[BeginDate]<=CustEstRev[[#This Row],[MonthFlow]])*(WNARRates[EndDate]>=CustEstRev[[#This Row],[MonthFlow]])*(WNARRates[Region]=CustEstRev[[#This Row],[Region]])*(WNARRates[CustClass]=CustEstRev[[#This Row],[CustClass]])*(WNARRates[Period]=CustEstRev[[#This Row],[Period]])*WNARRates[AdjCSWNA])","v":4.4000000000000002E-4},{"$f":"SUMPRODUCT((WNARRates[BeginDate]<=CustEstRev[[#This Row],[MonthFlow]])*(WNARRates[EndDate]>=CustEstRev[[#This Row],[MonthFlow]])*(WNARRates[Region]=CustEstRev[[#This Row],[Region]])*(WNARRates[CustClass]=CustEstRev[[#This Row],[CustClass]])*(WNARRates[Period]=CustEstRev[[#This Row],[Period]])*WNARRates[AdjSRR])","v":6.9999999999999994E-5},{"$f":"ROUND(CustEstRev[[#This Row],[NormVol]]*CustEstRev[[#This Row],[CSNWARate]],0)","v":49},{"$f":"ROUND(CustEstRev[[#This Row],[NormVol]]*CustEstRev[[#This Row],[SRRRate]],0)","v":8},"Calculated revenues from data in CustEstVol table and WNAR Rates table"]
[44835,"S1","61-GRF","WEMO","Res",{"$f":"SUMPRODUCT((CustEstVol[MonthFlow]=CustEstRev[[#This Row],[MonthFlow]])*(CustEstVol[RateSched]=CustEstRev[[#This Row],[RateSched]])*(CustEstVol[CustClass]=CustEstRev[[#This Row],[CustClass]])*CustEstVol[NormVol])","v":52269},{"$f":"SUMPRODUCT((WNARRates[BeginDate]<=CustEstRev[[#This Row],[MonthFlow]])*(WNARRates[EndDate]>=CustEstRev[[#This Row],[MonthFlow]])*(WNARRates[Region]=CustEstRev[[#This Row],[Region]])*(WNARRates[CustClass]=CustEstRev[[#This Row],[CustClass]])*(WNARRates[Period]=CustEstRev[[#This Row],[Period]])*WNARRates[AdjCSWNA])","v":5.7299999999999997E-2},{"$f":"SUMPRODUCT((WNARRates[BeginDate]<=CustEstRev[[#This Row],[MonthFlow]])*(WNARRates[EndDate]>=CustEstRev[[#This Row],[MonthFlow]])*(WNARRates[Region]=CustEstRev[[#This Row],[Region]])*(WNARRates[CustClass]=CustEstRev[[#This Row],[CustClass]])*(WNARRates[Period]=CustEstRev[[#This Row],[Period]])*WNARRates[AdjSRR])","v":2.7799999999999999E-3},{"$f":"ROUND(CustEstRev[[#This Row],[NormVol]]*CustEstRev[[#This Row],[CSNWARate]],0)","v":2995},{"$f":"ROUND(CustEstRev[[#This Row],[NormVol]]*CustEstRev[[#This Row],[SRRRate]],0)","v":145},"Calculated revenues from data in CustEstVol table and WNAR Rates table"]
[44835,"S2","61-GRF","WEMO","Res",{"$f":"SUMPRODUCT((CustEstVol[MonthFlow]=CustEstRev[[#This Row],[MonthFlow]])*(CustEstVol[RateSched]=CustEstRev[[#This Row],[RateSched]])*(CustEstVol[CustClass]=CustEstRev[[#This Row],[CustClass]])*CustEstVol[NormVol])","v":52269},{"$f":"SUMPRODUCT((WNARRates[BeginDate]<=CustEstRev[[#This Row],[MonthFlow]])*(WNARRates[EndDate]>=CustEstRev[[#This Row],[MonthFlow]])*(WNARRates[Region]=CustEstRev[[#This Row],[Region]])*(WNARRates[CustClass]=CustEstRev[[#This Row],[CustClass]])*(WNARRates[Period]=CustEstRev[[#This Row],[Period]])*WNARRates[AdjCSWNA])","v":-1.9380000000000001E-2},{"$f":"SUMPRODUCT((WNARRates[BeginDate]<=CustEstRev[[#This Row],[MonthFlow]])*(WNARRates[EndDate]>=CustEstRev[[#This Row],[MonthFlow]])*(WNARRates[Region]=CustEstRev[[#This Row],[Region]])*(WNARRates[CustClass]=CustEstRev[[#This Row],[CustClass]])*(WNARRates[Period]=CustEstRev[[#This Row],[Period]])*WNARRates[AdjSRR])","v":4.6999999999999999E-4},{"$f":"ROUND(CustEstRev[[#This Row],[NormVol]]*CustEstRev[[#This Row],[CSNWARate]],0)","v":-1013},{"$f":"ROUND(CustEstRev[[#This Row],[NormVol]]*CustEstRev[[#This Row],[SRRRate]],0)","v":25},"Calculated revenues from data in CustEstVol table and WNAR Rates table"]
[44835,"S1","61-GCSF","WEMO","SGS",{"$f":"SUMPRODUCT((CustEstVol[MonthFlow]=CustEstRev[[#This Row],[MonthFlow]])*(CustEstVol[RateSched]=CustEstRev[[#This Row],[RateSched]])*(CustEstVol[CustClass]=CustEstRev[[#This Row],[CustClass]])*CustEstVol[NormVol])","v":18627},{"$f":"SUMPRODUCT((WNARRates[BeginDate]<=CustEstRev[[#This Row],[MonthFlow]])*(WNARRates[EndDate]>=CustEstRev[[#This Row],[MonthFlow]])*(WNARRates[Region]=CustEstRev[[#This Row],[Region]])*(WNARRates[CustClass]=CustEstRev[[#This Row],[CustClass]])*(WNARRates[Period]=CustEstRev[[#This Row],[Period]])*WNARRates[AdjCSWNA])","v":2.7810000000000001E-2},{"$f":"SUMPRODUCT((WNARRates[BeginDate]<=CustEstRev[[#This Row],[MonthFlow]])*(WNARRates[EndDate]>=CustEstRev[[#This Row],[MonthFlow]])*(WNARRates[Region]=CustEstRev[[#This Row],[Region]])*(WNARRates[CustClass]=CustEstRev[[#This Row],[CustClass]])*(WNARRates[Period]=CustEstRev[[#This Row],[Period]])*WNARRates[AdjSRR])","v":-2.2000000000000001E-4},{"$f":"ROUND(CustEstRev[[#This Row],[NormVol]]*CustEstRev[[#This Row],[CSNWARate]],0)","v":518},{"$f":"ROUND(CustEstRev[[#This Row],[NormVol]]*CustEstRev[[#This Row],[SRRRate]],0)","v":-4},"Calculated revenues from data in CustEstVol table and WNAR Rates table"]
[44835,"S2","61-GCSF","WEMO","SGS",{"$f":"SUMPRODUCT((CustEstVol[MonthFlow]=CustEstRev[[#This Row],[MonthFlow]])*(CustEstVol[RateSched]=CustEstRev[[#This Row],[RateSched]])*(CustEstVol[CustClass]=CustEstRev[[#This Row],[CustClass]])*CustEstVol[NormVol])","v":18627},{"$f":"SUMPRODUCT((WNARRates[BeginDate]<=CustEstRev[[#This Row],[MonthFlow]])*(WNARRates[EndDate]>=CustEstRev[[#This Row],[MonthFlow]])*(WNARRates[Region]=CustEstRev[[#This Row],[Region]])*(WNARRates[CustClass]=CustEstRev[[#This Row],[CustClass]])*(WNARRates[Period]=CustEstRev[[#This Row],[Period]])*WNARRates[AdjCSWNA])","v":-8.09E-3},{"$f":"SUMPRODUCT((WNARRates[BeginDate]<=CustEstRev[[#This Row],[MonthFlow]])*(WNARRates[EndDate]>=CustEstRev[[#This Row],[MonthFlow]])*(WNARRates[Region]=CustEstRev[[#This Row],[Region]])*(WNARRates[CustClass]=CustEstRev[[#This Row],[CustClass]])*(WNARRates[Period]=CustEstRev[[#This Row],[Period]])*WNARRates[AdjSRR])","v":5.9999999999999995E-4},{"$f":"ROUND(CustEstRev[[#This Row],[NormVol]]*CustEstRev[[#This Row],[CSNWARate]],0)","v":-151},{"$f":"ROUND(CustEstRev[[#This Row],[NormVol]]*CustEstRev[[#This Row],[SRRRate]],0)","v":11},"Calculated revenues from data in CustEstVol table and WNAR Rates table"]
[44866,"S1","63-GRF","NEMO","Res",{"$f":"SUMPRODUCT((CustEstVol[MonthFlow]=CustEstRev[[#This Row],[MonthFlow]])*(CustEstVol[RateSched]=CustEstRev[[#This Row],[RateSched]])*(CustEstVol[CustClass]=CustEstRev[[#This Row],[CustClass]])*CustEstVol[NormVol])","v":905504},{"$f":"SUMPRODUCT((WNARRates[BeginDate]<=CustEstRev[[#This Row],[MonthFlow]])*(WNARRates[EndDate]>=CustEstRev[[#This Row],[MonthFlow]])*(WNARRates[Region]=CustEstRev[[#This Row],[Region]])*(WNARRates[CustClass]=CustEstRev[[#This Row],[CustClass]])*(WNARRates[Period]=CustEstRev[[#This Row],[Period]])*WNARRates[AdjCSWNA])","v":5.7299999999999997E-2},{"$f":"SUMPRODUCT((WNARRates[BeginDate]<=CustEstRev[[#This Row],[MonthFlow]])*(WNARRates[EndDate]>=CustEstRev[[#This Row],[MonthFlow]])*(WNARRates[Region]=CustEstRev[[#This Row],[Region]])*(WNARRates[CustClass]=CustEstRev[[#This Row],[CustClass]])*(WNARRates[Period]=CustEstRev[[#This Row],[Period]])*WNARRates[AdjSRR])","v":2.7799999999999999E-3},{"$f":"ROUND(CustEstRev[[#This Row],[NormVol]]*CustEstRev[[#This Row],[CSNWARate]],0)","v":51885},{"$f":"ROUND(CustEstRev[[#This Row],[NormVol]]*CustEstRev[[#This Row],[SRRRate]],0)","v":2517},"Calculated revenues from data in CustEstVol table and WNAR Rates table"]
[44866,"S2","63-GRF","NEMO","Res",{"$f":"SUMPRODUCT((CustEstVol[MonthFlow]=CustEstRev[[#This Row],[MonthFlow]])*(CustEstVol[RateSched]=CustEstRev[[#This Row],[RateSched]])*(CustEstVol[CustClass]=CustEstRev[[#This Row],[CustClass]])*CustEstVol[NormVol])","v":905504},{"$f":"SUMPRODUCT((WNARRates[BeginDate]<=CustEstRev[[#This Row],[MonthFlow]])*(WNARRates[EndDate]>=CustEstRev[[#This Row],[MonthFlow]])*(WNARRates[Region]=CustEstRev[[#This Row],[Region]])*(WNARRates[CustClass]=CustEstRev[[#This Row],[CustClass]])*(WNARRates[Period]=CustEstRev[[#This Row],[Period]])*WNARRates[AdjCSWNA])","v":-1.9380000000000001E-2},{"$f":"SUMPRODUCT((WNARRates[BeginDate]<=CustEstRev[[#This Row],[MonthFlow]])*(WNARRates[EndDate]>=CustEstRev[[#This Row],[MonthFlow]])*(WNARRates[Region]=CustEstRev[[#This Row],[Region]])*(WNARRates[CustClass]=CustEstRev[[#This Row],[CustClass]])*(WNARRates[Period]=CustEstRev[[#This Row],[Period]])*WNARRates[AdjSRR])","v":4.6999999999999999E-4},{"$f":"ROUND(CustEstRev[[#This Row],[NormVol]]*CustEstRev[[#This Row],[CSNWARate]],0)","v":-17549},{"$f":"ROUND(CustEstRev[[#This Row],[NormVol]]*CustEstRev[[#This Row],[SRRRate]],0)","v":426},"Calculated revenues from data in CustEstVol table and WNAR Rates table"]
[44866,"S1","63-GCSF","NEMO","SGS",{"$f":"SUMPRODUCT((CustEstVol[MonthFlow]=CustEstRev[[#This Row],[MonthFlow]])*(CustEstVol[RateSched]=CustEstRev[[#This Row],[RateSched]])*(CustEstVol[CustClass]=CustEstRev[[#This Row],[CustClass]])*CustEstVol[NormVol])","v":285071},{"$f":"SUMPRODUCT((WNARRates[BeginDate]<=CustEstRev[[#This Row],[MonthFlow]])*(WNARRates[EndDate]>=CustEstRev[[#This Row],[MonthFlow]])*(WNARRates[Region]=CustEstRev[[#This Row],[Region]])*(WNARRates[CustClass]=CustEstRev[[#This Row],[CustClass]])*(WNARRates[Period]=CustEstRev[[#This Row],[Period]])*WNARRates[AdjCSWNA])","v":2.7810000000000001E-2},{"$f":"SUMPRODUCT((WNARRates[BeginDate]<=CustEstRev[[#This Row],[MonthFlow]])*(WNARRates[EndDate]>=CustEstRev[[#This Row],[MonthFlow]])*(WNARRates[Region]=CustEstRev[[#This Row],[Region]])*(WNARRates[CustClass]=CustEstRev[[#This Row],[CustClass]])*(WNARRates[Period]=CustEstRev[[#This Row],[Period]])*WNARRates[AdjSRR])","v":-2.2000000000000001E-4},{"$f":"ROUND(CustEstRev[[#This Row],[NormVol]]*CustEstRev[[#This Row],[CSNWARate]],0)","v":7928},{"$f":"ROUND(CustEstRev[[#This Row],[NormVol]]*CustEstRev[[#This Row],[SRRRate]],0)","v":-63},"Calculated revenues from data in CustEstVol table and WNAR Rates table"]
[44866,"S2","63-GCSF","NEMO","SGS",{"$f":"SUMPRODUCT((CustEstVol[MonthFlow]=CustEstRev[[#This Row],[MonthFlow]])*(CustEstVol[RateSched]=CustEstRev[[#This Row],[RateSched]])*(CustEstVol[CustClass]=CustEstRev[[#This Row],[CustClass]])*CustEstVol[NormVol])","v":285071},{"$f":"SUMPRODUCT((WNARRates[BeginDate]<=CustEstRev[[#This Row],[MonthFlow]])*(WNARRates[EndDate]>=CustEstRev[[#This Row],[MonthFlow]])*(WNARRates[Region]=CustEstRev[[#This Row],[Region]])*(WNARRates[CustClass]=CustEstRev[[#This Row],[CustClass]])*(WNARRates[Period]=CustEstRev[[#This Row],[Period]])*WNARRates[AdjCSWNA])","v":-8.09E-3},{"$f":"SUMPRODUCT((WNARRates[BeginDate]<=CustEstRev[[#This Row],[MonthFlow]])*(WNARRates[EndDate]>=CustEstRev[[#This Row],[MonthFlow]])*(WNARRates[Region]=CustEstRev[[#This Row],[Region]])*(WNARRates[CustClass]=CustEstRev[[#This Row],[CustClass]])*(WNARRates[Period]=CustEstRev[[#This Row],[Period]])*WNARRates[AdjSRR])","v":5.9999999999999995E-4},{"$f":"ROUND(CustEstRev[[#This Row],[NormVol]]*CustEstRev[[#This Row],[CSNWARate]],0)","v":-2306},{"$f":"ROUND(CustEstRev[[#This Row],[NormVol]]*CustEstRev[[#This Row],[SRRRate]],0)","v":171},"Calculated revenues from data in CustEstVol table and WNAR Rates table"]
[44866,"S1","62-GRF","SEMO","Res",{"$f":"SUMPRODUCT((CustEstVol[MonthFlow]=CustEstRev[[#This Row],[MonthFlow]])*(CustEstVol[RateSched]=CustEstRev[[#This Row],[RateSched]])*(CustEstVol[CustClass]=CustEstRev[[#This Row],[CustClass]])*CustEstVol[NormVol])","v":1085929},{"$f":"SUMPRODUCT((WNARRates[BeginDate]<=CustEstRev[[#This Row],[MonthFlow]])*(WNARRates[EndDate]>=CustEstRev[[#This Row],[MonthFlow]])*(WNARRates[Region]=CustEstRev[[#This Row],[Region]])*(WNARRates[CustClass]=CustEstRev[[#This Row],[CustClass]])*(WNARRates[Period]=CustEstRev[[#This Row],[Period]])*WNARRates[AdjCSWNA])","v":4.743E-2},{"$f":"SUMPRODUCT((WNARRates[BeginDate]<=CustEstRev[[#This Row],[MonthFlow]])*(WNARRates[EndDate]>=CustEstRev[[#This Row],[MonthFlow]])*(WNARRates[Region]=CustEstRev[[#This Row],[Region]])*(WNARRates[CustClass]=CustEstRev[[#This Row],[CustClass]])*(WNARRates[Period]=CustEstRev[[#This Row],[Period]])*WNARRates[AdjSRR])","v":9.8999999999999999E-4},{"$f":"ROUND(CustEstRev[[#This Row],[NormVol]]*CustEstRev[[#This Row],[CSNWARate]],0)","v":51506},{"$f":"ROUND(CustEstRev[[#This Row],[NormVol]]*CustEstRev[[#This Row],[SRRRate]],0)","v":1075},"Calculated revenues from data in CustEstVol table and WNAR Rates table"]
[44866,"S2","62-GRF","SEMO","Res",{"$f":"SUMPRODUCT((CustEstVol[MonthFlow]=CustEstRev[[#This Row],[MonthFlow]])*(CustEstVol[RateSched]=CustEstRev[[#This Row],[RateSched]])*(CustEstVol[CustClass]=CustEstRev[[#This Row],[CustClass]])*CustEstVol[NormVol])","v":1085929},{"$f":"SUMPRODUCT((WNARRates[BeginDate]<=CustEstRev[[#This Row],[MonthFlow]])*(WNARRates[EndDate]>=CustEstRev[[#This Row],[MonthFlow]])*(WNARRates[Region]=CustEstRev[[#This Row],[Region]])*(WNARRates[CustClass]=CustEstRev[[#This Row],[CustClass]])*(WNARRates[Period]=CustEstRev[[#This Row],[Period]])*WNARRates[AdjCSWNA])","v":1.2800000000000001E-3},{"$f":"SUMPRODUCT((WNARRates[BeginDate]<=CustEstRev[[#This Row],[MonthFlow]])*(WNARRates[EndDate]>=CustEstRev[[#This Row],[MonthFlow]])*(WNARRates[Region]=CustEstRev[[#This Row],[Region]])*(WNARRates[CustClass]=CustEstRev[[#This Row],[CustClass]])*(WNARRates[Period]=CustEstRev[[#This Row],[Period]])*WNARRates[AdjSRR])","v":-1.2E-4},{"$f":"ROUND(CustEstRev[[#This Row],[NormVol]]*CustEstRev[[#This Row],[CSNWARate]],0)","v":1390},{"$f":"ROUND(CustEstRev[[#This Row],[NormVol]]*CustEstRev[[#This Row],[SRRRate]],0)","v":-130},"Calculated revenues from data in CustEstVol table and WNAR Rates table"]
[44866,"S1","62-GCSF","SEMO","SGS",{"$f":"SUMPRODUCT((CustEstVol[MonthFlow]=CustEstRev[[#This Row],[MonthFlow]])*(CustEstVol[RateSched]=CustEstRev[[#This Row],[RateSched]])*(CustEstVol[CustClass]=CustEstRev[[#This Row],[CustClass]])*CustEstVol[NormVol])","v":280204},{"$f":"SUMPRODUCT((WNARRates[BeginDate]<=CustEstRev[[#This Row],[MonthFlow]])*(WNARRates[EndDate]>=CustEstRev[[#This Row],[MonthFlow]])*(WNARRates[Region]=CustEstRev[[#This Row],[Region]])*(WNARRates[CustClass]=CustEstRev[[#This Row],[CustClass]])*(WNARRates[Period]=CustEstRev[[#This Row],[Period]])*WNARRates[AdjCSWNA])","v":1.6230000000000001E-2},{"$f":"SUMPRODUCT((WNARRates[BeginDate]<=CustEstRev[[#This Row],[MonthFlow]])*(WNARRates[EndDate]>=CustEstRev[[#This Row],[MonthFlow]])*(WNARRates[Region]=CustEstRev[[#This Row],[Region]])*(WNARRates[CustClass]=CustEstRev[[#This Row],[CustClass]])*(WNARRates[Period]=CustEstRev[[#This Row],[Period]])*WNARRates[AdjSRR])","v":-3.7200000000000002E-3},{"$f":"ROUND(CustEstRev[[#This Row],[NormVol]]*CustEstRev[[#This Row],[CSNWARate]],0)","v":4548},{"$f":"ROUND(CustEstRev[[#This Row],[NormVol]]*CustEstRev[[#This Row],[SRRRate]],0)","v":-1042},"Calculated revenues from data in CustEstVol table and WNAR Rates table"]
[44866,"S2","62-GCSF","SEMO","SGS",{"$f":"SUMPRODUCT((CustEstVol[MonthFlow]=CustEstRev[[#This Row],[MonthFlow]])*(CustEstVol[RateSched]=CustEstRev[[#This Row],[RateSched]])*(CustEstVol[CustClass]=CustEstRev[[#This Row],[CustClass]])*CustEstVol[NormVol])","v":280204},{"$f":"SUMPRODUCT((WNARRates[BeginDate]<=CustEstRev[[#This Row],[MonthFlow]])*(WNARRates[EndDate]>=CustEstRev[[#This Row],[MonthFlow]])*(WNARRates[Region]=CustEstRev[[#This Row],[Region]])*(WNARRates[CustClass]=CustEstRev[[#This Row],[CustClass]])*(WNARRates[Period]=CustEstRev[[#This Row],[Period]])*WNARRates[AdjCSWNA])","v":4.4000000000000002E-4},{"$f":"SUMPRODUCT((WNARRates[BeginDate]<=CustEstRev[[#This Row],[MonthFlow]])*(WNARRates[EndDate]>=CustEstRev[[#This Row],[MonthFlow]])*(WNARRates[Region]=CustEstRev[[#This Row],[Region]])*(WNARRates[CustClass]=CustEstRev[[#This Row],[CustClass]])*(WNARRates[Period]=CustEstRev[[#This Row],[Period]])*WNARRates[AdjSRR])","v":6.9999999999999994E-5},{"$f":"ROUND(CustEstRev[[#This Row],[NormVol]]*CustEstRev[[#This Row],[CSNWARate]],0)","v":123},{"$f":"ROUND(CustEstRev[[#This Row],[NormVol]]*CustEstRev[[#This Row],[SRRRate]],0)","v":20},"Calculated revenues from data in CustEstVol table and WNAR Rates table"]
[44866,"S1","61-GRF","WEMO","Res",{"$f":"SUMPRODUCT((CustEstVol[MonthFlow]=CustEstRev[[#This Row],[MonthFlow]])*(CustEstVol[RateSched]=CustEstRev[[#This Row],[RateSched]])*(CustEstVol[CustClass]=CustEstRev[[#This Row],[CustClass]])*CustEstVol[NormVol])","v":175318},{"$f":"SUMPRODUCT((WNARRates[BeginDate]<=CustEstRev[[#This Row],[MonthFlow]])*(WNARRates[EndDate]>=CustEstRev[[#This Row],[MonthFlow]])*(WNARRates[Region]=CustEstRev[[#This Row],[Region]])*(WNARRates[CustClass]=CustEstRev[[#This Row],[CustClass]])*(WNARRates[Period]=CustEstRev[[#This Row],[Period]])*WNARRates[AdjCSWNA])","v":5.7299999999999997E-2},{"$f":"SUMPRODUCT((WNARRates[BeginDate]<=CustEstRev[[#This Row],[MonthFlow]])*(WNARRates[EndDate]>=CustEstRev[[#This Row],[MonthFlow]])*(WNARRates[Region]=CustEstRev[[#This Row],[Region]])*(WNARRates[CustClass]=CustEstRev[[#This Row],[CustClass]])*(WNARRates[Period]=CustEstRev[[#This Row],[Period]])*WNARRates[AdjSRR])","v":2.7799999999999999E-3},{"$f":"ROUND(CustEstRev[[#This Row],[NormVol]]*CustEstRev[[#This Row],[CSNWARate]],0)","v":10046},{"$f":"ROUND(CustEstRev[[#This Row],[NormVol]]*CustEstRev[[#This Row],[SRRRate]],0)","v":487},"Calculated revenues from data in CustEstVol table and WNAR Rates table"]
[44866,"S2","61-GRF","WEMO","Res",{"$f":"SUMPRODUCT((CustEstVol[MonthFlow]=CustEstRev[[#This Row],[MonthFlow]])*(CustEstVol[RateSched]=CustEstRev[[#This Row],[RateSched]])*(CustEstVol[CustClass]=CustEstRev[[#This Row],[CustClass]])*CustEstVol[NormVol])","v":175318},{"$f":"SUMPRODUCT((WNARRates[BeginDate]<=CustEstRev[[#This Row],[MonthFlow]])*(WNARRates[EndDate]>=CustEstRev[[#This Row],[MonthFlow]])*(WNARRates[Region]=CustEstRev[[#This Row],[Region]])*(WNARRates[CustClass]=CustEstRev[[#This Row],[CustClass]])*(WNARRates[Period]=CustEstRev[[#This Row],[Period]])*WNARRates[AdjCSWNA])","v":-1.9380000000000001E-2},{"$f":"SUMPRODUCT((WNARRates[BeginDate]<=CustEstRev[[#This Row],[MonthFlow]])*(WNARRates[EndDate]>=CustEstRev[[#This Row],[MonthFlow]])*(WNARRates[Region]=CustEstRev[[#This Row],[Region]])*(WNARRates[CustClass]=CustEstRev[[#This Row],[CustClass]])*(WNARRates[Period]=CustEstRev[[#This Row],[Period]])*WNARRates[AdjSRR])","v":4.6999999999999999E-4},{"$f":"ROUND(CustEstRev[[#This Row],[NormVol]]*CustEstRev[[#This Row],[CSNWARate]],0)","v":-3398},{"$f":"ROUND(CustEstRev[[#This Row],[NormVol]]*CustEstRev[[#This Row],[SRRRate]],0)","v":82},"Calculated revenues from data in CustEstVol table and WNAR Rates table"]
[44866,"S1","61-GCSF","WEMO","SGS",{"$f":"SUMPRODUCT((CustEstVol[MonthFlow]=CustEstRev[[#This Row],[MonthFlow]])*(CustEstVol[RateSched]=CustEstRev[[#This Row],[RateSched]])*(CustEstVol[CustClass]=CustEstRev[[#This Row],[CustClass]])*CustEstVol[NormVol])","v":54071},{"$f":"SUMPRODUCT((WNARRates[BeginDate]<=CustEstRev[[#This Row],[MonthFlow]])*(WNARRates[EndDate]>=CustEstRev[[#This Row],[MonthFlow]])*(WNARRates[Region]=CustEstRev[[#This Row],[Region]])*(WNARRates[CustClass]=CustEstRev[[#This Row],[CustClass]])*(WNARRates[Period]=CustEstRev[[#This Row],[Period]])*WNARRates[AdjCSWNA])","v":2.7810000000000001E-2},{"$f":"SUMPRODUCT((WNARRates[BeginDate]<=CustEstRev[[#This Row],[MonthFlow]])*(WNARRates[EndDate]>=CustEstRev[[#This Row],[MonthFlow]])*(WNARRates[Region]=CustEstRev[[#This Row],[Region]])*(WNARRates[CustClass]=CustEstRev[[#This Row],[CustClass]])*(WNARRates[Period]=CustEstRev[[#This Row],[Period]])*WNARRates[AdjSRR])","v":-2.2000000000000001E-4},{"$f":"ROUND(CustEstRev[[#This Row],[NormVol]]*CustEstRev[[#This Row],[CSNWARate]],0)","v":1504},{"$f":"ROUND(CustEstRev[[#This Row],[NormVol]]*CustEstRev[[#This Row],[SRRRate]],0)","v":-12},"Calculated revenues from data in CustEstVol table and WNAR Rates table"]
[44866,"S2","61-GCSF","WEMO","SGS",{"$f":"SUMPRODUCT((CustEstVol[MonthFlow]=CustEstRev[[#This Row],[MonthFlow]])*(CustEstVol[RateSched]=CustEstRev[[#This Row],[RateSched]])*(CustEstVol[CustClass]=CustEstRev[[#This Row],[CustClass]])*CustEstVol[NormVol])","v":54071},{"$f":"SUMPRODUCT((WNARRates[BeginDate]<=CustEstRev[[#This Row],[MonthFlow]])*(WNARRates[EndDate]>=CustEstRev[[#This Row],[MonthFlow]])*(WNARRates[Region]=CustEstRev[[#This Row],[Region]])*(WNARRates[CustClass]=CustEstRev[[#This Row],[CustClass]])*(WNARRates[Period]=CustEstRev[[#This Row],[Period]])*WNARRates[AdjCSWNA])","v":-8.09E-3},{"$f":"SUMPRODUCT((WNARRates[BeginDate]<=CustEstRev[[#This Row],[MonthFlow]])*(WNARRates[EndDate]>=CustEstRev[[#This Row],[MonthFlow]])*(WNARRates[Region]=CustEstRev[[#This Row],[Region]])*(WNARRates[CustClass]=CustEstRev[[#This Row],[CustClass]])*(WNARRates[Period]=CustEstRev[[#This Row],[Period]])*WNARRates[AdjSRR])","v":5.9999999999999995E-4},{"$f":"ROUND(CustEstRev[[#This Row],[NormVol]]*CustEstRev[[#This Row],[CSNWARate]],0)","v":-437},{"$f":"ROUND(CustEstRev[[#This Row],[NormVol]]*CustEstRev[[#This Row],[SRRRate]],0)","v":32},"Calculated revenues from data in CustEstVol table and WNAR Rates table"]
[44896,"S1","63-GRF","NEMO","Res",{"$f":"SUMPRODUCT((CustEstVol[MonthFlow]=CustEstRev[[#This Row],[MonthFlow]])*(CustEstVol[RateSched]=CustEstRev[[#This Row],[RateSched]])*(CustEstVol[CustClass]=CustEstRev[[#This Row],[CustClass]])*CustEstVol[NormVol])","v":1313750},{"$f":"SUMPRODUCT((WNARRates[BeginDate]<=CustEstRev[[#This Row],[MonthFlow]])*(WNARRates[EndDate]>=CustEstRev[[#This Row],[MonthFlow]])*(WNARRates[Region]=CustEstRev[[#This Row],[Region]])*(WNARRates[CustClass]=CustEstRev[[#This Row],[CustClass]])*(WNARRates[Period]=CustEstRev[[#This Row],[Period]])*WNARRates[AdjCSWNA])","v":5.7299999999999997E-2},{"$f":"SUMPRODUCT((WNARRates[BeginDate]<=CustEstRev[[#This Row],[MonthFlow]])*(WNARRates[EndDate]>=CustEstRev[[#This Row],[MonthFlow]])*(WNARRates[Region]=CustEstRev[[#This Row],[Region]])*(WNARRates[CustClass]=CustEstRev[[#This Row],[CustClass]])*(WNARRates[Period]=CustEstRev[[#This Row],[Period]])*WNARRates[AdjSRR])","v":2.7799999999999999E-3},{"$f":"ROUND(CustEstRev[[#This Row],[NormVol]]*CustEstRev[[#This Row],[CSNWARate]],0)","v":75278},{"$f":"ROUND(CustEstRev[[#This Row],[NormVol]]*CustEstRev[[#This Row],[SRRRate]],0)","v":3652},"Calculated revenues from data in CustEstVol table and WNAR Rates table"]
[44896,"S2","63-GRF","NEMO","Res",{"$f":"SUMPRODUCT((CustEstVol[MonthFlow]=CustEstRev[[#This Row],[MonthFlow]])*(CustEstVol[RateSched]=CustEstRev[[#This Row],[RateSched]])*(CustEstVol[CustClass]=CustEstRev[[#This Row],[CustClass]])*CustEstVol[NormVol])","v":1313750},{"$f":"SUMPRODUCT((WNARRates[BeginDate]<=CustEstRev[[#This Row],[MonthFlow]])*(WNARRates[EndDate]>=CustEstRev[[#This Row],[MonthFlow]])*(WNARRates[Region]=CustEstRev[[#This Row],[Region]])*(WNARRates[CustClass]=CustEstRev[[#This Row],[CustClass]])*(WNARRates[Period]=CustEstRev[[#This Row],[Period]])*WNARRates[AdjCSWNA])","v":-1.9380000000000001E-2},{"$f":"SUMPRODUCT((WNARRates[BeginDate]<=CustEstRev[[#This Row],[MonthFlow]])*(WNARRates[EndDate]>=CustEstRev[[#This Row],[MonthFlow]])*(WNARRates[Region]=CustEstRev[[#This Row],[Region]])*(WNARRates[CustClass]=CustEstRev[[#This Row],[CustClass]])*(WNARRates[Period]=CustEstRev[[#This Row],[Period]])*WNARRates[AdjSRR])","v":4.6999999999999999E-4},{"$f":"ROUND(CustEstRev[[#This Row],[NormVol]]*CustEstRev[[#This Row],[CSNWARate]],0)","v":-25460},{"$f":"ROUND(CustEstRev[[#This Row],[NormVol]]*CustEstRev[[#This Row],[SRRRate]],0)","v":617},"Calculated revenues from data in CustEstVol table and WNAR Rates table"]
[44896,"S1","63-GCSF","NEMO","SGS",{"$f":"SUMPRODUCT((CustEstVol[MonthFlow]=CustEstRev[[#This Row],[MonthFlow]])*(CustEstVol[RateSched]=CustEstRev[[#This Row],[RateSched]])*(CustEstVol[CustClass]=CustEstRev[[#This Row],[CustClass]])*CustEstVol[NormVol])","v":434757},{"$f":"SUMPRODUCT((WNARRates[BeginDate]<=CustEstRev[[#This Row],[MonthFlow]])*(WNARRates[EndDate]>=CustEstRev[[#This Row],[MonthFlow]])*(WNARRates[Region]=CustEstRev[[#This Row],[Region]])*(WNARRates[CustClass]=CustEstRev[[#This Row],[CustClass]])*(WNARRates[Period]=CustEstRev[[#This Row],[Period]])*WNARRates[AdjCSWNA])","v":2.7810000000000001E-2},{"$f":"SUMPRODUCT((WNARRates[BeginDate]<=CustEstRev[[#This Row],[MonthFlow]])*(WNARRates[EndDate]>=CustEstRev[[#This Row],[MonthFlow]])*(WNARRates[Region]=CustEstRev[[#This Row],[Region]])*(WNARRates[CustClass]=CustEstRev[[#This Row],[CustClass]])*(WNARRates[Period]=CustEstRev[[#This Row],[Period]])*WNARRates[AdjSRR])","v":-2.2000000000000001E-4},{"$f":"ROUND(CustEstRev[[#This Row],[NormVol]]*CustEstRev[[#This Row],[CSNWARate]],0)","v":12091},{"$f":"ROUND(CustEstRev[[#This Row],[NormVol]]*CustEstRev[[#This Row],[SRRRate]],0)","v":-96},"Calculated revenues from data in CustEstVol table and WNAR Rates table"]
[44896,"S2","63-GCSF","NEMO","SGS",{"$f":"SUMPRODUCT((CustEstVol[MonthFlow]=CustEstRev[[#This Row],[MonthFlow]])*(CustEstVol[RateSched]=CustEstRev[[#This Row],[RateSched]])*(CustEstVol[CustClass]=CustEstRev[[#This Row],[CustClass]])*CustEstVol[NormVol])","v":434757},{"$f":"SUMPRODUCT((WNARRates[BeginDate]<=CustEstRev[[#This Row],[MonthFlow]])*(WNARRates[EndDate]>=CustEstRev[[#This Row],[MonthFlow]])*(WNARRates[Region]=CustEstRev[[#This Row],[Region]])*(WNARRates[CustClass]=CustEstRev[[#This Row],[CustClass]])*(WNARRates[Period]=CustEstRev[[#This Row],[Period]])*WNARRates[AdjCSWNA])","v":-8.09E-3},{"$f":"SUMPRODUCT((WNARRates[BeginDate]<=CustEstRev[[#This Row],[MonthFlow]])*(WNARRates[EndDate]>=CustEstRev[[#This Row],[MonthFlow]])*(WNARRates[Region]=CustEstRev[[#This Row],[Region]])*(WNARRates[CustClass]=CustEstRev[[#This Row],[CustClass]])*(WNARRates[Period]=CustEstRev[[#This Row],[Period]])*WNARRates[AdjSRR])","v":5.9999999999999995E-4},{"$f":"ROUND(CustEstRev[[#This Row],[NormVol]]*CustEstRev[[#This Row],[CSNWARate]],0)","v":-3517},{"$f":"ROUND(CustEstRev[[#This Row],[NormVol]]*CustEstRev[[#This Row],[SRRRate]],0)","v":261},"Calculated revenues from data in CustEstVol table and WNAR Rates table"]
[44896,"S1","62-GRF","SEMO","Res",{"$f":"SUMPRODUCT((CustEstVol[MonthFlow]=CustEstRev[[#This Row],[MonthFlow]])*(CustEstVol[RateSched]=CustEstRev[[#This Row],[RateSched]])*(CustEstVol[CustClass]=CustEstRev[[#This Row],[CustClass]])*CustEstVol[NormVol])","v":2001558},{"$f":"SUMPRODUCT((WNARRates[BeginDate]<=CustEstRev[[#This Row],[MonthFlow]])*(WNARRates[EndDate]>=CustEstRev[[#This Row],[MonthFlow]])*(WNARRates[Region]=CustEstRev[[#This Row],[Region]])*(WNARRates[CustClass]=CustEstRev[[#This Row],[CustClass]])*(WNARRates[Period]=CustEstRev[[#This Row],[Period]])*WNARRates[AdjCSWNA])","v":4.743E-2},{"$f":"SUMPRODUCT((WNARRates[BeginDate]<=CustEstRev[[#This Row],[MonthFlow]])*(WNARRates[EndDate]>=CustEstRev[[#This Row],[MonthFlow]])*(WNARRates[Region]=CustEstRev[[#This Row],[Region]])*(WNARRates[CustClass]=CustEstRev[[#This Row],[CustClass]])*(WNARRates[Period]=CustEstRev[[#This Row],[Period]])*WNARRates[AdjSRR])","v":9.8999999999999999E-4},{"$f":"ROUND(CustEstRev[[#This Row],[NormVol]]*CustEstRev[[#This Row],[CSNWARate]],0)","v":94934},{"$f":"ROUND(CustEstRev[[#This Row],[NormVol]]*CustEstRev[[#This Row],[SRRRate]],0)","v":1982},"Calculated revenues from data in CustEstVol table and WNAR Rates table"]
[44896,"S2","62-GRF","SEMO","Res",{"$f":"SUMPRODUCT((CustEstVol[MonthFlow]=CustEstRev[[#This Row],[MonthFlow]])*(CustEstVol[RateSched]=CustEstRev[[#This Row],[RateSched]])*(CustEstVol[CustClass]=CustEstRev[[#This Row],[CustClass]])*CustEstVol[NormVol])","v":2001558},{"$f":"SUMPRODUCT((WNARRates[BeginDate]<=CustEstRev[[#This Row],[MonthFlow]])*(WNARRates[EndDate]>=CustEstRev[[#This Row],[MonthFlow]])*(WNARRates[Region]=CustEstRev[[#This Row],[Region]])*(WNARRates[CustClass]=CustEstRev[[#This Row],[CustClass]])*(WNARRates[Period]=CustEstRev[[#This Row],[Period]])*WNARRates[AdjCSWNA])","v":1.2800000000000001E-3},{"$f":"SUMPRODUCT((WNARRates[BeginDate]<=CustEstRev[[#This Row],[MonthFlow]])*(WNARRates[EndDate]>=CustEstRev[[#This Row],[MonthFlow]])*(WNARRates[Region]=CustEstRev[[#This Row],[Region]])*(WNARRates[CustClass]=CustEstRev[[#This Row],[CustClass]])*(WNARRates[Period]=CustEstRev[[#This Row],[Period]])*WNARRates[AdjSRR])","v":-1.2E-4},{"$f":"ROUND(CustEstRev[[#This Row],[NormVol]]*CustEstRev[[#This Row],[CSNWARate]],0)","v":2562},{"$f":"ROUND(CustEstRev[[#This Row],[NormVol]]*CustEstRev[[#This Row],[SRRRate]],0)","v":-240},"Calculated revenues from data in CustEstVol table and WNAR Rates table"]
[44896,"S1","62-GCSF","SEMO","SGS",{"$f":"SUMPRODUCT((CustEstVol[MonthFlow]=CustEstRev[[#This Row],[MonthFlow]])*(CustEstVol[RateSched]=CustEstRev[[#This Row],[RateSched]])*(CustEstVol[CustClass]=CustEstRev[[#This Row],[CustClass]])*CustEstVol[NormVol])","v":561199},{"$f":"SUMPRODUCT((WNARRates[BeginDate]<=CustEstRev[[#This Row],[MonthFlow]])*(WNARRates[EndDate]>=CustEstRev[[#This Row],[MonthFlow]])*(WNARRates[Region]=CustEstRev[[#This Row],[Region]])*(WNARRates[CustClass]=CustEstRev[[#This Row],[CustClass]])*(WNARRates[Period]=CustEstRev[[#This Row],[Period]])*WNARRates[AdjCSWNA])","v":1.6230000000000001E-2},{"$f":"SUMPRODUCT((WNARRates[BeginDate]<=CustEstRev[[#This Row],[MonthFlow]])*(WNARRates[EndDate]>=CustEstRev[[#This Row],[MonthFlow]])*(WNARRates[Region]=CustEstRev[[#This Row],[Region]])*(WNARRates[CustClass]=CustEstRev[[#This Row],[CustClass]])*(WNARRates[Period]=CustEstRev[[#This Row],[Period]])*WNARRates[AdjSRR])","v":-3.7200000000000002E-3},{"$f":"ROUND(CustEstRev[[#This Row],[NormVol]]*CustEstRev[[#This Row],[CSNWARate]],0)","v":9108},{"$f":"ROUND(CustEstRev[[#This Row],[NormVol]]*CustEstRev[[#This Row],[SRRRate]],0)","v":-2088},"Calculated revenues from data in CustEstVol table and WNAR Rates table"]
[44896,"S2","62-GCSF","SEMO","SGS",{"$f":"SUMPRODUCT((CustEstVol[MonthFlow]=CustEstRev[[#This Row],[MonthFlow]])*(CustEstVol[RateSched]=CustEstRev[[#This Row],[RateSched]])*(CustEstVol[CustClass]=CustEstRev[[#This Row],[CustClass]])*CustEstVol[NormVol])","v":561199},{"$f":"SUMPRODUCT((WNARRates[BeginDate]<=CustEstRev[[#This Row],[MonthFlow]])*(WNARRates[EndDate]>=CustEstRev[[#This Row],[MonthFlow]])*(WNARRates[Region]=CustEstRev[[#This Row],[Region]])*(WNARRates[CustClass]=CustEstRev[[#This Row],[CustClass]])*(WNARRates[Period]=CustEstRev[[#This Row],[Period]])*WNARRates[AdjCSWNA])","v":4.4000000000000002E-4},{"$f":"SUMPRODUCT((WNARRates[BeginDate]<=CustEstRev[[#This Row],[MonthFlow]])*(WNARRates[EndDate]>=CustEstRev[[#This Row],[MonthFlow]])*(WNARRates[Region]=CustEstRev[[#This Row],[Region]])*(WNARRates[CustClass]=CustEstRev[[#This Row],[CustClass]])*(WNARRates[Period]=CustEstRev[[#This Row],[Period]])*WNARRates[AdjSRR])","v":6.9999999999999994E-5},{"$f":"ROUND(CustEstRev[[#This Row],[NormVol]]*CustEstRev[[#This Row],[CSNWARate]],0)","v":247},{"$f":"ROUND(CustEstRev[[#This Row],[NormVol]]*CustEstRev[[#This Row],[SRRRate]],0)","v":39},"Calculated revenues from data in CustEstVol table and WNAR Rates table"]
[44896,"S1","61-GRF","WEMO","Res",{"$f":"SUMPRODUCT((CustEstVol[MonthFlow]=CustEstRev[[#This Row],[MonthFlow]])*(CustEstVol[RateSched]=CustEstRev[[#This Row],[RateSched]])*(CustEstVol[CustClass]=CustEstRev[[#This Row],[CustClass]])*CustEstVol[NormVol])","v":251738},{"$f":"SUMPRODUCT((WNARRates[BeginDate]<=CustEstRev[[#This Row],[MonthFlow]])*(WNARRates[EndDate]>=CustEstRev[[#This Row],[MonthFlow]])*(WNARRates[Region]=CustEstRev[[#This Row],[Region]])*(WNARRates[CustClass]=CustEstRev[[#This Row],[CustClass]])*(WNARRates[Period]=CustEstRev[[#This Row],[Period]])*WNARRates[AdjCSWNA])","v":5.7299999999999997E-2},{"$f":"SUMPRODUCT((WNARRates[BeginDate]<=CustEstRev[[#This Row],[MonthFlow]])*(WNARRates[EndDate]>=CustEstRev[[#This Row],[MonthFlow]])*(WNARRates[Region]=CustEstRev[[#This Row],[Region]])*(WNARRates[CustClass]=CustEstRev[[#This Row],[CustClass]])*(WNARRates[Period]=CustEstRev[[#This Row],[Period]])*WNARRates[AdjSRR])","v":2.7799999999999999E-3},{"$f":"ROUND(CustEstRev[[#This Row],[NormVol]]*CustEstRev[[#This Row],[CSNWARate]],0)","v":14425},{"$f":"ROUND(CustEstRev[[#This Row],[NormVol]]*CustEstRev[[#This Row],[SRRRate]],0)","v":700},"Calculated revenues from data in CustEstVol table and WNAR Rates table"]
[44896,"S2","61-GRF","WEMO","Res",{"$f":"SUMPRODUCT((CustEstVol[MonthFlow]=CustEstRev[[#This Row],[MonthFlow]])*(CustEstVol[RateSched]=CustEstRev[[#This Row],[RateSched]])*(CustEstVol[CustClass]=CustEstRev[[#This Row],[CustClass]])*CustEstVol[NormVol])","v":251738},{"$f":"SUMPRODUCT((WNARRates[BeginDate]<=CustEstRev[[#This Row],[MonthFlow]])*(WNARRates[EndDate]>=CustEstRev[[#This Row],[MonthFlow]])*(WNARRates[Region]=CustEstRev[[#This Row],[Region]])*(WNARRates[CustClass]=CustEstRev[[#This Row],[CustClass]])*(WNARRates[Period]=CustEstRev[[#This Row],[Period]])*WNARRates[AdjCSWNA])","v":-1.9380000000000001E-2},{"$f":"SUMPRODUCT((WNARRates[BeginDate]<=CustEstRev[[#This Row],[MonthFlow]])*(WNARRates[EndDate]>=CustEstRev[[#This Row],[MonthFlow]])*(WNARRates[Region]=CustEstRev[[#This Row],[Region]])*(WNARRates[CustClass]=CustEstRev[[#This Row],[CustClass]])*(WNARRates[Period]=CustEstRev[[#This Row],[Period]])*WNARRates[AdjSRR])","v":4.6999999999999999E-4},{"$f":"ROUND(CustEstRev[[#This Row],[NormVol]]*CustEstRev[[#This Row],[CSNWARate]],0)","v":-4879},{"$f":"ROUND(CustEstRev[[#This Row],[NormVol]]*CustEstRev[[#This Row],[SRRRate]],0)","v":118},"Calculated revenues from data in CustEstVol table and WNAR Rates table"]
[44896,"S1","61-GCSF","WEMO","SGS",{"$f":"SUMPRODUCT((CustEstVol[MonthFlow]=CustEstRev[[#This Row],[MonthFlow]])*(CustEstVol[RateSched]=CustEstRev[[#This Row],[RateSched]])*(CustEstVol[CustClass]=CustEstRev[[#This Row],[CustClass]])*CustEstVol[NormVol])","v":86668},{"$f":"SUMPRODUCT((WNARRates[BeginDate]<=CustEstRev[[#This Row],[MonthFlow]])*(WNARRates[EndDate]>=CustEstRev[[#This Row],[MonthFlow]])*(WNARRates[Region]=CustEstRev[[#This Row],[Region]])*(WNARRates[CustClass]=CustEstRev[[#This Row],[CustClass]])*(WNARRates[Period]=CustEstRev[[#This Row],[Period]])*WNARRates[AdjCSWNA])","v":2.7810000000000001E-2},{"$f":"SUMPRODUCT((WNARRates[BeginDate]<=CustEstRev[[#This Row],[MonthFlow]])*(WNARRates[EndDate]>=CustEstRev[[#This Row],[MonthFlow]])*(WNARRates[Region]=CustEstRev[[#This Row],[Region]])*(WNARRates[CustClass]=CustEstRev[[#This Row],[CustClass]])*(WNARRates[Period]=CustEstRev[[#This Row],[Period]])*WNARRates[AdjSRR])","v":-2.2000000000000001E-4},{"$f":"ROUND(CustEstRev[[#This Row],[NormVol]]*CustEstRev[[#This Row],[CSNWARate]],0)","v":2410},{"$f":"ROUND(CustEstRev[[#This Row],[NormVol]]*CustEstRev[[#This Row],[SRRRate]],0)","v":-19},"Calculated revenues from data in CustEstVol table and WNAR Rates table"]
[44896,"S2","61-GCSF","WEMO","SGS",{"$f":"SUMPRODUCT((CustEstVol[MonthFlow]=CustEstRev[[#This Row],[MonthFlow]])*(CustEstVol[RateSched]=CustEstRev[[#This Row],[RateSched]])*(CustEstVol[CustClass]=CustEstRev[[#This Row],[CustClass]])*CustEstVol[NormVol])","v":86668},{"$f":"SUMPRODUCT((WNARRates[BeginDate]<=CustEstRev[[#This Row],[MonthFlow]])*(WNARRates[EndDate]>=CustEstRev[[#This Row],[MonthFlow]])*(WNARRates[Region]=CustEstRev[[#This Row],[Region]])*(WNARRates[CustClass]=CustEstRev[[#This Row],[CustClass]])*(WNARRates[Period]=CustEstRev[[#This Row],[Period]])*WNARRates[AdjCSWNA])","v":-8.09E-3},{"$f":"SUMPRODUCT((WNARRates[BeginDate]<=CustEstRev[[#This Row],[MonthFlow]])*(WNARRates[EndDate]>=CustEstRev[[#This Row],[MonthFlow]])*(WNARRates[Region]=CustEstRev[[#This Row],[Region]])*(WNARRates[CustClass]=CustEstRev[[#This Row],[CustClass]])*(WNARRates[Period]=CustEstRev[[#This Row],[Period]])*WNARRates[AdjSRR])","v":5.9999999999999995E-4},{"$f":"ROUND(CustEstRev[[#This Row],[NormVol]]*CustEstRev[[#This Row],[CSNWARate]],0)","v":-701},{"$f":"ROUND(CustEstRev[[#This Row],[NormVol]]*CustEstRev[[#This Row],[SRRRate]],0)","v":52},"Calculated revenues from data in CustEstVol table and WNAR Rates table"]
[44927,"S1","63-GRF","NEMO","Res",{"$f":"SUMPRODUCT((CustEstVol[MonthFlow]=CustEstRev[[#This Row],[MonthFlow]])*(CustEstVol[RateSched]=CustEstRev[[#This Row],[RateSched]])*(CustEstVol[CustClass]=CustEstRev[[#This Row],[CustClass]])*CustEstVol[NormVol])","v":2516391},{"$f":"SUMPRODUCT((WNARRates[BeginDate]<=CustEstRev[[#This Row],[MonthFlow]])*(WNARRates[EndDate]>=CustEstRev[[#This Row],[MonthFlow]])*(WNARRates[Region]=CustEstRev[[#This Row],[Region]])*(WNARRates[CustClass]=CustEstRev[[#This Row],[CustClass]])*(WNARRates[Period]=CustEstRev[[#This Row],[Period]])*WNARRates[AdjCSWNA])","v":5.7299999999999997E-2},{"$f":"SUMPRODUCT((WNARRates[BeginDate]<=CustEstRev[[#This Row],[MonthFlow]])*(WNARRates[EndDate]>=CustEstRev[[#This Row],[MonthFlow]])*(WNARRates[Region]=CustEstRev[[#This Row],[Region]])*(WNARRates[CustClass]=CustEstRev[[#This Row],[CustClass]])*(WNARRates[Period]=CustEstRev[[#This Row],[Period]])*WNARRates[AdjSRR])","v":2.7799999999999999E-3},{"$f":"ROUND(CustEstRev[[#This Row],[NormVol]]*CustEstRev[[#This Row],[CSNWARate]],0)","v":144189},{"$f":"ROUND(CustEstRev[[#This Row],[NormVol]]*CustEstRev[[#This Row],[SRRRate]],0)","v":6996},"Calculated revenues from data in CustEstVol table and WNAR Rates table"]
[44927,"S2","63-GRF","NEMO","Res",{"$f":"SUMPRODUCT((CustEstVol[MonthFlow]=CustEstRev[[#This Row],[MonthFlow]])*(CustEstVol[RateSched]=CustEstRev[[#This Row],[RateSched]])*(CustEstVol[CustClass]=CustEstRev[[#This Row],[CustClass]])*CustEstVol[NormVol])","v":2516391},{"$f":"SUMPRODUCT((WNARRates[BeginDate]<=CustEstRev[[#This Row],[MonthFlow]])*(WNARRates[EndDate]>=CustEstRev[[#This Row],[MonthFlow]])*(WNARRates[Region]=CustEstRev[[#This Row],[Region]])*(WNARRates[CustClass]=CustEstRev[[#This Row],[CustClass]])*(WNARRates[Period]=CustEstRev[[#This Row],[Period]])*WNARRates[AdjCSWNA])","v":-1.9380000000000001E-2},{"$f":"SUMPRODUCT((WNARRates[BeginDate]<=CustEstRev[[#This Row],[MonthFlow]])*(WNARRates[EndDate]>=CustEstRev[[#This Row],[MonthFlow]])*(WNARRates[Region]=CustEstRev[[#This Row],[Region]])*(WNARRates[CustClass]=CustEstRev[[#This Row],[CustClass]])*(WNARRates[Period]=CustEstRev[[#This Row],[Period]])*WNARRates[AdjSRR])","v":4.6999999999999999E-4},{"$f":"ROUND(CustEstRev[[#This Row],[NormVol]]*CustEstRev[[#This Row],[CSNWARate]],0)","v":-48768},{"$f":"ROUND(CustEstRev[[#This Row],[NormVol]]*CustEstRev[[#This Row],[SRRRate]],0)","v":1183},"Calculated revenues from data in CustEstVol table and WNAR Rates table"]
[44927,"S1","63-GCSF","NEMO","SGS",{"$f":"SUMPRODUCT((CustEstVol[MonthFlow]=CustEstRev[[#This Row],[MonthFlow]])*(CustEstVol[RateSched]=CustEstRev[[#This Row],[RateSched]])*(CustEstVol[CustClass]=CustEstRev[[#This Row],[CustClass]])*CustEstVol[NormVol])","v":846654},{"$f":"SUMPRODUCT((WNARRates[BeginDate]<=CustEstRev[[#This Row],[MonthFlow]])*(WNARRates[EndDate]>=CustEstRev[[#This Row],[MonthFlow]])*(WNARRates[Region]=CustEstRev[[#This Row],[Region]])*(WNARRates[CustClass]=CustEstRev[[#This Row],[CustClass]])*(WNARRates[Period]=CustEstRev[[#This Row],[Period]])*WNARRates[AdjCSWNA])","v":2.7810000000000001E-2},{"$f":"SUMPRODUCT((WNARRates[BeginDate]<=CustEstRev[[#This Row],[MonthFlow]])*(WNARRates[EndDate]>=CustEstRev[[#This Row],[MonthFlow]])*(WNARRates[Region]=CustEstRev[[#This Row],[Region]])*(WNARRates[CustClass]=CustEstRev[[#This Row],[CustClass]])*(WNARRates[Period]=CustEstRev[[#This Row],[Period]])*WNARRates[AdjSRR])","v":-2.2000000000000001E-4},{"$f":"ROUND(CustEstRev[[#This Row],[NormVol]]*CustEstRev[[#This Row],[CSNWARate]],0)","v":23545},{"$f":"ROUND(CustEstRev[[#This Row],[NormVol]]*CustEstRev[[#This Row],[SRRRate]],0)","v":-186},"Calculated revenues from data in CustEstVol table and WNAR Rates table"]
[44927,"S2","63-GCSF","NEMO","SGS",{"$f":"SUMPRODUCT((CustEstVol[MonthFlow]=CustEstRev[[#This Row],[MonthFlow]])*(CustEstVol[RateSched]=CustEstRev[[#This Row],[RateSched]])*(CustEstVol[CustClass]=CustEstRev[[#This Row],[CustClass]])*CustEstVol[NormVol])","v":846654},{"$f":"SUMPRODUCT((WNARRates[BeginDate]<=CustEstRev[[#This Row],[MonthFlow]])*(WNARRates[EndDate]>=CustEstRev[[#This Row],[MonthFlow]])*(WNARRates[Region]=CustEstRev[[#This Row],[Region]])*(WNARRates[CustClass]=CustEstRev[[#This Row],[CustClass]])*(WNARRates[Period]=CustEstRev[[#This Row],[Period]])*WNARRates[AdjCSWNA])","v":-8.09E-3},{"$f":"SUMPRODUCT((WNARRates[BeginDate]<=CustEstRev[[#This Row],[MonthFlow]])*(WNARRates[EndDate]>=CustEstRev[[#This Row],[MonthFlow]])*(WNARRates[Region]=CustEstRev[[#This Row],[Region]])*(WNARRates[CustClass]=CustEstRev[[#This Row],[CustClass]])*(WNARRates[Period]=CustEstRev[[#This Row],[Period]])*WNARRates[AdjSRR])","v":5.9999999999999995E-4},{"$f":"ROUND(CustEstRev[[#This Row],[NormVol]]*CustEstRev[[#This Row],[CSNWARate]],0)","v":-6849},{"$f":"ROUND(CustEstRev[[#This Row],[NormVol]]*CustEstRev[[#This Row],[SRRRate]],0)","v":508},"Calculated revenues from data in CustEstVol table and WNAR Rates table"]
[44927,"S1","62-GRF","SEMO","Res",{"$f":"SUMPRODUCT((CustEstVol[MonthFlow]=CustEstRev[[#This Row],[MonthFlow]])*(CustEstVol[RateSched]=CustEstRev[[#This Row],[RateSched]])*(CustEstVol[CustClass]=CustEstRev[[#This Row],[CustClass]])*CustEstVol[NormVol])","v":3437383},{"$f":"SUMPRODUCT((WNARRates[BeginDate]<=CustEstRev[[#This Row],[MonthFlow]])*(WNARRates[EndDate]>=CustEstRev[[#This Row],[MonthFlow]])*(WNARRates[Region]=CustEstRev[[#This Row],[Region]])*(WNARRates[CustClass]=CustEstRev[[#This Row],[CustClass]])*(WNARRates[Period]=CustEstRev[[#This Row],[Period]])*WNARRates[AdjCSWNA])","v":4.743E-2},{"$f":"SUMPRODUCT((WNARRates[BeginDate]<=CustEstRev[[#This Row],[MonthFlow]])*(WNARRates[EndDate]>=CustEstRev[[#This Row],[MonthFlow]])*(WNARRates[Region]=CustEstRev[[#This Row],[Region]])*(WNARRates[CustClass]=CustEstRev[[#This Row],[CustClass]])*(WNARRates[Period]=CustEstRev[[#This Row],[Period]])*WNARRates[AdjSRR])","v":9.8999999999999999E-4},{"$f":"ROUND(CustEstRev[[#This Row],[NormVol]]*CustEstRev[[#This Row],[CSNWARate]],0)","v":163035},{"$f":"ROUND(CustEstRev[[#This Row],[NormVol]]*CustEstRev[[#This Row],[SRRRate]],0)","v":3403},"Calculated revenues from data in CustEstVol table and WNAR Rates table"]
[44927,"S2","62-GRF","SEMO","Res",{"$f":"SUMPRODUCT((CustEstVol[MonthFlow]=CustEstRev[[#This Row],[MonthFlow]])*(CustEstVol[RateSched]=CustEstRev[[#This Row],[RateSched]])*(CustEstVol[CustClass]=CustEstRev[[#This Row],[CustClass]])*CustEstVol[NormVol])","v":3437383},{"$f":"SUMPRODUCT((WNARRates[BeginDate]<=CustEstRev[[#This Row],[MonthFlow]])*(WNARRates[EndDate]>=CustEstRev[[#This Row],[MonthFlow]])*(WNARRates[Region]=CustEstRev[[#This Row],[Region]])*(WNARRates[CustClass]=CustEstRev[[#This Row],[CustClass]])*(WNARRates[Period]=CustEstRev[[#This Row],[Period]])*WNARRates[AdjCSWNA])","v":1.2800000000000001E-3},{"$f":"SUMPRODUCT((WNARRates[BeginDate]<=CustEstRev[[#This Row],[MonthFlow]])*(WNARRates[EndDate]>=CustEstRev[[#This Row],[MonthFlow]])*(WNARRates[Region]=CustEstRev[[#This Row],[Region]])*(WNARRates[CustClass]=CustEstRev[[#This Row],[CustClass]])*(WNARRates[Period]=CustEstRev[[#This Row],[Period]])*WNARRates[AdjSRR])","v":-1.2E-4},{"$f":"ROUND(CustEstRev[[#This Row],[NormVol]]*CustEstRev[[#This Row],[CSNWARate]],0)","v":4400},{"$f":"ROUND(CustEstRev[[#This Row],[NormVol]]*CustEstRev[[#This Row],[SRRRate]],0)","v":-412},"Calculated revenues from data in CustEstVol table and WNAR Rates table"]
[44927,"S1","62-GCSF","SEMO","SGS",{"$f":"SUMPRODUCT((CustEstVol[MonthFlow]=CustEstRev[[#This Row],[MonthFlow]])*(CustEstVol[RateSched]=CustEstRev[[#This Row],[RateSched]])*(CustEstVol[CustClass]=CustEstRev[[#This Row],[CustClass]])*CustEstVol[NormVol])","v":1024543},{"$f":"SUMPRODUCT((WNARRates[BeginDate]<=CustEstRev[[#This Row],[MonthFlow]])*(WNARRates[EndDate]>=CustEstRev[[#This Row],[MonthFlow]])*(WNARRates[Region]=CustEstRev[[#This Row],[Region]])*(WNARRates[CustClass]=CustEstRev[[#This Row],[CustClass]])*(WNARRates[Period]=CustEstRev[[#This Row],[Period]])*WNARRates[AdjCSWNA])","v":1.6230000000000001E-2},{"$f":"SUMPRODUCT((WNARRates[BeginDate]<=CustEstRev[[#This Row],[MonthFlow]])*(WNARRates[EndDate]>=CustEstRev[[#This Row],[MonthFlow]])*(WNARRates[Region]=CustEstRev[[#This Row],[Region]])*(WNARRates[CustClass]=CustEstRev[[#This Row],[CustClass]])*(WNARRates[Period]=CustEstRev[[#This Row],[Period]])*WNARRates[AdjSRR])","v":-3.7200000000000002E-3},{"$f":"ROUND(CustEstRev[[#This Row],[NormVol]]*CustEstRev[[#This Row],[CSNWARate]],0)","v":16628},{"$f":"ROUND(CustEstRev[[#This Row],[NormVol]]*CustEstRev[[#This Row],[SRRRate]],0)","v":-3811},"Calculated revenues from data in CustEstVol table and WNAR Rates table"]
[44927,"S2","62-GCSF","SEMO","SGS",{"$f":"SUMPRODUCT((CustEstVol[MonthFlow]=CustEstRev[[#This Row],[MonthFlow]])*(CustEstVol[RateSched]=CustEstRev[[#This Row],[RateSched]])*(CustEstVol[CustClass]=CustEstRev[[#This Row],[CustClass]])*CustEstVol[NormVol])","v":1024543},{"$f":"SUMPRODUCT((WNARRates[BeginDate]<=CustEstRev[[#This Row],[MonthFlow]])*(WNARRates[EndDate]>=CustEstRev[[#This Row],[MonthFlow]])*(WNARRates[Region]=CustEstRev[[#This Row],[Region]])*(WNARRates[CustClass]=CustEstRev[[#This Row],[CustClass]])*(WNARRates[Period]=CustEstRev[[#This Row],[Period]])*WNARRates[AdjCSWNA])","v":4.4000000000000002E-4},{"$f":"SUMPRODUCT((WNARRates[BeginDate]<=CustEstRev[[#This Row],[MonthFlow]])*(WNARRates[EndDate]>=CustEstRev[[#This Row],[MonthFlow]])*(WNARRates[Region]=CustEstRev[[#This Row],[Region]])*(WNARRates[CustClass]=CustEstRev[[#This Row],[CustClass]])*(WNARRates[Period]=CustEstRev[[#This Row],[Period]])*WNARRates[AdjSRR])","v":6.9999999999999994E-5},{"$f":"ROUND(CustEstRev[[#This Row],[NormVol]]*CustEstRev[[#This Row],[CSNWARate]],0)","v":451},{"$f":"ROUND(CustEstRev[[#This Row],[NormVol]]*CustEstRev[[#This Row],[SRRRate]],0)","v":72},"Calculated revenues from data in CustEstVol table and WNAR Rates table"]
[44927,"S1","61-GRF","WEMO","Res",{"$f":"SUMPRODUCT((CustEstVol[MonthFlow]=CustEstRev[[#This Row],[MonthFlow]])*(CustEstVol[RateSched]=CustEstRev[[#This Row],[RateSched]])*(CustEstVol[CustClass]=CustEstRev[[#This Row],[CustClass]])*CustEstVol[NormVol])","v":487541},{"$f":"SUMPRODUCT((WNARRates[BeginDate]<=CustEstRev[[#This Row],[MonthFlow]])*(WNARRates[EndDate]>=CustEstRev[[#This Row],[MonthFlow]])*(WNARRates[Region]=CustEstRev[[#This Row],[Region]])*(WNARRates[CustClass]=CustEstRev[[#This Row],[CustClass]])*(WNARRates[Period]=CustEstRev[[#This Row],[Period]])*WNARRates[AdjCSWNA])","v":5.7299999999999997E-2},{"$f":"SUMPRODUCT((WNARRates[BeginDate]<=CustEstRev[[#This Row],[MonthFlow]])*(WNARRates[EndDate]>=CustEstRev[[#This Row],[MonthFlow]])*(WNARRates[Region]=CustEstRev[[#This Row],[Region]])*(WNARRates[CustClass]=CustEstRev[[#This Row],[CustClass]])*(WNARRates[Period]=CustEstRev[[#This Row],[Period]])*WNARRates[AdjSRR])","v":2.7799999999999999E-3},{"$f":"ROUND(CustEstRev[[#This Row],[NormVol]]*CustEstRev[[#This Row],[CSNWARate]],0)","v":27936},{"$f":"ROUND(CustEstRev[[#This Row],[NormVol]]*CustEstRev[[#This Row],[SRRRate]],0)","v":1355},"Calculated revenues from data in CustEstVol table and WNAR Rates table"]
[44927,"S2","61-GRF","WEMO","Res",{"$f":"SUMPRODUCT((CustEstVol[MonthFlow]=CustEstRev[[#This Row],[MonthFlow]])*(CustEstVol[RateSched]=CustEstRev[[#This Row],[RateSched]])*(CustEstVol[CustClass]=CustEstRev[[#This Row],[CustClass]])*CustEstVol[NormVol])","v":487541},{"$f":"SUMPRODUCT((WNARRates[BeginDate]<=CustEstRev[[#This Row],[MonthFlow]])*(WNARRates[EndDate]>=CustEstRev[[#This Row],[MonthFlow]])*(WNARRates[Region]=CustEstRev[[#This Row],[Region]])*(WNARRates[CustClass]=CustEstRev[[#This Row],[CustClass]])*(WNARRates[Period]=CustEstRev[[#This Row],[Period]])*WNARRates[AdjCSWNA])","v":-1.9380000000000001E-2},{"$f":"SUMPRODUCT((WNARRates[BeginDate]<=CustEstRev[[#This Row],[MonthFlow]])*(WNARRates[EndDate]>=CustEstRev[[#This Row],[MonthFlow]])*(WNARRates[Region]=CustEstRev[[#This Row],[Region]])*(WNARRates[CustClass]=CustEstRev[[#This Row],[CustClass]])*(WNARRates[Period]=CustEstRev[[#This Row],[Period]])*WNARRates[AdjSRR])","v":4.6999999999999999E-4},{"$f":"ROUND(CustEstRev[[#This Row],[NormVol]]*CustEstRev[[#This Row],[CSNWARate]],0)","v":-9449},{"$f":"ROUND(CustEstRev[[#This Row],[NormVol]]*CustEstRev[[#This Row],[SRRRate]],0)","v":229},"Calculated revenues from data in CustEstVol table and WNAR Rates table"]
[44927,"S1","61-GCSF","WEMO","SGS",{"$f":"SUMPRODUCT((CustEstVol[MonthFlow]=CustEstRev[[#This Row],[MonthFlow]])*(CustEstVol[RateSched]=CustEstRev[[#This Row],[RateSched]])*(CustEstVol[CustClass]=CustEstRev[[#This Row],[CustClass]])*CustEstVol[NormVol])","v":174753},{"$f":"SUMPRODUCT((WNARRates[BeginDate]<=CustEstRev[[#This Row],[MonthFlow]])*(WNARRates[EndDate]>=CustEstRev[[#This Row],[MonthFlow]])*(WNARRates[Region]=CustEstRev[[#This Row],[Region]])*(WNARRates[CustClass]=CustEstRev[[#This Row],[CustClass]])*(WNARRates[Period]=CustEstRev[[#This Row],[Period]])*WNARRates[AdjCSWNA])","v":2.7810000000000001E-2},{"$f":"SUMPRODUCT((WNARRates[BeginDate]<=CustEstRev[[#This Row],[MonthFlow]])*(WNARRates[EndDate]>=CustEstRev[[#This Row],[MonthFlow]])*(WNARRates[Region]=CustEstRev[[#This Row],[Region]])*(WNARRates[CustClass]=CustEstRev[[#This Row],[CustClass]])*(WNARRates[Period]=CustEstRev[[#This Row],[Period]])*WNARRates[AdjSRR])","v":-2.2000000000000001E-4},{"$f":"ROUND(CustEstRev[[#This Row],[NormVol]]*CustEstRev[[#This Row],[CSNWARate]],0)","v":4860},{"$f":"ROUND(CustEstRev[[#This Row],[NormVol]]*CustEstRev[[#This Row],[SRRRate]],0)","v":-38},"Calculated revenues from data in CustEstVol table and WNAR Rates table"]
[44927,"S2","61-GCSF","WEMO","SGS",{"$f":"SUMPRODUCT((CustEstVol[MonthFlow]=CustEstRev[[#This Row],[MonthFlow]])*(CustEstVol[RateSched]=CustEstRev[[#This Row],[RateSched]])*(CustEstVol[CustClass]=CustEstRev[[#This Row],[CustClass]])*CustEstVol[NormVol])","v":174753},{"$f":"SUMPRODUCT((WNARRates[BeginDate]<=CustEstRev[[#This Row],[MonthFlow]])*(WNARRates[EndDate]>=CustEstRev[[#This Row],[MonthFlow]])*(WNARRates[Region]=CustEstRev[[#This Row],[Region]])*(WNARRates[CustClass]=CustEstRev[[#This Row],[CustClass]])*(WNARRates[Period]=CustEstRev[[#This Row],[Period]])*WNARRates[AdjCSWNA])","v":-8.09E-3},{"$f":"SUMPRODUCT((WNARRates[BeginDate]<=CustEstRev[[#This Row],[MonthFlow]])*(WNARRates[EndDate]>=CustEstRev[[#This Row],[MonthFlow]])*(WNARRates[Region]=CustEstRev[[#This Row],[Region]])*(WNARRates[CustClass]=CustEstRev[[#This Row],[CustClass]])*(WNARRates[Period]=CustEstRev[[#This Row],[Period]])*WNARRates[AdjSRR])","v":5.9999999999999995E-4},{"$f":"ROUND(CustEstRev[[#This Row],[NormVol]]*CustEstRev[[#This Row],[CSNWARate]],0)","v":-1414},{"$f":"ROUND(CustEstRev[[#This Row],[NormVol]]*CustEstRev[[#This Row],[SRRRate]],0)","v":105},"Calculated revenues from data in CustEstVol table and WNAR Rates table"]
[44958,"S1","63-GRF","NEMO","Res",{"$f":"SUMPRODUCT((CustEstVol[MonthFlow]=CustEstRev[[#This Row],[MonthFlow]])*(CustEstVol[RateSched]=CustEstRev[[#This Row],[RateSched]])*(CustEstVol[CustClass]=CustEstRev[[#This Row],[CustClass]])*CustEstVol[NormVol])","v":2135402},{"$f":"SUMPRODUCT((WNARRates[BeginDate]<=CustEstRev[[#This Row],[MonthFlow]])*(WNARRates[EndDate]>=CustEstRev[[#This Row],[MonthFlow]])*(WNARRates[Region]=CustEstRev[[#This Row],[Region]])*(WNARRates[CustClass]=CustEstRev[[#This Row],[CustClass]])*(WNARRates[Period]=CustEstRev[[#This Row],[Period]])*WNARRates[AdjCSWNA])","v":5.7299999999999997E-2},{"$f":"SUMPRODUCT((WNARRates[BeginDate]<=CustEstRev[[#This Row],[MonthFlow]])*(WNARRates[EndDate]>=CustEstRev[[#This Row],[MonthFlow]])*(WNARRates[Region]=CustEstRev[[#This Row],[Region]])*(WNARRates[CustClass]=CustEstRev[[#This Row],[CustClass]])*(WNARRates[Period]=CustEstRev[[#This Row],[Period]])*WNARRates[AdjSRR])","v":2.7799999999999999E-3},{"$f":"ROUND(CustEstRev[[#This Row],[NormVol]]*CustEstRev[[#This Row],[CSNWARate]],0)","v":122359},{"$f":"ROUND(CustEstRev[[#This Row],[NormVol]]*CustEstRev[[#This Row],[SRRRate]],0)","v":5936},"Calculated revenues from data in CustEstVol table and WNAR Rates table"]
[44958,"S2","63-GRF","NEMO","Res",{"$f":"SUMPRODUCT((CustEstVol[MonthFlow]=CustEstRev[[#This Row],[MonthFlow]])*(CustEstVol[RateSched]=CustEstRev[[#This Row],[RateSched]])*(CustEstVol[CustClass]=CustEstRev[[#This Row],[CustClass]])*CustEstVol[NormVol])","v":2135402},{"$f":"SUMPRODUCT((WNARRates[BeginDate]<=CustEstRev[[#This Row],[MonthFlow]])*(WNARRates[EndDate]>=CustEstRev[[#This Row],[MonthFlow]])*(WNARRates[Region]=CustEstRev[[#This Row],[Region]])*(WNARRates[CustClass]=CustEstRev[[#This Row],[CustClass]])*(WNARRates[Period]=CustEstRev[[#This Row],[Period]])*WNARRates[AdjCSWNA])","v":-1.9380000000000001E-2},{"$f":"SUMPRODUCT((WNARRates[BeginDate]<=CustEstRev[[#This Row],[MonthFlow]])*(WNARRates[EndDate]>=CustEstRev[[#This Row],[MonthFlow]])*(WNARRates[Region]=CustEstRev[[#This Row],[Region]])*(WNARRates[CustClass]=CustEstRev[[#This Row],[CustClass]])*(WNARRates[Period]=CustEstRev[[#This Row],[Period]])*WNARRates[AdjSRR])","v":4.6999999999999999E-4},{"$f":"ROUND(CustEstRev[[#This Row],[NormVol]]*CustEstRev[[#This Row],[CSNWARate]],0)","v":-41384},{"$f":"ROUND(CustEstRev[[#This Row],[NormVol]]*CustEstRev[[#This Row],[SRRRate]],0)","v":1004},"Calculated revenues from data in CustEstVol table and WNAR Rates table"]
[44958,"S1","63-GCSF","NEMO","SGS",{"$f":"SUMPRODUCT((CustEstVol[MonthFlow]=CustEstRev[[#This Row],[MonthFlow]])*(CustEstVol[RateSched]=CustEstRev[[#This Row],[RateSched]])*(CustEstVol[CustClass]=CustEstRev[[#This Row],[CustClass]])*CustEstVol[NormVol])","v":696626},{"$f":"SUMPRODUCT((WNARRates[BeginDate]<=CustEstRev[[#This Row],[MonthFlow]])*(WNARRates[EndDate]>=CustEstRev[[#This Row],[MonthFlow]])*(WNARRates[Region]=CustEstRev[[#This Row],[Region]])*(WNARRates[CustClass]=CustEstRev[[#This Row],[CustClass]])*(WNARRates[Period]=CustEstRev[[#This Row],[Period]])*WNARRates[AdjCSWNA])","v":2.7810000000000001E-2},{"$f":"SUMPRODUCT((WNARRates[BeginDate]<=CustEstRev[[#This Row],[MonthFlow]])*(WNARRates[EndDate]>=CustEstRev[[#This Row],[MonthFlow]])*(WNARRates[Region]=CustEstRev[[#This Row],[Region]])*(WNARRates[CustClass]=CustEstRev[[#This Row],[CustClass]])*(WNARRates[Period]=CustEstRev[[#This Row],[Period]])*WNARRates[AdjSRR])","v":-2.2000000000000001E-4},{"$f":"ROUND(CustEstRev[[#This Row],[NormVol]]*CustEstRev[[#This Row],[CSNWARate]],0)","v":19373},{"$f":"ROUND(CustEstRev[[#This Row],[NormVol]]*CustEstRev[[#This Row],[SRRRate]],0)","v":-153},"Calculated revenues from data in CustEstVol table and WNAR Rates table"]
[44958,"S2","63-GCSF","NEMO","SGS",{"$f":"SUMPRODUCT((CustEstVol[MonthFlow]=CustEstRev[[#This Row],[MonthFlow]])*(CustEstVol[RateSched]=CustEstRev[[#This Row],[RateSched]])*(CustEstVol[CustClass]=CustEstRev[[#This Row],[CustClass]])*CustEstVol[NormVol])","v":696626},{"$f":"SUMPRODUCT((WNARRates[BeginDate]<=CustEstRev[[#This Row],[MonthFlow]])*(WNARRates[EndDate]>=CustEstRev[[#This Row],[MonthFlow]])*(WNARRates[Region]=CustEstRev[[#This Row],[Region]])*(WNARRates[CustClass]=CustEstRev[[#This Row],[CustClass]])*(WNARRates[Period]=CustEstRev[[#This Row],[Period]])*WNARRates[AdjCSWNA])","v":-8.09E-3},{"$f":"SUMPRODUCT((WNARRates[BeginDate]<=CustEstRev[[#This Row],[MonthFlow]])*(WNARRates[EndDate]>=CustEstRev[[#This Row],[MonthFlow]])*(WNARRates[Region]=CustEstRev[[#This Row],[Region]])*(WNARRates[CustClass]=CustEstRev[[#This Row],[CustClass]])*(WNARRates[Period]=CustEstRev[[#This Row],[Period]])*WNARRates[AdjSRR])","v":5.9999999999999995E-4},{"$f":"ROUND(CustEstRev[[#This Row],[NormVol]]*CustEstRev[[#This Row],[CSNWARate]],0)","v":-5636},{"$f":"ROUND(CustEstRev[[#This Row],[NormVol]]*CustEstRev[[#This Row],[SRRRate]],0)","v":418},"Calculated revenues from data in CustEstVol table and WNAR Rates table"]
[44958,"S1","62-GRF","SEMO","Res",{"$f":"SUMPRODUCT((CustEstVol[MonthFlow]=CustEstRev[[#This Row],[MonthFlow]])*(CustEstVol[RateSched]=CustEstRev[[#This Row],[RateSched]])*(CustEstVol[CustClass]=CustEstRev[[#This Row],[CustClass]])*CustEstVol[NormVol])","v":2885041},{"$f":"SUMPRODUCT((WNARRates[BeginDate]<=CustEstRev[[#This Row],[MonthFlow]])*(WNARRates[EndDate]>=CustEstRev[[#This Row],[MonthFlow]])*(WNARRates[Region]=CustEstRev[[#This Row],[Region]])*(WNARRates[CustClass]=CustEstRev[[#This Row],[CustClass]])*(WNARRates[Period]=CustEstRev[[#This Row],[Period]])*WNARRates[AdjCSWNA])","v":4.743E-2},{"$f":"SUMPRODUCT((WNARRates[BeginDate]<=CustEstRev[[#This Row],[MonthFlow]])*(WNARRates[EndDate]>=CustEstRev[[#This Row],[MonthFlow]])*(WNARRates[Region]=CustEstRev[[#This Row],[Region]])*(WNARRates[CustClass]=CustEstRev[[#This Row],[CustClass]])*(WNARRates[Period]=CustEstRev[[#This Row],[Period]])*WNARRates[AdjSRR])","v":9.8999999999999999E-4},{"$f":"ROUND(CustEstRev[[#This Row],[NormVol]]*CustEstRev[[#This Row],[CSNWARate]],0)","v":136837},{"$f":"ROUND(CustEstRev[[#This Row],[NormVol]]*CustEstRev[[#This Row],[SRRRate]],0)","v":2856},"Calculated revenues from data in CustEstVol table and WNAR Rates table"]
[44958,"S2","62-GRF","SEMO","Res",{"$f":"SUMPRODUCT((CustEstVol[MonthFlow]=CustEstRev[[#This Row],[MonthFlow]])*(CustEstVol[RateSched]=CustEstRev[[#This Row],[RateSched]])*(CustEstVol[CustClass]=CustEstRev[[#This Row],[CustClass]])*CustEstVol[NormVol])","v":2885041},{"$f":"SUMPRODUCT((WNARRates[BeginDate]<=CustEstRev[[#This Row],[MonthFlow]])*(WNARRates[EndDate]>=CustEstRev[[#This Row],[MonthFlow]])*(WNARRates[Region]=CustEstRev[[#This Row],[Region]])*(WNARRates[CustClass]=CustEstRev[[#This Row],[CustClass]])*(WNARRates[Period]=CustEstRev[[#This Row],[Period]])*WNARRates[AdjCSWNA])","v":1.2800000000000001E-3},{"$f":"SUMPRODUCT((WNARRates[BeginDate]<=CustEstRev[[#This Row],[MonthFlow]])*(WNARRates[EndDate]>=CustEstRev[[#This Row],[MonthFlow]])*(WNARRates[Region]=CustEstRev[[#This Row],[Region]])*(WNARRates[CustClass]=CustEstRev[[#This Row],[CustClass]])*(WNARRates[Period]=CustEstRev[[#This Row],[Period]])*WNARRates[AdjSRR])","v":-1.2E-4},{"$f":"ROUND(CustEstRev[[#This Row],[NormVol]]*CustEstRev[[#This Row],[CSNWARate]],0)","v":3693},{"$f":"ROUND(CustEstRev[[#This Row],[NormVol]]*CustEstRev[[#This Row],[SRRRate]],0)","v":-346},"Calculated revenues from data in CustEstVol table and WNAR Rates table"]
[44958,"S1","62-GCSF","SEMO","SGS",{"$f":"SUMPRODUCT((CustEstVol[MonthFlow]=CustEstRev[[#This Row],[MonthFlow]])*(CustEstVol[RateSched]=CustEstRev[[#This Row],[RateSched]])*(CustEstVol[CustClass]=CustEstRev[[#This Row],[CustClass]])*CustEstVol[NormVol])","v":828989},{"$f":"SUMPRODUCT((WNARRates[BeginDate]<=CustEstRev[[#This Row],[MonthFlow]])*(WNARRates[EndDate]>=CustEstRev[[#This Row],[MonthFlow]])*(WNARRates[Region]=CustEstRev[[#This Row],[Region]])*(WNARRates[CustClass]=CustEstRev[[#This Row],[CustClass]])*(WNARRates[Period]=CustEstRev[[#This Row],[Period]])*WNARRates[AdjCSWNA])","v":1.6230000000000001E-2},{"$f":"SUMPRODUCT((WNARRates[BeginDate]<=CustEstRev[[#This Row],[MonthFlow]])*(WNARRates[EndDate]>=CustEstRev[[#This Row],[MonthFlow]])*(WNARRates[Region]=CustEstRev[[#This Row],[Region]])*(WNARRates[CustClass]=CustEstRev[[#This Row],[CustClass]])*(WNARRates[Period]=CustEstRev[[#This Row],[Period]])*WNARRates[AdjSRR])","v":-3.7200000000000002E-3},{"$f":"ROUND(CustEstRev[[#This Row],[NormVol]]*CustEstRev[[#This Row],[CSNWARate]],0)","v":13454},{"$f":"ROUND(CustEstRev[[#This Row],[NormVol]]*CustEstRev[[#This Row],[SRRRate]],0)","v":-3084},"Calculated revenues from data in CustEstVol table and WNAR Rates table"]
[44958,"S2","62-GCSF","SEMO","SGS",{"$f":"SUMPRODUCT((CustEstVol[MonthFlow]=CustEstRev[[#This Row],[MonthFlow]])*(CustEstVol[RateSched]=CustEstRev[[#This Row],[RateSched]])*(CustEstVol[CustClass]=CustEstRev[[#This Row],[CustClass]])*CustEstVol[NormVol])","v":828989},{"$f":"SUMPRODUCT((WNARRates[BeginDate]<=CustEstRev[[#This Row],[MonthFlow]])*(WNARRates[EndDate]>=CustEstRev[[#This Row],[MonthFlow]])*(WNARRates[Region]=CustEstRev[[#This Row],[Region]])*(WNARRates[CustClass]=CustEstRev[[#This Row],[CustClass]])*(WNARRates[Period]=CustEstRev[[#This Row],[Period]])*WNARRates[AdjCSWNA])","v":4.4000000000000002E-4},{"$f":"SUMPRODUCT((WNARRates[BeginDate]<=CustEstRev[[#This Row],[MonthFlow]])*(WNARRates[EndDate]>=CustEstRev[[#This Row],[MonthFlow]])*(WNARRates[Region]=CustEstRev[[#This Row],[Region]])*(WNARRates[CustClass]=CustEstRev[[#This Row],[CustClass]])*(WNARRates[Period]=CustEstRev[[#This Row],[Period]])*WNARRates[AdjSRR])","v":6.9999999999999994E-5},{"$f":"ROUND(CustEstRev[[#This Row],[NormVol]]*CustEstRev[[#This Row],[CSNWARate]],0)","v":365},{"$f":"ROUND(CustEstRev[[#This Row],[NormVol]]*CustEstRev[[#This Row],[SRRRate]],0)","v":58},"Calculated revenues from data in CustEstVol table and WNAR Rates table"]
[44958,"S1","61-GRF","WEMO","Res",{"$f":"SUMPRODUCT((CustEstVol[MonthFlow]=CustEstRev[[#This Row],[MonthFlow]])*(CustEstVol[RateSched]=CustEstRev[[#This Row],[RateSched]])*(CustEstVol[CustClass]=CustEstRev[[#This Row],[CustClass]])*CustEstVol[NormVol])","v":410704},{"$f":"SUMPRODUCT((WNARRates[BeginDate]<=CustEstRev[[#This Row],[MonthFlow]])*(WNARRates[EndDate]>=CustEstRev[[#This Row],[MonthFlow]])*(WNARRates[Region]=CustEstRev[[#This Row],[Region]])*(WNARRates[CustClass]=CustEstRev[[#This Row],[CustClass]])*(WNARRates[Period]=CustEstRev[[#This Row],[Period]])*WNARRates[AdjCSWNA])","v":5.7299999999999997E-2},{"$f":"SUMPRODUCT((WNARRates[BeginDate]<=CustEstRev[[#This Row],[MonthFlow]])*(WNARRates[EndDate]>=CustEstRev[[#This Row],[MonthFlow]])*(WNARRates[Region]=CustEstRev[[#This Row],[Region]])*(WNARRates[CustClass]=CustEstRev[[#This Row],[CustClass]])*(WNARRates[Period]=CustEstRev[[#This Row],[Period]])*WNARRates[AdjSRR])","v":2.7799999999999999E-3},{"$f":"ROUND(CustEstRev[[#This Row],[NormVol]]*CustEstRev[[#This Row],[CSNWARate]],0)","v":23533},{"$f":"ROUND(CustEstRev[[#This Row],[NormVol]]*CustEstRev[[#This Row],[SRRRate]],0)","v":1142},"Calculated revenues from data in CustEstVol table and WNAR Rates table"]
[44958,"S2","61-GRF","WEMO","Res",{"$f":"SUMPRODUCT((CustEstVol[MonthFlow]=CustEstRev[[#This Row],[MonthFlow]])*(CustEstVol[RateSched]=CustEstRev[[#This Row],[RateSched]])*(CustEstVol[CustClass]=CustEstRev[[#This Row],[CustClass]])*CustEstVol[NormVol])","v":410704},{"$f":"SUMPRODUCT((WNARRates[BeginDate]<=CustEstRev[[#This Row],[MonthFlow]])*(WNARRates[EndDate]>=CustEstRev[[#This Row],[MonthFlow]])*(WNARRates[Region]=CustEstRev[[#This Row],[Region]])*(WNARRates[CustClass]=CustEstRev[[#This Row],[CustClass]])*(WNARRates[Period]=CustEstRev[[#This Row],[Period]])*WNARRates[AdjCSWNA])","v":-1.9380000000000001E-2},{"$f":"SUMPRODUCT((WNARRates[BeginDate]<=CustEstRev[[#This Row],[MonthFlow]])*(WNARRates[EndDate]>=CustEstRev[[#This Row],[MonthFlow]])*(WNARRates[Region]=CustEstRev[[#This Row],[Region]])*(WNARRates[CustClass]=CustEstRev[[#This Row],[CustClass]])*(WNARRates[Period]=CustEstRev[[#This Row],[Period]])*WNARRates[AdjSRR])","v":4.6999999999999999E-4},{"$f":"ROUND(CustEstRev[[#This Row],[NormVol]]*CustEstRev[[#This Row],[CSNWARate]],0)","v":-7959},{"$f":"ROUND(CustEstRev[[#This Row],[NormVol]]*CustEstRev[[#This Row],[SRRRate]],0)","v":193},"Calculated revenues from data in CustEstVol table and WNAR Rates table"]
[44958,"S1","61-GCSF","WEMO","SGS",{"$f":"SUMPRODUCT((CustEstVol[MonthFlow]=CustEstRev[[#This Row],[MonthFlow]])*(CustEstVol[RateSched]=CustEstRev[[#This Row],[RateSched]])*(CustEstVol[CustClass]=CustEstRev[[#This Row],[CustClass]])*CustEstVol[NormVol])","v":151587},{"$f":"SUMPRODUCT((WNARRates[BeginDate]<=CustEstRev[[#This Row],[MonthFlow]])*(WNARRates[EndDate]>=CustEstRev[[#This Row],[MonthFlow]])*(WNARRates[Region]=CustEstRev[[#This Row],[Region]])*(WNARRates[CustClass]=CustEstRev[[#This Row],[CustClass]])*(WNARRates[Period]=CustEstRev[[#This Row],[Period]])*WNARRates[AdjCSWNA])","v":2.7810000000000001E-2},{"$f":"SUMPRODUCT((WNARRates[BeginDate]<=CustEstRev[[#This Row],[MonthFlow]])*(WNARRates[EndDate]>=CustEstRev[[#This Row],[MonthFlow]])*(WNARRates[Region]=CustEstRev[[#This Row],[Region]])*(WNARRates[CustClass]=CustEstRev[[#This Row],[CustClass]])*(WNARRates[Period]=CustEstRev[[#This Row],[Period]])*WNARRates[AdjSRR])","v":-2.2000000000000001E-4},{"$f":"ROUND(CustEstRev[[#This Row],[NormVol]]*CustEstRev[[#This Row],[CSNWARate]],0)","v":4216},{"$f":"ROUND(CustEstRev[[#This Row],[NormVol]]*CustEstRev[[#This Row],[SRRRate]],0)","v":-33},"Calculated revenues from data in CustEstVol table and WNAR Rates table"]
[44958,"S2","61-GCSF","WEMO","SGS",{"$f":"SUMPRODUCT((CustEstVol[MonthFlow]=CustEstRev[[#This Row],[MonthFlow]])*(CustEstVol[RateSched]=CustEstRev[[#This Row],[RateSched]])*(CustEstVol[CustClass]=CustEstRev[[#This Row],[CustClass]])*CustEstVol[NormVol])","v":151587},{"$f":"SUMPRODUCT((WNARRates[BeginDate]<=CustEstRev[[#This Row],[MonthFlow]])*(WNARRates[EndDate]>=CustEstRev[[#This Row],[MonthFlow]])*(WNARRates[Region]=CustEstRev[[#This Row],[Region]])*(WNARRates[CustClass]=CustEstRev[[#This Row],[CustClass]])*(WNARRates[Period]=CustEstRev[[#This Row],[Period]])*WNARRates[AdjCSWNA])","v":-8.09E-3},{"$f":"SUMPRODUCT((WNARRates[BeginDate]<=CustEstRev[[#This Row],[MonthFlow]])*(WNARRates[EndDate]>=CustEstRev[[#This Row],[MonthFlow]])*(WNARRates[Region]=CustEstRev[[#This Row],[Region]])*(WNARRates[CustClass]=CustEstRev[[#This Row],[CustClass]])*(WNARRates[Period]=CustEstRev[[#This Row],[Period]])*WNARRates[AdjSRR])","v":5.9999999999999995E-4},{"$f":"ROUND(CustEstRev[[#This Row],[NormVol]]*CustEstRev[[#This Row],[CSNWARate]],0)","v":-1226},{"$f":"ROUND(CustEstRev[[#This Row],[NormVol]]*CustEstRev[[#This Row],[SRRRate]],0)","v":91},"Calculated revenues from data in CustEstVol table and WNAR Rates table"]
[44986,"S1","63-GRF","NEMO","Res",{"$f":"SUMPRODUCT((CustEstVol[MonthFlow]=CustEstRev[[#This Row],[MonthFlow]])*(CustEstVol[RateSched]=CustEstRev[[#This Row],[RateSched]])*(CustEstVol[CustClass]=CustEstRev[[#This Row],[CustClass]])*CustEstVol[NormVol])","v":1607542},{"$f":"SUMPRODUCT((WNARRates[BeginDate]<=CustEstRev[[#This Row],[MonthFlow]])*(WNARRates[EndDate]>=CustEstRev[[#This Row],[MonthFlow]])*(WNARRates[Region]=CustEstRev[[#This Row],[Region]])*(WNARRates[CustClass]=CustEstRev[[#This Row],[CustClass]])*(WNARRates[Period]=CustEstRev[[#This Row],[Period]])*WNARRates[AdjCSWNA])","v":5.7299999999999997E-2},{"$f":"SUMPRODUCT((WNARRates[BeginDate]<=CustEstRev[[#This Row],[MonthFlow]])*(WNARRates[EndDate]>=CustEstRev[[#This Row],[MonthFlow]])*(WNARRates[Region]=CustEstRev[[#This Row],[Region]])*(WNARRates[CustClass]=CustEstRev[[#This Row],[CustClass]])*(WNARRates[Period]=CustEstRev[[#This Row],[Period]])*WNARRates[AdjSRR])","v":2.7799999999999999E-3},{"$f":"ROUND(CustEstRev[[#This Row],[NormVol]]*CustEstRev[[#This Row],[CSNWARate]],0)","v":92112},{"$f":"ROUND(CustEstRev[[#This Row],[NormVol]]*CustEstRev[[#This Row],[SRRRate]],0)","v":4469},"Calculated revenues from data in CustEstVol table and WNAR Rates table"]
[44986,"S2","63-GRF","NEMO","Res",{"$f":"SUMPRODUCT((CustEstVol[MonthFlow]=CustEstRev[[#This Row],[MonthFlow]])*(CustEstVol[RateSched]=CustEstRev[[#This Row],[RateSched]])*(CustEstVol[CustClass]=CustEstRev[[#This Row],[CustClass]])*CustEstVol[NormVol])","v":1607542},{"$f":"SUMPRODUCT((WNARRates[BeginDate]<=CustEstRev[[#This Row],[MonthFlow]])*(WNARRates[EndDate]>=CustEstRev[[#This Row],[MonthFlow]])*(WNARRates[Region]=CustEstRev[[#This Row],[Region]])*(WNARRates[CustClass]=CustEstRev[[#This Row],[CustClass]])*(WNARRates[Period]=CustEstRev[[#This Row],[Period]])*WNARRates[AdjCSWNA])","v":-1.9380000000000001E-2},{"$f":"SUMPRODUCT((WNARRates[BeginDate]<=CustEstRev[[#This Row],[MonthFlow]])*(WNARRates[EndDate]>=CustEstRev[[#This Row],[MonthFlow]])*(WNARRates[Region]=CustEstRev[[#This Row],[Region]])*(WNARRates[CustClass]=CustEstRev[[#This Row],[CustClass]])*(WNARRates[Period]=CustEstRev[[#This Row],[Period]])*WNARRates[AdjSRR])","v":4.6999999999999999E-4},{"$f":"ROUND(CustEstRev[[#This Row],[NormVol]]*CustEstRev[[#This Row],[CSNWARate]],0)","v":-31154},{"$f":"ROUND(CustEstRev[[#This Row],[NormVol]]*CustEstRev[[#This Row],[SRRRate]],0)","v":756},"Calculated revenues from data in CustEstVol table and WNAR Rates table"]
[44986,"S1","63-GCSF","NEMO","SGS",{"$f":"SUMPRODUCT((CustEstVol[MonthFlow]=CustEstRev[[#This Row],[MonthFlow]])*(CustEstVol[RateSched]=CustEstRev[[#This Row],[RateSched]])*(CustEstVol[CustClass]=CustEstRev[[#This Row],[CustClass]])*CustEstVol[NormVol])","v":511849},{"$f":"SUMPRODUCT((WNARRates[BeginDate]<=CustEstRev[[#This Row],[MonthFlow]])*(WNARRates[EndDate]>=CustEstRev[[#This Row],[MonthFlow]])*(WNARRates[Region]=CustEstRev[[#This Row],[Region]])*(WNARRates[CustClass]=CustEstRev[[#This Row],[CustClass]])*(WNARRates[Period]=CustEstRev[[#This Row],[Period]])*WNARRates[AdjCSWNA])","v":2.7810000000000001E-2},{"$f":"SUMPRODUCT((WNARRates[BeginDate]<=CustEstRev[[#This Row],[MonthFlow]])*(WNARRates[EndDate]>=CustEstRev[[#This Row],[MonthFlow]])*(WNARRates[Region]=CustEstRev[[#This Row],[Region]])*(WNARRates[CustClass]=CustEstRev[[#This Row],[CustClass]])*(WNARRates[Period]=CustEstRev[[#This Row],[Period]])*WNARRates[AdjSRR])","v":-2.2000000000000001E-4},{"$f":"ROUND(CustEstRev[[#This Row],[NormVol]]*CustEstRev[[#This Row],[CSNWARate]],0)","v":14235},{"$f":"ROUND(CustEstRev[[#This Row],[NormVol]]*CustEstRev[[#This Row],[SRRRate]],0)","v":-113},"Calculated revenues from data in CustEstVol table and WNAR Rates table"]
[44986,"S2","63-GCSF","NEMO","SGS",{"$f":"SUMPRODUCT((CustEstVol[MonthFlow]=CustEstRev[[#This Row],[MonthFlow]])*(CustEstVol[RateSched]=CustEstRev[[#This Row],[RateSched]])*(CustEstVol[CustClass]=CustEstRev[[#This Row],[CustClass]])*CustEstVol[NormVol])","v":511849},{"$f":"SUMPRODUCT((WNARRates[BeginDate]<=CustEstRev[[#This Row],[MonthFlow]])*(WNARRates[EndDate]>=CustEstRev[[#This Row],[MonthFlow]])*(WNARRates[Region]=CustEstRev[[#This Row],[Region]])*(WNARRates[CustClass]=CustEstRev[[#This Row],[CustClass]])*(WNARRates[Period]=CustEstRev[[#This Row],[Period]])*WNARRates[AdjCSWNA])","v":-8.09E-3},{"$f":"SUMPRODUCT((WNARRates[BeginDate]<=CustEstRev[[#This Row],[MonthFlow]])*(WNARRates[EndDate]>=CustEstRev[[#This Row],[MonthFlow]])*(WNARRates[Region]=CustEstRev[[#This Row],[Region]])*(WNARRates[CustClass]=CustEstRev[[#This Row],[CustClass]])*(WNARRates[Period]=CustEstRev[[#This Row],[Period]])*WNARRates[AdjSRR])","v":5.9999999999999995E-4},{"$f":"ROUND(CustEstRev[[#This Row],[NormVol]]*CustEstRev[[#This Row],[CSNWARate]],0)","v":-4141},{"$f":"ROUND(CustEstRev[[#This Row],[NormVol]]*CustEstRev[[#This Row],[SRRRate]],0)","v":307},"Calculated revenues from data in CustEstVol table and WNAR Rates table"]
[44986,"S1","62-GRF","SEMO","Res",{"$f":"SUMPRODUCT((CustEstVol[MonthFlow]=CustEstRev[[#This Row],[MonthFlow]])*(CustEstVol[RateSched]=CustEstRev[[#This Row],[RateSched]])*(CustEstVol[CustClass]=CustEstRev[[#This Row],[CustClass]])*CustEstVol[NormVol])","v":2268398},{"$f":"SUMPRODUCT((WNARRates[BeginDate]<=CustEstRev[[#This Row],[MonthFlow]])*(WNARRates[EndDate]>=CustEstRev[[#This Row],[MonthFlow]])*(WNARRates[Region]=CustEstRev[[#This Row],[Region]])*(WNARRates[CustClass]=CustEstRev[[#This Row],[CustClass]])*(WNARRates[Period]=CustEstRev[[#This Row],[Period]])*WNARRates[AdjCSWNA])","v":4.743E-2},{"$f":"SUMPRODUCT((WNARRates[BeginDate]<=CustEstRev[[#This Row],[MonthFlow]])*(WNARRates[EndDate]>=CustEstRev[[#This Row],[MonthFlow]])*(WNARRates[Region]=CustEstRev[[#This Row],[Region]])*(WNARRates[CustClass]=CustEstRev[[#This Row],[CustClass]])*(WNARRates[Period]=CustEstRev[[#This Row],[Period]])*WNARRates[AdjSRR])","v":9.8999999999999999E-4},{"$f":"ROUND(CustEstRev[[#This Row],[NormVol]]*CustEstRev[[#This Row],[CSNWARate]],0)","v":107590},{"$f":"ROUND(CustEstRev[[#This Row],[NormVol]]*CustEstRev[[#This Row],[SRRRate]],0)","v":2246},"Calculated revenues from data in CustEstVol table and WNAR Rates table"]
[44986,"S2","62-GRF","SEMO","Res",{"$f":"SUMPRODUCT((CustEstVol[MonthFlow]=CustEstRev[[#This Row],[MonthFlow]])*(CustEstVol[RateSched]=CustEstRev[[#This Row],[RateSched]])*(CustEstVol[CustClass]=CustEstRev[[#This Row],[CustClass]])*CustEstVol[NormVol])","v":2268398},{"$f":"SUMPRODUCT((WNARRates[BeginDate]<=CustEstRev[[#This Row],[MonthFlow]])*(WNARRates[EndDate]>=CustEstRev[[#This Row],[MonthFlow]])*(WNARRates[Region]=CustEstRev[[#This Row],[Region]])*(WNARRates[CustClass]=CustEstRev[[#This Row],[CustClass]])*(WNARRates[Period]=CustEstRev[[#This Row],[Period]])*WNARRates[AdjCSWNA])","v":1.2800000000000001E-3},{"$f":"SUMPRODUCT((WNARRates[BeginDate]<=CustEstRev[[#This Row],[MonthFlow]])*(WNARRates[EndDate]>=CustEstRev[[#This Row],[MonthFlow]])*(WNARRates[Region]=CustEstRev[[#This Row],[Region]])*(WNARRates[CustClass]=CustEstRev[[#This Row],[CustClass]])*(WNARRates[Period]=CustEstRev[[#This Row],[Period]])*WNARRates[AdjSRR])","v":-1.2E-4},{"$f":"ROUND(CustEstRev[[#This Row],[NormVol]]*CustEstRev[[#This Row],[CSNWARate]],0)","v":2904},{"$f":"ROUND(CustEstRev[[#This Row],[NormVol]]*CustEstRev[[#This Row],[SRRRate]],0)","v":-272},"Calculated revenues from data in CustEstVol table and WNAR Rates table"]
[44986,"S1","62-GCSF","SEMO","SGS",{"$f":"SUMPRODUCT((CustEstVol[MonthFlow]=CustEstRev[[#This Row],[MonthFlow]])*(CustEstVol[RateSched]=CustEstRev[[#This Row],[RateSched]])*(CustEstVol[CustClass]=CustEstRev[[#This Row],[CustClass]])*CustEstVol[NormVol])","v":617967},{"$f":"SUMPRODUCT((WNARRates[BeginDate]<=CustEstRev[[#This Row],[MonthFlow]])*(WNARRates[EndDate]>=CustEstRev[[#This Row],[MonthFlow]])*(WNARRates[Region]=CustEstRev[[#This Row],[Region]])*(WNARRates[CustClass]=CustEstRev[[#This Row],[CustClass]])*(WNARRates[Period]=CustEstRev[[#This Row],[Period]])*WNARRates[AdjCSWNA])","v":1.6230000000000001E-2},{"$f":"SUMPRODUCT((WNARRates[BeginDate]<=CustEstRev[[#This Row],[MonthFlow]])*(WNARRates[EndDate]>=CustEstRev[[#This Row],[MonthFlow]])*(WNARRates[Region]=CustEstRev[[#This Row],[Region]])*(WNARRates[CustClass]=CustEstRev[[#This Row],[CustClass]])*(WNARRates[Period]=CustEstRev[[#This Row],[Period]])*WNARRates[AdjSRR])","v":-3.7200000000000002E-3},{"$f":"ROUND(CustEstRev[[#This Row],[NormVol]]*CustEstRev[[#This Row],[CSNWARate]],0)","v":10030},{"$f":"ROUND(CustEstRev[[#This Row],[NormVol]]*CustEstRev[[#This Row],[SRRRate]],0)","v":-2299},"Calculated revenues from data in CustEstVol table and WNAR Rates table"]
[44986,"S2","62-GCSF","SEMO","SGS",{"$f":"SUMPRODUCT((CustEstVol[MonthFlow]=CustEstRev[[#This Row],[MonthFlow]])*(CustEstVol[RateSched]=CustEstRev[[#This Row],[RateSched]])*(CustEstVol[CustClass]=CustEstRev[[#This Row],[CustClass]])*CustEstVol[NormVol])","v":617967},{"$f":"SUMPRODUCT((WNARRates[BeginDate]<=CustEstRev[[#This Row],[MonthFlow]])*(WNARRates[EndDate]>=CustEstRev[[#This Row],[MonthFlow]])*(WNARRates[Region]=CustEstRev[[#This Row],[Region]])*(WNARRates[CustClass]=CustEstRev[[#This Row],[CustClass]])*(WNARRates[Period]=CustEstRev[[#This Row],[Period]])*WNARRates[AdjCSWNA])","v":4.4000000000000002E-4},{"$f":"SUMPRODUCT((WNARRates[BeginDate]<=CustEstRev[[#This Row],[MonthFlow]])*(WNARRates[EndDate]>=CustEstRev[[#This Row],[MonthFlow]])*(WNARRates[Region]=CustEstRev[[#This Row],[Region]])*(WNARRates[CustClass]=CustEstRev[[#This Row],[CustClass]])*(WNARRates[Period]=CustEstRev[[#This Row],[Period]])*WNARRates[AdjSRR])","v":6.9999999999999994E-5},{"$f":"ROUND(CustEstRev[[#This Row],[NormVol]]*CustEstRev[[#This Row],[CSNWARate]],0)","v":272},{"$f":"ROUND(CustEstRev[[#This Row],[NormVol]]*CustEstRev[[#This Row],[SRRRate]],0)","v":43},"Calculated revenues from data in CustEstVol table and WNAR Rates table"]
[44986,"S1","61-GRF","WEMO","Res",{"$f":"SUMPRODUCT((CustEstVol[MonthFlow]=CustEstRev[[#This Row],[MonthFlow]])*(CustEstVol[RateSched]=CustEstRev[[#This Row],[RateSched]])*(CustEstVol[CustClass]=CustEstRev[[#This Row],[CustClass]])*CustEstVol[NormVol])","v":325270},{"$f":"SUMPRODUCT((WNARRates[BeginDate]<=CustEstRev[[#This Row],[MonthFlow]])*(WNARRates[EndDate]>=CustEstRev[[#This Row],[MonthFlow]])*(WNARRates[Region]=CustEstRev[[#This Row],[Region]])*(WNARRates[CustClass]=CustEstRev[[#This Row],[CustClass]])*(WNARRates[Period]=CustEstRev[[#This Row],[Period]])*WNARRates[AdjCSWNA])","v":5.7299999999999997E-2},{"$f":"SUMPRODUCT((WNARRates[BeginDate]<=CustEstRev[[#This Row],[MonthFlow]])*(WNARRates[EndDate]>=CustEstRev[[#This Row],[MonthFlow]])*(WNARRates[Region]=CustEstRev[[#This Row],[Region]])*(WNARRates[CustClass]=CustEstRev[[#This Row],[CustClass]])*(WNARRates[Period]=CustEstRev[[#This Row],[Period]])*WNARRates[AdjSRR])","v":2.7799999999999999E-3},{"$f":"ROUND(CustEstRev[[#This Row],[NormVol]]*CustEstRev[[#This Row],[CSNWARate]],0)","v":18638},{"$f":"ROUND(CustEstRev[[#This Row],[NormVol]]*CustEstRev[[#This Row],[SRRRate]],0)","v":904},"Calculated revenues from data in CustEstVol table and WNAR Rates table"]
[44986,"S2","61-GRF","WEMO","Res",{"$f":"SUMPRODUCT((CustEstVol[MonthFlow]=CustEstRev[[#This Row],[MonthFlow]])*(CustEstVol[RateSched]=CustEstRev[[#This Row],[RateSched]])*(CustEstVol[CustClass]=CustEstRev[[#This Row],[CustClass]])*CustEstVol[NormVol])","v":325270},{"$f":"SUMPRODUCT((WNARRates[BeginDate]<=CustEstRev[[#This Row],[MonthFlow]])*(WNARRates[EndDate]>=CustEstRev[[#This Row],[MonthFlow]])*(WNARRates[Region]=CustEstRev[[#This Row],[Region]])*(WNARRates[CustClass]=CustEstRev[[#This Row],[CustClass]])*(WNARRates[Period]=CustEstRev[[#This Row],[Period]])*WNARRates[AdjCSWNA])","v":-1.9380000000000001E-2},{"$f":"SUMPRODUCT((WNARRates[BeginDate]<=CustEstRev[[#This Row],[MonthFlow]])*(WNARRates[EndDate]>=CustEstRev[[#This Row],[MonthFlow]])*(WNARRates[Region]=CustEstRev[[#This Row],[Region]])*(WNARRates[CustClass]=CustEstRev[[#This Row],[CustClass]])*(WNARRates[Period]=CustEstRev[[#This Row],[Period]])*WNARRates[AdjSRR])","v":4.6999999999999999E-4},{"$f":"ROUND(CustEstRev[[#This Row],[NormVol]]*CustEstRev[[#This Row],[CSNWARate]],0)","v":-6304},{"$f":"ROUND(CustEstRev[[#This Row],[NormVol]]*CustEstRev[[#This Row],[SRRRate]],0)","v":153},"Calculated revenues from data in CustEstVol table and WNAR Rates table"]
[44986,"S1","61-GCSF","WEMO","SGS",{"$f":"SUMPRODUCT((CustEstVol[MonthFlow]=CustEstRev[[#This Row],[MonthFlow]])*(CustEstVol[RateSched]=CustEstRev[[#This Row],[RateSched]])*(CustEstVol[CustClass]=CustEstRev[[#This Row],[CustClass]])*CustEstVol[NormVol])","v":114780},{"$f":"SUMPRODUCT((WNARRates[BeginDate]<=CustEstRev[[#This Row],[MonthFlow]])*(WNARRates[EndDate]>=CustEstRev[[#This Row],[MonthFlow]])*(WNARRates[Region]=CustEstRev[[#This Row],[Region]])*(WNARRates[CustClass]=CustEstRev[[#This Row],[CustClass]])*(WNARRates[Period]=CustEstRev[[#This Row],[Period]])*WNARRates[AdjCSWNA])","v":2.7810000000000001E-2},{"$f":"SUMPRODUCT((WNARRates[BeginDate]<=CustEstRev[[#This Row],[MonthFlow]])*(WNARRates[EndDate]>=CustEstRev[[#This Row],[MonthFlow]])*(WNARRates[Region]=CustEstRev[[#This Row],[Region]])*(WNARRates[CustClass]=CustEstRev[[#This Row],[CustClass]])*(WNARRates[Period]=CustEstRev[[#This Row],[Period]])*WNARRates[AdjSRR])","v":-2.2000000000000001E-4},{"$f":"ROUND(CustEstRev[[#This Row],[NormVol]]*CustEstRev[[#This Row],[CSNWARate]],0)","v":3192},{"$f":"ROUND(CustEstRev[[#This Row],[NormVol]]*CustEstRev[[#This Row],[SRRRate]],0)","v":-25},"Calculated revenues from data in CustEstVol table and WNAR Rates table"]
[44986,"S2","61-GCSF","WEMO","SGS",{"$f":"SUMPRODUCT((CustEstVol[MonthFlow]=CustEstRev[[#This Row],[MonthFlow]])*(CustEstVol[RateSched]=CustEstRev[[#This Row],[RateSched]])*(CustEstVol[CustClass]=CustEstRev[[#This Row],[CustClass]])*CustEstVol[NormVol])","v":114780},{"$f":"SUMPRODUCT((WNARRates[BeginDate]<=CustEstRev[[#This Row],[MonthFlow]])*(WNARRates[EndDate]>=CustEstRev[[#This Row],[MonthFlow]])*(WNARRates[Region]=CustEstRev[[#This Row],[Region]])*(WNARRates[CustClass]=CustEstRev[[#This Row],[CustClass]])*(WNARRates[Period]=CustEstRev[[#This Row],[Period]])*WNARRates[AdjCSWNA])","v":-8.09E-3},{"$f":"SUMPRODUCT((WNARRates[BeginDate]<=CustEstRev[[#This Row],[MonthFlow]])*(WNARRates[EndDate]>=CustEstRev[[#This Row],[MonthFlow]])*(WNARRates[Region]=CustEstRev[[#This Row],[Region]])*(WNARRates[CustClass]=CustEstRev[[#This Row],[CustClass]])*(WNARRates[Period]=CustEstRev[[#This Row],[Period]])*WNARRates[AdjSRR])","v":5.9999999999999995E-4},{"$f":"ROUND(CustEstRev[[#This Row],[NormVol]]*CustEstRev[[#This Row],[CSNWARate]],0)","v":-929},{"$f":"ROUND(CustEstRev[[#This Row],[NormVol]]*CustEstRev[[#This Row],[SRRRate]],0)","v":69},"Calculated revenues from data in CustEstVol table and WNAR Rates table"]

{"sheet":"WNAR Rates","index":20,"n_rows":55,"n_cols":14,"rows_kept":55,"cut":false,"hidden":false,"merged":[]}
["Year","Period","BeginDate","EndDate","Region","CustClass","CSWNA","SRR","Combined","AdjCSWNA","AdjSRR","AdjCombined","Preparer's Notes","Reviewer's Notes"]
[2019,"S1",43556,{"$f":"EDATE(WNARRates[[#This Row],[BeginDate]],12)-1","v":43921},"NEMO","Res",-1.1270000000000001E-2,0,{"$f":"WNARRates[[#This Row],[CSWNA]]+WNARRates[[#This Row],[SRR]]","v":-1.1270000000000001E-2},{"$f":"WNARRates[[#This Row],[CSWNA]]","v":-1.1270000000000001E-2},{"$f":"WNARRates[[#This Row],[SRR]]","v":0},{"$f":"WNARRates[[#This Row],[AdjCSWNA]]+WNARRates[[#This Row],[AdjSRR]]","v":-1.1270000000000001E-2}]
[2019,"S2",43739,{"$f":"EDATE(WNARRates[[#This Row],[BeginDate]],12)-1","v":44104},"NEMO","Res",-2.0449999999999999E-2,0,{"$f":"WNARRates[[#This Row],[CSWNA]]+WNARRates[[#This Row],[SRR]]","v":-2.0449999999999999E-2},{"$f":"WNARRates[[#This Row],[CSWNA]]","v":-2.0449999999999999E-2},{"$f":"WNARRates[[#This Row],[SRR]]","v":0},{"$f":"WNARRates[[#This Row],[AdjCSWNA]]+WNARRates[[#This Row],[AdjSRR]]","v":-2.0449999999999999E-2}]
[2020,"S1",43922,{"$f":"EDATE(WNARRates[[#This Row],[BeginDate]],12)-1","v":44286},"NEMO","Res",1.8530000000000001E-2,-1.8400000000000001E-3,{"$f":"WNARRates[[#This Row],[CSWNA]]+WNARRates[[#This Row],[SRR]]","v":1.669E-2},{"$f":"WNARRates[[#This Row],[CSWNA]]","v":1.8530000000000001E-2},{"$f":"WNARRates[[#This Row],[SRR]]","v":-1.8400000000000001E-3},{"$f":"WNARRates[[#This Row],[AdjCSWNA]]+WNARRates[[#This Row],[AdjSRR]]","v":1.669E-2}]
[2020,"S2",44105,{"$f":"EDATE(WNARRates[[#This Row],[BeginDate]],12)-1","v":44469},"NEMO","Res",-1.2099999999999999E-3,8.3000000000000001E-4,{"$f":"WNARRates[[#This Row],[CSWNA]]+WNARRates[[#This Row],[SRR]]","v":-3.7999999999999991E-4},{"$f":"WNARRates[[#This Row],[CSWNA]]","v":-1.2099999999999999E-3},{"$f":"WNARRates[[#This Row],[SRR]]","v":8.3000000000000001E-4},{"$f":"WNARRates[[#This Row],[AdjCSWNA]]+WNARRates[[#This Row],[AdjSRR]]","v":-3.7999999999999991E-4}]
[2021,"S1",44287,{"$f":"EDATE(WNARRates[[#This Row],[BeginDate]],12)-1","v":44651},"NEMO","Res",1.208E-2,-2E-3,{"$f":"WNARRates[[#This Row],[CSWNA]]+WNARRates[[#This Row],[SRR]]","v":1.008E-2},{"$f":"WNARRates[[#This Row],[CSWNA]]","v":1.208E-2},{"$f":"WNARRates[[#This Row],[SRR]]","v":-2E-3},{"$f":"WNARRates[[#This Row],[AdjCSWNA]]+WNARRates[[#This Row],[AdjSRR]]","v":1.008E-2}]
[2019,"S1",43556,{"$f":"EDATE(WNARRates[[#This Row],[BeginDate]],12)-1","v":43921},"WEMO","Res",-1.1270000000000001E-2,0,{"$f":"WNARRates[[#This Row],[CSWNA]]+WNARRates[[#This Row],[SRR]]","v":-1.1270000000000001E-2},{"$f":"WNARRates[[#This Row],[CSWNA]]","v":-1.1270000000000001E-2},{"$f":"WNARRates[[#This Row],[SRR]]","v":0},{"$f":"WNARRates[[#This Row],[AdjCSWNA]]+WNARRates[[#This Row],[AdjSRR]]","v":-1.1270000000000001E-2}]
[2019,"S2",43739,{"$f":"EDATE(WNARRates[[#This Row],[BeginDate]],12)-1","v":44104},"WEMO","Res",-2.0449999999999999E-2,0,{"$f":"WNARRates[[#This Row],[CSWNA]]+WNARRates[[#This Row],[SRR]]","v":-2.0449999999999999E-2},{"$f":"WNARRates[[#This Row],[CSWNA]]","v":-2.0449999999999999E-2},{"$f":"WNARRates[[#This Row],[SRR]]","v":0},{"$f":"WNARRates[[#This Row],[AdjCSWNA]]+WNARRates[[#This Row],[AdjSRR]]","v":-2.0449999999999999E-2}]
[2020,"S1",43922,{"$f":"EDATE(WNARRates[[#This Row],[BeginDate]],12)-1","v":44286},"WEMO","Res",1.8530000000000001E-2,-1.8400000000000001E-3,{"$f":"WNARRates[[#This Row],[CSWNA]]+WNARRates[[#This Row],[SRR]]","v":1.669E-2},{"$f":"WNARRates[[#This Row],[CSWNA]]","v":1.8530000000000001E-2},{"$f":"WNARRates[[#This Row],[SRR]]","v":-1.8400000000000001E-3},{"$f":"WNARRates[[#This Row],[AdjCSWNA]]+WNARRates[[#This Row],[AdjSRR]]","v":1.669E-2}]
[2020,"S2",44105,{"$f":"EDATE(WNARRates[[#This Row],[BeginDate]],12)-1","v":44469},"WEMO","Res",-1.2099999999999999E-3,8.3000000000000001E-4,{"$f":"WNARRates[[#This Row],[CSWNA]]+WNARRates[[#This Row],[SRR]]","v":-3.7999999999999991E-4},{"$f":"WNARRates[[#This Row],[CSWNA]]","v":-1.2099999999999999E-3},{"$f":"WNARRates[[#This Row],[SRR]]","v":8.3000000000000001E-4},{"$f":"WNARRates[[#This Row],[AdjCSWNA]]+WNARRates[[#This Row],[AdjSRR]]","v":-3.7999999999999991E-4}]
[2021,"S1",44287,{"$f":"EDATE(WNARRates[[#This Row],[BeginDate]],12)-1","v":44651},"WEMO","Res",1.208E-2,-2E-3,{"$f":"WNARRates[[#This Row],[CSWNA]]+WNARRates[[#This Row],[SRR]]","v":1.008E-2},{"$f":"WNARRates[[#This Row],[CSWNA]]","v":1.208E-2},{"$f":"WNARRates[[#This Row],[SRR]]","v":-2E-3},{"$f":"WNARRates[[#This Row],[AdjCSWNA]]+WNARRates[[#This Row],[AdjSRR]]","v":1.008E-2}]
[2019,"S1",43556,{"$f":"EDATE(WNARRates[[#This Row],[BeginDate]],12)-1","v":43921},"NEMO","SGS",-4.7699999999999999E-3,0,{"$f":"WNARRates[[#This Row],[CSWNA]]+WNARRates[[#This Row],[SRR]]","v":-4.7699999999999999E-3},{"$f":"WNARRates[[#This Row],[CSWNA]]","v":-4.7699999999999999E-3},{"$f":"WNARRates[[#This Row],[SRR]]","v":0},{"$f":"WNARRates[[#This Row],[AdjCSWNA]]+WNARRates[[#This Row],[AdjSRR]]","v":-4.7699999999999999E-3}]
[2019,"S2",43739,{"$f":"EDATE(WNARRates[[#This Row],[BeginDate]],12)-1","v":44104},"NEMO","SGS",-8.5599999999999999E-3,0,{"$f":"WNARRates[[#This Row],[CSWNA]]+WNARRates[[#This Row],[SRR]]","v":-8.5599999999999999E-3},{"$f":"WNARRates[[#This Row],[CSWNA]]","v":-8.5599999999999999E-3},{"$f":"WNARRates[[#This Row],[SRR]]","v":0},{"$f":"WNARRates[[#This Row],[AdjCSWNA]]+WNARRates[[#This Row],[AdjSRR]]","v":-8.5599999999999999E-3}]
[2020,"S1",43922,{"$f":"EDATE(WNARRates[[#This Row],[BeginDate]],12)-1","v":44286},"NEMO","SGS",7.7999999999999996E-3,4.8999999999999998E-4,{"$f":"WNARRates[[#This Row],[CSWNA]]+WNARRates[[#This Row],[SRR]]","v":8.2899999999999988E-3},{"$f":"WNARRates[[#This Row],[CSWNA]]","v":7.7999999999999996E-3},{"$f":"WNARRates[[#This Row],[SRR]]","v":4.8999999999999998E-4},{"$f":"WNARRates[[#This Row],[AdjCSWNA]]+WNARRates[[#This Row],[AdjSRR]]","v":8.2899999999999988E-3}]
[2020,"S2",44105,{"$f":"EDATE(WNARRates[[#This Row],[BeginDate]],12)-1","v":44469},"NEMO","SGS",-4.0999999999999999E-4,4.8999999999999998E-4,{"$f":"WNARRates[[#This Row],[CSWNA]]+WNARRates[[#This Row],[SRR]]","v":7.9999999999999993E-5},{"$f":"WNARRates[[#This Row],[CSWNA]]","v":-4.0999999999999999E-4},{"$f":"WNARRates[[#This Row],[SRR]]","v":4.8999999999999998E-4},{"$f":"WNARRates[[#This Row],[AdjCSWNA]]+WNARRates[[#This Row],[AdjSRR]]","v":7.9999999999999993E-5}]
[2021,"S1",44287,{"$f":"EDATE(WNARRates[[#This Row],[BeginDate]],12)-1","v":44651},"NEMO","SGS",4.8599999999999997E-3,-1.4999999999999999E-4,{"$f":"WNARRates[[#This Row],[CSWNA]]+WNARRates[[#This Row],[SRR]]","v":4.7099999999999998E-3},{"$f":"WNARRates[[#This Row],[CSWNA]]","v":4.8599999999999997E-3},{"$f":"WNARRates[[#This Row],[SRR]]","v":-1.4999999999999999E-4},{"$f":"WNARRates[[#This Row],[AdjCSWNA]]+WNARRates[[#This Row],[AdjSRR]]","v":4.7099999999999998E-3}]
[2019,"S1",43556,{"$f":"EDATE(WNARRates[[#This Row],[BeginDate]],12)-1","v":43921},"WEMO","SGS",-4.7699999999999999E-3,0,{"$f":"WNARRates[[#This Row],[CSWNA]]+WNARRates[[#This Row],[SRR]]","v":-4.7699999999999999E-3},{"$f":"WNARRates[[#This Row],[CSWNA]]","v":-4.7699999999999999E-3},{"$f":"WNARRates[[#This Row],[SRR]]","v":0},{"$f":"WNARRates[[#This Row],[AdjCSWNA]]+WNARRates[[#This Row],[AdjSRR]]","v":-4.7699999999999999E-3}]
[2019,"S2",43739,{"$f":"EDATE(WNARRates[[#This Row],[BeginDate]],12)-1","v":44104},"WEMO","SGS",-8.5599999999999999E-3,0,{"$f":"WNARRates[[#This Row],[CSWNA]]+WNARRates[[#This Row],[SRR]]","v":-8.5599999999999999E-3},{"$f":"WNARRates[[#This Row],[CSWNA]]","v":-8.5599999999999999E-3},{"$f":"WNARRates[[#This Row],[SRR]]","v":0},{"$f":"WNARRates[[#This Row],[AdjCSWNA]]+WNARRates[[#This Row],[AdjSRR]]","v":-8.5599999999999999E-3}]
[2020,"S1",43922,{"$f":"EDATE(WNARRates[[#This Row],[BeginDate]],12)-1","v":44286},"WEMO","SGS",7.7999999999999996E-3,4.8999999999999998E-4,{"$f":"WNARRates[[#This Row],[CSWNA]]+WNARRates[[#This Row],[SRR]]","v":8.2899999999999988E-3},{"$f":"WNARRates[[#This Row],[CSWNA]]","v":7.7999999999999996E-3},{"$f":"WNARRates[[#This Row],[SRR]]","v":4.8999999999999998E-4},{"$f":"WNARRates[[#This Row],[AdjCSWNA]]+WNARRates[[#This Row],[AdjSRR]]","v":8.2899999999999988E-3}]
[2020,"S2",44105,{"$f":"EDATE(WNARRates[[#This Row],[BeginDate]],12)-1","v":44469},"WEMO","SGS",-4.0999999999999999E-4,4.8999999999999998E-4,{"$f":"WNARRates[[#This Row],[CSWNA]]+WNARRates[[#This Row],[SRR]]","v":7.9999999999999993E-5},{"$f":"WNARRates[[#This Row],[CSWNA]]","v":-4.0999999999999999E-4},{"$f":"WNARRates[[#This Row],[SRR]]","v":4.8999999999999998E-4},{"$f":"WNARRates[[#This Row],[AdjCSWNA]]+WNARRates[[#This Row],[AdjSRR]]","v":7.9999999999999993E-5}]
[2021,"S1",44287,{"$f":"EDATE(WNARRates[[#This Row],[BeginDate]],12)-1","v":44651},"WEMO","SGS",4.8599999999999997E-3,-1.4999999999999999E-4,{"$f":"WNARRates[[#This Row],[CSWNA]]+WNARRates[[#This Row],[SRR]]","v":4.7099999999999998E-3},{"$f":"WNARRates[[#This Row],[CSWNA]]","v":4.8599999999999997E-3},{"$f":"WNARRates[[#This Row],[SRR]]","v":-1.4999999999999999E-4},{"$f":"WNARRates[[#This Row],[AdjCSWNA]]+WNARRates[[#This Row],[AdjSRR]]","v":4.7099999999999998E-3}]
[2019,"S1",43556,{"$f":"EDATE(WNARRates[[#This Row],[BeginDate]],12)-1","v":43921},"SEMO","Res",-1.5900000000000001E-3,0,{"$f":"WNARRates[[#This Row],[CSWNA]]+WNARRates[[#This Row],[SRR]]","v":-1.5900000000000001E-3},{"$f":"WNARRates[[#This Row],[CSWNA]]","v":-1.5900000000000001E-3},{"$f":"WNARRates[[#This Row],[SRR]]","v":0},{"$f":"WNARRates[[#This Row],[AdjCSWNA]]+WNARRates[[#This Row],[AdjSRR]]","v":-1.5900000000000001E-3}]
[2019,"S2",43739,{"$f":"EDATE(WNARRates[[#This Row],[BeginDate]],12)-1","v":44104},"SEMO","Res",2.3700000000000001E-3,0,{"$f":"WNARRates[[#This Row],[CSWNA]]+WNARRates[[#This Row],[SRR]]","v":2.3700000000000001E-3},{"$f":"WNARRates[[#This Row],[CSWNA]]","v":2.3700000000000001E-3},{"$f":"WNARRates[[#This Row],[SRR]]","v":0},{"$f":"WNARRates[[#This Row],[AdjCSWNA]]+WNARRates[[#This Row],[AdjSRR]]","v":2.3700000000000001E-3}]
[2020,"S1",43922,{"$f":"EDATE(WNARRates[[#This Row],[BeginDate]],12)-1","v":44286},"SEMO","Res",1.7559999999999999E-2,6.0000000000000002E-5,{"$f":"WNARRates[[#This Row],[CSWNA]]+WNARRates[[#This Row],[SRR]]","v":1.762E-2},{"$f":"WNARRates[[#This Row],[CSWNA]]","v":1.7559999999999999E-2},{"$f":"WNARRates[[#This Row],[SRR]]","v":6.0000000000000002E-5},{"$f":"WNARRates[[#This Row],[AdjCSWNA]]+WNARRates[[#This Row],[AdjSRR]]","v":1.762E-2}]
[2020,"S2",44105,{"$f":"EDATE(WNARRates[[#This Row],[BeginDate]],12)-1","v":44469},"SEMO","Res",6.96E-3,-1.0000000000000001E-5,{"$f":"WNARRates[[#This Row],[CSWNA]]+WNARRates[[#This Row],[SRR]]","v":6.9500000000000004E-3},{"$f":"WNARRates[[#This Row],[CSWNA]]","v":6.96E-3},{"$f":"WNARRates[[#This Row],[SRR]]","v":-1.0000000000000001E-5},{"$f":"WNARRates[[#This Row],[AdjCSWNA]]+WNARRates[[#This Row],[AdjSRR]]","v":6.9500000000000004E-3}]
[2021,"S1",44287,{"$f":"EDATE(WNARRates[[#This Row],[BeginDate]],12)-1","v":44651},"SEMO","Res",1.265E-2,-6.0000000000000002E-5,{"$f":"WNARRates[[#This Row],[CSWNA]]+WNARRates[[#This Row],[SRR]]","v":1.259E-2},{"$f":"WNARRates[[#This Row],[CSWNA]]","v":1.265E-2},{"$f":"WNARRates[[#This Row],[SRR]]","v":-6.0000000000000002E-5},{"$f":"WNARRates[[#This Row],[AdjCSWNA]]+WNARRates[[#This Row],[AdjSRR]]","v":1.259E-2}]
[2019,"S1",43556,{"$f":"EDATE(WNARRates[[#This Row],[BeginDate]],12)-1","v":43921},"SEMO","SGS",-5.5000000000000003E-4,0,{"$f":"WNARRates[[#This Row],[CSWNA]]+WNARRates[[#This Row],[SRR]]","v":-5.5000000000000003E-4},{"$f":"WNARRates[[#This Row],[CSWNA]]","v":-5.5000000000000003E-4},{"$f":"WNARRates[[#This Row],[SRR]]","v":0},{"$f":"WNARRates[[#This Row],[AdjCSWNA]]+WNARRates[[#This Row],[AdjSRR]]","v":-5.5000000000000003E-4}]
[2019,"S2",43739,{"$f":"EDATE(WNARRates[[#This Row],[BeginDate]],12)-1","v":44104},"SEMO","SGS",8.0000000000000004E-4,0,{"$f":"WNARRates[[#This Row],[CSWNA]]+WNARRates[[#This Row],[SRR]]","v":8.0000000000000004E-4},{"$f":"WNARRates[[#This Row],[CSWNA]]","v":8.0000000000000004E-4},{"$f":"WNARRates[[#This Row],[SRR]]","v":0},{"$f":"WNARRates[[#This Row],[AdjCSWNA]]+WNARRates[[#This Row],[AdjSRR]]","v":8.0000000000000004E-4}]
[2020,"S1",43922,{"$f":"EDATE(WNARRates[[#This Row],[BeginDate]],12)-1","v":44286},"SEMO","SGS",5.9800000000000001E-3,6.9999999999999994E-5,{"$f":"WNARRates[[#This Row],[CSWNA]]+WNARRates[[#This Row],[SRR]]","v":6.0499999999999998E-3},{"$f":"WNARRates[[#This Row],[CSWNA]]","v":5.9800000000000001E-3},{"$f":"WNARRates[[#This Row],[SRR]]","v":6.9999999999999994E-5},{"$f":"WNARRates[[#This Row],[AdjCSWNA]]+WNARRates[[#This Row],[AdjSRR]]","v":6.0499999999999998E-3}]
[2020,"S2",44105,{"$f":"EDATE(WNARRates[[#This Row],[BeginDate]],12)-1","v":44469},"SEMO","SGS",2.3999999999999998E-3,-4.0000000000000003E-5,{"$f":"WNARRates[[#This Row],[CSWNA]]+WNARRates[[#This Row],[SRR]]","v":2.3599999999999997E-3},{"$f":"WNARRates[[#This Row],[CSWNA]]","v":2.3999999999999998E-3},{"$f":"WNARRates[[#This Row],[SRR]]","v":-4.0000000000000003E-5},{"$f":"WNARRates[[#This Row],[AdjCSWNA]]+WNARRates[[#This Row],[AdjSRR]]","v":2.3599999999999997E-3}]
[2021,"S1",44287,{"$f":"EDATE(WNARRates[[#This Row],[BeginDate]],12)-1","v":44651},"SEMO","SGS",4.3499999999999997E-3,-3.8999999999999999E-4,{"$f":"WNARRates[[#This Row],[CSWNA]]+WNARRates[[#This Row],[SRR]]","v":3.96E-3},{"$f":"WNARRates[[#This Row],[CSWNA]]","v":4.3499999999999997E-3},{"$f":"WNARRates[[#This Row],[SRR]]","v":-3.8999999999999999E-4},{"$f":"WNARRates[[#This Row],[AdjCSWNA]]+WNARRates[[#This Row],[AdjSRR]]","v":3.96E-3}]
[2021,"S2",44470,{"$f":"EDATE(WNARRates[[#This Row],[BeginDate]],12)-1","v":44834},"NEMO","Res",-1.357E-2,2.7999999999999998E-4,{"$f":"WNARRates[[#This Row],[CSWNA]]+WNARRates[[#This Row],[SRR]]","v":-1.329E-2},{"$f":"WNARRates[[#This Row],[CSWNA]]","v":-1.357E-2},{"$f":"WNARRates[[#This Row],[SRR]]","v":2.7999999999999998E-4},{"$f":"WNARRates[[#This Row],[AdjCSWNA]]+WNARRates[[#This Row],[AdjSRR]]","v":-1.329E-2}]
[2021,"S2",44470,{"$f":"EDATE(WNARRates[[#This Row],[BeginDate]],12)-1","v":44834},"WEMO","Res",-1.357E-2,2.7999999999999998E-4,{"$f":"WNARRates[[#This Row],[CSWNA]]+WNARRates[[#This Row],[SRR]]","v":-1.329E-2},{"$f":"WNARRates[[#This Row],[CSWNA]]","v":-1.357E-2},{"$f":"WNARRates[[#This Row],[SRR]]","v":2.7999999999999998E-4},{"$f":"WNARRates[[#This Row],[AdjCSWNA]]+WNARRates[[#This Row],[AdjSRR]]","v":-1.329E-2}]
[2021,"S2",44470,{"$f":"EDATE(WNARRates[[#This Row],[BeginDate]],12)-1","v":44834},"SEMO","Res",-3.3E-3,-4.0000000000000002E-4,{"$f":"WNARRates[[#This Row],[CSWNA]]+WNARRates[[#This Row],[SRR]]","v":-3.7000000000000002E-3},{"$f":"WNARRates[[#This Row],[CSWNA]]","v":-3.3E-3},{"$f":"WNARRates[[#This Row],[SRR]]","v":-4.0000000000000002E-4},{"$f":"WNARRates[[#This Row],[AdjCSWNA]]+WNARRates[[#This Row],[AdjSRR]]","v":-3.7000000000000002E-3}]
[2021,"S2",44470,{"$f":"EDATE(WNARRates[[#This Row],[BeginDate]],12)-1","v":44834},"NEMO","SGS",-5.5799999999999999E-3,1.9000000000000001E-4,{"$f":"WNARRates[[#This Row],[CSWNA]]+WNARRates[[#This Row],[SRR]]","v":-5.3899999999999998E-3},{"$f":"WNARRates[[#This Row],[CSWNA]]","v":-5.5799999999999999E-3},{"$f":"WNARRates[[#This Row],[SRR]]","v":1.9000000000000001E-4},{"$f":"WNARRates[[#This Row],[AdjCSWNA]]+WNARRates[[#This Row],[AdjSRR]]","v":-5.3899999999999998E-3}]
[2021,"S2",44470,{"$f":"EDATE(WNARRates[[#This Row],[BeginDate]],12)-1","v":44834},"WEMO","SGS",-5.5799999999999999E-3,1.9000000000000001E-4,{"$f":"WNARRates[[#This Row],[CSWNA]]+WNARRates[[#This Row],[SRR]]","v":-5.3899999999999998E-3},{"$f":"WNARRates[[#This Row],[CSWNA]]","v":-5.5799999999999999E-3},{"$f":"WNARRates[[#This Row],[SRR]]","v":1.9000000000000001E-4},{"$f":"WNARRates[[#This Row],[AdjCSWNA]]+WNARRates[[#This Row],[AdjSRR]]","v":-5.3899999999999998E-3}]
[2021,"S2",44470,{"$f":"EDATE(WNARRates[[#This Row],[BeginDate]],12)-1","v":44834},"SEMO","SGS",-1.1100000000000001E-3,-3.2000000000000003E-4,{"$f":"WNARRates[[#This Row],[CSWNA]]+WNARRates[[#This Row],[SRR]]","v":-1.4300000000000001E-3},{"$f":"WNARRates[[#This Row],[CSWNA]]","v":-1.1100000000000001E-3},{"$f":"WNARRates[[#This Row],[SRR]]","v":-3.2000000000000003E-4},{"$f":"WNARRates[[#This Row],[AdjCSWNA]]+WNARRates[[#This Row],[AdjSRR]]","v":-1.4300000000000001E-3}]
[2022,"S1",44652,{"$f":"EDATE(WNARRates[[#This Row],[BeginDate]],12)-1","v":45016},"NEMO","Res",6.6360000000000002E-2,2.7799999999999999E-3,{"$f":"WNARRates[[#This Row],[CSWNA]]+WNARRates[[#This Row],[SRR]]","v":6.9140000000000007E-2},5.7299999999999997E-2,{"$f":"WNARRates[[#This Row],[SRR]]","v":2.7799999999999999E-3},{"$f":"WNARRates[[#This Row],[AdjCSWNA]]+WNARRates[[#This Row],[AdjSRR]]","v":6.0079999999999995E-2},"AdjCSWNA from CSWNA Summary worksheet, row 26, column E\nAdjSRR from SRR Summary worksheet, row 84, column C","Subject to WNA Limit Adj."]
[2022,"S1",44652,{"$f":"EDATE(WNARRates[[#This Row],[BeginDate]],12)-1","v":45016},"WEMO","Res",6.6360000000000002E-2,2.7799999999999999E-3,{"$f":"WNARRates[[#This Row],[CSWNA]]+WNARRates[[#This Row],[SRR]]","v":6.9140000000000007E-2},5.7299999999999997E-2,{"$f":"WNARRates[[#This Row],[SRR]]","v":2.7799999999999999E-3},{"$f":"WNARRates[[#This Row],[AdjCSWNA]]+WNARRates[[#This Row],[AdjSRR]]","v":6.0079999999999995E-2},"AdjCSWNA from CSWNA Summary worksheet, row 26, column E\nAdjSRR from SRR Summary worksheet, row 84, column C","Subject to WNA Limit Adj."]
[2022,"S1",44652,{"$f":"EDATE(WNARRates[[#This Row],[BeginDate]],12)-1","v":45016},"SEMO","Res",4.743E-2,9.8999999999999999E-4,{"$f":"WNARRates[[#This Row],[CSWNA]]+WNARRates[[#This Row],[SRR]]","v":4.8419999999999998E-2},{"$f":"WNARRates[[#This Row],[CSWNA]]","v":4.743E-2},{"$f":"WNARRates[[#This Row],[SRR]]","v":9.8999999999999999E-4},{"$f":"WNARRates[[#This Row],[AdjCSWNA]]+WNARRates[[#This Row],[AdjSRR]]","v":4.8419999999999998E-2},"AdjCSWNA from CSWNA Summary worksheet, row 26, column I\nAdjSRR from SRR Summary worksheet, row 84, column E"]
[2022,"S1",44652,{"$f":"EDATE(WNARRates[[#This Row],[BeginDate]],12)-1","v":45016},"NEMO","SGS",2.7810000000000001E-2,-2.2000000000000001E-4,{"$f":"WNARRates[[#This Row],[CSWNA]]+WNARRates[[#This Row],[SRR]]","v":2.759E-2},{"$f":"WNARRates[[#This Row],[CSWNA]]","v":2.7810000000000001E-2},{"$f":"WNARRates[[#This Row],[SRR]]","v":-2.2000000000000001E-4},{"$f":"WNARRates[[#This Row],[AdjCSWNA]]+WNARRates[[#This Row],[AdjSRR]]","v":2.759E-2},"AdjCSWNA from CSWNA Summary worksheet, row 26, column H\nAdjSRR from SRR Summary worksheet, row 84, column D"]
[2022,"S1",44652,{"$f":"EDATE(WNARRates[[#This Row],[BeginDate]],12)-1","v":45016},"WEMO","SGS",2.7810000000000001E-2,-2.2000000000000001E-4,{"$f":"WNARRates[[#This Row],[CSWNA]]+WNARRates[[#This Row],[SRR]]","v":2.759E-2},{"$f":"WNARRates[[#This Row],[CSWNA]]","v":2.7810000000000001E-2},{"$f":"WNARRates[[#This Row],[SRR]]","v":-2.2000000000000001E-4},{"$f":"WNARRates[[#This Row],[AdjCSWNA]]+WNARRates[[#This Row],[AdjSRR]]","v":2.759E-2},"AdjCSWNA from CSWNA Summary worksheet, row 26, column H\nAdjSRR from SRR Summary worksheet, row 84, column D"]
[2022,"S1",44652,{"$f":"EDATE(WNARRates[[#This Row],[BeginDate]],12)-1","v":45016},"SEMO","SGS",1.6230000000000001E-2,-3.7200000000000002E-3,{"$f":"WNARRates[[#This Row],[CSWNA]]+WNARRates[[#This Row],[SRR]]","v":1.251E-2},{"$f":"WNARRates[[#This Row],[CSWNA]]","v":1.6230000000000001E-2},{"$f":"WNARRates[[#This Row],[SRR]]","v":-3.7200000000000002E-3},{"$f":"WNARRates[[#This Row],[AdjCSWNA]]+WNARRates[[#This Row],[AdjSRR]]","v":1.251E-2},"AdjCSWNA from CSWNA Summary worksheet, row 26, column J\nAdjSRR from SRR Summary worksheet, row 84, column F"]
[2022,"S2",44835,{"$f":"EDATE(WNARRates[[#This Row],[BeginDate]],12)-1","v":45199},"NEMO","Res",-1.9380000000000001E-2,4.6999999999999999E-4,{"$f":"WNARRates[[#This Row],[CSWNA]]+WNARRates[[#This Row],[SRR]]","v":-1.891E-2},{"$f":"WNARRates[[#This Row],[CSWNA]]","v":-1.9380000000000001E-2},{"$f":"WNARRates[[#This Row],[SRR]]","v":4.6999999999999999E-4},{"$f":"WNARRates[[#This Row],[AdjCSWNA]]+WNARRates[[#This Row],[AdjSRR]]","v":-1.891E-2},"AdjCSWNA from CSWNA Summary worksheet, row 26, column E\nAdjSRR from SRR Summary worksheet, row 84, column C"]
[2022,"S2",44835,{"$f":"EDATE(WNARRates[[#This Row],[BeginDate]],12)-1","v":45199},"WEMO","Res",-1.9380000000000001E-2,4.6999999999999999E-4,{"$f":"WNARRates[[#This Row],[CSWNA]]+WNARRates[[#This Row],[SRR]]","v":-1.891E-2},{"$f":"WNARRates[[#This Row],[CSWNA]]","v":-1.9380000000000001E-2},{"$f":"WNARRates[[#This Row],[SRR]]","v":4.6999999999999999E-4},{"$f":"WNARRates[[#This Row],[AdjCSWNA]]+WNARRates[[#This Row],[AdjSRR]]","v":-1.891E-2},"AdjCSWNA from CSWNA Summary worksheet, row 26, column E\nAdjSRR from SRR Summary worksheet, row 84, column C"]
[2022,"S2",44835,{"$f":"EDATE(WNARRates[[#This Row],[BeginDate]],12)-1","v":45199},"SEMO","Res",1.2800000000000001E-3,-1.2E-4,{"$f":"WNARRates[[#This Row],[CSWNA]]+WNARRates[[#This Row],[SRR]]","v":1.16E-3},{"$f":"WNARRates[[#This Row],[CSWNA]]","v":1.2800000000000001E-3},{"$f":"WNARRates[[#This Row],[SRR]]","v":-1.2E-4},{"$f":"WNARRates[[#This Row],[AdjCSWNA]]+WNARRates[[#This Row],[AdjSRR]]","v":1.16E-3},"AdjCSWNA from CSWNA Summary worksheet, row 26, column I\nAdjSRR from SRR Summary worksheet, row 84, column E"]
[2022,"S2",44835,{"$f":"EDATE(WNARRates[[#This Row],[BeginDate]],12)-1","v":45199},"NEMO","SGS",-8.09E-3,5.9999999999999995E-4,{"$f":"WNARRates[[#This Row],[CSWNA]]+WNARRates[[#This Row],[SRR]]","v":-7.4900000000000001E-3},{"$f":"WNARRates[[#This Row],[CSWNA]]","v":-8.09E-3},{"$f":"WNARRates[[#This Row],[SRR]]","v":5.9999999999999995E-4},{"$f":"WNARRates[[#This Row],[AdjCSWNA]]+WNARRates[[#This Row],[AdjSRR]]","v":-7.4900000000000001E-3},"AdjCSWNA from CSWNA Summary worksheet, row 26, column H\nAdjSRR from SRR Summary worksheet, row 84, column D"]
[2022,"S2",44835,{"$f":"EDATE(WNARRates[[#This Row],[BeginDate]],12)-1","v":45199},"WEMO","SGS",-8.09E-3,5.9999999999999995E-4,{"$f":"WNARRates[[#This Row],[CSWNA]]+WNARRates[[#This Row],[SRR]]","v":-7.4900000000000001E-3},{"$f":"WNARRates[[#This Row],[CSWNA]]","v":-8.09E-3},{"$f":"WNARRates[[#This Row],[SRR]]","v":5.9999999999999995E-4},{"$f":"WNARRates[[#This Row],[AdjCSWNA]]+WNARRates[[#This Row],[AdjSRR]]","v":-7.4900000000000001E-3},"AdjCSWNA from CSWNA Summary worksheet, row 26, column H\nAdjSRR from SRR Summary worksheet, row 84, column D"]
[2022,"S2",44835,{"$f":"EDATE(WNARRates[[#This Row],[BeginDate]],12)-1","v":45199},"SEMO","SGS",4.4000000000000002E-4,6.9999999999999994E-5,{"$f":"WNARRates[[#This Row],[CSWNA]]+WNARRates[[#This Row],[SRR]]","v":5.1000000000000004E-4},{"$f":"WNARRates[[#This Row],[CSWNA]]","v":4.4000000000000002E-4},{"$f":"WNARRates[[#This Row],[SRR]]","v":6.9999999999999994E-5},{"$f":"WNARRates[[#This Row],[AdjCSWNA]]+WNARRates[[#This Row],[AdjSRR]]","v":5.1000000000000004E-4},"AdjCSWNA from CSWNA Summary worksheet, row 26, column J\nAdjSRR from SRR Summary worksheet, row 84, column F"]
[2023,"S1",45017,{"$f":"EDATE(WNARRates[[#This Row],[BeginDate]],12)-1","v":45382},"NEMO","Res",-7.92E-3,-2.6790000000000001E-2,{"$f":"WNARRates[[#This Row],[CSWNA]]+WNARRates[[#This Row],[SRR]]","v":-3.4710000000000005E-2},{"$f":"WNARRates[[#This Row],[CSWNA]]","v":-7.92E-3},{"$f":"WNARRates[[#This Row],[SRR]]","v":-2.6790000000000001E-2},{"$f":"WNARRates[[#This Row],[AdjCSWNA]]+WNARRates[[#This Row],[AdjSRR]]","v":-3.4710000000000005E-2},"AdjCSWNA from CSWNA Summary worksheet, row 26, column E\nAdjSRR from SRR Summary worksheet, row 84, column C"]
[2023,"S1",45017,{"$f":"EDATE(WNARRates[[#This Row],[BeginDate]],12)-1","v":45382},"WEMO","Res",-7.92E-3,-2.6790000000000001E-2,{"$f":"WNARRates[[#This Row],[CSWNA]]+WNARRates[[#This Row],[SRR]]","v":-3.4710000000000005E-2},{"$f":"WNARRates[[#This Row],[CSWNA]]","v":-7.92E-3},{"$f":"WNARRates[[#This Row],[SRR]]","v":-2.6790000000000001E-2},{"$f":"WNARRates[[#This Row],[AdjCSWNA]]+WNARRates[[#This Row],[AdjSRR]]","v":-3.4710000000000005E-2},"AdjCSWNA from CSWNA Summary worksheet, row 26, column E\nAdjSRR from SRR Summary worksheet, row 84, column C"]
[2023,"S1",45017,{"$f":"EDATE(WNARRates[[#This Row],[BeginDate]],12)-1","v":45382},"SEMO","Res",-5.0000000000000002E-5,-2.997E-2,{"$f":"WNARRates[[#This Row],[CSWNA]]+WNARRates[[#This Row],[SRR]]","v":-3.0020000000000002E-2},{"$f":"WNARRates[[#This Row],[CSWNA]]","v":-5.0000000000000002E-5},{"$f":"WNARRates[[#This Row],[SRR]]","v":-2.997E-2},{"$f":"WNARRates[[#This Row],[AdjCSWNA]]+WNARRates[[#This Row],[AdjSRR]]","v":-3.0020000000000002E-2},"AdjCSWNA from CSWNA Summary worksheet, row 26, column I\nAdjSRR from SRR Summary worksheet, row 84, column E"]
[2023,"S1",45017,{"$f":"EDATE(WNARRates[[#This Row],[BeginDate]],12)-1","v":45382},"NEMO","SGS",-3.3300000000000001E-3,-2.1129999999999999E-2,{"$f":"WNARRates[[#This Row],[CSWNA]]+WNARRates[[#This Row],[SRR]]","v":-2.4459999999999999E-2},{"$f":"WNARRates[[#This Row],[CSWNA]]","v":-3.3300000000000001E-3},{"$f":"WNARRates[[#This Row],[SRR]]","v":-2.1129999999999999E-2},{"$f":"WNARRates[[#This Row],[AdjCSWNA]]+WNARRates[[#This Row],[AdjSRR]]","v":-2.4459999999999999E-2},"AdjCSWNA from CSWNA Summary worksheet, row 26, column H\nAdjSRR from SRR Summary worksheet, row 84, column D"]
[2023,"S1",45017,{"$f":"EDATE(WNARRates[[#This Row],[BeginDate]],12)-1","v":45382},"WEMO","SGS",-3.3300000000000001E-3,-2.1129999999999999E-2,{"$f":"WNARRates[[#This Row],[CSWNA]]+WNARRates[[#This Row],[SRR]]","v":-2.4459999999999999E-2},{"$f":"WNARRates[[#This Row],[CSWNA]]","v":-3.3300000000000001E-3},{"$f":"WNARRates[[#This Row],[SRR]]","v":-2.1129999999999999E-2},{"$f":"WNARRates[[#This Row],[AdjCSWNA]]+WNARRates[[#This Row],[AdjSRR]]","v":-2.4459999999999999E-2},"AdjCSWNA from CSWNA Summary worksheet, row 26, column H\nAdjSRR from SRR Summary worksheet, row 84, column D"]
[2023,"S1",45017,{"$f":"EDATE(WNARRates[[#This Row],[BeginDate]],12)-1","v":45382},"SEMO","SGS",-1.0000000000000001E-5,-3.2100000000000002E-3,{"$f":"WNARRates[[#This Row],[CSWNA]]+WNARRates[[#This Row],[SRR]]","v":-3.2200000000000002E-3},{"$f":"WNARRates[[#This Row],[CSWNA]]","v":-1.0000000000000001E-5},{"$f":"WNARRates[[#This Row],[SRR]]","v":-3.2100000000000002E-3},{"$f":"WNARRates[[#This Row],[AdjCSWNA]]+WNARRates[[#This Row],[AdjSRR]]","v":-3.2200000000000002E-3},"AdjCSWNA from CSWNA Summary worksheet, row 26, column J\nAdjSRR from SRR Summary worksheet, row 84, column F"]

{"sheet":"CSWNA Amounts","index":21,"n_rows":109,"n_cols":6,"rows_kept":109,"cut":false,"hidden":false,"merged":[]}
["Month","Region","CustClass","CSWNA","Preparer's Notes","Reviewer's Notes"]
[44378,"NEMO","Res",1113,"From legacy WNAR Filing Workpapers Apr 2022 - Rev 03102022, worksheet CSWNA Res NEMO"]
[44409,"NEMO","Res",3689,"From legacy WNAR Filing Workpapers Apr 2022 - Rev 03102022, worksheet CSWNA Res NEMO"]
[44440,"NEMO","Res",29338,"From legacy WNAR Filing Workpapers Apr 2022 - Rev 03102022, worksheet CSWNA Res NEMO"]
[44470,"NEMO","Res",51964,"From legacy WNAR Filing Workpapers Apr 2022 - Rev 03102022, worksheet CSWNA Res NEMO"]
[44501,"NEMO","Res",24653,"From legacy WNAR Filing Workpapers Apr 2022 - Rev 03102022, worksheet CSWNA Res NEMO"]
[44531,"NEMO","Res",617760,"From legacy WNAR Filing Workpapers Apr 2022 - Rev 03102022, worksheet CSWNA Res NEMO","Differs from $159,638.32 in CSWNA NEMO worksheet - Need to discuss"]
[44378,"WEMO","Res",233,"From legacy WNAR Filing Workpapers Apr 2022 - Rev 03102022, worksheet CSWNA Res WEMO"]
[44409,"WEMO","Res",766,"From legacy WNAR Filing Workpapers Apr 2022 - Rev 03102022, worksheet CSWNA Res WEMO"]
[44440,"WEMO","Res",4924,"From legacy WNAR Filing Workpapers Apr 2022 - Rev 03102022, worksheet CSWNA Res WEMO"]
[44470,"WEMO","Res",9590,"From legacy WNAR Filing Workpapers Apr 2022 - Rev 03102022, worksheet CSWNA Res WEMO"]
[44501,"WEMO","Res",6004,"From legacy WNAR Filing Workpapers Apr 2022 - Rev 03102022, worksheet CSWNA Res WEMO"]
[44531,"WEMO","Res",127873,"From legacy WNAR Filing Workpapers Apr 2022 - Rev 03102022, worksheet CSWNA Res WEMO","Differs from $29,810.33 in CSWNA WEMO worksheet - Need to discuss"]
[44378,"SEMO","Res",72,"From legacy WNAR Filing Workpapers Apr 2022 - Rev 03102022, worksheet CSWNA Res SEMO"]
[44409,"SEMO","Res",643,"From legacy WNAR Filing Workpapers Apr 2022 - Rev 03102022, worksheet CSWNA Res SEMO"]
[44440,"SEMO","Res",18549,"From legacy WNAR Filing Workpapers Apr 2022 - Rev 03102022, worksheet CSWNA Res SEMO"]
[44470,"SEMO","Res",57983,"From legacy WNAR Filing Workpapers Apr 2022 - Rev 03102022, worksheet CSWNA Res SEMO"]
[44501,"SEMO","Res",-16459,"From legacy WNAR Filing Workpapers Apr 2022 - Rev 03102022, worksheet CSWNA Res SEMO"]
[44531,"SEMO","Res",664961,"From legacy WNAR Filing Workpapers Apr 2022 - Rev 03102022, worksheet CSWNA Res SEMO","Differs from $232,651.59 in CSWNA SEMO worksheet - Need to discuss"]
[44378,"NEMO","SGS",139,"From legacy WNAR Filing Workpapers Apr 2022 - Rev 03102022, worksheet CSWNA SGS NEMO"]
[44409,"NEMO","SGS",461,"From legacy WNAR Filing Workpapers Apr 2022 - Rev 03102022, worksheet CSWNA SGS NEMO"]
[44440,"NEMO","SGS",3663,"From legacy WNAR Filing Workpapers Apr 2022 - Rev 03102022, worksheet CSWNA SGS NEMO"]
[44470,"NEMO","SGS",6204,"From legacy WNAR Filing Workpapers Apr 2022 - Rev 03102022, worksheet CSWNA SGS NEMO"]
[44501,"NEMO","SGS",3105,"From legacy WNAR Filing Workpapers Apr 2022 - Rev 03102022, worksheet CSWNA SGS NEMO"]
[44531,"NEMO","SGS",75018,"From legacy WNAR Filing Workpapers Apr 2022 - Rev 03102022, worksheet CSWNA SGS NEMO","Differs from $19,385.79 in CSWNA NEMO worksheet - Need to discuss"]
[44378,"WEMO","SGS",34,"From legacy WNAR Filing Workpapers Apr 2022 - Rev 03102022, worksheet CSWNA SGS WEMO"]
[44409,"WEMO","SGS",111,"From legacy WNAR Filing Workpapers Apr 2022 - Rev 03102022, worksheet CSWNA SGS WEMO"]
[44440,"WEMO","SGS",713,"From legacy WNAR Filing Workpapers Apr 2022 - Rev 03102022, worksheet CSWNA SGS WEMO"]
[44470,"WEMO","SGS",1361,"From legacy WNAR Filing Workpapers Apr 2022 - Rev 03102022, worksheet CSWNA SGS WEMO"]
[44501,"WEMO","SGS",859,"From legacy WNAR Filing Workpapers Apr 2022 - Rev 03102022, worksheet CSWNA SGS WEMO"]
[44531,"WEMO","SGS",18169,"From legacy WNAR Filing Workpapers Apr 2022 - Rev 03102022, worksheet CSWNA SGS WEMO","Differs from $4,235.52 in CSWNA WEMO worksheet - Need to discuss"]
[44378,"SEMO","SGS",6,"From legacy WNAR Filing Workpapers Apr 2022 - Rev 03102022, worksheet CSWNA SGS SEMO"]
[44409,"SEMO","SGS",56,"From legacy WNAR Filing Workpapers Apr 2022 - Rev 03102022, worksheet CSWNA SGS SEMO"]
[44440,"SEMO","SGS",1615,"From legacy WNAR Filing Workpapers Apr 2022 - Rev 03102022, worksheet CSWNA SGS SEMO"]
[44470,"SEMO","SGS",5160,"From legacy WNAR Filing Workpapers Apr 2022 - Rev 03102022, worksheet CSWNA SGS SEMO"]
[44501,"SEMO","SGS",-1420,"From legacy WNAR Filing Workpapers Apr 2022 - Rev 03102022, worksheet CSWNA SGS SEMO"]
[44531,"SEMO","SGS",58006,"From legacy WNAR Filing Workpapers Apr 2022 - Rev 03102022, worksheet CSWNA SGS SEMO","Differs from $20,294.66 in CSWNA SEMO worksheet - Need to discuss"]
[44562,"NEMO","Res",-67100.710000000006,"Worksheet CSWNA NEMO row 12, column M"]
[44593,"NEMO","Res",-46976.4,"Worksheet CSWNA NEMO row 13, column M"]
[44621,"NEMO","Res",-16226.27,"Worksheet CSWNA NEMO row 14, column M"]
[44652,"NEMO","Res",-80668.06,"Worksheet CSWNA NEMO row 15, column M"]
[44682,"NEMO","Res",-13070.71,"Worksheet CSWNA NEMO row 16, column M"]
[44713,"NEMO","Res",7993.95,"Worksheet CSWNA NEMO row 17, column M"]
[44562,"WEMO","Res",-5418.44,"Worksheet CSWNA WEMO row 12, column M"]
[44593,"WEMO","Res",-10967.29,"Worksheet CSWNA WEMO row 13, column M"]
[44621,"WEMO","Res",-6801.34,"Worksheet CSWNA WEMO row 14, column M"]
[44652,"WEMO","Res",-14198.36,"Worksheet CSWNA WEMO row 15, column M"]
[44682,"WEMO","Res",-4227.0200000000004,"Worksheet CSWNA WEMO row 16, column M"]
[44713,"WEMO","Res",1204.9000000000001,"Worksheet CSWNA WEMO row 17, column M"]
[44562,"SEMO","Res",-9038.3700000000008,"Worksheet CSWNA SEMO row 12, column M"]
[44593,"SEMO","Res",-21210.32,"Worksheet CSWNA SEMO row 13, column M"]
[44621,"SEMO","Res",51430.01,"Worksheet CSWNA SEMO row 14, column M"]
[44652,"SEMO","Res",-15414.36,"Worksheet CSWNA SEMO row 15, column M"]
[44682,"SEMO","Res",9738.2199999999993,"Worksheet CSWNA SEMO row 16, column M"]
[44713,"SEMO","Res",4019.69,"Worksheet CSWNA SEMO row 17, column M"]
[44562,"NEMO","SGS",-8183.26,"Worksheet CSWNA NEMO row 25, column M"]
[44593,"NEMO","SGS",-5741.26,"Worksheet CSWNA NEMO row 26, column M"]
[44621,"NEMO","SGS",-1973.04,"Worksheet CSWNA NEMO row 27, column M"]
[44652,"NEMO","SGS",-9804.81,"Worksheet CSWNA NEMO row 28, column M"]
[44682,"NEMO","SGS",-1520.94,"Worksheet CSWNA NEMO row 29, column M"]
[44713,"NEMO","SGS",991.52,"Worksheet CSWNA NEMO row 30, column M"]
[44562,"WEMO","SGS",-768.01,"Worksheet CSWNA WEMO row 25, column M"]
[44593,"WEMO","SGS",-1542.42,"Worksheet CSWNA WEMO row 26, column M"]
[44621,"WEMO","SGS",-972.09,"Worksheet CSWNA WEMO row 27, column M"]
[44652,"WEMO","SGS",-2044.9,"Worksheet CSWNA WEMO row 28, column M"]
[44682,"WEMO","SGS",-571.53,"Worksheet CSWNA WEMO row 29, column M"]
[44713,"WEMO","SGS",171.02,"Worksheet CSWNA WEMO row 30, column M"]
[44562,"SEMO","SGS",-790.2,"Worksheet CSWNA SEMO row 25, column M"]
[44593,"SEMO","SGS",-1857.94,"Worksheet CSWNA SEMO row 26, column M"]
[44621,"SEMO","SGS",4509.03,"Worksheet CSWNA SEMO row 27, column M"]
[44652,"SEMO","SGS",-1344.57,"Worksheet CSWNA SEMO row 28, column M"]
[44682,"SEMO","SGS",851.1,"Worksheet CSWNA SEMO row 29, column M"]
[44713,"SEMO","SGS",350.82,"Worksheet CSWNA SEMO row 30, column M"]
[44743,"NEMO","Res",1078.3499999999999,"Worksheet CSWNA NEMO row 12, column M"]
[44774,"NEMO","Res",3583.29,"Worksheet CSWNA NEMO row 13, column M"]
[44805,"NEMO","Res",12169.35,"Worksheet CSWNA NEMO row 14, column M"]
[44835,"NEMO","Res",-20607.72,"Worksheet CSWNA NEMO row 15, column M"]
[44866,"NEMO","Res",-24472.77,"Worksheet CSWNA NEMO row 16, column M"]
[44896,"NEMO","Res",-60621.2,"Worksheet CSWNA NEMO row 17, column M"]
[44743,"WEMO","Res",334.52,"Worksheet CSWNA WEMO row 12, column M"]
[44774,"WEMO","Res",972.17,"Worksheet CSWNA WEMO row 13, column M"]
[44805,"WEMO","Res",1495.22,"Worksheet CSWNA WEMO row 14, column M"]
[44835,"WEMO","Res",-1673.06,"Worksheet CSWNA WEMO row 15, column M"]
[44866,"WEMO","Res",-5575.46,"Worksheet CSWNA WEMO row 16, column M"]
[44896,"WEMO","Res",-11451.44,"Worksheet CSWNA WEMO row 17, column M"]
[44743,"SEMO","Res",70.12,"Worksheet CSWNA SEMO row 12, column M"]
[44774,"SEMO","Res",699.83,"Worksheet CSWNA SEMO row 13, column M"]
[44805,"SEMO","Res",2447.5300000000002,"Worksheet CSWNA SEMO row 14, column M"]
[44835,"SEMO","Res",-7769.64,"Worksheet CSWNA SEMO row 15, column M"]
[44866,"SEMO","Res",-13255.77,"Worksheet CSWNA SEMO row 16, column M"]
[44896,"SEMO","Res",17043.240000000002,"Worksheet CSWNA SEMO row 17, column M"]
[44743,"NEMO","SGS",137.63,"Worksheet CSWNA NEMO row 25, column M"]
[44774,"NEMO","SGS",455.57,"Worksheet CSWNA NEMO row 26, column M"]
[44805,"NEMO","SGS",1539.36,"Worksheet CSWNA NEMO row 27, column M"]
[44835,"NEMO","SGS",-2573.1799999999998,"Worksheet CSWNA NEMO row 28, column M"]
[44866,"NEMO","SGS",-3033.73,"Worksheet CSWNA NEMO row 29, column M"]
[44896,"NEMO","SGS",-7421.7,"Worksheet CSWNA NEMO row 30, column M"]
[44743,"WEMO","SGS",48.45,"Worksheet CSWNA WEMO row 25, column M"]
[44774,"WEMO","SGS",139.77000000000001,"Worksheet CSWNA WEMO row 26, column M"]
[44805,"WEMO","SGS",215.52,"Worksheet CSWNA WEMO row 27, column M"]
[44835,"WEMO","SGS",-239.61,"Worksheet CSWNA WEMO row 28, column M"]
[44866,"WEMO","SGS",-797.18,"Worksheet CSWNA WEMO row 29, column M"]
[44896,"WEMO","SGS",-1631.27,"Worksheet CSWNA WEMO row 30, column M"]
[44743,"SEMO","SGS",6.17,"Worksheet CSWNA SEMO row 25, column M"]
[44774,"SEMO","SGS",61.58,"Worksheet CSWNA SEMO row 26, column M"]
[44805,"SEMO","SGS",215.61,"Worksheet CSWNA SEMO row 27, column M"]
[44835,"SEMO","SGS",-675.98,"Worksheet CSWNA SEMO row 28, column M"]
[44866,"SEMO","SGS",-1169.6400000000001,"Worksheet CSWNA SEMO row 29, column M"]
[44896,"SEMO","SGS",1505.29,"Worksheet CSWNA SEMO row 30, column M"]

{"sheet":"ReconPerAdj","index":22,"n_rows":61,"n_cols":9,"rows_kept":61,"cut":false,"hidden":false,"merged":[]}
["Year","Period","EffDate","Region","CustClass","RateName","ReconcilingPeriodAdj","Preparer's Notes","Reviewer's Notes"]
[2021,"S1",44287,"NEMO","Res","CSWNA",133303,"From legacy WNAR Filing Workpapers Apr-2021 Rev 3.12.2021, worksheet CSWNA Summary, row 15"]
[2021,"S1",44287,"NEMO","SGS","CSWNA",15372,"From legacy WNAR Filing Workpapers Apr-2021 Rev 3.12.2021, worksheet CSWNA Summary, row 15"]
[2021,"S1",44287,"SEMO","Res","CSWNA",193522,"From legacy WNAR Filing Workpapers Apr-2021 Rev 3.12.2021, worksheet CSWNA Summary, row 15"]
[2021,"S1",44287,"SEMO","SGS","CSWNA",17000,"From legacy WNAR Filing Workpapers Apr-2021 Rev 3.12.2021, worksheet CSWNA Summary, row 15","Input worksheet of WNAR Filing Apr 2022 Process_Input - Rev 03102022 only shows $1,700.  This worksheet fed the final workpapers for 2022 S1 filing."]
[2021,"S1",44287,"WEMO","Res","CSWNA",26501,"From legacy WNAR Filing Workpapers Apr-2021 Rev 3.12.2021, worksheet CSWNA Summary, row 15"]
[2021,"S1",44287,"WEMO","SGS","CSWNA",3827,"From legacy WNAR Filing Workpapers Apr-2021 Rev 3.12.2021, worksheet CSWNA Summary, row 15"]
[2021,"S1",44287,"NEMO","Res","SRR",-4215,"From legacy WNAR Filing Workpapers Apr-2021 Rev 3.12.2021, worksheet SSR Summary, row 45"]
[2021,"S1",44287,"NEMO","SGS","SRR",-158,"From legacy WNAR Filing Workpapers Apr-2021 Rev 3.12.2021, worksheet SSR Summary, row 45"]
[2021,"S1",44287,"SEMO","Res","SRR",-55,"From legacy WNAR Filing Workpapers Apr-2021 Rev 3.12.2021, worksheet SSR Summary, row 45"]
[2021,"S1",44287,"SEMO","SGS","SRR",-31,"From legacy WNAR Filing Workpapers Apr-2021 Rev 3.12.2021, worksheet SSR Summary, row 45"]
[2021,"S1",44287,"WEMO","Res","SRR",4991,"From legacy WNAR Filing Workpapers Apr-2021 Rev 3.12.2021, worksheet SSR Summary, row 45"]
[2021,"S1",44287,"WEMO","SGS","SRR",-13,"From legacy WNAR Filing Workpapers Apr-2021 Rev 3.12.2021, worksheet SSR Summary, row 45"]
[2021,"S2",44470,"NEMO","Res","CSWNA",-150520,"From legacy WNAR Filing Workpapers Oct-2021 Rev 9.9.2021($)), worksheet CSWNA Summary, row 15"]
[2021,"S2",44470,"NEMO","SGS","CSWNA",-17997,"From legacy WNAR Filing Workpapers Oct-2021 Rev 9.9.2021($)), worksheet CSWNA Summary, row 15"]
[2021,"S2",44470,"SEMO","Res","CSWNA",-50496,"From legacy WNAR Filing Workpapers Oct-2021 Rev 9.9.2021($)), worksheet CSWNA Summary, row 15"]
[2021,"S2",44470,"SEMO","SGS","CSWNA",-4345,"From legacy WNAR Filing Workpapers Oct-2021 Rev 9.9.2021($)), worksheet CSWNA Summary, row 15"]
[2021,"S2",44470,"WEMO","Res","CSWNA",-29024,"From legacy WNAR Filing Workpapers Oct-2021 Rev 9.9.2021($)), worksheet CSWNA Summary, row 15"]
[2021,"S2",44470,"WEMO","SGS","CSWNA",-4034,"From legacy WNAR Filing Workpapers Oct-2021 Rev 9.9.2021($)), worksheet CSWNA Summary, row 15"]
[2021,"S2",44470,"NEMO","Res","SRR",941.82,"From legacy WNAR Filing Workpapers Oct-2021 Rev 9.9.2021($)), worksheet SSR Summary, CSWNA Net Recov row 25 ($595.50)+ SRR Net Recov row 45 (-$991.10)+ SRR True-Up cells D19:F19 ($1,337.42) in worksheet SRR Res NEMO"]
[2021,"S2",44470,"NEMO","SGS","SRR",406.81,"From legacy WNAR Filing Workpapers Oct-2021 Rev 9.9.2021($)), worksheet SSR Summary, CSWNA Net Recov row 25 ($15.47)+ SRR Net Recov row 45 ($147.55) + SRR True-Up cells D19:F19 ($166.96) in worksheet SRR SGS NEMO"]
[2021,"S2",44470,"SEMO","Res","SRR",-6163.36,"From legacy WNAR Filing Workpapers Oct-2021 Rev 9.9.2021($)), worksheet SSR Summary, CSWNA Net Recov row 25 (-$5,914.56) + SRR Net Recov row 45 (-$43.30) + SRR True-Up cells D19:F19 (-$205.50) in worksheet SRR Res SEMO"]
[2021,"S2",44470,"SEMO","SGS","SRR",-1243.25,"From legacy WNAR Filing Workpapers Oct-2021 Rev 9.9.2021($)), worksheet SSR Summary, CSWNA Net Recov row 25 (-$1,246.00) + SRR Net Recov row 45 ($29.67) + SRR True-Up cells D19:F19 (-$26.92) in worksheet SRR SGS SEMO"]
[2021,"S2",44470,"WEMO","Res","SRR",2732.98,"From legacy WNAR Filing Workpapers Oct-2021 Rev 9.9.2021($)), worksheet SSR Summary, CSWNA Net Recov row 25 ($2,336.70) + SRR Net Recov row 45 ($229.32) + SRR True-Up cells D19:F19 ($166.96) in worksheet SRR Res WEMO"]
[2021,"S2",44470,"WEMO","SGS","SRR",333.76,"From legacy WNAR Filing Workpapers Oct-2021 Rev 9.9.2021($)), worksheet SSR Summary, CSWNA Net Recov row 25 ($301.18) + SRR Net Recov row 45 (-$16.82) + SRR True-Up cells D19:F19 ($49.40) in worksheet SRR SGS WEMO"]
[2022,"S1",44652,"NEMO","Res","CSWNA",728517,"From legacy WNAR Filing Workpapers Apr 2022 - Rev 03102022, worksheet CSWNA Summary, row 15\nOriginally $728,517 but reduced by $99,465 to $629,052 due to 5% cap on rate increase.","CSWNA NEMO shows $270,395 - Need to discuss"]
[2022,"S1",44652,"NEMO","SGS","CSWNA",88590,"From legacy WNAR Filing Workpapers Apr 2022 - Rev 03102022, worksheet CSWNA Summary, row 15","CSWNA NEMO shows $32,958 - Need to discuss"]
[2022,"S1",44652,"SEMO","Res","CSWNA",725749,"From legacy WNAR Filing Workpapers Apr 2022 - Rev 03102022, worksheet CSWNA Summary, row 15","CSWNA SEMO shows $293,439 - Need to discuss"]
[2022,"S1",44652,"SEMO","SGS","CSWNA",63423,"From legacy WNAR Filing Workpapers Apr 2022 - Rev 03102022, worksheet CSWNA Summary, row 15","CSWNA SEMO shows $25,713 - Need to discuss"]
[2022,"S1",44652,"WEMO","Res","CSWNA",149390,"From legacy WNAR Filing Workpapers Apr 2022 - Rev 03102022, worksheet CSWNA Summary, row 15\nOriginally $149,390 but reduced by  $20,396 to $128,994 due to 5% cap on rate increase.","CSWNA WEMO shows $51,327 - Need to discuss"]
[2022,"S1",44652,"WEMO","SGS","CSWNA",21247,"From legacy WNAR Filing Workpapers Apr 2022 - Rev 03102022, worksheet CSWNA Summary, row 15","CSWNA WEMO shows $7,313 - Need to discuss"]
[2022,"S1",44652,"NEMO","Res","SRR",17504.099999999999,"From legacy WNAR Filing Workpapers Apr 2022 - Rev 03102022, worksheet SRR Summary, row 45","Agrees to SSR Summary worksheet row 54"]
[2022,"S1",44652,"NEMO","SGS","SRR",337.89,"From legacy WNAR Filing Workpapers Apr 2022 - Rev 03102022, worksheet SRR Summary, row 46","Agrees to SSR Summary worksheet row 54"]
[2022,"S1",44652,"SEMO","Res","SRR",824.68,"From legacy WNAR Filing Workpapers Apr 2022 - Rev 03102022, worksheet SRR Summary, row 47","Agrees to SSR Summary worksheet row 54"]
[2022,"S1",44652,"SEMO","SGS","SRR",1591.17,"From legacy WNAR Filing Workpapers Apr 2022 - Rev 03102022, worksheet SRR Summary, row 48","Agrees to SSR Summary worksheet row 54"]
[2022,"S1",44652,"WEMO","Res","SRR",9215.69,"From legacy WNAR Filing Workpapers Apr 2022 - Rev 03102022, worksheet SRR Summary, row 49","Agrees to SSR Summary worksheet row 54"]
[2022,"S1",44652,"WEMO","SGS","SRR",88.48,"From legacy WNAR Filing Workpapers Apr 2022 - Rev 03102022, worksheet SRR Summary, row 50","Agrees to SSR Summary worksheet row 54"]
[2022,"S2",44835,"NEMO","Res","CSWNA",-216048.2,"CSWNA NEMO Worksheet, row 19, column D"]
[2022,"S2",44835,"NEMO","SGS","CSWNA",-26231.79,"CSWNA NEMO Worksheet, row 32, column D"]
[2022,"S2",44835,"SEMO","Res","CSWNA",19524.87,"CSWNA SEMO Worksheet, row 32, column D"]
[2022,"S2",44835,"SEMO","SGS","CSWNA",1718.24,"CSWNA SEMO Worksheet, row 32, column D"]
[2022,"S2",44835,"WEMO","Res","CSWNA",-40407.550000000003,"CSWNA WEMO Worksheet, row 32, column D"]
[2022,"S2",44835,"WEMO","SGS","CSWNA",-5727.93,"CSWNA WEMO Worksheet, row 32, column D"]
[2022,"S2",44835,"NEMO","Res","SRR",3701.91,"SRR Summary Worksheet, row 61, column C"]
[2022,"S2",44835,"NEMO","SGS","SRR",1947.09,"SRR Summary Worksheet, row 61, column F"]
[2022,"S2",44835,"SEMO","Res","SRR",-1783.86,"SRR Summary Worksheet, row 61, column I"]
[2022,"S2",44835,"SEMO","SGS","SRR",267.31,"SRR Summary Worksheet, row 61, column J"]
[2022,"S2",44835,"WEMO","Res","SRR",2546.04,"SRR Summary Worksheet, row 61, column D"]
[2022,"S2",44835,"WEMO","SGS","SRR",441.69,"SRR Summary Worksheet, row 61, column G"]
[2023,"S1",45017,"NEMO","Res","CSWNA",-88870.7,"CSWNA NEMO Worksheet, row 19, column D"]
[2023,"S1",45017,"NEMO","SGS","CSWNA",-10896.05,"CSWNA NEMO Worksheet, row 32, column D"]
[2023,"S1",45017,"SEMO","Res","CSWNA",-764.69,"CSWNA SEMO Worksheet, row 19, column D"]
[2023,"S1",45017,"SEMO","SGS","CSWNA",-56.97,"CSWNA SEMO Worksheet, row 32, column D"]
[2023,"S1",45017,"WEMO","Res","CSWNA",-15898.05,"CSWNA WEMO Worksheet, row 19, column D"]
[2023,"S1",45017,"WEMO","SGS","CSWNA",-2264.3200000000002,"CSWNA WEMO Worksheet, row 32, column D"]
[2023,"S1",45017,"NEMO","Res","SRR",-307042.08999999997,"SRR Summary Worksheet, row 61, column C"]
[2023,"S1",45017,"NEMO","SGS","SRR",-69254.820000000007,"SRR Summary Worksheet, row 61, column F"]
[2023,"S1",45017,"SEMO","Res","SRR",-458606.28,"SRR Summary Worksheet, row 61, column I"]
[2023,"S1",45017,"SEMO","SGS","SRR",-12563.68,"SRR Summary Worksheet, row 61, column J"]
[2023,"S1",45017,"WEMO","Res","SRR",-47439.33,"SRR Summary Worksheet, row 61, column D"]
[2023,"S1",45017,"WEMO","SGS","SRR",-14199.32,"SRR Summary Worksheet, row 61, column G"]

{"sheet":"VolTrueUp","index":23,"n_rows":19,"n_cols":7,"rows_kept":19,"cut":false,"hidden":false,"merged":[]}
["Year","Period","Region","CustClass","TrueUp","Preparer's Notes","Reviewer's Notes"]
[2022,"S1","NEMO","Res",5544.34,"SRR NEMO worksheet row 22, column C"]
[2022,"S1","NEMO","SGS",-433.46,"SRR NEMO worksheet row 37, column C"]
[2022,"S1","WEMO","Res",2468.65,"SRR WEMO worksheet row 22, column C"]
[2022,"S1","WEMO","SGS",193.5,"SRR WEMO worksheet row 37, column C"]
[2022,"S1","SEMO","Res",10182.040000000001,"SRR SEMO worksheet row 22, column C"]
[2022,"S1","SEMO","SGS",454.77,"SRR SEMO worksheet row 37, column C"]
[2022,"S2","NEMO","Res",36.68,"SRR NEMO worksheet row 22, column C"]
[2022,"S2","NEMO","SGS",-5.0500000000000007,"SRR NEMO worksheet row 37, column C"]
[2022,"S2","WEMO","Res",2.9,"SRR WEMO worksheet row 22, column C"]
[2022,"S2","WEMO","SGS",-0.54,"SRR WEMO worksheet row 37, column C"]
[2022,"S2","SEMO","Res",-694.44,"SRR SEMO worksheet row 22, column C"]
[2022,"S2","SEMO","SGS",-117.42,"SRR SEMO worksheet row 37, column C"]
[2023,"S1","NEMO","Res",3577.98,"SRR NEMO worksheet row 22, column C"]
[2023,"S1","NEMO","SGS",200.08999999999997,"SRR NEMO worksheet row 37, column C"]
[2023,"S1","WEMO","Res",358.07,"SRR WEMO worksheet row 22, column C"]
[2023,"S1","WEMO","SGS",93.27000000000001,"SRR WEMO worksheet row 37, column C"]
[2023,"S1","SEMO","Res",-216.25999999999931,"SRR SEMO worksheet row 22, column C"]
[2023,"S1","SEMO","SGS",-312.86000000000007,"SRR SEMO worksheet row 37, column C"]

{"sheet":"PriorPerAdj","index":24,"n_rows":10,"n_cols":8,"rows_kept":10,"cut":false,"hidden":false,"merged":[]}
["Year","Period","Region","CustClass","RateName","Amount","Preparer's Notes","Reviewer's Notes"]
[2023,"S1","NEMO","Res","CSWNA",-461541.17,"Detail in CSWNA Diff Worksheet"]
[2023,"S1","NEMO","Res","CSWNA",99465,"NEMO portion of $119,861 Deferred Limit Adj.","Excluded from 2022 S1 Rate"]
[2023,"S1","NEMO","SGS","CSWNA",-55632.41,"Detail in CSWNA Diff Worksheet"]
[2023,"S1","SEMO","Res","CSWNA",-432309.64,"Detail in CSWNA Diff Worksheet"]
[2023,"S1","SEMO","SGS","CSWNA",-37710.31,"Detail in CSWNA Diff Worksheet"]
[2023,"S1","WEMO","Res","CSWNA",-94643.83,"Detail in CSWNA Diff Worksheet"]
[2023,"S1","WEMO","Res","CSWNA",20396,"WEMO portion of $119,861 Deferred Limit Adj.","Excluded from 2022 S1 Rate"]
[2023,"S1","WEMO","SGS","CSWNA",-13934.43,"Detail in CSWNA Diff Worksheet"]
[2023,"S1","SEMO","SGS","CSWNA",15300,"Detail in ReconPerAdj. Explanation Worksheet"]

{"sheet":"RankNHDD","index":25,"n_rows":367,"n_cols":6,"rows_kept":367,"cut":false,"hidden":false,"merged":[]}
["Month","KIRKNHDD","CGINHDD","Rank","Preparer's Notes","Reviewer's Notes"]
[1,65.822706093189979,55.9,1,"From Commission Staff"]
[1,60.72220430107528,49.5,{"$f":"D2+1","v":2},"From Commission Staff"]
[1,57.487974910394264,46.1,{"$f":"D3+1","v":3},"From Commission Staff"]
[1,55.163817204301068,44,4,"From Commission Staff"]
[1,53.204211469534037,42.1,5,"From Commission Staff"]
[1,51.393243727598566,40.4,6,"From Commission Staff"]
[1,49.684964157706091,38.9,7,"From Commission Staff"]
[1,48.045860215053757,37.5,8,"From Commission Staff"]
[1,46.415931899641571,36.4,9,"From Commission Staff"]
[1,45.240573476702501,35.299999999999997,10,"From Commission Staff"]
[1,44.340537634408598,34.5,11,"From Commission Staff"]
[1,43.232365591397851,33.700000000000003,12,"From Commission Staff"]
[1,42.183512544802859,33,13,"From Commission Staff"]
[1,40.864462365591393,32.200000000000003,14,"From Commission Staff"]
[1,39.602455197132606,31.4,15,"From Commission Staff"]
[1,38.514211469534047,30.8,16,"From Commission Staff"]
[1,37.535376344086018,30.1,17,"From Commission Staff"]
[1,36.481272401433678,29.2,18,"From Commission Staff"]
[1,35.555268817204293,28.5,19,"From Commission Staff"]
[1,34.810842293906802,27.8,20,"From Commission Staff"]
[1,33.842401433691748,26.8,21,"From Commission Staff"]
[1,32.992311827956982,26,22,"From Commission Staff"]
[1,32.111827956989238,25.1,23,"From Commission Staff"]
[1,30.768136200716835,24.2,24,"From Commission Staff"]
[1,29.395394265232973,23.1,25,"From Commission Staff"]
[1,28.297043010752681,21.9,26,"From Commission Staff"]
[1,27.088584229390676,20.3,27,"From Commission Staff"]
[1,25.43605734767025,18.5,28,"From Commission Staff"]
[1,23.563172043010745,16.2,29,"From Commission Staff"]
[1,21.201881720430098,11.7,30,"From Commission Staff"]
[1,15.503064516129026,5.5,31,"From Commission Staff"]
[2,63.242389162561587,53,1,"From Commission Staff"]
[2,57.00799671592776,44.9,2,"From Commission Staff"]
[2,53.574663382594416,41.3,3,"From Commission Staff"]
[2,50.76514778325123,39.299999999999997,4,"From Commission Staff"]
[2,48.819934318555013,37.5,5,"From Commission Staff"]
[2,46.878288177339911,35.6,6,"From Commission Staff"]
[2,44.8792446633826,34.299999999999997,7,"From Commission Staff"]
[2,42.894445812807881,33.1,8,"From Commission Staff"]
[2,41.50905172413794,32.200000000000003,9,"From Commission Staff"]
[2,40.177586206896557,31.1,10,"From Commission Staff"]
[2,39.049371921182257,30,11,"From Commission Staff"]
[2,37.866009852216749,28.9,12,"From Commission Staff"]
[2,36.764934318555007,28.1,13,"From Commission Staff"]
[2,35.623895730706067,27.2,14,"From Commission Staff"]
[2,34.460303776683091,26.5,15,"From Commission Staff"]
[2,33.162060755336611,25.7,16,"From Commission Staff"]
[2,32.132516420361256,24.9,17,"From Commission Staff"]
[2,31.237635467980297,24,18,"From Commission Staff"]
[2,30.321371100164207,23,19,"From Commission Staff"]
[2,28.929610016420369,21.9,20,"From Commission Staff"]
[2,27.744831691297215,20.9,21,"From Commission Staff"]
[2,26.327175697865357,19.7,22,"From Commission Staff"]
[2,24.963612479474556,18.399999999999999,23,"From Commission Staff"]
[2,23.466264367816102,16.7,24,"From Commission Staff"]
[2,22.007783251231526,15,25,"From Commission Staff"]
[2,19.816995073891629,13.4,26,"From Commission Staff"]
[2,17.022586206896555,11.2,27,"From Commission Staff"]
[2,11.245615763546798,6.2,28,"From Commission Staff"]
[2,0,0,29,"From Commission Staff"]
[3,51.628887652947725,41.4,1,"From Commission Staff"]
[3,43.434677419354827,33.799999999999997,2,"From Commission Staff"]
[3,40.113602150537631,30.9,3,"From Commission Staff"]
[3,37.790615498702252,29.6,4,"From Commission Staff"]
[3,36.396559139784941,28.6,5,"From Commission Staff"]
[3,34.914068100358421,27.4,6,"From Commission Staff"]
[3,33.644802867383511,26.3,{"$f":"D67+1","v":7},"From Commission Staff"]
[3,32.487580645161287,25.3,8,"From Commission Staff"]
[3,31.421935483870971,24.3,9,"From Commission Staff"]
[3,30.452204301075266,23.5,10,"From Commission Staff"]
[3,29.412365591397851,22.6,11,"From Commission Staff"]
[3,28.303655913978496,21.7,12,"From Commission Staff"]
[3,27.318673835125448,20.8,13,"From Commission Staff"]
[3,26.526612903225807,20,14,"From Commission Staff"]
[3,25.620566679026073,19,15,"From Commission Staff"]
[3,24.763602150537633,18.100000000000001,16,"From Commission Staff"]
[3,23.623835125448029,17.2,17,"From Commission Staff"]
[3,22.574892473118279,16.399999999999999,18,"From Commission Staff"]
[3,21.718351254480282,15.4,19,"From Commission Staff"]
[3,20.845430107526884,14.4,20,"From Commission Staff"]
[3,19.96516129032258,13.2,21,"From Commission Staff"]
[3,18.934336917562728,12.1,22,"From Commission Staff"]
[3,17.770818193054012,11.2,23,"From Commission Staff"]
[3,16.436630824372756,10.1,24,"From Commission Staff"]
[3,15.104068100358422,9.1999999999999993,25,"From Commission Staff"]
[3,13.46325608701026,7.8,26,"From Commission Staff"]
[3,11.253028673835129,6.4,27,"From Commission Staff"]
[3,9.0216308243727621,4.7,28,"From Commission Staff"]
[3,6.3462544802867393,2.5,29,"From Commission Staff"]
[3,3.2097311827956996,0.2,30,"From Commission Staff"]
[3,0.40121863799283164,0,31,"From Commission Staff"]
[4,33.206111111111106,26.6,1,"From Commission Staff"]
[4,29.198333333333334,22.5,2,"From Commission Staff"]
[4,26.74902031063322,19.899999999999999,3,"From Commission Staff"]
[4,24.935830346475502,18.399999999999999,4,"From Commission Staff"]
[4,23.522592592592591,17,5,"From Commission Staff"]
[4,22.445579450418155,15.6,6,"From Commission Staff"]
[4,21.317777777777781,14.6,7,"From Commission Staff"]
[4,20.053518518518512,13.8,8,"From Commission Staff"]
[4,19.188333333333329,12.8,9,"From Commission Staff"]
[4,17.985507765830349,12,10,"From Commission Staff"]
[4,17.138888888888893,11.3,11,"From Commission Staff"]
[4,16.281535244922338,10.5,12,"From Commission Staff"]
[4,15.445925925925923,9.6999999999999993,13,"From Commission Staff"]
[4,14.683518518518516,8.8000000000000007,14,"From Commission Staff"]
[4,13.768148148148148,7.9,15,"From Commission Staff"]
[4,13.166111111111112,7.2,16,"From Commission Staff"]
[4,12.333333333333334,6.4,17,"From Commission Staff"]
[4,11.424444444444445,5.5,18,"From Commission Staff"]
[4,10.569814814814814,4.5,19,"From Commission Staff"]
[4,9.6188888888888879,3.6,20,"From Commission Staff"]
[4,8.7196296296296278,2.8,21,"From Commission Staff"]
[4,7.5681481481481452,1.7,22,"From Commission Staff"]
[4,6.3938888888888892,0.8,23,"From Commission Staff"]
[4,5.4016666666666673,0.1,24,"From Commission Staff"]
[4,4.2124074074074072,0,25,"From Commission Staff"]
[4,2.7270370370370371,0,26,"From Commission Staff"]
[4,1.0690740740740743,0,27,"From Commission Staff"]
[4,9.4444444444443821E-3,0,28,"From Commission Staff"]
[4,0,0,29,"From Commission Staff"]
[4,0,0,30,"From Commission Staff"]
[5,21.201254480286739,14.2,1,"From Commission Staff"]
[5,17.361827956989249,10.9,2,"From Commission Staff"]
[5,15.368243727598569,9,3,"From Commission Staff"]
[5,13.707939068100355,7.5,4,"From Commission Staff"]
[5,12.2791935483871,6.5,5,"From Commission Staff"]
[5,11.01689964157706,5.5,6,"From Commission Staff"]
[5,10.027741935483872,4.5,7,"From Commission Staff"]
[5,9.1459677419354843,3.8,8,"From Commission Staff"]
[5,8.2015412186379937,2.9,9,"From Commission Staff"]
[5,7.4299999999999979,2.1,{"$f":"D131+1","v":10},"From Commission Staff"]
[5,6.7132795698924737,1.3,11,"From Commission Staff"]
[5,6.065878136200717,0.6,12,"From Commission Staff"]
[5,5.264462365591398,0,13,"From Commission Staff"]
[5,4.6554838709677409,0,14,"From Commission Staff"]
[5,3.908870967741934,0,15,"From Commission Staff"]
[5,3.1718279569892456,0,16,"From Commission Staff"]
[5,2.4845698924731172,0,17,"From Commission Staff"]
[5,1.7857347670250883,0,18,"From Commission Staff"]
[5,0.92596774193548137,0,19,"From Commission Staff"]
[5,8.833333333333257E-2,0,20,"From Commission Staff"]
[5,0,0,21,"From Commission Staff"]
[5,0,0,22,"From Commission Staff"]
[5,0,0,23,"From Commission Staff"]
[5,0,0,24,"From Commission Staff"]
[5,0,0,25,"From Commission Staff"]
[5,0,0,26,"From Commission Staff"]
[5,0,0,27,"From Commission Staff"]
[5,0,0,28,"From Commission Staff"]
[5,0,0,29,"From Commission Staff"]
[5,0,0,30,"From Commission Staff"]
[5,0,0,31,"From Commission Staff"]
[6,8.9318637992831516,3.5,1,"From Commission Staff"]
[6,4.877347670250896,0.1,2,"From Commission Staff"]
[6,2.8872222222222224,0,3,"From Commission Staff"]
[6,1.612222222222222,0,4,"From Commission Staff"]
[6,0.56722222222222174,0,5,"From Commission Staff"]
[6,0,0,6,"From Commission Staff"]
[6,0,0,7,"From Commission Staff"]
[6,0,0,8,"From Commission Staff"]
[6,0,0,9,"From Commission Staff"]
[6,0,0,10,"From Commission Staff"]
[6,0,0,11,"From Commission Staff"]
[6,0,0,12,"From Commission Staff"]
[6,0,0,13,"From Commission Staff"]
[6,0,0,14,"From Commission Staff"]
[6,0,0,15,"From Commission Staff"]
[6,0,0,16,"From Commission Staff"]
[6,0,0,17,"From Commission Staff"]
[6,0,0,18,"From Commission Staff"]
[6,0,0,19,"From Commission Staff"]
[6,0,0,20,"From Commission Staff"]
[6,0,0,21,"From Commission Staff"]
[6,0,0,22,"From Commission Staff"]
[6,0,0,23,"From Commission Staff"]
[6,0,0,24,"From Commission Staff"]
[6,0,0,25,"From Commission Staff"]
[6,0,0,26,"From Commission Staff"]
[6,0,0,27,"From Commission Staff"]
[6,0,0,28,"From Commission Staff"]
[6,0,0,29,"From Commission Staff"]
[6,0,0,30,"From Commission Staff"]
[7,1.9386200716845867,0.1,1,"From Commission Staff"]
[7,0,0,2,"From Commission Staff"]
[7,0,0,3,"From Commission Staff"]
[7,0,0,4,"From Commission Staff"]
[7,0,0,5,"From Commission Staff"]
[7,0,0,6,"From Commission Staff"]
[7,0,0,7,"From Commission Staff"]
[7,0,0,8,"From Commission Staff"]
[7,0,0,9,"From Commission Staff"]
[7,0,0,10,"From Commission Staff"]
[7,0,0,11,"From Commission Staff"]
[7,0,0,12,"From Commission Staff"]
[7,0,0,{"$f":"D195+1","v":13},"From Commission Staff"]
[7,0,0,14,"From Commission Staff"]
[7,0,0,15,"From Commission Staff"]
[7,0,0,16,"From Commission Staff"]
[7,0,0,17,"From Commission Staff"]
[7,0,0,18,"From Commission Staff"]
[7,0,0,19,"From Commission Staff"]
[7,0,0,20,"From Commission Staff"]
[7,0,0,21,"From Commission Staff"]
[7,0,0,22,"From Commission Staff"]
[7,0,0,23,"From Commission Staff"]
[7,0,0,24,"From Commission Staff"]
[7,0,0,25,"From Commission Staff"]
[7,0,0,26,"From Commission Staff"]
[7,0,0,27,"From Commission Staff"]
[7,0,0,28,"From Commission Staff"]
[7,0,0,29,"From Commission Staff"]
[7,0,0,30,"From Commission Staff"]
[7,0,0,31,"From Commission Staff"]
[8,4.868709677419349,0.9,1,"From Commission Staff"]
[8,1.5306989247311804,0,2,"From Commission Staff"]
[8,4.2473118279569157E-2,0,3,"From Commission Staff"]
[8,0,0,4,"From Commission Staff"]
[8,0,0,5,"From Commission Staff"]
[8,0,0,6,"From Commission Staff"]
[8,0,0,7,"From Commission Staff"]
[8,0,0,8,"From Commission Staff"]
[8,0,0,9,"From Commission Staff"]
[8,0,0,10,"From Commission Staff"]
[8,0,0,11,"From Commission Staff"]
[8,0,0,12,"From Commission Staff"]
[8,0,0,13,"From Commission Staff"]
[8,0,0,14,"From Commission Staff"]
[8,0,0,15,"From Commission Staff"]
[8,0,0,16,"From Commission Staff"]
[8,0,0,17,"From Commission Staff"]
[8,0,0,18,"From Commission Staff"]
[8,0,0,19,"From Commission Staff"]
[8,0,0,20,"From Commission Staff"]
[8,0,0,21,"From Commission Staff"]
[8,0,0,22,"From Commission Staff"]
[8,0,0,23,"From Commission Staff"]
[8,0,0,24,"From Commission Staff"]
[8,0,0,25,"From Commission Staff"]
[8,0,0,26,"From Commission Staff"]
[8,0,0,27,"From Commission Staff"]
[8,0,0,28,"From Commission Staff"]
[8,0,0,29,"From Commission Staff"]
[8,0,0,30,"From Commission Staff"]
[8,0,0,31,"From Commission Staff"]
[9,17.450925925925926,12.6,1,"From Commission Staff"]
[9,13.436296296296296,8.9,2,"From Commission Staff"]
[9,11.309259259259257,6.7,3,"From Commission Staff"]
[9,9.779814814814813,5.2,4,"From Commission Staff"]
[9,8.3977777777777796,3.5,5,"From Commission Staff"]
[9,7.2085185185185194,2.7,6,"From Commission Staff"]
[9,6.1688888888888895,1.7,7,"From Commission Staff"]
[9,5.2650000000000006,0.9,8,"From Commission Staff"]
[9,4.532222222222221,0.2,9,"From Commission Staff"]
[9,3.8581481481481479,0,10,"From Commission Staff"]
[9,2.9318518518518517,0,11,"From Commission Staff"]
[9,2.153703703703703,0,12,"From Commission Staff"]
[9,1.3109259259259254,0,13,"From Commission Staff"]
[9,0.40222222222222398,0,14,"From Commission Staff"]
[9,0,0,{"$f":"D259+1","v":15},"From Commission Staff"]
[9,0,0,16,"From Commission Staff"]
[9,0,0,17,"From Commission Staff"]
[9,0,0,18,"From Commission Staff"]
[9,0,0,19,"From Commission Staff"]
[9,0,0,20,"From Commission Staff"]
[9,0,0,21,"From Commission Staff"]
[9,0,0,22,"From Commission Staff"]
[9,0,0,23,"From Commission Staff"]
[9,0,0,24,"From Commission Staff"]
[9,0,0,25,"From Commission Staff"]
[9,0,0,26,"From Commission Staff"]
[9,0,0,27,"From Commission Staff"]
[9,0,0,28,"From Commission Staff"]
[9,0,0,29,"From Commission Staff"]
[9,0,0,30,"From Commission Staff"]
[10,30.566308243727597,24.5,1,"From Commission Staff"]
[10,26.103745519713264,20.6,2,"From Commission Staff"]
[10,24.451899641577064,19.3,3,"From Commission Staff"]
[10,23.15010752688173,18,4,"From Commission Staff"]
[10,21.906021505376348,17,5,"From Commission Staff"]
[10,20.623530465949823,16,6,"From Commission Staff"]
[10,19.630035842293911,15.2,7,"From Commission Staff"]
[10,18.662240143369175,14,8,"From Commission Staff"]
[10,17.582616487455198,13,9,"From Commission Staff"]
[10,16.682347670250898,12.2,10,"From Commission Staff"]
[10,15.821451612903227,11.3,11,"From Commission Staff"]
[10,14.861003584229392,10.6,12,"From Commission Staff"]
[10,13.884193548387097,9.6999999999999993,13,"From Commission Staff"]
[10,12.987240143369178,8.9,14,"From Commission Staff"]
[10,12.091738351254483,8.3000000000000007,15,"From Commission Staff"]
[10,11.306774193548389,7.7,16,"From Commission Staff"]
[10,10.560179211469537,6.9,17,"From Commission Staff"]
[10,9.6870430107526921,5.9,18,"From Commission Staff"]
[10,8.9029928315412192,5.0999999999999996,19,"From Commission Staff"]
[10,8.1101612903225835,4.3,20,"From Commission Staff"]
[10,7.2248387096774218,3.4,21,"From Commission Staff"]
[10,6.0353942652329762,2.5,22,"From Commission Staff"]
[10,5.0546057347670255,1.6,23,"From Commission Staff"]
[10,3.9418817204301084,0.7,24,"From Commission Staff"]
[10,2.9795519713261664,0,25,"From Commission Staff"]
[10,1.7708960573476709,0,26,"From Commission Staff"]
[10,0.6302688172043015,0,27,"From Commission Staff"]
[10,0,0,28,"From Commission Staff"]
[10,0,0,29,"From Commission Staff"]
[10,0,0,30,"From Commission Staff"]
[10,0,0,31,"From Commission Staff"]
[11,47.151666666666671,37.9,1,"From Commission Staff"]
[11,41.107222222222205,33.200000000000003,2,"From Commission Staff"]
[11,38.468148148148153,31.1,3,"From Commission Staff"]
[11,36.311296296296284,29.5,4,"From Commission Staff"]
[11,34.695555555555543,28.1,5,"From Commission Staff"]
[11,33.244814814814809,27.1,6,"From Commission Staff"]
[11,31.984259259259254,26.1,7,"From Commission Staff"]
[11,30.960740740740736,24.9,8,"From Commission Staff"]
[11,29.911111111111111,24.1,9,"From Commission Staff"]
[11,28.929259259259258,23.1,10,"From Commission Staff"]
[11,27.719629629629626,22.4,11,"From Commission Staff"]
[11,26.551111111111105,21.7,12,"From Commission Staff"]
[11,25.420370370370367,20.8,13,"From Commission Staff"]
[11,24.463518518518519,19.8,14,"From Commission Staff"]
[11,23.609259259259261,18.8,15,"From Commission Staff"]
[11,22.759814814814813,17.899999999999999,16,"From Commission Staff"]
[11,22.064259259259259,17.2,17,"From Commission Staff"]
[11,21.27277777777778,16.3,{"$f":"D323+1","v":18},"From Commission Staff"]
[11,20.594444444444441,15.5,19,"From Commission Staff"]
[11,19.576666666666664,14.7,20,"From Commission Staff"]
[11,18.077962962962964,13.8,21,"From Commission Staff"]
[11,17.13425925925926,12.6,22,"From Commission Staff"]
[11,16.063148148148148,11.6,23,"From Commission Staff"]
[11,15.076851851851849,10.3,24,"From Commission Staff"]
[11,13.913333333333332,9,25,"From Commission Staff"]
[11,12.532777777777778,7.9,26,"From Commission Staff"]
[11,10.467222222222222,6.2,27,"From Commission Staff"]
[11,7.9072222222222202,4.2,28,"From Commission Staff"]
[11,5.3861111111111137,1.9,29,"From Commission Staff"]
[11,1.7907407407407412,0.1,30,"From Commission Staff"]
[12,64.141129032258078,54.3,1,"From Commission Staff"]
[12,56.413440860215061,46.4,2,"From Commission Staff"]
[12,53.055698924731203,42.8,3,"From Commission Staff"]
[12,50.106075268817207,40.6,4,"From Commission Staff"]
[12,47.620430107526893,38.5,5,"From Commission Staff"]
[12,45.680143369175624,37,6,"From Commission Staff"]
[12,43.916648745519709,35.6,7,"From Commission Staff"]
[12,42.349301075268826,34.4,8,"From Commission Staff"]
[12,41.072741935483876,33.200000000000003,9,"From Commission Staff"]
[12,40.174856630824387,32.200000000000003,10,"From Commission Staff"]
[12,39.343028673835128,31.2,11,"From Commission Staff"]
[12,38.280358422939067,30.5,12,"From Commission Staff"]
[12,37.370770609319003,29.8,13,"From Commission Staff"]
[12,36.52629032258065,29.1,14,"From Commission Staff"]
[12,35.81541218637993,28.4,15,"From Commission Staff"]
[12,34.727007168458776,27.7,16,"From Commission Staff"]
[12,33.681792114695341,27.1,17,"From Commission Staff"]
[12,32.824336917562725,26.3,18,"From Commission Staff"]
[12,31.934193548387089,25.6,19,"From Commission Staff"]
[12,30.966792114695341,25,20,"From Commission Staff"]
[12,30.176039426523289,24.2,21,"From Commission Staff"]
[12,29.45564516129032,23.1,22,"From Commission Staff"]
[12,28.63349462365591,22.2,23,"From Commission Staff"]
[12,27.616182795698922,21.3,24,"From Commission Staff"]
[12,26.567401433691753,20.3,25,"From Commission Staff"]
[12,25.634014336917563,19,26,"From Commission Staff"]
[12,24.530483870967746,17.3,27,"From Commission Staff"]
[12,23.029551971326168,15.7,28,"From Commission Staff"]
[12,20.715035842293908,14,29,"From Commission Staff"]
[12,18.225089605734766,10.8,30,"From Commission Staff"]
[12,12.179946236559145,5.2,31,"From Commission Staff"]

{"sheet":"TempAdj","index":26,"n_rows":13,"n_cols":4,"rows_kept":13,"cut":false,"hidden":false,"merged":[]}
["Month","AdjustPct","Preparer's Notes","Reviewer's Notes"]
[1,2.8899999999999999E-2,"Set by original filing."]
[2,3.9800000000000002E-2,"Set by original filing."]
[3,7.0599999999999996E-2,"Set by original filing."]
[4,0.1125,"Set by original filing."]
[5,0.2883,"Set by original filing."]
[6,0.67179999999999995,"Set by original filing."]
[7,0.74939999999999996,"Set by original filing."]
[8,1.0758000000000001,"Set by original filing."]
[9,0.30930000000000002,"Set by original filing."]
[10,0.1114,"Set by original filing."]
[11,4.2599999999999999E-2,"Set by original filing."]
[12,2.8799999999999999E-2,"Set by original filing."]

{"sheet":"VolumetricRates","index":27,"n_rows":13,"n_cols":11,"rows_kept":13,"cut":false,"hidden":false,"merged":[]}
["Month","60-GCSF","60-GRF","61-GCSF","61-GRF","62-GCSF","62-GRF","63-GCSF","63-GRF","Preparer's Notes","Reviewer's Notes"]
[1,0.14216000000000001,0.33606999999999998,0.14216000000000001,0.33606999999999998,8.3119999999999999E-2,0.24335000000000001,0.14216000000000001,0.33606999999999998,"From Tariff"]
[2,0.14216000000000001,0.33606999999999998,0.14216000000000001,0.33606999999999998,8.3119999999999999E-2,0.24335000000000001,0.14216000000000001,0.33606999999999998,"From Tariff"]
[3,0.14216000000000001,0.33606999999999998,0.14216000000000001,0.33606999999999998,8.3119999999999999E-2,0.24335000000000001,0.14216000000000001,0.33606999999999998,"From Tariff"]
[4,0.14216000000000001,0.33606999999999998,0.14216000000000001,0.33606999999999998,8.3119999999999999E-2,0.24335000000000001,0.14216000000000001,0.33606999999999998,"From Tariff"]
[5,0.14216000000000001,0.35071999999999998,0.14216000000000001,0.35071999999999998,8.3119999999999999E-2,0.24335000000000001,0.14216000000000001,0.35071999999999998,"From Tariff"]
[6,0.14216000000000001,0.33239000000000002,0.14216000000000001,0.33239000000000002,8.3119999999999999E-2,0.24335000000000001,0.14216000000000001,0.33239000000000002,"From Tariff"]
[7,0.14216000000000001,0.33048,0.14216000000000001,0.33048,8.3119999999999999E-2,0.24335000000000001,0.14216000000000001,0.33048,"From Tariff"]
[8,0.14216000000000001,0.33004,0.14216000000000001,0.33004,8.3119999999999999E-2,0.24335000000000001,0.14216000000000001,0.33004,"From Tariff"]
[9,0.14216000000000001,0.33028999999999997,0.14216000000000001,0.33028999999999997,8.3119999999999999E-2,0.24335000000000001,0.14216000000000001,0.33028999999999997,"From Tariff"]
[10,0.14216000000000001,0.33187,0.14216000000000001,0.33187,8.3119999999999999E-2,0.24335000000000001,0.14216000000000001,0.33187,"From Tariff"]
[11,0.14216000000000001,0.33606999999999998,0.14216000000000001,0.33606999999999998,8.3119999999999999E-2,0.24335000000000001,0.14216000000000001,0.33606999999999998,"From Tariff"]
[12,0.14216000000000001,0.33606999999999998,0.14216000000000001,0.33606999999999998,8.3119999999999999E-2,0.24335000000000001,0.14216000000000001,0.33606999999999998,"From Tariff"]

{"sheet":"BillDeter","index":28,"n_rows":7,"n_cols":6,"rows_kept":7,"cut":false,"hidden":false,"merged":[]}
["Region","CustClass","CustClassLong","BillingDeterminants","Preparer's Notes","Reviewer's Notes"]
["WEMO","SGS","Small Commercial",700365.64440726885,"Set in previous rate case."]
["WEMO","Res","Residential",2140376.9890333959,"Set in previous rate case."]
["SEMO","SGS","Small Commercial",3908443.5557121718,"Set in previous rate case."]
["SEMO","Res","Residential",15300894.639401933,"Set in previous rate case."]
["NEMO","SGS","Small Commercial",3249867.6799999997,"Set in previous rate case."]
["NEMO","Res","Residential",11089284.458101537,"Set in previous rate case."]

{"sheet":"BetaCoeff","index":29,"n_rows":9,"n_cols":6,"rows_kept":9,"cut":false,"hidden":false,"merged":[]}
["RateSched","Territory","CustomerClass","BetaCoeff","Preparer's Notes","Reviewer's Notes"]
["60-GCSF","KIRK","Small Commercial",0.23893880000000001,"Set by original filing."]
["60-GRF","KIRK","Residential",0.11254740000000001,"Set by original filing."]
["61-GCSF","WEMO","Small Commercial",0.23893880000000001,"Set by original filing."]
["61-GRF","WEMO","Residential",0.11254740000000001,"Set by original filing."]
["62-GCSF","SEMO","Small Commercial",0.23716039999999999,"Set by original filing."]
["62-GRF","SEMO","Residential",0.110869,"Set by original filing."]
["63-GCSF","NEMO","Small Commercial",0.23893880000000001,"Set by original filing."]
["63-GRF","NEMO","Residential",0.11254740000000001,"Set by original filing."]

{"sheet":"ValidationLists","index":30,"n_rows":9,"n_cols":18,"rows_kept":9,"cut":false,"hidden":false,"merged":[]}
["Territory",null,"Region",null,"CustClassLong","CustClassShort",null,"Period","StartMo","MonthNo",null,"RateName",null,"RateSched","Territory","Region","CustClassLong","CustClassShort"]
["KIRK",null,"NEMO",null,"Residential","Res",null,"S1","April",4,null,"CSWNA",null,"60-GCSF","KIRK","NEMO","Small Commercial","SGS"]
["NEMO",null,"SEMO",null,"Small Commercial","SGS",null,"S2","October",10,null,"SRR",null,"60-GRF","KIRK","NEMO","Residential","Res"]
["SEMO",null,"WEMO",null,null,null,null,null,null,null,null,null,null,"61-GCSF","WEMO","WEMO","Small Commercial","SGS"]
["WEMO",null,null,null,null,null,null,null,null,null,null,null,null,"61-GRF","WEMO","WEMO","Residential","Res"]
[null,null,null,null,null,null,null,null,null,null,null,null,null,"62-GCSF","SEMO","SEMO","Small Commercial","SGS"]
[null,null,null,null,null,null,null,null,null,null,null,null,null,"62-GRF","SEMO","SEMO","Residential","Res"]
[null,null,null,null,null,null,null,null,null,null,null,null,null,"63-GCSF","NEMO","NEMO","Small Commercial","SGS"]
[null,null,null,null,null,null,null,null,null,null,null,null,null,"63-GRF","NEMO","NEMO","Residential","Res"]

{"sheet":"CSWNA Diff","index":31,"n_rows":36,"n_cols":10,"rows_kept":36,"cut":false,"hidden":false,"merged":[[1,7,1,8],[12,2,12,4],[12,7,12,9],[25,2,25,4],[25,7,25,9]]}
[]
[null,"CSWNA Difference Calculation",null,null,null,null,null,"Filing Period"]
[null,null,null,null,null,null,null,"Year","Period"]
[null,"Summary of CSWNA Difference",null,null,null,null,null,2022,"S1"]
[null,"Region","CSWNA","Lim Bal Def","Net Amt."]
[null,"N + W Res",{"$f":"E21","v":556184.91},-119860.73,{"$f":"C6+D6","v":436324.18000000005},null,"Allocation of NEMO and WEMO Adjustment"]
[null,"SEMO Res",{"$f":"J21","v":432309.64},null,{"$f":"C7+D7","v":432309.64},null,"Region","Orig CSWNA","Pro Rata Adj."]
[null,"N + W SGS",{"$f":"E34","v":69566.84},null,69566.84,null,"NEMO",728517,{"$f":"I10-I9","v":461541.17}]
[null,"SEMO SGS",{"$f":"J34","v":37710.31},null,37710.31,null,"WEMO",149390,{"$f":"ROUND(H9/H10*I10,2)","v":94643.83}]
[null,"Total",{"$f":"SUM(C6:C9)","v":1095771.7000000002},{"$f":"SUM(D6:D9)","v":-119860.73},975910.97,null,"Total",{"$f":"SUM(H8:H9)","v":877907},556185]
[]
[]
[null,"NEMO + WEMO","Res",null,null,null,"SEMO","Res"]
[null,"Month","Original","New","Difference",null,"Month","Original","New","Difference"]
[null,44378,1346,1346.3700000000001,{"$f":"C15-D15","v":-0.37000000000011823},null,44378,72,72.150000000000006,{"$f":"H15-I15","v":-0.15000000000000568}]
[null,44409,4455,4454.76,{"$f":"C16-D16","v":0.23999999999978172},null,44409,643,642.89,{"$f":"H16-I16","v":0.11000000000001364}]
[null,44440,34262,34261.75,0.25,null,44440,18549,18549.150000000001,-0.15000000000145519]
[null,44470,61554,61553.83,0.16999999999825377,null,44470,57983,57982.8,0.19999999999708962]
[null,44501,30657,30656.73,0.27000000000043656,null,44501,-16459,-16459.22,0.22000000000116415]
[null,44531,745633,189448.65000000002,556184.35,null,44531,664961,232651.59,432309.41000000003]
[null,"Total",{"$f":"SUM(C15:C20)","v":877907},{"$f":"SUM(D15:D20)","v":321722.09000000003},{"$f":"SUM(E15:E20)","v":556184.91},null,"Total",{"$f":"SUM(H15:H20)","v":725749},{"$f":"SUM(I15:I20)","v":293439.35999999999},432309.64]
[null,"Billing Determinants",13229661,{"$f":"C22","v":13229661},{"$f":"D22","v":13229661},null,"Billing Determinants",15300894.639401933,{"$f":"H22","v":15300894.639401933},{"$f":"I22","v":15300894.639401933}]
[null,"CSWNA Rate",{"$f":"ROUND(C21/C22,5)","v":6.6360000000000002E-2},{"$f":"ROUND(D21/D22,5)","v":2.4320000000000001E-2},{"$f":"ROUND(E21/E22,5)","v":4.2040000000000001E-2},null,"CSWNA Rate",{"$f":"ROUND(H21/H22,5)","v":4.743E-2},{"$f":"ROUND(I21/I22,5)","v":1.9179999999999999E-2},{"$f":"ROUND(J21/J22,5)","v":2.8250000000000001E-2}]
[]
[]
[null,"NEMO + WEMO","SGS",null,null,null,"SEMO","SGS"]
[null,"Month","Original","New","Difference",null,"Month","Original","New","Difference"]
[null,44378,173,172.92000000000002,{"$f":"C28-D28","v":7.9999999999984084E-2},null,44378,6,6.27,{"$f":"H28-I28","v":-0.26999999999999957}]
[null,44409,572,571.98,{"$f":"C29-D29","v":1.999999999998181E-2},null,44409,56,56.44,{"$f":"H29-I29","v":-0.43999999999999773}]
[null,44440,4376,4375.67,0.32999999999992724,null,44440,1615,1615.41,-0.41000000000008185]
[null,44470,7565,7564.6500000000005,0.3499999999994543,null,44470,5160,5159.53,0.47000000000025466]
[null,44501,3964,3963.6299999999997,0.37000000000034561,null,44501,-1420,-1419.62,-0.38000000000010914]
[null,44531,93187,23621.31,69565.69,null,44531,58006,20294.66,37711.339999999997]
[null,"Total",{"$f":"SUM(C28:C33)","v":109837},{"$f":"SUM(D28:D33)","v":40270.160000000003},{"$f":"SUM(E28:E33)","v":69566.84},null,"Total",{"$f":"SUM(H28:H33)","v":63423},{"$f":"SUM(I28:I33)","v":25712.69},{"$f":"SUM(J28:J33)","v":37710.31}]
[null,"Billing Determinants",3950233.3244072683,{"$f":"C35","v":3950233.3244072683},{"$f":"D35","v":3950233.3244072683},null,"Billing Determinants",3908443.5557121718,{"$f":"H35","v":3908443.5557121718},{"$f":"I35","v":3908443.5557121718}]
[null,"CSWNA Rate",{"$f":"ROUND(C34/C35,5)","v":2.7810000000000001E-2},{"$f":"ROUND(D34/D35,5)","v":1.0189999999999999E-2},{"$f":"ROUND(E34/E35,5)","v":1.7610000000000001E-2},null,"CSWNA Rate",{"$f":"ROUND(H34/H35,5)","v":1.6230000000000001E-2},{"$f":"ROUND(I34/I35,5)","v":6.5799999999999999E-3},{"$f":"ROUND(J34/J35,5)","v":9.6500000000000006E-3}]

{"sheet":"HDD Discrepancy Explanation","index":32,"n_rows":78,"n_cols":2,"rows_kept":78,"cut":false,"hidden":false,"merged":[[1,1,1,3]]}
[]
[null,"Liberty Midstates"]
[null,"April 2022 WNAR S1 Filing"]
[null,"Actual vs. Normal HDD Issue"]
[]
[null,"The April 2022 filing compared actual and normal heating degree days (HDD) for the period July through December 2021."]
[null,"For the month of December 2021, the ending meter read date for all regions and customer classes was entered as 1/20/2022,"]
[null,"instead of the end of December for each region.  This gave a lopsided difference between the actual  and normal HDDs."]
[]
[]
[]
[]
[]
[]
[]
[]
[]
[]
[]
[]
[]
[]
[]
[]
[]
[]
[]
[]
[]
[null,"The reason the difference between actual and normal HDDs is so lopsided is because the HDD_Summary data file contains normal HDDs"]
[null,"through January, but actuals only to through December.  Therefore, the January days have no actuals to offset the normal HDDs."]
[]
[]
[]
[]
[]
[]
[]
[]
[]
[]
[]
[]
[]
[]
[]
[]
[]
[]
[]
[]
[]
[]
[null,"Since the calculations are based on the difference between actual and normal HDDs, this gives an abnormally high revenue recovery "]
[null,"requirement."]
[]
[]
[]
[]
[]
[]
[]
[]
[]
[]
[]
[]
[]
[]
[]
[]
[]
[]
[]
[]
[]
[null,"The required revenue recovery of $664,961 for SEMO residentials is based on a 903 HDD difference.  If the correct meter read date of 12/28/2021 had been used, the actual"]
[null,"and normal HDDs would have been 499.5 and 815.4 respectively, for a difference of 315.9, giving a revenue recovery requirement of $232,652, a difference of $432,309."]

{"sheet":"ReconPerAdj. Explanation","index":33,"n_rows":58,"n_cols":2,"rows_kept":58,"cut":false,"hidden":false,"merged":[[1,1,1,4]]}
[]
[null,"Liberty Midstates"]
[null,"April 2022 WNAR S1 Filing"]
[null,"SEMO SGS Reconciling Period Adj. Issue"]
[]
[null,"In the April 2021 WNAR S1 filing, the revenue recovery requirement for the SEMO SGS customer class was calculated to be $17,000."]
[]
[]
[]
[]
[]
[]
[]
[]
[]
[]
[]
[]
[]
[]
[]
[]
[]
[]
[]
[]
[]
[]
[]
[]
[null,"In the April 2022 WNAR S1 filing, however, the $17,000 was carried forward as only $1,700."]
[]
[]
[]
[]
[]
[]
[]
[]
[]
[]
[]
[]
[]
[]
[]
[]
[]
[]
[]
[]
[]
[]
[]
[]
[]
[]
[null,"This resulted in a new SRR rate based on returning the difference of $17,000 - $1,700, or $15,300."]

{"sheet":"Revenue Diff","index":34,"n_rows":78,"n_cols":9,"rows_kept":78,"cut":false,"hidden":false,"merged":[[63,2,63,8],[6,5,6,8],[1,1,1,3],[6,1,6,2],[14,2,14,8],[30,2,30,8],[46,2,46,8]]}
[]
[null,"Revenue Difference Calculation"]
[null,"Using Estimated Customer Counts & Vols."]
[null,"For 2022 S1 Rate Period"]
[null,"From April 1, 2022 through March 31, 2023"]
[]
[null,"Summary of Revenue Difference",null,null,null,"Correct vs. Collected CSWNA Rates"]
[null,"Region","CSWNA",null,null,"Region","CustClass","CollectedRate","CorrectRate"]
[null,"N + W Res",{"$f":"I29","v":435862.87000000005},null,null,"NEMO + WEMO","Res",5.7299999999999997E-2,2.4320000000000001E-2]
[null,"SEMO Res",{"$f":"I61","v":432079.42775000003},null,null,"NEMO + WEMO","SGS",2.7810000000000001E-2,1.0189999999999999E-2]
[null,"N + W SGS",{"$f":"I45","v":77888.67},null,null,"SEMO","Res",4.743E-2,1.9179999999999999E-2]
[null,"SEMO SGS",{"$f":"I78","v":41649.448250000001},null,null,"SEMO","SGS",1.6230000000000001E-2,6.5799999999999999E-3]
[null,"Total",{"$f":"SUM(C9:C12)","v":987480.4160000002}]
[]
[null,"NEMO + WEMO","Res"]
[null,"Month","Estimated Vol","Rate Collected","Rev Collected","Correct Rate","Corr Revenue","Rate Diff","Rev Diff"]
[null,44652,1313392,{"$f":"$H$9","v":5.7299999999999997E-2},{"$f":"ROUND($C17*D17,2)","v":75257.36},{"$f":"$I$9","v":2.4320000000000001E-2},{"$f":"ROUND($C17*F17,2)","v":31941.69},{"$f":"D17-F17","v":3.2979999999999995E-2},{"$f":"E17-G17","v":43315.67}]
[null,{"$f":"EDATE(B17,1)","v":44682},617364,{"$f":"$H$9","v":5.7299999999999997E-2},{"$f":"ROUND($C18*D18,2)","v":35374.959999999999},{"$f":"$I$9","v":2.4320000000000001E-2},{"$f":"ROUND($C18*F18,2)","v":15014.29},{"$f":"D18-F18","v":3.2979999999999995E-2},20360.669999999998]
[null,{"$f":"EDATE(B18,1)","v":44713},222628,5.7299999999999997E-2,12756.58,2.4320000000000001E-2,5414.31,3.2979999999999995E-2,7342.2699999999995]
[null,44743,183995,5.7299999999999997E-2,10542.91,2.4320000000000001E-2,4474.76,3.2979999999999995E-2,6068.15]
[null,44774,163500,5.7299999999999997E-2,9368.5499999999993,2.4320000000000001E-2,3976.32,3.2979999999999995E-2,5392.23]
[null,44805,231945,5.7299999999999997E-2,13290.45,2.4320000000000001E-2,5640.9,3.2979999999999995E-2,7649.5500000000011]
[null,44835,353992,5.7299999999999997E-2,20283.740000000002,2.4320000000000001E-2,8609.09,3.2979999999999995E-2,11674.650000000001]
[null,44866,1080822,5.7299999999999997E-2,61931.1,2.4320000000000001E-2,26285.59,3.2979999999999995E-2,35645.509999999995]
[null,44896,1565488,5.7299999999999997E-2,89702.46,2.4320000000000001E-2,38072.67,3.2979999999999995E-2,51629.790000000008]
[null,44927,3003932,5.7299999999999997E-2,172125.3,2.4320000000000001E-2,73055.63,3.2979999999999995E-2,99069.669999999984]
[null,44958,2546106,5.7299999999999997E-2,145891.87,2.4320000000000001E-2,61921.3,3.2979999999999995E-2,83970.569999999992]
[null,44986,1932812,5.7299999999999997E-2,110750.13,2.4320000000000001E-2,47005.99,3.2979999999999995E-2,63744.140000000007]
[null,"Total",{"$f":"SUM(C17:C28)","v":13215976},5.7299999999999997E-2,{"$f":"SUM(E17:E28)","v":757275.41},2.4320000000000001E-2,{"$f":"SUM(G17:G28)","v":321412.53999999998},{"$f":"H22","v":3.2979999999999995E-2},{"$f":"SUM(I17:I28)","v":435862.87000000005}]
[]
[null,"NEMO + WEMO","SGS"]
[null,"Month","Estimated Vol","Rate Collected","Rev Collected","Correct Rate","Corr Revenue","Rate Diff","Rev Diff"]
[null,44652,409469,{"$f":"$H$10","v":2.7810000000000001E-2},{"$f":"ROUND($C33*D33,2)","v":11387.33},{"$f":"$I$10","v":1.0189999999999999E-2},{"$f":"ROUND($C33*F33,2)","v":4172.49},{"$f":"D33-F33","v":1.7620000000000004E-2},{"$f":"E33-G33","v":7214.84}]
[null,{"$f":"EDATE(B33,1)","v":44682},182412,{"$f":"$H$10","v":2.7810000000000001E-2},{"$f":"ROUND($C34*D34,2)","v":5072.88},{"$f":"$I$10","v":1.0189999999999999E-2},{"$f":"ROUND($C34*F34,2)","v":1858.78},{"$f":"D34-F34","v":1.7620000000000004E-2},3214.1000000000004]
[null,{"$f":"EDATE(B34,1)","v":44713},85110,2.7810000000000001E-2,2366.91,1.0189999999999999E-2,867.27,1.7620000000000004E-2,1499.6399999999999]
[null,44743,79119,2.7810000000000001E-2,2200.3000000000002,1.0189999999999999E-2,806.22,1.7620000000000004E-2,1394.0800000000002]
[null,44774,72981,2.7810000000000001E-2,2029.6,1.0189999999999999E-2,743.68,1.7620000000000004E-2,1285.92]
[null,44805,98941,2.7810000000000001E-2,2751.55,1.0189999999999999E-2,1008.21,1.7620000000000004E-2,1743.3400000000001]
[null,44835,135622,2.7810000000000001E-2,3771.65,1.0189999999999999E-2,1381.99,1.7620000000000004E-2,2389.66]
[null,44866,339142,2.7810000000000001E-2,9431.5400000000009,1.0189999999999999E-2,3455.86,1.7620000000000004E-2,5975.68]
[null,44896,521425,2.7810000000000001E-2,14500.83,1.0189999999999999E-2,5313.32,1.7620000000000004E-2,9187.51]
[null,44927,1021407,2.7810000000000001E-2,28405.33,1.0189999999999999E-2,10408.14,1.7620000000000004E-2,17997.190000000002]
[null,44958,848213,2.7810000000000001E-2,23588.799999999999,1.0189999999999999E-2,8643.2900000000009,1.7620000000000004E-2,14945.509999999998]
[null,44986,626629,2.7810000000000001E-2,17426.55,1.0189999999999999E-2,6385.35,1.7620000000000004E-2,11041.199999999999]
[null,"Total",{"$f":"SUM(C33:C44)","v":4420470},2.7810000000000001E-2,{"$f":"SUM(E33:E44)","v":122933.27},1.0189999999999999E-2,{"$f":"SUM(G33:G44)","v":45044.6},{"$f":"H38","v":1.7620000000000004E-2},{"$f":"SUM(I33:I44)","v":77888.67}]
[]
[null,"SEMO","Res"]
[null,"Month","Estimated Vol","Rate Collected","Rev Collected","Correct Rate","Corr Revenue","Rate Diff","Rev Diff"]
[null,44652,1364560,{"$f":"$H$11","v":4.743E-2},{"$f":"ROUND($C49*D49,2)","v":64721.08},{"$f":"$I$11","v":1.9179999999999999E-2},{"$f":"ROUND($C49*F49,2)","v":26172.26},{"$f":"D49-F49","v":2.8250000000000001E-2},{"$f":"C49*H49","v":38548.82}]
[null,{"$f":"EDATE(B49,1)","v":44682},691255,{"$f":"$H$11","v":4.743E-2},32786.22,{"$f":"$I$11","v":1.9179999999999999E-2},13258.27,{"$f":"D50-F50","v":2.8250000000000001E-2},{"$f":"C50*H50","v":19527.953750000001}]
[null,{"$f":"EDATE(B50,1)","v":44713},346843,4.743E-2,16450.759999999998,1.9179999999999999E-2,6652.45,2.8250000000000001E-2,9798.3147499999995]
[null,44743,268362,4.743E-2,12728.41,1.9179999999999999E-2,5147.18,2.8250000000000001E-2,7581.2265000000007]
[null,44774,252879,4.743E-2,11994.05,1.9179999999999999E-2,4850.22,2.8250000000000001E-2,7143.8317500000003]
[null,44805,323033,4.743E-2,15321.46,1.9179999999999999E-2,6195.77,2.8250000000000001E-2,9125.6822499999998]
[null,44835,369606,4.743E-2,17530.41,1.9179999999999999E-2,7089.04,2.8250000000000001E-2,10441.369500000001]
[null,44866,1085929,4.743E-2,51505.61,1.9179999999999999E-2,20828.12,2.8250000000000001E-2,30677.49425]
[null,44896,2001558,4.743E-2,94933.9,1.9179999999999999E-2,38389.879999999997,2.8250000000000001E-2,56544.013500000001]
[null,44927,3437383,4.743E-2,163035.07999999999,1.9179999999999999E-2,65929.009999999995,2.8250000000000001E-2,97106.06975000001]
[null,44958,2885041,4.743E-2,136837.49,1.9179999999999999E-2,55335.09,2.8250000000000001E-2,81502.408250000008]
[null,44986,2268398,4.743E-2,107590.12,1.9179999999999999E-2,43507.87,2.8250000000000001E-2,64082.243500000004]
[null,"Total",{"$f":"SUM(C49:C60)","v":15294847},4.743E-2,{"$f":"SUM(E49:E60)","v":725434.59},1.9179999999999999E-2,{"$f":"SUM(G49:G60)","v":293355.15999999997},{"$f":"H54","v":2.8250000000000001E-2},{"$f":"SUM(I49:I60)","v":432079.42775000003}]
[]
[]
[null,"SEMO","SGS"]
[null,"Month","Estimated Vol","Rate Collected","Rev Collected","Correct Rate","Corr Revenue","Rate Diff","Rev Diff"]
[null,44652,362278,{"$f":"$H$12","v":1.6230000000000001E-2},{"$f":"ROUND($C66*D66,2)","v":5879.77},{"$f":"$I$12","v":6.5799999999999999E-3},{"$f":"ROUND($C66*F66,2)","v":2383.79},{"$f":"D66-F66","v":9.6500000000000023E-3},{"$f":"C66*H66","v":3495.9827000000009}]
[null,{"$f":"EDATE(B66,1)","v":44682},159197,{"$f":"$H$12","v":1.6230000000000001E-2},2583.77,{"$f":"$I$12","v":6.5799999999999999E-3},1047.52,{"$f":"D67-F67","v":9.6500000000000023E-3},{"$f":"C67*H67","v":1536.2510500000003}]
[null,{"$f":"EDATE(B67,1)","v":44713},98086,1.6230000000000001E-2,1591.94,6.5799999999999999E-3,645.41,9.6500000000000023E-3,946.52990000000023]
[null,44743,84505,1.6230000000000001E-2,1371.52,6.5799999999999999E-3,556.04,9.6500000000000023E-3,815.47325000000023]
[null,44774,86712,1.6230000000000001E-2,1407.34,6.5799999999999999E-3,570.55999999999995,9.6500000000000023E-3,836.77080000000024]
[null,44805,101982,1.6230000000000001E-2,1655.17,6.5799999999999999E-3,671.04,9.6500000000000023E-3,984.12630000000024]
[null,44835,110343,1.6230000000000001E-2,1790.87,6.5799999999999999E-3,726.06,9.6500000000000023E-3,1064.8099500000003]
[null,44866,280204,1.6230000000000001E-2,4547.71,6.5799999999999999E-3,1843.74,9.6500000000000023E-3,2703.9686000000006]
[null,44896,561199,1.6230000000000001E-2,9108.26,6.5799999999999999E-3,3692.69,9.6500000000000023E-3,5415.5703500000009]
[null,44927,1024543,1.6230000000000001E-2,16628.330000000002,6.5799999999999999E-3,6741.49,9.6500000000000023E-3,9886.8399500000032]
[null,44958,828989,1.6230000000000001E-2,13454.49,6.5799999999999999E-3,5454.75,9.6500000000000023E-3,7999.7438500000017]
[null,44986,617967,1.6230000000000001E-2,10029.6,6.5799999999999999E-3,4066.22,9.6500000000000023E-3,5963.3815500000019]
[null,"Total",{"$f":"SUM(C66:C77)","v":4316005},1.6230000000000001E-2,{"$f":"SUM(E66:E77)","v":70048.77},6.5799999999999999E-3,{"$f":"SUM(G66:G77)","v":28399.31},{"$f":"H71","v":9.6500000000000023E-3},{"$f":"SUM(I66:I77)","v":41649.448250000001}]

{"sheet":"DateSet","index":35,"n_rows":17,"n_cols":13,"rows_kept":17,"cut":false,"hidden":true,"merged":[]}
[]
[null,"Year",{"$f":"INDEX(B7:B17,C7)","v":2023},null,null,null,null,"Effective WNA Schedules",null,null,null,"Tariff Sheets"]
[null,"Period",{"$f":"INDEX(D7:D8,F7)","v":"S1"},null,null,null,null,"WNA","Period","Eff. Date",null,"Period","Eff Date"]
[null,"New Rate Eff:",null,{"$f":"DATE(INDEX(B7:B17,C7),INDEX(E7:E8,F7),1)","v":45017},null,null,null,"CSWNA","S1",{"$f":"IF(I4=$C$3,$D$4,EDATE($D$4,-6))","v":45017},null,{"$f":"$C$2-1&\" \"&C3","v":"2022 S1"},{"$f":"EDATE($D$4,-12)","v":44652}]
[null,null,null,null,null,null,null,"CSWNA","S2",{"$f":"IF(I5=$C$3,$D$4,EDATE($D$4,-6))","v":44835},null,{"$f":"IF(C3=\"S1\",$C$2-1&\" S2\",C2&\" S1\")","v":"2022 S2"},{"$f":"EDATE(D4,-6)","v":44835}]
[null,"Year",null,"Period","StartMo",null,null,"SRR","S1",45017,null,{"$f":"$C$2&\" \"&C3","v":"2023 S1"},{"$f":"D4","v":45017}]
[null,2020,4,"S1",4,1,null,"SRR","S2",44835]
[null,2021,null,"S2",10,null,null,"CSWNA Analysis",null,{"$f":"EDATE($D$4,-9)","v":44743}]
[null,2022,null,null,null,null,null,"SRR Analysis",null,{"$f":"EDATE($D$4,-15)","v":44562}]
[null,2023,null,null,null,null,null,"Billed Rev. From",null,{"$f":"EDATE($D$4,-12)","v":44652}]
[null,2024]
[null,2025]
[null,2026]
[null,2027]
[null,2028]
[null,2029]
[null,2030]