Workbook
Name \a: #N/A
Name \b: #N/A
Name \i: #N/A
Name \p: #REF!
Name \p: #REF!
Name \p: #REF!
Name \p: #REF!
Name \p: #REF!
Name \p: #REF!
Name \r: #N/A
Name \t: #N/A
Name _10JE220_WP: #REF!
Name _10JE220_WP: #REF!
Name _10JE220_WP: #REF!
Name _4mcc: #REF!
Name _4mcc: #REF!
Name _4mkvar: #REF!
Name _4mkvar: #REF!
Name _4mrdrb34: #REF!
Name _4mrdrb34: #REF!
Name _4mskw: #REF!
Name _4mskw: #REF!
Name _4mskwh1: #REF!
Name _4mskwh1: #REF!
Name _4mskwh2: #REF!
Name _4mskwh2: #REF!
Name _4mskwh3: #REF!
Name _4mskwh3: #REF!
Name _4mtsoffpk: #REF!
Name _4mtsoffpk: #REF!
Name _4mtspk: #REF!
Name _4mtspk: #REF!
Name _4mtwoffpk: #REF!
Name _4mtwoffpk: #REF!
Name _4mtwpk: #REF!
Name _4mtwpk: #REF!
Name _4mwkw: #REF!
Name _4mwkw: #REF!
Name _4mwkwh1: #REF!
Name _4mwkwh1: #REF!
Name _4mwkwh2: #REF!
Name _4mwkwh2: #REF!
Name _4mwkwh3: #REF!
Name _4mwkwh3: #REF!
Name _4mwkwhs: #REF!
Name _4mwkwhs: #REF!
Name _je1: #REF!
Name _je1: #REF!
Name _je1: #REF!
Name _JE124: #REF!
Name _JE124: #REF!
Name _JE124: #REF!
Name _JE13: #REF!
Name _JE13: #REF!
Name _JE13: #REF!
Name _je14: #REF!
Name _je14: #REF!
Name _je14: #REF!
Name _JE147: #REF!
Name _JE147: #REF!

Sheet Monthly Cost Tracker 6
A1: Ameren Missouri
A2: RESRAM Monthly Accounting
A3: Accumulation Period 6
B4: 45839 | C4: 45870 | D4: 45901 | E4: 45931 | F4: 45962 | G4: 45992 | H4: 46023 | I4: 46054 | J4: 46082 | K4: 46113 | L4: 46143 | M4: 46174 | N4: 46204
A5: Actual RES Costs (ARC)
A6: Wind REC Costs - 509RWD/557RWD
A7: Solar REC Costs - 509RCS/557RCS
A8: Biomass REC Costs - 509RBM/557RBM
A9: Hydro REC Costs - 509RH2/557RH2
A10: Non Customer Solar REC Costs - 509RPS/557RPS
A11: Solar Rebate Processing Costs - 509SRP/557SRP
A12: Rider SR Solar Rebates - 908SR2
A13: Production Tax Credit Benefit - 409 - 411
A14: Net OSSR/Purchased Power portion - 447 & 555
A15: Return on Plant Assets
A16: Depreciation Expense
... A19: Property Taxes
A20: ARC Total | C20: =SUM(C6:C14) -> 0 | D20: =SUM(D6:D14) -> 0 | E20: =SUM(E6:E14) -> 0 | F20: =SUM(F6:F14) -> 0 | G20: =SUM(G6:G14) -> 0 | N20: =SUM(N6:N14) -> 0
A22: ROUR+True-Up Amortization | C22: -4259034.2 | D22: -3694536.4 | E22: -3327373.2 | F22: -2831572.2 | G22: -3566350.1 | H22: -4025474.5 | I22: 0 | J22: 0 | K22: 0 | L22: 0 | M22: 0 | N22: 0
A23: RESRAM Base Amount (RBA) | C23: 0 | D23: 0 | E23: 0 | F23: 0 | G23: 0 | H23: 0 | I23: 0 | J23: 0 | K23: 0 | L23: 0 | M23: 0 | N23: 0
A24: Monthly Base Amount (MBA) | C24: 0 | D24: 0 | E24: 0 | F24: 0 | G24: 0 | H24: 0 | I24: 0 | J24: 0 | K24: 0 | L24: 0 | M24: 0 | N24: 0
A25: RCR (RES Costs Recovered) | C25: =SUM(C22:C24) -> -4259034.2 | D25: =SUM(D22:D24) -> -3694536.4 | E25: =SUM(E22:E24) -> -3327373.2 | F25: =SUM(F22:F24) -> -2831572.2 | G25: =SUM(G22:G24) -> -3566350.1 | H25: =SUM(H22:H24) -> -4025474.5 | I25: =SUM(I22:I24) -> 0 | J25: =SUM(J22:J24) -> 0 | ... N25: =SUM(N22:N24) -> 0
A26: Monthly Under/(Over) - RCR-ARC | C26: =C25+C20 -> -4259034.2 | D26: =D25+D20 -> -3694536.4 | E26: =E25+E20 -> -3327373.2 | F26: =F25+F20 -> -2831572.2 | G26: =G25+G20 -> -3566350.1 | H26: =H25+H20 -> -4025474.5 | I26: =I25+I20 -> 0 | J26: =J25+J20 -> 0 | ... N26: =N25+N20 -> 0
A28: Interest % | C28: =+'Aug 25 Int'!G6/12 -> 0.0038069738 | D28: =+'Sept 25 Int'!G6/12 -> 0.0036723126 | E28: =+'Oct 25 Int'!G6/12 -> 0.0034541567 | F28: ='Nov 25 Int'!G6/12 -> 0.0033009316 | G28: ='Dec 25 Int'!G6/12 -> 0.0031940241 | H28: ='Jan 26 Int'!G6/12 -> 0.003175398 | I28: ='Feb 26 Int'!G6/12 -> 0.0031920586 | J28: ='Mar 26 Int'!G6/12 -> 0.0032478473 | K28: ='Apr 26 Int'!G6/12 -> 0.0032881057 | L28: ='May 26 Int'!G6/12 -> 0.0032559205 | M28: ='Jun 26 Int'!G6/12 -> 0.0032609388 | N28: ='Jul 26 Int'!G6/12 -> 0.0032456048
A29: Interest Revenue (Expense) | C29: =(B33+C26)*C28 -> 57847.085 | D29: =(D26+C33)*D28 -> 42445.844 | E29: =(E26+D33)*E28 -> 28577.67 | F29: =(F26+E33)*F28 -> 18057.481 | G29: =(G26+F33)*G28 -> 6139.3203 | H29: =(H26+G33)*H28 -> -6659.4703 | I29: =(I26+H33)*I28 -> -1.423858e-05 | J29: =(J26+I33)*J28 -> -1.4533678e-05 | K29: =(K26+J33)*K28 -> -1.4761617e-05 | ... N29: =(N26+M33)*N28 -> -1.4714147e-05
A31: Reclass AP6 to AP7 | H31: 2103867.5
A33: ROUR - Under/(Over) with Interest | B33: 19454065 | C33: =C26+C29+B33 -> 15252878 | D33: =D26+D29+C33 -> 11600788 | E33: =E26+E29+D33 -> 8301992 | F33: =F26+F29+E33 -> 5488477.3 | G33: =G26+G29+F33 -> 1928266.4 | H33: =H26+H29+G33+H31 -> -0.0044606263 | I33: =I26+I29+H33+I31 -> -0.0044748649 | J33: =J26+J29+I33+J31 -> -0.0044893985 | K33: =K26+K29+J33+K31 -> -0.0045041602 | L33: =L26+L29+K33+L31 -> -0.0045188253 | M33: =M26+M29+L33+M31 -> -0.004533561 | N33: =N26+N29+M33+N31 -> -0.0045482751

Sheet Monthly Cost Tracker 7
A1: Ameren Missouri
A2: RESRAM Monthly Accounting
A3: Accumulation Period 7
B4: ='Monthly Cost Tracker 6'!B4 -> 45839 | C4: ='Monthly Cost Tracker 6'!C4 -> 45870 | D4: ='Monthly Cost Tracker 6'!D4 -> 45901 | E4: ='Monthly Cost Tracker 6'!E4 -> 45931 | F4: ='Monthly Cost Tracker 6'!F4 -> 45962 | G4: ='Monthly Cost Tracker 6'!G4 -> 45992 | H4: ='Monthly Cost Tracker 6'!H4 -> 46023 | I4: ='Monthly Cost Tracker 6'!I4 -> 46054 | ... N4: ='Monthly Cost Tracker 6'!N4 -> 46204
A5: Actual RES Costs (ARC)
A6: Wind REC Costs - 509RWD/5553RW/557RWD
A7: Solar REC Costs - 509RCS/5553RC/557RCS
A8: Biomass REC Costs - 509RBM/5553RB/557RBM
A9: Hydro REC Costs - 509RH2/5553RH/557RH2
A10: Non Customer Solar REC Costs - 509RPS/5553RP/557RPS
A11: Solar Rebate Processing Costs - 509SRP/557SRP
A12: Rider SR Solar Rebates - 908SR2
A13: Production Tax Credit Benefit - 409 - 411
A14: Net OSSR/Purchased Power portion - 447 & 555
A15: Return on Plant Assets
A16: Depreciation Expense
... A19: Property Taxes
A20: ARC Total | C20: =SUM(C6:C19) -> 0 | D20: =SUM(D6:D19) -> 0 | E20: =SUM(E6:E19) -> 0 | F20: =SUM(F6:F19) -> 0 | G20: =SUM(G6:G19) -> 0 | H20: =SUM(H6:H19) -> 0 | I20: =SUM(I6:I19) -> 0 | J20: =SUM(J6:J19) -> 0 | ... N20: =SUM(N6:N19) -> 0
A22: ROUR+True-Up Amortization | C22: 0 | D22: 0 | E22: 0 | F22: 0 | G22: 0 | H22: 0 | I22: -859247.42 | J22: -878884.91 | K22: -800127.04 | L22: -767768.63 | M22: -937409.71 | N22: -1137062.9
A23: RESRAM Base Amount (RBA) | C23: 0 | D23: 0 | E23: 0 | F23: 0 | G23: 0 | H23: 0 | I23: 0 | J23: 0 | K23: 0 | L23: 0 | M23: 0 | N23: 0
A24: Monthly Base Amount (MBA) | C24: 0 | D24: 0 | E24: 0 | F24: 0 | G24: 0 | H24: 0 | I24: 0 | J24: 0 | K24: 0 | L24: 0 | M24: 0 | N24: 0
A25: RCR (RES Costs Recovered) | C25: =+C23+C24 -> 0 | D25: =+D23+D24 -> 0 | E25: =+E23+E24 -> 0 | F25: =+F23+F24 -> 0 | G25: =+G23+G24 -> 0 | H25: =+H23+H24 -> 0 | I25: =+I23+I24+I22 -> -859247.42 | J25: =+J23+J24+J22 -> -878884.91 | K25: =+K23+K24+K22 -> -800127.04 | L25: =+L23+L24+L22 -> -767768.63 | M25: =+M23+M24+M22 -> -937409.71 | N25: =+N23+N24+N22 -> -1137062.9
A26: Monthly Under/(Over) - RCR-ARC | C26: =-C25+C20 -> 0 | D26: =-D25+D20 -> 0 | E26: =-E25+E20 -> 0 | F26: =-F25+F20 -> 0 | G26: =-G25+G20 -> 0 | H26: =-H25+H20 -> 0 | I26: =I25 -> -859247.42 | J26: =J25 -> -878884.91 | K26: =K25 -> -800127.04 | L26: =L25 -> -767768.63 | M26: =M25 -> -937409.71 | N26: =N25 -> -1137062.9
A28: Interest % | C28: =+'Aug 25 Int'!G6/12 -> 0.0038069738 | D28: =+'Sept 25 Int'!G6/12 -> 0.0036723126 | E28: =+'Oct 25 Int'!G6/12 -> 0.0034541567 | F28: ='Nov 25 Int'!G6/12 -> 0.0033009316 | G28: ='Dec 25 Int'!G6/12 -> 0.0031940241 | H28: ='Jan 26 Int'!G6/12 -> 0.003175398 | I28: ='Feb 26 Int'!G6/12 -> 0.0031920586 | J28: ='Mar 26 Int'!G6/12 -> 0.0032478473 | K28: ='Apr 26 Int'!G6/12 -> 0.0032881057 | L28: ='May 26 Int'!G6/12 -> 0.0032559205 | M28: ='Jun 26 Int'!G6/12 -> 0.0032609388 | N28: ='Jul 26 Int'!G6/12 -> 0.0032456048
A29: Interest Revenue (Expense) | C29: =(C26+B33)*C28 -> 47639.048 | D29: =(D26+C33)*D28 -> 46128.893 | E29: =(E26+D33)*E28 -> 43547.916 | F29: =(F26+E33)*F28 -> 41759.895 | G29: =(G26+F33)*G28 -> 40540.796 | H29: =(H26+G33)*H28 -> 40433.115 | I29: =(I26+H33)*I28 -> 31315.886 | J29: =(J26+I33)*J28 -> 29110.43 | ... N29: =(N26+M33)*N28 -> 17598.483
A31: Reclass AP6 to AP7 | H31: =-'Monthly Cost Tracker 6'!H31 -> -2103867.5
A33: ROUR - Under/(Over) with Interest | B33: 12513626 | C33: =C26+C29+B33 -> 12561266 | D33: =D26+D29+C33 -> 12607394 | E33: =E26+E29+D33 -> 12650942 | F33: =F26+F29+E33 -> 12692702 | G33: =G26+G29+F33 -> 12733243 | H33: =H26+H29+G33+H31 -> 10669809 | I33: =I26+I29+H33 -> 9841877.1 | J33: =J26+J29+I33 -> 8992102.6 | K33: =K26+K29+J33 -> 8218911.6 | L33: =L26+L29+K33 -> 7475403.3 | M33: =M26+M29+L33 -> 6559313.6 | N33: =N26+N29+M33 -> 5439849.2

Sheet Monthly Cost Tracker 8
A1: Ameren Missouri
A2: RESRAM Monthly Accounting
A3: Accumulation Period 8
B4: ='Monthly Cost Tracker 6'!C4 -> 45870 | C4: ='Monthly Cost Tracker 6'!D4 -> 45901 | D4: ='Monthly Cost Tracker 6'!E4 -> 45931 | E4: ='Monthly Cost Tracker 6'!F4 -> 45962 | F4: ='Monthly Cost Tracker 6'!G4 -> 45992 | G4: ='Monthly Cost Tracker 6'!H4 -> 46023 | H4: ='Monthly Cost Tracker 6'!I4 -> 46054 | I4: ='Monthly Cost Tracker 6'!J4 -> 46082 | ... M4: ='Monthly Cost Tracker 6'!N4 -> 46204
A5: Actual RES Costs (ARC)
A6: Wind REC Costs - 5553RW/557RWD | B6: 94608.86 | C6: 81405.02 | D6: 283050.68 | E6: 92189.46 | F6: 486018.52 | G6: 11557.55 | H6: 7873.04 | I6: 1416593 | J6: 46100.85 | K6: 12462.35 | L6: 17882.8 | M6: 329299.79
A7: Solar REC Costs - 5553RC/557RCS | B7: 2906.74 | C7: 5315.05 | D7: 7075.1 | E7: 3035.65 | F7: 39874.76 | G7: 409.07 | H7: 252.58 | I7: 670.23 | J7: 6543.53 | K7: 1913.86 | L7: 7621.02 | M7: 3732.01
A8: Biomass REC Costs - 5553RB/557RBM | B8: 0 | C8: 0 | D8: 0 | E8: 0 | F8: 0 | G8: 0 | H8: 0 | I8: 0 | J8: 0 | K8: 12308.21 | L8: 2746.25 | M8: 3137.3
A9: Hydro REC Costs - 5553RH/557RH2 | B9: 0 | C9: 0 | D9: 0 | E9: 0 | F9: 0 | G9: 0 | H9: 0 | I9: 0 | J9: 0 | K9: 0 | L9: 0 | M9: 0
A10: Non Customer Solar REC Costs - 5553RP/557RPS | B10: 0 | C10: 0 | D10: 0 | E10: 0 | F10: 0 | G10: 0 | H10: 0 | I10: 0 | J10: 0 | K10: 0 | L10: 0 | M10: 0
A11: Solar Rebate Processing Costs - 557SRP | B11: 0 | C11: 0 | D11: 0 | E11: 0 | F11: 0 | G11: 0 | H11: 0 | I11: 0 | J11: 0 | K11: 0 | L11: 0 | M11: 0
A12: Rider SR Solar Rebates - 908SR2 | B12: 0 | C12: 0 | D12: 0 | E12: 0 | F12: 0 | G12: 0 | H12: 0 | I12: 0 | J12: 0 | K12: 0 | L12: 0 | M12: 0
A13: Other Misc Revenues - 456001 | B13: 0 | C13: 0 | D13: 0 | E13: 0 | F13: 0 | G13: 0 | H13: 0 | I13: 0 | J13: -1200000 | K13: -4182506.7 | L13: 0 | M13: 0
A14: Production Tax Credit Benefit - 409 - 411 | B14: -14798674 | C14: -10821620 | D14: 1046489.2 | E14: -2375288.4 | F14: -2889753.4 | G14: -3549272.8 | H14: -3522225.2 | I14: -1492946.2 | J14: 728680.5 | K14: -787335.62 | L14: -17696948 | M14: -18148297
A15: Net OSSR/Purchased Power portion - 447 & 555 | B15: -7758623.7 | C15: -1377950.8 | D15: -1583900.6 | E15: -3825576.6 | F15: -4581872.3 | G15: -11353442 | H15: -4998471.7 | I15: -5797047.5 | J15: -4022670 | K15: -3241973.8 | L15: -7210605.9 | M15: -9585315.2
A16: Return on Plant Assets | B16: 8507831.3 | C16: 8499539.3 | D16: 8491256.3 | E16: 8483414.3 | F16: 8476673.3 | G16: 8470687.3 | H16: 8464179.3 | I16: 8457146.3 | J16: 8450413.3 | K16: 8443605.3 | L16: 8439619.3 | M16: 8435594.3
A17: Depreciation Expense | B17: 4554620.6 | C17: 4554646.6 | D17: 4554676.6 | E17: 4554978.6 | F17: 4555811.6 | G17: 4556333.6 | H17: 4560619.6 | I17: 4556904.6 | J17: 4557128.6 | K17: 4557264.6 | L17: 4558583.6 | M17: 4559941.6
... A20: Property Taxes | B20: 791666.67 | C20: 791666.67 | D20: 791666.67 | E20: 791666.67 | F20: 1145467.7 | G20: 820833.33 | H20: 820833.33 | I20: 820833.33 | J20: 820833.33 | K20: 820833.33 | L20: 1020833.3 | M20: 854166.67
A21: ARC Total | B21: =SUM(B6:B20) -> -7549112.9 | C21: =SUM(C6:C20) -> 3638598.7 | D21: =SUM(D6:D20) -> 16218257 | E21: =SUM(E6:E20) -> 9359907.4 | F21: =SUM(F6:F20) -> 11719575 | G21: =SUM(G6:G20) -> 2519245.3 | H21: =SUM(H6:H20) -> 6711441.8 | I21: =SUM(I6:I20) -> 11091283 | ... M21: =SUM(M6:M20) -> -11606642
A23: ROUR+True-Up Amortization | B23: 0 | C23: 0 | D23: 0 | E23: 0 | F23: 0 | G23: 0 | H23: 0 | I23: 0 | J23: 0 | K23: 0 | L23: 0 | M23: 0
A24: RESRAM Base Amount (RBA) | B24: 0 | C24: 0 | D24: 0 | E24: 0 | F24: 0 | G24: 0 | H24: 4399180.3 | I24: 4399180.3 | J24: 4399180.3 | K24: 4399180.3 | L24: 4399180.3 | M24: 4399180.3
A25: Monthly Base Amount (MBA) | B25: ='ER-2024-0319'!$C$52 -> 198408.62 | C25: ='ER-2024-0319'!$C$52 -> 198408.62 | D25: ='ER-2024-0319'!$C$52 -> 198408.62 | E25: ='ER-2024-0319'!$C$52 -> 198408.62 | F25: ='ER-2024-0319'!$C$52 -> 198408.62 | G25: ='ER-2024-0319'!$C$52 -> 198408.62 | H25: ='ER-2024-0319'!$C$52 -> 198408.62 | I25: ='ER-2024-0319'!$C$52 -> 198408.62 | ... M25: ='ER-2024-0319'!$C$52 -> 198408.62
A26: RCR (RES Costs Recovered) | B26: =+B24+B25 -> 198408.62 | C26: =+C24+C25 -> 198408.62 | D26: =+D24+D25 -> 198408.62 | E26: =+E24+E25 -> 198408.62 | F26: =+F24+F25 -> 198408.62 | G26: =+G24+G25 -> 198408.62 | H26: =+H24+H25 -> 4597589 | I26: =+I24+I25 -> 4597589 | ... M26: =+M24+M25 -> 4597589
A27: Monthly Under/(Over) - RCR-ARC | B27: =-B26+B21 -> -7747521.6 | C27: =-C26+C21 -> 3440190 | D27: =-D26+D21 -> 16019849 | E27: =-E26+E21 -> 9161498.8 | F27: =-F26+F21 -> 11521166 | G27: =-G26+G21 -> 2320836.6 | H27: =-H26+H21 -> 2113852.9 | I27: =-I26+I21 -> 6493693.6 | ... M27: =-M26+M21 -> -16204231
A29: Interest % | B29: =+'Aug 25 Int'!G6/12 -> 0.0038069738 | C29: =+'Sept 25 Int'!G6/12 -> 0.0036723126 | D29: =+'Oct 25 Int'!G6/12 -> 0.0034541567 | E29: ='Nov 25 Int'!G6/12 -> 0.0033009316 | F29: ='Dec 25 Int'!G6/12 -> 0.0031940241 | G29: ='Jan 26 Int'!G6/12 -> 0.003175398 | H29: ='Feb 26 Int'!G6/12 -> 0.0031920586 | I29: ='Mar 26 Int'!G6/12 -> 0.0032478473 | J29: ='Apr 26 Int'!G6/12 -> 0.0032881057 | K29: ='May 26 Int'!G6/12 -> 0.0032559205 | L29: ='Jun 26 Int'!G6/12 -> 0.0032609388 | M29: ='Jul 26 Int'!G6/12 -> 0.0032456048
A30: Interest Revenue (Expense) | B30: =(B27)*B29 -> -29494.612 | C30: =(C27+B32)*C29 -> -15926.181 | D30: =(D27+C32)*D29 -> 40299.978 | E30: =(E27+D32)*E29 -> 68886.795 | F30: =(F27+E32)*F29 -> 103674.66 | G30: =(G27+F32)*G29 -> 110768.87 | H30: =(H27+G32)*H29 -> 118451.17 | I30: =(I27+H32)*I29 -> 141996.62 | J30: =(J27+I32)*J29 -> 168898.15 | ... M30: =(M27+L32)*M29 -> 83374.169
A32: ROUR - Under/(Over) with Interest | B32: =B27+B30 -> -7777016.2 | C32: =C27+C30+B32 -> -4352752.3 | D32: =D27+D30+C32 -> 11707396 | E32: =E27+E30+D32 -> 20937782 | F32: =F27+F30+E32 -> 32562623 | G32: =G27+G30+F32 -> 34994228 | H32: =H27+H30+G32 -> 37226532 | I32: =I27+I30+H32 -> 43862223 | J32: =J27+J30+I32 -> 51535297 | ... M32: =M27+M30+L32 -> 25771705

Sheet True-Up
A1: Ameren Missouri
A2: Rider RESRAM
A3: Accumulation Period 8
A4: True-Up Calculation
A7: Month | B7: Billed RESRAM ROUR & True-Up Revenues | C7: Revenue Authorized for Collection | D7: Projected RESRAM Billed kWh | E7: Final ROUR & True-Up RESRAM Rate | G7: Calculated Projected RESRAM Revenues | H7: (Over)/Under Difference between Billed/Authorized and Projected
A8: 45870 | B8: =-'Monthly Cost Tracker 6'!C22 -> 4259034.2 | D8: 2.8848734e+09 | E8: 0.0013255807 | F8: 1 | G8: =D8*E8 -> 3824132.4 | H8: =G8-B8 -> -434901.74
A9: 45901 | B9: =-'Monthly Cost Tracker 6'!D22 -> 3694536.4 | D9: 2.3601028e+09 | E9: =E8 -> 0.0013255807 | F9: 1 | G9: =D9*E9 -> 3128506.7 | H9: =G9-B9 -> -566029.71
A10: 45931 | B10: =-'Monthly Cost Tracker 6'!E22 -> 3327373.2 | D10: 2.1613222e+09 | E10: =E8 -> 0.0013255807 | F10: 1 | G10: =D10*E10 -> 2865007 | H10: =G10-B10 -> -462366.29
A11: 45962 | B11: =-'Monthly Cost Tracker 6'!F22 -> 2831572.2 | D11: 2.31773e+09 | E11: =E8 -> 0.0013255807 | F11: 1 | G11: =D11*E11 -> 3072338.2 | H11: =G11-B11 -> 240765.96
A12: 45992 | B12: =-'Monthly Cost Tracker 6'!G22 -> 3566350.1 | D12: 2.7688581e+09 | E12: =E8 -> 0.0013255807 | F12: 1 | G12: =D12*E12 -> 3670344.8 | H12: =G12-B12 -> 103994.69
A13: 46023 | B13: =-'Monthly Cost Tracker 6'!H22 -> 4025474.5 | D13: 2.9432768e+09 | E13: =E8 -> 0.0013255807 | F13: 1 | G13: =D13*E13 -> 3901550.9 | H13: =G13-B13 -> -123923.64
A14: 46054 | B14: =-'Monthly Cost Tracker 7'!I22 -> 859247.42 | D14: 2.5894516e+09 | E14: 0.00037032195 | F14: 2 | G14: =D14*E14 -> 958930.78 | H14: =G14-B14 -> 99683.357
A15: 46082 | B15: =-'Monthly Cost Tracker 7'!J22 -> 878884.91 | D15: 2.4837464e+09 | E15: =E14 -> 0.00037032195 | F15: 2 | G15: =D15*E15 -> 919785.8 | H15: =G15-B15 -> 40900.893
A16: 46113 | B16: =-'Monthly Cost Tracker 7'!K22 -> 800127.04 | D16: 2.1575147e+09 | E16: =E14 -> 0.00037032195 | F16: 2 | G16: =D16*E16 -> 798975.06 | H16: =G16-B16 -> -1151.9839
A17: 46143 | B17: =-'Monthly Cost Tracker 7'!L22 -> 767768.63 | D17: 2.3148441e+09 | E17: =E14 -> 0.00037032195 | F17: 2 | G17: =D17*E17 -> 857237.59 | H17: =G17-B17 -> 89468.962
A18: 46174 | B18: =-'Monthly Cost Tracker 7'!M22 -> 937409.71 | D18: 2.7035813e+09 | E18: =E14 -> 0.00037032195 | F18: 2 | G18: =D18*E18 -> 1001195.5 | H18: =G18-B18 -> 63785.806
A19: 46204 | B19: =-'Monthly Cost Tracker 7'!N22 -> 1137062.9 | D19: 3.0756306e+09 | E19: =E14 -> 0.00037032195 | F19: 2 | G19: =D19*E19 -> 1138973.5 | H19: =G19-B19 -> 1910.6714
A20: 46235 | C20: =D20*E20 -> 1112272.6 | D20: 3.0035286e+09 | E20: =E14 -> 0.00037032195 | F20: 2 | G20: =D20*E20 -> 1112272.6 | H20: =G20-C20 -> 0
A21: 46266 | C21: =D21*E21 -> 917839.33 | D21: 2.4784902e+09 | E21: =E14 -> 0.00037032195 | F21: 2 | G21: =D21*E21 -> 917839.33 | H21: =G21-C21 -> 0
A22: 46296 | C22: =D22*E22 -> 819335.09 | D22: 2.212494e+09 | E22: =E14 -> 0.00037032195 | F22: 2 | G22: =D22*E22 -> 819335.09 | H22: =G22-C22 -> 0
A23: 46327 | C23: =D23*E23 -> 862279.17 | D23: 2.3284581e+09 | E23: =E14 -> 0.00037032195 | F23: 2 | G23: =D23*E23 -> 862279.17 | H23: =G23-C23 -> 0
A24: 46357 | C24: =D24*E24 -> 1016065.3 | D24: 2.7437349e+09 | E24: =E14 -> 0.00037032195 | F24: 2 | G24: =D24*E24 -> 1016065.3 | H24: =G24-C24 -> 0
A25: 46388 | C25: =D25*E25 -> 1102921.6 | D25: 2.9782777e+09 | E25: =E14 -> 0.00037032195 | F25: 2 | G25: =D25*E25 -> 1102921.6 | H25: =G25-C25 -> 0
A27: Total | B27: =SUM(B8:B26) -> 27084841 | C27: =SUM(C14:C26) -> 5830713.1 | D27: =SUM(D8:D26) -> 4.6505916e+10 | G27: =SUM(G8:G26) -> 31967691 | H27: =SUM(H8:H26) -> -947863.02
A29: 1 This rate is calculated by taking Factors ROUR and T divided by Factor SRP from the AP 6 filing
A30: 2 This rate is calculated by taking Factors ROUR and T divided by Factor SRP from the AP 7 filing

Sheet Rate Schedule
A1: Ameren Missouri
A2: Rider RESRAM
A3: Accumulation Period 8
A4: Rate Calcuation for Recovery Period 8
C6: August 2025 - July 2026
A9: 1 | B9: Actual RES Costs Incurred in Accumulation Period (ARC) | C9: =SUM('Monthly Cost Tracker 8'!B21:M21) -> 53443106
A10: 2 | B10: RES Expenses Recovered in Accumulation Period (RCR) | C10: =SUM('Monthly Cost Tracker 8'!B26:M26) -> 28775986
A11: 3 | B11: RES Over/Under Recovery (ROUR) | C11: =C12+C13 -> 26328704
A12: 3.1 | B12: Interest | C12: =SUM('Monthly Cost Tracker 8'!B30:M30)+SUM('Monthly Cost Tracker 7'!C29:N29)+SUM('Monthly Cost Tracker 6'!C29:N29) -> 1661583
A13: 3.2 | B13: (Over)/Under Recovered Costs | C13: =C9-C10 -> 24667121
A14: 4 | B14: RES Revenue Requirement (RRR) | C14: =+RRR!D12 -> 51062203
A15: 5 | B15: True-Up (T) | C15: ='True-Up'!H27 -> -947863.02
A16: 6 | B16: Ordered Adjustment (OA) | C16: 0
A17: 7 | B17: Total RESRAM Recoveries (TRR) | C17: =SUM(C14:C16)+C11 -> 76443044
A18: 8 | B18: Estimated Recovery Period Sales (kWh) (SRP) | C18: =SUM(SRP!P2:P13) -> 32742357800
A19: 9 | B19: TRR Rate | C19: =C17/C18 -> 0.0023346835
A20: 10 | B20: Required Offset Amount | C20: 0
A21: 11 | B21: RESRAM Rate | C21: =+C19+C20 -> 0.0023346835

Sheet RRR
A1: Ameren Missouri
A2: Rider RESRAM
A3: Accumulation Period 8
A4: RESRAM Revenue Requirement (RRR) for Recovery Period 8
B7: Annual ARC Total | C7: Net base RESRAM Costs1 | D7: Calculated RRR
A8: REC Costs | B8: =SUM('Monthly Cost Tracker 8'!B6:M11) -> 2976583.3 | C8: ='ER-2024-0319'!B46 -> 2360853.5 | D8: =B8-C8 -> 615729.83
A9: Solar Rebates | B9: =SUM('Monthly Cost Tracker 8'!B12:M12) -> 0 | C9: ='ER-2024-0319'!B47 -> 1162320.5 | D9: =B9-C9 -> -1162320.5
A10: OSSR | B10: =SUM('Monthly Cost Tracker 8'!B15:M15) -> -65337450 | C10: ='ER-2024-0319'!B48 -> -87518749 | D10: =B10-C10 -> 22181299
A11: Capital Investments | B11: =SUM('Monthly Cost Tracker 8'!B13:M14)+SUM('Monthly Cost Tracker 8'!B16:M20) -> 1.1580397e+08 | C11: =SUM('ER-2024-0319'!B49:B51) -> 86376478 | D11: =B11-C11 -> 29427494
A12: RRR for RP 8 | B12: =+B9+B8+B10+B11 -> 53443106 | C12: =+C9+C8+C10+C11 -> 2380903.5 | D12: =+D9+D8+D11+D10 -> 51062203
A15: 1 Taken from the "ER-2024-0319" tab detailing the RESRAM Base Amount/MBA.

Sheet ER-2024-0319
A1: Ameren Missouri
A2: ER-2024-0319
A3: Renewable Energy Standard Rate Adjustment Mechanism Base Cost (RESRAM)
A4: 12 Months Ended March 31, 2024 With True-Up Through December 31, 2024 Compared to ER-2022-0337
B6: Total | C6: ER-2022-0337 | D6: Difference
A7: Costs & Expenses
A9: Plant Related Costs
A10: Depreciation High Prairie & Atchison - Acct 403 | B10: 54669547 | C10: 42118036 | D10: =B10-C10 -> 12551511
A11: Property Taxes - Acct 408 | B11: 9325157 | C11: 9062854 | D11: =B11-C11 -> 262303
A12: Non-Labor O&M High Prairie - Acct 546-554 | B12: 8539629.1 | C12: 8902453 | D12: =B12-C12 -> -362823.88
A13: Non-Labor O&M Atchison - Acct 546-554 | B13: 7106850.6 | C13: 8497699.8 | D13: =B13-C13 -> -1390849.2
A14: Non-Labor O&M Huck Finn - Acct 546-554 | B14: 1634929.6 | C14: 0 | D14: =B14-C14 -> 1634929.6
A15: Property Insurance - Acct 924 | B15: 1231047.7 | C15: 406858.05 | D15: =B15-C15 -> 824189.65
A16: Return on Plant | B16: 1.0286225e+08 | C16: 85823709 | D16: =B16-C16 -> 17038542
A17: Total Plant Related Costs | B17: =SUM(B10:B16) -> 1.8536941e+08 | C17: =SUM(C10:C16) -> 1.5481161e+08 | D17: =SUM(D10:D16) -> 30557802
A19: Transmission Related Costs
A20: FSA Agreements - Acct 565 | B20: 1951595.6 | C20: 1913366 | D20: =B20-C20 -> 38229.564
A21: Total Transmission Related Costs | B21: =SUM(B20) -> 1951595.6 | C21: =SUM(C20) -> 1913366 | D21: =SUM(D20) -> 38229.564
A23: Other Costs
A24: REC Costs Acct 509/557 | B24: 2360853.5 | C24: 1468550 | D24: =B24-C24 -> 892303.5
A25: Ancillary Expenses Acct 555 | B25: 1193.34 | C25: 5956.65 | D25: =B25-C25 -> -4763.31
A26: MISO & SPP Day 2 Expenses - Acct 555 | B26: 423448.3 | C26: 3264672.5 | D26: =B26-C26 -> -2841224.2
A27: Solar Rebates - Acct 908 | B27: 1162320.5 | C27: 3947364.8 | D27: =B27-C27 -> -2785044.2
A28: Total Other Costs | B28: =SUM(B24:B27) -> 3947815.6 | C28: =SUM(C24:C27) -> 8686543.9 | D28: =SUM(D24:D27) -> -4738728.2
A30: Revenues & Credits
A32: Production Tax Credits - Acct 409 | B32: -1.0094453e+08 | C32: -74164650 | D32: =B32-C32 -> -26779880
A33: Off System Energy Sales - Acct 447 | B33: -77554825 | C33: -79909270 | D33: =B33-C33 -> 2354444.4
A34: Capacity Sales - Acct 447 | B34: -10350493 | C34: -1107285.9 | D34: =B34-C34 -> -9243207.5
A35: Ancillary Services Revenue - Acct 447 | B35: -20919.23 | C35: -8753.47 | D35: =B35-C35 -> -12165.76
A36: MISO & SPP Day 2 Revenue - Acct 447 | B36: -17152.69 | C36: -3015666.1 | D36: =B36-C36 -> 2998513.4
A37: Total Revenues & Credits | B37: =SUM(B32:B36) -> -1.8888792e+08 | C37: =SUM(C32:C36) -> -1.5820563e+08 | D37: =SUM(D32:D36) -> -30682295
A40: Net Base RESRAM Costs | B40: =B17+B21+B28+B37 -> 2380903.5 | C40: =C17+C21+C28+C37 -> 7205894.8 | D40: =D17+D21+D28+D37 -> -4824991.3
H43: ER-2022-0377
A44: Allocations for RESRAM entry | B44: Annual Total | C44: Monthly Total | D44: Under-recovery | E44: Under FSLI | F44: Over-recovery | G44: Over FSLI | H44: Monthly Total
A45: MBA pieces
A46: REC Costs | B46: =+B24 -> 2360853.5 | C46: =B46/12 -> 196737.79 | D46: 4074RM | E46: Purchased Power | F46: 4073RV | G46: Other Misc Electric Revenues | H46: 122379.16
A47: Solar Rebates | B47: =+B27 -> 1162320.5 | C47: =B47/12 -> 96860.042 | D47: 4074RR | E47: O&M Expense | F47: 4073RV | G47: Other Misc Electric Revenues | H47: 328947.06
A48: OSSR | B48: =+SUM(B33:B36,B25:B26) -> -87518749 | C48: =B48/12 -> -7293229.1 | D48: 4074RO | E48: Other Interchange and Wholesale Billed Revenue | F48: 4073RO | G48: Other Interchange and Wholesale Billed Revenue | H48: -6730862.2
A49: Return-Debt | B49: =+B16*0.5 -> 51431126 | C49: =B49/12 -> 4285927.1 | D49: 431RRM | E49: Interest Charges | F49: 431RRM | G49: Interest Charges | H49: 3575987.9
A50: Return-Equity | B50: =+B16*0.5 -> 51431126 | C50: =B50/12 -> 4285927.1 | D50: 182RQx | E50: Regulatory Asset | F50: 254RQ4 | G50: Regulatory Liability | H50: 3575987.9
...

Sheet SRP
A1: Year | B1: Month | C1: RES | D1: COMSGS | E1: COMLGS | F1: COMSPS | G1: COMLPS | H1: INDSGS | I1: INDLGS | J1: INDSPS | K1: INDLPS | L1: LLT | M1: LIGHTING | N1: TOTAL Retail | P1: Total KWh
A2: 2027 | B2: 2 | C2: 1347842 | D2: 275682 | E2: 543314 | F2: 192530 | G2: 129319 | H2: 7367 | I2: 56464 | J2: 90108 | K2: 166526 | L2: 913.6 | M2: 913.6 | N2: 2821337.6 | P2: =+N2*1000 -> 2821337600
A3: 2027 | B3: 3 | C3: 1092874 | D3: 245495 | E3: 513210 | F3: 187546 | G3: 130881 | H3: 6311 | I3: 54108 | J3: 90675 | K3: 165689 | L3: 1012 | M3: 1012 | N3: 2498388 | P3: =+N3*1000 -> 2498388000
A4: 2027 | B4: 4 | C4: 851468 | D4: 217054 | E4: 486709 | F4: 185373 | G4: 136195 | H4: 5621 | I4: 56479 | J4: 90057 | K4: 178164 | L4: 979.2 | M4: 979.2 | N4: 2217854.2 | P4: =+N4*1000 -> 2217854200
A5: 2027 | B5: 5 | C5: 754841 | D5: 207933 | E5: 493326 | F5: 193977 | G5: 143386 | H5: 5068 | I5: 53054 | J5: 92423 | K5: 189325 | L5: 1012 | M5: 1012 | N5: 2143530 | P5: =+N5*1000 -> 2143530000
A6: 2027 | B6: 6 | C6: 1002377 | D6: 250780 | E6: 566808 | F6: 207930 | G6: 160829 | H6: 5834 | I6: 56387 | J6: 96340 | K6: 195258 | L6: 38923.2 | M6: 38923.2 | N6: 2590468.2 | P6: =+N6*1000 -> 2590468200
A7: 2027 | B7: 7 | C7: 1353969 | D7: 297144 | E7: 639017 | F7: 231446 | G7: 169724 | H7: 7144 | I7: 63225 | J7: 101218 | K7: 202864 | L7: 76393.2 | M7: 76393.2 | N7: 3150462.2 | P7: =+N7*1000 -> 3150462200
A8: 2027 | B8: 8 | C8: 1334827 | D8: 292436 | E8: 632910 | F8: 229868 | G8: 165065 | H8: 7110 | I8: 63306 | J8: 100233 | K8: 205644 | L8: 76393.2 | M8: 76393.2 | N8: 3115712.2 | P8: =+N8*1000 -> 3115712200
A9: 2027 | B9: 9 | C9: 1181553 | D9: 279099 | E9: 625506 | F9: 222728 | G9: 164531 | H9: 6713 | I9: 62166 | J9: 98155 | K9: 193570 | L9: 115545.6 | M9: 115545.6 | N9: 2957101.6 | P9: =+N9*1000 -> 2957101600
A10: 2027 | B10: 10 | C10: 893386 | D10: 239033 | E10: 558294 | F10: 208199 | G10: 153774 | H10: 6561 | I10: 56538 | J10: 95687 | K10: 190716 | L10: 133310.2 | M10: 133310.2 | N10: 2543527.2 | P10: =+N10*1000 -> 2543527200
A11: 2027 | B11: 11 | C11: 824619 | D11: 215527 | E11: 503148 | F11: 186834 | G11: 139323 | H11: 7311 | I11: 56549 | J11: 89306 | K11: 182031 | L11: 249573.6 | M11: 249573.6 | N11: 2462913.6 | P11: =+N11*1000 -> 2462913600
A12: 2027 | B12: 12 | C12: 1141515 | D12: 253163 | E12: 535718 | F12: 191992 | G12: 138286 | H12: 8173 | I12: 56468 | J12: 91322 | K12: 178423 | L12: 281924.6 | M12: 281924.6 | N12: 2886274.6 | P12: =+N12*1000 -> 2886274600
A13: 2028 | B13: 1 | C13: 1445888 | D13: 290164 | E13: 580969 | F13: 202871 | G13: 146908 | H13: 8367 | I13: 54743 | J13: 92490 | K13: 187966 | L13: 334033.4 | M13: 334033.4 | N13: 3354788.4 | P13: =+N13*1000 -> 3354788400

Sheet WACC
A1: AMEREN MISSOURI
A2: COST OF CAPITAL SUMMARY
A3: PRO FORMA
A4: 45657
A5: CONFIDENTIAL
A7: input 08/02/05 | E7: Pro Forma
E8: Proportion | G8: Cost of
A9: Type of Capital | E9: of Total | G9: Each Type | I9: Cost
A12: Long Term Debt | C12: 7238795443 | E12: =C12/C20 -> 0.47505574 | G12: 0.04364 | I12: =ROUND(E12*G12,5)+0.001% -> 0.02074
A14: Short Term Debt | C14: 0 | E14: =+C14/C20 -> 0 | G14: 0 | I14: =ROUND(E14*G14,5) -> 0
A16: Preferred Stock | C16: 81827509 | E16: =C16/C20 -> 0.0053700409 | G16: 0.0418 | I16: =ROUND(E16*G16,5) -> 0.00022
A18: Common Equity | C18: 7917158442 | E18: =C18/C20 -> 0.51957422 | G18: 0.095 | I18: =ROUND(E18*G18,5) -> 0.04936
A20: TOTAL | C20: =SUM(C12:C18) -> 15237781394 | E20: =SUM(E12:E18) -> 1 | I20: =SUM(I12:I18) -> 0.07032
A23: Tax Weighted Rate of Return
A25: Tax Multiplier (1/1-tax rate) (1) | I25: =1/I39 -> 1.3101399
A26: Weighted Cost of Equity and Preferred Stock | I26: =I16+I18 -> 0.04958
A27: Tax weighted Cost of Equity (Including Preferred Stock) | I27: =I26*I25 -> 0.064956738
A28: Weighted Cost of Debt | I28: =I12+I14 -> 0.02074
A30: Tax Weighted Rate of Return | I30: =I27+I28 -> 0.085696738
A33: (1) Tax Rate
A34: Total Current Income Tax | I34: 64387527
A35: Divide by Net Taxable Income | H35: ÷ | I35: 6.5292321e+08
A37: Tax Rate | I37: 0.23672276
A39: 1 - Tax Rate | I39: =1-I37 -> 0.76327724

Sheet Rate Base
A1: PLANT IN-SERVICE ACCOUNTING
A2: RESRAM-eligible capital investments
A4: Qualifying electric plant | B4: 45900 | C4: 45930 | D4: 45961 | E4: 45991 | F4: 46022 | G4: 46053 | H4: 46081 | I4: 46112 | J4: 46142 | K4: 46173 | L4: 46203 | M4: 46234
A5: Electric plant placed in-service | B5: -449645.74 | C5: -368613.79 | D5: -334094.16 | E5: 880360.24 | F5: 3080018.2 | G5: 3158893.6 | H5: 3171337.6 | I5: 3597013.8 | J5: 3853913.8 | K5: 3859548 | L5: 9781436.6 | M5: 9762305.3
A6: Less: New Business | B6: 0 | C6: 0 | D6: 0 | E6: 0 | F6: 0 | G6: 0 | H6: 0 | I6: 0 | J6: 0 | K6: 0 | L6: 0 | M6: 0
A7: Total qualifying electric plant | B7: =SUM(B5:B6) -> -449645.74 | C7: =SUM(C5:C6) -> -368613.79 | D7: =SUM(D5:D6) -> -334094.16 | E7: =SUM(E5:E6) -> 880360.24 | F7: =SUM(F5:F6) -> 3080018.2 | G7: =SUM(G5:G6) -> 3158893.6 | H7: =SUM(H5:H6) -> 3171337.6 | I7: =SUM(I5:I6) -> 3597013.8 | ... M7: =SUM(M5:M6) -> 9762305.3
A8: Less: Assets depreciated to clearing accounts | B8: 15204.29 | C8: 15012.57 | D8: 14972.15 | E8: 14972.15 | F8: 14972.15 | G8: 5365.04 | H8: 4808.23 | I8: 4718.4 | J8: 2667.91 | K8: 15249.69 | L8: 15249.69 | M8: 15342.67
A9: Less: Retirements of plant related to in-service additions | B9: 0 | C9: 0 | D9: 0 | E9: 0 | F9: 0 | G9: 0 | H9: 0 | I9: 0 | J9: 0 | K9: 0 | L9: 0 | M9: -24404.86
A10: Total Plant for Deferred Depreciation | B10: =SUM(B7:B9) -> -434441.45 | C10: =SUM(C7:C9) -> -353601.22 | D10: =SUM(D7:D9) -> -319122.01 | E10: =SUM(E7:E9) -> 895332.39 | F10: =SUM(F7:F9) -> 3094990.4 | G10: =SUM(G7:G9) -> 3164258.6 | H10: =SUM(H7:H9) -> 3176145.9 | I10: =SUM(I7:I9) -> 3601732.2 | ... M10: =SUM(M7:M9) -> 9753243.1
A11: Cumulative Depreciation | B11: 74619.81 | C11: 70144.66 | D11: 65871.24 | E11: 63612.82 | F11: 66903.45 | G11: 73673.81 | H11: 80353.11 | I11: 87746.22 | J11: 96632.79 | K11: 106429.06 | L11: 125014.32 | M11: 152651.49
A13: Incremental rate base
A14: Total qualifying electric plant (from above) | B14: -449645.74 | C14: -368613.79 | D14: -334094.16 | E14: 880360.24 | F14: 3080018.2 | G14: 3158893.6 | H14: 3171337.6 | I14: 3597013.8 | J14: 3853913.8 | K14: 3859548 | L14: 9781436.6 | M14: 9762305.3
A15: Less: Change in accumulated depreciation | B15: -36465603 | C15: -41009323 | D15: -45553246 | E15: -50099184 | F15: -54650671 | G15: -59205658 | H15: -63760575 | I15: -68316208 | J15: -72873339 | K15: -77431357 | L15: -81998137 | M15: -86573969
A16: Less: Marginal increase in ADIT | B16: -26736785 | C16: -29984981 | D16: -33230991 | E16: -36783330 | F16: -40134130 | G16: -41132943 | H16: -43265089 | I16: -45592980 | J16: -47403247 | K16: -49452716 | L16: -51649391 | M16: -53726269
A17: Qualifying electric plant rate base for cost of capital return | B17: =SUM(B14:B16) -> -63652034 | C17: =SUM(C14:C16) -> -71362918 | D17: =SUM(D14:D16) -> -79118331 | E17: =SUM(E14:E16) -> -86002154 | F17: =SUM(F14:F16) -> -91704783 | G17: =SUM(G14:G16) -> -97179708 | H17: =SUM(H14:H16) -> -1.0385433e+08 | I17: =SUM(I14:I16) -> -1.1031217e+08 | ... M17: =SUM(M14:M16) -> -1.3053793e+08

Sheet Aug 25 Int
A1: Ameren Missouri | EE1: Total (PAR CP) | EI1: Revolver | EN1: PAR CP | EO1: ACCRUED AFTER REPORT PERIOD | EP1: CP BALANCE | EQ1: TOTAL ST BALANCE
A2: MONTHLY SHORT-TERM BORROWING ANALYSIS | EB2: Amount Outstanding | EE2: =EB41 -> 287275000 | EI2: =EG40 -> 0 | EN2: =EK41 -> 287275000 | EO2: -103326.04 | EP2: =EN2+EO2 -> 2.8717167e+08 | EQ2: =EE2+EO2 -> 2.8717167e+08
A3: AUG 2025 | E3: TOTAL FOR MONTH | EB3: Avg Daily Borrowing | EE3: =AVERAGE(EB11:EB41) -> 3.030121e+08 | EI3: =AVERAGE(EG11:EG40) -> 0 | EN3: =AVERAGE(EK11:EK41) -> 3.030121e+08
E4: Amount Outstanding | G4: =EQ2 -> 2.8717167e+08 | AI4: ST Balance on GL | EB4: Weighted Average Rate | EE4: =IF(EE3=0,0,360*(AVERAGE(ED11:ED41)/EE3)) -> 0.045683686 | EI4: =IF(EI3=0,0,360*(AVERAGE(EH11:EH40)/EI3)) -> 0 | EN4: =IF(EN3=0,0,360*(AVERAGE(EM11:EM41)/EN3)) -> 0.045683686 | EO4: From US Bank Monthly Accrued Interest Report | EQ4: ST Balance on GL
E5: Avg Daily Borrowing | G5: =EE3 -> 3.030121e+08 | AI5: PAR CP | EB5: Peak Borrowing | EE5: =MAX(EB11:EB41) -> 404400000 | EI5: =MAX(EG11:EG40) -> 0 | EN5: =MAX(EK11:EK41) -> 404400000 | EO5: Negative Number
E6: Weighted Average Rate | G6: =EE4 -> 0.045683686
E7: Peak Borrowing | G7: =EE5 -> 404400000 | AI7: PAR CP | EB7: Total Borrowings | EG7: Total Revolver Borrowings | EK7: Total Commercial Paper Borrowings
AI8: PAR AMT USED FOR RATE CALC ONLY | AL8: PAR AMT USED FOR RATE CALC ONLY | AO8: PAR AMT USED FOR RATE CALC ONLY | AR8: PAR AMT USED FOR RATE CALC ONLY | AU8: PAR AMT USED FOR RATE CALC ONLY | AX8: PAR AMT USED FOR RATE CALC ONLY | BA8: PAR AMT USED FOR RATE CALC ONLY | BD8: PAR AMT USED FOR RATE CALC ONLY | BG8: PAR AMT USED FOR RATE CALC ONLY | BJ8: PAR AMT USED FOR RATE CALC ONLY | BM8: PAR AMT USED FOR RATE CALC ONLY | BP8: PAR AMT USED FOR RATE CALC ONLY | BS8: PAR AMT USED FOR RATE CALC ONLY | BV8: PAR AMT USED FOR RATE CALC ONLY | BY8: PAR AMT USED FOR RATE CALC ONLY | CB8: PAR AMT USED FOR RATE CALC ONLY | CE8: PAR AMT USED FOR RATE CALC ONLY | CH8: PAR AMT USED FOR RATE CALC ONLY | CK8: PAR AMT USED FOR RATE CALC ONLY | CN8: PAR AMT USED FOR RATE CALC ONLY | CQ8: PAR AMT USED FOR RATE CALC ONLY | CT8: PAR AMT USED FOR RATE CALC ONLY | CW8: PAR AMT USED FOR RATE CALC ONLY | CZ8: PAR AMT USED FOR RATE CALC ONLY | DC8: PAR AMT USED FOR RATE CALC ONLY | DF8: PAR AMT USED FOR RATE CALC ONLY | DI8: PAR AMT USED FOR RATE CALC ONLY | DL8: PAR AMT USED FOR RATE CALC ONLY | DO8: PAR AMT USED FOR RATE CALC ONLY | DR8: PAR AMT USED FOR RATE CALC ONLY | EE8: Weighted | EH8: Revolver | EI8: Weighted | EK8: PAR | EL8: NET | EM8: CP | EN8: Weighted
B9: Regulated Money Pool | E9: Non-Regulated Money Pool | H9: AMC Direct Loan | K9: AMC Subordinated Loan | N9: AMC Direct Loan (Notes Backed) | Q9: Revolver Loan 1 | T9: Revolver Loan 2 | W9: Revolver Loan 3 | Z9: Revolver Loan 4 | AC9: Revolver Loan 5 (ABR 365) | AF9: Revolver Loan 6 (ABR 365) | AI9: Commercial Paper 1 | AL9: Commercial Paper 2 | AO9: Commercial Paper 3 | AR9: Commercial Paper 4 | AU9: Commercial Paper 5 | AX9: Commercial Paper 6 | BA9: Commercial Paper 7 | BD9: Commercial Paper 8 | BG9: Commercial Paper 9 | BJ9: Commercial Paper 10 | BM9: Commercial Paper 11 | BP9: Commercial Paper 12 | BS9: Commercial Paper 13 | BV9: Commercial Paper 14 | BY9: Commercial Paper 15 | CB9: Commercial Paper 16 | CE9: Commercial Paper 17 | CH9: Commercial Paper 18 | CK9: Commercial Paper 19 | CN9: Commercial Paper 20 | CQ9: Commercial Paper 21 | CT9: Commercial Paper 22 | CW9: Commercial Paper 23 | CZ9: Commercial Paper 24 | DC9: Commercial Paper 25 | DF9: Commercial Paper 26 | DI9: Commercial Paper 27 | DL9: Commercial Paper 28 | DO9: Commercial Paper 29 | DR9: Commercial Paper 30 | DU9: Future Use 1 - Term Loan | DX9: TOTAL NET CP PROCEEDS | EB9: (PAR CP) | EC9: (NET CP) | ED9: Daily | EE9: Average | EG9: Revolvers | EH9: Daily | EI9: Average | EK9: CP | EL9: CP | EM9: Daily | EN9: Average
A10: Date | B10: Amount | C10: Rate | D10: Interest | E10: Amount | F10: Rate | G10: Interest | H10: Amount | I10: Rate | J10: Interest | K10: Amount | L10: Rate | M10: Interest | N10: Amount | O10: Rate | P10: Interest | Q10: Amount | R10: Rate | S10: Interest | T10: Amount | U10: Rate | V10: Interest | W10: Amount | X10: Rate | Y10: Interest | Z10: Amount | AA10: Rate | AB10: Interest | AC10: Amount | AD10: Rate | AE10: Interest | AF10: Amount | AG10: Rate | AH10: Interest | AI10: Amount | AJ10: Rate | AK10: Interest | AL10: Amount | AM10: Rate | AN10: Interest | AO10: Amount | AP10: Rate | AQ10: Interest | AR10: Amount | AS10: Rate | AT10: Interest | AU10: Amount | AV10: Rate | AW10: Interest | AX10: Amount | AY10: Rate | AZ10: Interest | BA10: Amount | BB10: Rate | BC10: Interest | BD10: Amount | BE10: Rate | BF10: Interest | BG10: Amount | BH10: Rate | BI10: Interest | BJ10: Amount | BK10: Rate | BL10: Interest | BM10: Amount | BN10: Rate | BO10: Interest | BP10: Amount | BQ10: Rate | BR10: Interest | BS10: Amount | BT10: Rate | BU10: Interest | BV10: Amount | BW10: Rate | BX10: Interest | BY10: Amount | BZ10: Rate | CA10: Interest | CB10: Amount | CC10: Rate | CD10: Interest | CE10: Amount | CF10: Rate | CG10: Interest | CH10: Amount | CI10: Rate | CJ10: Interest | CK10: Amount | CL10: Rate | CM10: Interest | CN10: Amount | CO10: Rate | CP10: Interest | CQ10: Amount | CR10: Rate | CS10: Interest | CT10: Amount | CU10: Rate | CV10: Interest | CW10: Amount | CX10: Rate | CY10: Interest | CZ10: Amount | DA10: Rate | DB10: Interest | DC10: Amount | DD10: Rate | DE10: Interest | DF10: Amount | DG10: Rate | DH10: Interest | DI10: Amount | DJ10: Rate | DK10: Interest | DL10: Amount | DM10: Rate | DN10: Interest | DO10: Amount | DP10: Rate | DQ10: Interest | DR10: Amount | DS10: Rate | DT10: Interest | DU10: Amount | DV10: Rate | DW10: Interest | DX10: Amount | EB10: Outstanding | EC10: Outstanding | ED10: Interest | EE10: Rate | EG10: Outstanding | EH10: Interest | EI10: Rate | EK10: Outstanding | EL10: Outstanding | EM10: Interest | EN10: Rate
A11: 45870 | B11: 0 | C11: 0.04593261 | D11: =(B11*C11)/360 -> 0 | G11: =(E11*F11)/360 -> 0 | J11: =(H11*I11)/360 -> 0 | M11: =(K11*L11)/360 -> 0 | P11: =(N11*O11)/360 -> 0 | S11: =(Q11*R11)/360 -> 0 | V11: =(T11*U11)/360 -> 0 | Y11: =(W11*X11)/360 -> 0 | AB11: =(Z11*AA11)/360 -> 0 | AE11: 0 | AH11: 0 | AI11: =60000000+65000000+42050000 -> 167050000 | AJ11: 0.0451 | AK11: =(AI11*AJ11)/360 -> 20927.653 | AL11: =33905000+66095000+40000000 -> 140000000 | AM11: 0.046 | AN11: =(AL11*AM11)/360 -> 17888.889 | AO11: =50000000+40000000 -> 90000000 | AP11: 0.0463 | AQ11: =(AO11*AP11)/360 -> 11575 | AT11: =(AR11*AS11)/360 -> 0 | AW11: =(AU11*AV11)/360 -> 0 | AZ11: =(AX11*AY11)/360 -> 0 | BC11: =(BA11*BB11)/360 -> 0 | BF11: =(BD11*BE11)/360 -> 0 | BI11: =(BG11*BH11)/360 -> 0 | BL11: =(BJ11*BK11)/360 -> 0 | BO11: =(BM11*BN11)/360 -> 0 | BR11: =(BP11*BQ11)/360 -> 0 | BU11: =(BS11*BT11)/360 -> 0 | BX11: =(BV11*BW11)/360 -> 0 | CA11: =(BY11*BZ11)/360 -> 0 | CD11: =(CB11*CC11)/360 -> 0 | CG11: =(CE11*CF11)/360 -> 0 | CJ11: =(CH11*CI11)/360 -> 0 | CM11: =(CK11*CL11)/360 -> 0 | CP11: =(CN11*CO11)/360 -> 0 | CS11: =(CQ11*CR11)/360 -> 0 | CV11: =(CT11*CU11)/360 -> 0 | CY11: =(CW11*CX11)/360 -> 0 | DB11: =(CZ11*DA11)/360 -> 0 | DE11: =(DC11*DD11)/360 -> 0 | DH11: =(DF11*DG11)/360 -> 0 | DK11: =(DI11*DJ11)/360 -> 0 | DN11: =(DL11*DM11)/360 -> 0 | DQ11: =(DO11*DP11)/360 -> 0 | DT11: =(DR11*DS11)/360 -> 0 | DW11: =(DU11*DV11)/360 -> 0 | EB11: =B11+E11+H11+K11+N11+Q11+T11+W11+Z11+AC11+AF11+AL11+AO11+AR11+AU11+AX11+BA11+BD11+BG11+DU11+AI11+DR11+DO11+DL11+DI11+DF11+DC11+CZ11+CW11+CT11+CQ11+CN11+CK11+CH11+CE11+CB11+BY11+BV11+BS11+BP11+BM11+BJ11 -> 397050000 | EC11: =EB11-EK11+EL11 -> 0 | ED11: =D11+G11+J11+M11+P11+S11+V11+Y11+AB11+AE11+AH11+AK11+AN11+AQ11+AT11+AW11+AZ11+BC11+BF11+BI11+DW11+DT11+DQ11+DN11+DK11+DH11+DE11+DB11+CY11+CV11+CS11+CP11+CM11+CJ11+CG11+CD11+CA11+BX11+BU11+BR11+BO11+BL11 -> 50391.542 | EE11: =IF(EB11<>0,((ED11/EB11)*360),0) -> 0.045689346 | EG11: =Q11+T11+W11+Z11+AC11+AF11 -> 0 | EH11: =S11+V11+Y11+AB11+AE11+AH11 -> 0 | EI11: =IF(EG11<>0,((EH11/EG11)*360),0) -> 0 | EK11: =DR11+DL11+DI11+DF11+DC11+CZ11+CW11+CT11+CQ11+CN11+CK11+CH11+CE11+CB11+BY11+BV11+BS11+BP11+BM11+BJ11+BG11+BD11+BA11+AX11+AU11+AR11+AO11+AL11+AI11+DO11 -> 397050000 | EL11: =DX11 -> 0 | EM11: =DT11+DQ11+DN11+DK11+DH11+DE11+DB11+CY11+CV11+CS11+CP11+CM11+CJ11+CG11+CD11+CA11+BX11+BU11+BR11+BO11+BL11+BI11+BF11+BC11+AZ11+AW11+AT11+AQ11+AN11+AK11 -> 50391.542 | EN11: =IF(EK11<>0,((EM11/EK11)*360),0) -> 0.045689346
A12: =1+A11 -> 45871 | B12: 0 | C12: 0.04593261 | D12: =(B12*C12)/360 -> 0 | G12: =(E12*F12)/360 -> 0 | J12: =(H12*I12)/360 -> 0 | M12: =(K12*L12)/360 -> 0 | P12: =(N12*O12)/360 -> 0 | S12: =(Q12*R12)/360 -> 0 | V12: =(T12*U12)/360 -> 0 | Y12: =(W12*X12)/360 -> 0 | AB12: =(Z12*AA12)/360 -> 0 | AE12: 0 | AH12: 0 | AI12: =60000000+65000000+42050000 -> 167050000 | AJ12: 0.0451 | AK12: =(AI12*AJ12)/360 -> 20927.653 | AL12: =33905000+66095000+40000000 -> 140000000 | AM12: 0.046 | AN12: =(AL12*AM12)/360 -> 17888.889 | AO12: =50000000+40000000 -> 90000000 | AP12: 0.0463 | AQ12: =(AO12*AP12)/360 -> 11575 | AT12: =(AR12*AS12)/360 -> 0 | AW12: =(AU12*AV12)/360 -> 0 | AZ12: =(AX12*AY12)/360 -> 0 | BC12: =(BA12*BB12)/360 -> 0 | BF12: =(BD12*BE12)/360 -> 0 | BI12: =(BG12*BH12)/360 -> 0 | BL12: =(BJ12*BK12)/360 -> 0 | BO12: =(BM12*BN12)/360 -> 0 | BR12: =(BP12*BQ12)/360 -> 0 | BU12: =(BS12*BT12)/360 -> 0 | BX12: =(BV12*BW12)/360 -> 0 | CA12: =(BY12*BZ12)/360 -> 0 | CD12: =(CB12*CC12)/360 -> 0 | CG12: =(CE12*CF12)/360 -> 0 | CJ12: =(CH12*CI12)/360 -> 0 | CM12: =(CK12*CL12)/360 -> 0 | CP12: =(CN12*CO12)/360 -> 0 | CS12: =(CQ12*CR12)/360 -> 0 | CV12: =(CT12*CU12)/360 -> 0 | CY12: =(CW12*CX12)/360 -> 0 | DB12: =(CZ12*DA12)/360 -> 0 | DE12: =(DC12*DD12)/360 -> 0 | DH12: =(DF12*DG12)/360 -> 0 | DK12: =(DI12*DJ12)/360 -> 0 | DN12: =(DL12*DM12)/360 -> 0 | DQ12: =(DO12*DP12)/360 -> 0 | DT12: =(DR12*DS12)/360 -> 0 | DW12: =(DU12*DV12)/360 -> 0 | EB12: =B12+E12+H12+K12+N12+Q12+T12+W12+Z12+AC12+AF12+AL12+AO12+AR12+AU12+AX12+BA12+BD12+BG12+DU12+AI12+DR12+DO12+DL12+DI12+DF12+DC12+CZ12+CW12+CT12+CQ12+CN12+CK12+CH12+CE12+CB12+BY12+BV12+BS12+BP12+BM12+BJ12 -> 397050000 | EC12: =EB12-EK12+EL12 -> 0 | ED12: =D12+G12+J12+M12+P12+S12+V12+Y12+AB12+AE12+AH12+AK12+AN12+AQ12+AT12+AW12+AZ12+BC12+BF12+BI12+DW12+DT12+DQ12+DN12+DK12+DH12+DE12+DB12+CY12+CV12+CS12+CP12+CM12+CJ12+CG12+CD12+CA12+BX12+BU12+BR12+BO12+BL12 -> 50391.542 | EE12: =IF(EB12<>0,((ED12/EB12)*360),0) -> 0.045689346 | EG12: =Q12+T12+W12+Z12+AC12+AF12 -> 0 | EH12: =S12+V12+Y12+AB12+AE12+AH12 -> 0 | EI12: =IF(EG12<>0,((EH12/EG12)*360),0) -> 0 | EK12: =DR12+DL12+DI12+DF12+DC12+CZ12+CW12+CT12+CQ12+CN12+CK12+CH12+CE12+CB12+BY12+BV12+BS12+BP12+BM12+BJ12+BG12+BD12+BA12+AX12+AU12+AR12+AO12+AL12+AI12+DO12 -> 397050000 | EL12: =DX12 -> 0 | EM12: =DT12+DQ12+DN12+DK12+DH12+DE12+DB12+CY12+CV12+CS12+CP12+CM12+CJ12+CG12+CD12+CA12+BX12+BU12+BR12+BO12+BL12+BI12+BF12+BC12+AZ12+AW12+AT12+AQ12+AN12+AK12 -> 50391.542 | EN12: =IF(EK12<>0,((EM12/EK12)*360),0) -> 0.045689346
A13: =1+A12 -> 45872 | B13: 0 | C13: 0.04593261 | D13: =(B13*C13)/360 -> 0 | G13: =(E13*F13)/360 -> 0 | J13: =(H13*I13)/360 -> 0 | M13: =(K13*L13)/360 -> 0 | P13: =(N13*O13)/360 -> 0 | S13: =(Q13*R13)/360 -> 0 | V13: =(T13*U13)/360 -> 0 | Y13: =(W13*X13)/360 -> 0 | AB13: =(Z13*AA13)/360 -> 0 | AE13: 0 | AH13: 0 | AI13: =60000000+65000000+42050000 -> 167050000 | AJ13: 0.0451 | AK13: =(AI13*AJ13)/360 -> 20927.653 | AL13: =33905000+66095000+40000000 -> 140000000 | AM13: 0.046 | AN13: =(AL13*AM13)/360 -> 17888.889 | AO13: =50000000+40000000 -> 90000000 | AP13: 0.0463 | AQ13: =(AO13*AP13)/360 -> 11575 | AT13: =(AR13*AS13)/360 -> 0 | AW13: =(AU13*AV13)/360 -> 0 | AZ13: =(AX13*AY13)/360 -> 0 | BC13: =(BA13*BB13)/360 -> 0 | BF13: =(BD13*BE13)/360 -> 0 | BI13: =(BG13*BH13)/360 -> 0 | BL13: =(BJ13*BK13)/360 -> 0 | BO13: =(BM13*BN13)/360 -> 0 | BR13: =(BP13*BQ13)/360 -> 0 | BU13: =(BS13*BT13)/360 -> 0 | BX13: =(BV13*BW13)/360 -> 0 | CA13: =(BY13*BZ13)/360 -> 0 | CD13: =(CB13*CC13)/360 -> 0 | CG13: =(CE13*CF13)/360 -> 0 | CJ13: =(CH13*CI13)/360 -> 0 | CM13: =(CK13*CL13)/360 -> 0 | CP13: =(CN13*CO13)/360 -> 0 | CS13: =(CQ13*CR13)/360 -> 0 | CV13: =(CT13*CU13)/360 -> 0 | CY13: =(CW13*CX13)/360 -> 0 | DB13: =(CZ13*DA13)/360 -> 0 | DE13: =(DC13*DD13)/360 -> 0 | DH13: =(DF13*DG13)/360 -> 0 | DK13: =(DI13*DJ13)/360 -> 0 | DN13: =(DL13*DM13)/360 -> 0 | DQ13: =(DO13*DP13)/360 -> 0 | DT13: =(DR13*DS13)/360 -> 0 | DW13: =(DU13*DV13)/360 -> 0 | EB13: =B13+E13+H13+K13+N13+Q13+T13+W13+Z13+AC13+AF13+AL13+AO13+AR13+AU13+AX13+BA13+BD13+BG13+DU13+AI13+DR13+DO13+DL13+DI13+DF13+DC13+CZ13+CW13+CT13+CQ13+CN13+CK13+CH13+CE13+CB13+BY13+BV13+BS13+BP13+BM13+BJ13 -> 397050000 | EC13: =EB13-EK13+EL13 -> 0 | ED13: =D13+G13+J13+M13+P13+S13+V13+Y13+AB13+AE13+AH13+AK13+AN13+AQ13+AT13+AW13+AZ13+BC13+BF13+BI13+DW13+DT13+DQ13+DN13+DK13+DH13+DE13+DB13+CY13+CV13+CS13+CP13+CM13+CJ13+CG13+CD13+CA13+BX13+BU13+BR13+BO13+BL13 -> 50391.542 | EE13: =IF(EB13<>0,((ED13/EB13)*360),0) -> 0.045689346 | EG13: =Q13+T13+W13+Z13+AC13+AF13 -> 0 | EH13: =S13+V13+Y13+AB13+AE13+AH13 -> 0 | EI13: =IF(EG13<>0,((EH13/EG13)*360),0) -> 0 | EK13: =DR13+DL13+DI13+DF13+DC13+CZ13+CW13+CT13+CQ13+CN13+CK13+CH13+CE13+CB13+BY13+BV13+BS13+BP13+BM13+BJ13+BG13+BD13+BA13+AX13+AU13+AR13+AO13+AL13+AI13+DO13 -> 397050000 | EL13: =DX13 -> 0 | EM13: =DT13+DQ13+DN13+DK13+DH13+DE13+DB13+CY13+CV13+CS13+CP13+CM13+CJ13+CG13+CD13+CA13+BX13+BU13+BR13+BO13+BL13+BI13+BF13+BC13+AZ13+AW13+AT13+AQ13+AN13+AK13 -> 50391.542 | EN13: =IF(EK13<>0,((EM13/EK13)*360),0) -> 0.045689346
A14: =1+A13 -> 45873 | B14: 0 | C14: 0.04592166 | D14: =(B14*C14)/360 -> 0 | G14: =(E14*F14)/360 -> 0 | J14: =(H14*I14)/360 -> 0 | M14: =(K14*L14)/360 -> 0 | P14: =(N14*O14)/360 -> 0 | S14: =(Q14*R14)/360 -> 0 | V14: =(T14*U14)/360 -> 0 | Y14: =(W14*X14)/360 -> 0 | AB14: =(Z14*AA14)/360 -> 0 | AE14: 0 | AH14: 0 | AI14: =64400000+40000000 -> 104400000 | AJ14: 0.045 | AK14: =(AI14*AJ14)/360 -> 13050 | AL14: =33905000+66095000+40000000+42375000+27625000 -> 210000000 | AM14: 0.046 | AN14: =(AL14*AM14)/360 -> 26833.333 | AO14: =50000000+40000000 -> 90000000 | AP14: 0.0463 | AQ14: =(AO14*AP14)/360 -> 11575 | AT14: =(AR14*AS14)/360 -> 0 | AW14: =(AU14*AV14)/360 -> 0 | AZ14: =(AX14*AY14)/360 -> 0 | BC14: =(BA14*BB14)/360 -> 0 | BF14: =(BD14*BE14)/360 -> 0 | BI14: =(BG14*BH14)/360 -> 0 | BL14: =(BJ14*BK14)/360 -> 0 | BO14: =(BM14*BN14)/360 -> 0 | BR14: =(BP14*BQ14)/360 -> 0 | BU14: =(BS14*BT14)/360 -> 0 | BX14: =(BV14*BW14)/360 -> 0 | CA14: =(BY14*BZ14)/360 -> 0 | CD14: =(CB14*CC14)/360 -> 0 | CG14: =(CE14*CF14)/360 -> 0 | CJ14: =(CH14*CI14)/360 -> 0 | CM14: =(CK14*CL14)/360 -> 0 | CP14: =(CN14*CO14)/360 -> 0 | CS14: =(CQ14*CR14)/360 -> 0 | CV14: =(CT14*CU14)/360 -> 0 | CY14: =(CW14*CX14)/360 -> 0 | DB14: =(CZ14*DA14)/360 -> 0 | DE14: =(DC14*DD14)/360 -> 0 | DH14: =(DF14*DG14)/360 -> 0 | DK14: =(DI14*DJ14)/360 -> 0 | DN14: =(DL14*DM14)/360 -> 0 | DQ14: =(DO14*DP14)/360 -> 0 | DT14: =(DR14*DS14)/360 -> 0 | DW14: =(DU14*DV14)/360 -> 0 | EB14: =B14+E14+H14+K14+N14+Q14+T14+W14+Z14+AC14+AF14+AL14+AO14+AR14+AU14+AX14+BA14+BD14+BG14+DU14+AI14+DR14+DO14+DL14+DI14+DF14+DC14+CZ14+CW14+CT14+CQ14+CN14+CK14+CH14+CE14+CB14+BY14+BV14+BS14+BP14+BM14+BJ14 -> 404400000 | EC14: =EB14-EK14+EL14 -> 0 | ED14: =D14+G14+J14+M14+P14+S14+V14+Y14+AB14+AE14+AH14+AK14+AN14+AQ14+AT14+AW14+AZ14+BC14+BF14+BI14+DW14+DT14+DQ14+DN14+DK14+DH14+DE14+DB14+CY14+CV14+CS14+CP14+CM14+CJ14+CG14+CD14+CA14+BX14+BU14+BR14+BO14+BL14 -> 51458.333 | EE14: =IF(EB14<>0,((ED14/EB14)*360),0) -> 0.045808605 | EG14: =Q14+T14+W14+Z14+AC14+AF14 -> 0 | EH14: =S14+V14+Y14+AB14+AE14+AH14 -> 0 | EI14: =IF(EG14<>0,((EH14/EG14)*360),0) -> 0 | EK14: =DR14+DL14+DI14+DF14+DC14+CZ14+CW14+CT14+CQ14+CN14+CK14+CH14+CE14+CB14+BY14+BV14+BS14+BP14+BM14+BJ14+BG14+BD14+BA14+AX14+AU14+AR14+AO14+AL14+AI14+DO14 -> 404400000 | EL14: =DX14 -> 0 | EM14: =DT14+DQ14+DN14+DK14+DH14+DE14+DB14+CY14+CV14+CS14+CP14+CM14+CJ14+CG14+CD14+CA14+BX14+BU14+BR14+BO14+BL14+BI14+BF14+BC14+AZ14+AW14+AT14+AQ14+AN14+AK14 -> 51458.333 | EN14: =IF(EK14<>0,((EM14/EK14)*360),0) -> 0.045808605
A15: =1+A14 -> 45874 | B15: 0 | C15: 0.04592305 | D15: =(B15*C15)/360 -> 0 | G15: =(E15*F15)/360 -> 0 | J15: =(H15*I15)/360 -> 0 | M15: =(K15*L15)/360 -> 0 | P15: =(N15*O15)/360 -> 0 | S15: =(Q15*R15)/360 -> 0 | V15: =(T15*U15)/360 -> 0 | Y15: =(W15*X15)/360 -> 0 | AB15: =(Z15*AA15)/360 -> 0 | AE15: 0 | AH15: 0 | AI15: =75675000 -> 75675000 | AJ15: 0.045 | AK15: =(AI15*AJ15)/360 -> 9459.375 | AL15: =33905000+66095000+40000000+42375000+27625000 -> 210000000 | AM15: 0.046 | AN15: =(AL15*AM15)/360 -> 26833.333 | AO15: =50000000+40000000 -> 90000000 | AP15: 0.0463 | AQ15: =(AO15*AP15)/360 -> 11575 | AT15: =(AR15*AS15)/360 -> 0 | AW15: =(AU15*AV15)/360 -> 0 | AZ15: =(AX15*AY15)/360 -> 0 | BC15: =(BA15*BB15)/360 -> 0 | BF15: =(BD15*BE15)/360 -> 0 | BI15: =(BG15*BH15)/360 -> 0 | BL15: =(BJ15*BK15)/360 -> 0 | BO15: =(BM15*BN15)/360 -> 0 | BR15: =(BP15*BQ15)/360 -> 0 | BU15: =(BS15*BT15)/360 -> 0 | BX15: =(BV15*BW15)/360 -> 0 | CA15: =(BY15*BZ15)/360 -> 0 | CD15: =(CB15*CC15)/360 -> 0 | CG15: =(CE15*CF15)/360 -> 0 | CJ15: =(CH15*CI15)/360 -> 0 | CM15: =(CK15*CL15)/360 -> 0 | CP15: =(CN15*CO15)/360 -> 0 | CS15: =(CQ15*CR15)/360 -> 0 | CV15: =(CT15*CU15)/360 -> 0 | CY15: =(CW15*CX15)/360 -> 0 | DB15: =(CZ15*DA15)/360 -> 0 | DE15: =(DC15*DD15)/360 -> 0 | DH15: =(DF15*DG15)/360 -> 0 | DK15: =(DI15*DJ15)/360 -> 0 | DN15: =(DL15*DM15)/360 -> 0 | DQ15: =(DO15*DP15)/360 -> 0 | DT15: =(DR15*DS15)/360 -> 0 | DW15: =(DU15*DV15)/360 -> 0 | EB15: =B15+E15+H15+K15+N15+Q15+T15+W15+Z15+AC15+AF15+AL15+AO15+AR15+AU15+AX15+BA15+BD15+BG15+DU15+AI15+DR15+DO15+DL15+DI15+DF15+DC15+CZ15+CW15+CT15+CQ15+CN15+CK15+CH15+CE15+CB15+BY15+BV15+BS15+BP15+BM15+BJ15 -> 375675000 | EC15: =EB15-EK15+EL15 -> 0 | ED15: =D15+G15+J15+M15+P15+S15+V15+Y15+AB15+AE15+AH15+AK15+AN15+AQ15+AT15+AW15+AZ15+BC15+BF15+BI15+DW15+DT15+DQ15+DN15+DK15+DH15+DE15+DB15+CY15+CV15+CS15+CP15+CM15+CJ15+CG15+CD15+CA15+BX15+BU15+BR15+BO15+BL15 -> 47867.708 | EE15: =IF(EB15<>0,((ED15/EB15)*360),0) -> 0.045870433 | EG15: =Q15+T15+W15+Z15+AC15+AF15 -> 0 | EH15: =S15+V15+Y15+AB15+AE15+AH15 -> 0 | EI15: =IF(EG15<>0,((EH15/EG15)*360),0) -> 0 | EK15: =DR15+DL15+DI15+DF15+DC15+CZ15+CW15+CT15+CQ15+CN15+CK15+CH15+CE15+CB15+BY15+BV15+BS15+BP15+BM15+BJ15+BG15+BD15+BA15+AX15+AU15+AR15+AO15+AL15+AI15+DO15 -> 375675000 | EL15: =DX15 -> 0 | EM15: =DT15+DQ15+DN15+DK15+DH15+DE15+DB15+CY15+CV15+CS15+CP15+CM15+CJ15+CG15+CD15+CA15+BX15+BU15+BR15+BO15+BL15+BI15+BF15+BC15+AZ15+AW15+AT15+AQ15+AN15+AK15 -> 47867.708 | EN15: =IF(EK15<>0,((EM15/EK15)*360),0) -> 0.045870433
A16: =1+A15 -> 45875 | B16: 0 | C16: 0.04589711 | D16: =(B16*C16)/360 -> 0 | G16: =(E16*F16)/360 -> 0 | J16: =(H16*I16)/360 -> 0 | M16: =(K16*L16)/360 -> 0 | P16: =(N16*O16)/360 -> 0 | S16: =(Q16*R16)/360 -> 0 | V16: =(T16*U16)/360 -> 0 | Y16: =(W16*X16)/360 -> 0 | AB16: =(Z16*AA16)/360 -> 0 | AE16: 0 | AH16: 0 | AI16: =59600000 -> 59600000 | AJ16: 0.045 | AK16: =(AI16*AJ16)/360 -> 7450 | AL16: =33905000+66095000+40000000+42375000+27625000 -> 210000000 | AM16: 0.046 | AN16: =(AL16*AM16)/360 -> 26833.333 | AO16: =50000000+40000000 -> 90000000 | AP16: 0.0463 | AQ16: =(AO16*AP16)/360 -> 11575 | AT16: =(AR16*AS16)/360 -> 0 | AW16: =(AU16*AV16)/360 -> 0 | AZ16: =(AX16*AY16)/360 -> 0 | BC16: =(BA16*BB16)/360 -> 0 | BF16: =(BD16*BE16)/360 -> 0 | BI16: =(BG16*BH16)/360 -> 0 | BL16: =(BJ16*BK16)/360 -> 0 | BO16: =(BM16*BN16)/360 -> 0 | BR16: =(BP16*BQ16)/360 -> 0 | BU16: =(BS16*BT16)/360 -> 0 | BX16: =(BV16*BW16)/360 -> 0 | CA16: =(BY16*BZ16)/360 -> 0 | CD16: =(CB16*CC16)/360 -> 0 | CG16: =(CE16*CF16)/360 -> 0 | CJ16: =(CH16*CI16)/360 -> 0 | CM16: =(CK16*CL16)/360 -> 0 | CP16: =(CN16*CO16)/360 -> 0 | CS16: =(CQ16*CR16)/360 -> 0 | CV16: =(CT16*CU16)/360 -> 0 | CY16: =(CW16*CX16)/360 -> 0 | DB16: =(CZ16*DA16)/360 -> 0 | DE16: =(DC16*DD16)/360 -> 0 | DH16: =(DF16*DG16)/360 -> 0 | DK16: =(DI16*DJ16)/360 -> 0 | DN16: =(DL16*DM16)/360 -> 0 | DQ16: =(DO16*DP16)/360 -> 0 | DT16: =(DR16*DS16)/360 -> 0 | DW16: =(DU16*DV16)/360 -> 0 | EB16: =B16+E16+H16+K16+N16+Q16+T16+W16+Z16+AC16+AF16+AL16+AO16+AR16+AU16+AX16+BA16+BD16+BG16+DU16+AI16+DR16+DO16+DL16+DI16+DF16+DC16+CZ16+CW16+CT16+CQ16+CN16+CK16+CH16+CE16+CB16+BY16+BV16+BS16+BP16+BM16+BJ16 -> 359600000 | EC16: =EB16-EK16+EL16 -> 0 | ED16: =D16+G16+J16+M16+P16+S16+V16+Y16+AB16+AE16+AH16+AK16+AN16+AQ16+AT16+AW16+AZ16+BC16+BF16+BI16+DW16+DT16+DQ16+DN16+DK16+DH16+DE16+DB16+CY16+CV16+CS16+CP16+CM16+CJ16+CG16+CD16+CA16+BX16+BU16+BR16+BO16+BL16 -> 45858.333 | EE16: =IF(EB16<>0,((ED16/EB16)*360),0) -> 0.045909344 | EG16: =Q16+T16+W16+Z16+AC16+AF16 -> 0 | EH16: =S16+V16+Y16+AB16+AE16+AH16 -> 0 | EI16: =IF(EG16<>0,((EH16/EG16)*360),0) -> 0 | EK16: =DR16+DL16+DI16+DF16+DC16+CZ16+CW16+CT16+CQ16+CN16+CK16+CH16+CE16+CB16+BY16+BV16+BS16+BP16+BM16+BJ16+BG16+BD16+BA16+AX16+AU16+AR16+AO16+AL16+AI16+DO16 -> 359600000 | EL16: =DX16 -> 0 | EM16: =DT16+DQ16+DN16+DK16+DH16+DE16+DB16+CY16+CV16+CS16+CP16+CM16+CJ16+CG16+CD16+CA16+BX16+BU16+BR16+BO16+BL16+BI16+BF16+BC16+AZ16+AW16+AT16+AQ16+AN16+AK16 -> 45858.333 | EN16: =IF(EK16<>0,((EM16/EK16)*360),0) -> 0.045909344
A17: =1+A16 -> 45876 | B17: 0 | C17: 0.04572268 | D17: =(B17*C17)/360 -> 0 | G17: =(E17*F17)/360 -> 0 | J17: =(H17*I17)/360 -> 0 | M17: =(K17*L17)/360 -> 0 | P17: =(N17*O17)/360 -> 0 | S17: =(Q17*R17)/360 -> 0 | V17: =(T17*U17)/360 -> 0 | Y17: =(W17*X17)/360 -> 0 | AB17: =(Z17*AA17)/360 -> 0 | AE17: 0 | AH17: 0 | AI17: =88000000 -> 88000000 | AJ17: 0.045 | AK17: =(AI17*AJ17)/360 -> 11000 | AL17: =33905000+66095000+40000000+42375000+27625000 -> 210000000 | AM17: 0.046 | AN17: =(AL17*AM17)/360 -> 26833.333 | AO17: =50000000 -> 50000000 | AP17: 0.0463 | AQ17: =(AO17*AP17)/360 -> 6430.5556 | AT17: =(AR17*AS17)/360 -> 0 | AW17: =(AU17*AV17)/360 -> 0 | AZ17: =(AX17*AY17)/360 -> 0 | BC17: =(BA17*BB17)/360 -> 0 | BF17: =(BD17*BE17)/360 -> 0 | BI17: =(BG17*BH17)/360 -> 0 | BL17: =(BJ17*BK17)/360 -> 0 | BO17: =(BM17*BN17)/360 -> 0 | BR17: =(BP17*BQ17)/360 -> 0 | BU17: =(BS17*BT17)/360 -> 0 | BX17: =(BV17*BW17)/360 -> 0 | CA17: =(BY17*BZ17)/360 -> 0 | CD17: =(CB17*CC17)/360 -> 0 | CG17: =(CE17*CF17)/360 -> 0 | CJ17: =(CH17*CI17)/360 -> 0 | CM17: =(CK17*CL17)/360 -> 0 | CP17: =(CN17*CO17)/360 -> 0 | CS17: =(CQ17*CR17)/360 -> 0 | CV17: =(CT17*CU17)/360 -> 0 | CY17: =(CW17*CX17)/360 -> 0 | DB17: =(CZ17*DA17)/360 -> 0 | DE17: =(DC17*DD17)/360 -> 0 | DH17: =(DF17*DG17)/360 -> 0 | DK17: =(DI17*DJ17)/360 -> 0 | DN17: =(DL17*DM17)/360 -> 0 | DQ17: =(DO17*DP17)/360 -> 0 | DT17: =(DR17*DS17)/360 -> 0 | DW17: =(DU17*DV17)/360 -> 0 | EB17: =B17+E17+H17+K17+N17+Q17+T17+W17+Z17+AC17+AF17+AL17+AO17+AR17+AU17+AX17+BA17+BD17+BG17+DU17+AI17+DR17+DO17+DL17+DI17+DF17+DC17+CZ17+CW17+CT17+CQ17+CN17+CK17+CH17+CE17+CB17+BY17+BV17+BS17+BP17+BM17+BJ17 -> 348000000 | EC17: =EB17-EK17+EL17 -> 0 | ED17: =D17+G17+J17+M17+P17+S17+V17+Y17+AB17+AE17+AH17+AK17+AN17+AQ17+AT17+AW17+AZ17+BC17+BF17+BI17+DW17+DT17+DQ17+DN17+DK17+DH17+DE17+DB17+CY17+CV17+CS17+CP17+CM17+CJ17+CG17+CD17+CA17+BX17+BU17+BR17+BO17+BL17 -> 44263.889 | EE17: =IF(EB17<>0,((ED17/EB17)*360),0) -> 0.04579023 | EG17: =Q17+T17+W17+Z17+AC17+AF17 -> 0 | EH17: =S17+V17+Y17+AB17+AE17+AH17 -> 0 | EI17: =IF(EG17<>0,((EH17/EG17)*360),0) -> 0 | EK17: =DR17+DL17+DI17+DF17+DC17+CZ17+CW17+CT17+CQ17+CN17+CK17+CH17+CE17+CB17+BY17+BV17+BS17+BP17+BM17+BJ17+BG17+BD17+BA17+AX17+AU17+AR17+AO17+AL17+AI17+DO17 -> 348000000 | EL17: =DX17 -> 0 | EM17: =DT17+DQ17+DN17+DK17+DH17+DE17+DB17+CY17+CV17+CS17+CP17+CM17+CJ17+CG17+CD17+CA17+BX17+BU17+BR17+BO17+BL17+BI17+BF17+BC17+AZ17+AW17+AT17+AQ17+AN17+AK17 -> 44263.889 | EN17: =IF(EK17<>0,((EM17/EK17)*360),0) -> 0.04579023
A18: =1+A17 -> 45877 | B18: 0 | C18: 0.0457775 | D18: =(B18*C18)/360 -> 0 | G18: =(E18*F18)/360 -> 0 | J18: =(H18*I18)/360 -> 0 | M18: =(K18*L18)/360 -> 0 | P18: =(N18*O18)/360 -> 0 | S18: =(Q18*R18)/360 -> 0 | V18: =(T18*U18)/360 -> 0 | Y18: =(W18*X18)/360 -> 0 | AB18: =(Z18*AA18)/360 -> 0 | AE18: 0 | AH18: 0 | AI18: =124800000 -> 124800000 | AJ18: 0.045 | AK18: =(AI18*AJ18)/360 -> 15600 | AL18: =33905000+66095000+40000000+42375000+27625000 -> 210000000 | AM18: 0.046 | AN18: =(AL18*AM18)/360 -> 26833.333 | AQ18: =(AO18*AP18)/360 -> 0 | AT18: =(AR18*AS18)/360 -> 0 | AW18: =(AU18*AV18)/360 -> 0 | AZ18: =(AX18*AY18)/360 -> 0 | BC18: =(BA18*BB18)/360 -> 0 | BF18: =(BD18*BE18)/360 -> 0 | BI18: =(BG18*BH18)/360 -> 0 | BL18: =(BJ18*BK18)/360 -> 0 | BO18: =(BM18*BN18)/360 -> 0 | BR18: =(BP18*BQ18)/360 -> 0 | BU18: =(BS18*BT18)/360 -> 0 | BX18: =(BV18*BW18)/360 -> 0 | CA18: =(BY18*BZ18)/360 -> 0 | CD18: =(CB18*CC18)/360 -> 0 | CG18: =(CE18*CF18)/360 -> 0 | CJ18: =(CH18*CI18)/360 -> 0 | CM18: =(CK18*CL18)/360 -> 0 | CP18: =(CN18*CO18)/360 -> 0 | CS18: =(CQ18*CR18)/360 -> 0 | CV18: =(CT18*CU18)/360 -> 0 | CY18: =(CW18*CX18)/360 -> 0 | DB18: =(CZ18*DA18)/360 -> 0 | DE18: =(DC18*DD18)/360 -> 0 | DH18: =(DF18*DG18)/360 -> 0 | DK18: =(DI18*DJ18)/360 -> 0 | DN18: =(DL18*DM18)/360 -> 0 | DQ18: =(DO18*DP18)/360 -> 0 | DT18: =(DR18*DS18)/360 -> 0 | DW18: =(DU18*DV18)/360 -> 0 | EB18: =B18+E18+H18+K18+N18+Q18+T18+W18+Z18+AC18+AF18+AL18+AO18+AR18+AU18+AX18+BA18+BD18+BG18+DU18+AI18+DR18+DO18+DL18+DI18+DF18+DC18+CZ18+CW18+CT18+CQ18+CN18+CK18+CH18+CE18+CB18+BY18+BV18+BS18+BP18+BM18+BJ18 -> 334800000 | EC18: =EB18-EK18+EL18 -> 0 | ED18: =D18+G18+J18+M18+P18+S18+V18+Y18+AB18+AE18+AH18+AK18+AN18+AQ18+AT18+AW18+AZ18+BC18+BF18+BI18+DW18+DT18+DQ18+DN18+DK18+DH18+DE18+DB18+CY18+CV18+CS18+CP18+CM18+CJ18+CG18+CD18+CA18+BX18+BU18+BR18+BO18+BL18 -> 42433.333 | EE18: =IF(EB18<>0,((ED18/EB18)*360),0) -> 0.04562724 | EG18: =Q18+T18+W18+Z18+AC18+AF18 -> 0 | EH18: =S18+V18+Y18+AB18+AE18+AH18 -> 0 | EI18: =IF(EG18<>0,((EH18/EG18)*360),0) -> 0 | EK18: =DR18+DL18+DI18+DF18+DC18+CZ18+CW18+CT18+CQ18+CN18+CK18+CH18+CE18+CB18+BY18+BV18+BS18+BP18+BM18+BJ18+BG18+BD18+BA18+AX18+AU18+AR18+AO18+AL18+AI18+DO18 -> 334800000 | EL18: =DX18 -> 0 | EM18: =DT18+DQ18+DN18+DK18+DH18+DE18+DB18+CY18+CV18+CS18+CP18+CM18+CJ18+CG18+CD18+CA18+BX18+BU18+BR18+BO18+BL18+BI18+BF18+BC18+AZ18+AW18+AT18+AQ18+AN18+AK18 -> 42433.333 | EN18: =IF(EK18<>0,((EM18/EK18)*360),0) -> 0.04562724
