Workbook
Name SACTable1: 'Tie Out'!$B$2:$D$6
Name SACTable2: ZFICA!$A$1:$F$36
Name SACTable3: 'ZFICA Customer Detail'!$A$1:$I$5140
Name SAPCrosstab1: TB!$A$16:$J$25
Name SAPCrosstab3: #REF!

Sheet _com.sap.ip.bi.xl.hiddensheet

Sheet MOPSC
A1: Liberty Utilities
A2: Missouri Water
A4: Miscellaneous Revenue Summary
A5: 46295
A7: Profit Center Description | B7: Reg Acct | C7: Reg Account Description | D7: Line Item Description | E7: Sum of Amount
A8: All Other Water | B8: 21471003 | C8: Late Payment Fee | D8: Late Payment (Adj.Cr) | E8: =SUMIFS(ZFICA!F:F,ZFICA!H:H,MOPSC!A8,ZFICA!E:E,MOPSC!D8) -> 1327.74
A9: All Other Water | B9: 21471003 | C9: Late Payment Fee | D9: LPC from invoicing | E9: =SUMIFS(ZFICA!F:F,ZFICA!H:H,MOPSC!A9,ZFICA!E:E,MOPSC!D9) -> -33627
A10: All Other Water | B10: 21471004 | C10: Returned Check Charge | D10: Return Fee | E10: =SUMIFS(ZFICA!F:F,ZFICA!H:H,MOPSC!A10,ZFICA!E:E,MOPSC!D10) -> -225
A11: All Other Water | B11: 21474000 | C11: Othr Wtr Rev-Othr OpRvs-NAW76 | D11: MIsc. Charge | E11: =SUMIFS(ZFICA!F:F,ZFICA!H:H,MOPSC!A11,ZFICA!E:E,MOPSC!D11) -> 0
A12: All Other Water | B12: 21474000 | C12: Othr Wtr Rev-Othr OpRvs-NAW76 | D12: Misc. Credit | E12: =SUMIFS(ZFICA!F:F,ZFICA!H:H,MOPSC!A12,ZFICA!E:E,MOPSC!D12) -> 228.9
A13: All Other Water | B13: 21474000 | C13: Othr Wtr Rev-Othr OpRvs-NAW76 | D13: Manual Adjust. With TAX | E13: =SUMIFS(ZFICA!F:F,ZFICA!H:H,MOPSC!A13,ZFICA!E:E,MOPSC!D13) -> 0
A14: All Other Water | B14: 21474000 | C14: Othr Wtr Rev-Othr OpRvs-NAW76 | D14: Manual Adjust. With TAX Credit | E14: =SUMIFS(ZFICA!F:F,ZFICA!H:H,MOPSC!A14,ZFICA!E:E,MOPSC!D14) -> 1393.19
A15: All Other Water | B15: 21474000 | C15: Othr Wtr Rev-Othr OpRvs-NAW76 | D15: Move Out / Turn Off Fee | E15: =SUMIFS(ZFICA!F:F,ZFICA!H:H,MOPSC!A15,ZFICA!E:E,MOPSC!D15) -> -1400
A16: All Other Water | B16: 21474000 | C16: Othr Wtr Rev-Othr OpRvs-NAW76 | D16: Tampering Charges | E16: =SUMIFS(ZFICA!F:F,ZFICA!H:H,MOPSC!A16,ZFICA!E:E,MOPSC!D16) -> 0
A17: All Other Water | B17: 21471002 | C17: Establishment Fees | D17: Initiation Fee | E17: =SUMIFS(ZFICA!F:F,ZFICA!H:H,MOPSC!A17,ZFICA!E:E,MOPSC!D17) -> -2500
A18: All Other Water | B18: 21471002 | C18: Establishment Fees | D18: Connection Charge | E18: =SUMIFS(ZFICA!F:F,ZFICA!H:H,MOPSC!A18,ZFICA!E:E,MOPSC!D18) -> -800
A19: All Other Water | B19: 21471002 | C19: Establishment Fees | D19: After Hrs Connection Charge | E19: =SUMIFS(ZFICA!F:F,ZFICA!H:H,MOPSC!A19,ZFICA!E:E,MOPSC!D19) -> 0
... A54: Prairie Heights Sewer | B54: 22526002 | C54: Establishment Fees | D54: Initiation Fee | E54: =SUMIFS(ZFICA!F:F,ZFICA!H:H,MOPSC!A54,ZFICA!E:E,MOPSC!D54) -> 0
E55: =SUM(E8:E54) -> -73424.58
E56: =TB!J25 -> -73424.58 | F56: TB
E57: =E55-E56 -> 0 | F57: Variance | G57: (AS) 10/21/26 - noted check
A66: Reviewed By: | B66: Audrey Sobolesky
A67: Reviewed On: | B67: 46316

Sheet ZFICA
A1: 4AM_FICA_BILLING_QUERY
H2: (AS) 10/21/26 - reviewed parameters
E3: Measures | F3: BilledAmount
E4: PostingMonth | F4: 2026-09
A5: ProfitCenter | B5: GLAccount | C5: RegulatoryAccount | D5: Main-SubTrans | E5: NameofSubtransaction | F5: 2026-09 | G5: Reclassed Profit Center | H5: Profit Center Description | I5: GL Account | J5: Regulatory Account | K5: Regulatory Account Text | M5: TEXT
A6: 10224 Timbercreek Water | B6: 420540 Reg Water Rev Returned Check Charge | C6: 21471004 Returned Check Charge | D6: 70-20 | E6: Return Fee | F6: -225 | G6: =_xlfn.XLOOKUP(VALUE(LEFT(A6,5)),'PC Mapping'!A:A,'PC Mapping'!F:F) -> 10719 | H6: =VLOOKUP(G6,'PC Mapping'!L:M,2,) -> All Other Water | I6: =LEFT(B6,6) -> 420540 | J6: =LEFT(C6,8) -> 21471004 | K6: =MID(C6,10,60) -> Returned Check Charge | L6: Reclassed | M6: =_xlfn.CONCAT(H6,"-",LEFT(C6,8),"-",ZFICA!E6) -> All Other Water-21471004-Return Fee
A7: 10226 Ozark Mountain Water | B7: 420510 Reg Water Rev Establishment Fees | C7: 21471002 Establishment Fees | D7: 10-26 | E7: Connection Charge | F7: -50 | G7: =_xlfn.XLOOKUP(VALUE(LEFT(A7,5)),'PC Mapping'!A:A,'PC Mapping'!F:F) -> 10719 | H7: =VLOOKUP(G7,'PC Mapping'!L:M,2,) -> All Other Water | I7: =LEFT(B7,6) -> 420510 | J7: =LEFT(C7,8) -> 21471002 | K7: =MID(C7,10,60) -> Establishment Fees | M7: =_xlfn.CONCAT(H7,"-",LEFT(C7,8),"-",ZFICA!E7) -> All Other Water-21471002-Connection Charge
A8: 10226 Ozark Mountain Water | B8: 420510 Reg Water Rev Establishment Fees | C8: 21471002 Establishment Fees | D8: 10-44 | E8: Initiation Fee | F8: -50 | G8: =_xlfn.XLOOKUP(VALUE(LEFT(A8,5)),'PC Mapping'!A:A,'PC Mapping'!F:F) -> 10719 | H8: =VLOOKUP(G8,'PC Mapping'!L:M,2,) -> All Other Water | I8: =LEFT(B8,6) -> 420510 | J8: =LEFT(C8,8) -> 21471002 | K8: =MID(C8,10,60) -> Establishment Fees | M8: =_xlfn.CONCAT(H8,"-",LEFT(C8,8),"-",ZFICA!E8) -> All Other Water-21471002-Initiation Fee
A9: 10226 Ozark Mountain Water | B9: 420520 Reg Water Rev Late Payment Fee | C9: 21471003 Late Payment Fee | D9: 10-60 | E9: LPC from invoicing | F9: -10 | G9: =_xlfn.XLOOKUP(VALUE(LEFT(A9,5)),'PC Mapping'!A:A,'PC Mapping'!F:F) -> 10719 | H9: =VLOOKUP(G9,'PC Mapping'!L:M,2,) -> All Other Water | I9: =LEFT(B9,6) -> 420520 | J9: =LEFT(C9,8) -> 21471003 | K9: =MID(C9,10,60) -> Late Payment Fee | M9: =_xlfn.CONCAT(H9,"-",LEFT(C9,8),"-",ZFICA!E9) -> All Other Water-21471003-LPC from invoicing
A10: 10231 Noel Water | B10: 420510 Reg Water Rev Establishment Fees | C10: 21471002 Establishment Fees | D10: 10-26 | E10: Connection Charge | F10: -50 | G10: =_xlfn.XLOOKUP(VALUE(LEFT(A10,5)),'PC Mapping'!A:A,'PC Mapping'!F:F) -> 10719 | H10: =VLOOKUP(G10,'PC Mapping'!L:M,2,) -> All Other Water | I10: =LEFT(B10,6) -> 420510 | J10: =LEFT(C10,8) -> 21471002 | K10: =MID(C10,10,60) -> Establishment Fees | M10: =_xlfn.CONCAT(H10,"-",LEFT(C10,8),"-",ZFICA!E10) -> All Other Water-21471002-Connection Charge
A11: 10251 Missouri Water West-Empire Water | B11: 420500 Reg Water Rev Other / Misc Water Income | C11: 21474000 Othr Wtr Rev-Othr OpRvs-NAW76 | D11: 6000-110 | E11: Misc. Credit | F11: 50 | G11: =_xlfn.XLOOKUP(VALUE(LEFT(A11,5)),'PC Mapping'!A:A,'PC Mapping'!F:F) -> 10719 | H11: =VLOOKUP(G11,'PC Mapping'!L:M,2,) -> All Other Water | I11: =LEFT(B11,6) -> 420500 | J11: =LEFT(C11,8) -> 21474000 | K11: =MID(C11,10,60) -> Othr Wtr Rev-Othr OpRvs-NAW76 | M11: =_xlfn.CONCAT(H11,"-",LEFT(C11,8),"-",ZFICA!E11) -> All Other Water-21474000-Misc. Credit
A12: 10251 Missouri Water West-Empire Water | B12: 420510 Reg Water Rev Establishment Fees | C12: 21471002 Establishment Fees | D12: 10-44 | E12: Initiation Fee | F12: -150 | G12: =_xlfn.XLOOKUP(VALUE(LEFT(A12,5)),'PC Mapping'!A:A,'PC Mapping'!F:F) -> 10719 | H12: =VLOOKUP(G12,'PC Mapping'!L:M,2,) -> All Other Water | I12: =LEFT(B12,6) -> 420510 | J12: =LEFT(C12,8) -> 21471002 | K12: =MID(C12,10,60) -> Establishment Fees | M12: =_xlfn.CONCAT(H12,"-",LEFT(C12,8),"-",ZFICA!E12) -> All Other Water-21471002-Initiation Fee
A13: 10251 Missouri Water West-Empire Water | B13: 420520 Reg Water Rev Late Payment Fee | C13: 21471003 Late Payment Fee | D13: 10-60 | E13: LPC from invoicing | F13: -5 | G13: =_xlfn.XLOOKUP(VALUE(LEFT(A13,5)),'PC Mapping'!A:A,'PC Mapping'!F:F) -> 10719 | H13: =VLOOKUP(G13,'PC Mapping'!L:M,2,) -> All Other Water | I13: =LEFT(B13,6) -> 420520 | J13: =LEFT(C13,8) -> 21471003 | K13: =MID(C13,10,60) -> Late Payment Fee | M13: =_xlfn.CONCAT(H13,"-",LEFT(C13,8),"-",ZFICA!E13) -> All Other Water-21471003-LPC from invoicing
A14: 10469 City of Bolivar Water | B14: 420500 Reg Water Rev Other / Misc Water Income | C14: 21474000 Othr Wtr Rev-Othr OpRvs-NAW76 | D14: 10-23 | E14: Move Out / Turn Off Fee | F14: -1450 | G14: =_xlfn.XLOOKUP(VALUE(LEFT(A14,5)),'PC Mapping'!A:A,'PC Mapping'!F:F) -> 10469 | H14: =VLOOKUP(G14,'PC Mapping'!L:M,2,) -> Bolivar Water | I14: =LEFT(B14,6) -> 420500 | J14: =LEFT(C14,8) -> 21474000 | K14: =MID(C14,10,60) -> Othr Wtr Rev-Othr OpRvs-NAW76 | M14: =_xlfn.CONCAT(H14,"-",LEFT(C14,8),"-",ZFICA!E14) -> Bolivar Water-21474000-Move Out / Turn Off Fee
A15: 10469 City of Bolivar Water | B15: 420500 Reg Water Rev Other / Misc Water Income | C15: 21474000 Othr Wtr Rev-Othr OpRvs-NAW76 | D15: 6000-111 | E15: Manual Adjust. With TAX Credit | F15: 1465.37 | G15: =_xlfn.XLOOKUP(VALUE(LEFT(A15,5)),'PC Mapping'!A:A,'PC Mapping'!F:F) -> 10469 | H15: =VLOOKUP(G15,'PC Mapping'!L:M,2,) -> Bolivar Water | I15: =LEFT(B15,6) -> 420500 | J15: =LEFT(C15,8) -> 21474000 | K15: =MID(C15,10,60) -> Othr Wtr Rev-Othr OpRvs-NAW76 | M15: =_xlfn.CONCAT(H15,"-",LEFT(C15,8),"-",ZFICA!E15) -> Bolivar Water-21474000-Manual Adjust. With TAX Credit
A16: 10469 City of Bolivar Water | B16: 420510 Reg Water Rev Establishment Fees | C16: 21471002 Establishment Fees | D16: 10-26 | E16: Connection Charge | F16: -800 | G16: =_xlfn.XLOOKUP(VALUE(LEFT(A16,5)),'PC Mapping'!A:A,'PC Mapping'!F:F) -> 10469 | H16: =VLOOKUP(G16,'PC Mapping'!L:M,2,) -> Bolivar Water | I16: =LEFT(B16,6) -> 420510 | J16: =LEFT(C16,8) -> 21471002 | K16: =MID(C16,10,60) -> Establishment Fees | M16: =_xlfn.CONCAT(H16,"-",LEFT(C16,8),"-",ZFICA!E16) -> Bolivar Water-21471002-Connection Charge
A17: 10469 City of Bolivar Water | B17: 420510 Reg Water Rev Establishment Fees | C17: 21471002 Establishment Fees | D17: 10-34 | E17: Initiation Credit | F17: -25 | G17: =_xlfn.XLOOKUP(VALUE(LEFT(A17,5)),'PC Mapping'!A:A,'PC Mapping'!F:F) -> 10469 | H17: =VLOOKUP(G17,'PC Mapping'!L:M,2,) -> Bolivar Water | I17: =LEFT(B17,6) -> 420510 | J17: =LEFT(C17,8) -> 21471002 | K17: =MID(C17,10,60) -> Establishment Fees | M17: =_xlfn.CONCAT(H17,"-",LEFT(C17,8),"-",ZFICA!E17) -> Bolivar Water-21471002-Initiation Credit
A18: 10469 City of Bolivar Water | B18: 420510 Reg Water Rev Establishment Fees | C18: 21471002 Establishment Fees | D18: 10-44 | E18: Initiation Fee | F18: -2150 | G18: =_xlfn.XLOOKUP(VALUE(LEFT(A18,5)),'PC Mapping'!A:A,'PC Mapping'!F:F) -> 10469 | H18: =VLOOKUP(G18,'PC Mapping'!L:M,2,) -> Bolivar Water | I18: =LEFT(B18,6) -> 420510 | J18: =LEFT(C18,8) -> 21471002 | K18: =MID(C18,10,60) -> Establishment Fees | M18: =_xlfn.CONCAT(H18,"-",LEFT(C18,8),"-",ZFICA!E18) -> Bolivar Water-21471002-Initiation Fee
... A36: 10721 Silverleaf Sewer | B36: 430420 Reg Waste Rev Late Payment Fee | C36: 22526003 Late Payment Fee | D36: 10-60 | E36: LPC from invoicing | F36: -28.06 | G36: =_xlfn.XLOOKUP(VALUE(LEFT(A36,5)),'PC Mapping'!A:A,'PC Mapping'!F:F) -> 10721 | H36: =VLOOKUP(G36,'PC Mapping'!L:M,2,) -> Silverleaf Sewer | I36: =LEFT(B36,6) -> 430420 | J36: =LEFT(C36,8) -> 22526003 | K36: =MID(C36,10,60) -> Late Payment Fee | M36: =_xlfn.CONCAT(H36,"-",LEFT(C36,8),"-",ZFICA!E36) -> Silverleaf Sewer-22526003-LPC from invoicing
I37: =LEFT(B37,6) | J37: =LEFT(C37,8) | K37: =MID(C37,10,60)
I38: =LEFT(B38,6) | J38: =LEFT(C38,8) | K38: =MID(C38,10,60)
F43: Note: Added (null) to misc. credit line on MOPSC summary | G43: (AS) 10/21/26 - noted
F45: =SUM(F6:F43) -> -73424.58 | G45: Total
E46: =ROUND(SUM('ZFICA Customer Detail'!J6:J5434)-F45,2) -> 73424.58 | F46: =F45-TB!J25 -> 0 | G46: Difference | H46: (AS) 10/21/26 - noted check
A49: Reviewed By: | B49: Audrey Sobolesky
A50: Reviewed On: | B50: 46232

Sheet ZFICA Customer Detail
A1: 4AM_FICA_BILLING_QUERY
H3: Measures | I3: BilledAmount
H4: PostingMonth | I4: 2026-09 | K4: (AS) 10/21/26 - reviewed parameters
A5: ProfitCenter | B5: GLAccount | C5: RegulatoryAccount | D5: Main-SubTrans | E5: NameofSubtransaction | F5: Installation | G5: ADID | H5: ContractAccount
A6: 10224 Timbercreek Water | B6: 420540 Reg Water Rev Returned Check Charge | C6: 21471004 Returned Check Charge | D6: 70-20 | E6: Return Fee | F6: 7000796348 | G6: Residential | H6: 200011865553 | I6: -25
A7: 10224 Timbercreek Water | B7: 420540 Reg Water Rev Returned Check Charge | C7: 21471004 Returned Check Charge | D7: 70-20 | E7: Return Fee | F7: 7000916772 | G7: Residential | H7: 200012987133 | I7: -25
A8: 10224 Timbercreek Water | B8: 420540 Reg Water Rev Returned Check Charge | C8: 21471004 Returned Check Charge | D8: 70-20 | E8: Return Fee | F8: 7000940148 | G8: Residential | H8: 200014600528 | I8: -25
A9: 10224 Timbercreek Water | B9: 420540 Reg Water Rev Returned Check Charge | C9: 21471004 Returned Check Charge | D9: 70-20 | E9: Return Fee | F9: 7000966250 | G9: Residential | H9: 200011666126 | I9: -25
A10: 10224 Timbercreek Water | B10: 420540 Reg Water Rev Returned Check Charge | C10: 21471004 Returned Check Charge | D10: 70-20 | E10: Return Fee | F10: 7000980295 | G10: Residential | H10: 200017384641 | I10: -25
A11: 10224 Timbercreek Water | B11: 420540 Reg Water Rev Returned Check Charge | C11: 21471004 Returned Check Charge | D11: 70-20 | E11: Return Fee | F11: 7000990567 | G11: Residential | H11: 200013637208 | I11: -25
A12: 10224 Timbercreek Water | B12: 420540 Reg Water Rev Returned Check Charge | C12: 21471004 Returned Check Charge | D12: 70-20 | E12: Return Fee | F12: 7001005776 | G12: Residential | H12: 200016036564 | I12: -25
A13: 10224 Timbercreek Water | B13: 420540 Reg Water Rev Returned Check Charge | C13: 21471004 Returned Check Charge | D13: 70-20 | E13: Return Fee | F13: 7001005968 | G13: Residential | H13: 200016037505 | I13: -25
A14: 10224 Timbercreek Water | B14: 420540 Reg Water Rev Returned Check Charge | C14: 21471004 Returned Check Charge | D14: 70-20 | E14: Return Fee | F14: 7001083670 | G14: Residential | H14: 200013891284 | I14: -25
A15: 10226 Ozark Mountain Water | B15: 420510 Reg Water Rev Establishment Fees | C15: 21471002 Establishment Fees | D15: 10-26 | E15: Connection Charge | F15: 7000862547 | G15: Residential | H15: 200018276564 | I15: -50
A16: 10226 Ozark Mountain Water | B16: 420510 Reg Water Rev Establishment Fees | C16: 21471002 Establishment Fees | D16: 10-44 | E16: Initiation Fee | F16: 7000862355 | G16: Residential | H16: 200018379756 | I16: -50
A17: 10226 Ozark Mountain Water | B17: 420520 Reg Water Rev Late Payment Fee | C17: 21471003 Late Payment Fee | D17: 10-60 | E17: LPC from invoicing | F17: 7000915812 | G17: Residential | H17: 200018124293 | I17: -5
... A5140: 10721 Silverleaf Sewer | B5140: 430420 Reg Waste Rev Late Payment Fee | C5140: 22526003 Late Payment Fee | D5140: 10-60 | E5140: LPC from invoicing | F5140: 7001045451 | G5140: Residential | H5140: 200017845633 | I5140: -8.06

Sheet MOPSC Old
A1: Liberty Utilities
A2: Missouri Water
A4: Miscellaneous Revenue Summary
A5: 45838
A8: Profit Center Description | B8: G/L acct | C8: GL Account Description | D8: Line Item Description | E8: Sum of Amount
A9: All Other Sewer | B9: 430420 | C9: Wst Rev Late Payment | D9: Late Payment (Adj.Cr) | E9: 45
D10: LPC from invoicing | E10: -1361.56
B11: 430410 | C11: Wst Rev Establish | D11: Initiation Fee | E11: -50
B12: 430400 | C12: Wst Rev Other/Misc | D12: Misc. Credit | E12: 5
A13: All Other Water | B13: 420520 | C13: Wtr Rev Late Payment | D13: Late Payment (Adj.Cr) | E13: 460.21
D14: LPC from invoicing | E14: -19739.66
B15: 420540 | C15: Wtr Rev Returned Chk | D15: Return Fee (Adj.Cr) | E15: -100
B16: 420500 | C16: Wtr Rev Other/Misc | D16: MIsc. Charge | E16: -419.47
D17: Misc. Credit | E17: 7346.96
D18: Move Out / Turn Off Fee | E18: -1350
B19: 420510 | C19: Wtr Rev Establish | D19: Initiation Fee | E19: -2225
D20: Connection Charge | E20: -950
A21: Silverleaf Sewer | B21: 430420 | C21: Wst Rev Late Payment | D21: Late Payment (Adj.Cr) | E21: 25.49
D22: LPC from invoicing | E22: -144.1
A23: Bolivar Sewer | B23: 420520 | C23: Wtr Rev Late Payment | D23: Late Payment (Adj.Cr) | E23: 940.65
D24: LPC from invoicing | E24: -8752.78
B25: 420500 | C25: Wtr Rev Other/Misc | D25: MIsc. Charge | E25: -40.89
D26: Misc. Credit | E26: 273.03
D27: Move Out / Turn Off Fee | E27: -1250
B28: 420510 | C28: Wtr Rev Establish | D28: After Hrs Connection Charge | E28: 50
D29: Initiation Fee | E29: -3325
D30: Connection Charge | E30: -500
A31: Bolivar Water | B31: 430420 | C31: Wst Rev Late Payment | D31: Late Payment (Adj.Cr) | E31: 728.16
D32: LPC from invoicing | E32: -10175.86
B33: 430410 | C33: Wst Rev Establish | D33: Initiation Fee | E33: -1375
B34: 430400 | C34: Wst Rev Other/Misc | D34: Misc. Credit | E34: 122.36
A35: Prairie Heights Sewer | B35: 430420 | C35: Wst Rev Late Payment | D35: LPC from invoicing | E35: -109.36
B36: 430410 | C36: Wst Rev Establish | D36: Initiation Fee | E36: -50
A37: Grand Total | E37: -41921.82
E38: =E37-TB!J27 -> -41921.82
A39: Footnotes:
A40: (1) Please note that the Company is still working towards full consolidation for GL Reporting
A42: Reviewed By: | B42: Kendra Billings
A43: Reviewed On: | B43: 45826

Sheet Tie Out
B2: 4AM_FICA_BILLING_QUERY
D4: Measures
D5: PostingMonth
B6: RegulatoryAccount | C6: Main-SubTrans | D6: NameofSubtransaction | J6: GL
J7: =RIGHT(D7,6)
J8: =RIGHT(D8,6)
J9: =RIGHT(D9,6)
J10: =RIGHT(D10,6)
J11: =RIGHT(D11,6)
J12: =RIGHT(D12,6)
J13: =RIGHT(D13,6)
J14: =RIGHT(D14,6)
J15: =RIGHT(D15,6)
J16: =RIGHT(D16,6)
J17: =RIGHT(D17,6)
J18: =RIGHT(D18,6)
... J20: =RIGHT(D20,6)
J21: =RIGHT(D21,6) | T21: =RIGHT(N21,6)
J22: =RIGHT(D22,6) | T22: =RIGHT(N22,6)
J23: =RIGHT(D23,6) | T23: =RIGHT(N23,6)
J24: =RIGHT(D24,6) | T24: =RIGHT(N24,6)
J25: =RIGHT(D25,6) | S25: =SUM(H8:H33) -> 0 | T25: Total
J26: =RIGHT(D26,6)
J27: =RIGHT(D27,6)
J28: =RIGHT(D28,6)
J29: =RIGHT(D29,6)
J30: =RIGHT(D30,6)
J31: =RIGHT(D31,6)
J32: =RIGHT(D32,6)
J33: =RIGHT(D33,6)
J34: =RIGHT(D34,6)
J35: =RIGHT(D35,6)
J36: =RIGHT(D36,6)
J37: =RIGHT(D37,6)
... J49: =RIGHT(D49,6)
I50: =SUM(I7:I49) -> 0 | J50: Total
B51: GL | C51: ZFICA | D51: Trial Balance | E51: Variance | F51: Ganesh Misc Detail Extract | G51: Variance
B52: 420500 | C52: =SUMIF($J$7:$J$49,B52,$I$7:$I$49) -> 0 | D52: =SUMIF(TB!$G$17:$G$26,'Tie Out'!B52,TB!$J$17:$J$26) -> 237.46 | E52: =C52-D52 -> -237.46 | F52: =SUMIF('Misc Detail_Old'!H:H,'Tie Out'!B52,'Misc Detail_Old'!M:M) -> 4559.63 | G52: =D52-F52 -> -4322.17
B53: 420510 | C53: =SUMIF($J$7:$J$49,B53,$I$7:$I$49) -> 0 | D53: =SUMIF(TB!$G$17:$G$26,'Tie Out'!B53,TB!$J$17:$J$26) -> -6275 | E53: =C53-D53 -> 6275 | F53: =SUMIF('Misc Detail_Old'!H:H,'Tie Out'!B53,'Misc Detail_Old'!M:M) -> -6950 | G53: =D53-F53 -> 675
B54: 420520 | C54: =SUMIF($J$7:$J$49,B54,$I$7:$I$49) -> 0 | D54: =SUMIF(TB!$G$17:$G$26,'Tie Out'!B54,TB!$J$17:$J$26) -> -46658.46 | E54: =C54-D54 -> 46658.46 | F54: =SUMIF('Misc Detail_Old'!H:H,'Tie Out'!B54,'Misc Detail_Old'!M:M) -> -27091.58 | G54: =D54-F54 -> -19566.88
...

Sheet TB
A2: =_xll.SAPGetInfoLabel("DataSourceName") -> Data Source Name | B2: =_xll.SAPGetSourceInfo("DS_1", "DataSourceName") -> Trial Balance
A3: =_xll.SAPGetInfoLabel("LastDataUpdate") -> Last Data Update | B3: =_xll.SAPGetSourceInfo("DS_1", "LastDataUpdate") -> 46314.392
A4: =_xll.SAPGetInfoLabel("KeyDate") -> Key Date | B4: =_xll.SAPGetSourceInfo("DS_1", "KeyDate") -> 46314
A6: {=_xll.SAPListOfVariables("DS_1")} -> Ledger | B6: Leading Ledger
A7: Company Code | B7: LU (Missouri Water) LLC
A8: G/L Account | B8: Wtr Rev Other/Misc; Wtr Rev Establish; Wtr Rev Late Payment; Wtr Rev Returned Chk; Wst Rev Other/Misc; Wst Rev Establish; Wst Rev Late Payment
A9: Posting Date From | B9: 09/01/2026
A10: Posting Date To | B10: 09/30/2026 | C10: (AS) 10/21/26 - reviewed parameters
A11: Current Date (P_KeyDate) | B11: 10/19/2026
A12: Source Ledger | B12: Leading Ledger
A13: System Field USER | B13: LNICKOLAISE | G13: CS Entries only - does not show SA reclass adjustments | I13: (AS) 10/21/26 - noted
A14: Flow of Funds Ledger Fiscal Year | B14: 2026
A16: Company Code | B16: Company Code | C16: Regulatory Acc | D16: Regulatory Acc | E16: G/L Account | F16: G/L Account | G16: G/L Account | H16: Debit Balance in Company Code Currency | I16: Credit Balance in Company Code Currency | J16: Activity
A17: 3106 | B17: LU (Missouri Water) LLC | C17: 21471002 | D17: Establishment Fees | E17: OCOA/420510 | F17: Wtr Rev Establish | G17: 420510 | H17: 350 | I17: -6625 | J17: -6275
A18: 3106 | B18: LU (Missouri Water) LLC | C18: 21471003 | D18: Late Payment Fee | E18: OCOA/420520 | F18: Wtr Rev Late Payment | G18: 420520 | H18: 2100.74 | I18: -48759.2 | J18: -46658.46
A19: 3106 | B19: LU (Missouri Water) LLC | C19: 21471004 | D19: Returned Check Charge | E19: OCOA/420540 | F19: Wtr Rev Returned Chk | G19: 420540 | H19: 0 | I19: -225 | J19: -225
A20: 3106 | B20: LU (Missouri Water) LLC | C20: 21474000 | D20: Othr Wtr Rev-Othr OpRvs-NAW76 | E20: OCOA/420500 | F20: Wtr Rev Other/Misc | G20: 420500 | H20: 3673.27 | I20: -3435.81 | J20: 237.46
A21: 3106 | B21: LU (Missouri Water) LLC | C21: 22526002 | D21: Establishment Fees | E21: OCOA/430410 | F21: Wst Rev Establish | G21: 430410 | H21: 0 | I21: -275 | J21: -275
A22: 3106 | B22: LU (Missouri Water) LLC | C22: 22526003 | D22: Late Payment Fee | E22: OCOA/430420 | F22: Wst Rev Late Payment | G22: 430420 | H22: 400.92 | I22: -20658.76 | J22: -20257.84
A23: 3106 | B23: LU (Missouri Water) LLC | C23: 22536000 | D23: Misc OpRvs-Othr OpRvs-NAWW76 | E23: OCOA/430400 | F23: Wst Rev Other/Misc | G23: 430400 | H23: 29.26 | I23: 0 | J23: 29.26
A24: 3106 | B24: LU (Missouri Water) LLC | C24: 22999999 | D24: Default-NAWW76 | E24: OCOA/420520 | F24: Wtr Rev Late Payment | G24: 420520 | H24: 0 | I24: 0 | J24: 0
A25: Overall Result | H25: 6554.19 | I25: -79978.77 | J25: -73424.58

Sheet Main_Sub Desc
A1: HVORG | B1: TVORG | D1: Subtransaction
A2: 10 | B2: 10 | C2: =_xlfn.CONCAT(A2,"-",B2) -> 10-10 | D2: Dunning Charge (Stat)
A3: 10 | B3: 11 | C3: =_xlfn.CONCAT(A3,"-",B3) -> 10-11 | D3: Opt. In/Out Credit (AMI Meter)
A4: 10 | B4: 12 | C4: =_xlfn.CONCAT(A4,"-",B4) -> 10-12 | D4: Connect Chrg Seasonal (Adj.Cr)
A5: 10 | B5: 13 | C5: =_xlfn.CONCAT(A5,"-",B5) -> 10-13 | D5: Move Out / Turn Off Adj.Cr
A6: 10 | B6: 14 | C6: =_xlfn.CONCAT(A6,"-",B6) -> 10-14 | D6: DNP Reconnect Chrg (Adj.Cr)
A7: 10 | B7: 16 | C7: =_xlfn.CONCAT(A7,"-",B7) -> 10-16 | D7: Connection Credit
A8: 10 | B8: 18 | C8: =_xlfn.CONCAT(A8,"-",B8) -> 10-18 | D8: After Hrs Connection Credit
A9: 10 | B9: 20 | C9: =_xlfn.CONCAT(A9,"-",B9) -> 10-20 | D9: Dunning Charge (Real)
A10: 10 | B10: 21 | C10: =_xlfn.CONCAT(A10,"-",B10) -> 10-21 | D10: Opt. In/Out Fee (AMI Meter)
A11: 10 | B11: 22 | C11: =_xlfn.CONCAT(A11,"-",B11) -> 10-22 | D11: Connect Charges (Seasonal)
A12: 10 | B12: 23 | C12: =_xlfn.CONCAT(A12,"-",B12) -> 10-23 | D12: Move Out / Turn Off Fee
A13: 10 | B13: 24 | C13: =_xlfn.CONCAT(A13,"-",B13) -> 10-24 | D13: DNP Reconnect Charges(Regular)
... A17: 10 | B17: 32 | C17: =_xlfn.CONCAT(A17,"-",B17) -> 10-32 | D17: After Hrs Reconnection Credit
A18: 10 | B18: 34 | C18: =_xlfn.CONCAT(A18,"-",B18) -> 10-34 | D18: Initiation Credit | F18: 420500 | G18: Wtr Rev Other/Misc
A19: 10 | B19: 36 | C19: =_xlfn.CONCAT(A19,"-",B19) -> 10-36 | D19: Host Grp Net Metering Credit | F19: 420510 | G19: Wtr Rev Establish
A20: 10 | B20: 38 | C20: =_xlfn.CONCAT(A20,"-",B20) -> 10-38 | D20: Net Metering 2.0 Credit (Mkt) | F20: 420520 | G20: Wtr Rev Late Payment
A21: 10 | B21: 42 | C21: =_xlfn.CONCAT(A21,"-",B21) -> 10-42 | D21: After Hrs Reconnection Charge | F21: 420540 | G21: Wtr Rev Returned Chk
A22: 10 | B22: 44 | C22: =_xlfn.CONCAT(A22,"-",B22) -> 10-44 | D22: Initiation Fee | F22: 430400 | G22: Wst Rev Other/Misc
A23: 10 | B23: 46 | C23: =_xlfn.CONCAT(A23,"-",B23) -> 10-46 | D23: Host Grp Net Metering Charge | F23: 430410 | G23: Wst Rev Establish
A24: 10 | B24: 48 | C24: =_xlfn.CONCAT(A24,"-",B24) -> 10-48 | D24: Net Metering 2.0 Charge (Mkt) | F24: 430420 | G24: Wst Rev Late Payment
A25: 10 | B25: 50 | C25: =_xlfn.CONCAT(A25,"-",B25) -> 10-50 | D25: Late Payment (Adj.Cr)
A26: 10 | B26: 52 | C26: =_xlfn.CONCAT(A26,"-",B26) -> 10-52 | D26: After Hrs Low Income Con Cred
A27: 10 | B27: 54 | C27: =_xlfn.CONCAT(A27,"-",B27) -> 10-54 | D27: Low Income Reconnect Cred
A28: 10 | B28: 56 | C28: =_xlfn.CONCAT(A28,"-",B28) -> 10-56 | D28: Net Metering Credit
A29: 10 | B29: 58 | C29: =_xlfn.CONCAT(A29,"-",B29) -> 10-58 | D29: Marketer Intervl Use Data Cred
A30: 10 | B30: 60 | C30: =_xlfn.CONCAT(A30,"-",B30) -> 10-60 | D30: LPC from invoicing
A31: 10 | B31: 61 | C31: =_xlfn.CONCAT(A31,"-",B31) -> 10-61 | D31: LPC (Marketer) from invoicing
A32: 10 | B32: 62 | C32: =_xlfn.CONCAT(A32,"-",B32) -> 10-62 | D32: After Hrs Low Income Con Chrg
A33: 10 | B33: 64 | C33: =_xlfn.CONCAT(A33,"-",B33) -> 10-64 | D33: Low Income Reconnect Chrg
A34: 10 | B34: 66 | C34: =_xlfn.CONCAT(A34,"-",B34) -> 10-66 | D34: Net Metering Charge
A35: 10 | B35: 68 | C35: =_xlfn.CONCAT(A35,"-",B35) -> 10-68 | D35: Marketer Interval Use Data Fee
A36: 10 | B36: 74 | C36: =_xlfn.CONCAT(A36,"-",B36) -> 10-74 | D36: Low Income Reconnection Credit
... A65: 50 | B65: 120 | C65: =_xlfn.CONCAT(A65,"-",B65) -> 50-120 | D65: Budget billing request
A66: 51 | C66: =_xlfn.CONCAT(A66,"-",B66) -> 51- | D66: Budget Billing: Partial Bill
A67: 51 | B67: 1 | C67: =_xlfn.CONCAT(A67,"-",B67) -> 51-1 | D67: Credit for Partial Bill
A68: 51 | B68: 2 | C68: =_xlfn.CONCAT(A68,"-",B68) -> 51-2 | D68: Receivable for Partial Bill
A69: 51 | B69: 110 | C69: =_xlfn.CONCAT(A69,"-",B69) -> 51-110 | D69: Payment Request for Part. Bill
A70: 51 | B70: 120 | C70: =_xlfn.CONCAT(A70,"-",B70) -> 51-120 | D70: Request for Partial Bill
A71: 52 | C71: =_xlfn.CONCAT(A71,"-",B71) -> 52- | D71: Budget Billing: Payment Plan
...

Sheet PC Mapping
A1: Old PC | B1: Cl. | C1: CoCd | D1: Dv | E1: Service Area | F1: Profit Ctr | G1: Cost Ctr | H1: COact.asgn | I1: Valid From Date | J1: Valid To Date | L1: Profit Center | M1: Profit Center Description
A2: 10226 | B2: 100 | C2: 3106 | D2: 30 | E2: AURORA MO | F2: 10719 | G2: 1071995025 | H2: LU_MOEA | I2: 45717 | J2: 2958465 | L2: 10514 | M2: Bolivar Sewer
A3: 10233 | B3: 100 | C3: 3106 | D3: 30 | E3: BILYEU RIDGE MO | F3: 10719 | G3: 1071995014 | H3: LU_MOBIR | I3: 45717 | J3: 2958465 | L3: 10469 | M3: Bolivar Water
A4: 10228 | B4: 100 | C4: 3106 | D4: 30 | E4: CEDAR HILL ESTATES MO | F4: 10719 | G4: 1071995004 | H4: LU_MOKMC | I4: 45717 | J4: 2958465 | L4: 10719 | M4: All Other Water
A5: 10469 | B5: 100 | C5: 3106 | D5: 30 | E5: CITY OF BOLIVAR MO | F5: 10469 | G5: 1046995000 | H5: LU_MOCBW | I5: 45717 | J5: 2958465 | L5: 10720 | M5: All Other Sewer
A6: 10469 | B6: 100 | C6: 3106 | D6: 30 | E6: CITY OF BOLIVAR-SOUTH TOWN MO | F6: 10469 | G6: 1046995001 | H6: LU_MOCBWST | I6: 45717 | J6: 2958465 | L6: 10721 | M6: Silverleaf Sewer
A7: 10228 | B7: 100 | C7: 3106 | D7: 30 | E7: CRESTVIEW ACRES MO | F7: 10719 | G7: 1071995007 | H7: LU_MOKMR | I7: 45717 | J7: 2958465 | L7: 10636 | M7: Prairie Heights Sewer
A8: 10232 | B8: 100 | C8: 3106 | D8: 30 | E8: HIDDEN MEADOWS ESTATES MO | F8: 10719 | G8: 1071995013 | H8: LU_MOMLW | I8: 45717 | J8: 2958465
A9: 10228 | B9: 100 | C9: 3106 | D9: 30 | E9: HIGH RIDGE MANOR MO | F9: 10719 | G9: 1071995005 | H9: LU_MOKMH | I9: 45717 | J9: 2958465
A10: 10228 | B10: 100 | C10: 3106 | D10: 30 | E10: HILLSHIRE ACRES MO | F10: 10719 | G10: 1071995003 | H10: LU_MOKC | I10: 45717 | J10: 2958465
A11: 10230 | B11: 100 | C11: 3106 | D11: 30 | E11: HOLIDAY HILLS MO | F11: 10719 | G11: 1071995011 | H11: LU_MOHOH | I11: 45717 | J11: 2958465
A12: 10236 | B12: 100 | C12: 3106 | D12: 30 | E12: KISSEE MILLS MO | F12: 10719 | G12: 1071995021 | H12: LU_MOTL | I12: 45717 | J12: 2958465
A13: 10239 | B13: 100 | C13: 3106 | D13: 30 | E13: LAKE ST. CLAIR MO | F13: 10719 | G13: 1071995023 | H13: LU_MOFRC | I13: 45717 | J13: 2958465
A14: 10492 | B14: 100 | C14: 3106 | D14: 30 | E14: LAKELAND HEIGHTS MO | F14: 10719 | G14: 1071995028 | H14: LU_MOLAK | I14: 45717 | J14: 2958465
A15: 10228 | B15: 100 | C15: 3106 | D15: 30 | E15: LAKEWOOD HILLS MO | F15: 10719 | G15: 1071995008 | H15: LU_MOKML | I15: 45717 | J15: 2958465
A16: 10251 | B16: 100 | C16: 3106 | D16: 30 | E16: MARIONVILLE MO | F16: 10719 | G16: 1071995027 | H16: LU_MOEM | I16: 45717 | J16: 2958465
A17: 10234 | B17: 100 | C17: 3106 | D17: 30 | E17: MOORE BEND MO | F17: 10719 | G17: 1071995015 | H17: LU_MOMOB | I17: 45717 | J17: 2958465
A18: 10231 | B18: 100 | C18: 3106 | D18: 30 | E18: NOEL MO | F18: 10719 | G18: 1071995012 | H18: LU_MONW | I18: 45717 | J18: 2958465
A19: 10495 | B19: 100 | C19: 3106 | D19: 30 | E19: OAK BRIAR MO | F19: 10719 | G19: 1071995030 | H19: LU_MOOAB | I19: 45717 | J19: 2958465
... A39: 10238 | B39: 100 | C39: 3106 | D39: 40 | E39: VALLEY WOOD MO | F39: 10720 | G39: 1072095003 | H39: LU_MOVWS | I39: 45717 | J39: 2958465
A41: 10514 | F41: 10514
A42: 10469 | F42: 10469
A43: 10719 | F43: 10719
A44: 10720 | F44: 10720
A45: 10721 | F45: 10721
A46: 10636 | F46: 10636

Sheet Misc Detail_Old
A1: Provided By: Ganesh Chelamalla; CIS Integration Analyst
A2: Doc. No. | B2: Reconcil. Key | C2: DT | D2: OK | E2: Post. Date | F2: Rev. Doc. | G2: CoCd | H2: G/L acct | I2: Profit Ctr | J2: L | K2: Loc.curr.amount | L2: Crcy | M2: Amount | N2: Crcy | O2: Tx | P2: Tax Jur. | Q2: Doc. No.Profit Ctr | R2: CTyp | S2: Created By | T2: Entry Dte | U2: Tax Date | V2: Tax Base | W2: Crcy | X2: Orig.jurisdict. | Y2: Contract | Z2: Contract Account | AA2: Main Transaction | AB2: Subtransaction | AC2: Account determin. ID | AD2: Main/Sub | AE2: Line Item Description | AF2: GL Account Description | AG2: Profit Center | AH2: Profit Center Description
A3: 10535669707 | B3: 25175INV01AW | C3: FA | D3: R4 | E3: 45832 | F3: 52000480645 | G3: 3106 | H3: 420520 | I3: 10719 | J3: 0 | K3: -5 | M3: -5 | N3: USD | O3: O1 | P3: USMO6560526870 | Q3: 1053566970710719 | S3: BATCH_ID | T3: 45832 | U3: 45833 | V3: 0 | Y3: 3102244784 | Z3: 200016031672 | AA3: 0010 | AB3: 0060 | AC3: R1 | AD3: =CONCATENATE(VALUE(AA3),"-",VALUE(AB3)) -> 10-60 | AE3: =VLOOKUP(AD3,'Main_Sub Desc'!C:D,2,) -> LPC from invoicing | AF3: =VLOOKUP(VALUE(H3),'Main_Sub Desc'!F:G,2,) -> Wtr Rev Late Payment | AG3: =IFERROR(VLOOKUP(VALUE(I3),'PC Mapping'!A:F,6,),"") -> 10719 | AH3: =VLOOKUP(AG3,'PC Mapping'!L:M,2,) -> All Other Water
A4: 11200643865 | B4: 25162INV01AP | C4: FA | D4: R4 | E4: 45819 | F4: 52000481568 | G4: 3106 | H4: 430420 | I4: 10514 | J4: 0 | K4: -5 | M4: -5 | N4: USD | O4: O1 | P4: USMO6561328120 | Q4: 1120064386510514 | S4: BATCH_ID | T4: 45819 | U4: 45820 | V4: 0 | Y4: 3102042384 | Z4: 200015040104 | AA4: 0010 | AB4: 0060 | AC4: R1 | AD4: =CONCATENATE(VALUE(AA4),"-",VALUE(AB4)) -> 10-60 | AE4: =VLOOKUP(AD4,'Main_Sub Desc'!C:D,2,) -> LPC from invoicing | AF4: =VLOOKUP(VALUE(H4),'Main_Sub Desc'!F:G,2,) -> Wst Rev Late Payment | AG4: =IFERROR(VLOOKUP(VALUE(I4),'PC Mapping'!A:F,6,),"") -> 10514 | AH4: =VLOOKUP(AG4,'PC Mapping'!L:M,2,) -> Bolivar Sewer
A5: 11200643865 | B5: 25162INV01AP | C5: FA | D5: R4 | E5: 45819 | F5: 52000481568 | G5: 3106 | H5: 420520 | I5: 10469 | J5: 0 | K5: -5 | M5: -5 | N5: USD | O5: O1 | P5: USMO6561328120 | Q5: 1120064386510469 | S5: BATCH_ID | T5: 45819 | U5: 45820 | V5: 0 | Y5: 3102042383 | Z5: 200015040104 | AA5: 0010 | AB5: 0060 | AC5: R1 | AD5: =CONCATENATE(VALUE(AA5),"-",VALUE(AB5)) -> 10-60 | AE5: =VLOOKUP(AD5,'Main_Sub Desc'!C:D,2,) -> LPC from invoicing | AF5: =VLOOKUP(VALUE(H5),'Main_Sub Desc'!F:G,2,) -> Wtr Rev Late Payment | AG5: =IFERROR(VLOOKUP(VALUE(I5),'PC Mapping'!A:F,6,),"") -> 10469 | AH5: =VLOOKUP(AG5,'PC Mapping'!L:M,2,) -> Bolivar Water
A6: 11770599597 | B6: 25178INV01AJ | C6: FA | D6: R4 | E6: 45835 | F6: 52000480801 | G6: 3106 | H6: 420520 | I6: 10719 | J6: 0 | K6: -9.6 | M6: -9.6 | N6: USD | O6: O1 | P6: USMO6574096531 | Q6: 1177059959710719 | S6: BATCH_ID | T6: 45835 | U6: 45838 | V6: 0 | Y6: 3101582315 | Z6: 200014295006 | AA6: 0010 | AB6: 0060 | AC6: R1 | AD6: =CONCATENATE(VALUE(AA6),"-",VALUE(AB6)) -> 10-60 | AE6: =VLOOKUP(AD6,'Main_Sub Desc'!C:D,2,) -> LPC from invoicing | AF6: =VLOOKUP(VALUE(H6),'Main_Sub Desc'!F:G,2,) -> Wtr Rev Late Payment | AG6: =IFERROR(VLOOKUP(VALUE(I6),'PC Mapping'!A:F,6,),"") -> 10719 | AH6: =VLOOKUP(AG6,'PC Mapping'!L:M,2,) -> All Other Water
A7: 12625662574 | B7: 25181INV01BN | C7: FA | D7: R4 | E7: 45838 | G7: 3106 | H7: 430420 | I7: 10514 | J7: 0 | K7: -5 | M7: -5 | N7: USD | O7: O1 | P7: USMO6561333430 | Q7: 1262566257410514 | S7: BATCH_ID | T7: 45838 | U7: 45839 | V7: 0 | Y7: 3102256359 | Z7: 200016095644 | AA7: 0010 | AB7: 0060 | AC7: R1 | AD7: =CONCATENATE(VALUE(AA7),"-",VALUE(AB7)) -> 10-60 | AE7: =VLOOKUP(AD7,'Main_Sub Desc'!C:D,2,) -> LPC from invoicing | AF7: =VLOOKUP(VALUE(H7),'Main_Sub Desc'!F:G,2,) -> Wst Rev Late Payment | AG7: =IFERROR(VLOOKUP(VALUE(I7),'PC Mapping'!A:F,6,),"") -> 10514 | AH7: =VLOOKUP(AG7,'PC Mapping'!L:M,2,) -> Bolivar Sewer
A8: 12625662574 | B8: 25181INV01BN | C8: FA | D8: R4 | E8: 45838 | G8: 3106 | H8: 420520 | I8: 10469 | J8: 0 | K8: -5 | M8: -5 | N8: USD | O8: O1 | P8: USMO6561333430 | Q8: 1262566257410469 | S8: BATCH_ID | T8: 45838 | U8: 45839 | V8: 0 | Y8: 3102256358 | Z8: 200016095644 | AA8: 0010 | AB8: 0060 | AC8: R1 | AD8: =CONCATENATE(VALUE(AA8),"-",VALUE(AB8)) -> 10-60 | AE8: =VLOOKUP(AD8,'Main_Sub Desc'!C:D,2,) -> LPC from invoicing | AF8: =VLOOKUP(VALUE(H8),'Main_Sub Desc'!F:G,2,) -> Wtr Rev Late Payment | AG8: =IFERROR(VLOOKUP(VALUE(I8),'PC Mapping'!A:F,6,),"") -> 10469 | AH8: =VLOOKUP(AG8,'PC Mapping'!L:M,2,) -> Bolivar Water
A9: 13195654385 | B9: 25181INV01AY | C9: FA | D9: R4 | E9: 45838 | G9: 3106 | H9: 420520 | I9: 10469 | J9: 0 | K9: -5 | M9: -5 | N9: USD | O9: O1 | P9: USMO6561328910 | Q9: 1319565438510469 | S9: BATCH_ID | T9: 45838 | U9: 45839 | V9: 0 | Y9: 3102330753 | Z9: 200016467926 | AA9: 0010 | AB9: 0060 | AC9: R1 | AD9: =CONCATENATE(VALUE(AA9),"-",VALUE(AB9)) -> 10-60 | AE9: =VLOOKUP(AD9,'Main_Sub Desc'!C:D,2,) -> LPC from invoicing | AF9: =VLOOKUP(VALUE(H9),'Main_Sub Desc'!F:G,2,) -> Wtr Rev Late Payment | AG9: =IFERROR(VLOOKUP(VALUE(I9),'PC Mapping'!A:F,6,),"") -> 10469 | AH9: =VLOOKUP(AG9,'PC Mapping'!L:M,2,) -> Bolivar Water
A10: 13670652227 | B10: 25181INV01BE | C10: FA | D10: R4 | E10: 45838 | G10: 3106 | H10: 420520 | I10: 10719 | J10: 0 | K10: -5 | M10: -5 | N10: USD | O10: O1 | P10: USMO6574094551 | Q10: 1367065222710719 | S10: BATCH_ID | T10: 45838 | U10: 45839 | V10: 0 | Y10: 3102291204 | Z10: 200016270346 | AA10: 0010 | AB10: 0060 | AC10: R1 | AD10: =CONCATENATE(VALUE(AA10),"-",VALUE(AB10)) -> 10-60 | AE10: =VLOOKUP(AD10,'Main_Sub Desc'!C:D,2,) -> LPC from invoicing | AF10: =VLOOKUP(VALUE(H10),'Main_Sub Desc'!F:G,2,) -> Wtr Rev Late Payment | AG10: =IFERROR(VLOOKUP(VALUE(I10),'PC Mapping'!A:F,6,),"") -> 10719 | AH10: =VLOOKUP(AG10,'PC Mapping'!L:M,2,) -> All Other Water
A11: 14525647224 | B11: 25181INV01BD | C11: FA | D11: R4 | E11: 45838 | G11: 3106 | H11: 420520 | I11: 10469 | J11: 0 | K11: -5 | M11: -5 | N11: USD | O11: O1 | P11: USMO6561329830 | Q11: 1452564722410469 | S11: BATCH_ID | T11: 45838 | U11: 45839 | V11: 0 | Y11: 3102322690 | Z11: 200016427094 | AA11: 0010 | AB11: 0060 | AC11: R1 | AD11: =CONCATENATE(VALUE(AA11),"-",VALUE(AB11)) -> 10-60 | AE11: =VLOOKUP(AD11,'Main_Sub Desc'!C:D,2,) -> LPC from invoicing | AF11: =VLOOKUP(VALUE(H11),'Main_Sub Desc'!F:G,2,) -> Wtr Rev Late Payment | AG11: =IFERROR(VLOOKUP(VALUE(I11),'PC Mapping'!A:F,6,),"") -> 10469 | AH11: =VLOOKUP(AG11,'PC Mapping'!L:M,2,) -> Bolivar Water
A12: 14810639803 | B12: 25181INV01AG | C12: FA | D12: R4 | E12: 45838 | G12: 3106 | H12: 420520 | I12: 10469 | J12: 0 | K12: -5 | M12: -5 | N12: USD | O12: O1 | P12: USMO6561328330 | Q12: 1481063980310469 | S12: BATCH_ID | T12: 45838 | U12: 45839 | V12: 0 | Y12: 3101545017 | Z12: 200013598244 | AA12: 0010 | AB12: 0060 | AC12: R1 | AD12: =CONCATENATE(VALUE(AA12),"-",VALUE(AB12)) -> 10-60 | AE12: =VLOOKUP(AD12,'Main_Sub Desc'!C:D,2,) -> LPC from invoicing | AF12: =VLOOKUP(VALUE(H12),'Main_Sub Desc'!F:G,2,) -> Wtr Rev Late Payment | AG12: =IFERROR(VLOOKUP(VALUE(I12),'PC Mapping'!A:F,6,),"") -> 10469 | AH12: =VLOOKUP(AG12,'PC Mapping'!L:M,2,) -> Bolivar Water
A13: 14810639803 | B13: 25181INV01AG | C13: FA | D13: R4 | E13: 45838 | G13: 3106 | H13: 430420 | I13: 10514 | J13: 0 | K13: -5 | M13: -5 | N13: USD | O13: O1 | P13: USMO6561328330 | Q13: 1481063980310514 | S13: BATCH_ID | T13: 45838 | U13: 45839 | V13: 0 | Y13: 3101544921 | Z13: 200013598244 | AA13: 0010 | AB13: 0060 | AC13: R1 | AD13: =CONCATENATE(VALUE(AA13),"-",VALUE(AB13)) -> 10-60 | AE13: =VLOOKUP(AD13,'Main_Sub Desc'!C:D,2,) -> LPC from invoicing | AF13: =VLOOKUP(VALUE(H13),'Main_Sub Desc'!F:G,2,) -> Wst Rev Late Payment | AG13: =IFERROR(VLOOKUP(VALUE(I13),'PC Mapping'!A:F,6,),"") -> 10514 | AH13: =VLOOKUP(AG13,'PC Mapping'!L:M,2,) -> Bolivar Sewer
A14: 10001652163 | B14: R4-250601-00 | C14: FA | D14: R4 | E14: 45809 | G14: 3106 | H14: 420520 | I14: 10469 | J14: 0 | K14: -34.99 | M14: -34.99 | N14: USD | O14: O1 | P14: USMO6561316080 | Q14: 1000165216310469 | S14: MBOLICK | T14: 45809 | U14: 45810 | V14: 0 | Y14: 3101692202 | Z14: 200013164104 | AA14: 0010 | AB14: 0060 | AC14: R1 | AD14: =CONCATENATE(VALUE(AA14),"-",VALUE(AB14)) -> 10-60 | AE14: =VLOOKUP(AD14,'Main_Sub Desc'!C:D,2,) -> LPC from invoicing | AF14: =VLOOKUP(VALUE(H14),'Main_Sub Desc'!F:G,2,) -> Wtr Rev Late Payment | AG14: =IFERROR(VLOOKUP(VALUE(I14),'PC Mapping'!A:F,6,),"") -> 10469 | AH14: =VLOOKUP(AG14,'PC Mapping'!L:M,2,) -> Bolivar Water
A15: 10001652163 | B15: R4-250601-00 | C15: FA | D15: R4 | E15: 45809 | G15: 3106 | H15: 430420 | I15: 10514 | J15: 0 | K15: -42.31 | M15: -42.31 | N15: USD | O15: O1 | P15: USMO6561316080 | Q15: 1000165216310514 | S15: MBOLICK | T15: 45809 | U15: 45810 | V15: 0 | Y15: 3101692283 | Z15: 200013164104 | AA15: 0010 | AB15: 0060 | AC15: R1 | AD15: =CONCATENATE(VALUE(AA15),"-",VALUE(AB15)) -> 10-60 | AE15: =VLOOKUP(AD15,'Main_Sub Desc'!C:D,2,) -> LPC from invoicing | AF15: =VLOOKUP(VALUE(H15),'Main_Sub Desc'!F:G,2,) -> Wst Rev Late Payment | AG15: =IFERROR(VLOOKUP(VALUE(I15),'PC Mapping'!A:F,6,),"") -> 10514 | AH15: =VLOOKUP(AG15,'PC Mapping'!L:M,2,) -> Bolivar Sewer
A16: 10001652166 | B16: R4-250601-00 | C16: FA | D16: R4 | E16: 45809 | G16: 3106 | H16: 420520 | I16: 10469 | J16: 0 | K16: -34.99 | M16: -34.99 | N16: USD | O16: O1 | P16: USMO6561316080 | Q16: 1000165216610469 | S16: MBOLICK | T16: 45809 | U16: 45810 | V16: 0 | Y16: 3101692202 | Z16: 200013164104 | AA16: 0010 | AB16: 0060 | AC16: R1 | AD16: =CONCATENATE(VALUE(AA16),"-",VALUE(AB16)) -> 10-60 | AE16: =VLOOKUP(AD16,'Main_Sub Desc'!C:D,2,) -> LPC from invoicing | AF16: =VLOOKUP(VALUE(H16),'Main_Sub Desc'!F:G,2,) -> Wtr Rev Late Payment | AG16: =IFERROR(VLOOKUP(VALUE(I16),'PC Mapping'!A:F,6,),"") -> 10469 | AH16: =VLOOKUP(AG16,'PC Mapping'!L:M,2,) -> Bolivar Water
A17: 10001652166 | B17: R4-250601-00 | C17: FA | D17: R4 | E17: 45809 | G17: 3106 | H17: 430420 | I17: 10514 | J17: 0 | K17: -42.31 | M17: -42.31 | N17: USD | O17: O1 | P17: USMO6561316080 | Q17: 1000165216610514 | S17: MBOLICK | T17: 45809 | U17: 45810 | V17: 0 | Y17: 3101692283 | Z17: 200013164104 | AA17: 0010 | AB17: 0060 | AC17: R1 | AD17: =CONCATENATE(VALUE(AA17),"-",VALUE(AB17)) -> 10-60 | AE17: =VLOOKUP(AD17,'Main_Sub Desc'!C:D,2,) -> LPC from invoicing | AF17: =VLOOKUP(VALUE(H17),'Main_Sub Desc'!F:G,2,) -> Wst Rev Late Payment | AG17: =IFERROR(VLOOKUP(VALUE(I17),'PC Mapping'!A:F,6,),"") -> 10514 | AH17: =VLOOKUP(AG17,'PC Mapping'!L:M,2,) -> Bolivar Sewer
A18: 10001652170 | B18: R4-250601-00 | C18: FA | D18: R4 | E18: 45809 | G18: 3106 | H18: 420520 | I18: 10469 | J18: 0 | K18: -5 | M18: -5 | N18: USD | O18: O1 | P18: USMO6561316100 | Q18: 1000165217010469 | S18: MBOLICK | T18: 45809 | U18: 45810 | V18: 0 | Y18: 3101579759 | Z18: 200013350398 | AA18: 0010 | AB18: 0060 | AC18: R1 | AD18: =CONCATENATE(VALUE(AA18),"-",VALUE(AB18)) -> 10-60 | AE18: =VLOOKUP(AD18,'Main_Sub Desc'!C:D,2,) -> LPC from invoicing | AF18: =VLOOKUP(VALUE(H18),'Main_Sub Desc'!F:G,2,) -> Wtr Rev Late Payment | AG18: =IFERROR(VLOOKUP(VALUE(I18),'PC Mapping'!A:F,6,),"") -> 10469 | AH18: =VLOOKUP(AG18,'PC Mapping'!L:M,2,) -> Bolivar Water
... A47: 10001652434 | B47: R4-250602-00 | C47: FA | D47: R4 | E47: 45810 | G47: 3106 | H47: 430420 | I47: 10514 | J47: 0 | K47: -5 | M47: -5 | N47: USD | O47: O1 | P47: USMO6561333130 | Q47: 1000165243410514 | S47: TROSS2 | T47: 45810 | U47: 45811 | V47: 0 | Y47: 3102063965 | Z47: 200015139872 | AA47: 0010 | AB47: 0060 | AC47: R1 | AD47: =CONCATENATE(VALUE(AA47),"-",VALUE(AB47)) -> 10-60 | AE47: =VLOOKUP(AD47,'Main_Sub Desc'!C:D,2,) -> LPC from invoicing | AF47: =VLOOKUP(VALUE(H47),'Main_Sub Desc'!F:G,2,) -> Wst Rev Late Payment | AG47: =IFERROR(VLOOKUP(VALUE(I47),'PC Mapping'!A:F,6,),"") -> 10514 | AH47: =VLOOKUP(AG47,'PC Mapping'!L:M,2,) -> Bolivar Sewer
A48: 10001652490 | B48: R4-250602-00 | C48: FA | D48: R4 | E48: 45810 | F48: 52000469095 | G48: 3106 | H48: 430420 | I48: 10514 | J48: 0 | K48: -5 | M48: -5 | N48: USD | O48: O1 | P48: USMO6561360230 | Q48: 1000165249010514 | S48: SLONERO | T48: 45810 | U48: 45811 | V48: 0 | Y48: 3102266883 | Z48: 200016150084 | AA48: 0010 | AB48: 0060 | AC48: R1 | AD48: =CONCATENATE(VALUE(AA48),"-",VALUE(AB48)) -> 10-60 | AE48: =VLOOKUP(AD48,'Main_Sub Desc'!C:D,2,) -> LPC from invoicing | AF48: =VLOOKUP(VALUE(H48),'Main_Sub Desc'!F:G,2,) -> Wst Rev Late Payment | AG48: =IFERROR(VLOOKUP(VALUE(I48),'PC Mapping'!A:F,6,),"") -> 10514 | AH48: =VLOOKUP(AG48,'PC Mapping'!L:M,2,) -> Bolivar Sewer
A49: 10001652490 | B49: R4-250602-00 | C49: FA | D49: R4 | E49: 45810 | F49: 52000469095 | G49: 3106 | H49: 420520 | I49: 10469 | J49: 0 | K49: -5 | M49: -5 | N49: USD | O49: O1 | P49: USMO6561360230 | Q49: 1000165249010469 | S49: SLONERO | T49: 45810 | U49: 45811 | V49: 0 | Y49: 3102266882 | Z49: 200016150084 | AA49: 0010 | AB49: 0060 | AC49: R1 | AD49: =CONCATENATE(VALUE(AA49),"-",VALUE(AB49)) -> 10-60 | AE49: =VLOOKUP(AD49,'Main_Sub Desc'!C:D,2,) -> LPC from invoicing | AF49: =VLOOKUP(VALUE(H49),'Main_Sub Desc'!F:G,2,) -> Wtr Rev Late Payment | AG49: =IFERROR(VLOOKUP(VALUE(I49),'PC Mapping'!A:F,6,),"") -> 10469 | AH49: =VLOOKUP(AG49,'PC Mapping'!L:M,2,) -> Bolivar Water
A50: 10001652955 | B50: R4-250602-00 | C50: FA | D50: R4 | E50: 45810 | G50: 3106 | H50: 420520 | I50: 10469 | J50: 0 | K50: -5 | M50: -5 | N50: USD | O50: O1 | P50: USMO6561333660 | Q50: 1000165295510469 | S50: LJOHNSON3 | T50: 45810 | U50: 45811 | V50: 0 | Y50: 3102265362 | Z50: 200016139293 | AA50: 0010 | AB50: 0060 | AC50: R1 | AD50: =CONCATENATE(VALUE(AA50),"-",VALUE(AB50)) -> 10-60 | AE50: =VLOOKUP(AD50,'Main_Sub Desc'!C:D,2,) -> LPC from invoicing | AF50: =VLOOKUP(VALUE(H50),'Main_Sub Desc'!F:G,2,) -> Wtr Rev Late Payment | AG50: =IFERROR(VLOOKUP(VALUE(I50),'PC Mapping'!A:F,6,),"") -> 10469 | AH50: =VLOOKUP(AG50,'PC Mapping'!L:M,2,) -> Bolivar Water
A51: 10001652955 | B51: R4-250602-00 | C51: FA | D51: R4 | E51: 45810 | G51: 3106 | H51: 430420 | I51: 10514 | J51: 0 | K51: -5 | M51: -5 | N51: USD | O51: O1 | P51: USMO6561333660 | Q51: 1000165295510514 | S51: LJOHNSON3 | T51: 45810 | U51: 45811 | V51: 0 | Y51: 3102265363 | Z51: 200016139293 | AA51: 0010 | AB51: 0060 | AC51: R1 | AD51: =CONCATENATE(VALUE(AA51),"-",VALUE(AB51)) -> 10-60 | AE51: =VLOOKUP(AD51,'Main_Sub Desc'!C:D,2,) -> LPC from invoicing | AF51: =VLOOKUP(VALUE(H51),'Main_Sub Desc'!F:G,2,) -> Wst Rev Late Payment | AG51: =IFERROR(VLOOKUP(VALUE(I51),'PC Mapping'!A:F,6,),"") -> 10514 | AH51: =VLOOKUP(AG51,'PC Mapping'!L:M,2,) -> Bolivar Sewer
A52: 10001653020 | B52: R4-250602-00 | C52: FA | D52: R4 | E52: 45810 | G52: 3106 | H52: 430420 | I52: 10514 | J52: 0 | K52: -5 | M52: -5 | N52: USD | O52: O1 | P52: USMO6561333790 | Q52: 1000165302010514 | S52: TROSS2 | T52: 45810 | U52: 45811 | V52: 0 | Y52: 3101621165 | Z52: 200014111765 | AA52: 0010 | AB52: 0060 | AC52: C1 | AD52: =CONCATENATE(VALUE(AA52),"-",VALUE(AB52)) -> 10-60 | AE52: =VLOOKUP(AD52,'Main_Sub Desc'!C:D,2,) -> LPC from invoicing | AF52: =VLOOKUP(VALUE(H52),'Main_Sub Desc'!F:G,2,) -> Wst Rev Late Payment | AG52: =IFERROR(VLOOKUP(VALUE(I52),'PC Mapping'!A:F,6,),"") -> 10514 | AH52: =VLOOKUP(AG52,'PC Mapping'!L:M,2,) -> Bolivar Sewer
A53: 10001653181 | B53: R4-250603-00 | C53: FA | D53: R4 | E53: 45810 | G53: 3106 | H53: 430420 | I53: 10720 | J53: 0 | K53: -80.71 | M53: -80.71 | N53: USD | O53: O1 | P53: USMO6375541350 | Q53: 1000165318110720 | S53: ESCHOENBERG | T53: 45811 | U53: 45811 | V53: 0 | Y53: 3101227411 | Z53: 200010115497 | AA53: 0010 | AB53: 0060 | AC53: R1 | AD53: =CONCATENATE(VALUE(AA53),"-",VALUE(AB53)) -> 10-60 | AE53: =VLOOKUP(AD53,'Main_Sub Desc'!C:D,2,) -> LPC from invoicing | AF53: =VLOOKUP(VALUE(H53),'Main_Sub Desc'!F:G,2,) -> Wst Rev Late Payment | AG53: =IFERROR(VLOOKUP(VALUE(I53),'PC Mapping'!A:F,6,),"") -> 10720 | AH53: =VLOOKUP(AG53,'PC Mapping'!L:M,2,) -> All Other Sewer
A54: 10001653201 | B54: R4-250603-00 | C54: FA | D54: R4 | E54: 45811 | G54: 3106 | H54: 420520 | I54: 10469 | J54: 0 | K54: -5 | M54: -5 | N54: USD | O54: O1 | P54: USMO6561333790 | Q54: 1000165320110469 | S54: LDAWSON | T54: 45811 | U54: 45812 | V54: 0 | Y54: 3101621552 | Z54: 200013895020 | AA54: 0010 | AB54: 0060 | AC54: C1 | AD54: =CONCATENATE(VALUE(AA54),"-",VALUE(AB54)) -> 10-60 | AE54: =VLOOKUP(AD54,'Main_Sub Desc'!C:D,2,) -> LPC from invoicing | AF54: =VLOOKUP(VALUE(H54),'Main_Sub Desc'!F:G,2,) -> Wtr Rev Late Payment | AG54: =IFERROR(VLOOKUP(VALUE(I54),'PC Mapping'!A:F,6,),"") -> 10469 | AH54: =VLOOKUP(AG54,'PC Mapping'!L:M,2,) -> Bolivar Water
A55: 10001653264 | B55: R4-250603-00 | C55: FA | D55: R4 | E55: 45810 | G55: 3106 | H55: 420520 | I55: 10719 | J55: 0 | K55: -25.86 | M55: -25.86 | N55: USD | O55: O1 | P55: USMO6560584430 | Q55: 1000165326410719 | S55: SLONERO | T55: 45811 | U55: 45811 | V55: 0 | Y55: 3101489466 | Z55: 200012458507 | AA55: 0010 | AB55: 0060 | AC55: C1 | AD55: =CONCATENATE(VALUE(AA55),"-",VALUE(AB55)) -> 10-60 | AE55: =VLOOKUP(AD55,'Main_Sub Desc'!C:D,2,) -> LPC from invoicing | AF55: =VLOOKUP(VALUE(H55),'Main_Sub Desc'!F:G,2,) -> Wtr Rev Late Payment | AG55: =IFERROR(VLOOKUP(VALUE(I55),'PC Mapping'!A:F,6,),"") -> 10719 | AH55: =VLOOKUP(AG55,'PC Mapping'!L:M,2,) -> All Other Water
A56: 10001653293 | B56: R4-250603-00 | C56: FA | D56: R4 | E56: 45810 | G56: 3106 | H56: 420520 | I56: 10719 | J56: 0 | K56: -165.77 | M56: -165.77 | N56: USD | O56: O1 | P56: USMO6576981690 | Q56: 1000165329310719 | S56: SLONERO | T56: 45811 | U56: 45811 | V56: 0 | Y56: 3101553151 | Z56: 200013829508 | AA56: 0010 | AB56: 0060 | AC56: I1 | AD56: =CONCATENATE(VALUE(AA56),"-",VALUE(AB56)) -> 10-60 | AE56: =VLOOKUP(AD56,'Main_Sub Desc'!C:D,2,) -> LPC from invoicing | AF56: =VLOOKUP(VALUE(H56),'Main_Sub Desc'!F:G,2,) -> Wtr Rev Late Payment | AG56: =IFERROR(VLOOKUP(VALUE(I56),'PC Mapping'!A:F,6,),"") -> 10719 | AH56: =VLOOKUP(AG56,'PC Mapping'!L:M,2,) -> All Other Water
A57: 10001653305 | B57: R4-250603-00 | C57: FA | D57: R4 | E57: 45810 | G57: 3106 | H57: 420520 | I57: 10719 | J57: 0 | K57: -71.76 | M57: -71.76 | N57: USD | O57: O1 | P57: USMO6576973520 | Q57: 1000165330510719 | S57: SLONERO | T57: 45811 | U57: 45811 | V57: 0 | Y57: 3101592590 | Z57: 200012776643 | AA57: 0010 | AB57: 0060 | AC57: I1 | AD57: =CONCATENATE(VALUE(AA57),"-",VALUE(AB57)) -> 10-60 | AE57: =VLOOKUP(AD57,'Main_Sub Desc'!C:D,2,) -> LPC from invoicing | AF57: =VLOOKUP(VALUE(H57),'Main_Sub Desc'!F:G,2,) -> Wtr Rev Late Payment | AG57: =IFERROR(VLOOKUP(VALUE(I57),'PC Mapping'!A:F,6,),"") -> 10719 | AH57: =VLOOKUP(AG57,'PC Mapping'!L:M,2,) -> All Other Water
A58: 10001653391 | B58: R4-250603-00 | C58: FA | D58: R4 | E58: 45810 | G58: 3106 | H58: 420520 | I58: 10719 | J58: 0 | K58: -9.92 | M58: -9.92 | N58: USD | O58: O1 | P58: USMO6485492210 | Q58: 1000165339110719 | S58: SLONERO | T58: 45811 | U58: 45811 | V58: 0 | Y58: 3101496800 | Z58: 200013607201 | AA58: 0010 | AB58: 0060 | AC58: C1 | AD58: =CONCATENATE(VALUE(AA58),"-",VALUE(AB58)) -> 10-60 | AE58: =VLOOKUP(AD58,'Main_Sub Desc'!C:D,2,) -> LPC from invoicing | AF58: =VLOOKUP(VALUE(H58),'Main_Sub Desc'!F:G,2,) -> Wtr Rev Late Payment | AG58: =IFERROR(VLOOKUP(VALUE(I58),'PC Mapping'!A:F,6,),"") -> 10719 | AH58: =VLOOKUP(AG58,'PC Mapping'!L:M,2,) -> All Other Water
A59: 10001653407 | B59: R4-250603-00 | C59: FA | D59: R4 | E59: 45810 | G59: 3106 | H59: 420520 | I59: 10719 | J59: 0 | K59: -128.74 | M59: -128.74 | N59: USD | O59: O1 | P59: USMO6560527170 | Q59: 1000165340710719 | S59: SLONERO | T59: 45811 | U59: 45811 | V59: 0 | Y59: 3101680269 | Z59: 200011726185 | AA59: 0010 | AB59: 0060 | AC59: C1 | AD59: =CONCATENATE(VALUE(AA59),"-",VALUE(AB59)) -> 10-60 | AE59: =VLOOKUP(AD59,'Main_Sub Desc'!C:D,2,) -> LPC from invoicing | AF59: =VLOOKUP(VALUE(H59),'Main_Sub Desc'!F:G,2,) -> Wtr Rev Late Payment | AG59: =IFERROR(VLOOKUP(VALUE(I59),'PC Mapping'!A:F,6,),"") -> 10719 | AH59: =VLOOKUP(AG59,'PC Mapping'!L:M,2,) -> All Other Water
A60: 10001653432 | B60: R4-250603-00 | C60: FA | D60: R4 | E60: 45810 | G60: 3106 | H60: 420520 | I60: 10719 | J60: 0 | K60: -20.38 | M60: -20.38 | N60: USD | O60: O1 | P60: USMO6576981680 | Q60: 1000165343210719 | S60: SLONERO | T60: 45811 | U60: 45811 | V60: 0 | Y60: 3101672475 | Z60: 200013829920 | AA60: 0010 | AB60: 0060 | AC60: I1 | AD60: =CONCATENATE(VALUE(AA60),"-",VALUE(AB60)) -> 10-60 | AE60: =VLOOKUP(AD60,'Main_Sub Desc'!C:D,2,) -> LPC from invoicing | AF60: =VLOOKUP(VALUE(H60),'Main_Sub Desc'!F:G,2,) -> Wtr Rev Late Payment | AG60: =IFERROR(VLOOKUP(VALUE(I60),'PC Mapping'!A:F,6,),"") -> 10719 | AH60: =VLOOKUP(AG60,'PC Mapping'!L:M,2,) -> All Other Water
A61: 10001653436 | B61: R4-250603-00 | C61: FA | D61: R4 | E61: 45810 | G61: 3106 | H61: 420520 | I61: 10719 | J61: 0 | K61: -15.93 | M61: -15.93 | N61: USD | O61: O1 | P61: USMO6560513250 | Q61: 1000165343610719 | S61: SLONERO | T61: 45811 | U61: 45811 | V61: 0 | Y61: 3101518610 | Z61: 200012458424 | AA61: 0010 | AB61: 0060 | AC61: C1 | AD61: =CONCATENATE(VALUE(AA61),"-",VALUE(AB61)) -> 10-60 | AE61: =VLOOKUP(AD61,'Main_Sub Desc'!C:D,2,) -> LPC from invoicing | AF61: =VLOOKUP(VALUE(H61),'Main_Sub Desc'!F:G,2,) -> Wtr Rev Late Payment | AG61: =IFERROR(VLOOKUP(VALUE(I61),'PC Mapping'!A:F,6,),"") -> 10719 | AH61: =VLOOKUP(AG61,'PC Mapping'!L:M,2,) -> All Other Water
... A155: 10001654888 | B155: R4-250603-00 | C155: FA | D155: R4 | E155: 45811 | G155: 3106 | H155: 430420 | I155: 10514 | J155: 0 | K155: -5 | M155: -5 | N155: USD | O155: O1 | P155: USMO6561316710 | Q155: 1000165488810514 | S155: TROSS2 | T155: 45811 | U155: 45812 | V155: 0 | Y155: 3101599604 | Z155: 200013618141 | AA155: 0010 | AB155: 0060 | AC155: R1 | AD155: =CONCATENATE(VALUE(AA155),"-",VALUE(AB155)) -> 10-60 | AE155: =VLOOKUP(AD155,'Main_Sub Desc'!C:D,2,) -> LPC from invoicing | AF155: =VLOOKUP(VALUE(H155),'Main_Sub Desc'!F:G,2,) -> Wst Rev Late Payment | AG155: =IFERROR(VLOOKUP(VALUE(I155),'PC Mapping'!A:F,6,),"") -> 10514 | AH155: =VLOOKUP(AG155,'PC Mapping'!L:M,2,) -> Bolivar Sewer
A156: 10001654932 | B156: R4-250603-00 | C156: FA | D156: R4 | E156: 45811 | F156: 10001656806 | G156: 3106 | H156: 420520 | I156: 10469 | J156: 0 | K156: -5 | M156: -5 | N156: USD | O156: O1 | P156: USMO6561311240 | Q156: 1000165493210469 | S156: TROSS2 | T156: 45811 | U156: 45812 | V156: 0 | Y156: 3102277310 | Z156: 200016201531 | AA156: 0010 | AB156: 0060 | AC156: R1 | AD156: =CONCATENATE(VALUE(AA156),"-",VALUE(AB156)) -> 10-60 | AE156: =VLOOKUP(AD156,'Main_Sub Desc'!C:D,2,) -> LPC from invoicing | AF156: =VLOOKUP(VALUE(H156),'Main_Sub Desc'!F:G,2,) -> Wtr Rev Late Payment | AG156: =IFERROR(VLOOKUP(VALUE(I156),'PC Mapping'!A:F,6,),"") -> 10469 | AH156: =VLOOKUP(AG156,'PC Mapping'!L:M,2,) -> Bolivar Water
A157: 10001655222 | B157: R4-250604-00 | C157: FA | D157: R4 | E157: 45811 | G157: 3106 | H157: 420520 | I157: 10719 | J157: 0 | K157: -13.27 | M157: -13.27 | N157: USD | O157: O1 | P157: USMO6560519960 | Q157: 1000165522210719 | S157: SLONERO | T157: 45812 | U157: 45812 | V157: 0 | Y157: 3101683262 | Z157: 200012562498 | AA157: 0010 | AB157: 0060 | AC157: C1 | AD157: =CONCATENATE(VALUE(AA157),"-",VALUE(AB157)) -> 10-60 | AE157: =VLOOKUP(AD157,'Main_Sub Desc'!C:D,2,) -> LPC from invoicing | AF157: =VLOOKUP(VALUE(H157),'Main_Sub Desc'!F:G,2,) -> Wtr Rev Late Payment | AG157: =IFERROR(VLOOKUP(VALUE(I157),'PC Mapping'!A:F,6,),"") -> 10719 | AH157: =VLOOKUP(AG157,'PC Mapping'!L:M,2,) -> All Other Water
A158: 10001655229 | B158: R4-250604-00 | C158: FA | D158: R4 | E158: 45811 | G158: 3106 | H158: 420520 | I158: 10719 | J158: 0 | K158: -5 | M158: -5 | N158: USD | O158: O1 | P158: USMO6560521480 | Q158: 1000165522910719 | S158: SLONERO | T158: 45812 | U158: 45812 | V158: 0 | Y158: 3101664186 | Z158: 200013321357 | AA158: 0010 | AB158: 0060 | AC158: C1 | AD158: =CONCATENATE(VALUE(AA158),"-",VALUE(AB158)) -> 10-60 | AE158: =VLOOKUP(AD158,'Main_Sub Desc'!C:D,2,) -> LPC from invoicing | AF158: =VLOOKUP(VALUE(H158),'Main_Sub Desc'!F:G,2,) -> Wtr Rev Late Payment | AG158: =IFERROR(VLOOKUP(VALUE(I158),'PC Mapping'!A:F,6,),"") -> 10719 | AH158: =VLOOKUP(AG158,'PC Mapping'!L:M,2,) -> All Other Water
A159: 10001655265 | B159: R4-250604-00 | C159: FA | D159: R4 | E159: 45811 | G159: 3106 | H159: 420520 | I159: 10719 | J159: 0 | K159: -5 | M159: -5 | N159: USD | O159: O1 | P159: USMO6560596170 | Q159: 1000165526510719 | S159: SLONERO | T159: 45812 | U159: 45812 | V159: 0 | Y159: 3101483902 | Z159: 200013284548 | AA159: 0010 | AB159: 0060 | AC159: C1 | AD159: =CONCATENATE(VALUE(AA159),"-",VALUE(AB159)) -> 10-60 | AE159: =VLOOKUP(AD159,'Main_Sub Desc'!C:D,2,) -> LPC from invoicing | AF159: =VLOOKUP(VALUE(H159),'Main_Sub Desc'!F:G,2,) -> Wtr Rev Late Payment | AG159: =IFERROR(VLOOKUP(VALUE(I159),'PC Mapping'!A:F,6,),"") -> 10719 | AH159: =VLOOKUP(AG159,'PC Mapping'!L:M,2,) -> All Other Water
A160: 10001655271 | B160: R4-250604-00 | C160: FA | D160: R4 | E160: 45811 | G160: 3106 | H160: 420520 | I160: 10719 | J160: 0 | K160: -11.24 | M160: -11.24 | N160: USD | O160: O1 | P160: USMO6571471451 | Q160: 1000165527110719 | S160: SLONERO | T160: 45812 | U160: 45812 | V160: 0 | Y160: 3101599274 | Z160: 200011666126 | AA160: 0010 | AB160: 0060 | AC160: R1 | AD160: =CONCATENATE(VALUE(AA160),"-",VALUE(AB160)) -> 10-60 | AE160: =VLOOKUP(AD160,'Main_Sub Desc'!C:D,2,) -> LPC from invoicing | AF160: =VLOOKUP(VALUE(H160),'Main_Sub Desc'!F:G,2,) -> Wtr Rev Late Payment | AG160: =IFERROR(VLOOKUP(VALUE(I160),'PC Mapping'!A:F,6,),"") -> 10719 | AH160: =VLOOKUP(AG160,'PC Mapping'!L:M,2,) -> All Other Water
A161: 10001655277 | B161: R4-250604-00 | C161: FA | D161: R4 | E161: 45811 | G161: 3106 | H161: 420520 | I161: 10719 | J161: 0 | K161: -6.3 | M161: -6.3 | N161: USD | O161: O1 | P161: USMO6396686971 | Q161: 1000165527710719 | S161: SLONERO | T161: 45812 | U161: 45812 | V161: 0 | Y161: 3101486443 | Z161: 200011150691 | AA161: 0010 | AB161: 0060 | AC161: R1 | AD161: =CONCATENATE(VALUE(AA161),"-",VALUE(AB161)) -> 10-60 | AE161: =VLOOKUP(AD161,'Main_Sub Desc'!C:D,2,) -> LPC from invoicing | AF161: =VLOOKUP(VALUE(H161),'Main_Sub Desc'!F:G,2,) -> Wtr Rev Late Payment | AG161: =IFERROR(VLOOKUP(VALUE(I161),'PC Mapping'!A:F,6,),"") -> 10719 | AH161: =VLOOKUP(AG161,'PC Mapping'!L:M,2,) -> All Other Water
...
